BOTTLE,20220921CCHSIOAMB
EXPOCODE,SECT_ID,STNNBR,CASTNO,SAMPNO,BTLNBR,BTLNBR_FLAG_W,DATE,TIME,LATITUDE,LONGITUDE,DEPTH,CTDPRS,CTDPRS_FLAG_W,CTDTMP,CTDTMP_FLAG_W,CTDSAL,CTDSAL_FLAG_W,SALNTY,SALNTY_FLAG_W,CTDOXY,CTDOXY_FLAG_W,OXYGEN,OXYGEN_FLAG_W,SILCAT,SILCAT_FLAG_W,NITRAT,NITRAT_FLAG_W,NITRIT,NITRIT_FLAG_W,PHSPHT,PHSPHT_FLAG_W,CFC-11,CFC-11_FLAG_W,CFC-12,CFC-12_FLAG_W,CFC113,CFC113_FLAG_W,SF6,SF6_FLAG_W,PH,PH_FLAG_W,ALKALI,ALKALI_FLAG_W,TCARBN,TCARBN_FLAG_W,DELC13,DELC13_FLAG_W,DELC14,DELC14_FLAG_W,C14ERR,CHLORA,CHLORA_FLAG_W,CU,CU_FLAG_W,NI,NI_FLAG_W,THETA,SIG0
,,,,,,,,,,,METERS,DBAR,,ITS-90,,PSS-78,,PSS-78,,UMOL/KG,,UMOL/KG,,UMOL/KG,,UMOL/KG,,UMOL/KG,,UMOL/KG,,PMOL/KG,,PMOL/KG,,PMOL/KG,,FMOL/KG,,,,UMOL/KG,,UMOL/KG,,/MILLE,,/MILLE,,/MILLE,UG/KG,,UMOL/L,,UMOL/L,,ITS-90,KG/M^3
  49KA199905_1,  P01W,    48,  1,     24,     24,2,19990530,2321, 46.9907, 169.1045,   -9,      9.7,2,   3.7152,2,  32.9907,1,  32.9906,2,   288.23,1,   332.15,2,    33.36,2,    19.04,3,     0.28,3,     1.67,2,    5.524,2,    2.803,2,    0.443,2,   0.3275,2,    7.653,3,   2230.7,2,   2084.1,2, -999.000,1,    -29.1,2,      3.4,     0.87,2,   -999.0,9,   -999.0,9,   3.7146,  26.2158
  49KA199905_1,  P01W,    48,  1,     23,     23,2,19990530,2321, 46.9907, 169.1045,   -9,     51.0,2,   3.0600,2,  33.0458,1,  33.0514,2,   289.29,1,   333.83,2,    44.27,2,    23.66,2,     0.29,2,     1.96,2,    5.638,2,    2.842,2,    0.455,2,   0.4091,2,    7.604,4,   2233.8,2,   2116.1,2, -999.000,1,    -47.7,2,      3.9,     0.40,2,   -999.0,9,   -999.0,9,   3.0570,  26.3247
  49KA199905_1,  P01W,    48,  1,     22,     22,2,19990530,2321, 46.9907, 169.1045,   -9,    100.0,2,   1.9002,2,  33.0796,1,  33.0824,2,   284.16,1,   322.96,2,    43.44,2,    23.97,3,     0.36,3,     1.95,2,    5.666,2,    2.850,2,    0.508,2,   0.4701,2,    7.591,3,   2233.8,2,   2129.4,2, -999.000,1,    -50.4,2,      3.4,     0.08,2,   -999.0,9,   -999.0,9,   1.8953,  26.4432
  49KA199905_1,  P01W,    48,  1,     21,     21,2,19990530,2321, 46.9907, 169.1045,   -9,    150.2,2,   1.9744,2,  33.2497,1,  33.2509,2,   221.40,1,   257.58,2,    56.66,2,    29.82,3,     0.06,3,     2.23,2,    4.882,2,    2.461,2,    0.398,2,   0.3267,2,    7.518,3,   2247.8,2,   2187.2,2, -999.000,1,    -81.3,2,      3.9,     0.02,2,   -999.0,9,   -999.0,9,   1.9668,  26.5729
  49KA199905_1,  P01W,    48,  1,     20,     20,2,19990530,2321, 46.9907, 169.1045,   -9,    199.1,2,   3.3947,2,  33.7457,1,  33.7537,4,    62.02,1,    87.63,4,    83.88,3,    39.90,3,     0.00,3,     2.84,3,    2.452,4,    1.223,4,    0.149,4,   0.1779,4,    7.372,4,   2286.9,4,   2295.9,4, -999.000,1,    -92.3,2,      3.0,     0.00,2,   -999.0,9,   -999.0,9,   3.3821,  26.8552
  49KA199905_1,  P01W,    48,  1,     19,     19,2,19990530,2321, 46.9907, 169.1045,   -9,    249.7,2,   3.3268,2,  33.8645,1,  33.8655,2,    36.33,1,    61.31,2,    94.28,2,    42.21,2,     0.00,2,     2.99,3,    1.958,2,    0.993,2,    0.118,2,   0.0500,2,    7.308,3,   2303.1,2,   2319.9,2, -999.000,1,   -109.1,2,      2.9,     0.00,2,   -999.0,9,   -999.0,9,   3.3110,  26.9510
  49KA199905_1,  P01W,    48,  1,     18,     18,2,19990530,2321, 46.9907, 169.1045,   -9,    298.4,2,   3.3876,2,  33.9472,1,  33.9466,2,    14.64,1,    37.55,2,   102.16,2,    44.00,2,     0.00,2,     3.14,3,    1.479,2,    0.738,2,    0.114,2,   0.0652,2,    7.298,2,   2308.2,2,   2335.0,2, -999.000,1,   -121.7,2,      3.4,     0.00,2,   -999.0,9,   -999.0,9,   3.3684,  27.0103
  49KA199905_1,  P01W,    48,  1,     17,     17,2,19990530,2321, 46.9907, 169.1045,   -9,    349.4,2,   3.4169,2,  34.0254,1,  34.0299,2,    11.31,1,    32.04,3,   108.68,2,    43.77,2,     0.00,2,     3.13,3,    1.131,2,    0.560,2,    0.072,2,   0.0229,2,    7.294,3,   2318.4,2,   2331.9,2, -999.000,1,   -135.6,2,      2.8,  -999.00,9,   -999.0,9,   -999.0,9,   3.3941,  27.0742
  49KA199905_1,  P01W,    48,  1,     16,     16,2,19990530,2321, 46.9907, 169.1045,   -9,    400.5,2,   3.4260,2,  34.0875,1,  34.0884,2,     9.66,1,    34.06,2,   112.71,2,    43.56,2,     0.00,2,     3.10,3,    0.901,2,    0.442,2,    0.050,2,   0.0139,2,    7.307,2,   2324.6,2,   2338.0,2, -999.000,1,   -146.2,2,      3.0,  -999.00,9,   -999.0,9,   -999.0,9,   3.3996,  27.1203
  49KA199905_1,  P01W,    48,  1,     15,     15,2,19990530,2321, 46.9907, 169.1045,   -9,    500.6,2,   3.3625,2,  34.1611,1,  34.1624,2,     5.46,1,    29.47,2,   119.93,2,    43.75,2,     0.00,2,     3.09,3,    0.617,2,    0.288,2,    0.019,2,   0.0062,2,    7.365,3,   2335.5,2,   2347.2,2, -999.000,1,   -164.3,2,      2.7,  -999.00,9,   -999.0,9,   -999.0,9,   3.3293,  27.1860
  49KA199905_1,  P01W,    48,  1,     14,     14,2,19990530,2321, 46.9907, 169.1045,   -9,    600.1,2,   3.2094,2,  34.2284,1,  34.2296,2,     1.93,1,    25.02,2,   127.83,2,    44.03,2,     0.00,2,     3.11,3,    0.424,2,    0.207,2,    0.014,2,   0.0084,2,    7.326,3,   2346.0,2,   2356.7,2, -999.000,1,   -179.1,2,      2.6,  -999.00,9,   -999.0,9,   -999.0,9,   3.1698,  27.2545
  49KA199905_1,  P01W,    48,  1,     13,     13,2,19990530,2321, 46.9907, 169.1045,   -9,    700.4,2,   3.0692,2,  34.2845,1,  34.2852,2,    -0.54,1,    22.54,2,   134.73,2,    44.09,2,     0.00,2,     3.13,3,    0.287,2,    0.126,2,    0.005,2,-999.0000,9,    7.324,3,   2357.3,2,   2366.9,2, -999.000,1,   -999.0,9,   -999.0,  -999.00,9,   -999.0,9,   -999.0,9,   3.0232,  27.3124
  49KA199905_1,  P01W,    48,  1,     12,     12,2,19990530,2321, 46.9907, 169.1045,   -9,    808.3,2,   2.9266,2,  34.3332,1,  34.3330,2,     0.73,1,    25.80,3,   138.15,2,    43.72,2,     0.00,2,     3.12,2,    0.224,2,    0.102,2,    0.007,2,   0.0000,2,    7.344,2,   2365.9,2,   2373.0,2, -999.000,1,   -199.2,2,      2.6,  -999.00,9,   -999.0,9,   -999.0,9,   2.8736,  27.3640
  49KA199905_1,  P01W,    48,  1,     11,     11,2,19990530,2321, 46.9907, 169.1045,   -9,    900.4,2,   2.8000,2,  34.3714,1,  34.3730,2,    -1.18,1,    23.47,2,   143.45,2,    43.97,2,     0.00,2,     3.11,2,    0.149,2,    0.057,2,    0.000,2,-999.0000,9,    7.332,2,   2374.4,2,   2374.8,2, -999.000,1,   -999.0,9,   -999.0,  -999.00,9,   -999.0,9,   -999.0,9,   2.7412,  27.4077
  49KA199905_1,  P01W,    48,  1,     10,     10,2,19990530,2321, 46.9907, 169.1045,   -9,    998.8,2,   2.6756,2,  34.4043,1,  34.4048,2,    -1.00,1,    24.33,2,   147.77,2,    44.04,2,     0.00,2,     3.11,2,    0.116,2,    0.053,2,    0.000,2,-999.0000,9,    7.358,2,   2379.5,2,   2383.7,2, -999.000,1,   -208.4,2,      2.9,  -999.00,9,   -999.0,9,   -999.0,9,   2.6105,  27.4445
  49KA199905_1,  P01W,    48,  1,      9,      9,2,19990530,2321, 46.9907, 169.1045,   -9,   1098.5,2,   2.5390,2,  34.4376,1,  34.4396,2,     1.52,1,    28.70,2,   152.23,2,    43.90,2,     0.00,2,     3.10,2,    0.095,2,    0.027,2,    0.000,2,-999.0000,9,    7.376,2,   2383.5,2,   2382.0,2, -999.000,1,   -218.1,2,      2.8,  -999.00,9,   -999.0,9,   -999.0,9,   2.4676,  27.4845
  49KA199905_1,  P01W,    48,  1,      8,      8,2,19990530,2321, 46.9907, 169.1045,   -9,   1250.9,2,   2.3714,2,  34.4771,1,  34.4783,2,     6.12,1,    31.45,2,   156.06,2,    43.33,2,     0.00,2,     3.05,2,    0.096,2,    0.024,2,    0.000,2,-999.0000,9,    7.376,2,   2387.4,2,   2384.8,2, -999.000,1,   -226.5,2,      3.4,  -999.00,9,   -999.0,9,   -999.0,9,   2.2903,  27.5303
  49KA199905_1,  P01W,    48,  1,      7,      7,2,19990530,2321, 46.9907, 169.1045,   -9,   1499.1,2,   2.1533,2,  34.5302,1,  34.5314,2,    14.71,1,    43.49,3,   162.20,2,    42.97,2,     0.00,2,     3.01,2,    0.008,2,    0.013,2,    0.002,2,-999.0000,9,    7.469,4,   2399.9,2,   2382.0,2, -999.000,1,   -230.9,2,      2.5,  -999.00,9,   -999.0,9,   -999.0,9,   2.0554,  27.5918
  49KA199905_1,  P01W,    48,  1,      6,      6,2,19990530,2321, 46.9907, 169.1045,   -9,   1750.5,2,   1.9547,2,  34.5746,1,  34.5753,2,    29.29,1,    59.51,2,   164.88,2,    42.03,2,     0.00,2,     2.95,2,    0.004,2,    0.000,2,    0.001,2,-999.0000,9,    7.418,2,   2404.5,2,   2377.8,2, -999.000,1,   -234.5,2,      2.5,  -999.00,9,   -999.0,9,   -999.0,9,   1.8396,  27.6439
  49KA199905_1,  P01W,    48,  1,      5,      5,2,19990530,2321, 46.9907, 169.1045,   -9,   1999.0,2,   1.8441,2,  34.5994,1,  34.5989,2,    40.96,1,    72.95,2,   164.71,2,    41.19,2,     0.00,2,     2.89,2,    0.000,2,    0.000,2,    0.004,2,-999.0000,9,    7.402,2,   -999.0,9,   2372.8,2, -999.000,1,   -236.3,2,      2.5,  -999.00,9,   -999.0,9,   -999.0,9,   1.7102,  27.6727
  49KA199905_1,  P01W,    48,  1,      4,      4,2,19990530,2321, 46.9907, 169.1045,   -9,   2500.8,2,   1.6419,2,  34.6403,1,  34.6413,2,    67.58,1,   104.92,2,   160.95,2,    39.20,2,     0.00,2,     2.76,2,    0.002,2,    0.000,2,    0.003,2,-999.0000,9,    7.462,2,   2414.3,2,   2351.1,2, -999.000,1,   -241.2,2,      2.7,  -999.00,9,   -999.0,9,   -999.0,9,   1.4682,  27.7246
  49KA199905_1,  P01W,    48,  1,      3,      3,2,19990530,2321, 46.9907, 169.1045,   -9,   2997.2,2,   1.5335,2,  34.6613,1,  34.6627,2,    84.82,1,   125.13,2,   156.80,2,    37.92,2,     0.00,2,     2.66,2,    0.000,2,    0.000,2,    0.004,2,-999.0000,9,    7.484,2,   2416.9,2,   2344.9,2, -999.000,1,   -238.2,2,      2.5,  -999.00,9,   -999.0,9,   -999.0,9,   1.3163,  27.7526
  49KA199905_1,  P01W,    48,  1,      2,      2,2,19990530,2321, 46.9907, 169.1045,   -9,   3499.7,2,   1.4800,2,  34.6734,1,  34.6738,2,    98.06,1,   139.68,2,   152.11,2,    36.96,2,     0.00,2,     2.58,2,    0.001,2,    0.004,2,    0.003,2,-999.0000,9,    7.559,2,   2420.5,2,   2336.3,2, -999.000,1,   -226.1,2,      2.9,  -999.00,9,   -999.0,9,   -999.0,9,   1.2145,  27.7687
  49KA199905_1,  P01W,    48,  1,      1,      1,2,19990530,2321, 46.9907, 169.1045,   -9,   3936.1,2,   1.4645,2,  34.6797,1,  34.6809,2,   106.63,1,   154.11,2,   149.48,2,    36.37,2,     0.00,2,     2.53,2,    0.026,3,    0.003,2,    0.000,2,-999.0000,9,    7.575,2,   -999.0,9,   2325.4,2, -999.000,1,   -218.4,2,      2.8,  -999.00,9,   -999.0,9,   -999.0,9,   1.1536,  27.7786
  49KA199905_1,  P01W,    50,  1,     24,     24,2,19990531,0336, 46.9988, 169.5807, 2310,      8.9,2,   3.7833,2,  33.0400,1,  33.0400,2,   288.00,1,   329.98,2,    44.18,3,    23.75,3,     0.39,3,     1.96,3, -999.000,9, -999.000,9, -999.000,9,-999.0000,9,    7.484,3,   2244.0,2,   2110.9,2, -999.000,1,   -999.0,9,   -999.0,     0.52,2,   -999.0,1,   -999.0,1,   3.7827,  26.2485
  49KA199905_1,  P01W,    50,  1,     23,     23,2,19990531,0336, 46.9988, 169.5807, 2310,     49.4,2,   3.5592,2,  33.0442,1,  33.0463,2,   289.09,1,   328.90,2,    44.07,3,    23.96,3,     0.41,3,     1.98,3, -999.000,9, -999.000,9, -999.000,9,-999.0000,9,    7.682,3,   2245.8,2,   2114.9,2, -999.000,1,   -999.0,9,   -999.0,     0.39,2,   -999.0,1,   -999.0,1,   3.5561,  26.2752
  49KA199905_1,  P01W,    50,  1,     22,     22,2,19990531,0336, 46.9988, 169.5807, 2310,     99.5,2,   2.5863,2,  33.1182,1,  33.1315,4,   273.07,1,   311.75,4,    47.68,3,    26.68,3,     0.32,3,     2.14,3, -999.000,9, -999.000,9, -999.000,9,-999.0000,9,    7.683,4,   2249.0,4,   2153.3,4, -999.000,1,   -999.0,9,   -999.0,     0.06,2,   -999.0,1,   -999.0,1,   2.5808,  26.4292
  49KA199905_1,  P01W,    50,  1,     21,     21,2,19990531,0336, 46.9988, 169.5807, 2310,    150.2,2,   3.3857,2,  33.6670,1,-999.0000,9,    78.52,1,  -999.00,9,  -999.00,9,  -999.00,9,  -999.00,9,  -999.00,9, -999.000,9, -999.000,9, -999.000,9,-999.0000,9, -999.000,9,   -999.0,9,   -999.0,9, -999.000,1,   -999.0,9,   -999.0,  -999.00,9,   -999.0,9,   -999.0,9,-999.0000,-999.0000
  49KA199905_1,  P01W,    50,  1,     20,     20,2,19990531,0336, 46.9988, 169.5807, 2310,    200.8,2,   3.5201,2,  33.8786,1,  33.8773,2,    24.60,1,    47.10,2,    94.78,3,    43.62,3,     0.05,3,     3.29,3, -999.000,9, -999.000,9, -999.000,9,-999.0000,9,    7.304,3,   2306.8,2,   2318.2,2, -999.000,1,   -999.0,9,   -999.0,     0.00,2,   -999.0,9,   -999.0,9,   3.5071,  26.9418
  49KA199905_1,  P01W,    50,  1,     19,     19,2,19990531,0336, 46.9988, 169.5807, 2310,    249.3,2,   3.5087,2,  33.9593,1,  33.9602,3,     9.47,1,    31.97,3,   102.98,3,    44.91,3,     0.05,3,     3.28,3, -999.000,9, -999.000,9, -999.000,9,-999.0000,9,    7.311,3,   2317.3,2,   2337.3,2, -999.000,1,   -999.0,9,   -999.0,     0.00,2,   -999.0,1,   -999.0,1,   3.4925,  27.0093
  49KA199905_1,  P01W,    50,  1,     18,     18,2,19990531,0336, 46.9988, 169.5807, 2310,    300.7,2,   3.5006,2,  34.0131,1,  34.0137,2,     4.49,1,    24.98,2,   108.01,3,    45.15,3,     0.05,3,     3.30,3, -999.000,9, -999.000,9, -999.000,9,-999.0000,9,    7.294,3,   2323.7,2,   2345.6,2, -999.000,1,   -999.0,9,   -999.0,     0.00,2,   -999.0,9,   -999.0,9,   3.4809,  27.0530
  49KA199905_1,  P01W,    50,  1,     17,     17,2,19990531,0336, 46.9988, 169.5807, 2310,    349.6,2,   3.4746,2,  34.0724,1,  34.0681,2,     2.62,1,    23.80,2,   113.53,3,    44.74,3,     0.05,3,     3.29,3, -999.000,9, -999.000,9, -999.000,9,-999.0000,9,    7.347,3,   2330.0,2,   2350.6,2, -999.000,1,   -999.0,9,   -999.0,  -999.00,9,   -999.0,9,   -999.0,9,   3.4516,  27.0992
  49KA199905_1,  P01W,    50,  1,     16,     16,2,19990531,0336, 46.9988, 169.5807, 2310,    399.2,2,   3.4179,2,  34.1150,1,  34.1158,2,     2.03,1,    23.74,2,   117.44,3,    44.56,3,     0.05,3,     3.26,3, -999.000,9, -999.000,9, -999.000,9,-999.0000,9,    7.327,3,   2339.7,2,   2350.7,2, -999.000,1,   -999.0,9,   -999.0,  -999.00,9,   -999.0,9,   -999.0,9,   3.3916,  27.1429
  49KA199905_1,  P01W,    50,  1,     15,     15,2,19990531,0336, 46.9988, 169.5807, 2310,    499.4,2,   3.2967,2,  34.1939,1,  34.1955,2,     0.41,1,    24.88,2,   125.17,3,    44.44,3,     0.05,3,     3.24,3, -999.000,9, -999.000,9, -999.000,9,-999.0000,9,    7.336,3,   2354.8,2,   2360.8,2, -999.000,1,   -999.0,9,   -999.0,  -999.00,9,   -999.0,1,   -999.0,1,   3.2638,  27.2185
  49KA199905_1,  P01W,    50,  1,     14,     14,2,19990531,0336, 46.9988, 169.5807, 2310,    599.4,2,   3.1803,2,  34.2496,1,  34.2516,2,    -1.76,1,    21.16,2,   131.38,3,    44.62,3,     0.05,3,     3.24,3, -999.000,9, -999.000,9, -999.000,9,-999.0000,9,    7.352,3,   2363.7,2,   2370.1,2, -999.000,1,   -999.0,9,   -999.0,  -999.00,9,   -999.0,9,   -999.0,9,   3.1409,  27.2747
  49KA199905_1,  P01W,    50,  1,     13,     13,2,19990531,0336, 46.9988, 169.5807, 2310,    799.5,2,   2.8553,2,  34.3565,1,-999.0000,9,    -1.47,1,  -999.00,9,   137.21,4,    42.52,4,     0.05,4,     3.09,4, -999.000,9, -999.000,9, -999.000,9,-999.0000,9,    7.379,3,   2373.9,2,   2382.3,2, -999.000,1,   -999.0,9,   -999.0,  -999.00,9,   -999.0,9,   -999.0,9,-999.0000,-999.0000
  49KA199905_1,  P01W,    50,  1,     12,     12,2,19990531,0336, 46.9988, 169.5807, 2310,    799.6,2,   2.8529,2,  34.3571,1,  34.3558,2,    -1.43,1,    19.03,2,   144.98,3,    44.54,3,     0.05,3,     3.25,3, -999.000,9, -999.000,9, -999.000,9,-999.0000,9,    7.357,2,   2375.5,2,   2371.9,3, -999.000,1,   -999.0,9,   -999.0,  -999.00,9,   -999.0,9,   -999.0,9,   2.8010,  27.3887
  49KA199905_1,  P01W,    50,  1,     11,     11,2,19990531,0336, 46.9988, 169.5807, 2310,   1000.5,2,   2.5550,2,  34.4332,1,-999.0000,9,     1.01,1,  -999.00,9,   148.58,4,    42.33,4,     0.04,4,     3.10,4, -999.000,9, -999.000,9, -999.000,9,-999.0000,9,    7.374,2,   2384.1,2,   2389.9,2, -999.000,1,   -999.0,9,   -999.0,  -999.00,9,   -999.0,9,   -999.0,9,-999.0000,-999.0000
  49KA199905_1,  P01W,    50,  1,     10,     10,2,19990531,0336, 46.9988, 169.5807, 2310,   1000.5,2,   2.5531,2,  34.4336,1,  34.4358,2,     1.06,1,    25.12,2,   156.24,3,    44.35,3,     0.05,3,     3.25,3, -999.000,9, -999.000,9, -999.000,9,-999.0000,9,    7.380,2,   2385.7,2,   2390.7,2, -999.000,1,   -999.0,9,   -999.0,  -999.00,9,   -999.0,1,   -999.0,1,   2.4888,  27.4797
  49KA199905_1,  P01W,    50,  1,      8,      8,2,19990531,0336, 46.9988, 169.5807, 2310,   1248.1,2,   2.2849,2,  34.4975,1,  34.4994,2,    10.14,1,  -999.00,9,   156.39,4,    41.73,4,     0.05,4,     3.04,4, -999.000,9, -999.000,9, -999.000,9,-999.0000,9,    7.389,2,   2396.8,2,   2390.9,2, -999.000,1,   -999.0,9,   -999.0,  -999.00,9,   -999.0,9,   -999.0,9,   2.2047,  27.5542
  49KA199905_1,  P01W,    50,  1,      9,      9,2,19990531,0336, 46.9988, 169.5807, 2310,   1248.8,2,   2.2874,2,  34.4969,1,-999.0000,9,     9.43,1,  -999.00,9,   163.94,3,    43.88,3,     0.04,3,     3.20,3, -999.000,9, -999.000,9, -999.000,9,-999.0000,9,    7.389,2,   2394.4,2,   2391.9,2, -999.000,1,   -999.0,9,   -999.0,  -999.00,9,   -999.0,9,   -999.0,9,-999.0000,-999.0000
  49KA199905_1,  P01W,    50,  1,      7,      7,2,19990531,0336, 46.9988, 169.5807, 2310,   1499.5,2,   2.1028,2,  34.5421,1,  34.5444,2,    21.66,1,    49.10,3,   167.18,3,    43.01,3,     0.04,3,     3.14,3, -999.000,9, -999.000,9, -999.000,9,-999.0000,9,    7.433,2,   2399.6,2,   2386.5,2, -999.000,1,   -999.0,9,   -999.0,  -999.00,9,   -999.0,1,   -999.0,1,   2.0054,  27.6062
  49KA199905_1,  P01W,    50,  1,      6,      6,2,19990531,0336, 46.9988, 169.5807, 2310,   1749.1,2,   1.9396,2,  34.5782,1,  34.5808,2,    32.75,1,    68.53,2,   169.29,3,    42.25,3,     0.04,3,     3.06,3, -999.000,9, -999.000,9, -999.000,9,-999.0000,9,    7.435,2,   2409.3,2,   2382.3,2, -999.000,1,   -999.0,9,   -999.0,  -999.00,9,   -999.0,9,   -999.0,9,   1.8248,  27.6495
  49KA199905_1,  P01W,    50,  1,      5,      5,2,19990531,0336, 46.9988, 169.5807, 2310,   2000.2,2,   1.7694,2,  34.6129,1,-999.0000,9,    48.81,1,  -999.00,9,  -999.00,9,  -999.00,9,  -999.00,9,  -999.00,9, -999.000,9, -999.000,9, -999.000,9,-999.0000,9, -999.000,9,   -999.0,9,   -999.0,9, -999.000,1,   -999.0,9,   -999.0,  -999.00,9,   -999.0,9,   -999.0,9,-999.0000,-999.0000
  49KA199905_1,  P01W,    50,  1,      4,      4,2,19990531,0336, 46.9988, 169.5807, 2310,   2000.0,2,   1.7693,2,  34.6130,1,  34.6162,2,    52.49,1,    84.36,2,   167.32,3,    40.95,3,     0.04,3,     2.96,3, -999.000,9, -999.000,9, -999.000,9,-999.0000,9,    7.473,3,   2412.4,2,   2372.1,2, -999.000,1,   -999.0,9,   -999.0,  -999.00,9,   -999.0,9,   -999.0,9,   1.6364,  27.6921
  49KA199905_1,  P01W,    50,  1,      3,      3,2,19990531,0336, 46.9988, 169.5807, 2310,   2000.4,2,   1.7691,2,  34.6130,1,  34.6172,4,    52.49,1,    84.02,4,   167.75,3,    40.86,3,     0.04,3,     3.00,3, -999.000,9, -999.000,9, -999.000,9,-999.0000,9,    7.484,3,   2410.2,2,   2372.8,2, -999.000,1,   -999.0,9,   -999.0,  -999.00,9,   -999.0,9,   -999.0,9,   1.6362,  27.6929
  49KA199905_1,  P01W,    50,  1,      2,      2,2,19990531,0336, 46.9988, 169.5807, 2310,   2000.3,2,   1.7688,2,  34.6130,1,  34.6159,2,    52.45,1,    84.27,2,   167.64,3,    41.03,3,     0.04,3,     2.97,3, -999.000,9, -999.000,9, -999.000,9,-999.0000,9,    7.480,3,   2410.7,2,   2373.3,2, -999.000,1,   -999.0,9,   -999.0,  -999.00,9,   -999.0,1,   -999.0,1,   1.6359,  27.6919
  49KA199905_1,  P01W,    50,  1,      1,      1,2,19990531,0336, 46.9988, 169.5807, 2310,   2341.7,2,   1.6269,2,  34.6395,1,  34.6417,2,    72.04,1,   103.61,2,   165.27,3,    39.62,3,     0.04,3,     2.88,3, -999.000,9, -999.000,9, -999.000,9,-999.0000,9,    7.503,2,   2410.2,2,   2361.9,2, -999.000,1,   -999.0,9,   -999.0,  -999.00,9,   -999.0,9,   -999.0,9,   1.4674,  27.7250