BOTTLE,20220921CCHSIOAMB
EXPOCODE,SECT_ID,STNNBR,CASTNO,SAMPNO,BTLNBR,BTLNBR_FLAG_W,DATE,TIME,LATITUDE,LONGITUDE,DEPTH,CTDPRS,CTDPRS_FLAG_W,CTDTMP,CTDTMP_FLAG_W,CTDSAL,CTDSAL_FLAG_W,SALNTY,SALNTY_FLAG_W,CTDOXY,CTDOXY_FLAG_W,OXYGEN,OXYGEN_FLAG_W,SILCAT,SILCAT_FLAG_W,NITRAT,NITRAT_FLAG_W,NITRIT,NITRIT_FLAG_W,PHSPHT,PHSPHT_FLAG_W,CFC-11,CFC-11_FLAG_W,CFC-12,CFC-12_FLAG_W,CFC113,CFC113_FLAG_W,SF6,SF6_FLAG_W,PH,PH_FLAG_W,ALKALI,ALKALI_FLAG_W,TCARBN,TCARBN_FLAG_W,DELC13,DELC13_FLAG_W,DELC14,DELC14_FLAG_W,C14ERR,CHLORA,CHLORA_FLAG_W,CU,CU_FLAG_W,NI,NI_FLAG_W,THETA,SIG0
,,,,,,,,,,,METERS,DBAR,,ITS-90,,PSS-78,,PSS-78,,UMOL/KG,,UMOL/KG,,UMOL/KG,,UMOL/KG,,UMOL/KG,,UMOL/KG,,PMOL/KG,,PMOL/KG,,PMOL/KG,,FMOL/KG,,,,UMOL/KG,,UMOL/KG,,/MILLE,,/MILLE,,/MILLE,UG/KG,,UMOL/L,,UMOL/L,,ITS-90,KG/M^3
  49KA199905_1,  P01W,    57,  1,     24,     24,3,19990602,0356, 47.0013, 174.9833, 5655,      9.5,3,   5.2869,2,  33.0788,1,  33.0809,2,   276.87,1,   319.74,2,    24.26,2,    14.72,2,     0.23,2,     1.32,2, -999.000,9, -999.000,9, -999.000,9,-999.0000,9, -999.000,9,   -999.0,9,   -999.0,9, -999.000,9,   -999.0,9,   -999.0,  -999.00,9,   -999.0,1,   -999.0,1,   5.2862,  26.1215
  49KA199905_1,  P01W,    57,  1,     23,     23,2,19990602,0356, 47.0013, 174.9833, 5655,     49.8,2,   5.1753,2,  33.0803,1,  33.0852,2,   275.42,1,   317.56,2,    24.24,2,    14.80,2,     0.24,2,     1.34,2, -999.000,9, -999.000,9, -999.000,9,-999.0000,9, -999.000,9,   -999.0,9,   -999.0,9, -999.000,9,   -999.0,9,   -999.0,  -999.00,9,   -999.0,1,   -999.0,1,   5.1715,  26.1380
  49KA199905_1,  P01W,    57,  1,     22,     22,2,19990602,0356, 47.0013, 174.9833, 5655,     99.3,2,   4.2866,2,  33.0983,1,  33.1029,2,   273.70,1,   315.87,2,    26.92,2,    16.74,2,     0.34,2,     1.45,2, -999.000,9, -999.000,9, -999.000,9,-999.0000,9, -999.000,9,   -999.0,9,   -999.0,9, -999.000,9,   -999.0,9,   -999.0,  -999.00,9,   -999.0,1,   -999.0,1,   4.2798,  26.2488
  49KA199905_1,  P01W,    57,  1,     21,     21,2,19990602,0356, 47.0013, 174.9833, 5655,    150.6,2,   3.7514,2,  33.2507,1,  33.2434,4,   252.98,1,   293.56,4,    34.48,3,    21.04,3,     0.03,3,     1.67,3, -999.000,9, -999.000,9, -999.000,9,-999.0000,9, -999.000,9,   -999.0,9,   -999.0,9, -999.000,9,   -999.0,9,   -999.0,  -999.00,9,   -999.0,9,   -999.0,9,   3.7416,  26.4144
  49KA199905_1,  P01W,    57,  1,     20,     20,2,19990602,0356, 47.0013, 174.9833, 5655,    198.3,2,   4.9948,2,  33.6896,1,  33.6945,2,   171.79,1,   204.19,2,    44.82,2,    25.32,2,     0.02,2,     1.89,2, -999.000,9, -999.000,9, -999.000,9,-999.0000,9, -999.000,9,   -999.0,9,   -999.0,9, -999.000,9,   -999.0,9,   -999.0,  -999.00,9,   -999.0,9,   -999.0,9,   4.9797,  26.6426
  49KA199905_1,  P01W,    57,  1,     19,     19,2,19990602,0356, 47.0013, 174.9833, 5655,    249.9,2,   4.4288,2,  33.7494,1,  33.7527,2,   126.28,1,   155.42,2,    59.96,2,    30.90,2,     0.02,2,     2.28,2, -999.000,9, -999.000,9, -999.000,9,-999.0000,9, -999.000,9,   -999.0,9,   -999.0,9, -999.000,9,   -999.0,9,   -999.0,  -999.00,9,   -999.0,1,   -999.0,1,   4.4108,  26.7512
  49KA199905_1,  P01W,    57,  1,     18,     18,2,19990602,0356, 47.0013, 174.9833, 5655,    298.6,2,   4.0247,2,  33.7844,1,  33.7918,4,    98.50,1,   126.51,4,    69.95,3,    34.24,3,     0.02,3,     2.49,3, -999.000,9, -999.000,9, -999.000,9,-999.0000,9, -999.000,9,   -999.0,9,   -999.0,9, -999.000,9,   -999.0,9,   -999.0,  -999.00,9,   -999.0,9,   -999.0,9,   4.0040,  26.8247
  49KA199905_1,  P01W,    57,  1,     17,     17,2,19990602,0356, 47.0013, 174.9833, 5655,    350.1,2,   4.0667,2,  33.8914,1,  33.8958,2,    72.88,1,    98.42,3,    78.62,2,    36.75,2,     0.02,2,     2.63,2, -999.000,9, -999.000,9, -999.000,9,-999.0000,9, -999.000,9,   -999.0,9,   -999.0,9, -999.000,9,   -999.0,9,   -999.0,  -999.00,9,   -999.0,9,   -999.0,9,   4.0421,  26.9035
  49KA199905_1,  P01W,    57,  1,     16,     16,2,19990602,0356, 47.0013, 174.9833, 5655,    400.6,2,   3.9881,2,  33.9271,1,  33.9296,2,    60.64,1,    87.45,2,    83.51,3,    37.90,2,     0.02,2,     2.71,2, -999.000,9, -999.000,9, -999.000,9,-999.0000,9, -999.000,9,   -999.0,9,   -999.0,9, -999.000,9,   -999.0,9,   -999.0,  -999.00,9,   -999.0,9,   -999.0,9,   3.9600,  26.9387
  49KA199905_1,  P01W,    57,  1,     15,     15,2,19990602,0356, 47.0013, 174.9833, 5655,    502.5,2,   3.6566,2,  34.0450,1,  34.0469,2,    24.64,1,    49.01,2,   101.71,2,    41.47,2,     0.02,2,     2.95,2, -999.000,9, -999.000,9, -999.000,9,-999.0000,9, -999.000,9,   -999.0,9,   -999.0,9, -999.000,9,   -999.0,9,   -999.0,  -999.00,9,   -999.0,1,   -999.0,1,   3.6222,  27.0658
  49KA199905_1,  P01W,    57,  1,     14,     14,2,19990602,0356, 47.0013, 174.9833, 5655,    600.8,2,   3.5279,2,  34.1500,1,-999.0000,9,    12.60,1,  -999.00,9,  -999.00,9,  -999.00,9,  -999.00,9,  -999.00,9, -999.000,9, -999.000,9, -999.000,9,-999.0000,9, -999.000,9,   -999.0,9,   -999.0,9, -999.000,9,   -999.0,9,   -999.0,  -999.00,9,   -999.0,9,   -999.0,9,-999.0000,-999.0000
  49KA199905_1,  P01W,    57,  1,     13,     13,2,19990602,0356, 47.0013, 174.9833, 5655,    799.0,2,   3.2064,2,  34.2893,1,  34.2904,2,     6.88,1,    29.43,2,   128.20,2,    42.64,2,     0.01,2,     3.02,2, -999.000,9, -999.000,9, -999.000,9,-999.0000,9, -999.000,9,   -999.0,9,   -999.0,9, -999.000,9,   -999.0,9,   -999.0,  -999.00,9,   -999.0,9,   -999.0,9,   3.1524,  27.3046
  49KA199905_1,  P01W,    57,  1,     12,     12,2,19990602,0356, 47.0013, 174.9833, 5655,   1001.3,2,   2.8258,2,  34.3707,1,  34.3719,2,     0.31,1,    25.74,3,   141.57,2,    43.27,2,     0.01,2,     3.04,2, -999.000,9, -999.000,9, -999.000,9,-999.0000,9, -999.000,9,   -999.0,9,   -999.0,9, -999.000,9,   -999.0,9,   -999.0,  -999.00,9,   -999.0,1,   -999.0,1,   2.7594,  27.4052
  49KA199905_1,  P01W,    57,  1,     11,     11,2,19990602,0356, 47.0013, 174.9833, 5655,   1249.6,2,   2.4993,2,  34.4548,1,  34.4573,2,     7.42,1,    30.24,2,   150.73,2,    42.89,2,     0.01,2,     3.01,2, -999.000,9, -999.000,9, -999.000,9,-999.0000,9, -999.000,9,   -999.0,9,   -999.0,9, -999.000,9,   -999.0,9,   -999.0,  -999.00,9,   -999.0,9,   -999.0,9,   2.4170,  27.5029
  49KA199905_1,  P01W,    57,  1,     10,     10,2,19990602,0356, 47.0013, 174.9833, 5655,   1497.2,2,   2.2907,2,  34.5021,1,  34.5034,2,    12.08,1,    40.13,2,   156.81,2,    42.67,2,     0.01,2,     3.00,2, -999.000,9, -999.000,9, -999.000,9,-999.0000,9, -999.000,9,   -999.0,9,   -999.0,9, -999.000,9,   -999.0,9,   -999.0,  -999.00,9,   -999.0,1,   -999.0,1,   2.1914,  27.5585
  49KA199905_1,  P01W,    57,  1,      9,      9,2,19990602,0356, 47.0013, 174.9833, 5655,   1748.2,2,   2.0978,2,  34.5477,1,  34.5491,2,    20.57,1,    50.21,2,   161.60,2,    42.11,2,     0.01,2,     2.96,2, -999.000,9, -999.000,9, -999.000,9,-999.0000,9, -999.000,9,   -999.0,9,   -999.0,9, -999.000,9,   -999.0,9,   -999.0,  -999.00,9,   -999.0,9,   -999.0,9,   1.9809,  27.6119
  49KA199905_1,  P01W,    57,  1,      8,      8,2,19990602,0356, 47.0013, 174.9833, 5655,   2000.7,2,   1.9396,2,  34.5845,1,  34.5855,2,    33.76,1,    66.05,2,   162.40,2,    41.19,2,     0.01,2,     2.88,2, -999.000,9, -999.000,9, -999.000,9,-999.0000,9, -999.000,9,   -999.0,9,   -999.0,9, -999.000,9,   -999.0,9,   -999.0,  -999.00,9,   -999.0,1,   -999.0,1,   1.8042,  27.6548
  49KA199905_1,  P01W,    57,  1,      7,      7,2,19990602,0356, 47.0013, 174.9833, 5655,   2499.4,2,   1.7088,2,  34.6300,1,  34.6324,2,    59.00,1,    95.11,3,   160.77,2,    39.32,2,     0.01,2,     2.74,2, -999.000,9, -999.000,9, -999.000,9,-999.0000,9, -999.000,9,   -999.0,9,   -999.0,9, -999.000,9,   -999.0,9,   -999.0,  -999.00,9,   -999.0,1,   -999.0,1,   1.5340,  27.7127
  49KA199905_1,  P01W,    57,  1,      6,      6,2,19990602,0356, 47.0013, 174.9833, 5655,   3000.3,2,   1.5853,2,  34.6539,1,  34.6549,3,    76.35,1,   117.46,3,   157.66,2,    37.87,2,     0.02,2,     2.64,2, -999.000,9, -999.000,9, -999.000,9,-999.0000,9, -999.000,9,   -999.0,9,   -999.0,9, -999.000,9,   -999.0,9,   -999.0,  -999.00,9,   -999.0,1,   -999.0,1,   1.3667,  27.7428
  49KA199905_1,  P01W,    57,  1,      5,      5,2,19990602,0356, 47.0013, 174.9833, 5655,   3500.2,2,   1.5133,2,  34.6695,1,  34.6498,4,    89.62,1,   126.27,4,   156.25,4,    37.79,4,     0.01,4,     2.63,4, -999.000,9, -999.000,9, -999.000,9,-999.0000,9, -999.000,9,   -999.0,9,   -999.0,9, -999.000,9,   -999.0,9,   -999.0,  -999.00,9,   -999.0,9,   -999.0,9,   1.2470,  27.7471
  49KA199905_1,  P01W,    57,  1,      4,      4,2,19990602,0356, 47.0013, 174.9833, 5655,   3999.4,2,   1.4758,2,  34.6800,1,  34.6820,2,    99.68,1,   147.15,2,   150.48,2,    35.96,2,     0.01,2,     2.48,2, -999.000,9, -999.000,9, -999.000,9,-999.0000,9, -999.000,9,   -999.0,9,   -999.0,9, -999.000,9,   -999.0,9,   -999.0,  -999.00,9,   -999.0,1,   -999.0,1,   1.1577,  27.7792
  49KA199905_1,  P01W,    57,  1,      3,      3,2,19990602,0356, 47.0013, 174.9833, 5655,   4498.6,2,   1.4903,2,  34.6845,1,  34.6884,2,   103.97,1,   152.60,2,   150.75,2,    35.61,2,     0.02,2,     2.44,2, -999.000,9, -999.000,9, -999.000,9,-999.0000,9, -999.000,9,   -999.0,9,   -999.0,9, -999.000,9,   -999.0,9,   -999.0,  -999.00,9,   -999.0,9,   -999.0,9,   1.1158,  27.7872
  49KA199905_1,  P01W,    57,  1,      2,      2,2,19990602,0356, 47.0013, 174.9833, 5655,   4999.1,2,   1.5369,2,  34.6862,1,  34.6902,2,   105.05,1,   154.61,2,   153.43,3,    35.63,2,     0.02,2,     2.44,2, -999.000,9, -999.000,9, -999.000,9,-999.0000,9, -999.000,9,   -999.0,9,   -999.0,9, -999.000,9,   -999.0,9,   -999.0,  -999.00,9,   -999.0,1,   -999.0,1,   1.1015,  27.7896
  49KA199905_1,  P01W,    57,  1,      1,      1,2,19990602,0356, 47.0013, 174.9833, 5655,   5746.4,2,   1.6242,2,  34.6853,1,  34.6890,3,   108.42,1,   157.08,3,   149.13,2,    35.37,2,     0.02,2,     2.43,2, -999.000,9, -999.000,9, -999.000,9,-999.0000,9, -999.000,9,   -999.0,9,   -999.0,9, -999.000,9,   -999.0,9,   -999.0,  -999.00,9,   -999.0,9,   -999.0,9,   1.0911,  27.7893
  49KA199905_1,  P01W,    58,  1,     24,     24,2,19990602,1410, 47.0035, 176.1130, 5690,      9.9,2,   5.1177,2,  33.0522,1,  33.0546,2,   276.96,1,   319.69,2,    25.90,2,    15.16,2,     0.27,2,     1.38,2,    5.152,2,    2.630,2,    0.530,2,   0.3307,2,    7.725,3,   2231.9,2,   2076.8,2, -999.000,1,   -999.0,9,   -999.0,     0.55,2,   -999.0,9,   -999.0,9,   5.1170,  26.1200
  49KA199905_1,  P01W,    58,  1,     23,     23,2,19990602,1410, 47.0035, 176.1130, 5690,     50.3,2,   5.0408,2,  33.0526,1,  33.0579,2,   275.32,1,   318.68,2,    26.03,2,    15.26,2,     0.28,2,     1.38,2,    4.978,2,    2.522,2,    0.489,2,   0.3619,2,    7.751,2,   2241.6,2,   2066.0,2, -999.000,1,   -999.0,9,   -999.0,     0.53,2,   -999.0,9,   -999.0,9,   5.0371,  26.1316
  49KA199905_1,  P01W,    58,  1,     22,     22,2,19990602,1410, 47.0035, 176.1130, 5690,     99.5,2,   2.6284,2,  33.0690,1,  33.0792,4,   278.60,1,   317.84,4,    40.47,4,    23.02,4,     0.11,4,     1.85,4,    5.535,4,    2.809,4,    0.500,4,   0.4158,4,    7.666,4,   2263.3,4,   2117.2,4, -999.000,1,   -999.0,9,   -999.0,     0.05,2,   -999.0,9,   -999.0,9,   2.6229,  26.3840
  49KA199905_1,  P01W,    58,  1,     21,     21,2,19990602,1410, 47.0035, 176.1130, 5690,    149.6,2,   3.8514,2,  33.4613,1,  33.4681,3,   198.92,1,   234.04,3,    45.24,2,    25.09,2,     0.04,2,     1.93,2,    4.403,2,    2.210,2,    0.336,2,   0.3043,2,    7.600,2,   2280.4,2,   2159.5,2, -999.000,1,   -999.0,9,   -999.0,     0.01,2,   -999.0,9,   -999.0,9,   3.8415,  26.5834
  49KA199905_1,  P01W,    58,  1,     20,     20,2,19990602,1410, 47.0035, 176.1130, 5690,    200.3,2,   4.2547,2,  33.6967,1,  33.6996,2,   136.94,1,   168.06,2,    57.87,2,    29.87,2,     0.04,2,     2.23,2,    3.324,2,    1.629,2,    0.273,2,   0.1628,2,    7.512,2,   2288.6,2,   2211.2,2, -999.000,1,   -999.0,9,   -999.0,     0.00,2,   -999.0,9,   -999.0,9,   4.2406,  26.7270
  49KA199905_1,  P01W,    58,  1,     19,     19,2,19990602,1410, 47.0035, 176.1130, 5690,    250.0,2,   4.0692,2,  33.7738,1,  33.7760,2,   102.13,1,   131.52,2,    68.59,2,    33.52,2,     0.03,2,     2.44,2,    2.860,2,    1.380,2,    0.254,2,   0.1575,2,    7.447,2,   2298.2,2,   2239.4,2, -999.000,1,   -999.0,9,   -999.0,     0.00,2,   -999.0,9,   -999.0,9,   4.0519,  26.8072
  49KA199905_1,  P01W,    58,  1,     18,     18,2,19990602,1410, 47.0035, 176.1130, 5690,    300.2,2,   3.8678,2,  33.8573,1,  33.8585,2,    69.34,1,    96.38,2,    81.17,2,    37.23,2,     0.03,2,     2.68,2,    2.359,2,    1.116,2,    0.142,2,   0.1319,2,    7.392,2,   2298.0,2,   2275.7,2, -999.000,1,   -999.0,9,   -999.0,     0.00,2,   -999.0,9,   -999.0,9,   3.8473,  26.8935
  49KA199905_1,  P01W,    58,  1,     17,     17,2,19990602,1410, 47.0035, 176.1130, 5690,    349.0,2,   3.6410,2,  33.9030,1,  33.9048,2,    48.84,1,    74.28,2,    89.52,2,    39.46,2,     0.03,2,     2.82,2,    1.983,2,    0.942,2,    0.127,2,   0.0574,2,    7.357,2,   2302.0,2,   2298.2,2, -999.000,1,   -999.0,9,   -999.0,  -999.00,9,   -999.0,9,   -999.0,9,   3.6177,  26.9530
  49KA199905_1,  P01W,    58,  1,     16,     16,2,19990602,1410, 47.0035, 176.1130, 5690,    400.3,2,   3.6079,2,  33.9635,1,  33.9645,2,    34.74,1,    59.60,2,    95.96,2,    40.64,2,     0.03,2,     2.90,2,    1.669,2,    0.788,2,    0.100,2,   0.0015,2,    7.347,2,   2313.7,2,   2311.0,2, -999.000,1,   -999.0,9,   -999.0,  -999.00,9,   -999.0,9,   -999.0,9,   3.5810,  27.0042
  49KA199905_1,  P01W,    58,  1,     15,     15,2,19990602,1410, 47.0035, 176.1130, 5690,    499.5,2,   3.6541,2,  34.1046,1,  34.1071,2,    20.46,1,    44.40,2,   106.95,2,    41.35,2,     0.03,2,     2.95,2,    0.969,2,    0.446,2,    0.053,2,   0.0000,2,    7.346,2,   2336.0,2,   2327.9,2, -999.000,1,   -999.0,9,   -999.0,  -999.00,9,   -999.0,9,   -999.0,9,   3.6199,  27.1140
  49KA199905_1,  P01W,    58,  1,     14,     14,2,19990602,1410, 47.0035, 176.1130, 5690,    599.2,2,   3.5011,2,  34.1666,1,  34.1691,2,    12.47,1,    36.90,2,   115.30,2,    42.00,2,     0.03,2,     3.00,2,    0.679,2,    0.322,2,    0.034,2,   0.0000,2,    7.341,2,   2345.3,2,   2342.5,2, -999.000,1,   -999.0,9,   -999.0,  -999.00,9,   -999.0,9,   -999.0,9,   3.4603,  27.1788
  49KA199905_1,  P01W,    58,  1,     13,     13,2,19990602,1410, 47.0035, 176.1130, 5690,    799.0,2,   3.1482,2,  34.2920,1,  34.2934,2,     5.13,1,    28.84,2,   130.85,2,    42.64,2,     0.03,2,     3.03,2,    0.301,2,    0.135,2,    0.009,2,   0.0099,2,    7.349,2,   2364.3,2,   2364.1,2, -999.000,1,   -999.0,9,   -999.0,  -999.00,9,   -999.0,9,   -999.0,9,   3.0947,  27.3124
  49KA199905_1,  P01W,    58,  1,     12,     12,2,19990602,1410, 47.0035, 176.1130, 5690,   1002.4,2,   2.8121,2,  34.3886,1,  34.3900,2,     5.33,1,    31.05,3,   141.45,2,    42.54,2,     0.03,2,     3.03,2,    0.150,2,    0.047,2,    0.000,2,   0.0000,2,    7.364,2,   2382.1,2,   2374.7,2, -999.000,1,   -999.0,9,   -999.0,  -999.00,9,   -999.0,9,   -999.0,9,   2.7457,  27.4209
  49KA199905_1,  P01W,    58,  1,     11,     11,2,19990602,1410, 47.0035, 176.1130, 5690,   1250.4,2,   2.4917,2,  34.4500,1,  34.4525,2,     3.38,1,    29.97,2,   152.92,2,    42.86,2,     0.02,2,     3.02,2,    0.091,2,    0.031,2,    0.003,2,-999.0000,9,    7.374,2,   2394.8,2,   2384.1,2, -999.000,1,   -999.0,9,   -999.0,  -999.00,9,   -999.0,9,   -999.0,9,   2.4094,  27.4997
  49KA199905_1,  P01W,    58,  1,     10,     10,2,19990602,1410, 47.0035, 176.1130, 5690,   1499.5,2,   2.2555,2,  34.5071,1,  34.9936,4,    12.09,1,    40.49,4,   158.54,3,    42.31,3,     0.03,3,     2.99,3,    0.015,4,    0.025,4,    0.000,4,-999.0000,9,    7.397,4,   2404.2,4,   2384.0,4, -999.000,1,   -999.0,9,   -999.0,  -999.00,9,   -999.0,9,   -999.0,9,   2.1552,  27.9540
  49KA199905_1,  P01W,    58,  1,      9,      9,2,19990602,1410, 47.0035, 176.1130, 5690,   1749.7,2,   2.0854,2,  34.5496,1,  34.5529,2,    21.96,1,    52.93,2,   161.24,2,    41.67,2,     0.03,2,     2.93,2,    0.006,2,    0.000,2,    0.000,2,-999.0000,9,    7.421,2,   2408.7,2,   2382.1,2, -999.000,1,   -999.0,9,   -999.0,  -999.00,9,   -999.0,9,   -999.0,9,   1.9685,  27.6159
  49KA199905_1,  P01W,    58,  1,      8,      8,2,19990602,1410, 47.0035, 176.1130, 5690,   1999.9,2,   1.9219,2,  34.5862,1,  34.5888,2,    35.29,1,    68.76,2,   161.89,2,    40.73,2,     0.03,2,     2.86,2,    0.001,2,    0.005,2,    0.000,2,-999.0000,9,    7.451,2,   2414.8,2,   2377.6,2, -999.000,1,   -999.0,9,   -999.0,  -999.00,9,   -999.0,9,   -999.0,9,   1.7869,  27.6588
  49KA199905_1,  P01W,    58,  1,      7,      7,2,19990602,1410, 47.0035, 176.1130, 5690,   2499.4,2,   1.7000,2,  34.6304,1,  34.6335,2,    59.67,1,    96.41,3,   160.64,2,    39.07,2,     0.03,2,     2.73,2,    0.000,2,    0.000,2,    0.000,2,-999.0000,9,    7.505,2,   2419.1,2,   2364.0,2, -999.000,1,   -999.0,9,   -999.0,  -999.00,9,   -999.0,9,   -999.0,9,   1.5254,  27.7142
  49KA199905_1,  P01W,    58,  1,      6,      6,2,19990602,1410, 47.0035, 176.1130, 5690,   3000.3,2,   1.5765,2,  34.6544,1,  34.6568,2,    77.07,1,   118.86,2,   157.06,2,    37.67,2,     0.03,2,     2.62,2,    0.000,2,    0.000,2,    0.003,2,-999.0000,9,    7.542,2,   2420.7,2,   2349.8,2, -999.000,1,   -999.0,9,   -999.0,  -999.00,9,   -999.0,9,   -999.0,9,   1.3581,  27.7450
  49KA199905_1,  P01W,    58,  1,      5,      5,2,19990602,1410, 47.0035, 176.1130, 5690,   3500.6,2,   1.5012,2,  34.6699,1,  34.6711,2,    91.34,1,   134.17,2,   153.39,2,    36.67,2,     0.03,2,     2.56,2,    0.000,2,    0.000,2,    0.000,2,-999.0000,9,    7.566,2,   2418.8,2,   2343.6,2, -999.000,1,   -999.0,9,   -999.0,  -999.00,9,   -999.0,9,   -999.0,9,   1.2351,  27.7651
  49KA199905_1,  P01W,    58,  1,      4,      4,2,19990602,1410, 47.0035, 176.1130, 5690,   3998.9,2,   1.4684,2,  34.6795,1,  34.6819,2,   100.22,1,   147.41,2,   151.02,2,    35.84,2,     0.03,2,     2.49,2,    0.000,2,    0.000,2,    0.000,2,-999.0000,9,    7.571,2,   2416.9,2,   2333.8,2, -999.000,1,   -999.0,9,   -999.0,  -999.00,9,   -999.0,9,   -999.0,9,   1.1506,  27.7796
  49KA199905_1,  P01W,    58,  1,      3,      3,2,19990602,1410, 47.0035, 176.1130, 5690,   4499.3,2,   1.4836,2,  34.6842,1,  34.6870,2,   105.29,1,   152.88,2,   150.50,2,    35.40,2,     0.03,2,     2.47,2,    0.005,2,    0.000,2,    0.000,2,-999.0000,9,    7.591,2,   2415.0,2,   2332.1,2, -999.000,1,   -999.0,9,   -999.0,  -999.00,9,   -999.0,9,   -999.0,9,   1.1092,  27.7865
  49KA199905_1,  P01W,    58,  1,      2,      2,2,19990602,1410, 47.0035, 176.1130, 5690,   4998.4,2,   1.5343,2,  34.6853,1,  34.6894,2,   105.88,1,   154.93,2,   152.14,2,    35.34,2,     0.03,2,     2.46,2,    0.000,2,    0.003,2,    0.007,2,-999.0000,9,    7.598,2,   2414.0,2,   2330.4,2, -999.000,1,   -999.0,9,   -999.0,  -999.00,9,   -999.0,9,   -999.0,9,   1.0991,  27.7891
  49KA199905_1,  P01W,    58,  1,      1,      1,2,19990602,1410, 47.0035, 176.1130, 5690,   5791.5,2,   1.6216,2,  34.6859,1,  34.6896,2,   110.15,1,   155.22,2,   146.60,2,    35.04,2,     0.03,2,     2.43,2,    0.017,3,    0.006,2,    0.000,2,-999.0000,9,    7.611,2,   2413.9,2,   2324.9,2, -999.000,1,   -999.0,9,   -999.0,  -999.00,9,   -999.0,9,   -999.0,9,   1.0827,  27.7904