BOTTLE,20220921CCHSIOAMB
EXPOCODE,SECT_ID,STNNBR,CASTNO,SAMPNO,BTLNBR,BTLNBR_FLAG_W,DATE,TIME,LATITUDE,LONGITUDE,DEPTH,CTDPRS,CTDPRS_FLAG_W,CTDTMP,CTDTMP_FLAG_W,CTDSAL,CTDSAL_FLAG_W,SALNTY,SALNTY_FLAG_W,CTDOXY,CTDOXY_FLAG_W,OXYGEN,OXYGEN_FLAG_W,SILCAT,SILCAT_FLAG_W,NITRAT,NITRAT_FLAG_W,NITRIT,NITRIT_FLAG_W,PHSPHT,PHSPHT_FLAG_W,CFC-11,CFC-11_FLAG_W,CFC-12,CFC-12_FLAG_W,CFC113,CFC113_FLAG_W,SF6,SF6_FLAG_W,PH,PH_FLAG_W,ALKALI,ALKALI_FLAG_W,TCARBN,TCARBN_FLAG_W,DELC13,DELC13_FLAG_W,DELC14,DELC14_FLAG_W,C14ERR,CHLORA,CHLORA_FLAG_W,CU,CU_FLAG_W,NI,NI_FLAG_W,THETA,SIG0
,,,,,,,,,,,METERS,DBAR,,ITS-90,,PSS-78,,PSS-78,,UMOL/KG,,UMOL/KG,,UMOL/KG,,UMOL/KG,,UMOL/KG,,UMOL/KG,,PMOL/KG,,PMOL/KG,,PMOL/KG,,FMOL/KG,,,,UMOL/KG,,UMOL/KG,,/MILLE,,/MILLE,,/MILLE,UG/KG,,UMOL/L,,UMOL/L,,ITS-90,KG/M^3
  49KA199905_1,  P01W,    51,  1,     24,     24,2,19990531,0702, 46.9982, 169.8125,   -9,     10.0,2,   3.7525,2,  33.0409,1,  33.0415,2,   287.55,1,   330.38,2,  -999.00,9,  -999.00,9,  -999.00,9,  -999.00,9, -999.000,9, -999.000,9, -999.000,9,-999.0000,9, -999.000,9,   -999.0,9,   -999.0,9, -999.000,9,   -999.0,9,   -999.0,  -999.00,9,   -999.0,9,   -999.0,9,   3.7519,  26.2527
  49KA199905_1,  P01W,    51,  1,     23,     23,2,19990531,0702, 46.9982, 169.8125,   -9,     48.6,2,   3.6421,2,  33.0466,1,  33.0499,2,   287.47,1,   328.90,2,  -999.00,9,  -999.00,9,  -999.00,9,  -999.00,9, -999.000,9, -999.000,9, -999.000,9,-999.0000,9, -999.000,9,   -999.0,9,   -999.0,9, -999.000,9,   -999.0,9,   -999.0,  -999.00,9,   -999.0,9,   -999.0,9,   3.6390,  26.2702
  49KA199905_1,  P01W,    51,  1,     22,     22,2,19990531,0702, 46.9982, 169.8125,   -9,     99.2,2,   2.9623,2,  33.0940,1,  33.0969,2,   282.14,1,   322.05,2,  -999.00,9,  -999.00,9,  -999.00,9,  -999.00,9, -999.000,9, -999.000,9, -999.000,9,-999.0000,9, -999.000,9,   -999.0,9,   -999.0,9, -999.000,9,   -999.0,9,   -999.0,  -999.00,9,   -999.0,9,   -999.0,9,   2.9566,  26.3698
  49KA199905_1,  P01W,    51,  1,     21,     21,2,19990531,0702, 46.9982, 169.8125,   -9,    151.1,2,   3.0169,2,  33.4116,1,  33.4145,2,   165.39,1,   204.39,2,  -999.00,9,  -999.00,9,  -999.00,9,  -999.00,9, -999.000,9, -999.000,9, -999.000,9,-999.0000,9, -999.000,9,   -999.0,9,   -999.0,9, -999.000,9,   -999.0,9,   -999.0,  -999.00,9,   -999.0,9,   -999.0,9,   3.0079,  26.6188
  49KA199905_1,  P01W,    51,  1,     20,     20,2,19990531,0702, 46.9982, 169.8125,   -9,    200.1,2,   3.6097,2,  33.8049,1,  33.8042,2,    45.92,1,    71.70,2,  -999.00,9,  -999.00,9,  -999.00,9,  -999.00,9, -999.000,9, -999.000,9, -999.000,9,-999.0000,9, -999.000,9,   -999.0,9,   -999.0,9, -999.000,9,   -999.0,9,   -999.0,  -999.00,9,   -999.0,9,   -999.0,9,   3.5966,  26.8750
  49KA199905_1,  P01W,    51,  1,     19,     19,2,19990531,0702, 46.9982, 169.8125,   -9,    251.2,2,   3.5930,2,  33.9302,1,  33.9311,2,    16.86,1,    39.83,2,  -999.00,9,  -999.00,9,  -999.00,9,  -999.00,9, -999.000,9, -999.000,9, -999.000,9,-999.0000,9, -999.000,9,   -999.0,9,   -999.0,9, -999.000,9,   -999.0,9,   -999.0,  -999.00,9,   -999.0,9,   -999.0,9,   3.5765,  26.9780
  49KA199905_1,  P01W,    51,  1,     18,     18,2,19990531,0702, 46.9982, 169.8125,   -9,    299.9,2,   3.5603,2,  34.0077,1,  34.0093,2,     5.19,1,    27.97,2,  -999.00,9,  -999.00,9,  -999.00,9,  -999.00,9, -999.000,9, -999.000,9, -999.000,9,-999.0000,9, -999.000,9,   -999.0,9,   -999.0,9, -999.000,9,   -999.0,9,   -999.0,  -999.00,9,   -999.0,9,   -999.0,9,   3.5406,  27.0438
  49KA199905_1,  P01W,    51,  1,     17,     17,2,19990531,0702, 46.9982, 169.8125,   -9,    349.8,2,   3.4552,2,  34.0619,1,  34.0626,2,     2.41,1,    24.40,3,  -999.00,9,  -999.00,9,  -999.00,9,  -999.00,9, -999.000,9, -999.000,9, -999.000,9,-999.0000,9, -999.000,9,   -999.0,9,   -999.0,9, -999.000,9,   -999.0,9,   -999.0,  -999.00,9,   -999.0,9,   -999.0,9,   3.4322,  27.0966
  49KA199905_1,  P01W,    51,  1,     16,     16,2,19990531,0702, 46.9982, 169.8125,   -9,    399.6,2,   3.3952,2,  34.1167,1,  34.1162,2,     0.86,1,    23.65,2,  -999.00,9,  -999.00,9,  -999.00,9,  -999.00,9, -999.000,9, -999.000,9, -999.000,9,-999.0000,9, -999.000,9,   -999.0,9,   -999.0,9, -999.000,9,   -999.0,9,   -999.0,  -999.00,9,   -999.0,9,   -999.0,9,   3.3690,  27.1454
  49KA199905_1,  P01W,    51,  1,     15,     15,2,19990531,0702, 46.9982, 169.8125,   -9,    500.5,2,   3.2664,2,  34.2017,1,  34.2028,2,    -1.81,1,    21.43,2,  -999.00,9,  -999.00,9,  -999.00,9,  -999.00,9, -999.000,9, -999.000,9, -999.000,9,-999.0000,9, -999.000,9,   -999.0,9,   -999.0,9, -999.000,9,   -999.0,9,   -999.0,  -999.00,9,   -999.0,9,   -999.0,9,   3.2336,  27.2272
  49KA199905_1,  P01W,    51,  1,     14,     14,2,19990531,0702, 46.9982, 169.8125,   -9,    600.9,2,   3.1415,2,  34.2579,1,  34.2594,2,    -3.58,1,    19.01,2,  -999.00,9,  -999.00,9,  -999.00,9,  -999.00,9, -999.000,9, -999.000,9, -999.000,9,-999.0000,9, -999.000,9,   -999.0,9,   -999.0,9, -999.000,9,   -999.0,9,   -999.0,  -999.00,9,   -999.0,9,   -999.0,9,   3.1023,  27.2845
  49KA199905_1,  P01W,    51,  1,     13,     13,2,19990531,0702, 46.9982, 169.8125,   -9,    700.0,2,   2.9808,2,  34.3130,1,-999.0000,9,    -3.02,1,  -999.00,9,  -999.00,9,  -999.00,9,  -999.00,9,  -999.00,9, -999.000,9, -999.000,9, -999.000,9,-999.0000,9, -999.000,9,   -999.0,9,   -999.0,9, -999.000,9,   -999.0,9,   -999.0,  -999.00,9,   -999.0,9,   -999.0,9,-999.0000,-999.0000
  49KA199905_1,  P01W,    51,  1,     12,     12,2,19990531,0702, 46.9982, 169.8125,   -9,    801.3,2,   2.8790,2,  34.3472,1,  34.3479,2,    -2.54,1,    20.97,3,  -999.00,9,  -999.00,9,  -999.00,9,  -999.00,9, -999.000,9, -999.000,9, -999.000,9,-999.0000,9, -999.000,9,   -999.0,9,   -999.0,9, -999.000,9,   -999.0,9,   -999.0,  -999.00,9,   -999.0,9,   -999.0,9,   2.8268,  27.3801
  49KA199905_1,  P01W,    51,  1,     11,     11,2,19990531,0702, 46.9982, 169.8125,   -9,    901.3,2,   2.7206,2,  34.3923,1,-999.0000,9,    -0.53,1,  -999.00,9,  -999.00,9,  -999.00,9,  -999.00,9,  -999.00,9, -999.000,9, -999.000,9, -999.000,9,-999.0000,9, -999.000,9,   -999.0,9,   -999.0,9, -999.000,9,   -999.0,9,   -999.0,  -999.00,9,   -999.0,9,   -999.0,9,-999.0000,-999.0000
  49KA199905_1,  P01W,    51,  1,     10,     10,2,19990531,0702, 46.9982, 169.8125,   -9,   1000.7,2,   2.5664,2,  34.4314,1,  34.4316,2,     2.56,1,    26.60,2,  -999.00,9,  -999.00,9,  -999.00,9,  -999.00,9, -999.000,9, -999.000,9, -999.000,9,-999.0000,9, -999.000,9,   -999.0,9,   -999.0,9, -999.000,9,   -999.0,9,   -999.0,  -999.00,9,   -999.0,9,   -999.0,9,   2.5020,  27.4752
  49KA199905_1,  P01W,    51,  1,      9,      9,2,19990531,0702, 46.9982, 169.8125,   -9,   1103.0,2,   2.4692,2,  34.4561,1,  34.4546,2,     6.85,1,    32.68,2,  -999.00,9,  -999.00,9,  -999.00,9,  -999.00,9, -999.000,9, -999.000,9, -999.000,9,-999.0000,9, -999.000,9,   -999.0,9,   -999.0,9, -999.000,9,   -999.0,9,   -999.0,  -999.00,9,   -999.0,9,   -999.0,9,   2.3981,  27.5024
  49KA199905_1,  P01W,    51,  1,      8,      8,2,19990531,0702, 46.9982, 169.8125,   -9,   1250.2,2,   2.3099,2,  34.4929,1,  34.4919,2,    11.32,1,    38.33,2,  -999.00,9,  -999.00,9,  -999.00,9,  -999.00,9, -999.000,9, -999.000,9, -999.000,9,-999.0000,9, -999.000,9,   -999.0,9,   -999.0,9, -999.000,9,   -999.0,9,   -999.0,  -999.00,9,   -999.0,9,   -999.0,9,   2.2294,  27.5462
  49KA199905_1,  P01W,    51,  1,      7,      7,2,19990531,0702, 46.9982, 169.8125,   -9,   1502.2,2,   2.1007,2,  34.5438,1,  34.5454,2,    22.16,1,    51.09,2,  -999.00,9,  -999.00,9,  -999.00,9,  -999.00,9, -999.000,9, -999.000,9, -999.000,9,-999.0000,9, -999.000,9,   -999.0,9,   -999.0,9, -999.000,9,   -999.0,9,   -999.0,  -999.00,9,   -999.0,9,   -999.0,9,   2.0031,  27.6072
  49KA199905_1,  P01W,    51,  1,      6,      6,2,19990531,0702, 46.9982, 169.8125,   -9,   1747.8,2,   1.9573,2,  34.5771,1,  34.5782,2,    32.75,1,    63.96,2,  -999.00,9,  -999.00,9,  -999.00,9,  -999.00,9, -999.000,9, -999.000,9, -999.000,9,-999.0000,9, -999.000,9,   -999.0,9,   -999.0,9, -999.000,9,   -999.0,9,   -999.0,  -999.00,9,   -999.0,9,   -999.0,9,   1.8423,  27.6460
  49KA199905_1,  P01W,    51,  1,      5,      5,2,19990531,0702, 46.9982, 169.8125,   -9,   1999.0,2,   1.8224,2,  34.6043,1,  34.6008,4,    44.56,1,    75.59,4,  -999.00,9,  -999.00,9,  -999.00,9,  -999.00,9, -999.000,9, -999.000,9, -999.000,9,-999.0000,9, -999.000,9,   -999.0,9,   -999.0,9, -999.000,9,   -999.0,9,   -999.0,  -999.00,9,   -999.0,9,   -999.0,9,   1.6888,  27.6758
  49KA199905_1,  P01W,    51,  1,      4,      4,2,19990531,0702, 46.9982, 169.8125,   -9,   2251.4,2,   1.7113,2,  34.6248,1,  34.6267,2,    55.35,1,    91.32,2,  -999.00,9,  -999.00,9,  -999.00,9,  -999.00,9, -999.000,9, -999.000,9, -999.000,9,-999.0000,9, -999.000,9,   -999.0,9,   -999.0,9, -999.000,9,   -999.0,9,   -999.0,  -999.00,9,   -999.0,9,   -999.0,9,   1.5582,  27.7063
  49KA199905_1,  P01W,    51,  1,      3,      3,2,19990531,0702, 46.9982, 169.8125,   -9,   2499.3,2,   1.6379,2,  34.6401,1,  34.6418,2,    66.27,1,   103.26,2,  -999.00,9,  -999.00,9,  -999.00,9,  -999.00,9, -999.000,9, -999.000,9, -999.000,9,-999.0000,9, -999.000,9,   -999.0,9,   -999.0,9, -999.000,9,   -999.0,9,   -999.0,  -999.00,9,   -999.0,9,   -999.0,9,   1.4644,  27.7253
  49KA199905_1,  P01W,    51,  1,      2,      2,2,19990531,0702, 46.9982, 169.8125,   -9,   2999.6,2,   1.5420,2,  34.6602,1,  34.6616,2,    85.98,1,   123.79,3,  -999.00,9,  -999.00,9,  -999.00,9,  -999.00,9, -999.000,9, -999.000,9, -999.000,9,-999.0000,9, -999.000,9,   -999.0,9,   -999.0,9, -999.000,9,   -999.0,9,   -999.0,  -999.00,9,   -999.0,9,   -999.0,9,   1.3244,  27.7512
  49KA199905_1,  P01W,    51,  1,      1,      1,2,19990531,0702, 46.9982, 169.8125,   -9,   3426.4,2,   1.4826,2,  34.6722,1,  34.6730,2,    99.59,1,   138.45,2,  -999.00,9,  -999.00,9,  -999.00,9,  -999.00,9, -999.000,9, -999.000,9, -999.000,9,-999.0000,9, -999.000,9,   -999.0,9,   -999.0,9, -999.000,9,   -999.0,9,   -999.0,  -999.00,9,   -999.0,9,   -999.0,9,   1.2245,  27.7673
  49KA199905_1,  P01W,    52,  1,     24,     24,2,19990531,1034, 46.9975, 170.0002, 4958,      8.8,2,   3.6595,2,  33.0430,1,  33.0438,2,   285.46,1,   330.55,2,    43.66,2,    23.55,2,     0.40,2,     1.96,3,    5.447,2,    2.791,2,    0.441,2,   0.3620,2,    7.680,3,   2239.1,2,   2106.9,2, -999.000,9,    -29.0,2,      2.8,     0.59,2,   -999.0,9,   -999.0,9,   3.6589,  26.2635
  49KA199905_1,  P01W,    52,  1,     23,     23,2,19990531,1034, 46.9975, 170.0002, 4958,     49.8,2,   3.6101,2,  33.0471,1,  33.0485,2,   287.54,1,   329.88,2,    44.19,2,    23.67,2,     0.40,2,     1.98,3,    5.510,2,    2.786,2,    0.426,2,   0.3204,2,    7.669,3,   2239.2,2,   2108.0,2, -999.000,1,    -26.0,2,      2.9,     0.52,2,   -999.0,9,   -999.0,9,   3.6070,  26.2721
  49KA199905_1,  P01W,    52,  1,     22,     22,2,19990531,1034, 46.9975, 170.0002, 4958,    100.5,2,   2.8961,2,  33.0885,1,  33.0933,2,   282.67,1,   322.43,2,    46.01,2,    25.17,3,     0.63,3,     2.06,3,    5.475,2,    2.817,2,    0.441,2,   0.3155,2,    7.627,3,   2240.9,2,   2124.1,2, -999.000,1,    -35.1,2,      2.8,     0.09,2,   -999.0,9,   -999.0,9,   2.8903,  26.3727
  49KA199905_1,  P01W,    52,  1,     21,     21,2,19990531,1034, 46.9975, 170.0002, 4958,    149.7,2,   3.0822,2,  33.4232,1,  33.4387,4,   155.98,1,   197.78,4,    63.14,3,    32.60,3,     0.07,3,     2.49,3,    3.870,4,    1.775,4,    0.318,4,   0.2438,4,    7.492,4,   2262.1,4,   -999.0,9, -999.000,1,    -56.5,2,      2.8,     0.02,2,   -999.0,9,   -999.0,9,   3.0732,  26.6323
  49KA199905_1,  P01W,    52,  1,     20,     20,2,19990531,1034, 46.9975, 170.0002, 4958,    199.2,2,   3.4811,2,  33.8218,1,  33.8205,2,    36.85,1,    61.73,2,    91.32,2,    42.37,2,     0.03,2,     3.10,3,    2.057,2,    1.042,2,    0.152,2,   0.0764,2,    7.311,3,   2297.2,2,   2306.8,2, -999.000,1,   -102.5,2,      2.6,     0.00,2,   -999.0,9,   -999.0,9,   3.4683,  26.9003
  49KA199905_1,  P01W,    52,  1,     19,     19,2,19990531,1034, 46.9975, 170.0002, 4958,    246.9,2,   3.5788,2,  33.9478,1,  33.9481,2,    17.31,1,    39.88,2,   100.80,2,    43.67,2,     0.04,2,     3.17,3,    1.450,2,    0.726,2,    0.097,2,   0.0642,2,    7.303,3,   2311.7,2,   2323.4,2, -999.000,1,   -121.8,2,      3.2,     0.00,2,   -999.0,9,   -999.0,9,   3.5626,  26.9929
  49KA199905_1,  P01W,    52,  1,     18,     18,2,19990531,1034, 46.9975, 170.0002, 4958,    298.3,2,   3.5898,2,  34.0262,1,  34.0252,2,     9.37,1,    32.21,2,   107.62,2,    44.28,2,     0.04,2,     3.17,3, -999.000,9, -999.000,9, -999.000,9,   0.0402,2,    7.306,3,   2319.3,2,   2334.9,2, -999.000,1,   -125.7,2,      3.0,     0.00,2,   -999.0,9,   -999.0,9,   3.5700,  27.0536
  49KA199905_1,  P01W,    52,  1,     17,     17,2,19990531,1034, 46.9975, 170.0002, 4958,    350.8,2,   3.5105,2,  34.0851,1,  34.0890,2,     5.07,1,    27.49,2,   114.42,2,    44.08,2,     0.04,2,     3.19,3, -999.000,9, -999.000,9, -999.000,9,   0.0312,2,    7.312,3,   2330.5,2,   2345.2,2, -999.000,1,   -144.8,2,      3.7,  -999.00,9,   -999.0,9,   -999.0,9,   3.4873,  27.1124
  49KA199905_1,  P01W,    52,  1,     16,     16,2,19990531,1034, 46.9975, 170.0002, 4958,    398.8,2,   3.4262,2,  34.1302,1,  34.1291,2,     3.49,1,    25.97,2,   119.00,2,    43.99,2,     0.03,2,     3.20,3,    0.659,2,    0.337,2,    0.030,2,   0.0285,2,    7.317,3,   2336.6,2,   2345.9,2, -999.000,1,   -148.1,2,      3.4,  -999.00,9,   -999.0,9,   -999.0,9,   3.3999,  27.1527
  49KA199905_1,  P01W,    52,  1,     15,     15,2,19990531,1034, 46.9975, 170.0002, 4958,    498.8,2,   3.2861,2,  34.2055,1,  34.2088,2,    -0.15,1,    23.59,2,   127.96,2,    44.12,2,     0.04,2,     3.20,3,    0.462,2,    0.208,2,    0.024,2,   0.0055,2,    7.326,3,   2350.6,2,   2362.0,2, -999.000,1,   -172.6,2,      2.3,  -999.00,9,   -999.0,9,   -999.0,9,   3.2533,  27.2301
  49KA199905_1,  P01W,    52,  1,     14,     14,2,19990531,1034, 46.9975, 170.0002, 4958,    600.3,2,   3.1494,2,  34.2689,1,  34.2710,2,     0.99,1,    25.14,2,   134.60,2,    43.91,2,     0.04,2,     3.20,3,    0.319,2,    0.159,2,    0.014,2,   0.0033,2,    7.343,3,   2354.0,2,   2365.7,2, -999.000,1,   -180.6,2,      2.5,  -999.00,9,   -999.0,9,   -999.0,9,   3.1102,  27.2931
  49KA199905_1,  P01W,    52,  1,     13,     13,2,19990531,1034, 46.9975, 170.0002, 4958,    698.8,2,   3.0115,2,  34.3199,1,  34.3181,2,     2.36,1,  -999.00,9,   140.19,2,    43.91,2,     0.04,2,     3.20,3,    0.223,2,    0.099,2,    0.002,2,   0.0070,2,    7.347,3,   2366.1,2,   2366.6,2, -999.000,1,   -999.0,9,   -999.0,  -999.00,9,   -999.0,9,   -999.0,9,   2.9659,  27.3438
  49KA199905_1,  P01W,    52,  1,     12,     12,2,19990531,1034, 46.9975, 170.0002, 4958,    798.6,2,   2.8859,2,  34.3599,1,  34.3596,2,     3.77,1,    29.07,3,   142.10,3,    43.41,3,     0.04,3,     3.18,3,    0.170,2,    0.076,2,    0.002,2,   0.0000,2,    7.349,3,   2373.6,2,   2369.6,2, -999.000,1,   -200.5,2,      2.4,  -999.00,9,   -999.0,9,   -999.0,9,   2.8338,  27.3888
  49KA199905_1,  P01W,    52,  1,     11,     11,2,19990531,1034, 46.9975, 170.0002, 4958,    999.2,2,   2.6059,2,  34.4255,1,  34.4262,2,     4.07,1,    29.91,2,   151.73,2,    43.52,2,     0.03,2,     3.16,3,    0.102,2,    0.029,2,    0.008,2,-999.0000,9,    7.366,3,   2383.8,2,   2379.4,2, -999.000,9,   -209.5,2,      2.4,  -999.00,9,   -999.0,9,   -999.0,9,   2.5413,  27.4675
  49KA199905_1,  P01W,    52,  1,     10,     10,2,19990531,1034, 46.9975, 170.0002, 4958,   1248.3,2,   2.3209,2,  34.4913,1,  34.4911,2,    11.73,1,    39.59,2,   159.61,2,    43.17,2,     0.02,2,     3.13,3,    0.070,2,    0.026,2,    0.000,2,-999.0000,9,    7.389,3,   2396.5,2,   2385.5,2, -999.000,1,   -226.1,2,      2.7,  -999.00,9,   -999.0,9,   -999.0,9,   2.2404,  27.5446
  49KA199905_1,  P01W,    52,  1,      9,      9,2,19990531,1034, 46.9975, 170.0002, 4958,   1498.3,2,   2.1445,2,  34.5343,1,  34.5342,2,    19.43,1,    48.83,2,   163.69,2,    42.88,2,     0.02,2,     3.07,3,    0.047,2,    0.000,2,    0.000,2,-999.0000,9,    7.412,3,   2402.1,2,   2388.2,2, -999.000,1,   -232.8,2,      2.5,  -999.00,9,   -999.0,9,   -999.0,9,   2.0468,  27.5948
  49KA199905_1,  P01W,    52,  1,      8,      8,2,19990531,1034, 46.9975, 170.0002, 4958,   1747.0,2,   1.9709,2,  34.5742,1,  34.5748,2,    31.04,1,    63.93,2,   166.24,2,    41.86,2,     0.03,2,     2.99,3,    0.000,2,    0.003,2,    0.000,2,-999.0000,9,    7.432,3,   -999.0,9,   2377.0,2, -999.000,1,   -234.3,2,      2.1,  -999.00,9,   -999.0,9,   -999.0,9,   1.8558,  27.6423
  49KA199905_1,  P01W,    52,  1,      7,      7,2,19990531,1034, 46.9975, 170.0002, 4958,   1999.7,2,   1.8309,2,  34.6021,1,  34.6025,2,    42.71,1,    76.77,2,   167.32,2,    41.13,2,     0.03,2,     2.92,3,    0.001,2,    0.000,2,    0.000,2,-999.0000,9,    7.468,3,   2408.5,2,   2374.4,2, -999.000,1,   -238.7,2,      2.2,  -999.00,9,   -999.0,9,   -999.0,9,   1.6971,  27.6766
  49KA199905_1,  P01W,    52,  1,      6,      6,2,19990531,1034, 46.9975, 170.0002, 4958,   2499.8,2,   1.6384,2,  34.6401,1,  34.6415,2,    65.63,1,   103.11,2,   165.81,2,    39.27,2,     0.03,2,     2.79,3,    0.005,2,    0.002,2,    0.001,2,-999.0000,9,    7.503,3,   2414.8,2,   2360.7,2, -999.000,1,   -235.9,2,      2.3,  -999.00,9,   -999.0,9,   -999.0,9,   1.4649,  27.7250
  49KA199905_1,  P01W,    52,  1,      5,      5,2,19990531,1034, 46.9975, 170.0002, 4958,   2999.6,2,   1.5248,2,  34.6624,1,  34.6623,2,    85.18,1,   125.67,2,   160.33,2,    37.73,2,     0.03,2,     2.69,3,    0.000,2,    0.000,2,    0.002,2,-999.0000,9,    7.540,3,   2415.7,2,   2350.4,2, -999.000,9,   -228.9,2,      2.0,  -999.00,9,   -999.0,9,   -999.0,9,   1.3076,  27.7529
  49KA199905_1,  P01W,    52,  1,      4,      4,2,19990531,1034, 46.9975, 170.0002, 4958,   3499.8,2,   1.4564,2,  34.6761,1,  34.6576,4,    99.74,1,   135.10,4,   155.35,3,    37.28,3,     0.03,3,     2.65,4,    0.009,4,    0.006,4,    0.000,4,-999.0000,9,    7.542,4,   2416.6,4,   2344.7,4, -999.000,1,   -221.0,2,      2.6,  -999.00,9,   -999.0,9,   -999.0,9,   1.1915,  27.7572
  49KA199905_1,  P01W,    52,  1,      3,      3,2,19990531,1034, 46.9975, 170.0002, 4958,   4000.2,2,   1.4510,2,  34.6821,1,  34.6837,2,   105.85,1,   152.90,2,   151.92,2,    36.18,2,     0.03,2,     2.55,3,    0.000,2,    0.000,2,    0.006,2,-999.0000,9,    7.576,3,   2415.8,2,   2330.5,2, -999.000,1,   -216.6,2,      2.8,  -999.00,9,   -999.0,9,   -999.0,9,   1.1334,  27.7822
  49KA199905_1,  P01W,    52,  1,      2,      2,2,19990531,1034, 46.9975, 170.0002, 4958,   4500.6,2,   1.4779,2,  34.6848,1,  34.6870,2,   109.70,1,   156.39,2,   151.74,2,    35.90,2,     0.03,2,     2.53,3,    0.000,2,    0.000,2,    0.000,2,-999.0000,9,    7.583,3,   2416.7,2,   2330.2,2, -999.000,1,   -218.8,2,      3.0,  -999.00,9,   -999.0,9,   -999.0,9,   1.1036,  27.7869
  49KA199905_1,  P01W,    52,  1,      1,      1,2,19990531,1034, 46.9975, 170.0002, 4958,   5029.9,2,   1.5372,2,  34.6849,1,  34.6862,2,   111.44,1,   155.44,2,   152.12,2,    35.87,2,     0.03,2,     2.51,3,    0.000,2,    0.008,2,    0.000,2,-999.0000,9,    7.583,3,   2414.1,2,   2327.7,2, -999.000,1,   -220.1,2,      3.2,  -999.00,9,   -999.0,9,   -999.0,9,   1.0981,  27.7866