BOTTLE,20220921CCHSIOAMB
EXPOCODE,SECT_ID,STNNBR,CASTNO,SAMPNO,BTLNBR,BTLNBR_FLAG_W,DATE,TIME,LATITUDE,LONGITUDE,DEPTH,CTDPRS,CTDPRS_FLAG_W,CTDTMP,CTDTMP_FLAG_W,CTDSAL,CTDSAL_FLAG_W,SALNTY,SALNTY_FLAG_W,CTDOXY,CTDOXY_FLAG_W,OXYGEN,OXYGEN_FLAG_W,SILCAT,SILCAT_FLAG_W,NITRAT,NITRAT_FLAG_W,NITRIT,NITRIT_FLAG_W,PHSPHT,PHSPHT_FLAG_W,CFC-11,CFC-11_FLAG_W,CFC-12,CFC-12_FLAG_W,CFC113,CFC113_FLAG_W,SF6,SF6_FLAG_W,PH,PH_FLAG_W,ALKALI,ALKALI_FLAG_W,TCARBN,TCARBN_FLAG_W,DELC13,DELC13_FLAG_W,DELC14,DELC14_FLAG_W,C14ERR,CHLORA,CHLORA_FLAG_W,CU,CU_FLAG_W,NI,NI_FLAG_W,THETA,SIG0
,,,,,,,,,,,METERS,DBAR,,ITS-90,,PSS-78,,PSS-78,,UMOL/KG,,UMOL/KG,,UMOL/KG,,UMOL/KG,,UMOL/KG,,UMOL/KG,,PMOL/KG,,PMOL/KG,,PMOL/KG,,FMOL/KG,,,,UMOL/KG,,UMOL/KG,,/MILLE,,/MILLE,,/MILLE,UG/KG,,UMOL/L,,UMOL/L,,ITS-90,KG/M^3
  49KA199905_1,  P01W,    39,  1,     24,     24,2,19990528,1850, 47.0100, 161.1448,   -9,     10.4,2,   3.3854,2,  32.9176,1,  32.9211,2,   293.20,1,   337.79,2,    40.16,2,    21.30,3,     0.23,3,     1.83,2, -999.000,9, -999.000,9, -999.000,9,-999.0000,9, -999.000,9,   -999.0,9,   -999.0,9, -999.000,9,   -999.0,9,   -999.0,  -999.00,9,   -999.0,1,   -999.0,1,   3.3848,  26.1914
  49KA199905_1,  P01W,    39,  1,     23,     23,2,19990528,1850, 47.0100, 161.1448,   -9,     51.0,2,   2.1044,2,  32.9953,1,  33.0159,4,   300.40,1,   342.38,4,    44.95,3,    24.10,3,     0.21,3,     1.98,3, -999.000,9, -999.000,9, -999.000,9,-999.0000,9, -999.000,9,   -999.0,9,   -999.0,9, -999.000,9,   -999.0,9,   -999.0,  -999.00,9,   -999.0,1,   -999.0,1,   2.1018,  26.3746
  49KA199905_1,  P01W,    39,  1,     22,     22,2,19990528,1850, 47.0100, 161.1448,   -9,     99.3,2,   0.9925,2,  33.1432,1,  33.1569,4,   284.67,1,   325.29,4,    50.16,3,    27.12,3,     0.29,3,     2.17,3, -999.000,9, -999.000,9, -999.000,9,-999.0000,9, -999.000,9,   -999.0,9,   -999.0,9, -999.000,9,   -999.0,9,   -999.0,  -999.00,9,   -999.0,1,   -999.0,1,   0.9884,  26.5642
  49KA199905_1,  P01W,    39,  1,     21,     21,2,19990528,1850, 47.0100, 161.1448,   -9,    149.8,2,   3.3120,2,  33.8070,1,  33.8055,2,    33.74,1,    58.18,2,    90.63,2,    43.30,2,     0.02,2,     3.14,2, -999.000,9, -999.000,9, -999.000,9,-999.0000,9, -999.000,9,   -999.0,9,   -999.0,9, -999.000,9,   -999.0,9,   -999.0,  -999.00,9,   -999.0,9,   -999.0,9,   3.3026,  26.9039
  49KA199905_1,  P01W,    39,  1,     20,     20,2,19990528,1850, 47.0100, 161.1448,   -9,    199.7,2,   3.5324,2,  33.9615,1,  33.9617,2,     0.19,1,    21.13,2,   102.38,2,    45.37,2,     0.02,2,     3.28,2, -999.000,9, -999.000,9, -999.000,9,-999.0000,9, -999.000,9,   -999.0,9,   -999.0,9, -999.000,9,   -999.0,9,   -999.0,  -999.00,9,   -999.0,9,   -999.0,9,   3.5194,  27.0079
  49KA199905_1,  P01W,    39,  1,     19,     19,2,19990528,1850, 47.0100, 161.1448,   -9,    249.9,2,   3.5132,2,  34.0307,1,  34.0312,2,    -2.78,1,    17.56,2,   108.09,2,    45.13,2,     0.01,2,     3.27,2, -999.000,9, -999.000,9, -999.000,9,-999.0000,9, -999.000,9,   -999.0,9,   -999.0,9, -999.000,9,   -999.0,9,   -999.0,  -999.00,9,   -999.0,1,   -999.0,1,   3.4969,  27.0654
  49KA199905_1,  P01W,    39,  1,     18,     18,2,19990528,1850, 47.0100, 161.1448,   -9,    301.0,2,   3.4478,2,  34.0843,1,  34.0838,2,    -3.90,1,    15.87,2,   112.70,2,    44.55,2,     0.00,2,     3.24,2, -999.000,9, -999.000,9, -999.000,9,-999.0000,9, -999.000,9,   -999.0,9,   -999.0,9, -999.000,9,   -999.0,9,   -999.0,  -999.00,9,   -999.0,9,   -999.0,9,   3.4282,  27.1139
  49KA199905_1,  P01W,    39,  1,     17,     17,2,19990528,1850, 47.0100, 161.1448,   -9,    349.1,2,   3.4049,2,  34.1306,1,  34.1306,2,    -3.81,1,    16.43,3,   116.92,2,    44.24,2,     0.00,2,     3.20,2, -999.000,9, -999.000,9, -999.000,9,-999.0000,9, -999.000,9,   -999.0,9,   -999.0,9, -999.000,9,   -999.0,9,   -999.0,  -999.00,9,   -999.0,9,   -999.0,9,   3.3821,  27.1556
  49KA199905_1,  P01W,    39,  1,     16,     16,2,19990528,1850, 47.0100, 161.1448,   -9,    401.3,2,   3.3439,2,  34.1746,1,  34.1748,2,    -3.46,1,    16.96,2,   120.91,2,    43.97,2,     0.00,2,     3.18,2, -999.000,9, -999.000,9, -999.000,9,-999.0000,9, -999.000,9,   -999.0,9,   -999.0,9, -999.000,9,   -999.0,9,   -999.0,  -999.00,9,   -999.0,9,   -999.0,9,   3.3177,  27.1970
  49KA199905_1,  P01W,    39,  1,     15,     15,2,19990528,1850, 47.0100, 161.1448,   -9,    504.3,2,   3.1968,2,  34.2399,1,  34.2408,2,    -4.79,1,    15.77,2,   128.29,2,    43.90,2,     0.00,2,     3.17,2, -999.000,9, -999.000,9, -999.000,9,-999.0000,9, -999.000,9,   -999.0,9,   -999.0,9, -999.000,9,   -999.0,9,   -999.0,  -999.00,9,   -999.0,1,   -999.0,1,   3.1640,  27.2640
  49KA199905_1,  P01W,    39,  1,     14,     14,2,19990528,1850, 47.0100, 161.1448,   -9,    602.3,2,   3.0552,2,  34.2891,1,  34.2905,2,    -5.49,1,    15.79,2,   134.19,2,    43.87,2,     0.00,2,     3.18,2, -999.000,9, -999.000,9, -999.000,9,-999.0000,9, -999.000,9,   -999.0,9,   -999.0,9, -999.000,9,   -999.0,9,   -999.0,  -999.00,9,   -999.0,9,   -999.0,9,   3.0161,  27.3172
  49KA199905_1,  P01W,    39,  1,     13,     13,2,19990528,1850, 47.0100, 161.1448,   -9,    800.4,2,   2.7706,2,  34.3722,1,  34.3648,4,    -2.47,1,    19.65,4,   143.81,3,    43.76,3,     0.00,3,     3.18,3, -999.000,9, -999.000,9, -999.000,9,-999.0000,9, -999.000,9,   -999.0,9,   -999.0,9, -999.000,9,   -999.0,9,   -999.0,  -999.00,9,   -999.0,9,   -999.0,9,   2.7191,  27.4031
  49KA199905_1,  P01W,    39,  1,     12,     12,2,19990528,1850, 47.0100, 161.1448,   -9,   1000.0,2,   2.5011,2,  34.4436,1,  34.4459,2,    -0.20,1,    23.36,2,   153.46,2,    43.51,2,     0.00,2,     3.13,2, -999.000,9, -999.000,9, -999.000,9,-999.0000,9, -999.000,9,   -999.0,9,   -999.0,9, -999.000,9,   -999.0,9,   -999.0,  -999.00,9,   -999.0,1,   -999.0,1,   2.4372,  27.4921
  49KA199905_1,  P01W,    39,  1,     11,     11,2,19990528,1850, 47.0100, 161.1448,   -9,   1251.3,2,   2.2263,2,  34.5071,1,  34.5092,2,    11.06,1,    38.00,2,   160.76,2,    42.70,2,     0.00,2,     3.08,2, -999.000,9, -999.000,9, -999.000,9,-999.0000,9, -999.000,9,   -999.0,9,   -999.0,9, -999.000,9,   -999.0,9,   -999.0,  -999.00,9,   -999.0,9,   -999.0,9,   2.1464,  27.5668
  49KA199905_1,  P01W,    39,  1,     10,     10,2,19990528,1850, 47.0100, 161.1448,   -9,   1499.5,2,   2.0212,2,  34.5571,1,  34.5590,2,    24.39,1,    53.15,2,   163.33,2,    41.77,2,     0.00,2,     3.01,2, -999.000,9, -999.000,9, -999.000,9,-999.0000,9, -999.000,9,   -999.0,9,   -999.0,9, -999.000,9,   -999.0,9,   -999.0,  -999.00,9,   -999.0,1,   -999.0,1,   1.9247,  27.6243
  49KA199905_1,  P01W,    39,  1,      9,      9,2,19990528,1850, 47.0100, 161.1448,   -9,   1752.0,2,   1.8783,2,  34.5916,1,  34.5937,2,    39.87,1,    71.08,2,   162.81,2,    40.60,2,     0.00,2,     2.94,2, -999.000,9, -999.000,9, -999.000,9,-999.0000,9, -999.000,9,   -999.0,9,   -999.0,9, -999.000,9,   -999.0,9,   -999.0,  -999.00,9,   -999.0,9,   -999.0,9,   1.7640,  27.6645
  49KA199905_1,  P01W,    39,  1,      8,      8,2,19990528,1850, 47.0100, 161.1448,   -9,   2000.7,2,   1.7615,2,  34.6156,1,  34.6178,2,    51.79,1,  -999.00,9,   162.52,2,    39.89,2,     0.00,2,     2.86,2, -999.000,9, -999.000,9, -999.000,9,-999.0000,9, -999.000,9,   -999.0,9,   -999.0,9, -999.000,9,   -999.0,9,   -999.0,  -999.00,9,   -999.0,9,   -999.0,9,   1.6287,  27.6940
  49KA199905_1,  P01W,    39,  1,      7,      7,2,19990528,1850, 47.0100, 161.1448,   -9,   2499.5,2,   1.5991,2,  34.6479,1,  34.6502,2,    75.49,1,   113.64,2,   155.90,2,    38.20,2,     0.00,2,     2.74,2, -999.000,9, -999.000,9, -999.000,9,-999.0000,9, -999.000,9,   -999.0,9,   -999.0,9, -999.000,9,   -999.0,9,   -999.0,  -999.00,9,   -999.0,1,   -999.0,1,   1.4264,  27.7348
  49KA199905_1,  P01W,    39,  1,      6,      6,2,19990528,1850, 47.0100, 161.1448,   -9,   3001.5,2,   1.5098,2,  34.6650,1,  34.6668,2,    89.46,1,   130.26,2,   152.39,2,    37.18,2,     0.00,2,     2.66,2, -999.000,9, -999.000,9, -999.000,9,-999.0000,9, -999.000,9,   -999.0,9,   -999.0,9, -999.000,9,   -999.0,9,   -999.0,  -999.00,9,   -999.0,9,   -999.0,9,   1.2927,  27.7576
  49KA199905_1,  P01W,    39,  1,      5,      5,2,19990528,1850, 47.0100, 161.1448,   -9,   3501.0,2,   1.4659,2,  34.6752,1,  34.6776,2,    99.15,1,   142.96,2,   148.69,2,    36.41,2,     0.00,2,     2.59,2, -999.000,9, -999.000,9, -999.000,9,-999.0000,9, -999.000,9,   -999.0,9,   -999.0,9, -999.000,9,   -999.0,9,   -999.0,  -999.00,9,   -999.0,9,   -999.0,9,   1.2006,  27.7727
  49KA199905_1,  P01W,    39,  1,      4,      4,2,19990528,1850, 47.0100, 161.1448,   -9,   4000.6,2,   1.4584,2,  34.6812,1,  34.6837,2,   105.82,1,   150.97,2,   145.96,2,    35.74,2,     0.00,2,     2.54,2, -999.000,9, -999.000,9, -999.000,9,-999.0000,9, -999.000,9,   -999.0,9,   -999.0,9, -999.000,9,   -999.0,9,   -999.0,  -999.00,9,   -999.0,1,   -999.0,1,   1.1406,  27.7817
  49KA199905_1,  P01W,    39,  1,      3,      3,2,19990528,1850, 47.0100, 161.1448,   -9,   4500.6,2,   1.4740,2,  34.6851,1,  34.6888,2,   110.23,1,   156.85,2,   144.79,2,    35.33,2,     0.00,2,     2.52,2, -999.000,9, -999.000,9, -999.000,9,-999.0000,9, -999.000,9,   -999.0,9,   -999.0,9, -999.000,9,   -999.0,9,   -999.0,  -999.00,9,   -999.0,9,   -999.0,9,   1.0998,  27.7886
  49KA199905_1,  P01W,    39,  1,      2,      2,2,19990528,1850, 47.0100, 161.1448,   -9,   5001.1,2,   1.5116,2,  34.6870,1,  34.6906,2,   113.84,1,   159.69,2,   143.87,2,    35.10,2,     0.00,2,     2.49,2, -999.000,9, -999.000,9, -999.000,9,-999.0000,9, -999.000,9,   -999.0,9,   -999.0,9, -999.000,9,   -999.0,9,   -999.0,  -999.00,9,   -999.0,1,   -999.0,1,   1.0768,  27.7916
  49KA199905_1,  P01W,    39,  1,      1,      1,2,19990528,1850, 47.0100, 161.1448,   -9,   5435.5,2,   1.5593,2,  34.6873,1,  34.6911,2,   115.70,1,   160.99,2,   142.72,2,    35.09,2,     0.00,2,     2.46,2, -999.000,9, -999.000,9, -999.000,9,-999.0000,9, -999.000,9,   -999.0,9,   -999.0,9, -999.000,9,   -999.0,9,   -999.0,  -999.00,9,   -999.0,9,   -999.0,9,   1.0688,  27.7925
  49KA199905_1,  P01W,    40,  1,     24,     24,2,19990529,0134, 47.0070, 162.2608, 5685,     10.0,2,   3.6399,2,  32.9216,1,  32.9227,2,   290.40,1,   336.82,2,    37.55,2,    19.83,3,     0.23,3,     1.72,2,    5.721,2,    2.834,2,    0.441,2,   0.5002,2,    7.657,2,   2235.0,2,   2088.5,2, -999.000,1,   -999.0,9,   -999.0,     0.84,2,   -999.0,9,   -999.0,9,   3.6393,  26.1689
  49KA199905_1,  P01W,    40,  1,     23,     23,2,19990529,0134, 47.0070, 162.2608, 5685,     48.9,2,   2.2608,2,  32.9996,1,  33.0148,4,   291.12,1,   333.46,4,    39.59,4,    22.09,4,     0.46,4,     1.86,4,    5.883,4,    2.920,4,    0.500,4,   0.4147,4,    7.626,4,   2238.1,4,   2110.6,4, -999.000,1,   -999.0,9,   -999.0,     0.42,2,   -999.0,9,   -999.0,9,   2.2583,  26.3617
  49KA199905_1,  P01W,    40,  1,     22,     22,2,19990529,0134, 47.0070, 162.2608, 5685,    100.5,2,   2.5132,2,  33.2185,1,  33.2219,2,   263.80,1,   305.10,2,    40.44,2,    22.82,2,     0.03,2,     1.85,2,    5.396,2,    2.701,2,    0.484,2,   0.4172,2,    7.603,2,   2249.1,2,   2130.4,2, -999.000,1,   -999.0,9,   -999.0,     0.04,2,   -999.0,9,   -999.0,9,   2.5077,  26.5075
  49KA199905_1,  P01W,    40,  1,     21,     21,2,19990529,0134, 47.0070, 162.2608, 5685,    149.6,2,   2.9227,2,  33.6333,1,  33.6333,2,    89.37,1,   116.94,2,    78.46,2,    37.20,2,     0.01,2,     2.80,2,    3.110,2,    1.503,2,    0.209,2,   0.2343,2,    7.367,2,   2286.4,2,   2268.9,2, -999.000,1,   -999.0,9,   -999.0,     0.00,2,   -999.0,9,   -999.0,9,   2.9139,  26.8017
  49KA199905_1,  P01W,    40,  1,     20,     20,2,19990529,0134, 47.0070, 162.2608, 5685,    200.1,2,   3.1929,2,  33.7987,1,  33.8042,2,    44.19,1,    68.41,2,    90.43,2,    41.14,2,     0.01,2,     3.02,2,    2.290,2,    1.050,2,    0.152,2,   0.0966,2,    7.315,2,   2298.8,2,   2308.5,2, -999.000,1,   -999.0,9,   -999.0,     0.00,2,   -999.0,9,   -999.0,9,   3.1805,  26.9142
  49KA199905_1,  P01W,    40,  1,     19,     19,2,19990529,0134, 47.0070, 162.2608, 5685,    250.4,2,   3.3241,2,  33.9127,1,  33.9098,2,    27.10,1,    51.10,2,    97.54,2,    42.07,2,     0.01,2,     3.06,2,    1.790,2,    0.837,2,    0.101,2,   0.0444,2,    7.305,2,   2309.6,2,   2323.7,2, -999.000,1,   -999.0,9,   -999.0,     0.00,2,   -999.0,9,   -999.0,9,   3.3082,  26.9866
  49KA199905_1,  P01W,    40,  1,     18,     18,2,19990529,0134, 47.0070, 162.2608, 5685,    300.7,2,   3.3525,2,  33.9985,1,  33.9997,2,    10.23,1,    31.86,2,   105.86,2,    43.62,3,     0.00,3,     3.17,2,    1.288,2,    0.572,2,    0.065,2,   0.0165,2,    7.300,3,   2317.5,2,   2338.7,2, -999.000,1,   -999.0,9,   -999.0,     0.00,2,   -999.0,9,   -999.0,9,   3.3332,  27.0559
  49KA199905_1,  P01W,    40,  1,     17,     17,2,19990529,0134, 47.0070, 162.2608, 5685,    349.7,2,   3.3554,2,  34.0441,1,  34.0451,2,    13.59,1,    37.44,2,   108.81,2,    42.94,2,     0.00,2,     3.12,2,    1.152,2,    0.533,2,    0.071,2,-999.0000,9,    7.320,3,   2322.6,2,   2334.1,2, -999.000,1,   -999.0,9,   -999.0,  -999.00,9,   -999.0,9,   -999.0,9,   3.3327,  27.0921
  49KA199905_1,  P01W,    40,  1,     16,     16,2,19990529,0134, 47.0070, 162.2608, 5685,    400.7,2,   3.3597,2,  34.1015,1,  34.1018,2,     5.45,1,    26.90,2,   114.03,2,    43.48,2,     0.00,2,     3.15,2,    0.863,2,    0.387,2,    0.055,2,   0.0113,2,    7.314,3,   2330.2,2,   2348.6,2, -999.000,1,   -999.0,9,   -999.0,  -999.00,9,   -999.0,9,   -999.0,9,   3.3335,  27.1373
  49KA199905_1,  P01W,    40,  1,     15,     15,2,19990529,0134, 47.0070, 162.2608, 5685,    500.2,2,   3.2559,2,  34.1787,1,  34.1801,2,     2.46,1,    24.17,2,   121.69,2,    43.20,2,     0.00,2,     3.13,2,    0.616,2,    0.261,2,    0.031,2,   0.0024,2,    7.329,2,   2341.2,2,   2357.4,2, -999.000,1,   -999.0,9,   -999.0,  -999.00,9,   -999.0,9,   -999.0,9,   3.2232,  27.2101
  49KA199905_1,  P01W,    40,  1,     14,     14,2,19990529,0134, 47.0070, 162.2608, 5685,    600.0,2,   3.0982,2,  34.2514,1,  34.2549,2,    -2.19,1,    19.32,2,   130.60,2,    43.54,2,     0.00,2,     3.16,2,    0.388,2,    0.153,2,    0.021,2,   0.0039,2,    7.337,2,   2351.9,2,   2364.8,2, -999.000,1,   -999.0,9,   -999.0,  -999.00,9,   -999.0,9,   -999.0,9,   3.0591,  27.2849
  49KA199905_1,  P01W,    40,  1,     13,     13,2,19990529,0134, 47.0070, 162.2608, 5685,    800.0,2,   2.8419,2,  34.3503,1,  34.3516,2,     0.23,1,    23.69,2,   140.98,2,    43.26,2,     0.00,2,     3.16,2,    0.215,2,    0.075,2,    0.004,2,   0.0000,2,    7.355,2,   2379.6,2,   2378.8,2, -999.000,1,   -999.0,9,   -999.0,  -999.00,9,   -999.0,9,   -999.0,9,   2.7900,  27.3863
  49KA199905_1,  P01W,    40,  1,     12,     12,2,19990529,0134, 47.0070, 162.2608, 5685,    999.3,2,   2.5912,2,  34.4234,1,  34.4241,2,    -2.48,1,    21.25,2,   150.56,2,    43.55,2,     0.00,2,     3.15,2,    0.102,2,    0.011,2,    0.004,2,   0.0001,2,    7.358,3,   2389.8,2,   2390.9,2, -999.000,1,   -999.0,9,   -999.0,  -999.00,9,   -999.0,9,   -999.0,9,   2.5267,  27.4671
  49KA199905_1,  P01W,    40,  1,     11,     11,2,19990529,0134, 47.0070, 162.2608, 5685,   1250.0,2,   2.2988,2,  34.4923,1,  34.4938,2,     8.39,1,    33.98,2,   158.11,2,    42.75,2,     0.00,2,     3.09,2,    0.074,2,    0.013,2,    0.000,2,-999.0000,9,    7.386,2,   2399.7,2,   2392.5,2, -999.000,1,   -999.0,9,   -999.0,  -999.00,9,   -999.0,9,   -999.0,9,   2.2184,  27.5486
  49KA199905_1,  P01W,    40,  1,     10,     10,2,19990529,0134, 47.0070, 162.2608, 5685,   1498.8,2,   2.0904,2,  34.5426,1,  34.5436,2,    19.76,1,    47.02,2,   161.93,2,    41.91,2,     0.00,2,     3.02,2, -999.000,9,    0.000,2,    0.000,2,-999.0000,9,    7.415,3,   2405.4,2,   2391.5,2, -999.000,1,   -999.0,9,   -999.0,  -999.00,9,   -999.0,9,   -999.0,9,   1.9932,  27.6065
  49KA199905_1,  P01W,    40,  1,      9,      9,2,19990529,0134, 47.0070, 162.2608, 5685,   1749.8,2,   1.9459,2,  34.5779,1,  34.5797,2,    32.40,1,    61.81,2,   162.76,2,    41.01,2,     0.00,2,     2.95,2,    0.007,2,    0.000,2,    0.004,2,-999.0000,9,    7.447,3,   2409.0,2,   2383.6,2, -999.000,1,   -999.0,9,   -999.0,  -999.00,9,   -999.0,9,   -999.0,9,   1.8309,  27.6481
  49KA199905_1,  P01W,    40,  1,      8,      8,2,19990529,0134, 47.0070, 162.2608, 5685,   1999.5,2,   1.8111,2,  34.6062,1,  34.6077,2,    45.10,1,    78.86,2,   163.34,2,    40.13,2,     0.00,2,     2.88,2,    0.004,2,    0.000,2,    0.000,2,-999.0000,9,    7.465,2,   2414.5,2,   2377.1,2, -999.000,1,   -999.0,9,   -999.0,  -999.00,9,   -999.0,9,   -999.0,9,   1.6776,  27.6822
  49KA199905_1,  P01W,    40,  1,      7,      7,2,19990529,0134, 47.0070, 162.2608, 5685,   2500.7,2,   1.6329,2,  34.6424,1,  34.6444,2,    69.05,1,   107.95,2,   158.61,2,    38.54,2,     0.00,2,     2.75,2,    0.000,2,    0.007,2,    0.000,2,-999.0000,9,    7.490,2,   2419.9,2,   2360.6,2, -999.000,1,   -999.0,9,   -999.0,  -999.00,9,   -999.0,9,   -999.0,9,   1.4594,  27.7277
  49KA199905_1,  P01W,    40,  1,      6,      6,2,19990529,0134, 47.0070, 162.2608, 5685,   2999.8,2,   1.5223,2,  34.6635,1,  34.6653,2,    87.56,1,   129.17,2,   152.34,2,    37.14,2,     0.00,2,     2.65,2,    0.000,2,    0.000,2,    0.006,2,-999.0000,9,    7.514,2,   2417.0,2,   2341.7,2, -999.000,1,   -999.0,9,   -999.0,  -999.00,9,   -999.0,9,   -999.0,9,   1.3051,  27.7555
  49KA199905_1,  P01W,    40,  1,      5,      5,2,19990529,0134, 47.0070, 162.2608, 5685,   3498.7,2,   1.4780,2,  34.6738,1,  34.6759,2,    97.05,1,   141.08,2,   149.28,2,    36.37,2,     0.00,2,     2.57,2,    0.000,2,    0.000,2,    0.000,2,-999.0000,9,    7.538,2,   2416.0,2,   2333.1,2, -999.000,1,   -999.0,9,   -999.0,  -999.00,9,   -999.0,9,   -999.0,9,   1.2126,  27.7705
  49KA199905_1,  P01W,    40,  1,      4,      4,2,19990529,0134, 47.0070, 162.2608, 5685,   4001.1,2,   1.4640,2,  34.6806,1,  34.6828,2,   104.10,1,   150.47,2,   147.09,2,    35.61,2,     0.00,2,     2.53,2,    0.000,2,    0.007,2,    0.000,2,-999.0000,9,    7.561,2,   2416.9,2,   2327.8,2, -999.000,1,   -999.0,9,   -999.0,  -999.00,9,   -999.0,9,   -999.0,9,   1.1460,  27.7806
  49KA199905_1,  P01W,    40,  1,      3,      3,2,19990529,0134, 47.0070, 162.2608, 5685,   4498.5,2,   1.4796,2,  34.6845,1,  34.6873,2,   108.83,1,   154.73,2,   146.11,2,    35.16,2,     0.00,2,     2.49,2,    0.000,2,    0.001,2,    0.000,2,-999.0000,9,    7.568,2,   2415.0,2,   2324.6,2, -999.000,1,   -999.0,9,   -999.0,  -999.00,9,   -999.0,9,   -999.0,9,   1.1054,  27.7870
  49KA199905_1,  P01W,    40,  1,      2,      2,2,19990529,0134, 47.0070, 162.2608, 5685,   4999.6,2,   1.5182,2,  34.6864,1,  34.6904,2,   111.58,1,   159.88,2,   146.23,2,    35.09,2,     0.00,2,     2.47,2,    0.001,2,    0.001,2,    0.008,2,-999.0000,9,    7.594,2,   2408.3,2,   2321.4,2, -999.000,1,   -999.0,9,   -999.0,  -999.00,9,   -999.0,9,   -999.0,9,   1.0834,  27.7910
  49KA199905_1,  P01W,    40,  1,      1,      1,2,19990529,0134, 47.0070, 162.2608, 5685,   5783.7,2,   1.6144,3,  34.6864,1,  34.6899,2,   113.92,1,   159.75,2,   146.92,2,    35.20,2,     0.00,2,     2.47,2,    0.024,3,    0.006,2,    0.000,2,-999.0000,9,    7.598,2,   -999.0,9,   2316.0,2, -999.000,1,   -999.0,9,   -999.0,  -999.00,9,   -999.0,9,   -999.0,9,   1.0768,  27.7910