BOTTLE,20220921CCHSIOAMB
EXPOCODE,SECT_ID,STNNBR,CASTNO,SAMPNO,BTLNBR,BTLNBR_FLAG_W,DATE,TIME,LATITUDE,LONGITUDE,DEPTH,CTDPRS,CTDPRS_FLAG_W,CTDTMP,CTDTMP_FLAG_W,CTDSAL,CTDSAL_FLAG_W,SALNTY,SALNTY_FLAG_W,CTDOXY,CTDOXY_FLAG_W,OXYGEN,OXYGEN_FLAG_W,SILCAT,SILCAT_FLAG_W,NITRAT,NITRAT_FLAG_W,NITRIT,NITRIT_FLAG_W,PHSPHT,PHSPHT_FLAG_W,CFC-11,CFC-11_FLAG_W,CFC-12,CFC-12_FLAG_W,CFC113,CFC113_FLAG_W,SF6,SF6_FLAG_W,PH,PH_FLAG_W,ALKALI,ALKALI_FLAG_W,TCARBN,TCARBN_FLAG_W,DELC13,DELC13_FLAG_W,DELC14,DELC14_FLAG_W,C14ERR,CHLORA,CHLORA_FLAG_W,CU,CU_FLAG_W,NI,NI_FLAG_W,THETA,SIG0
,,,,,,,,,,,METERS,DBAR,,ITS-90,,PSS-78,,PSS-78,,UMOL/KG,,UMOL/KG,,UMOL/KG,,UMOL/KG,,UMOL/KG,,UMOL/KG,,PMOL/KG,,PMOL/KG,,PMOL/KG,,FMOL/KG,,,,UMOL/KG,,UMOL/KG,,/MILLE,,/MILLE,,/MILLE,UG/KG,,UMOL/L,,UMOL/L,,ITS-90,KG/M^3
  49KA199905_1,  P01W,    27,  1,     24,     24,2,19990525,0854, 41.9580, 151.4635, 5261,     10.4,2,   7.7885,2,  33.2951,1,  33.3020,2,   267.00,1,   318.40,2,     9.20,2,    10.39,2,     0.18,2,     1.02,2, -999.000,9, -999.000,9, -999.000,9,-999.0000,9, -999.000,9,   -999.0,9,   -999.0,9, -999.000,9,   -999.0,9,   -999.0,  -999.00,9,   -999.0,1,   -999.0,1,   7.7875,  25.9713
  49KA199905_1,  P01W,    27,  1,     23,     23,2,19990525,0854, 41.9580, 151.4635, 5261,     49.4,2,   3.4148,2,  33.2235,1,  33.2283,2,   275.47,1,   323.62,2,    31.34,2,    18.74,2,     0.45,2,     1.66,2, -999.000,9, -999.000,9, -999.000,9,-999.0000,9, -999.000,9,   -999.0,9,   -999.0,9, -999.000,9,   -999.0,9,   -999.0,  -999.00,9,   -999.0,1,   -999.0,1,   3.4118,  26.4337
  49KA199905_1,  P01W,    27,  1,     22,     22,2,19990525,0854, 41.9580, 151.4635, 5261,     99.9,2,   2.5283,2,  33.2871,1,  33.2905,2,   258.39,1,   303.09,2,    41.28,2,    22.76,2,     0.07,2,     1.83,2, -999.000,9, -999.000,9, -999.000,9,-999.0000,9, -999.000,9,   -999.0,9,   -999.0,9, -999.000,9,   -999.0,9,   -999.0,  -999.00,9,   -999.0,1,   -999.0,1,   2.5228,  26.5611
  49KA199905_1,  P01W,    27,  1,     21,     21,2,19990525,0854, 41.9580, 151.4635, 5261,    149.5,2,   2.6045,2,  33.4444,1,  33.4455,2,   175.12,1,   218.30,2,    58.16,2,    29.31,2,     0.03,2,     2.26,2, -999.000,9, -999.000,9, -999.000,9,-999.0000,9, -999.000,9,   -999.0,9,   -999.0,9, -999.000,9,   -999.0,9,   -999.0,  -999.00,9,   -999.0,9,   -999.0,9,   2.5961,  26.6789
  49KA199905_1,  P01W,    27,  1,     20,     20,2,19990525,0854, 41.9580, 151.4635, 5261,    200.1,2,   2.8540,2,  33.6521,1,  33.6630,4,    93.90,1,   119.95,4,    80.79,3,    37.25,3,     0.02,3,     2.76,3, -999.000,9, -999.000,9, -999.000,9,-999.0000,9, -999.000,9,   -999.0,9,   -999.0,9, -999.000,9,   -999.0,9,   -999.0,  -999.00,9,   -999.0,9,   -999.0,9,   2.8422,  26.8317
  49KA199905_1,  P01W,    27,  1,     19,     19,2,19990525,0854, 41.9580, 151.4635, 5261,    249.3,2,   3.2055,2,  33.8161,1,  33.8158,2,    58.91,1,    86.75,2,    90.61,2,    39.78,2,     0.02,2,     2.90,2, -999.000,9, -999.000,9, -999.000,9,-999.0000,9, -999.000,9,   -999.0,9,   -999.0,9, -999.000,9,   -999.0,9,   -999.0,  -999.00,9,   -999.0,1,   -999.0,1,   3.1899,  26.9226
  49KA199905_1,  P01W,    27,  1,     18,     18,2,19990525,0854, 41.9580, 151.4635, 5261,    300.7,2,   3.2947,2,  33.9128,1,  33.9139,2,    41.16,1,    64.95,2,    98.64,2,    41.55,2,     0.02,2,     3.01,2, -999.000,9, -999.000,9, -999.000,9,-999.0000,9, -999.000,9,   -999.0,9,   -999.0,9, -999.000,9,   -999.0,9,   -999.0,  -999.00,9,   -999.0,9,   -999.0,9,   3.2755,  26.9929
  49KA199905_1,  P01W,    27,  1,     17,     17,2,19990525,0854, 41.9580, 151.4635, 5261,    350.5,2,   3.3801,2,  34.0014,1,  34.0027,2,    29.36,1,    52.22,2,   105.48,2,    42.25,2,     0.01,2,     3.07,2, -999.000,9, -999.000,9, -999.000,9,-999.0000,9, -999.000,9,   -999.0,9,   -999.0,9, -999.000,9,   -999.0,9,   -999.0,  -999.00,9,   -999.0,9,   -999.0,9,   3.3573,  27.0560
  49KA199905_1,  P01W,    27,  1,     16,     16,2,19990525,0854, 41.9580, 151.4635, 5261,    400.3,2,   3.3306,2,  34.0480,1,  34.0475,2,    19.06,1,    44.27,2,   111.55,2,    42.79,2,     0.02,2,     3.13,2, -999.000,9, -999.000,9, -999.000,9,-999.0000,9, -999.000,9,   -999.0,9,   -999.0,9, -999.000,9,   -999.0,9,   -999.0,  -999.00,9,   -999.0,9,   -999.0,9,   3.3046,  27.0967
  49KA199905_1,  P01W,    27,  1,     15,     15,2,19990525,0854, 41.9580, 151.4635, 5261,    497.4,2,   3.3212,2,  34.1603,1,  34.1620,2,    11.13,1,    35.90,2,   121.21,2,    43.55,2,     0.01,2,     3.13,2, -999.000,9, -999.000,9, -999.000,9,-999.0000,9, -999.000,9,   -999.0,9,   -999.0,9, -999.000,9,   -999.0,9,   -999.0,  -999.00,9,   -999.0,1,   -999.0,1,   3.2884,  27.1895
  49KA199905_1,  P01W,    27,  1,     14,     14,2,19990525,0854, 41.9580, 151.4635, 5261,    598.9,2,   3.1249,2,  34.2220,1,  34.2233,2,     5.50,1,    31.60,2,   130.61,2,    44.11,2,     0.01,2,     3.17,2, -999.000,9, -999.000,9, -999.000,9,-999.0000,9, -999.000,9,   -999.0,9,   -999.0,9, -999.000,9,   -999.0,9,   -999.0,  -999.00,9,   -999.0,9,   -999.0,9,   3.0858,  27.2572
  49KA199905_1,  P01W,    27,  1,     13,     13,2,19990525,0854, 41.9580, 151.4635, 5261,    800.3,2,   2.8497,2,  34.3345,1,  34.3340,2,     4.37,1,  -999.00,9,   143.56,2,    44.37,2,     0.01,2,     3.17,2, -999.000,9, -999.000,9, -999.000,9,-999.0000,9, -999.000,9,   -999.0,9,   -999.0,9, -999.000,9,   -999.0,9,   -999.0,  -999.00,9,   -999.0,9,   -999.0,9,   2.7978,  27.3715
  49KA199905_1,  P01W,    27,  1,     12,     12,2,19990525,0854, 41.9580, 151.4635, 5261,   1000.9,2,   2.6444,2,  34.4152,1,  34.3323,4,     9.20,1,    28.66,3,   141.69,4,    43.66,4,     0.01,4,     3.16,4, -999.000,9, -999.000,9, -999.000,9,-999.0000,9, -999.000,9,   -999.0,9,   -999.0,9, -999.000,9,   -999.0,9,   -999.0,  -999.00,9,   -999.0,1,   -999.0,1,   2.5795,  27.3892
  49KA199905_1,  P01W,    27,  1,     11,     11,2,19990525,0854, 41.9580, 151.4635, 5261,   1250.8,2,   2.4030,2,  34.4930,1,  34.4930,2,    19.65,1,    43.99,2,   155.49,2,    43.14,2,     0.01,2,     3.07,2, -999.000,9, -999.000,9, -999.000,9,-999.0000,9, -999.000,9,   -999.0,9,   -999.0,9, -999.000,9,   -999.0,9,   -999.0,  -999.00,9,   -999.0,9,   -999.0,9,   2.3214,  27.5395
  49KA199905_1,  P01W,    27,  1,     10,     10,2,19990525,0854, 41.9580, 151.4635, 5261,   1499.9,2,   2.2032,2,  34.5367,1,  34.5361,2,    27.01,1,    53.61,2,   159.74,2,    42.62,2,     0.01,2,     3.04,2, -999.000,9, -999.000,9, -999.000,9,-999.0000,9, -999.000,9,   -999.0,9,   -999.0,9, -999.000,9,   -999.0,9,   -999.0,  -999.00,9,   -999.0,1,   -999.0,1,   2.1047,  27.5917
  49KA199905_1,  P01W,    27,  1,      9,      9,2,19990525,0854, 41.9580, 151.4635, 5261,   1749.1,2,   2.0131,2,  34.5756,1,  34.5771,2,    37.95,1,    67.55,2,   162.24,2,    41.99,2,     0.01,2,     2.97,2, -999.000,9, -999.000,9, -999.000,9,-999.0000,9, -999.000,9,   -999.0,9,   -999.0,9, -999.000,9,   -999.0,9,   -999.0,  -999.00,9,   -999.0,9,   -999.0,9,   1.8972,  27.6409
  49KA199905_1,  P01W,    27,  1,      8,      8,2,19990525,0854, 41.9580, 151.4635, 5261,   1998.1,2,   1.8488,2,  34.6065,1,  34.6079,2,    51.03,1,    83.36,2,   162.43,2,    41.08,2,     0.01,2,     2.88,2, -999.000,9, -999.000,9, -999.000,9,-999.0000,9, -999.000,9,   -999.0,9,   -999.0,9, -999.000,9,   -999.0,9,   -999.0,  -999.00,9,   -999.0,1,   -999.0,1,   1.7149,  27.6796
  49KA199905_1,  P01W,    27,  1,      7,      7,2,19990525,0854, 41.9580, 151.4635, 5261,   2501.0,2,   1.6321,2,  34.6436,1,  34.6450,2,    72.61,1,   110.93,2,   160.90,2,    39.20,2,     0.01,2,     2.76,2, -999.000,9, -999.000,9, -999.000,9,-999.0000,9, -999.000,9,   -999.0,9,   -999.0,9, -999.000,9,   -999.0,9,   -999.0,  -999.00,9,   -999.0,1,   -999.0,1,   1.4586,  27.7283
  49KA199905_1,  P01W,    27,  1,      6,      6,2,19990525,0854, 41.9580, 151.4635, 5261,   3001.0,2,   1.5208,2,  34.6639,1,  34.6664,2,    89.69,1,   130.23,2,   155.46,2,    37.87,2,     0.01,2,     2.65,2, -999.000,9, -999.000,9, -999.000,9,-999.0000,9, -999.000,9,   -999.0,9,   -999.0,9, -999.000,9,   -999.0,9,   -999.0,  -999.00,9,   -999.0,1,   -999.0,1,   1.3035,  27.7565
  49KA199905_1,  P01W,    27,  1,      5,      5,2,19990525,0854, 41.9580, 151.4635, 5261,   3499.4,2,   1.4587,2,  34.6756,1,  34.6780,2,   100.62,1,   144.75,2,   152.48,2,    37.02,2,     0.01,2,     2.59,2, -999.000,9, -999.000,9, -999.000,9,-999.0000,9, -999.000,9,   -999.0,9,   -999.0,9, -999.000,9,   -999.0,9,   -999.0,  -999.00,9,   -999.0,9,   -999.0,9,   1.1937,  27.7735
  49KA199905_1,  P01W,    27,  1,      4,      4,2,19990525,0854, 41.9580, 151.4635, 5261,   3998.8,2,   1.4476,2,  34.6819,1,  34.6846,2,   107.57,1,   151.77,2,   149.99,2,    36.29,2,     0.01,2,     2.54,2, -999.000,9, -999.000,9, -999.000,9,-999.0000,9, -999.000,9,   -999.0,9,   -999.0,9, -999.000,9,   -999.0,9,   -999.0,  -999.00,9,   -999.0,9,   -999.0,9,   1.1302,  27.7831
  49KA199905_1,  P01W,    27,  1,      3,      3,2,19990525,0854, 41.9580, 151.4635, 5261,   4501.0,2,   1.4639,2,  34.6855,1,  34.6888,2,   112.09,1,   158.20,2,   149.23,2,    36.21,2,     0.01,2,     2.52,2, -999.000,9, -999.000,9, -999.000,9,-999.0000,9, -999.000,9,   -999.0,9,   -999.0,9, -999.000,9,   -999.0,9,   -999.0,  -999.00,9,   -999.0,9,   -999.0,9,   1.0899,  27.7893
  49KA199905_1,  P01W,    27,  1,      2,      2,2,19990525,0854, 41.9580, 151.4635, 5261,   4999.1,2,   1.5105,2,  34.6866,1,  34.6899,2,   114.43,1,   159.74,2,   149.74,2,    35.93,2,     0.01,2,     2.50,2, -999.000,9, -999.000,9, -999.000,9,-999.0000,9, -999.000,9,   -999.0,9,   -999.0,9, -999.000,9,   -999.0,9,   -999.0,  -999.00,9,   -999.0,1,   -999.0,1,   1.0760,  27.7911
  49KA199905_1,  P01W,    27,  1,      1,      1,2,19990525,0854, 41.9580, 151.4635, 5261,   5219.6,2,   1.5361,2,  34.6867,1,  34.6903,2,   115.07,1,   159.32,2,   150.55,2,    36.05,2,     0.01,2,     2.51,2, -999.000,9, -999.000,9, -999.000,9,-999.0000,9, -999.000,9,   -999.0,9,   -999.0,9, -999.000,9,   -999.0,9,   -999.0,  -999.00,9,   -999.0,9,   -999.0,9,   1.0736,  27.7916
  49KA199905_1,  P01W,    28,  1,     24,     24,2,19990525,1532, 42.3545, 152.0987, 5127,     11.0,2,   6.0039,2,  33.0624,1,  33.0674,2,   282.22,1,   334.06,2,    35.17,2,    16.83,2,     0.24,2,     1.56,2,    5.262,2,    2.578,2,    0.395,2,-999.0000,9,    7.766,3,   2239.1,2,   2067.7,2, -999.000,1,    -26.4,2,      2.6,     0.66,2,   -999.0,9,   -999.0,9,   6.0030,  26.0253
  49KA199905_1,  P01W,    28,  1,     23,     23,2,19990525,1532, 42.3545, 152.0987, 5127,     51.6,2,   3.2910,2,  33.1681,1,  33.1720,2,   283.12,1,   330.29,2,    39.79,2,    20.81,2,     0.39,2,     1.80,2,    5.724,2,    2.805,2,    0.479,2,-999.0000,9,    7.684,3,   2285.3,2,   2120.7,2, -999.000,1,    -43.3,2,      3.3,     0.68,2,   -999.0,9,   -999.0,9,   3.2879,  26.4002
  49KA199905_1,  P01W,    28,  1,     22,     22,2,19990525,1532, 42.3545, 152.0987, 5127,     99.4,2,   2.2705,2,  33.2283,1,  33.2280,2,   269.55,1,   314.13,2,    43.19,3,    23.30,3,     0.26,3,     1.89,3,    5.621,2,    2.742,2,    0.430,2,-999.0000,9,    7.620,3,   2247.0,2,   2131.4,2, -999.000,1,    -48.5,2,      3.1,     0.34,2,   -999.0,9,   -999.0,9,   2.2653,  26.5317
  49KA199905_1,  P01W,    28,  1,     21,     21,3,19990525,1532, 42.3545, 152.0987, 5127,    148.7,3,   2.4080,3,  33.3573,1,  33.3553,2,   217.07,1,   257.30,2,    51.87,3,    26.84,3,     0.03,3,     2.09,3,    4.882,2,    2.358,2,    0.373,2,-999.0000,9,    7.591,3,   2255.7,2,   2169.6,2, -999.000,1,    -41.9,2,      3.3,     0.06,2,   -999.0,9,   -999.0,9,   2.3999,  26.6229
  49KA199905_1,  P01W,    28,  1,     20,     20,2,19990525,1532, 42.3545, 152.0987, 5127,    201.8,2,   2.8716,2,  33.6308,1,  33.6307,2,   100.65,1,   132.28,2,    78.17,2,    36.33,2,     0.03,2,     2.71,2,    3.226,2,    1.518,2,    0.219,2,-999.0000,9,    7.398,3,   2279.2,2,   2253.9,2, -999.000,1,    -83.1,2,      2.6,     0.05,2,   -999.0,9,   -999.0,9,   2.8597,  26.8044
  49KA199905_1,  P01W,    28,  1,     19,     19,2,19990525,1532, 42.3545, 152.0987, 5127,    250.8,2,   3.2003,2,  33.7756,1,  33.7743,2,    68.35,1,    95.61,2,    87.34,2,    39.09,2,     0.03,2,     2.87,2,    2.534,2,    1.177,2,    0.204,2,-999.0000,9,    7.399,3,   2291.5,2,   2279.9,2, -999.000,1,    -93.6,2,      2.9,     0.04,2,   -999.0,9,   -999.0,9,   3.1847,  26.8899
  49KA199905_1,  P01W,    28,  1,     18,     18,2,19990525,1532, 42.3545, 152.0987, 5127,    302.0,2,   3.3038,2,  33.8802,1,  33.8804,2,    43.04,1,    69.00,2,    96.22,2,    41.32,2,     0.02,2,     3.00,2,    1.935,2,    0.903,2,    0.130,2,-999.0000,9,    7.333,3,   2302.0,2,   2303.3,2, -999.000,1,   -113.6,2,      2.9,     0.01,2,   -999.0,9,   -999.0,9,   3.2846,  26.9653
  49KA199905_1,  P01W,    28,  1,     17,     17,2,19990525,1532, 42.3545, 152.0987, 5127,    349.4,2,   3.2649,2,  33.9552,1,  33.9537,2,    21.63,1,    44.92,3,   105.36,2,    43.49,2,     0.02,2,     3.13,2,    1.489,2,    0.724,2,    0.082,2,-999.0000,9,    7.364,3,   2315.0,2,   2323.6,2, -999.000,1,   -130.5,2,      2.5,  -999.00,9,   -999.0,9,   -999.0,9,   3.2426,  27.0277
  49KA199905_1,  P01W,    28,  1,     16,     16,2,19990525,1532, 42.3545, 152.0987, 5127,    400.8,2,   3.2711,2,  34.0300,1,  34.0285,2,    14.49,1,    36.56,2,   111.93,2,    43.86,2,     0.02,2,     3.15,2,    1.154,2,    0.543,2,    0.065,2,-999.0000,9,    7.331,3,   2323.5,2,   2334.8,2, -999.000,1,   -145.2,2,      2.9,  -999.00,9,   -999.0,9,   -999.0,9,   3.2452,  27.0871
  49KA199905_1,  P01W,    28,  1,     15,     15,2,19990525,1532, 42.3545, 152.0987, 5127,    501.9,2,   3.2375,2,  34.1418,1,  34.1422,2,     8.97,1,    31.82,2,   121.98,2,    43.91,2,     0.02,2,     3.15,2,    0.733,2,    0.357,2,    0.048,2,-999.0000,9,    7.344,3,   2336.9,2,   2344.0,2, -999.000,1,   -160.3,2,      2.9,  -999.00,9,   -999.0,9,   -999.0,9,   3.2048,  27.1815
  49KA199905_1,  P01W,    28,  1,     14,     14,2,19990525,1532, 42.3545, 152.0987, 5127,    601.2,2,   3.1711,2,  34.2317,1,  34.2311,2,     6.01,1,    29.39,2,   129.87,2,    43.98,2,     0.02,2,     3.14,2,    0.459,2,    0.217,2,    0.029,2,-999.0000,9,    7.416,3,   2349.8,2,   2357.0,2, -999.000,1,   -189.6,2,      2.8,  -999.00,9,   -999.0,9,   -999.0,9,   3.1316,  27.2592
  49KA199905_1,  P01W,    28,  1,     13,     13,2,19990525,1532, 42.3545, 152.0987, 5127,    800.4,2,   2.8511,2,  34.3363,1,  34.3363,2,     2.03,1,    24.71,2,   140.99,2,    44.08,2,     0.01,2,     3.19,2,    0.236,2,    0.104,2,    0.000,2,-999.0000,9,    7.436,3,   2370.2,2,   2374.3,2, -999.000,1,   -197.5,2,      2.8,  -999.00,9,   -999.0,9,   -999.0,9,   2.7992,  27.3733
  49KA199905_1,  P01W,    28,  1,     12,     12,2,19990525,1532, 42.3545, 152.0987, 5127,    997.4,2,   2.7025,2,  34.4274,1,  34.1730,4,    13.49,1,    33.76,3,   125.62,4,    43.69,4,     0.02,4,     3.14,4,    0.719,4,    0.334,4,    0.037,4,-999.0000,9,    7.572,4,   2343.2,4,   2349.7,4, -999.000,1,   -170.5,4,      2.2,  -999.00,9,   -999.0,9,   -999.0,9,   2.6377,  27.2569
  49KA199905_1,  P01W,    28,  1,     11,     11,2,19990525,1532, 42.3545, 152.0987, 5127,   1251.5,2,   2.4157,2,  34.4845,1,  34.4851,2,    17.02,1,    44.44,2,   156.35,2,    43.21,2,     0.03,2,     3.08,2,    0.029,2,    0.035,2,    0.000,2,-999.0000,9,    7.437,3,   2383.4,2,   2381.6,2, -999.000,1,   -222.7,2,      3.4,  -999.00,9,   -999.0,9,   -999.0,9,   2.3340,  27.5321
  49KA199905_1,  P01W,    28,  1,     10,     10,2,19990525,1532, 42.3545, 152.0987, 5127,   1503.4,2,   2.2020,2,  34.5369,1,  34.5379,2,    25.43,1,  -999.00,9,   159.79,2,    42.67,2,     0.02,2,     3.03,2,    0.000,2,    0.003,2,    0.000,2,-999.0000,9,    7.487,3,   2398.2,2,   2379.3,2, -999.000,1,   -236.6,2,      3.4,  -999.00,9,   -999.0,9,   -999.0,9,   2.1032,  27.5932
  49KA199905_1,  P01W,    28,  1,      9,      9,2,19990525,1532, 42.3545, 152.0987, 5127,   1752.1,2,   2.0426,2,  34.5712,1,  34.5726,2,    35.26,1,    65.49,2,   161.68,2,    41.88,2,     0.03,2,     2.97,2,    0.000,2,    0.000,2,    0.001,2,-999.0000,9,    7.474,3,   2407.4,2,   2375.9,2, -999.000,1,   -241.1,2,      2.7,  -999.00,9,   -999.0,9,   -999.0,9,   1.9261,  27.6351
  49KA199905_1,  P01W,    28,  1,      8,      8,2,19990525,1532, 42.3545, 152.0987, 5127,   2000.5,2,   1.8808,2,  34.6009,1,  34.6007,2,    47.46,1,    81.07,2,   162.48,2,    40.98,2,     0.02,2,     2.90,2,    0.000,2,    0.000,2,    0.000,2,-999.0000,9,    7.508,3,   2410.5,2,   2368.8,2, -999.000,1,   -243.5,2,      3.1,  -999.00,9,   -999.0,9,   -999.0,9,   1.7463,  27.6714
  49KA199905_1,  P01W,    28,  1,      7,      7,2,19990525,1532, 42.3545, 152.0987, 5127,   2499.4,2,   1.6396,2,  34.6433,1,  34.6411,2,    72.10,1,   110.37,3,   159.76,2,    39.19,2,     0.03,2,     2.76,2, -999.000,9, -999.000,9, -999.000,9,-999.0000,9,    7.550,3,   2415.4,2,   2355.4,2, -999.000,1,   -236.2,2,      2.7,  -999.00,9,   -999.0,9,   -999.0,9,   1.4661,  27.7246
  49KA199905_1,  P01W,    28,  1,      6,      6,2,19990525,1532, 42.3545, 152.0987, 5127,   3002.6,2,   1.5219,2,  34.6634,1,  34.6660,2,    87.88,1,   129.55,2,   155.83,2,    37.94,2,     0.03,2,     2.66,2,    0.000,2,    0.000,2,    0.000,2,-999.0000,9,    7.560,3,   2414.6,2,   2341.5,2, -999.000,1,   -242.1,2,      2.8,  -999.00,9,   -999.0,9,   -999.0,9,   1.3045,  27.7561
  49KA199905_1,  P01W,    28,  1,      5,      5,2,19990525,1532, 42.3545, 152.0987, 5127,   3500.0,2,   1.4627,2,  34.6754,1,  34.6775,2,    99.15,1,   142.85,2,   151.42,3,    36.95,3,     0.01,3,     2.62,3,    0.000,2,    0.000,2,    0.003,2,-999.0000,9,    7.583,3,   2413.8,2,   2329.7,2, -999.000,9,   -224.7,2,      3.3,  -999.00,9,   -999.0,9,   -999.0,9,   1.1976,  27.7728
  49KA199905_1,  P01W,    28,  1,      4,      4,2,19990525,1532, 42.3545, 152.0987, 5127,   4001.9,2,   1.4465,2,  34.6820,1,  34.6846,2,   106.59,1,   152.27,2,   149.41,2,    36.41,2,     0.02,2,     2.54,2,    0.002,2,    0.005,2,    0.000,2,-999.0000,9,    7.586,3,   2414.2,2,   2320.4,2, -999.000,1,   -220.0,2,      2.3,  -999.00,9,   -999.0,9,   -999.0,9,   1.1288,  27.7832
  49KA199905_1,  P01W,    28,  1,      3,      3,2,19990525,1532, 42.3545, 152.0987, 5127,   4500.8,2,   1.4645,2,  34.6856,1,  34.6883,2,   110.84,1,   156.02,2,   148.92,2,    36.04,2,     0.02,2,     2.52,2,    0.000,2,    0.000,2,    0.003,2,-999.0000,9,    7.618,3,   2414.4,2,   2320.2,2, -999.000,1,   -213.6,2,      2.2,  -999.00,9,   -999.0,9,   -999.0,9,   1.0905,  27.7888
  49KA199905_1,  P01W,    28,  1,      2,      2,2,19990525,1532, 42.3545, 152.0987, 5127,   4999.7,2,   1.5118,2,  34.6866,1,  34.6899,2,   112.78,1,   158.63,2,   149.36,2,    35.89,2,     0.02,2,     2.51,2,    0.007,2,    0.007,2,    0.000,2,-999.0000,9,    7.673,3,   2412.6,2,   2319.4,2, -999.000,1,   -663.7,4,      2.0,  -999.00,9,   -999.0,9,   -999.0,9,   1.0772,  27.7910
  49KA199905_1,  P01W,    28,  1,      1,      1,2,19990525,1532, 42.3545, 152.0987, 5127,   5202.1,2,   1.5304,2,  34.6870,1,  34.6868,2,   115.06,1,   155.22,4,   150.22,2,    36.91,2,     0.02,2,     2.59,2,    0.035,3,    0.003,2,    0.000,2,-999.0000,9,    7.595,3,   2411.9,2,   2322.0,2, -999.000,1,   -313.3,4,      2.0,  -999.00,9,   -999.0,9,   -999.0,9,   1.0703,  27.7890