BOTTLE,20220921CCHSIOAMB
EXPOCODE,SECT_ID,STNNBR,CASTNO,SAMPNO,BTLNBR,BTLNBR_FLAG_W,DATE,TIME,LATITUDE,LONGITUDE,DEPTH,CTDPRS,CTDPRS_FLAG_W,CTDTMP,CTDTMP_FLAG_W,CTDSAL,CTDSAL_FLAG_W,SALNTY,SALNTY_FLAG_W,CTDOXY,CTDOXY_FLAG_W,OXYGEN,OXYGEN_FLAG_W,SILCAT,SILCAT_FLAG_W,NITRAT,NITRAT_FLAG_W,NITRIT,NITRIT_FLAG_W,PHSPHT,PHSPHT_FLAG_W,CFC-11,CFC-11_FLAG_W,CFC-12,CFC-12_FLAG_W,CFC113,CFC113_FLAG_W,SF6,SF6_FLAG_W,PH,PH_FLAG_W,ALKALI,ALKALI_FLAG_W,TCARBN,TCARBN_FLAG_W,DELC13,DELC13_FLAG_W,DELC14,DELC14_FLAG_W,C14ERR,CHLORA,CHLORA_FLAG_W,CU,CU_FLAG_W,NI,NI_FLAG_W,THETA,SIG0
,,,,,,,,,,,METERS,DBAR,,ITS-90,,PSS-78,,PSS-78,,UMOL/KG,,UMOL/KG,,UMOL/KG,,UMOL/KG,,UMOL/KG,,UMOL/KG,,PMOL/KG,,PMOL/KG,,PMOL/KG,,FMOL/KG,,,,UMOL/KG,,UMOL/KG,,/MILLE,,/MILLE,,/MILLE,UG/KG,,UMOL/L,,UMOL/L,,ITS-90,KG/M^3
  49KA199905_1,  P01W,    35,  1,     24,     24,2,19990527,1705, 45.5563, 157.4685, 5036,     10.9,2,   3.1438,2,  31.8966,4,  32.9121,3,   289.03,4,   338.19,2,    39.73,2,    21.81,2,     0.24,2,     1.85,2, -999.000,9, -999.000,9, -999.000,9,-999.0000,9, -999.000,9,   -999.0,9,   -999.0,9, -999.000,9,   -999.0,9,   -999.0,  -999.00,9,   -999.0,9,   -999.0,9,   3.1432,  26.2060
  49KA199905_1,  P01W,    35,  1,     23,     23,2,19990527,1705, 45.5563, 157.4685, 5036,     50.2,2,   2.7609,2,  31.9344,4,  32.9530,3,   290.43,4,   338.91,2,    40.87,2,    22.46,2,     0.24,2,     1.88,2, -999.000,9, -999.000,9, -999.000,9,-999.0000,9, -999.000,9,   -999.0,9,   -999.0,9, -999.000,9,   -999.0,9,   -999.0,  -999.00,9,   -999.0,9,   -999.0,9,   2.7581,  26.2719
  49KA199905_1,  P01W,    35,  1,     22,     22,2,19990527,1705, 45.5563, 157.4685, 5036,    101.1,2,   1.1933,2,  32.1284,4,  33.1330,3,   280.98,4,   324.50,2,    47.77,2,    26.41,2,     0.32,2,     2.11,2, -999.000,9, -999.000,9, -999.000,9,-999.0000,9, -999.000,9,   -999.0,9,   -999.0,9, -999.000,9,   -999.0,9,   -999.0,  -999.00,9,   -999.0,9,   -999.0,9,   1.1889,  26.5323
  49KA199905_1,  P01W,    35,  1,     21,     21,2,19990527,1705, 45.5563, 157.4685, 5036,    151.0,2,   3.3040,2,  32.7472,4,  33.7811,3,    30.21,4,    59.55,2,    87.17,2,    42.87,2,     0.01,2,     3.06,2, -999.000,9, -999.000,9, -999.000,9,-999.0000,9, -999.000,9,   -999.0,9,   -999.0,9, -999.000,9,   -999.0,9,   -999.0,  -999.00,9,   -999.0,9,   -999.0,9,   3.2946,  26.8852
  49KA199905_1,  P01W,    35,  1,     20,     20,2,19990527,1705, 45.5563, 157.4685, 5036,    201.2,2,   3.4392,2,  32.8797,4,  33.9205,3,     4.27,4,    27.84,2,    97.51,2,    45.06,2,     0.01,2,     3.18,2, -999.000,9, -999.000,9, -999.000,9,-999.0000,9, -999.000,9,   -999.0,9,   -999.0,9, -999.000,9,   -999.0,9,   -999.0,  -999.00,9,   -999.0,9,   -999.0,9,   3.4263,  26.9840
  49KA199905_1,  P01W,    35,  1,     19,     19,2,19990527,1705, 45.5563, 157.4685, 5036,    250.7,2,   3.4548,2,  32.9540,4,  33.8422,3,    -1.75,4,    18.17,2,   104.01,2,    45.01,2,     0.01,2,     3.20,2, -999.000,9, -999.000,9, -999.000,9,-999.0000,9, -999.000,9,   -999.0,9,   -999.0,9, -999.000,9,   -999.0,9,   -999.0,  -999.00,9,   -999.0,9,   -999.0,9,   3.4386,  26.9204
  49KA199905_1,  P01W,    35,  1,     18,     18,2,19990527,1705, 45.5563, 157.4685, 5036,    300.6,2,   3.4305,2,  33.0131,4,  34.0591,3,    -3.88,4,    17.01,2,   109.37,2,    44.90,2,     0.00,2,     3.18,2, -999.000,9, -999.000,9, -999.000,9,-999.0000,9, -999.000,9,   -999.0,9,   -999.0,9, -999.000,9,   -999.0,9,   -999.0,  -999.00,9,   -999.0,9,   -999.0,9,   3.4109,  27.0959
  49KA199905_1,  P01W,    35,  1,     17,     17,2,19990527,1705, 45.5563, 157.4685, 5036,    349.9,2,   3.3944,2,  33.0717,4,  34.1198,3,    -5.63,4,    14.79,3,   114.80,2,    44.63,2,     0.01,2,     3.16,2, -999.000,9, -999.000,9, -999.000,9,-999.0000,9, -999.000,9,   -999.0,9,   -999.0,9, -999.000,9,   -999.0,9,   -999.0,  -999.00,9,   -999.0,9,   -999.0,9,   3.3716,  27.1480
  49KA199905_1,  P01W,    35,  1,     16,     16,2,19990527,1705, 45.5563, 157.4685, 5036,    402.0,2,   3.3063,2,  33.1169,4,  34.1641,3,    -4.03,4,    17.01,2,   119.34,2,    44.25,2,     0.00,2,     3.13,2, -999.000,9, -999.000,9, -999.000,9,-999.0000,9, -999.000,9,   -999.0,9,   -999.0,9, -999.000,9,   -999.0,9,   -999.0,  -999.00,9,   -999.0,9,   -999.0,9,   3.2802,  27.1920
  49KA199905_1,  P01W,    35,  1,     15,     15,2,19990527,1705, 45.5563, 157.4685, 5036,    499.8,2,   3.1748,2,  33.1852,4,  34.2375,3,    -5.62,4,    16.30,2,   127.24,2,    44.11,2,     0.00,2,     3.13,2, -999.000,9, -999.000,9, -999.000,9,-999.0000,9, -999.000,9,   -999.0,9,   -999.0,9, -999.000,9,   -999.0,9,   -999.0,  -999.00,9,   -999.0,9,   -999.0,9,   3.1424,  27.2634
  49KA199905_1,  P01W,    35,  1,     14,     14,2,19990527,1705, 45.5563, 157.4685, 5036,    600.2,2,   2.9709,2,  33.2435,4,  34.2997,3,    -3.26,4,    19.41,2,   134.55,2,    43.89,2,     0.00,2,     3.13,2, -999.000,9, -999.000,9, -999.000,9,-999.0000,9, -999.000,9,   -999.0,9,   -999.0,9, -999.000,9,   -999.0,9,   -999.0,  -999.00,9,   -999.0,9,   -999.0,9,   2.9324,  27.3322
  49KA199905_1,  P01W,    35,  1,     13,     13,2,19990527,1705, 45.5563, 157.4685, 5036,    701.1,2,   2.8554,2,  33.2805,4,  34.3371,3,    -2.73,4,    18.87,2,   139.12,2,    43.82,2,     0.01,2,     3.12,2, -999.000,9, -999.000,9, -999.000,9,-999.0000,9, -999.000,9,   -999.0,9,   -999.0,9, -999.000,9,   -999.0,9,   -999.0,  -999.00,9,   -999.0,9,   -999.0,9,   2.8104,  27.3729
  49KA199905_1,  P01W,    35,  1,     12,     12,2,19990527,1705, 45.5563, 157.4685, 5036,    800.8,2,   2.7171,2,  33.3268,4,  34.3857,3,    -2.61,4,    21.73,3,   145.38,2,    43.80,2,     0.00,2,     3.11,2, -999.000,9, -999.000,9, -999.000,9,-999.0000,9, -999.000,9,   -999.0,9,   -999.0,9, -999.000,9,   -999.0,9,   -999.0,  -999.00,9,   -999.0,9,   -999.0,9,   2.6660,  27.4244
  49KA199905_1,  P01W,    35,  1,     11,     11,2,19990527,1705, 45.5563, 157.4685, 5036,   1000.4,2,   2.4108,2,  33.3910,4,  34.4605,3,     5.49,4,    31.67,2,   154.12,2,    43.22,2,     0.00,2,     3.07,2, -999.000,9, -999.000,9, -999.000,9,-999.0000,9, -999.000,9,   -999.0,9,   -999.0,9, -999.000,9,   -999.0,9,   -999.0,  -999.00,9,   -999.0,9,   -999.0,9,   2.3476,  27.5113
  49KA199905_1,  P01W,    35,  1,     10,     10,2,19990527,1705, 45.5563, 157.4685, 5036,   1250.3,2,   2.1730,2,  33.4409,4,  34.5244,3,    18.17,4,    45.63,2,   158.37,2,    42.29,2,     0.01,2,     3.00,2, -999.000,9, -999.000,9, -999.000,9,-999.0000,9, -999.000,9,   -999.0,9,   -999.0,9, -999.000,9,   -999.0,9,   -999.0,  -999.00,9,   -999.0,9,   -999.0,9,   2.0937,  27.5832
  49KA199905_1,  P01W,    35,  1,      9,      9,2,19990527,1705, 45.5563, 157.4685, 5036,   1499.3,2,   2.0003,2,  33.4675,4,  34.5656,3,    27.96,4,    58.72,2,   161.27,2,    41.53,2,     0.00,2,     2.94,2, -999.000,9, -999.000,9, -999.000,9,-999.0000,9, -999.000,9,   -999.0,9,   -999.0,9, -999.000,9,   -999.0,9,   -999.0,  -999.00,9,   -999.0,9,   -999.0,9,   1.9041,  27.6312
  49KA199905_1,  P01W,    35,  1,      8,      8,2,19990527,1705, 45.5563, 157.4685, 5036,   1749.8,2,   1.8644,2,  33.4849,4,  34.5957,3,    39.75,4,    72.79,2,   161.46,2,    40.71,2,     0.00,2,     2.87,2, -999.000,9, -999.000,9, -999.000,9,-999.0000,9, -999.000,9,   -999.0,9,   -999.0,9, -999.000,9,   -999.0,9,   -999.0,  -999.00,9,   -999.0,9,   -999.0,9,   1.7504,  27.6671
  49KA199905_1,  P01W,    35,  1,      7,      7,2,19990527,1705, 45.5563, 157.4685, 5036,   2000.4,2,   1.7515,2,  33.4962,4,  34.6208,3,    54.54,4,    90.45,2,   158.28,2,    39.62,2,     0.00,2,     2.79,2, -999.000,9, -999.000,9, -999.000,9,-999.0000,9, -999.000,9,   -999.0,9,   -999.0,9, -999.000,9,   -999.0,9,   -999.0,  -999.00,9,   -999.0,9,   -999.0,9,   1.6188,  27.6971
  49KA199905_1,  P01W,    35,  1,      6,      6,2,19990527,1705, 45.5563, 157.4685, 5036,   2499.8,2,   1.5807,2,  33.4980,4,  34.6519,3,    77.91,4,   118.17,2,   152.72,2,    38.02,2,     0.00,2,     2.65,2, -999.000,9, -999.000,9, -999.000,9,-999.0000,9, -999.000,9,   -999.0,9,   -999.0,9, -999.000,9,   -999.0,9,   -999.0,  -999.00,9,   -999.0,9,   -999.0,9,   1.4083,  27.7374
  49KA199905_1,  P01W,    35,  1,      5,      5,2,19990527,1705, 45.5563, 157.4685, 5036,   3000.4,2,   1.4909,2,  33.4951,4,  34.6623,3,    90.83,4,   129.12,2,   150.01,2,    37.19,2,     0.00,2,     2.59,2, -999.000,9, -999.000,9, -999.000,9,-999.0000,9, -999.000,9,   -999.0,9,   -999.0,9, -999.000,9,   -999.0,9,   -999.0,  -999.00,9,   -999.0,9,   -999.0,9,   1.2744,  27.7553
  49KA199905_1,  P01W,    35,  1,      4,      4,2,19990527,1705, 45.5563, 157.4685, 5036,   3499.8,2,   1.4479,2,  33.4838,4,  34.6761,3,   100.61,4,   145.28,2,   146.80,2,    36.34,2,     0.00,2,     2.52,2, -999.000,9, -999.000,9, -999.000,9,-999.0000,9, -999.000,9,   -999.0,9,   -999.0,9, -999.000,9,   -999.0,9,   -999.0,  -999.00,9,   -999.0,9,   -999.0,9,   1.1831,  27.7727
  49KA199905_1,  P01W,    35,  1,      3,      3,2,19990527,1705, 45.5563, 157.4685, 5036,   4000.6,2,   1.4428,2,  33.4588,4,  34.6804,3,   107.13,4,   153.14,2,   144.56,2,    35.65,2,     0.00,2,     2.47,2, -999.000,9, -999.000,9, -999.000,9,-999.0000,9, -999.000,9,   -999.0,9,   -999.0,9, -999.000,9,   -999.0,9,   -999.0,  -999.00,9,   -999.0,9,   -999.0,9,   1.1254,  27.7801
  49KA199905_1,  P01W,    35,  1,      2,      2,2,19990527,1705, 45.5563, 157.4685, 5036,   4500.7,2,   1.4676,2,  33.4301,4,  34.6887,3,   110.76,4,   157.49,2,   144.49,2,    35.51,2,     0.00,2,     2.46,2, -999.000,9, -999.000,9, -999.000,9,-999.0000,9, -999.000,9,   -999.0,9,   -999.0,9, -999.000,9,   -999.0,9,   -999.0,  -999.00,9,   -999.0,9,   -999.0,9,   1.0936,  27.7889
  49KA199905_1,  P01W,    35,  1,      1,      1,2,19990527,1705, 45.5563, 157.4685, 5036,   5120.8,2,   1.5296,2,  33.4028,4,  34.6892,3,   113.55,4,   156.16,2,   145.12,2,    35.33,2,     0.00,2,     2.46,2, -999.000,9, -999.000,9, -999.000,9,-999.0000,9, -999.000,9,   -999.0,9,   -999.0,9, -999.000,9,   -999.0,9,   -999.0,  -999.00,9,   -999.0,9,   -999.0,9,   1.0796,  27.7903
  49KA199905_1,  P01W,    36,  1,     24,     24,2,19990527,2330, 46.0723, 158.3310, 4837,     10.3,2,   3.2045,2,  32.9172,1,  32.9161,2,   293.26,1,   337.54,2,    40.08,2,    21.56,2,     0.24,2,     1.83,2,    5.734,2,    2.783,2,    0.488,2,   0.3606,2,    7.646,3,   2222.6,2,   2101.2,2, -999.000,1,   -999.0,9,   -999.0,     0.48,2,   -999.0,1,   -999.0,1,   3.2039,  26.2038
  49KA199905_1,  P01W,    36,  1,     23,     23,2,19990527,2330, 46.0723, 158.3310, 4837,     50.5,2,   2.7233,2,  32.9434,1,  32.9613,4,   293.35,1,   336.83,4,    41.46,3,    22.64,3,     0.26,3,     1.88,3,    5.827,4,    2.828,4,    0.499,4,   0.4534,4,    7.634,4,   2224.2,4,   2098.8,4, -999.000,1,   -999.0,9,   -999.0,     0.39,2,   -999.0,1,   -999.0,1,   2.7205,  26.2817
  49KA199905_1,  P01W,    36,  1,     22,     22,2,19990527,2330, 46.0723, 158.3310, 4837,    100.4,2,   1.2925,2,  33.1116,1,  33.1132,2,   281.49,1,   321.45,2,    47.32,2,    26.04,2,     0.31,2,     2.08,2,    5.763,2,    2.795,2,    0.538,2,   0.4946,2,    7.568,3,   2235.4,2,   2154.9,2, -999.000,1,   -999.0,9,   -999.0,     0.07,2,   -999.0,1,   -999.0,1,   1.2881,  26.5100
  49KA199905_1,  P01W,    36,  1,     21,     21,2,19990527,2330, 46.0723, 158.3310, 4837,    149.7,2,   3.0727,2,  33.7469,1,  33.7473,2,    48.09,1,    78.10,2,    86.75,2,    41.83,2,     0.01,2,     3.03,2,    2.494,2,    1.139,2,    0.197,2,   0.2501,2,    7.333,3,   2277.3,2,   2299.6,2, -999.000,1,   -999.0,9,   -999.0,     0.01,2,   -999.0,9,   -999.0,9,   3.0637,  26.8794
  49KA199905_1,  P01W,    36,  1,     20,     20,2,19990527,2330, 46.0723, 158.3310, 4837,    199.8,2,   3.4246,2,  33.9380,1,  33.9381,2,     3.74,1,    24.45,2,   100.79,2,    44.60,2,     0.00,2,     3.22,2,    1.505,2,    0.663,2,    0.105,2,   0.1673,2,    7.270,3,   2299.4,2,   2342.9,2, -999.000,1,   -999.0,9,   -999.0,     0.00,2,   -999.0,9,   -999.0,9,   3.4118,  26.9994
  49KA199905_1,  P01W,    36,  1,     19,     19,2,19990527,2330, 46.0723, 158.3310, 4837,    251.1,2,   3.4545,2,  34.0275,1,  34.0287,2,    -2.79,1,    17.02,2,   107.86,2,    44.53,2,     0.01,2,     3.23,2,    1.065,2,    0.468,2,    0.066,2,   0.0977,2,    7.275,3,   2315.1,2,   2348.4,2, -999.000,1,   -999.0,9,   -999.0,     0.00,2,   -999.0,1,   -999.0,1,   3.4382,  27.0691
  49KA199905_1,  P01W,    36,  1,     18,     18,2,19990527,2330, 46.0723, 158.3310, 4837,    301.0,2,   3.4148,2,  34.1006,1,  34.1014,2,    -4.81,1,    15.48,2,   114.37,2,    44.62,2,     0.00,2,     3.20,2,    0.740,2,    0.317,2,    0.052,2,   0.0743,2,    7.290,3,   2324.5,2,   2355.7,2, -999.000,1,   -999.0,9,   -999.0,     0.00,2,   -999.0,9,   -999.0,9,   3.3952,  27.1311
  49KA199905_1,  P01W,    36,  1,     17,     17,2,19990527,2330, 46.0723, 158.3310, 4837,    349.8,2,   3.4003,2,  34.1388,1,  34.1413,2,    -3.53,1,    17.08,3,   117.52,2,    44.18,2,     0.00,2,     3.15,2,    0.607,2,    0.270,2,    0.031,2,   0.0444,2,    7.303,3,   2326.4,2,   -999.0,9, -999.000,1,   -999.0,9,   -999.0,  -999.00,9,   -999.0,9,   -999.0,9,   3.3774,  27.1646
  49KA199905_1,  P01W,    36,  1,     16,     16,2,19990527,2330, 46.0723, 158.3310, 4837,    400.9,2,   3.3143,2,  34.1827,1,  34.1862,2,    -4.58,1,    16.20,2,   122.37,2,    44.08,2,     0.00,2,     3.15,2,    0.470,2,    0.190,2,    0.025,2,   0.0246,2,    7.322,3,   2337.2,2,   2366.9,2, -999.000,1,   -999.0,9,   -999.0,  -999.00,9,   -999.0,9,   -999.0,9,   3.2882,  27.2088
  49KA199905_1,  P01W,    36,  1,     15,     15,2,19990527,2330, 46.0723, 158.3310, 4837,    501.5,2,   3.1302,2,  34.2639,1,  34.2650,2,    -5.16,1,    15.85,2,   131.25,2,    43.84,2,     0.00,2,     3.15,2,    0.295,2,    0.114,2,    0.021,2,   0.0068,2,    7.327,3,   2350.5,2,   2374.9,2, -999.000,1,   -999.0,9,   -999.0,  -999.00,9,   -999.0,1,   -999.0,1,   3.0979,  27.2894
  49KA199905_1,  P01W,    36,  1,     14,     14,2,19990527,2330, 46.0723, 158.3310, 4837,    600.9,2,   2.9969,2,  34.3081,1,  34.3097,2,    -4.76,1,    15.42,2,   136.66,2,    43.98,2,     0.00,2,     3.14,2,    0.218,2,    0.078,2,    0.018,2,   0.0025,2,    7.335,3,   2355.5,2,   2375.6,2, -999.000,1,   -999.0,9,   -999.0,  -999.00,9,   -999.0,9,   -999.0,9,   2.9582,  27.3378
  49KA199905_1,  P01W,    36,  1,     13,     13,2,19990527,2330, 46.0723, 158.3310, 4837,    699.9,2,   2.8517,2,  34.3511,1,  34.3520,2,    -4.69,1,    16.32,2,   142.43,2,    43.83,2,     0.00,2,     3.16,2,    0.162,2,    0.054,2,    0.000,2,   0.0016,2,    7.345,3,   2369.2,2,   2376.2,2, -999.000,1,   -999.0,9,   -999.0,  -999.00,9,   -999.0,9,   -999.0,9,   2.8068,  27.3851
  49KA199905_1,  P01W,    36,  1,     12,     12,2,19990527,2330, 46.0723, 158.3310, 4837,    800.6,2,   2.7254,2,  34.3865,1,  34.3883,2,    -3.77,1,    18.37,3,   146.74,3,    43.69,2,     0.00,2,     3.15,3,    0.122,2,    0.032,2,    0.000,2,   0.0097,2,    7.353,3,   2364.6,3,   2382.2,2, -999.000,1,   -999.0,9,   -999.0,  -999.00,9,   -999.0,9,   -999.0,9,   2.6743,  27.4258
  49KA199905_1,  P01W,    36,  1,     11,     11,2,19990527,2330, 46.0723, 158.3310, 4837,    999.8,2,   2.4360,2,  34.4571,1,  34.4593,2,     1.72,1,    25.40,2,   156.16,3,    43.08,2,     0.00,2,     3.11,3,    0.086,2,    0.012,2,    0.007,2,   0.0011,2,    7.363,3,   2388.1,2,   2390.2,2, -999.000,1,   -999.0,9,   -999.0,  -999.00,9,   -999.0,1,   -999.0,1,   2.3726,  27.5083
  49KA199905_1,  P01W,    36,  1,     10,     10,2,19990527,2330, 46.0723, 158.3310, 4837,   1250.4,2,   2.1901,2,  34.5165,1,  34.5180,2,    12.17,1,    37.66,2,   161.20,3,    42.12,3,     0.00,2,     3.05,3,    0.009,2,    0.012,2,    0.000,2,-999.0000,9,    7.405,3,   2399.2,2,   2385.5,2, -999.000,1,   -999.0,9,   -999.0,  -999.00,9,   -999.0,9,   -999.0,9,   2.1106,  27.5767
  49KA199905_1,  P01W,    36,  1,      9,      9,2,19990527,2330, 46.0723, 158.3310, 4837,   1499.6,2,   2.0223,2,  34.5579,1,  34.5588,2,    26.69,1,    55.23,2,   162.38,3,    41.54,2,     0.00,2,     2.99,3,    0.006,2,    0.000,2,    0.004,2,   0.0005,2,    7.423,2,   2405.2,2,   2380.5,2, -999.000,1,   -999.0,9,   -999.0,  -999.00,9,   -999.0,1,   -999.0,1,   1.9258,  27.6240
  49KA199905_1,  P01W,    36,  1,      8,      8,2,19990527,2330, 46.0723, 158.3310, 4837,   1748.9,2,   1.8743,2,  34.5932,1,  34.5947,2,    41.85,1,    73.70,2,   162.06,3,    40.30,2,     0.00,2,     2.90,3,    0.004,2,    0.000,2,    0.000,2,-999.0000,9,    7.433,2,   2409.2,2,   2371.4,2, -999.000,1,   -999.0,9,   -999.0,  -999.00,9,   -999.0,9,   -999.0,9,   1.7602,  27.6656
  49KA199905_1,  P01W,    36,  1,      7,      7,2,19990527,2330, 46.0723, 158.3310, 4837,   2000.9,2,   1.7616,2,  34.6174,1,  34.6185,2,    55.88,1,    88.00,2,   159.43,3,    39.48,2,     0.00,2,     2.82,3,    0.000,2,    0.000,2,    0.008,2,   0.0000,2,    7.473,2,   2412.3,2,   2360.8,2, -999.000,1,   -999.0,9,   -999.0,  -999.00,9,   -999.0,1,   -999.0,1,   1.6287,  27.6945
  49KA199905_1,  P01W,    36,  1,      6,      6,2,19990527,2330, 46.0723, 158.3310, 4837,   2500.1,2,   1.5937,2,  34.6486,1,-999.0000,9,    71.54,1,  -999.00,9,  -999.00,9,  -999.00,9,  -999.00,9,  -999.00,9, -999.000,9, -999.000,9, -999.000,9,-999.0000,9, -999.000,9,   -999.0,9,   -999.0,9, -999.000,9,   -999.0,9,   -999.0,  -999.00,9,   -999.0,9,   -999.0,9,-999.0000,-999.0000
  49KA199905_1,  P01W,    36,  1,      5,      5,2,19990527,2330, 46.0723, 158.3310, 4837,   3000.6,2,   1.5004,2,  34.6660,1,  34.6680,2,    91.26,1,   132.54,2,   151.00,3,    36.80,2,     0.00,2,     2.61,3,    0.000,2,    0.000,2,    0.000,2,   0.0000,2,    7.546,2,   2414.4,2,   2337.8,2, -999.000,1,   -999.0,9,   -999.0,  -999.00,9,   -999.0,1,   -999.0,1,   1.2836,  27.7592
  49KA199905_1,  P01W,    36,  1,      4,      4,2,19990527,2330, 46.0723, 158.3310, 4837,   3500.8,2,   1.4517,2,  34.6766,1,  34.6784,2,   101.48,1,   145.79,2,   147.34,3,    35.80,2,     0.00,2,     2.54,3,    0.000,2,    0.000,2,    0.000,2,-999.0000,9,    7.548,2,   2414.3,2,   2330.8,2, -999.000,1,   -999.0,9,   -999.0,  -999.00,9,   -999.0,9,   -999.0,9,   1.1867,  27.7743
  49KA199905_1,  P01W,    36,  1,      3,      3,2,19990527,2330, 46.0723, 158.3310, 4837,   4000.6,2,   1.4422,2,  34.6826,1,  34.6865,2,   108.46,1,   153.19,2,   145.77,3,    35.52,2,     0.00,2,     2.49,3,    0.000,2,    0.000,2,    0.003,2,   0.0021,2,    7.561,2,   2415.9,2,   2322.6,2, -999.000,1,   -999.0,9,   -999.0,  -999.00,9,   -999.0,1,   -999.0,1,   1.1248,  27.7850
  49KA199905_1,  P01W,    36,  1,      2,      2,2,19990527,2330, 46.0723, 158.3310, 4837,   4501.1,2,   1.4666,2,  34.6857,1,  34.6869,2,   112.46,1,   169.19,4,   145.32,3,    35.27,2,     0.00,2,     2.47,3,    0.003,2,    0.000,2,    0.005,2,-999.0000,9,    7.590,3,   2417.4,2,   2322.2,2, -999.000,9,   -999.0,9,   -999.0,  -999.00,9,   -999.0,9,   -999.0,9,   1.0925,  27.7875
  49KA199905_1,  P01W,    36,  1,      1,      1,2,19990527,2330, 46.0723, 158.3310, 4837,   4911.8,2,   1.5075,2,  34.6864,1,  34.6915,2,   114.38,1,   157.92,2,   146.25,3,    35.02,2,     0.00,2,     2.49,3,    0.021,3,    0.009,2,    0.000,2,   0.0000,2,    7.593,2,   2414.2,2,   2319.9,2, -999.000,1,   -999.0,9,   -999.0,  -999.00,9,   -999.0,9,   -999.0,9,   1.0837,  27.7918