BOTTLE,20220921CCHSIOAMB
EXPOCODE,SECT_ID,STNNBR,CASTNO,SAMPNO,BTLNBR,BTLNBR_FLAG_W,DATE,TIME,LATITUDE,LONGITUDE,DEPTH,CTDPRS,CTDPRS_FLAG_W,CTDTMP,CTDTMP_FLAG_W,CTDSAL,CTDSAL_FLAG_W,SALNTY,SALNTY_FLAG_W,CTDOXY,CTDOXY_FLAG_W,OXYGEN,OXYGEN_FLAG_W,SILCAT,SILCAT_FLAG_W,NITRAT,NITRAT_FLAG_W,NITRIT,NITRIT_FLAG_W,PHSPHT,PHSPHT_FLAG_W,CFC-11,CFC-11_FLAG_W,CFC-12,CFC-12_FLAG_W,CFC113,CFC113_FLAG_W,SF6,SF6_FLAG_W,PH,PH_FLAG_W,ALKALI,ALKALI_FLAG_W,TCARBN,TCARBN_FLAG_W,DELC13,DELC13_FLAG_W,DELC14,DELC14_FLAG_W,C14ERR,CHLORA,CHLORA_FLAG_W,CU,CU_FLAG_W,NI,NI_FLAG_W,THETA,SIG0
,,,,,,,,,,,METERS,DBAR,,ITS-90,,PSS-78,,PSS-78,,UMOL/KG,,UMOL/KG,,UMOL/KG,,UMOL/KG,,UMOL/KG,,UMOL/KG,,PMOL/KG,,PMOL/KG,,PMOL/KG,,FMOL/KG,,,,UMOL/KG,,UMOL/KG,,/MILLE,,/MILLE,,/MILLE,UG/KG,,UMOL/L,,UMOL/L,,ITS-90,KG/M^3
  49KA199905_1,  P01W,    64,  1,     24,     24,3,19990604,0037, 47.0040,-177.2127, 5715,      9.7,3,   5.3871,2,  32.9282,1,  32.9324,2,   285.36,1,   323.64,2,    27.25,2,    16.93,2,     0.27,2,     1.49,2,    5.030,2,    2.498,2,    0.409,2,   0.3258,2,    7.738,3,   2210.8,2,   2071.0,2, -999.000,1,   -999.0,9,   -999.0,     0.71,2,   -999.0,9,   -999.0,9,   5.3864,  25.9924
  49KA199905_1,  P01W,    64,  1,     23,     23,2,19990604,0037, 47.0040,-177.2127, 5715,     50.3,2,   5.1023,2,  32.9267,1,  32.9323,2,   281.23,1,   321.38,2,    27.30,2,    17.17,2,     0.28,2,     1.52,2, -999.000,9, -999.000,9, -999.000,9,   0.3258,2,    7.727,2,   2212.8,2,   2070.8,2, -999.000,1,   -999.0,9,   -999.0,     0.59,2,   -999.0,9,   -999.0,9,   5.0986,  26.0252
  49KA199905_1,  P01W,    64,  1,     22,     22,2,19990604,0037, 47.0040,-177.2127, 5715,    100.7,2,   4.2642,2,  32.9441,1,  32.9486,2,   278.85,1,   317.23,2,    28.22,2,    18.40,2,     0.49,2,     1.60,2,    5.129,2,    2.536,2,    0.472,2,   0.2687,2,    7.700,2,   2216.5,2,   2085.8,2, -999.000,1,   -999.0,9,   -999.0,     0.08,2,   -999.0,9,   -999.0,9,   4.2573,  26.1285
  49KA199905_1,  P01W,    64,  1,     21,     21,2,19990604,0037, 47.0040,-177.2127, 5715,    149.8,2,   3.6982,2,  32.9804,1,  32.9821,2,   273.84,1,   312.65,2,    30.29,2,    19.67,2,     0.12,2,     1.65,2,    5.156,2,    2.540,2,    0.460,2,   0.2702,2,    7.678,2,   2221.8,2,   2090.8,2, -999.000,1,   -999.0,9,   -999.0,     0.03,2,   -999.0,9,   -999.0,9,   3.6886,  26.2115
  49KA199905_1,  P01W,    64,  1,     20,     20,2,19990604,0037, 47.0040,-177.2127, 5715,    199.9,2,   4.5646,2,  33.6344,1,  33.6554,4,   118.80,1,   153.73,4,    57.76,3,    31.75,3,     0.00,3,     2.37,3,    3.326,4,    1.571,4,    0.235,4,   0.2340,4,    7.470,4,   2264.9,4,   2220.5,4, -999.000,1,   -999.0,9,   -999.0,     0.00,2,   -999.0,9,   -999.0,9,   4.5501,  26.6590
  49KA199905_1,  P01W,    64,  1,     19,     19,2,19990604,0037, 47.0040,-177.2127, 5715,    250.7,2,   3.8984,2,  33.7251,1,  33.7306,2,   108.69,1,   133.96,2,    67.25,2,    34.06,2,     0.00,2,     2.54,2,    3.104,2,    1.452,2,    0.208,2,   0.2417,2,    7.407,2,   2277.1,2,   2242.5,2, -999.000,1,   -999.0,9,   -999.0,     0.00,2,   -999.0,9,   -999.0,9,   3.8814,  26.7883
  49KA199905_1,  P01W,    64,  1,     18,     18,2,19990604,0037, 47.0040,-177.2127, 5715,    299.7,2,   3.8161,2,  33.8048,1,  33.8095,2,    83.80,1,   108.61,2,    76.33,2,    36.54,2,     0.00,2,     2.69,2,    2.601,2,    1.179,2,    0.171,2,   0.1268,2,    7.366,2,   2287.5,2,   2267.5,2, -999.000,1,   -999.0,9,   -999.0,     0.00,2,   -999.0,9,   -999.0,9,   3.7958,  26.8597
  49KA199905_1,  P01W,    64,  1,     17,     17,2,19990604,0037, 47.0040,-177.2127, 5715,    350.1,2,   3.7161,2,  33.8782,1,  33.8839,2,    55.62,1,    79.41,3,    85.89,2,    39.34,2,     0.00,2,     2.86,2,    2.105,2,    0.947,2,    0.127,2,   0.0332,2,    7.329,2,   2296.1,2,   2294.1,2, -999.000,1,   -999.0,9,   -999.0,  -999.00,9,   -999.0,9,   -999.0,9,   3.6925,  26.9291
  49KA199905_1,  P01W,    64,  1,     16,     16,2,19990604,0037, 47.0040,-177.2127, 5715,    400.7,2,   3.6754,2,  33.9536,1,  33.9556,2,    42.36,1,    65.51,2,    93.40,2,    40.37,2,     0.00,2,     2.93,2,    1.727,2,    0.780,2,    0.090,2,   0.0000,2,    7.324,2,   2301.8,2,   2305.3,2, -999.000,1,   -999.0,9,   -999.0,  -999.00,9,   -999.0,9,   -999.0,9,   3.6483,  26.9905
  49KA199905_1,  P01W,    64,  1,     15,     15,2,19990604,0037, 47.0040,-177.2127, 5715,    498.7,2,   3.6277,2,  34.0653,1,  34.0675,2,    22.64,1,    44.17,2,   105.01,2,    41.90,2,     0.00,2,     3.03,2,    1.091,2,    0.495,2,    0.063,2,   0.0055,2,    7.314,2,   2336.1,2,   2337.0,2, -999.000,1,   -999.0,9,   -999.0,  -999.00,9,   -999.0,9,   -999.0,9,   3.5937,  27.0850
  49KA199905_1,  P01W,    64,  1,     14,     14,2,19990604,0037, 47.0040,-177.2127, 5715,    600.2,2,   3.5386,2,  34.1531,1,  34.1579,2,    14.19,1,    35.74,2,   114.15,2,    42.40,2,     0.00,2,     3.05,2,    0.701,2,    0.304,2,    0.035,2,   0.0006,2,    7.314,2,   2337.4,2,   2335.3,2, -999.000,1,   -999.0,9,   -999.0,  -999.00,9,   -999.0,9,   -999.0,9,   3.4975,  27.1663
  49KA199905_1,  P01W,    64,  1,     13,     13,2,19990604,0037, 47.0040,-177.2127, 5715,    799.9,2,   3.2027,2,  34.2812,1,  34.2835,2,     6.50,1,    28.79,2,   129.57,2,    42.99,2,     0.00,2,     3.10,2,    0.316,2,    0.136,2,    0.021,2,   0.0076,2,    7.322,2,   2355.5,2,   2358.3,2, -999.000,1,   -999.0,9,   -999.0,  -999.00,9,   -999.0,9,   -999.0,9,   3.1487,  27.2995
  49KA199905_1,  P01W,    64,  1,     12,     12,2,19990604,0037, 47.0040,-177.2127, 5715,   1000.3,2,   2.8753,2,  34.3669,1,  34.3691,2,     3.52,1,    26.60,3,   140.41,2,    43.04,2,     0.00,2,     3.11,2,    0.156,2,    0.062,2,    0.000,2,   0.0000,2,    7.331,2,   2369.2,2,   2368.6,2, -999.000,1,   -999.0,9,   -999.0,  -999.00,9,   -999.0,9,   -999.0,9,   2.8086,  27.3986
  49KA199905_1,  P01W,    64,  1,     11,     11,2,19990604,0037, 47.0040,-177.2127, 5715,   1250.7,2,   2.5413,2,  34.4442,1,  34.4483,2,     5.36,1,    30.31,2,   151.50,2,    43.12,2,     0.00,2,     3.11,2,    0.086,2,    0.035,2,    0.000,2,-999.0000,9,    7.344,2,   2387.8,2,   2373.4,2, -999.000,1,   -999.0,9,   -999.0,  -999.00,9,   -999.0,9,   -999.0,9,   2.4585,  27.4923
  49KA199905_1,  P01W,    64,  1,     10,     10,2,19990604,0037, 47.0040,-177.2127, 5715,   1499.6,2,   2.2859,2,  34.5029,1,  34.5047,2,    11.43,1,    38.22,2,   158.27,2,    42.77,2,     0.00,2,     3.07,2,    0.016,2,    0.016,2,    0.000,2,-999.0000,9,    7.363,2,   2402.1,2,   2391.8,2, -999.000,1,   -999.0,9,   -999.0,  -999.00,9,   -999.0,9,   -999.0,9,   2.1865,  27.5599
  49KA199905_1,  P01W,    64,  1,      9,      9,2,19990604,0037, 47.0040,-177.2127, 5715,   1749.8,2,   2.0902,2,  34.5487,1,  34.5513,2,    21.08,1,    50.17,2,   161.75,2,    42.09,2,     0.00,2,     3.01,2,    0.007,2,    0.000,2,    0.000,2,-999.0000,9,    7.388,2,   2407.1,2,   2390.7,2, -999.000,1,   -999.0,9,   -999.0,  -999.00,9,   -999.0,9,   -999.0,9,   1.9733,  27.6143
  49KA199905_1,  P01W,    64,  1,      8,      8,2,19990604,0037, 47.0040,-177.2127, 5715,   1999.7,2,   1.9374,2,  34.5818,1,  34.5841,2,    32.02,1,    62.84,2,   164.17,2,    41.42,2,     0.00,2,     2.96,2,    0.002,2,    0.000,2,    0.000,2,-999.0000,9,    7.411,2,   2412.9,2,   2387.1,2, -999.000,1,   -999.0,9,   -999.0,  -999.00,9,   -999.0,9,   -999.0,9,   1.8022,  27.6539
  49KA199905_1,  P01W,    64,  1,      7,      7,2,19990604,0037, 47.0040,-177.2127, 5715,   2500.5,2,   1.7225,2,  34.6261,1,  34.6286,2,    56.71,1,    91.34,2,   162.69,2,    39.55,2,     0.00,2,     2.84,2,    0.001,2,    0.000,2,    0.000,2,-999.0000,9,    7.466,2,   2418.6,2,   2369.3,2, -999.000,1,   -999.0,9,   -999.0,  -999.00,9,   -999.0,9,   -999.0,9,   1.5474,  27.7086
  49KA199905_1,  P01W,    64,  1,      6,      6,2,19990604,0037, 47.0040,-177.2127, 5715,   3001.0,2,   1.5952,2,  34.6513,1,  34.6530,2,    75.11,1,   112.14,2,   159.22,2,    38.18,2,     0.00,2,     2.72,2,    0.003,2,    0.000,2,    0.000,2,-999.0000,9,    7.505,2,   2419.7,2,   2360.2,2, -999.000,1,   -999.0,9,   -999.0,  -999.00,9,   -999.0,9,   -999.0,9,   1.3764,  27.7406
  49KA199905_1,  P01W,    64,  1,      5,      5,2,19990604,0037, 47.0040,-177.2127, 5715,   3499.0,2,   1.5077,2,  34.6686,1,  34.6684,2,    90.95,1,   132.24,2,   155.28,2,    37.00,2,     0.00,2,     2.62,2,    0.000,2,    0.000,2,    0.002,2,-999.0000,9,    7.535,2,   2418.9,2,   2340.1,2, -999.000,1,   -999.0,9,   -999.0,  -999.00,9,   -999.0,9,   -999.0,9,   1.2416,  27.7625
  49KA199905_1,  P01W,    64,  1,      4,      4,2,19990604,0037, 47.0040,-177.2127, 5715,   4000.3,2,   1.4756,2,  34.6785,1,  34.6799,2,   101.04,1,   144.42,2,   153.07,2,    36.24,2,     0.00,2,     2.56,2,    0.000,2,    0.001,2,    0.000,2,-999.0000,9,    7.556,2,   2420.8,2,   2339.3,2, -999.000,1,   -999.0,9,   -999.0,  -999.00,9,   -999.0,9,   -999.0,9,   1.1574,  27.7775
  49KA199905_1,  P01W,    64,  1,      3,      3,2,19990604,0037, 47.0040,-177.2127, 5715,   4497.9,2,   1.4900,2,  34.6835,1,  34.6846,2,   105.61,1,   151.16,2,   153.45,2,    35.81,2,     0.00,2,     2.54,2,    0.000,2,    0.008,2,    0.004,2,-999.0000,9,    7.552,3,   2422.8,2,   2334.8,2, -999.000,9,   -999.0,9,   -999.0,  -999.00,9,   -999.0,9,   -999.0,9,   1.1156,  27.7841
  49KA199905_1,  P01W,    64,  1,      2,      2,2,19990604,0037, 47.0040,-177.2127, 5715,   4999.7,2,   1.5380,2,  34.6849,1,  34.6869,2,   107.38,1,   152.93,2,   154.83,2,    35.72,2,     0.00,2,     2.52,2,    0.001,2,    0.000,2,    0.001,2,-999.0000,9,    7.571,2,   2422.0,2,   2332.7,2, -999.000,1,   -999.0,9,   -999.0,  -999.00,9,   -999.0,9,   -999.0,9,   1.1025,  27.7869
  49KA199905_1,  P01W,    64,  1,      1,      1,2,19990604,0037, 47.0040,-177.2127, 5715,   5827.2,2,   1.6385,2,  34.6850,1,  34.6862,2,   110.45,1,   154.20,2,   154.12,2,    35.60,2,     0.00,2,     2.51,2,    0.018,3,    0.003,2,    0.000,2,-999.0000,9,    7.579,2,   2421.3,2,   2329.7,2, -999.000,1,   -999.0,9,   -999.0,  -999.00,9,   -999.0,9,   -999.0,9,   1.0943,  27.7869
  49KA199905_1,  P01W,    65,  1,     24,     24,2,19990604,0726, 47.0072,-176.0473, 5627,      9.5,2,   5.2223,2,  32.9244,1,  32.9285,2,   286.00,1,   325.14,2,    28.24,2,    17.09,2,     0.28,2,     1.51,2, -999.000,9, -999.000,9, -999.000,9,-999.0000,9, -999.000,9,   -999.0,9,   -999.0,9, -999.000,9,   -999.0,9,   -999.0,  -999.00,9,   -999.0,9,   -999.0,9,   5.2216,  26.0082
  49KA199905_1,  P01W,    65,  1,     23,     23,2,19990604,0726, 47.0072,-176.0473, 5627,     49.8,2,   4.8942,2,  32.9234,1,  32.9292,2,   283.17,1,   322.04,2,    28.47,2,    17.56,2,     0.30,2,     1.55,2, -999.000,9, -999.000,9, -999.000,9,-999.0000,9, -999.000,9,   -999.0,9,   -999.0,9, -999.000,9,   -999.0,9,   -999.0,  -999.00,9,   -999.0,9,   -999.0,9,   4.8906,  26.0458
  49KA199905_1,  P01W,    65,  1,     22,     22,2,19990604,0726, 47.0072,-176.0473, 5627,    100.4,2,   3.6583,2,  32.9483,1,  32.9527,2,   281.91,1,   318.90,2,    30.58,2,    19.35,2,     0.54,2,     1.67,2, -999.000,9, -999.000,9, -999.000,9,-999.0000,9, -999.000,9,   -999.0,9,   -999.0,9, -999.000,9,   -999.0,9,   -999.0,  -999.00,9,   -999.0,9,   -999.0,9,   3.6519,  26.1916
  49KA199905_1,  P01W,    65,  1,     21,     21,2,19990604,0726, 47.0072,-176.0473, 5627,    150.6,2,   4.1242,2,  33.4521,1,  33.4802,4,   176.41,1,   206.32,4,    48.25,3,    27.64,3,     0.03,3,     2.11,3, -999.000,9, -999.000,9, -999.000,9,-999.0000,9, -999.000,9,   -999.0,9,   -999.0,9, -999.000,9,   -999.0,9,   -999.0,  -999.00,9,   -999.0,9,   -999.0,9,   4.1139,  26.5657
  49KA199905_1,  P01W,    65,  1,     20,     20,2,19990604,0726, 47.0072,-176.0473, 5627,    200.1,2,   3.8782,2,  33.6862,1,  33.6942,2,   115.56,1,   139.80,2,    65.50,2,    33.96,2,     0.03,2,     2.53,2, -999.000,9, -999.000,9, -999.000,9,-999.0000,9, -999.000,9,   -999.0,9,   -999.0,9, -999.000,9,   -999.0,9,   -999.0,  -999.00,9,   -999.0,9,   -999.0,9,   3.8648,  26.7610
  49KA199905_1,  P01W,    65,  1,     19,     19,2,19990604,0726, 47.0072,-176.0473, 5627,    248.8,2,   3.7394,2,  33.7611,1,  33.7663,2,    81.77,1,   107.59,2,    75.11,2,    37.49,2,     0.02,2,     2.74,2, -999.000,9, -999.000,9, -999.000,9,-999.0000,9, -999.000,9,   -999.0,9,   -999.0,9, -999.000,9,   -999.0,9,   -999.0,  -999.00,9,   -999.0,9,   -999.0,9,   3.7228,  26.8325
  49KA199905_1,  P01W,    65,  1,     18,     18,2,19990604,0726, 47.0072,-176.0473, 5627,    299.6,2,   3.6366,2,  33.8511,1,  33.8556,2,    56.01,1,    79.57,2,    85.60,2,    40.15,2,     0.02,2,     2.92,2, -999.000,9, -999.000,9, -999.000,9,-999.0000,9, -999.000,9,   -999.0,9,   -999.0,9, -999.000,9,   -999.0,9,   -999.0,  -999.00,9,   -999.0,9,   -999.0,9,   3.6167,  26.9139
  49KA199905_1,  P01W,    65,  1,     17,     17,2,19990604,0726, 47.0072,-176.0473, 5627,    350.7,2,   3.6324,2,  33.9162,1,  33.9258,2,    43.47,1,    66.82,2,    92.34,2,    40.96,2,     0.02,2,     2.98,2, -999.000,9, -999.000,9, -999.000,9,-999.0000,9, -999.000,9,   -999.0,9,   -999.0,9, -999.000,9,   -999.0,9,   -999.0,  -999.00,9,   -999.0,9,   -999.0,9,   3.6090,  26.9706
  49KA199905_1,  P01W,    65,  1,     16,     16,2,19990604,0726, 47.0072,-176.0473, 5627,    400.3,2,   3.6372,2,  33.9888,1,-999.0000,9,    28.05,1,  -999.00,9,  -999.00,9,  -999.00,9,  -999.00,9,  -999.00,9, -999.000,9, -999.000,9, -999.000,9,-999.0000,9, -999.000,9,   -999.0,9,   -999.0,9, -999.000,9,   -999.0,9,   -999.0,  -999.00,9,   -999.0,9,   -999.0,9,-999.0000,-999.0000
  49KA199905_1,  P01W,    65,  1,     15,     15,2,19990604,0726, 47.0072,-176.0473, 5627,    500.6,2,   3.5711,2,  34.0896,1,  34.0923,2,    16.94,1,    40.18,2,   109.24,2,    42.72,2,     0.02,2,     3.09,2, -999.000,9, -999.000,9, -999.000,9,-999.0000,9, -999.000,9,   -999.0,9,   -999.0,9, -999.000,9,   -999.0,9,   -999.0,  -999.00,9,   -999.0,9,   -999.0,9,   3.5373,  27.1102
  49KA199905_1,  P01W,    65,  1,     14,     14,2,19990604,0726, 47.0072,-176.0473, 5627,    599.7,2,   3.4823,2,  34.1730,1,  34.1765,2,    10.51,1,    32.75,2,   117.38,2,    43.04,2,     0.02,2,     3.11,2, -999.000,9, -999.000,9, -999.000,9,-999.0000,9, -999.000,9,   -999.0,9,   -999.0,9, -999.000,9,   -999.0,9,   -999.0,  -999.00,9,   -999.0,9,   -999.0,9,   3.4415,  27.1865
  49KA199905_1,  P01W,    65,  1,     13,     13,2,19990604,0726, 47.0072,-176.0473, 5627,    799.1,2,   3.0968,2,  34.2980,1,  34.3015,2,     3.17,1,    25.96,2,   133.87,2,    43.71,2,     0.02,2,     3.16,2, -999.000,9, -999.000,9, -999.000,9,-999.0000,9, -999.000,9,   -999.0,9,   -999.0,9, -999.000,9,   -999.0,9,   -999.0,  -999.00,9,   -999.0,9,   -999.0,9,   3.0435,  27.3235
  49KA199905_1,  P01W,    65,  1,     12,     12,2,19990604,0726, 47.0072,-176.0473, 5627,   1000.2,2,   2.8297,2,  34.3757,1,  34.3786,2,     2.00,1,    26.64,2,   143.07,2,    43.63,2,     0.02,2,     3.15,2, -999.000,9, -999.000,9, -999.000,9,-999.0000,9, -999.000,9,   -999.0,9,   -999.0,9, -999.000,9,   -999.0,9,   -999.0,  -999.00,9,   -999.0,9,   -999.0,9,   2.7633,  27.4102
  49KA199905_1,  P01W,    65,  1,     11,     11,2,19990604,0726, 47.0072,-176.0473, 5627,   1250.4,2,   2.5155,2,  34.4508,1,  34.4531,2,     6.06,1,    32.81,2,   152.95,2,    43.48,2,     0.02,2,     3.13,2, -999.000,9, -999.000,9, -999.000,9,-999.0000,9, -999.000,9,   -999.0,9,   -999.0,9, -999.000,9,   -999.0,9,   -999.0,  -999.00,9,   -999.0,9,   -999.0,9,   2.4330,  27.4982
  49KA199905_1,  P01W,    65,  1,     10,     10,2,19990604,0726, 47.0072,-176.0473, 5627,   1499.7,2,   2.2721,2,  34.5082,1,  34.5101,2,    11.80,1,    39.37,2,   159.95,2,    43.25,2,     0.02,2,     3.10,2, -999.000,9, -999.000,9, -999.000,9,-999.0000,9, -999.000,9,   -999.0,9,   -999.0,9, -999.000,9,   -999.0,9,   -999.0,  -999.00,9,   -999.0,9,   -999.0,9,   2.1728,  27.5654
  49KA199905_1,  P01W,    65,  1,      9,      9,2,19990604,0726, 47.0072,-176.0473, 5627,   1750.3,2,   2.0815,2,  34.5511,1,  34.5530,2,    22.76,1,    49.67,2,   164.05,2,    42.37,2,     0.02,2,     3.05,2, -999.000,9, -999.000,9, -999.000,9,-999.0000,9, -999.000,9,   -999.0,9,   -999.0,9, -999.000,9,   -999.0,9,   -999.0,  -999.00,9,   -999.0,9,   -999.0,9,   1.9646,  27.6163
  49KA199905_1,  P01W,    65,  1,      8,      8,2,19990604,0726, 47.0072,-176.0473, 5627,   2000.4,2,   1.9586,2,  34.5793,1,  34.5816,2,    31.47,1,    61.99,2,   165.48,2,    41.80,2,     0.02,2,     2.99,2, -999.000,9, -999.000,9, -999.000,9,-999.0000,9, -999.000,9,   -999.0,9,   -999.0,9, -999.000,9,   -999.0,9,   -999.0,  -999.00,9,   -999.0,9,   -999.0,9,   1.8230,  27.6503
  49KA199905_1,  P01W,    65,  1,      7,      7,2,19990604,0726, 47.0072,-176.0473, 5627,   2499.6,2,   1.7274,2,  34.6254,1,  34.6265,2,    55.11,1,    90.46,2,   165.44,2,    40.04,2,     0.02,2,     2.87,2, -999.000,9, -999.000,9, -999.000,9,-999.0000,9, -999.000,9,   -999.0,9,   -999.0,9, -999.000,9,   -999.0,9,   -999.0,  -999.00,9,   -999.0,9,   -999.0,9,   1.5523,  27.7066
  49KA199905_1,  P01W,    65,  1,      6,      6,2,19990604,0726, 47.0072,-176.0473, 5627,   3000.4,2,   1.5885,2,  34.6518,1,  34.6529,2,    75.44,1,   113.68,2,   162.32,2,    38.51,2,     0.02,2,     2.76,2, -999.000,9, -999.000,9, -999.000,9,-999.0000,9, -999.000,9,   -999.0,9,   -999.0,9, -999.000,9,   -999.0,9,   -999.0,  -999.00,9,   -999.0,9,   -999.0,9,   1.3699,  27.7410
  49KA199905_1,  P01W,    65,  1,      5,      5,2,19990604,0726, 47.0072,-176.0473, 5627,   3498.8,2,   1.5123,2,  34.6677,1,  34.6594,4,    90.14,1,   127.28,4,   159.68,4,    38.20,4,     0.02,4,     2.72,4, -999.000,9, -999.000,9, -999.000,9,-999.0000,9, -999.000,9,   -999.0,9,   -999.0,9, -999.000,9,   -999.0,9,   -999.0,  -999.00,9,   -999.0,9,   -999.0,9,   1.2461,  27.7549
  49KA199905_1,  P01W,    65,  1,      4,      4,2,19990604,0726, 47.0072,-176.0473, 5627,   3999.1,2,   1.4801,2,  34.6778,1,  34.6787,2,   100.19,1,   145.14,2,   154.97,2,    36.52,2,     0.02,2,     2.58,2, -999.000,9, -999.000,9, -999.000,9,-999.0000,9, -999.000,9,   -999.0,9,   -999.0,9, -999.000,9,   -999.0,9,   -999.0,  -999.00,9,   -999.0,9,   -999.0,9,   1.1619,  27.7762
  49KA199905_1,  P01W,    65,  1,      3,      3,2,19990604,0726, 47.0072,-176.0473, 5627,   4499.5,2,   1.4934,2,  34.6829,1,  34.6845,2,   105.25,1,   150.35,2,   155.88,2,    36.16,2,     0.02,2,     2.57,2, -999.000,9, -999.000,9, -999.000,9,-999.0000,9, -999.000,9,   -999.0,9,   -999.0,9, -999.000,9,   -999.0,9,   -999.0,  -999.00,9,   -999.0,9,   -999.0,9,   1.1187,  27.7838
  49KA199905_1,  P01W,    65,  1,      2,      2,2,19990604,0726, 47.0072,-176.0473, 5627,   4999.9,2,   1.5408,2,  34.6845,1,  34.6859,2,   106.65,1,   151.44,2,   157.40,2,    36.08,2,     0.02,2,     2.54,2, -999.000,9, -999.000,9, -999.000,9,-999.0000,9, -999.000,9,   -999.0,9,   -999.0,9, -999.000,9,   -999.0,9,   -999.0,  -999.00,9,   -999.0,9,   -999.0,9,   1.1052,  27.7859
  49KA199905_1,  P01W,    65,  1,      1,      1,2,19990604,0726, 47.0072,-176.0473, 5627,   5759.2,2,   1.6348,2,  34.6844,1,  34.6864,2,   109.22,1,   152.63,2,   157.75,2,    36.01,2,     0.02,2,     2.55,2, -999.000,9, -999.000,9, -999.000,9,-999.0000,9, -999.000,9,   -999.0,9,   -999.0,9, -999.000,9,   -999.0,9,   -999.0,  -999.00,9,   -999.0,9,   -999.0,9,   1.0997,  27.7867