BOTTLE,20220921CCHSIOAMB
EXPOCODE,SECT_ID,STNNBR,CASTNO,SAMPNO,BTLNBR,BTLNBR_FLAG_W,DATE,TIME,LATITUDE,LONGITUDE,DEPTH,CTDPRS,CTDPRS_FLAG_W,CTDTMP,CTDTMP_FLAG_W,CTDSAL,CTDSAL_FLAG_W,SALNTY,SALNTY_FLAG_W,CTDOXY,CTDOXY_FLAG_W,OXYGEN,OXYGEN_FLAG_W,SILCAT,SILCAT_FLAG_W,NITRAT,NITRAT_FLAG_W,NITRIT,NITRIT_FLAG_W,PHSPHT,PHSPHT_FLAG_W,CFC-11,CFC-11_FLAG_W,CFC-12,CFC-12_FLAG_W,CFC113,CFC113_FLAG_W,SF6,SF6_FLAG_W,PH,PH_FLAG_W,ALKALI,ALKALI_FLAG_W,TCARBN,TCARBN_FLAG_W,DELC13,DELC13_FLAG_W,DELC14,DELC14_FLAG_W,C14ERR,CHLORA,CHLORA_FLAG_W,CU,CU_FLAG_W,NI,NI_FLAG_W,THETA,SIG0
,,,,,,,,,,,METERS,DBAR,,ITS-90,,PSS-78,,PSS-78,,UMOL/KG,,UMOL/KG,,UMOL/KG,,UMOL/KG,,UMOL/KG,,UMOL/KG,,PMOL/KG,,PMOL/KG,,PMOL/KG,,FMOL/KG,,,,UMOL/KG,,UMOL/KG,,/MILLE,,/MILLE,,/MILLE,UG/KG,,UMOL/L,,UMOL/L,,ITS-90,KG/M^3
  49KA199905_1,  P01W,    68,  1,     24,     24,2,19990605,0341, 47.0003,-172.7113, 5765,      9.7,2,   5.6651,2,  32.8682,1,  32.8717,2,   283.86,1,   322.73,2,    25.09,2,    16.42,2,     0.23,2,     1.49,2,    4.837,2,    2.422,2,    0.485,2,   0.4528,2,    7.738,2,   2216.6,2,   2062.7,2, -999.000,1,   -999.0,9,   -999.0,     0.50,2,   -999.0,9,   -999.0,9,   5.6643,  25.9117
  49KA199905_1,  P01W,    68,  1,     23,     23,2,19990605,0341, 47.0003,-172.7113, 5765,     49.3,2,   4.9682,2,  32.8988,1,  32.9047,2,   279.23,1,   318.92,2,    26.29,2,    17.37,2,     0.28,2,     1.57,2,    4.951,2,    2.501,2,    0.468,2,   0.4247,2,    7.714,2,   2216.4,2,   2070.5,2, -999.000,1,   -999.0,9,   -999.0,     0.34,2,   -999.0,9,   -999.0,9,   4.9646,  26.0182
  49KA199905_1,  P01W,    68,  1,     22,     22,2,19990605,0341, 47.0003,-172.7113, 5765,     99.1,2,   3.7370,2,  32.9306,1,  32.9364,2,   279.48,1,   315.93,2,    29.97,2,    19.85,2,     0.27,2,     1.68,2,    5.041,2,    2.544,2,    0.496,2,   0.4245,2,    7.677,2,   2219.7,2,   2090.5,2, -999.000,1,   -999.0,9,   -999.0,     0.04,2,   -999.0,9,   -999.0,9,   3.7307,  26.1711
  49KA199905_1,  P01W,    68,  1,     21,     21,2,19990605,0341, 47.0003,-172.7113, 5765,    149.9,2,   3.8711,2,  33.2378,1,  33.2534,3,   216.30,1,   248.61,3,    42.13,2,    25.10,2,     0.04,2,     1.98,2,    4.354,2,    2.135,2,    0.350,2,   0.2997,2,    7.581,2,   2239.0,2,   2143.7,2, -999.000,1,   -999.0,9,   -999.0,     0.01,2,   -999.0,9,   -999.0,9,   3.8612,  26.4107
  49KA199905_1,  P01W,    68,  1,     20,     20,2,19990605,0341, 47.0003,-172.7113, 5765,    199.2,2,   3.8762,2,  33.6622,1,  33.6700,2,   120.08,1,   147.99,2,    66.11,2,    33.94,2,     0.03,2,     2.52,2,    3.251,2,    1.519,2,    0.214,2,   0.1438,2,    7.425,2,   2269.2,2,   2236.7,2, -999.000,1,   -999.0,9,   -999.0,     0.00,2,   -999.0,9,   -999.0,9,   3.8628,  26.7420
  49KA199905_1,  P01W,    68,  1,     19,     19,2,19990605,0341, 47.0003,-172.7113, 5765,    250.8,2,   3.7400,2,  33.7726,1,  33.7745,2,    84.31,1,   108.21,2,    77.66,2,    37.66,2,     0.03,2,     2.74,2,    2.669,2,    1.240,2,    0.183,2,   0.0687,2,    7.365,2,   2282.4,2,   2272.1,2, -999.000,1,   -999.0,9,   -999.0,     0.00,4,   -999.0,9,   -999.0,9,   3.7233,  26.8390
  49KA199905_1,  P01W,    68,  1,     18,     18,2,19990605,0341, 47.0003,-172.7113, 5765,    300.2,2,   3.7117,2,  33.8494,1,  33.8523,2,    61.40,1,    85.51,2,    86.69,2,    39.86,2,     0.03,2,     2.89,2,    2.211,2,    1.011,2,    0.132,2,   0.0277,2,    7.332,2,   2290.8,2,   2289.5,2, -999.000,1,   -999.0,9,   -999.0,     0.00,4,   -999.0,9,   -999.0,9,   3.6916,  26.9040
  49KA199905_1,  P01W,    68,  1,     17,     17,2,19990605,0341, 47.0003,-172.7113, 5765,    349.3,2,   3.6844,2,  33.9022,1,  33.9041,2,    48.34,1,    71.54,2,    92.31,2,    41.06,2,     0.03,2,     2.96,2,    1.902,2,    0.871,2,    0.113,2,   0.0079,2,    7.318,2,   2297.5,2,   2310.0,2, -999.000,1,   -999.0,9,   -999.0,  -999.00,9,   -999.0,9,   -999.0,9,   3.6609,  26.9483
  49KA199905_1,  P01W,    68,  1,     16,     16,2,19990605,0341, 47.0003,-172.7113, 5765,    400.8,2,   3.7199,2,  33.9796,1,  33.9816,2,    31.32,1,    52.82,2,    99.57,2,    42.41,2,     0.03,2,     3.04,2,    1.433,2,    0.647,2,    0.089,2,   0.0014,2,    7.301,2,   2309.5,2,   2322.3,2, -999.000,1,   -999.0,9,   -999.0,  -999.00,9,   -999.0,9,   -999.0,9,   3.6926,  27.0069
  49KA199905_1,  P01W,    68,  1,     15,     15,2,19990605,0341, 47.0003,-172.7113, 5765,    500.0,2,   3.6716,2,  34.1006,1,  34.1034,2,    11.53,1,    32.77,2,   112.15,2,    43.73,2,     0.03,2,     3.12,2,    0.774,2,    0.347,2,    0.034,2,   0.0046,2,    7.292,2,   2323.6,2,   2343.0,2, -999.000,1,   -999.0,9,   -999.0,  -999.00,9,   -999.0,9,   -999.0,9,   3.6373,  27.1093
  49KA199905_1,  P01W,    68,  1,     14,     14,2,19990605,0341, 47.0003,-172.7113, 5765,    599.5,2,   3.5140,2,  34.1842,1,  34.1871,2,     6.57,1,    28.27,2,   122.45,2,    43.75,2,     0.03,2,     3.12,2,    0.477,2,    0.211,2,    0.022,2,   0.0056,2,    7.301,2,   2338.3,2,   2353.3,2, -999.000,1,   -999.0,9,   -999.0,  -999.00,9,   -999.0,9,   -999.0,9,   3.4731,  27.1920
  49KA199905_1,  P01W,    68,  1,     13,     13,2,19990605,0341, 47.0003,-172.7113, 5765,    799.3,2,   3.1702,2,  34.2994,1,  34.3024,2,     4.02,1,    25.96,2,   136.76,2,    44.05,2,     0.03,2,     3.14,2,    0.215,2,    0.086,2,    0.009,2,   0.0041,2,    7.318,2,   2357.0,2,   2369.8,2, -999.000,1,   -999.0,9,   -999.0,  -999.00,9,   -999.0,9,   -999.0,9,   3.1165,  27.3175
  49KA199905_1,  P01W,    68,  1,     12,     12,2,19990605,0341, 47.0003,-172.7113, 5765,    998.3,2,   2.8300,2,  34.3841,1,  34.3600,4,     3.70,1,    26.30,2,    86.82,4,    34.65,4,     0.09,4,     2.56,4,    0.181,4,    0.066,4,    0.006,4,   0.0000,4,    7.337,4,   2306.2,4,   2333.5,4, -999.000,1,   -999.0,9,   -999.0,  -999.00,9,   -999.0,9,   -999.0,9,   2.7638,  27.3953
  49KA199905_1,  P01W,    68,  1,     11,     11,2,19990605,0341, 47.0003,-172.7113, 5765,   1250.8,2,   2.5209,2,  34.4532,1,  34.4567,2,     5.23,1,    30.79,2,   157.64,2,    44.14,2,     0.02,2,     3.13,2,    0.037,2,    0.022,2,    0.003,2,-999.0000,9,    7.356,2,   2387.1,2,   2384.7,2, -999.000,1,   -999.0,9,   -999.0,  -999.00,9,   -999.0,9,   -999.0,9,   2.4383,  27.5007
  49KA199905_1,  P01W,    68,  1,     10,     10,2,19990605,0341, 47.0003,-172.7113, 5765,   1502.1,2,   2.2886,3,  34.5051,1,  34.5086,2,    10.75,1,    37.42,2,   164.91,2,    43.86,2,     0.02,2,     3.10,2,    0.029,2,    0.001,2,    0.003,2,-999.0000,9,    7.382,2,   2396.1,2,   2393.4,2, -999.000,1,   -999.0,9,   -999.0,  -999.00,9,   -999.0,9,   -999.0,9,   2.1890,  27.5628
  49KA199905_1,  P01W,    68,  1,      9,      9,2,19990605,0341, 47.0003,-172.7113, 5765,   1748.4,2,   2.1061,2,  34.5468,1,  34.5511,2,    19.36,1,    48.26,2,   169.19,2,    43.38,2,     0.02,2,     3.06,2,    0.012,2,    0.000,2,    0.001,2,-999.0000,9,    7.456,2,   2402.9,2,   2386.6,2, -999.000,1,   -999.0,9,   -999.0,  -999.00,9,   -999.0,9,   -999.0,9,   1.9891,  27.6129
  49KA199905_1,  P01W,    68,  1,      8,      8,2,19990605,0341, 47.0003,-172.7113, 5765,   1998.3,2,   1.9528,2,  34.5803,1,-999.0000,9,    28.06,1,  -999.00,9,  -999.00,9,  -999.00,9,  -999.00,9,  -999.00,9, -999.000,9, -999.000,9, -999.000,9,-999.0000,9, -999.000,9,   -999.0,9,   -999.0,9, -999.000,9,   -999.0,9,   -999.0,  -999.00,9,   -999.0,9,   -999.0,9,-999.0000,-999.0000
  49KA199905_1,  P01W,    68,  1,      7,      7,2,19990605,0341, 47.0003,-172.7113, 5765,   2498.6,2,   1.7238,2,  34.6257,1,  34.6300,2,    55.28,1,    91.28,3,   170.30,2,    40.65,2,     0.02,2,     2.87,2,    0.000,2,    0.000,2,    0.000,2,-999.0000,9,    7.492,2,   2414.9,2,   2370.0,2, -999.000,1,   -999.0,9,   -999.0,  -999.00,9,   -999.0,9,   -999.0,9,   1.5488,  27.7097
  49KA199905_1,  P01W,    68,  1,      6,      6,2,19990605,0341, 47.0003,-172.7113, 5765,   2999.5,2,   1.5943,2,  34.6511,1,  34.6552,2,    72.76,1,   112.02,2,   168.07,2,    39.35,2,     0.03,2,     2.76,2,    0.002,2,    0.001,2,    0.000,2,-999.0000,9,    7.504,2,   2415.8,2,   2356.9,2, -999.000,1,   -999.0,9,   -999.0,  -999.00,9,   -999.0,9,   -999.0,9,   1.3756,  27.7424
  49KA199905_1,  P01W,    68,  1,      5,      5,2,19990605,0341, 47.0003,-172.7113, 5765,   3500.1,2,   1.5156,2,  34.6672,1,  34.6608,4,    89.04,1,   124.18,4,   166.33,3,    39.53,4,     0.02,4,     2.78,4,    0.000,4,    0.000,4,    0.002,4,-999.0000,9,    7.548,4,   2415.9,4,   2353.3,4, -999.000,1,   -999.0,9,   -999.0,  -999.00,9,   -999.0,9,   -999.0,9,   1.2492,  27.7558
  49KA199905_1,  P01W,    68,  1,      4,      4,2,19990605,0341, 47.0003,-172.7113, 5765,   4001.0,2,   1.4803,2,  34.6774,1,  34.6815,2,    99.72,1,   144.02,2,   160.91,3,    37.24,3,     0.02,3,     2.60,2,    0.000,2,    0.001,2,    0.000,2,-999.0000,9,    7.558,2,   2420.4,2,   2333.7,2, -999.000,1,   -999.0,9,   -999.0,  -999.00,9,   -999.0,9,   -999.0,9,   1.1619,  27.7785
  49KA199905_1,  P01W,    68,  1,      3,      3,2,19990605,0341, 47.0003,-172.7113, 5765,   4499.4,2,   1.4956,2,  34.6825,1,  34.6860,2,   104.60,1,   150.31,2,   161.24,2,    36.88,2,     0.02,2,     2.57,2,    0.004,2,    0.006,2,    0.000,2,-999.0000,9,    7.558,2,   2417.8,2,   2332.8,2, -999.000,1,   -999.0,9,   -999.0,  -999.00,9,   -999.0,9,   -999.0,9,   1.1209,  27.7849
  49KA199905_1,  P01W,    68,  1,      2,      2,2,19990605,0341, 47.0003,-172.7113, 5765,   5001.0,2,   1.5470,2,  34.6836,1,  34.6876,2,   105.45,1,   150.94,2,   163.13,2,    36.84,2,     0.03,2,     2.59,2,    0.000,2,    0.000,2,    0.003,2,-999.0000,9,    7.556,2,   2419.6,2,   2332.9,2, -999.000,1,   -999.0,9,   -999.0,  -999.00,9,   -999.0,9,   -999.0,9,   1.1111,  27.7869
  49KA199905_1,  P01W,    68,  1,      1,      1,2,19990605,0341, 47.0003,-172.7113, 5765,   5868.7,2,   1.6482,2,  34.6840,1,  34.6892,2,   109.73,1,   154.03,2,   161.40,2,    36.64,2,     0.03,2,     2.55,2, -999.000,9, -999.000,9, -999.000,9,-999.0000,9,    7.557,2,   2415.3,2,   2331.3,2, -999.000,1,   -999.0,9,   -999.0,  -999.00,9,   -999.0,9,   -999.0,9,   1.0981,  27.7890
  49KA199905_1,  P01W,    69,  1,     24,     24,2,19990605,1033, 47.0033,-171.5475, 5773,     10.2,2,   5.8235,2,  32.8573,1,  32.8619,2,   279.96,1,   319.19,2,    23.71,2,    16.20,2,     0.21,2,     1.48,2, -999.000,9, -999.000,9, -999.000,9,-999.0000,9, -999.000,9,   -999.0,9,   -999.0,9, -999.000,9,   -999.0,9,   -999.0,  -999.00,9,   -999.0,1,   -999.0,1,   5.8227,  25.8850
  49KA199905_1,  P01W,    69,  1,     23,     23,2,19990605,1033, 47.0033,-171.5475, 5773,     49.8,2,   5.3222,2,  32.8706,1,  32.8756,2,   280.30,1,   320.61,2,    24.00,2,    16.59,2,     0.21,2,     1.50,2, -999.000,9, -999.000,9, -999.000,9,-999.0000,9, -999.000,9,   -999.0,9,   -999.0,9, -999.000,9,   -999.0,9,   -999.0,  -999.00,9,   -999.0,1,   -999.0,1,   5.3184,  25.9552
  49KA199905_1,  P01W,    69,  1,     22,     22,2,19990605,1033, 47.0033,-171.5475, 5773,    100.0,2,   4.0488,2,  32.8925,1,  32.8975,2,   280.61,1,   317.95,2,    26.74,2,    18.56,2,     0.61,2,     1.62,2, -999.000,9, -999.000,9, -999.000,9,-999.0000,9, -999.000,9,   -999.0,9,   -999.0,9, -999.000,9,   -999.0,9,   -999.0,  -999.00,9,   -999.0,1,   -999.0,1,   4.0422,  26.1097
  49KA199905_1,  P01W,    69,  1,     21,     21,2,19990605,1033, 47.0033,-171.5475, 5773,    150.2,2,   3.8437,2,  32.9629,1,  32.9668,2,   271.43,1,   308.53,2,    29.30,2,    20.20,2,     0.04,2,     1.69,2, -999.000,9, -999.000,9, -999.000,9,-999.0000,9, -999.000,9,   -999.0,9,   -999.0,9, -999.000,9,   -999.0,9,   -999.0,  -999.00,9,   -999.0,9,   -999.0,9,   3.8339,  26.1853
  49KA199905_1,  P01W,    69,  1,     20,     20,2,19990605,1033, 47.0033,-171.5475, 5773,    200.0,2,   4.0239,2,  33.6479,1,  33.6525,2,   136.37,1,   163.41,2,    59.15,2,    32.05,2,     0.02,2,     2.39,2, -999.000,9, -999.000,9, -999.000,9,-999.0000,9, -999.000,9,   -999.0,9,   -999.0,9, -999.000,9,   -999.0,9,   -999.0,  -999.00,9,   -999.0,9,   -999.0,9,   4.0102,  26.7132
  49KA199905_1,  P01W,    69,  1,     19,     19,2,19990605,1033, 47.0033,-171.5475, 5773,    250.0,2,   3.7343,2,  33.7467,1,  33.7503,2,    90.07,1,   115.15,2,    73.39,2,    37.00,2,     0.02,2,     2.69,2, -999.000,9, -999.000,9, -999.000,9,-999.0000,9, -999.000,9,   -999.0,9,   -999.0,9, -999.000,9,   -999.0,9,   -999.0,  -999.00,9,   -999.0,1,   -999.0,1,   3.7177,  26.8202
  49KA199905_1,  P01W,    69,  1,     18,     18,2,19990605,1033, 47.0033,-171.5475, 5773,    301.5,2,   3.8064,2,  33.8441,1,  33.8485,2,    70.74,1,    94.73,2,    81.27,2,    38.51,2,     0.02,2,     2.78,2, -999.000,9, -999.000,9, -999.000,9,-999.0000,9, -999.000,9,   -999.0,9,   -999.0,9, -999.000,9,   -999.0,9,   -999.0,  -999.00,9,   -999.0,9,   -999.0,9,   3.7860,  26.8917
  49KA199905_1,  P01W,    69,  1,     17,     17,2,19990605,1033, 47.0033,-171.5475, 5773,    349.2,2,   3.8247,2,  33.9234,1,  33.9285,2,    53.35,1,    76.83,3,    88.53,3,    39.99,4,     0.02,4,     2.89,4, -999.000,9, -999.000,9, -999.000,9,-999.0000,9, -999.000,9,   -999.0,9,   -999.0,9, -999.000,9,   -999.0,9,   -999.0,  -999.00,9,   -999.0,9,   -999.0,9,   3.8008,  26.9539
  49KA199905_1,  P01W,    69,  1,     16,     16,2,19990605,1033, 47.0033,-171.5475, 5773,    399.2,2,   3.7660,2,  33.9770,1,  33.9832,3,    37.63,1,    60.48,3,    94.96,3,    41.49,3,     0.02,3,     2.98,2, -999.000,9, -999.000,9, -999.000,9,-999.0000,9, -999.000,9,   -999.0,9,   -999.0,9, -999.000,9,   -999.0,9,   -999.0,  -999.00,9,   -999.0,9,   -999.0,9,   3.7387,  27.0036
  49KA199905_1,  P01W,    69,  1,     15,     15,2,19990605,1033, 47.0033,-171.5475, 5773,    499.5,2,   3.6697,2,  34.0825,1,  34.0871,2,    17.34,1,    39.42,2,   107.35,2,    43.03,2,     0.02,2,     3.09,2, -999.000,9, -999.000,9, -999.000,9,-999.0000,9, -999.000,9,   -999.0,9,   -999.0,9, -999.000,9,   -999.0,9,   -999.0,  -999.00,9,   -999.0,1,   -999.0,1,   3.6355,  27.0965
  49KA199905_1,  P01W,    69,  1,     14,     14,2,19990605,1033, 47.0033,-171.5475, 5773,    599.8,2,   3.5082,2,  34.1678,1,  34.1721,2,    10.23,1,    32.27,2,   117.55,2,    43.45,2,     0.02,2,     3.12,2, -999.000,9, -999.000,9, -999.000,9,-999.0000,9, -999.000,9,   -999.0,9,   -999.0,9, -999.000,9,   -999.0,9,   -999.0,  -999.00,9,   -999.0,9,   -999.0,9,   3.4673,  27.1806
  49KA199905_1,  P01W,    69,  1,     13,     13,2,19990605,1033, 47.0033,-171.5475, 5773,    800.7,2,   3.2010,2,  34.2882,1,  34.2917,2,     5.72,1,    28.63,2,   131.13,2,    43.74,2,     0.02,2,     3.16,2, -999.000,9, -999.000,9, -999.000,9,-999.0000,9, -999.000,9,   -999.0,9,   -999.0,9, -999.000,9,   -999.0,9,   -999.0,  -999.00,9,   -999.0,9,   -999.0,9,   3.1469,  27.3062
  49KA199905_1,  P01W,    69,  1,     12,     12,2,19990605,1033, 47.0033,-171.5475, 5773,   1000.5,2,   2.8559,2,  34.3786,1,  34.3809,2,     3.36,1,    27.31,3,   142.57,2,    43.93,2,     0.02,2,     3.14,2, -999.000,9, -999.000,9, -999.000,9,-999.0000,9, -999.000,9,   -999.0,9,   -999.0,9, -999.000,9,   -999.0,9,   -999.0,  -999.00,9,   -999.0,1,   -999.0,1,   2.7893,  27.4098
  49KA199905_1,  P01W,    69,  1,     11,     11,2,19990605,1033, 47.0033,-171.5475, 5773,   1249.4,2,   2.5310,2,  34.4496,1,  34.4538,2,     5.02,1,    30.31,2,   153.40,2,    44.00,2,     0.02,2,     3.14,2, -999.000,9, -999.000,9, -999.000,9,-999.0000,9, -999.000,9,   -999.0,9,   -999.0,9, -999.000,9,   -999.0,9,   -999.0,  -999.00,9,   -999.0,9,   -999.0,9,   2.4484,  27.4975
  49KA199905_1,  P01W,    69,  1,     10,     10,2,19990605,1033, 47.0033,-171.5475, 5773,   1499.6,2,   2.2682,2,  34.5089,1,  34.5128,2,    11.21,1,    38.10,2,   160.98,2,    43.71,2,     0.01,2,     3.11,2, -999.000,9, -999.000,9, -999.000,9,-999.0000,9, -999.000,9,   -999.0,9,   -999.0,9, -999.000,9,   -999.0,9,   -999.0,  -999.00,9,   -999.0,1,   -999.0,1,   2.1690,  27.5678
  49KA199905_1,  P01W,    69,  1,      9,      9,2,19990605,1033, 47.0033,-171.5475, 5773,   1750.2,2,   2.1034,2,  34.5471,1,  34.5524,2,    19.28,1,    48.77,2,   164.81,2,    43.15,2,     0.01,2,     3.06,2, -999.000,9, -999.000,9, -999.000,9,-999.0000,9, -999.000,9,   -999.0,9,   -999.0,9, -999.000,9,   -999.0,9,   -999.0,  -999.00,9,   -999.0,9,   -999.0,9,   1.9863,  27.6141
  49KA199905_1,  P01W,    69,  1,      8,      8,2,19990605,1033, 47.0033,-171.5475, 5773,   2000.9,2,   1.9465,2,  34.5812,1,  34.5856,2,    30.04,1,    60.32,2,   167.38,2,    42.43,2,     0.01,2,     2.99,2, -999.000,9, -999.000,9, -999.000,9,-999.0000,9, -999.000,9,   -999.0,9,   -999.0,9, -999.000,9,   -999.0,9,   -999.0,  -999.00,9,   -999.0,1,   -999.0,1,   1.8110,  27.6544
  49KA199905_1,  P01W,    69,  1,      7,      7,2,19990605,1033, 47.0033,-171.5475, 5773,   2499.3,2,   1.7323,2,  34.6249,1,  34.6291,2,    49.63,1,    83.96,2,   169.18,2,    41.11,2,     0.01,2,     2.89,2, -999.000,9, -999.000,9, -999.000,9,-999.0000,9, -999.000,9,   -999.0,9,   -999.0,9, -999.000,9,   -999.0,9,   -999.0,  -999.00,9,   -999.0,1,   -999.0,1,   1.5571,  27.7083
  49KA199905_1,  P01W,    69,  1,      6,      6,2,19990605,1033, 47.0033,-171.5475, 5773,   3000.0,2,   1.5934,2,  34.6510,1,  34.6549,2,    72.78,1,   111.22,2,   164.26,2,    39.36,2,     0.01,2,     2.75,2, -999.000,9, -999.000,9, -999.000,9,-999.0000,9, -999.000,9,   -999.0,9,   -999.0,9, -999.000,9,   -999.0,9,   -999.0,  -999.00,9,   -999.0,1,   -999.0,1,   1.3747,  27.7423
  49KA199905_1,  P01W,    69,  1,      5,      5,2,19990605,1033, 47.0033,-171.5475, 5773,   3498.8,2,   1.5134,2,  34.6672,1,  34.6553,4,    89.20,1,   111.63,4,   161.52,2,    38.82,2,     0.01,2,     2.72,2, -999.000,9, -999.000,9, -999.000,9,-999.0000,9, -999.000,9,   -999.0,9,   -999.0,9, -999.000,9,   -999.0,9,   -999.0,  -999.00,9,   -999.0,9,   -999.0,9,   1.2472,  27.7515
  49KA199905_1,  P01W,    69,  1,      4,      4,2,19990605,1033, 47.0033,-171.5475, 5773,   3999.9,2,   1.4810,2,  34.6774,1,  34.6815,2,    99.48,1,   143.08,2,   156.64,2,    37.19,2,     0.01,2,     2.58,2, -999.000,9, -999.000,9, -999.000,9,-999.0000,9, -999.000,9,   -999.0,9,   -999.0,9, -999.000,9,   -999.0,9,   -999.0,  -999.00,9,   -999.0,1,   -999.0,1,   1.1627,  27.7784
  49KA199905_1,  P01W,    69,  1,      3,      3,2,19990605,1033, 47.0033,-171.5475, 5773,   4501.4,2,   1.4957,2,  34.6825,1,  34.6870,2,   104.10,1,   148.91,2,   157.74,2,    36.81,2,     0.02,2,     2.55,2, -999.000,9, -999.000,9, -999.000,9,-999.0000,9, -999.000,9,   -999.0,9,   -999.0,9, -999.000,9,   -999.0,9,   -999.0,  -999.00,9,   -999.0,9,   -999.0,9,   1.1207,  27.7857
  49KA199905_1,  P01W,    69,  1,      2,      2,2,19990605,1033, 47.0033,-171.5475, 5773,   4999.2,2,   1.5482,2,  34.6836,1,  34.6882,2,   105.02,1,   146.80,2,   159.93,2,    36.55,2,     0.01,2,     2.56,2, -999.000,9, -999.000,9, -999.000,9,-999.0000,9, -999.000,9,   -999.0,9,   -999.0,9, -999.000,9,   -999.0,9,   -999.0,  -999.00,9,   -999.0,1,   -999.0,1,   1.1124,  27.7872
  49KA199905_1,  P01W,    69,  1,      1,      1,2,19990605,1033, 47.0033,-171.5475, 5773,   5887.4,2,   1.6535,2,  34.6837,1,  34.6898,2,   108.64,1,   153.44,2,   158.28,2,    36.54,2,     0.02,2,     2.54,2, -999.000,9, -999.000,9, -999.000,9,-999.0000,9, -999.000,9,   -999.0,9,   -999.0,9, -999.000,9,   -999.0,9,   -999.0,  -999.00,9,   -999.0,9,   -999.0,9,   1.1007,  27.7893