BOTTLE,20220921CCHSIOAMB
EXPOCODE,SECT_ID,STNNBR,CASTNO,SAMPNO,BTLNBR,BTLNBR_FLAG_W,DATE,TIME,LATITUDE,LONGITUDE,DEPTH,CTDPRS,CTDPRS_FLAG_W,CTDTMP,CTDTMP_FLAG_W,CTDSAL,CTDSAL_FLAG_W,SALNTY,SALNTY_FLAG_W,CTDOXY,CTDOXY_FLAG_W,OXYGEN,OXYGEN_FLAG_W,SILCAT,SILCAT_FLAG_W,NITRAT,NITRAT_FLAG_W,NITRIT,NITRIT_FLAG_W,PHSPHT,PHSPHT_FLAG_W,CFC-11,CFC-11_FLAG_W,CFC-12,CFC-12_FLAG_W,CFC113,CFC113_FLAG_W,SF6,SF6_FLAG_W,PH,PH_FLAG_W,ALKALI,ALKALI_FLAG_W,TCARBN,TCARBN_FLAG_W,DELC13,DELC13_FLAG_W,DELC14,DELC14_FLAG_W,C14ERR,CHLORA,CHLORA_FLAG_W,CU,CU_FLAG_W,NI,NI_FLAG_W,THETA,SIG0
,,,,,,,,,,,METERS,DBAR,,ITS-90,,PSS-78,,PSS-78,,UMOL/KG,,UMOL/KG,,UMOL/KG,,UMOL/KG,,UMOL/KG,,UMOL/KG,,PMOL/KG,,PMOL/KG,,PMOL/KG,,FMOL/KG,,,,UMOL/KG,,UMOL/KG,,/MILLE,,/MILLE,,/MILLE,UG/KG,,UMOL/L,,UMOL/L,,ITS-90,KG/M^3
  49KA199905_1,  P01W,    46,  1,     24,     24,3,19990530,1421, 47.0038, 168.3765, 6187,      9.4,3,   3.6755,3,  32.9795,1,  33.1033,4,   289.54,1,   334.54,4,    34.62,3,    19.92,3,     0.25,3,     1.72,3,    5.569,4,    2.835,4,    0.462,4,   0.3393,4,    7.706,4,   2248.2,4,   2095.2,4, -999.000,1,    -30.3,2,      3.5,     1.00,2,   -999.0,1,   -999.0,1,   3.6749,  26.3093
  49KA199905_1,  P01W,    46,  1,     23,     23,2,19990530,1421, 47.0038, 168.3765, 6187,     50.3,2,   3.3350,2,  32.9923,1,  33.0833,4,   289.53,1,   333.40,4,    36.68,3,    20.73,3,     0.27,3,     1.77,3,    5.684,4,    2.907,4,    0.475,4,   0.3898,4,    7.682,4,   2246.7,4,   2101.8,4, -999.000,1,    -24.6,2,      3.5,     0.49,2,   -999.0,1,   -999.0,1,   3.3320,  26.3255
  49KA199905_1,  P01W,    46,  1,     22,     22,2,19990530,1421, 47.0038, 168.3765, 6187,     99.5,2,   1.7331,2,  33.0514,1,  33.0531,2,   289.71,1,   328.91,2,    41.79,2,    23.87,2,     0.40,2,     1.94,2,    5.810,2,    2.979,2,    0.527,2,   0.3773,2,    7.643,2,   2249.9,2,   2125.1,2, -999.000,1,    -34.0,2,      3.3,     0.09,2,   -999.0,1,   -999.0,1,   1.7284,  26.4318
  49KA199905_1,  P01W,    46,  1,     21,     21,2,19990530,1421, 47.0038, 168.3765, 6187,    149.8,2,   1.8829,2,  33.1844,1,  33.1745,4,   250.24,1,   289.31,4,    47.86,3,    26.72,3,     0.03,3,     2.08,3,    5.280,4,    2.717,4,    0.488,4,   0.3778,4,    7.545,4,   2260.9,4,   2150.5,4, -999.000,1,    -50.4,2,      3.1,     0.03,2,   -999.0,9,   -999.0,9,   1.8755,  26.5185
  49KA199905_1,  P01W,    46,  1,     20,     20,2,19990530,1421, 47.0038, 168.3765, 6187,    199.1,2,   2.9528,2,  33.5843,1,  33.5867,2,   112.27,1,   143.45,2,    71.49,2,    35.26,2,     0.00,2,     2.60,2,    3.357,2,    1.698,2,    0.295,2,   0.1705,2,    7.413,2,   2290.4,2,   2251.8,2, -999.000,1,    -76.4,2,      3.0,     0.00,2,   -999.0,9,   -999.0,9,   2.9409,  26.7621
  49KA199905_1,  P01W,    46,  1,     19,     19,2,19990530,1421, 47.0038, 168.3765, 6187,    249.1,2,   3.1319,2,  33.7460,1,  33.7455,2,    69.55,1,    95.47,2,    84.06,2,    39.05,2,     0.00,2,     2.83,2,    2.603,2,    1.291,2,    0.235,2,   0.1818,2,    7.355,2,   2302.9,2,   2285.7,2, -999.000,1,   -100.2,2,      3.2,     0.00,2,   -999.0,1,   -999.0,1,   3.1166,  26.8732
  49KA199905_1,  P01W,    46,  1,     18,     18,2,19990530,1421, 47.0038, 168.3765, 6187,    299.8,2,   3.3227,2,  33.8559,1,  33.8551,2,    46.60,1,    71.69,2,    91.45,2,    40.92,2,     0.00,2,     2.94,2,    2.112,2,    1.053,2,    0.168,2,   0.1245,2,    7.335,2,   2312.4,2,   2306.3,2, -999.000,1,   -117.6,2,      2.7,     0.00,2,   -999.0,9,   -999.0,9,   3.3036,  26.9434
  49KA199905_1,  P01W,    46,  1,     17,     17,2,19990530,1421, 47.0038, 168.3765, 6187,    350.1,2,   3.3846,2,  33.9415,1,  33.9455,2,    29.84,1,    53.41,3,    98.53,2,    42.25,2,     0.00,2,     3.02,2,    1.624,2,    0.798,2,    0.110,2,   0.0587,2,    7.321,2,   2323.0,2,   2321.8,2, -999.000,1,   -120.8,2,      2.8,  -999.00,9,   -999.0,9,   -999.0,9,   3.3619,  27.0100
  49KA199905_1,  P01W,    46,  1,     16,     16,2,19990530,1421, 47.0038, 168.3765, 6187,    400.2,2,   3.6422,2,  34.0463,1,  34.0466,2,    25.62,1,    49.76,2,   101.70,3,    41.87,3,     0.00,3,     3.00,3,    1.161,2,    0.584,2,    0.106,2,   0.0221,2,    7.340,3,   2333.2,2,   2323.5,2, -999.000,1,   -125.1,2,      2.5,  -999.00,9,   -999.0,9,   -999.0,9,   3.6152,  27.0662
  49KA199905_1,  P01W,    46,  1,     15,     15,2,19990530,1421, 47.0038, 168.3765, 6187,    499.8,2,   3.3663,2,  34.1303,1,  34.1251,2,     4.24,1,    27.68,2,   116.10,2,    43.90,2,     0.00,2,     3.11,2,    0.718,2,    0.363,2,    0.051,2,   0.0044,2,    7.315,2,   2346.8,2,   2349.6,2, -999.000,1,   -164.0,2,      3.6,  -999.00,9,   -999.0,1,   -999.0,1,   3.3332,  27.1559
  49KA199905_1,  P01W,    46,  1,     14,     14,2,19990530,1421, 47.0038, 168.3765, 6187,    599.3,2,   3.2480,2,  34.2174,1,  34.2160,2,     2.04,1,    25.45,2,   124.64,2,    43.73,2,     0.00,2,     3.13,2,    0.460,2,    0.207,2,    0.013,2,   0.0022,2,    7.323,2,   2357.4,2,   2359.6,2, -999.000,1,   -172.9,2,      3.4,  -999.00,9,   -999.0,9,   -999.0,9,   3.2083,  27.2401
  49KA199905_1,  P01W,    46,  1,     13,     13,2,19990530,1421, 47.0038, 168.3765, 6187,    799.8,2,   2.9746,2,  34.3231,1,  34.3224,2,     1.62,1,    25.21,2,   136.12,2,    43.63,2,     0.00,2,     3.09,2,    0.232,2,    0.109,2,    0.008,2,   0.0009,2,    7.339,2,   2376.5,2,   2374.7,2, -999.000,1,   -199.8,2,      2.8,  -999.00,9,   -999.0,9,   -999.0,9,   2.9220,  27.3512
  49KA199905_1,  P01W,    46,  1,     12,     12,2,19990530,1421, 47.0038, 168.3765, 6187,   1001.0,2,   2.6965,2,  34.4024,1,  34.4037,2,     4.59,1,    29.77,3,   145.91,2,    43.37,2,     0.00,2,     3.05,2,    0.144,2,    0.052,2,    0.004,2,   0.0000,2,    7.353,2,   2389.3,2,   2380.1,2, -999.000,1,   -211.1,2,      2.9,  -999.00,9,   -999.0,1,   -999.0,1,   2.6311,  27.4418
  49KA199905_1,  P01W,    46,  1,     11,     11,2,19990530,1421, 47.0038, 168.3765, 6187,   1248.7,2,   2.4378,2,  34.4716,1,  34.4706,2,    10.88,1,    37.96,2,   152.76,2,    43.12,2,     0.00,2,     3.02,2,    0.095,2,    0.047,2,    0.007,2,-999.0000,9,    7.380,2,   2399.4,2,   2384.8,2, -999.000,1,   -225.2,2,      3.0,  -999.00,9,   -999.0,9,   -999.0,9,   2.3561,  27.5187
  49KA199905_1,  P01W,    46,  1,     10,     10,2,19990530,1421, 47.0038, 168.3765, 6187,   1499.8,2,   2.2106,2,  34.5235,1,  34.5241,2,    19.01,1,    47.12,2,   158.49,2,    42.69,2,     0.00,2,     2.99,2,    0.029,2,    0.012,2,    0.000,2,-999.0000,9,    7.402,2,   2400.2,3,   2375.2,4, -999.000,1,   -230.7,2,      2.7,  -999.00,9,   -999.0,1,   -999.0,1,   2.1120,  27.5815
  49KA199905_1,  P01W,    46,  1,      9,      9,2,19990530,1421, 47.0038, 168.3765, 6187,   1750.1,2,   2.0514,2,  34.5606,1,  34.5620,2,    27.79,1,    58.37,2,   161.31,2,    42.07,2,     0.00,2,     2.96,2,    0.002,2,    0.008,2,    0.003,2,-999.0000,9,    7.419,2,   2408.8,2,   2374.7,4, -999.000,1,   -233.7,2,      2.7,  -999.00,9,   -999.0,9,   -999.0,9,   1.9349,  27.6259
  49KA199905_1,  P01W,    46,  1,      8,      8,2,19990530,1421, 47.0038, 168.3765, 6187,   1999.9,2,   1.9218,2,  34.5886,1,  34.5228,4,    37.83,1,    50.15,4,   157.53,4,    42.43,4,     0.00,4,     2.97,4,    0.010,4,    0.008,4,    0.005,4,-999.0000,9,    7.419,4,   2400.7,4,   2385.6,4, -999.000,1,   -232.0,2,      2.8,  -999.00,9,   -999.0,1,   -999.0,1,   1.7870,  27.6059
  49KA199905_1,  P01W,    46,  1,      7,      7,2,19990530,1421, 47.0038, 168.3765, 6187,   2500.0,2,   1.7129,2,  34.6308,1,  34.6315,2,    61.16,1,    97.14,3,   160.43,2,    39.49,2,     0.00,2,     2.76,2,    0.000,2,    0.000,2,    0.001,2,-999.0000,9,    7.495,2,   2419.5,2,   2375.5,2, -999.000,1,   -240.2,2,      2.7,  -999.00,9,   -999.0,1,   -999.0,1,   1.5380,  27.7117
  49KA199905_1,  P01W,    46,  1,      6,      6,2,19990530,1421, 47.0038, 168.3765, 6187,   3000.1,2,   1.5739,2,  34.6574,1,  34.6588,2,    81.45,1,   122.69,2,   154.88,2,    37.92,2,     0.00,2,     2.63,2,    0.000,2,    0.003,2,    0.002,2,-999.0000,9,    7.532,2,   2419.2,2,   -999.0,9, -999.000,1,   -238.6,2,      2.7,  -999.00,9,   -999.0,1,   -999.0,1,   1.3556,  27.7467
  49KA199905_1,  P01W,    46,  1,      5,      5,2,19990530,1421, 47.0038, 168.3765, 6187,   3498.2,2,   1.5113,2,  34.6704,1,  34.6700,2,    93.02,1,   137.02,2,   150.89,2,    36.97,2,     0.00,2,     2.57,2,    0.005,2,    0.004,2,    0.000,2,-999.0000,9,    7.556,2,   2419.1,2,   2328.9,2, -999.000,1,   -229.3,2,      2.7,  -999.00,9,   -999.0,9,   -999.0,9,   1.2452,  27.7635
  49KA199905_1,  P01W,    46,  1,      4,      4,2,19990530,1421, 47.0038, 168.3765, 6187,   3999.8,2,   1.4884,2,  34.6784,1,  34.6798,2,   101.14,1,   145.59,2,   148.44,2,    36.35,2,     0.00,2,     2.51,2,    0.000,2,    0.000,2,    0.000,2,-999.0000,9,    7.567,2,   2419.0,2,   2307.8,3, -999.000,1,   -229.0,2,      2.8,  -999.00,9,   -999.0,1,   -999.0,1,   1.1699,  27.7766
  49KA199905_1,  P01W,    46,  1,      3,      3,2,19990530,1421, 47.0038, 168.3765, 6187,   4499.2,2,   1.5005,2,  34.6825,1,  34.6848,2,   105.94,1,   152.21,2,   146.95,2,    36.04,2,     0.00,2,     2.49,2,    0.000,2,    0.000,2,    0.000,2,-999.0000,9,    7.581,2,   2418.8,2,   2325.5,2, -999.000,1,   -218.6,2,      2.7,  -999.00,9,   -999.0,9,   -999.0,9,   1.1256,  27.7836
  49KA199905_1,  P01W,    46,  1,      2,      2,2,19990530,1421, 47.0038, 168.3765, 6187,   5000.9,2,   1.5327,2,  34.6850,1,  34.6918,4,   109.11,1,   156.06,3,   146.16,3,    35.78,3,     0.00,3,     2.45,3,    0.006,4,    0.002,4,    0.004,4,-999.0000,9,    7.598,4,   2417.6,4,   2327.1,4, -999.000,1,   -216.8,2,      2.8,  -999.00,9,   -999.0,1,   -999.0,1,   1.0972,  27.7912
  49KA199905_1,  P01W,    46,  1,      1,      1,2,19990530,1421, 47.0038, 168.3765, 6187,   6007.9,2,   1.6475,2,  34.6861,1,  34.6872,2,   112.95,1,   158.91,2,   148.02,2,    35.61,2,     0.00,2,     2.46,2,    0.003,2,    0.000,2,    0.000,2,-999.0000,9,    7.598,2,   2417.4,2,   2328.1,2, -999.000,1,   -209.0,2,      3.2,  -999.00,9,   -999.0,9,   -999.0,9,   1.0788,  27.7887
  49KA199905_1,  P01W,    47,  1,     24,     24,2,19990530,1946, 46.9967, 168.9970, 5163,      9.4,2,   3.7260,2,  32.9913,1,  32.9947,2,   289.94,1,   334.47,2,  -999.00,9,  -999.00,9,  -999.00,9,  -999.00,9, -999.000,9, -999.000,9, -999.000,9,-999.0000,9, -999.000,9,   -999.0,9,   -999.0,9, -999.000,9,   -999.0,9,   -999.0,  -999.00,9,   -999.0,9,   -999.0,9,   3.7254,  26.2180
  49KA199905_1,  P01W,    47,  1,     23,     23,2,19990530,1946, 46.9967, 168.9970, 5163,     50.0,2,   2.5405,2,  33.0381,1,  33.0512,4,   285.63,1,   326.78,4,  -999.00,9,  -999.00,9,  -999.00,9,  -999.00,9, -999.000,9, -999.000,9, -999.000,9,-999.0000,9, -999.000,9,   -999.0,9,   -999.0,9, -999.000,9,   -999.0,9,   -999.0,  -999.00,9,   -999.0,9,   -999.0,9,   2.5378,  26.3686
  49KA199905_1,  P01W,    47,  1,     22,     22,2,19990530,1946, 46.9967, 168.9970, 5163,     99.5,2,   1.5259,2,  33.0614,1,  33.0652,2,   289.10,1,   329.61,2,  -999.00,9,  -999.00,9,  -999.00,9,  -999.00,9, -999.000,9, -999.000,9, -999.000,9,-999.0000,9, -999.000,9,   -999.0,9,   -999.0,9, -999.000,9,   -999.0,9,   -999.0,  -999.00,9,   -999.0,9,   -999.0,9,   1.5213,  26.4559
  49KA199905_1,  P01W,    47,  1,     21,     21,2,19990530,1946, 46.9967, 168.9970, 5163,    150.5,2,   1.5819,2,  33.1704,1,  33.1710,2,   271.23,1,   315.66,2,  -999.00,9,  -999.00,9,  -999.00,9,  -999.00,9, -999.000,9, -999.000,9, -999.000,9,-999.0000,9, -999.000,9,   -999.0,9,   -999.0,9, -999.000,9,   -999.0,9,   -999.0,  -999.00,9,   -999.0,9,   -999.0,9,   1.5748,  26.5371
  49KA199905_1,  P01W,    47,  1,     20,     20,2,19990530,1946, 46.9967, 168.9970, 5163,    200.4,2,   2.9935,2,  33.6081,1,  33.6187,4,   107.12,1,   132.57,4,  -999.00,9,  -999.00,9,  -999.00,9,  -999.00,9, -999.000,9, -999.000,9, -999.000,9,-999.0000,9, -999.000,9,   -999.0,9,   -999.0,9, -999.000,9,   -999.0,9,   -999.0,  -999.00,9,   -999.0,9,   -999.0,9,   2.9815,  26.7841
  49KA199905_1,  P01W,    47,  1,     19,     19,2,19990530,1946, 46.9967, 168.9970, 5163,    251.6,2,   3.2116,2,  33.7935,1,  33.7933,2,    54.80,1,    80.41,2,  -999.00,9,  -999.00,9,  -999.00,9,  -999.00,9, -999.000,9, -999.000,9, -999.000,9,-999.0000,9, -999.000,9,   -999.0,9,   -999.0,9, -999.000,9,   -999.0,9,   -999.0,  -999.00,9,   -999.0,9,   -999.0,9,   3.1959,  26.9041
  49KA199905_1,  P01W,    47,  1,     18,     18,2,19990530,1946, 46.9967, 168.9970, 5163,    300.4,2,   3.3988,2,  33.9069,1,  33.9074,2,    33.65,1,    57.44,2,  -999.00,9,  -999.00,9,  -999.00,9,  -999.00,9, -999.000,9, -999.000,9, -999.000,9,-999.0000,9, -999.000,9,   -999.0,9,   -999.0,9, -999.000,9,   -999.0,9,   -999.0,  -999.00,9,   -999.0,9,   -999.0,9,   3.3794,  26.9780
  49KA199905_1,  P01W,    47,  1,     17,     17,2,19990530,1946, 46.9967, 168.9970, 5163,    350.6,2,   3.4649,2,  33.9800,1,  33.9828,2,    23.76,1,    46.61,2,  -999.00,9,  -999.00,9,  -999.00,9,  -999.00,9, -999.000,9, -999.000,9, -999.000,9,-999.0000,9, -999.000,9,   -999.0,9,   -999.0,9, -999.000,9,   -999.0,9,   -999.0,  -999.00,9,   -999.0,9,   -999.0,9,   3.4419,  27.0321
  49KA199905_1,  P01W,    47,  1,     16,     16,2,19990530,1946, 46.9967, 168.9970, 5163,    401.4,2,   3.4578,2,  34.0302,1,  34.0303,2,    16.07,1,    39.15,2,  -999.00,9,  -999.00,9,  -999.00,9,  -999.00,9, -999.000,9, -999.000,9, -999.000,9,-999.0000,9, -999.000,9,   -999.0,9,   -999.0,9, -999.000,9,   -999.0,9,   -999.0,  -999.00,9,   -999.0,9,   -999.0,9,   3.4313,  27.0710
  49KA199905_1,  P01W,    47,  1,     15,     15,2,19990530,1946, 46.9967, 168.9970, 5163,    501.9,2,   3.3950,2,  34.1363,1,  34.1350,2,     6.78,1,    29.22,2,  -999.00,9,  -999.00,9,  -999.00,9,  -999.00,9, -999.000,9, -999.000,9, -999.000,9,-999.0000,9, -999.000,9,   -999.0,9,   -999.0,9, -999.000,9,   -999.0,9,   -999.0,  -999.00,9,   -999.0,9,   -999.0,9,   3.3616,  27.1611
  49KA199905_1,  P01W,    47,  1,     14,     14,2,19990530,1946, 46.9967, 168.9970, 5163,    599.6,2,   3.2552,2,  34.2139,1,  34.2158,2,     2.49,1,    25.08,2,  -999.00,9,  -999.00,9,  -999.00,9,  -999.00,9, -999.000,9, -999.000,9, -999.000,9,-999.0000,9, -999.000,9,   -999.0,9,   -999.0,9, -999.000,9,   -999.0,9,   -999.0,  -999.00,9,   -999.0,9,   -999.0,9,   3.2155,  27.2393
  49KA199905_1,  P01W,    47,  1,     13,     13,2,19990530,1946, 46.9967, 168.9970, 5163,    800.6,2,   2.9563,2,  34.3262,1,  34.3266,2,     1.42,1,    25.69,2,  -999.00,9,  -999.00,9,  -999.00,9,  -999.00,9, -999.000,9, -999.000,9, -999.000,9,-999.0000,9, -999.000,9,   -999.0,9,   -999.0,9, -999.000,9,   -999.0,9,   -999.0,  -999.00,9,   -999.0,9,   -999.0,9,   2.9037,  27.3562
  49KA199905_1,  P01W,    47,  1,     12,     12,2,19990530,1946, 46.9967, 168.9970, 5163,   1000.1,2,   2.6672,2,  34.4061,1,  34.4063,2,     2.72,1,    26.21,2,  -999.00,9,  -999.00,9,  -999.00,9,  -999.00,9, -999.000,9, -999.000,9, -999.000,9,-999.0000,9, -999.000,9,   -999.0,9,   -999.0,9, -999.000,9,   -999.0,9,   -999.0,  -999.00,9,   -999.0,9,   -999.0,9,   2.6021,  27.4464
  49KA199905_1,  P01W,    47,  1,     11,     11,2,19990530,1946, 46.9967, 168.9970, 5163,   1250.8,2,   2.3689,2,  34.4784,1,  34.4794,2,     9.87,1,    36.91,2,  -999.00,9,  -999.00,9,  -999.00,9,  -999.00,9, -999.000,9, -999.000,9, -999.000,9,-999.0000,9, -999.000,9,   -999.0,9,   -999.0,9, -999.000,9,   -999.0,9,   -999.0,  -999.00,9,   -999.0,9,   -999.0,9,   2.2878,  27.5314
  49KA199905_1,  P01W,    47,  1,     10,     10,2,19990530,1946, 46.9967, 168.9970, 5163,   1502.4,2,   2.1550,2,  34.5294,1,  34.5301,2,    16.55,1,    43.79,2,  -999.00,9,  -999.00,9,  -999.00,9,  -999.00,9, -999.000,9, -999.000,9, -999.000,9,-999.0000,9, -999.000,9,   -999.0,9,   -999.0,9, -999.000,9,   -999.0,9,   -999.0,  -999.00,9,   -999.0,9,   -999.0,9,   2.0568,  27.5907
  49KA199905_1,  P01W,    47,  1,      9,      9,2,19990530,1946, 46.9967, 168.9970, 5163,   1750.5,2,   1.9829,2,  34.5711,1,  34.5723,2,    29.36,1,    62.30,2,  -999.00,9,  -999.00,9,  -999.00,9,  -999.00,9, -999.000,9, -999.000,9, -999.000,9,-999.0000,9, -999.000,9,   -999.0,9,   -999.0,9, -999.000,9,   -999.0,9,   -999.0,  -999.00,9,   -999.0,9,   -999.0,9,   1.8674,  27.6394
  49KA199905_1,  P01W,    47,  1,      8,      8,2,19990530,1946, 46.9967, 168.9970, 5163,   1998.9,2,   1.8507,2,  34.5988,1,  34.5987,2,    42.22,1,    74.39,2,  -999.00,9,  -999.00,9,  -999.00,9,  -999.00,9, -999.000,9, -999.000,9, -999.000,9,-999.0000,9, -999.000,9,   -999.0,9,   -999.0,9, -999.000,9,   -999.0,9,   -999.0,  -999.00,9,   -999.0,9,   -999.0,9,   1.7167,  27.6721
  49KA199905_1,  P01W,    47,  1,      7,      7,2,19990530,1946, 46.9967, 168.9970, 5163,   2501.3,2,   1.6792,2,  34.6363,1,  34.6330,2,    64.80,1,   101.34,2,  -999.00,9,  -999.00,9,  -999.00,9,  -999.00,9, -999.000,9, -999.000,9, -999.000,9,-999.0000,9, -999.000,9,   -999.0,9,   -999.0,9, -999.000,9,   -999.0,9,   -999.0,  -999.00,9,   -999.0,9,   -999.0,9,   1.5048,  27.7153
  49KA199905_1,  P01W,    47,  1,      6,      6,2,19990530,1946, 46.9967, 168.9970, 5163,   3000.6,2,   1.5584,2,  34.6592,1,  34.6600,2,    83.58,1,   124.60,2,  -999.00,9,  -999.00,9,  -999.00,9,  -999.00,9, -999.000,9, -999.000,9, -999.000,9,-999.0000,9, -999.000,9,   -999.0,9,   -999.0,9, -999.000,9,   -999.0,9,   -999.0,  -999.00,9,   -999.0,9,   -999.0,9,   1.3404,  27.7488
  49KA199905_1,  P01W,    47,  1,      5,      5,2,19990530,1946, 46.9967, 168.9970, 5163,   3500.3,2,   1.5038,2,  34.6711,1,  34.6715,2,    94.47,1,   136.45,2,  -999.00,9,  -999.00,9,  -999.00,9,  -999.00,9, -999.000,9, -999.000,9, -999.000,9,-999.0000,9, -999.000,9,   -999.0,9,   -999.0,9, -999.000,9,   -999.0,9,   -999.0,  -999.00,9,   -999.0,9,   -999.0,9,   1.2376,  27.7652
  49KA199905_1,  P01W,    47,  1,      4,      4,2,19990530,1946, 46.9967, 168.9970, 5163,   4000.4,2,   1.4863,2,  34.6784,1,  34.6797,2,   102.13,1,   147.55,2,  -999.00,9,  -999.00,9,  -999.00,9,  -999.00,9, -999.000,9, -999.000,9, -999.000,9,-999.0000,9, -999.000,9,   -999.0,9,   -999.0,9, -999.000,9,   -999.0,9,   -999.0,  -999.00,9,   -999.0,9,   -999.0,9,   1.1678,  27.7766
  49KA199905_1,  P01W,    47,  1,      3,      3,2,19990530,1946, 46.9967, 168.9970, 5163,   4499.4,2,   1.5051,2,  34.6820,1,  34.6829,2,   106.71,1,   152.72,2,  -999.00,9,  -999.00,9,  -999.00,9,  -999.00,9, -999.000,9, -999.000,9, -999.000,9,-999.0000,9, -999.000,9,   -999.0,9,   -999.0,9, -999.000,9,   -999.0,9,   -999.0,  -999.00,9,   -999.0,9,   -999.0,9,   1.1301,  27.7818
  49KA199905_1,  P01W,    47,  1,      2,      2,2,19990530,1946, 46.9967, 168.9970, 5163,   5000.2,2,   1.5300,2,  34.6853,1,  34.6882,2,   111.81,1,   157.25,2,  -999.00,9,  -999.00,9,  -999.00,9,  -999.00,9, -999.000,9, -999.000,9, -999.000,9,-999.0000,9, -999.000,9,   -999.0,9,   -999.0,9, -999.000,9,   -999.0,9,   -999.0,  -999.00,9,   -999.0,9,   -999.0,9,   1.0947,  27.7884
  49KA199905_1,  P01W,    47,  1,      1,      1,2,19990530,1946, 46.9967, 168.9970, 5163,   5260.2,2,   1.5515,2,  34.6863,1,  34.6891,2,   113.94,1,   157.48,2,  -999.00,9,  -999.00,9,  -999.00,9,  -999.00,9, -999.000,9, -999.000,9, -999.000,9,-999.0000,9, -999.000,9,   -999.0,9,   -999.0,9, -999.000,9,   -999.0,9,   -999.0,  -999.00,9,   -999.0,9,   -999.0,9,   1.0834,  27.7899