BOTTLE,20220921CCHSIOAMB
EXPOCODE,SECT_ID,STNNBR,CASTNO,SAMPNO,BTLNBR,BTLNBR_FLAG_W,DATE,TIME,LATITUDE,LONGITUDE,DEPTH,CTDPRS,CTDPRS_FLAG_W,CTDTMP,CTDTMP_FLAG_W,CTDSAL,CTDSAL_FLAG_W,SALNTY,SALNTY_FLAG_W,CTDOXY,CTDOXY_FLAG_W,OXYGEN,OXYGEN_FLAG_W,SILCAT,SILCAT_FLAG_W,NITRAT,NITRAT_FLAG_W,NITRIT,NITRIT_FLAG_W,PHSPHT,PHSPHT_FLAG_W,CFC-11,CFC-11_FLAG_W,CFC-12,CFC-12_FLAG_W,CFC113,CFC113_FLAG_W,SF6,SF6_FLAG_W,PH,PH_FLAG_W,ALKALI,ALKALI_FLAG_W,TCARBN,TCARBN_FLAG_W,DELC13,DELC13_FLAG_W,DELC14,DELC14_FLAG_W,C14ERR,CHLORA,CHLORA_FLAG_W,CU,CU_FLAG_W,NI,NI_FLAG_W,THETA,SIG0
,,,,,,,,,,,METERS,DBAR,,ITS-90,,PSS-78,,PSS-78,,UMOL/KG,,UMOL/KG,,UMOL/KG,,UMOL/KG,,UMOL/KG,,UMOL/KG,,PMOL/KG,,PMOL/KG,,PMOL/KG,,FMOL/KG,,,,UMOL/KG,,UMOL/KG,,/MILLE,,/MILLE,,/MILLE,UG/KG,,UMOL/L,,UMOL/L,,ITS-90,KG/M^3
  49KA199905_1,  P01W,    37,  1,     24,     24,2,19990528,0551, 46.5645, 159.2058, 5104,     10.3,2,   2.8387,2,  32.9910,1,  32.9921,2,   300.95,1,   343.44,2,    44.57,3,    23.06,4,     0.14,4,     1.92,2, -999.000,9, -999.000,9, -999.000,9,-999.0000,9, -999.000,9,   -999.0,9,   -999.0,9, -999.000,9,   -999.0,9,   -999.0,  -999.00,9,   -999.0,9,   -999.0,9,   2.8381,  26.2963
  49KA199905_1,  P01W,    37,  1,     23,     23,2,19990528,0551, 46.5645, 159.2058, 5104,     49.8,2,   1.6305,2,  33.0474,1,  33.0515,2,   302.53,1,   345.61,2,    46.35,2,    24.19,4,     0.14,4,     1.98,2, -999.000,9, -999.000,9, -999.000,9,-999.0000,9, -999.000,9,   -999.0,9,   -999.0,9, -999.000,9,   -999.0,9,   -999.0,  -999.00,9,   -999.0,9,   -999.0,9,   1.6282,  26.4375
  49KA199905_1,  P01W,    37,  1,     22,     22,2,19990528,0551, 46.5645, 159.2058, 5104,     99.6,2,   0.9302,2,  33.1464,1,  33.1664,4,   282.34,1,   317.58,4,    51.31,3,    27.04,3,     0.32,3,     2.15,3, -999.000,9, -999.000,9, -999.000,9,-999.0000,9, -999.000,9,   -999.0,9,   -999.0,9, -999.000,9,   -999.0,9,   -999.0,  -999.00,9,   -999.0,9,   -999.0,9,   0.9261,  26.5756
  49KA199905_1,  P01W,    37,  1,     21,     21,2,19990528,0551, 46.5645, 159.2058, 5104,    149.7,2,   3.4999,2,  33.7731,1,  33.7782,2,    45.94,1,  -999.00,9,    88.22,2,    41.14,2,     0.00,2,     2.98,2, -999.000,9, -999.000,9, -999.000,9,-999.0000,9, -999.000,9,   -999.0,9,   -999.0,9, -999.000,9,   -999.0,9,   -999.0,  -999.00,9,   -999.0,9,   -999.0,9,   3.4903,  26.8645
  49KA199905_1,  P01W,    37,  1,     20,     20,2,19990528,0551, 46.5645, 159.2058, 5104,    199.9,2,   3.5394,2,  33.9297,1,  33.9351,2,     5.40,1,    25.91,2,   100.83,2,    44.33,2,     0.00,2,     3.19,2, -999.000,9, -999.000,9, -999.000,9,-999.0000,9, -999.000,9,   -999.0,9,   -999.0,9, -999.000,9,   -999.0,9,   -999.0,  -999.00,9,   -999.0,9,   -999.0,9,   3.5264,  26.9860
  49KA199905_1,  P01W,    37,  1,     19,     19,2,19990528,0551, 46.5645, 159.2058, 5104,    250.8,2,   3.5296,2,  34.0284,1,  34.0292,2,     0.52,1,    23.09,2,   108.43,2,    43.97,2,     0.00,2,     3.17,2, -999.000,9, -999.000,9, -999.000,9,-999.0000,9, -999.000,9,   -999.0,9,   -999.0,9, -999.000,9,   -999.0,9,   -999.0,  -999.00,9,   -999.0,9,   -999.0,9,   3.5132,  27.0623
  49KA199905_1,  P01W,    37,  1,     18,     18,2,19990528,0551, 46.5645, 159.2058, 5104,    299.8,2,   3.4769,2,  34.0788,1,  34.0813,2,    -4.15,1,    16.75,2,   113.41,2,    44.17,2,     0.00,2,     3.18,2, -999.000,9, -999.000,9, -999.000,9,-999.0000,9, -999.000,9,   -999.0,9,   -999.0,9, -999.000,9,   -999.0,9,   -999.0,  -999.00,9,   -999.0,9,   -999.0,9,   3.4573,  27.1092
  49KA199905_1,  P01W,    37,  1,     17,     17,2,19990528,0551, 46.5645, 159.2058, 5104,    350.4,2,   3.4328,2,  34.1212,1,  34.1231,2,    -3.39,1,    17.91,2,   117.07,2,    43.80,2,     0.00,2,     3.15,2, -999.000,9, -999.000,9, -999.000,9,-999.0000,9, -999.000,9,   -999.0,9,   -999.0,9, -999.000,9,   -999.0,9,   -999.0,  -999.00,9,   -999.0,9,   -999.0,9,   3.4098,  27.1470
  49KA199905_1,  P01W,    37,  1,     16,     16,2,19990528,0551, 46.5645, 159.2058, 5104,    400.8,2,   3.3341,2,  34.1609,1,  34.1623,2,    -5.03,1,    17.41,2,   121.79,2,    43.92,2,     0.00,2,     3.14,2, -999.000,9, -999.000,9, -999.000,9,-999.0000,9, -999.000,9,   -999.0,9,   -999.0,9, -999.000,9,   -999.0,9,   -999.0,  -999.00,9,   -999.0,9,   -999.0,9,   3.3080,  27.1879
  49KA199905_1,  P01W,    37,  1,     15,     15,2,19990528,0551, 46.5645, 159.2058, 5104,    501.9,2,   3.1858,2,  34.2378,1,  34.2388,2,    -4.67,1,    20.11,2,   129.22,2,    43.53,2,     0.00,2,     3.14,2, -999.000,9, -999.000,9, -999.000,9,-999.0000,9, -999.000,9,   -999.0,9,   -999.0,9, -999.000,9,   -999.0,9,   -999.0,  -999.00,9,   -999.0,9,   -999.0,9,   3.1532,  27.2634
  49KA199905_1,  P01W,    37,  1,     14,     14,2,19990528,0551, 46.5645, 159.2058, 5104,    602.7,2,   3.0199,2,  34.2979,1,  34.2985,2,    -5.70,1,    19.48,2,   136.70,2,    43.60,2,     0.00,2,     3.14,2, -999.000,9, -999.000,9, -999.000,9,-999.0000,9, -999.000,9,   -999.0,9,   -999.0,9, -999.000,9,   -999.0,9,   -999.0,  -999.00,9,   -999.0,9,   -999.0,9,   2.9810,  27.3268
  49KA199905_1,  P01W,    37,  1,     13,     13,2,19990528,0551, 46.5645, 159.2058, 5104,    800.6,2,   2.7563,2,  34.3799,1,  34.3804,2,    -4.36,1,    21.48,2,   146.42,2,    43.31,2,     0.00,2,     3.13,2, -999.000,9, -999.000,9, -999.000,9,-999.0000,9, -999.000,9,   -999.0,9,   -999.0,9, -999.000,9,   -999.0,9,   -999.0,  -999.00,9,   -999.0,9,   -999.0,9,   2.7050,  27.4168
  49KA199905_1,  P01W,    37,  1,     12,     12,2,19990528,0551, 46.5645, 159.2058, 5104,   1000.0,2,   2.4590,2,  34.4525,1,  34.4531,2,     1.50,1,    30.92,2,   154.63,2,    42.82,2,     0.00,2,     3.09,2, -999.000,9, -999.000,9, -999.000,9,-999.0000,9, -999.000,9,   -999.0,9,   -999.0,9, -999.000,9,   -999.0,9,   -999.0,  -999.00,9,   -999.0,9,   -999.0,9,   2.3954,  27.5014
  49KA199905_1,  P01W,    37,  1,     11,     11,2,19990528,0551, 46.5645, 159.2058, 5104,   1250.2,2,   2.2156,2,  34.5112,1,  34.5129,2,    10.84,1,    41.00,2,   161.28,2,    42.26,2,     0.00,2,     3.02,2, -999.000,9, -999.000,9, -999.000,9,-999.0000,9, -999.000,9,   -999.0,9,   -999.0,9, -999.000,9,   -999.0,9,   -999.0,  -999.00,9,   -999.0,9,   -999.0,9,   2.1359,  27.5706
  49KA199905_1,  P01W,    37,  1,     10,     10,2,19990528,0551, 46.5645, 159.2058, 5104,   1500.0,2,   2.0312,2,  34.5550,1,  34.5564,2,    22.66,1,    50.64,2,   164.22,2,    41.53,2,     0.00,2,     2.97,2, -999.000,9, -999.000,9, -999.000,9,-999.0000,9, -999.000,9,   -999.0,9,   -999.0,9, -999.000,9,   -999.0,9,   -999.0,  -999.00,9,   -999.0,9,   -999.0,9,   1.9346,  27.6214
  49KA199905_1,  P01W,    37,  1,      9,      9,2,19990528,0551, 46.5645, 159.2058, 5104,   1750.5,2,   1.8835,2,  34.5912,1,  34.5937,2,    40.88,1,    72.57,2,   161.97,2,    40.19,2,     0.00,2,     2.87,2, -999.000,9, -999.000,9, -999.000,9,-999.0000,9, -999.000,9,   -999.0,9,   -999.0,9, -999.000,9,   -999.0,9,   -999.0,  -999.00,9,   -999.0,9,   -999.0,9,   1.7693,  27.6641
  49KA199905_1,  P01W,    37,  1,      8,      8,2,19990528,0551, 46.5645, 159.2058, 5104,   1999.2,2,   1.7735,2,  34.6143,1,  34.5062,4,    52.00,1,    42.80,4,   157.13,4,    41.26,4,     0.00,4,     3.30,4, -999.000,9, -999.000,9, -999.000,9,-999.0000,9, -999.000,9,   -999.0,9,   -999.0,9, -999.000,9,   -999.0,9,   -999.0,  -999.00,9,   -999.0,9,   -999.0,9,   1.6410,  27.6035
  49KA199905_1,  P01W,    37,  1,      7,      7,2,19990528,0551, 46.5645, 159.2058, 5104,   2500.0,2,   1.5943,2,  34.6491,1,  34.6513,2,    77.36,1,   115.30,2,   154.43,2,    37.82,2,     0.00,2,     2.68,2, -999.000,9, -999.000,9, -999.000,9,-999.0000,9, -999.000,9,   -999.0,9,   -999.0,9, -999.000,9,   -999.0,9,   -999.0,  -999.00,9,   -999.0,9,   -999.0,9,   1.4217,  27.7360
  49KA199905_1,  P01W,    37,  1,      6,      6,2,19990528,0551, 46.5645, 159.2058, 5104,   3000.1,2,   1.5099,2,  34.6651,1,  34.6668,2,    90.08,1,   131.88,2,   151.41,2,    36.64,2,     0.00,2,     2.60,2, -999.000,9, -999.000,9, -999.000,9,-999.0000,9, -999.000,9,   -999.0,9,   -999.0,9, -999.000,9,   -999.0,9,   -999.0,  -999.00,9,   -999.0,9,   -999.0,9,   1.2930,  27.7576
  49KA199905_1,  P01W,    37,  1,      5,      5,2,19990528,0551, 46.5645, 159.2058, 5104,   3500.0,2,   1.4603,2,  34.6759,1,  34.6706,4,   100.21,1,   139.05,4,   149.77,3,    36.29,3,     0.00,3,     2.56,3, -999.000,9, -999.000,9, -999.000,9,-999.0000,9, -999.000,9,   -999.0,9,   -999.0,9, -999.000,9,   -999.0,9,   -999.0,  -999.00,9,   -999.0,9,   -999.0,9,   1.1953,  27.7674
  49KA199905_1,  P01W,    37,  1,      4,      4,2,19990528,0551, 46.5645, 159.2058, 5104,   4001.0,2,   1.4474,2,  34.6823,1,  34.6837,2,   107.55,1,   154.08,2,   145.74,2,    35.34,2,     0.00,2,     2.48,2, -999.000,9, -999.000,9, -999.000,9,-999.0000,9, -999.000,9,   -999.0,9,   -999.0,9, -999.000,9,   -999.0,9,   -999.0,  -999.00,9,   -999.0,9,   -999.0,9,   1.1298,  27.7824
  49KA199905_1,  P01W,    37,  1,      3,      3,2,19990528,0551, 46.5645, 159.2058, 5104,   4500.5,2,   1.4644,2,  34.6859,1,  34.6890,2,   112.05,1,   158.21,2,   145.88,2,    34.96,2,     0.00,2,     2.45,2, -999.000,9, -999.000,9, -999.000,9,-999.0000,9, -999.000,9,   -999.0,9,   -999.0,9, -999.000,9,   -999.0,9,   -999.0,  -999.00,9,   -999.0,9,   -999.0,9,   1.0905,  27.7894
  49KA199905_1,  P01W,    37,  1,      2,      2,2,19990528,0551, 46.5645, 159.2058, 5104,   4999.5,2,   1.5084,2,  34.6873,1,  34.6909,2,   114.73,1,   160.37,2,   145.25,2,    34.85,2,     0.00,2,     2.45,2, -999.000,9, -999.000,9, -999.000,9,-999.0000,9, -999.000,9,   -999.0,9,   -999.0,9, -999.000,9,   -999.0,9,   -999.0,  -999.00,9,   -999.0,9,   -999.0,9,   1.0739,  27.7920
  49KA199905_1,  P01W,    37,  1,      1,      1,2,19990528,0551, 46.5645, 159.2058, 5104,   5195.2,2,   1.5300,2,  34.6874,1,  34.6909,2,   116.34,1,   161.38,2,   145.35,2,    34.68,2,     0.00,2,     2.45,2, -999.000,9, -999.000,9, -999.000,9,-999.0000,9, -999.000,9,   -999.0,9,   -999.0,9, -999.000,9,   -999.0,9,   -999.0,  -999.00,9,   -999.0,9,   -999.0,9,   1.0707,  27.7922
  49KA199905_1,  P01W,    38,  1,     24,     24,2,19990528,1203, 47.0038, 160.0110, 5188,     10.7,2,   2.9351,2,  33.0008,1,  33.0028,2,   318.92,1,   364.88,2,    23.88,3,    16.65,3,     0.17,3,     1.32,2,    5.957,2,    2.919,2,    0.510,2,   0.3431,2,    7.769,2,   2240.5,2,   2067.7,2, -999.000,1,    -39.4,2,      3.4,     1.87,2,   -999.0,9,   -999.0,9,   2.9345,  26.2966
  49KA199905_1,  P01W,    38,  1,     23,     23,2,19990528,1203, 47.0038, 160.0110, 5188,     50.8,2,   2.0536,2,  33.0467,1,  33.0562,4,   304.44,1,   346.84,4,    37.62,3,    21.60,3,     0.21,3,     1.89,3,    6.058,4,    2.944,4,    0.527,4,   0.3950,4,    7.673,4,   2242.1,4,   2105.8,4, -999.000,1,    -42.7,2,      3.3,     1.14,2,   -999.0,9,   -999.0,9,   2.0511,  26.4107
  49KA199905_1,  P01W,    38,  1,     22,     22,2,19990528,1203, 47.0038, 160.0110, 5188,    100.3,2,   1.0529,2,  33.1732,1,  33.1672,4,   263.24,1,   311.32,4,    49.94,3,    27.13,3,     0.32,3,     2.21,3,    5.756,4,    2.804,4,    0.605,4,   0.3646,4,    7.576,4,   2243.6,4,   2144.5,4, -999.000,1,    -48.5,2,      3.6,     0.15,2,   -999.0,9,   -999.0,9,   1.0487,  26.5687
  49KA199905_1,  P01W,    38,  1,     21,     21,2,19990528,1203, 47.0038, 160.0110, 5188,    150.0,2,   3.5056,2,  33.8605,1,  33.8605,2,    18.18,1,    42.98,2,    92.29,2,    43.63,2,     0.00,2,     3.22,2,    1.895,2,    0.867,2,    0.121,2,   0.2383,2,    7.273,2,   2297.2,2,   2318.8,2, -999.000,1,   -111.5,2,      3.2,     0.06,2,   -999.0,9,   -999.0,9,   3.4960,  26.9295
  49KA199905_1,  P01W,    38,  1,     20,     20,2,19990528,1203, 47.0038, 160.0110, 5188,    199.8,2,   3.5187,2,  33.9597,1,  33.9615,2,    -1.33,1,    19.92,2,   101.02,2,    44.82,2,     0.00,2,     3.31,2,    1.517,2,    0.666,2,    0.092,2,   0.0636,2,    7.249,3,   2315.8,2,   2337.4,2, -999.000,1,   -119.8,2,      2.8,     0.04,2,   -999.0,9,   -999.0,9,   3.5058,  27.0090
  49KA199905_1,  P01W,    38,  1,     19,     19,2,19990528,1203, 47.0038, 160.0110, 5188,    249.8,2,   3.5193,2,  34.0335,1,  34.0368,2,    -0.63,1,    18.79,2,   106.33,2,    44.25,2,     0.00,2,     3.28,2,    0.942,2,    0.412,2,    0.075,2,   0.0715,2,    7.279,3,   2322.1,2,   2330.2,2, -999.000,1,   -139.8,2,      2.5,     0.03,2,   -999.0,9,   -999.0,9,   3.5030,  27.0693
  49KA199905_1,  P01W,    38,  1,     18,     18,2,19990528,1203, 47.0038, 160.0110, 5188,    300.8,2,   3.4585,2,  34.0931,1,  34.0951,2,    -3.00,1,    18.25,2,   112.36,2,    43.77,2,     0.00,2,     3.27,2,    0.809,2,    0.338,2,    0.041,2,   0.0168,2,    7.287,2,   2330.9,2,   2341.6,2, -999.000,1,   -160.9,2,      2.8,     0.03,2,   -999.0,9,   -999.0,9,   3.4388,  27.1219
  49KA199905_1,  P01W,    38,  1,     17,     17,2,19990528,1203, 47.0038, 160.0110, 5188,    350.2,2,   3.4052,2,  34.1377,1,  34.1392,2,    -3.03,1,    18.10,2,   116.01,2,    43.75,2,     0.00,2,     3.24,2,    0.644,2,    0.266,2,    0.022,2,   0.0043,2,    7.296,3,   2337.0,2,   2346.0,2, -999.000,1,   -161.8,2,      3.1,  -999.00,9,   -999.0,9,   -999.0,9,   3.3823,  27.1625
  49KA199905_1,  P01W,    38,  1,     16,     16,2,19990528,1203, 47.0038, 160.0110, 5188,    400.4,2,   3.3356,2,  34.1771,1,  34.1777,2,    -3.99,1,    17.32,2,   119.58,2,    43.77,2,     0.00,2,     3.23,2,    0.490,2,    0.219,2,    0.021,2,   0.0000,2,    7.301,3,   2347.7,2,   2359.7,2, -999.000,1,   -169.1,2,      3.0,  -999.00,9,   -999.0,9,   -999.0,9,   3.3095,  27.2001
  49KA199905_1,  P01W,    38,  1,     15,     15,2,19990528,1203, 47.0038, 160.0110, 5188,    500.1,2,   3.1634,2,  34.2517,1,  34.2545,2,    -4.65,1,    20.36,2,   127.76,2,    43.65,2,     0.00,2,     3.22,2,    0.352,2,    0.130,2,    0.015,2,   0.0072,2,    7.314,2,   2354.5,2,   2363.4,2, -999.000,1,   -176.6,2,      2.9,  -999.00,9,   -999.0,9,   -999.0,9,   3.1310,  27.2780
  49KA199905_1,  P01W,    38,  1,     14,     14,2,19990528,1203, 47.0038, 160.0110, 5188,    600.6,2,   3.0011,2,  34.3077,1,  34.3093,2,    -4.76,1,    19.42,2,   134.74,2,    43.78,2,     0.00,2,     3.23,2,    0.241,2,    0.097,2,    0.005,2,   0.0000,2,    7.344,3,   2366.7,2,   2377.4,2, -999.000,1,   -185.7,2,      2.8,  -999.00,9,   -999.0,9,   -999.0,9,   2.9624,  27.3371
  49KA199905_1,  P01W,    38,  1,     13,     13,2,19990528,1203, 47.0038, 160.0110, 5188,    800.1,2,   2.6724,2,  34.4012,1,  34.4012,2,    -2.53,1,    31.72,2,   146.39,2,    43.67,2,     0.00,2,     3.23,2,    0.172,2,    0.069,2,    0.003,2,   0.0000,2,    7.340,2,   2382.5,2,   2379.2,2, -999.000,1,   -203.7,2,      2.9,  -999.00,9,   -999.0,9,   -999.0,9,   2.6215,  27.4407
  49KA199905_1,  P01W,    38,  1,     12,     12,2,19990528,1203, 47.0038, 160.0110, 5188,   1000.4,2,   2.4065,2,  34.4590,1,  34.4598,2,     5.19,1,    34.10,2,   154.09,2,    42.46,2,     0.00,2,     3.13,2,    0.107,2,    0.027,2,    0.000,2,   0.0000,2,    7.354,2,   2391.5,2,   2381.7,2, -999.000,1,   -222.3,2,      3.0,  -999.00,9,   -999.0,9,   -999.0,9,   2.3433,  27.5111
  49KA199905_1,  P01W,    38,  1,     11,     11,2,19990528,1203, 47.0038, 160.0110, 5188,   1250.3,2,   2.2083,2,  34.5075,1,  34.5090,2,    15.13,1,    43.38,2,   158.48,2,    41.93,2,     0.00,2,     3.11,2,    0.098,2,    0.021,2,    0.006,2,-999.0000,9,    7.380,2,   2398.3,2,   2381.2,2, -999.000,1,   -220.0,2,      2.7,  -999.00,9,   -999.0,9,   -999.0,9,   2.1286,  27.5680
  49KA199905_1,  P01W,    38,  1,     10,     10,2,19990528,1203, 47.0038, 160.0110, 5188,   1499.5,2,   2.0303,2,  34.5553,1,  34.5572,2,    26.81,1,    55.81,2,   161.29,2,    41.26,2,     0.00,2,     3.04,2,    0.011,2,    0.010,2,    0.006,2,   0.0000,2,    7.409,2,   2405.9,2,   2380.7,2, -999.000,1,   -226.6,2,      2.5,  -999.00,9,   -999.0,9,   -999.0,9,   1.9337,  27.6221
  49KA199905_1,  P01W,    38,  1,      9,      9,2,19990528,1203, 47.0038, 160.0110, 5188,   1750.2,2,   1.8936,2,  34.5901,1,  34.5917,2,    40.82,1,    72.36,2,   159.73,2,    40.23,2,     0.00,2,     2.97,2,    0.001,2,    0.000,2,    0.000,2,-999.0000,9,    7.442,2,   2410.5,2,   2371.6,2, -999.000,1,   -235.9,2,      2.5,  -999.00,9,   -999.0,9,   -999.0,9,   1.7793,  27.6617
  49KA199905_1,  P01W,    38,  1,      8,      8,2,19990528,1203, 47.0038, 160.0110, 5188,   2000.5,2,   1.7699,2,  34.6169,1,  34.6186,2,    55.28,1,    89.70,2,   157.36,2,    39.30,2,     0.00,2,     2.88,2,    0.001,2,    0.000,2,    0.003,2,   0.0000,2,    7.479,2,   2412.3,2,   2361.3,2, -999.000,1,   -232.9,2,      2.5,  -999.00,9,   -999.0,9,   -999.0,9,   1.6369,  27.6940
  49KA199905_1,  P01W,    38,  1,      7,      7,2,19990528,1203, 47.0038, 160.0110, 5188,   2500.2,2,   1.6009,2,  34.6481,1,  34.6694,4,    75.53,1,   114.18,4,   153.70,3,    37.76,3,     0.00,3,     2.76,3,    0.000,4,    0.005,4,    0.000,4,-999.0000,9,    7.515,4,   2411.9,4,   2348.1,4, -999.000,1,   -236.7,2,      2.5,  -999.00,9,   -999.0,9,   -999.0,9,   1.4280,  27.7501
  49KA199905_1,  P01W,    38,  1,      6,      6,2,19990528,1203, 47.0038, 160.0110, 5188,   3001.1,2,   1.5119,2,  34.6652,1,  34.6672,2,    89.95,1,   132.20,2,   149.29,2,    36.65,2,     0.00,2,     2.65,2,    0.000,2,    0.000,2,    0.004,2,   0.0047,2,    7.543,2,   2411.5,2,   2338.0,2, -999.000,1,   -231.7,2,      2.8,  -999.00,9,   -999.0,9,   -999.0,9,   1.2948,  27.7578
  49KA199905_1,  P01W,    38,  1,      5,      5,2,19990528,1203, 47.0038, 160.0110, 5188,   3499.9,2,   1.4663,2,  34.6752,1,  34.6774,2,    99.46,1,   143.42,2,   146.74,2,    35.88,2,     0.00,2,     2.60,2,    0.003,2,    0.000,2,    0.000,2,-999.0000,9,    7.554,3,   2414.3,2,   2329.1,2, -999.000,1,   -220.4,2,      2.6,  -999.00,9,   -999.0,9,   -999.0,9,   1.2011,  27.7725
  49KA199905_1,  P01W,    38,  1,      4,      4,2,19990528,1203, 47.0038, 160.0110, 5188,   3999.2,2,   1.4539,2,  34.6816,1,  34.6845,2,   106.19,1,   152.04,2,   144.66,2,    35.23,2,     0.00,2,     2.56,2,    0.000,2,    0.000,2,    0.000,2,   0.0029,2,    7.564,3,   2412.7,2,   2325.3,2, -999.000,1,   -224.2,2,      2.8,  -999.00,9,   -999.0,9,   -999.0,9,   1.1363,  27.7826
  49KA199905_1,  P01W,    38,  1,      3,      3,2,19990528,1203, 47.0038, 160.0110, 5188,   4500.1,2,   1.4703,2,  34.6854,1,  34.6882,2,   110.94,1,   157.56,2,   143.41,2,    34.84,2,     0.00,2,     2.52,2,    0.002,2,    0.005,2,    0.005,2,-999.0000,9,    7.590,3,   2411.8,2,   2320.9,2, -999.000,9,   -210.8,2,      3.0,  -999.00,9,   -999.0,9,   -999.0,9,   1.0962,  27.7883
  49KA199905_1,  P01W,    38,  1,      2,      2,2,19990528,1203, 47.0038, 160.0110, 5188,   4999.2,2,   1.5141,2,  34.6866,1,  34.6696,4,   113.56,1,   160.02,2,   144.25,3,    34.73,3,     0.00,3,     2.51,3,    0.000,4,    0.000,4,    0.002,4,-999.0000,9,    7.569,4,   2411.9,4,   -999.0,5, -999.000,1,   -204.4,2,      2.6,  -999.00,9,   -999.0,9,   -999.0,9,   1.0796,  27.7745
  49KA199905_1,  P01W,    38,  1,      1,      1,2,19990528,1203, 47.0038, 160.0110, 5188,   5278.5,2,   1.5451,2,  34.6867,1,  34.6911,2,   115.24,1,   169.69,4,   144.19,2,    34.86,2,     0.00,2,     2.51,2,    0.002,2,    0.001,2,    0.000,2,   0.0000,2,    7.590,3,   2412.0,2,   2318.9,2, -999.000,1,   -208.0,2,      2.6,  -999.00,9,   -999.0,9,   -999.0,9,   1.0749,  27.7921