BOTTLE,20220921CCHSIOAMB
EXPOCODE,SECT_ID,STNNBR,CASTNO,SAMPNO,BTLNBR,BTLNBR_FLAG_W,DATE,TIME,LATITUDE,LONGITUDE,DEPTH,CTDPRS,CTDPRS_FLAG_W,CTDTMP,CTDTMP_FLAG_W,CTDSAL,CTDSAL_FLAG_W,SALNTY,SALNTY_FLAG_W,CTDOXY,CTDOXY_FLAG_W,OXYGEN,OXYGEN_FLAG_W,SILCAT,SILCAT_FLAG_W,NITRAT,NITRAT_FLAG_W,NITRIT,NITRIT_FLAG_W,PHSPHT,PHSPHT_FLAG_W,CFC-11,CFC-11_FLAG_W,CFC-12,CFC-12_FLAG_W,CFC113,CFC113_FLAG_W,SF6,SF6_FLAG_W,PH,PH_FLAG_W,ALKALI,ALKALI_FLAG_W,TCARBN,TCARBN_FLAG_W,DELC13,DELC13_FLAG_W,DELC14,DELC14_FLAG_W,C14ERR,CHLORA,CHLORA_FLAG_W,CU,CU_FLAG_W,NI,NI_FLAG_W,THETA,SIG0
,,,,,,,,,,,METERS,DBAR,,ITS-90,,PSS-78,,PSS-78,,UMOL/KG,,UMOL/KG,,UMOL/KG,,UMOL/KG,,UMOL/KG,,UMOL/KG,,PMOL/KG,,PMOL/KG,,PMOL/KG,,FMOL/KG,,,,UMOL/KG,,UMOL/KG,,/MILLE,,/MILLE,,/MILLE,UG/KG,,UMOL/L,,UMOL/L,,ITS-90,KG/M^3
  49KA199905_1,  P01W,    74,  1,     24,     24,2,19990606,2102, 47.0075,-165.9723, 5468,     10.1,2,   7.5838,2,  32.7673,1,  32.7759,2,   271.57,1,   309.97,2,    18.46,2,    13.27,3,     0.14,3,     1.28,2,    4.635,2,    2.301,2,    0.419,2,   0.3385,2,    7.747,2,   2215.7,2,   2047.5,2, -999.000,1,   -999.0,9,   -999.0,     0.29,2,   -999.0,9,   -999.0,9,   7.5829,  25.5870
  49KA199905_1,  P01W,    74,  1,     23,     23,2,19990606,2102, 47.0075,-165.9723, 5468,     49.6,2,   5.9848,2,  32.7884,1,  32.7977,2,   282.44,1,   318.15,2,    19.38,2,    14.45,3,     0.14,3,     1.35,2,    4.964,2,    2.452,2,    0.477,2,   0.3026,2,    7.724,2,   2213.9,2,   2059.3,2, -999.000,1,   -999.0,9,   -999.0,     0.43,2,   -999.0,9,   -999.0,9,   5.9808,  25.8150
  49KA199905_1,  P01W,    74,  1,     22,     22,2,19990606,2102, 47.0075,-165.9723, 5468,    100.8,2,   4.1642,2,  32.8465,1,  32.8627,4,   281.37,1,   312.82,4,    26.09,3,    18.41,3,     0.46,3,     1.58,3,    5.162,4,    2.523,4,    0.552,4,   0.2524,4,    7.668,4,   2218.8,4,   2085.2,4, -999.000,1,   -999.0,9,   -999.0,     0.07,2,   -999.0,9,   -999.0,9,   4.1574,  26.0704
  49KA199905_1,  P01W,    74,  1,     21,     21,2,19990606,2102, 47.0075,-165.9723, 5468,    150.9,2,   4.3765,2,  33.2393,1,  33.3172,4,   207.77,1,   234.44,4,    40.13,3,    25.32,3,     0.01,3,     1.91,3,    4.324,4,    2.095,4,    0.443,4,   0.2436,4,    7.567,4,   2247.5,4,   2151.6,4, -999.000,1,   -999.0,9,   -999.0,     0.01,2,   -999.0,9,   -999.0,9,   4.3660,  26.4101
  49KA199905_1,  P01W,    74,  1,     20,     20,2,19990606,2102, 47.0075,-165.9723, 5468,    200.8,2,   4.3602,2,  33.7672,1,  33.7757,2,   109.60,1,   132.06,2,    65.99,2,    35.06,2,     0.00,2,     2.49,2,    2.997,2,    1.388,2,    0.190,2,   0.1588,2,    7.410,2,   2278.4,2,   2242.2,2, -999.000,1,   -999.0,9,   -999.0,  -999.00,9,   -999.0,9,   -999.0,9,   4.3459,  26.7764
  49KA199905_1,  P01W,    74,  1,     19,     19,2,19990606,2102, 47.0075,-165.9723, 5468,    250.3,2,   4.1597,2,  33.8057,1,  33.8109,2,    89.13,1,   111.42,2,    72.72,2,    37.38,2,     0.00,2,     2.63,2,    3.078,2,    1.219,2,    0.192,2,   0.1335,2,    7.374,2,   2284.0,2,   2257.4,2, -999.000,1,   -999.0,9,   -999.0,     0.00,2,   -999.0,9,   -999.0,9,   4.1422,  26.8257
  49KA199905_1,  P01W,    74,  1,     18,     18,2,19990606,2102, 47.0075,-165.9723, 5468,    298.7,2,   3.9853,2,  33.8874,1,  33.8929,2,    62.00,1,    83.96,2,    83.58,2,    40.12,2,     0.00,2,     2.80,2,    2.092,2,    0.919,2,    0.152,2,   0.1356,2,    7.338,2,   2290.8,2,   2288.0,2, -999.000,1,   -999.0,9,   -999.0,     0.00,2,   -999.0,9,   -999.0,9,   3.9646,  26.9091
  49KA199905_1,  P01W,    74,  1,     17,     17,2,19990606,2102, 47.0075,-165.9723, 5468,    351.7,2,   3.9032,2,  33.9454,1,  33.9537,2,    43.60,1,    64.95,2,    91.30,2,    41.78,2,     0.00,2,     2.90,2,    1.919,2,    0.868,2,    0.107,2,   0.0810,2,    7.316,2,   2300.3,2,   2301.4,2, -999.000,1,   -999.0,9,   -999.0,  -999.00,9,   -999.0,9,   -999.0,9,   3.8789,  26.9661
  49KA199905_1,  P01W,    74,  1,     16,     16,2,19990606,2102, 47.0075,-165.9723, 5468,    399.5,2,   3.8359,2,  34.0007,1,  34.0049,2,    29.87,1,    51.21,2,    97.83,2,    42.85,2,     0.00,2,     2.99,2,    1.324,2,    0.601,2,    0.141,2,   0.0169,2,    7.305,2,   2309.5,2,   2316.4,2, -999.000,1,   -999.0,9,   -999.0,  -999.00,9,   -999.0,9,   -999.0,9,   3.8084,  27.0139
  49KA199905_1,  P01W,    74,  1,     15,     15,2,19990606,2102, 47.0075,-165.9723, 5468,    500.5,2,   3.7262,2,  34.1110,1,  34.1161,2,    16.60,1,    38.89,2,   110.24,2,    43.68,2,     0.00,2,     3.04,2,    0.761,2,    0.353,2,    0.058,2,   0.0060,2,    7.303,2,   2324.8,2,   2333.3,2, -999.000,1,   -999.0,9,   -999.0,  -999.00,9,   -999.0,9,   -999.0,9,   3.6916,  27.1141
  49KA199905_1,  P01W,    74,  1,     14,     14,2,19990606,2102, 47.0075,-165.9723, 5468,    600.9,2,   3.5550,2,  34.1912,1,  34.1972,2,     9.72,1,    31.28,2,   119.90,2,    44.09,2,     0.00,2,     3.08,2,    0.472,2,    0.207,2,    0.019,2,   0.0062,2,    7.307,2,   2338.1,2,   2345.5,2, -999.000,1,   -999.0,9,   -999.0,  -999.00,9,   -999.0,9,   -999.0,9,   3.5139,  27.1961
  49KA199905_1,  P01W,    74,  1,     13,     13,2,19990606,2102, 47.0075,-165.9723, 5468,    800.1,2,   3.1675,2,  34.3068,1,  34.3115,2,     4.52,1,    27.15,2,   135.69,2,    44.57,2,     0.00,2,     3.13,2,    0.193,2,    0.083,2,    0.006,2,   0.0000,2,    7.308,2,   2357.7,2,   2364.8,2, -999.000,1,   -999.0,9,   -999.0,  -999.00,9,   -999.0,9,   -999.0,9,   3.1137,  27.3251
  49KA199905_1,  P01W,    74,  1,     12,     12,2,19990606,2102, 47.0075,-165.9723, 5468,    998.5,2,   2.8619,2,  34.3774,1,  34.3819,2,     2.91,1,    27.31,2,   146.06,2,    44.52,2,     0.00,2,     3.13,2,    0.110,2,    0.047,2,    0.000,2,   0.0005,2,    7.312,2,   2371.7,2,   2380.1,2, -999.000,1,   -999.0,9,   -999.0,  -999.00,9,   -999.0,9,   -999.0,9,   2.7954,  27.4100
  49KA199905_1,  P01W,    74,  1,     11,     11,2,19990606,2102, 47.0075,-165.9723, 5468,   1247.6,2,   2.5313,2,  34.4508,1,  34.4558,2,     3.91,1,    29.04,2,   156.95,2,    44.67,2,     0.00,2,     3.12,2,    0.025,2,    0.009,2,    0.004,2,-999.0000,9,    7.326,2,   2387.0,2,   2384.9,2, -999.000,1,   -999.0,9,   -999.0,  -999.00,9,   -999.0,9,   -999.0,9,   2.4488,  27.4991
  49KA199905_1,  P01W,    74,  1,     10,     10,2,19990606,2102, 47.0075,-165.9723, 5468,   1500.7,2,   2.2914,2,  34.5056,1,  34.5100,2,     7.49,1,    33.08,2,   164.21,2,    44.56,2,     0.00,2,     3.09,2,    0.002,2,    0.000,2,    0.000,2,-999.0000,9,    7.341,2,   2396.7,2,   2386.7,2, -999.000,1,   -999.0,9,   -999.0,  -999.00,9,   -999.0,9,   -999.0,9,   2.1918,  27.5637
  49KA199905_1,  P01W,    74,  1,      9,      9,2,19990606,2102, 47.0075,-165.9723, 5468,   1749.9,2,   2.1050,2,  34.5477,1,  34.5521,2,    13.16,1,    40.77,2,   169.24,2,    44.26,2,     0.01,2,     3.05,2,    0.000,2,    0.000,2,    0.000,2,-999.0000,9,    7.358,2,   2405.0,2,   2386.2,2, -999.000,1,   -999.0,9,   -999.0,  -999.00,9,   -999.0,9,   -999.0,9,   1.9879,  27.6138
  49KA199905_1,  P01W,    74,  1,      8,      8,2,19990606,2102, 47.0075,-165.9723, 5468,   2000.2,2,   1.9567,2,  34.5799,1,  34.5842,2,    25.54,1,    55.48,2,   171.35,2,    43.41,2,     0.00,2,     2.99,2,    0.000,2,    0.000,2,    0.000,2,-999.0000,9,    7.388,2,   2407.6,2,   2380.3,2, -999.000,1,   -999.0,9,   -999.0,  -999.00,9,   -999.0,9,   -999.0,9,   1.8211,  27.6525
  49KA199905_1,  P01W,    74,  1,      7,      7,2,19990606,2102, 47.0075,-165.9723, 5468,   2502.2,2,   1.7338,2,  34.6240,1,  34.6284,2,    51.53,1,    84.75,2,   170.96,2,    41.51,2,     0.00,2,     2.86,2,    0.000,2,    0.000,2,    0.000,2,-999.0000,9,    7.441,2,   2409.3,2,   2366.3,2, -999.000,1,   -999.0,9,   -999.0,  -999.00,9,   -999.0,9,   -999.0,9,   1.5583,  27.7077
  49KA199905_1,  P01W,    74,  1,      6,      6,2,19990606,2102, 47.0075,-165.9723, 5468,   3000.7,2,   1.5861,2,  34.6514,1,  34.6560,2,    74.59,1,   111.53,2,   166.51,2,    39.67,2,     0.00,2,     2.73,2,    0.000,2,    0.000,2,    0.001,2,-999.0000,9,    7.487,2,   2413.6,2,   2356.5,2, -999.000,1,   -999.0,9,   -999.0,  -999.00,9,   -999.0,9,   -999.0,9,   1.3675,  27.7436
  49KA199905_1,  P01W,    74,  1,      5,      5,2,19990606,2102, 47.0075,-165.9723, 5468,   3499.8,2,   1.4994,2,  34.6686,1,  34.6568,4,    92.26,1,   113.24,4,   164.09,3,    39.88,4,     0.00,4,     2.71,4,    0.005,4,    0.000,4,    0.000,4,-999.0000,9,    7.500,4,   2414.4,4,   2350.4,4, -999.000,1,   -999.0,9,   -999.0,  -999.00,9,   -999.0,9,   -999.0,9,   1.2335,  27.7537
  49KA199905_1,  P01W,    74,  1,      4,      4,2,19990606,2102, 47.0075,-165.9723, 5468,   3998.6,2,   1.4704,2,  34.6786,1,  34.6835,2,   101.94,1,   144.20,2,   161.14,2,    37.47,2,     0.00,2,     2.57,3,    0.002,2,    0.000,2,    0.000,2,-999.0000,9,    7.544,2,   2416.0,2,   2332.0,2, -999.000,1,   -999.0,9,   -999.0,  -999.00,9,   -999.0,9,   -999.0,9,   1.1525,  27.7807
  49KA199905_1,  P01W,    74,  1,      3,      3,2,19990606,2102, 47.0075,-165.9723, 5468,   4500.2,2,   1.4919,2,  34.6830,1,  34.6879,2,   106.72,1,   148.88,2,   161.08,2,    37.13,2,     0.00,2,     2.49,3,    0.000,2,    0.001,2,    0.002,2,-999.0000,9,    7.554,2,   2415.8,2,   2332.5,2, -999.000,1,   -999.0,9,   -999.0,  -999.00,9,   -999.0,9,   -999.0,9,   1.1172,  27.7867
  49KA199905_1,  P01W,    74,  1,      2,      2,2,19990606,2102, 47.0075,-165.9723, 5468,   4999.9,2,   1.5414,2,  34.6843,1,  34.6888,2,   108.25,1,   151.27,2,   161.63,2,    36.99,2,     0.00,2,     2.46,2,    0.004,2,    0.001,2,    0.002,2,-999.0000,9,    7.556,2,   2414.8,2,   2332.9,2, -999.000,1,   -999.0,9,   -999.0,  -999.00,9,   -999.0,9,   -999.0,9,   1.1058,  27.7882
  49KA199905_1,  P01W,    74,  1,      1,      1,2,19990606,2102, 47.0075,-165.9723, 5468,   5435.2,2,   1.5927,2,  34.6844,1,  34.6853,4,   110.28,1,   148.43,4,   163.70,3,    38.02,3,     0.00,3,     2.55,3,    0.000,2,    0.004,2,    0.000,2,-999.0000,9,    7.537,4,   2412.9,4,   2333.7,4, -999.000,1,   -999.0,9,   -999.0,  -999.00,9,   -999.0,9,   -999.0,9,   1.1011,  27.7857
  49KA199905_1,  P01W,    35,  2,     24,     24,2,19990611,0124, 45.5575, 157.4848, 5040,      9.5,2,   4.5892,2,  32.8932,1,  32.9013,2,   311.18,1,   342.07,2,  -999.00,9,  -999.00,9,  -999.00,9,  -999.00,9, -999.000,9, -999.000,9, -999.000,9,-999.0000,9, -999.000,9,   -999.0,9,   -999.0,9, -999.000,1,   -999.0,9,   -999.0,     0.29,2,   -999.0,9,   -999.0,9,   4.5885,  26.0564
  49KA199905_1,  P01W,    35,  2,     23,     23,2,19990611,0124, 45.5575, 157.4848, 5040,     50.5,2,   2.5183,2,  32.9626,1,  32.9792,4,   308.48,1,   337.46,4,  -999.00,9,  -999.00,9,  -999.00,9,  -999.00,9, -999.000,9, -999.000,9, -999.000,9,-999.0000,9, -999.000,9,   -999.0,9,   -999.0,9, -999.000,1,   -999.0,9,   -999.0,     0.43,2,   -999.0,9,   -999.0,9,   2.5156,  26.3128
  49KA199905_1,  P01W,    35,  2,     22,     22,2,19990611,0124, 45.5575, 157.4848, 5040,    100.1,2,   1.0847,2,  33.1543,1,  33.1622,2,   297.30,1,   323.99,2,  -999.00,9,  -999.00,9,  -999.00,9,  -999.00,9, -999.000,9, -999.000,9, -999.000,9,-999.0000,9, -999.000,9,   -999.0,9,   -999.0,9, -999.000,1,   -999.0,9,   -999.0,     0.07,2,   -999.0,9,   -999.0,9,   1.0804,  26.5627
  49KA199905_1,  P01W,    35,  2,     21,     21,2,19990611,0124, 45.5575, 157.4848, 5040,    150.5,2,   2.8510,2,  33.6655,1,  33.7106,4,    69.62,1,    88.26,4,  -999.00,9,  -999.00,9,  -999.00,9,  -999.00,9, -999.000,9, -999.000,9, -999.000,9,-999.0000,9, -999.000,9,   -999.0,9,   -999.0,9, -999.000,1,   -999.0,9,   -999.0,     0.01,2,   -999.0,9,   -999.0,9,   2.8422,  26.8697
  49KA199905_1,  P01W,    35,  2,     20,     20,2,19990611,0124, 45.5575, 157.4848, 5040,    199.7,2,   3.4549,2,  33.9440,1,  33.9499,2,     3.90,1,    19.77,2,  -999.00,9,  -999.00,9,  -999.00,9,  -999.00,9, -999.000,9, -999.000,9, -999.000,9,-999.0000,9, -999.000,9,   -999.0,9,   -999.0,9, -999.000,1,   -999.0,9,   -999.0,  -999.00,9,   -999.0,9,   -999.0,9,   3.4421,  27.0059
  49KA199905_1,  P01W,    35,  2,     19,     19,2,19990611,0124, 45.5575, 157.4848, 5040,    250.2,2,   3.4311,2,  34.0224,1,  34.0272,2,     0.95,1,    16.41,2,  -999.00,9,  -999.00,9,  -999.00,9,  -999.00,9, -999.000,9, -999.000,9, -999.000,9,-999.0000,9, -999.000,9,   -999.0,9,   -999.0,9, -999.000,1,   -999.0,9,   -999.0,     0.00,2,   -999.0,9,   -999.0,9,   3.4149,  27.0701
  49KA199905_1,  P01W,    35,  2,     18,     18,2,19990611,0124, 45.5575, 157.4848, 5040,    300.5,2,   3.4034,2,  34.0909,1,  34.0968,2,    -0.32,1,    15.45,2,  -999.00,9,  -999.00,9,  -999.00,9,  -999.00,9, -999.000,9, -999.000,9, -999.000,9,-999.0000,9, -999.000,9,   -999.0,9,   -999.0,9, -999.000,1,   -999.0,9,   -999.0,     0.00,2,   -999.0,9,   -999.0,9,   3.3839,  27.1285
  49KA199905_1,  P01W,    35,  2,     17,     17,2,19990611,0124, 45.5575, 157.4848, 5040,    350.0,2,   3.3613,2,  34.1374,1,  34.1422,2,    -2.16,1,    13.51,2,  -999.00,9,  -999.00,9,  -999.00,9,  -999.00,9, -999.000,9, -999.000,9, -999.000,9,-999.0000,9, -999.000,9,   -999.0,9,   -999.0,9, -999.000,1,   -999.0,9,   -999.0,  -999.00,9,   -999.0,9,   -999.0,9,   3.3385,  27.1690
  49KA199905_1,  P01W,    35,  2,     16,     16,2,19990611,0124, 45.5575, 157.4848, 5040,    398.5,2,   3.2885,2,  34.1757,1,  34.1793,2,    -1.43,1,    14.99,2,  -999.00,9,  -999.00,9,  -999.00,9,  -999.00,9, -999.000,9, -999.000,9, -999.000,9,-999.0000,9, -999.000,9,   -999.0,9,   -999.0,9, -999.000,1,   -999.0,9,   -999.0,  -999.00,9,   -999.0,9,   -999.0,9,   3.2626,  27.2057
  49KA199905_1,  P01W,    35,  2,     15,     15,2,19990611,0124, 45.5575, 157.4848, 5040,    499.4,2,   3.1413,2,  34.2485,1,  34.2533,2,    -1.84,1,    15.05,2,  -999.00,9,  -999.00,9,  -999.00,9,  -999.00,9, -999.000,9, -999.000,9, -999.000,9,-999.0000,9, -999.000,9,   -999.0,9,   -999.0,9, -999.000,1,   -999.0,9,   -999.0,  -999.00,9,   -999.0,9,   -999.0,9,   3.1091,  27.2790
  49KA199905_1,  P01W,    35,  2,     14,     14,2,19990611,0124, 45.5575, 157.4848, 5040,    599.1,2,   2.9773,2,  34.2996,1,  34.3046,2,    -0.74,1,    17.51,2,  -999.00,9,  -999.00,9,  -999.00,9,  -999.00,9, -999.000,9, -999.000,9, -999.000,9,-999.0000,9, -999.000,9,   -999.0,9,   -999.0,9, -999.000,1,   -999.0,9,   -999.0,  -999.00,9,   -999.0,9,   -999.0,9,   2.9388,  27.3355
  49KA199905_1,  P01W,    35,  2,     13,     13,2,19990611,0124, 45.5575, 157.4848, 5040,    801.4,2,   2.7158,2,  34.3757,1,  34.3798,2,     3.25,1,    22.87,2,  -999.00,9,  -999.00,9,  -999.00,9,  -999.00,9, -999.000,9, -999.000,9, -999.000,9,-999.0000,9, -999.000,9,   -999.0,9,   -999.0,9, -999.000,1,   -999.0,9,   -999.0,  -999.00,9,   -999.0,9,   -999.0,9,   2.6647,  27.4198
  49KA199905_1,  P01W,    35,  2,     12,     12,2,19990611,0124, 45.5575, 157.4848, 5040,   1000.3,2,   2.4604,2,  34.4466,1,  34.4513,2,     9.05,1,    28.51,2,  -999.00,9,  -999.00,9,  -999.00,9,  -999.00,9, -999.000,9, -999.000,9, -999.000,9,-999.0000,9, -999.000,9,   -999.0,9,   -999.0,9, -999.000,1,   -999.0,9,   -999.0,  -999.00,9,   -999.0,9,   -999.0,9,   2.3968,  27.4998
  49KA199905_1,  P01W,    35,  2,     11,     11,2,19990611,0124, 45.5575, 157.4848, 5040,   1249.7,2,   2.2192,2,  34.5074,1,  34.5117,2,    18.99,1,    40.00,2,  -999.00,9,  -999.00,9,  -999.00,9,  -999.00,9, -999.000,9, -999.000,9, -999.000,9,-999.0000,9, -999.000,9,   -999.0,9,   -999.0,9, -999.000,1,   -999.0,9,   -999.0,  -999.00,9,   -999.0,9,   -999.0,9,   2.1395,  27.5693
  49KA199905_1,  P01W,    35,  2,     10,     10,2,19990611,0124, 45.5575, 157.4848, 5040,   1500.2,2,   2.0294,2,  34.5560,1,  34.5599,2,    32.51,1,    54.49,2,  -999.00,9,  -999.00,9,  -999.00,9,  -999.00,9, -999.000,9, -999.000,9, -999.000,9,-999.0000,9, -999.000,9,   -999.0,9,   -999.0,9, -999.000,1,   -999.0,9,   -999.0,  -999.00,9,   -999.0,9,   -999.0,9,   1.9328,  27.6243
  49KA199905_1,  P01W,    35,  2,      9,      9,2,19990611,0124, 45.5575, 157.4848, 5040,   1999.4,2,   1.7550,2,  34.6153,1,  34.6200,2,    60.25,1,    85.94,2,  -999.00,9,  -999.00,9,  -999.00,9,  -999.00,9, -999.000,9, -999.000,9, -999.000,9,-999.0000,9, -999.000,9,   -999.0,9,   -999.0,9, -999.000,1,   -999.0,9,   -999.0,  -999.00,9,   -999.0,9,   -999.0,9,   1.6224,  27.6962
  49KA199905_1,  P01W,    35,  2,      8,      8,2,19990611,0124, 45.5575, 157.4848, 5040,   2499.5,2,   1.5924,2,  34.6470,1,  34.5895,4,    84.31,1,    73.24,4,  -999.00,9,  -999.00,9,  -999.00,9,  -999.00,9, -999.000,9, -999.000,9, -999.000,9,-999.0000,9, -999.000,9,   -999.0,9,   -999.0,9, -999.000,1,   -999.0,9,   -999.0,  -999.00,9,   -999.0,9,   -999.0,9,   1.4201,  27.6865
  49KA199905_1,  P01W,    35,  2,      7,      7,2,19990611,0124, 45.5575, 157.4848, 5040,   2999.7,2,   1.4961,2,  34.6645,1,  34.6690,2,    99.00,1,   130.97,2,  -999.00,9,  -999.00,9,  -999.00,9,  -999.00,9, -999.000,9, -999.000,9, -999.000,9,-999.0000,9, -999.000,9,   -999.0,9,   -999.0,9, -999.000,1,   -999.0,9,   -999.0,  -999.00,9,   -999.0,9,   -999.0,9,   1.2795,  27.7603
  49KA199905_1,  P01W,    35,  2,      6,      6,2,19990611,0124, 45.5575, 157.4848, 5040,   3499.6,2,   1.4503,2,  34.6749,1,  34.6794,2,   109.51,1,   143.87,2,  -999.00,9,  -999.00,9,  -999.00,9,  -999.00,9, -999.000,9, -999.000,9, -999.000,9,-999.0000,9, -999.000,9,   -999.0,9,   -999.0,9, -999.000,1,   -999.0,9,   -999.0,  -999.00,9,   -999.0,9,   -999.0,9,   1.1854,  27.7752
  49KA199905_1,  P01W,    35,  2,      5,      5,2,19990611,0124, 45.5575, 157.4848, 5040,   3999.9,2,   1.4412,2,  34.6812,1,  34.6822,2,   116.64,1,   148.55,2,  -999.00,9,  -999.00,9,  -999.00,9,  -999.00,9, -999.000,9, -999.000,9, -999.000,9,-999.0000,9, -999.000,9,   -999.0,9,   -999.0,9, -999.000,1,   -999.0,9,   -999.0,  -999.00,9,   -999.0,9,   -999.0,9,   1.1239,  27.7816
  49KA199905_1,  P01W,    35,  2,      4,      4,2,19990611,0124, 45.5575, 157.4848, 5040,   4500.1,2,   1.4671,2,  34.6843,1,  34.6889,2,   120.61,1,   155.86,2,  -999.00,9,  -999.00,9,  -999.00,9,  -999.00,9, -999.000,9, -999.000,9, -999.000,9,-999.0000,9, -999.000,9,   -999.0,9,   -999.0,9, -999.000,1,   -999.0,9,   -999.0,  -999.00,9,   -999.0,9,   -999.0,9,   1.0931,  27.7891
  49KA199905_1,  P01W,    35,  2,      3,      3,2,19990611,0124, 45.5575, 157.4848, 5040,   5122.8,2,   1.5281,2,  34.6855,1,  34.6891,2,   125.13,1,   157.36,2,  -999.00,9,  -999.00,9,  -999.00,9,  -999.00,9, -999.000,9, -999.000,9, -999.000,9,-999.0000,9, -999.000,9,   -999.0,9,   -999.0,9, -999.000,1,   -999.0,9,   -999.0,  -999.00,9,   -999.0,9,   -999.0,9,   1.0779,  27.7903
  49KA199905_1,  P01W,    35,  2,      2,      2,2,19990611,0124, 45.5575, 157.4848, 5040,   5122.8,2,   1.5283,2,  34.6855,1,  34.6912,3,   124.76,1,   157.62,3,  -999.00,9,  -999.00,9,  -999.00,9,  -999.00,9, -999.000,9, -999.000,9, -999.000,9,-999.0000,9, -999.000,9,   -999.0,9,   -999.0,9, -999.000,1,   -999.0,9,   -999.0,  -999.00,9,   -999.0,9,   -999.0,9,   1.0780,  27.7920