BOTTLE,20220921CCHSIOAMB
EXPOCODE,SECT_ID,STNNBR,CASTNO,SAMPNO,BTLNBR,BTLNBR_FLAG_W,DATE,TIME,LATITUDE,LONGITUDE,DEPTH,CTDPRS,CTDPRS_FLAG_W,CTDTMP,CTDTMP_FLAG_W,CTDSAL,CTDSAL_FLAG_W,SALNTY,SALNTY_FLAG_W,CTDOXY,CTDOXY_FLAG_W,OXYGEN,OXYGEN_FLAG_W,SILCAT,SILCAT_FLAG_W,NITRAT,NITRAT_FLAG_W,NITRIT,NITRIT_FLAG_W,PHSPHT,PHSPHT_FLAG_W,CFC-11,CFC-11_FLAG_W,CFC-12,CFC-12_FLAG_W,CFC113,CFC113_FLAG_W,SF6,SF6_FLAG_W,PH,PH_FLAG_W,ALKALI,ALKALI_FLAG_W,TCARBN,TCARBN_FLAG_W,DELC13,DELC13_FLAG_W,DELC14,DELC14_FLAG_W,C14ERR,CHLORA,CHLORA_FLAG_W,CU,CU_FLAG_W,NI,NI_FLAG_W,THETA,SIG0
,,,,,,,,,,,METERS,DBAR,,ITS-90,,PSS-78,,PSS-78,,UMOL/KG,,UMOL/KG,,UMOL/KG,,UMOL/KG,,UMOL/KG,,UMOL/KG,,PMOL/KG,,PMOL/KG,,PMOL/KG,,FMOL/KG,,,,UMOL/KG,,UMOL/KG,,/MILLE,,/MILLE,,/MILLE,UG/KG,,UMOL/L,,UMOL/L,,ITS-90,KG/M^3
  49KA199905_1,  P01W,    72,  1,     24,     24,2,19990606,0650, 47.0018,-168.2218, 5389,     10.7,2,   7.0004,2,  32.7904,1,  32.7963,2,   272.46,1,   311.21,2,    21.30,2,    14.95,2,     0.14,2,     1.41,2,    4.603,2,    2.349,2,    0.488,2,   0.2827,2,    7.735,2,   2200.9,2,   2053.3,2, -999.000,1,     -1.8,2,      3.2,     0.38,2,   -999.0,1,   -999.0,1,   6.9994,  25.6832
  49KA199905_1,  P01W,    72,  1,     23,     23,2,19990606,0650, 47.0018,-168.2218, 5389,     50.6,2,   5.7054,2,  32.8347,1,  32.8414,2,   279.90,1,   317.21,2,    23.85,2,    16.46,2,     0.14,2,     1.51,2,    4.850,2,    2.430,2,    0.473,2,   0.3710,2,    7.712,2,   2203.4,2,   2065.3,2, -999.000,1,     -6.5,2,      3.7,     0.33,2,   -999.0,1,   -999.0,1,   5.7014,  25.8833
  49KA199905_1,  P01W,    72,  1,     22,     22,2,19990606,0650, 47.0018,-168.2218, 5389,    100.3,2,   4.1920,2,  32.8678,1,  32.8730,2,   281.29,1,   316.77,2,    26.94,2,    18.43,2,     0.43,2,     1.63,2,    4.984,2,    2.507,2,    0.482,2,   0.2880,2,    7.671,2,   2207.6,2,   2081.5,2, -999.000,1,     -4.7,2,      3.2,     0.13,2,   -999.0,1,   -999.0,1,   4.1852,  26.0758
  49KA199905_1,  P01W,    72,  1,     21,     21,2,19990606,0650, 47.0018,-168.2218, 5389,    152.8,2,   4.0286,2,  33.0665,1,  33.0822,4,   232.83,1,  -999.00,9,    35.02,3,    22.76,3,     0.03,3,     1.83,3,    4.583,4,    2.301,4,    0.384,4,   0.2159,4,    7.595,4,   2219.9,4,   2114.5,4, -999.000,1,    -13.9,2,      3.3,     0.01,2,   -999.0,9,   -999.0,9,   4.0184,  26.2589
  49KA199905_1,  P01W,    72,  1,     20,     20,2,19990606,0650, 47.0018,-168.2218, 5389,    199.9,2,   4.0497,2,  33.7001,1,  33.7107,2,   101.10,1,   122.95,2,    66.85,2,    35.74,2,     0.02,2,     2.59,2,    3.047,2,    1.435,2,    0.194,2,   0.0942,2,    7.373,2,   2263.8,2,   2244.9,2, -999.000,1,    -62.4,2,      3.0,     0.00,2,   -999.0,9,   -999.0,9,   4.0360,  26.7569
  49KA199905_1,  P01W,    72,  1,     19,     19,2,19990606,0650, 47.0018,-168.2218, 5389,    250.2,2,   3.9038,2,  33.7749,1,  33.7816,2,    78.15,1,   101.59,2,    74.20,2,    37.87,2,     0.01,2,     2.72,2,    2.660,2,    1.247,2,    0.165,2,   0.0564,2,    7.339,2,   2273.2,2,   2267.5,2, -999.000,1,    -69.8,6,      2.8,     0.00,2,   -999.0,1,   -999.0,1,   3.8868,  26.8284
  49KA199905_1,  P01W,    72,  1,     18,     18,2,19990606,0650, 47.0018,-168.2218, 5389,    299.6,2,   3.8426,2,  33.8506,1,  33.8592,4,    59.11,1,    81.04,4,    82.19,3,    39.58,3,     0.02,3,     2.83,3,    2.204,4,    1.005,4,    0.140,4,   0.0345,4,    7.317,4,   2285.2,4,   2284.0,4, -999.000,1,    -96.2,6,      2.1,     0.00,2,   -999.0,9,   -999.0,9,   3.8222,  26.8966
  49KA199905_1,  P01W,    72,  1,     17,     17,2,19990606,0650, 47.0018,-168.2218, 5389,    350.0,2,   3.8268,2,  33.9202,1,  33.9258,2,    44.15,1,    66.40,2,    88.64,2,    40.82,2,     0.01,2,     2.91,2,    1.794,2,    0.811,2,    0.100,2,   0.0137,2,    7.304,2,   2288.5,2,   2301.0,2, -999.000,1,   -114.3,2,      3.1,  -999.00,9,   -999.0,9,   -999.0,9,   3.8029,  26.9515
  49KA199905_1,  P01W,    72,  1,     16,     16,2,19990606,0650, 47.0018,-168.2218, 5389,    400.2,2,   3.8120,2,  33.9843,1,  33.9875,3,    36.00,1,    57.28,3,    94.70,2,    41.22,2,     0.01,2,     2.96,2,    1.458,2,    0.673,2,    0.091,2,   0.0066,2,    7.303,2,   2299.9,2,   2309.8,2, -999.000,1,   -120.3,2,      2.8,  -999.00,9,   -999.0,9,   -999.0,9,   3.7845,  27.0025
  49KA199905_1,  P01W,    72,  1,     15,     15,2,19990606,0650, 47.0018,-168.2218, 5389,    500.5,2,   3.7967,2,  34.0984,1,  34.1009,2,    21.81,1,    42.80,2,   104.84,2,    41.94,2,     0.01,2,     3.00,2,    0.856,2,    0.392,2,    0.044,2,   0.0068,2,    7.297,2,   2313.5,2,   2327.1,2, -999.000,1,   -146.7,2,      2.8,  -999.00,9,   -999.0,1,   -999.0,1,   3.7619,  27.0950
  49KA199905_1,  P01W,    72,  1,     14,     14,2,19990606,0650, 47.0018,-168.2218, 5389,    599.9,2,   3.5695,2,  34.1810,1,  34.1845,2,     9.20,1,    30.18,2,   116.81,2,    42.91,2,     0.01,2,     3.06,2,    0.506,2,    0.216,2,    0.030,2,   0.0050,2,    7.294,2,   2326.6,2,   2346.9,2, -999.000,1,   -163.7,2,      2.8,  -999.00,9,   -999.0,9,   -999.0,9,   3.5284,  27.1845
  49KA199905_1,  P01W,    72,  1,     13,     13,2,19990606,0650, 47.0018,-168.2218, 5389,    801.1,2,   3.2173,2,  34.2915,1,  34.2956,2,     4.53,1,    26.19,2,   131.27,2,    43.40,2,     0.00,2,     3.10,2,    0.216,2,    0.082,2,    0.005,2,   0.0013,2,    7.304,2,   2337.2,2,   2366.8,2, -999.000,1,   -182.9,2,      3.4,  -999.00,9,   -999.0,9,   -999.0,9,   3.1631,  27.3078
  49KA199905_1,  P01W,    72,  1,     12,     12,2,19990606,0650, 47.0018,-168.2218, 5389,   1000.2,2,   2.8347,2,  34.3824,1,  34.3870,2,     3.13,1,    26.18,3,   144.16,2,    43.49,2,     0.01,2,     3.10,2,    0.102,2,    0.033,2,    0.004,2,   0.0000,2,    7.316,2,   2361.6,2,   2377.5,2, -999.000,1,   -218.8,2,      2.7,  -999.00,9,   -999.0,1,   -999.0,1,   2.7683,  27.4165
  49KA199905_1,  P01W,    72,  1,     11,     11,2,19990606,0650, 47.0018,-168.2218, 5389,   1249.5,2,   2.5197,2,  34.4517,1,  34.4561,2,     4.99,1,    29.45,2,   154.42,2,    43.52,2,     0.00,2,     3.09,2,    0.060,2,    0.025,2,    0.000,2,-999.0000,9,    7.328,2,   2379.9,2,   2390.9,2, -999.000,1,   -211.1,2,      2.7,  -999.00,9,   -999.0,9,   -999.0,9,   2.4372,  27.5003
  49KA199905_1,  P01W,    72,  1,     10,     10,2,19990606,0650, 47.0018,-168.2218, 5389,   1500.8,2,   2.2812,2,  34.5046,1,  34.5088,2,    11.11,1,    36.97,2,   161.53,2,    43.22,2,     0.01,2,     3.07,2,    0.033,2,    0.011,2,    0.000,2,-999.0000,9,    7.346,2,   2388.4,2,   2392.3,2, -999.000,1,   -233.1,2,      2.7,  -999.00,9,   -999.0,1,   -999.0,1,   2.1817,  27.5636
  49KA199905_1,  P01W,    72,  1,      9,      9,2,19990606,0650, 47.0018,-168.2218, 5389,   1751.2,2,   2.0900,2,  34.5487,1,  34.5526,2,    20.83,1,    48.45,2,   165.71,2,    42.55,2,     0.01,2,     3.01,2,    0.002,2,    0.002,2,    0.000,2,-999.0000,9,    7.370,2,   2395.5,2,   2389.9,2, -999.000,1,   -235.9,2,      2.2,  -999.00,9,   -999.0,9,   -999.0,9,   1.9730,  27.6154
  49KA199905_1,  P01W,    72,  1,      8,      8,2,19990606,0650, 47.0018,-168.2218, 5389,   2003.6,2,   1.9595,2,  34.5779,1,  34.5815,2,    30.04,1,    60.22,2,   167.81,2,    41.89,2,     0.01,2,     2.95,2,    0.002,2,    0.006,2,    0.002,2,-999.0000,9,    7.395,2,   2401.6,2,   2385.2,2, -999.000,1,   -238.8,2,      2.7,  -999.00,9,   -999.0,1,   -999.0,1,   1.8236,  27.6501
  49KA199905_1,  P01W,    72,  1,      7,      7,2,19990606,0650, 47.0018,-168.2218, 5389,   2501.4,2,   1.7267,2,  34.6246,1,  34.6283,2,    53.48,1,    88.14,3,   168.83,2,    40.31,2,     0.01,2,     2.84,2,    0.000,2,    0.001,2,    0.000,2,-999.0000,9,    7.445,2,   2408.4,2,   2374.5,2, -999.000,1,   -245.0,2,      3.7,  -999.00,9,   -999.0,1,   -999.0,1,   1.5515,  27.7081
  49KA199905_1,  P01W,    72,  1,      6,      6,2,19990606,0650, 47.0018,-168.2218, 5389,   2999.7,2,   1.5806,2,  34.6525,1,  34.6566,2,    75.24,1,   112.24,2,   164.88,2,    38.67,2,     0.01,2,     2.71,2,    0.004,2,    0.003,2,    0.000,2,-999.0000,9,    7.486,2,   2410.6,2,   2357.6,2, -999.000,1,   -240.2,2,      2.2,  -999.00,9,   -999.0,1,   -999.0,1,   1.3622,  27.7445
  49KA199905_1,  P01W,    72,  1,      5,      5,2,19990606,0650, 47.0018,-168.2218, 5389,   3499.8,2,   1.5008,2,  34.6685,1,  34.6630,4,    91.94,1,   125.66,2,   155.89,4,    42.44,4,     0.00,4,     2.98,4,    0.000,4,    0.000,4,    0.000,4,-999.0000,9,    7.476,4,   2392.3,4,   2360.0,4, -999.000,1,   -206.8,4,      2.1,  -999.00,9,   -999.0,9,   -999.0,9,   1.2348,  27.7586
  49KA199905_1,  P01W,    72,  1,      4,      4,2,19990606,0650, 47.0018,-168.2218, 5389,   3999.2,2,   1.4718,2,  34.6783,1,  34.6827,2,   102.27,1,   144.14,2,   158.11,2,    36.55,2,     0.02,2,     2.55,2,    0.000,2,    0.000,2,    0.000,2,-999.0000,9,    7.543,2,   2412.2,2,   2336.9,2, -999.000,1,   -224.4,2,      2.5,  -999.00,9,   -999.0,1,   -999.0,1,   1.1538,  27.7800
  49KA199905_1,  P01W,    72,  1,      3,      3,2,19990606,0650, 47.0018,-168.2218, 5389,   4499.6,2,   1.4917,2,  34.6828,1,  34.6864,2,   106.82,1,   149.87,2,   159.36,2,    36.23,2,     0.02,2,     2.52,2,    0.000,2,    0.001,2,    0.000,2,-999.0000,9,    7.554,2,   2413.5,2,   2333.2,2, -999.000,1,   -226.7,2,      3.2,  -999.00,9,   -999.0,9,   -999.0,9,   1.1170,  27.7855
  49KA199905_1,  P01W,    72,  1,      2,      2,2,19990606,0650, 47.0018,-168.2218, 5389,   5000.7,2,   1.5449,2,  34.6837,1,  34.6883,2,   107.87,1,   152.41,2,   160.91,2,    36.17,2,     0.02,2,     2.52,2,    0.000,2,    0.000,2,    0.004,2,-999.0000,9,    7.556,2,   2415.7,2,   2331.3,2, -999.000,1,   -226.8,2,      3.8,  -999.00,9,   -999.0,1,   -999.0,1,   1.1091,  27.7876
  49KA199905_1,  P01W,    72,  1,      1,      1,2,19990606,0650, 47.0018,-168.2218, 5389,   5491.2,2,   1.5962,2,  34.6843,1,  34.6889,2,   111.25,1,   153.35,2,   159.34,2,    35.96,2,     0.02,2,     2.51,2,    0.007,2,    0.000,2,    0.003,2,-999.0000,9,    7.558,2,   2416.1,2,   2327.9,2, -999.000,1,   -217.8,2,      3.2,  -999.00,9,   -999.0,9,   -999.0,9,   1.0972,  27.7888
  49KA199905_1,  P01W,    73,  1,     24,     24,2,19990606,1336, 47.0027,-167.0825, 5421,     10.0,2,   7.3058,2,  32.7678,1,  32.7745,2,   273.55,1,   310.67,2,    16.90,2,    12.76,3,     0.10,3,     1.24,2, -999.000,9, -999.000,9, -999.000,9,-999.0000,9, -999.000,9,   -999.0,9,   -999.0,9, -999.000,9,   -999.0,9,   -999.0,  -999.00,9,   -999.0,9,   -999.0,9,   7.3049,  25.6246
  49KA199905_1,  P01W,    73,  1,     23,     23,2,19990606,1336, 47.0027,-167.0825, 5421,     49.9,2,   5.1980,2,  32.8071,1,  32.8135,2,   279.66,1,   316.43,2,    18.87,3,    14.98,3,     0.15,3,     1.37,2, -999.000,9, -999.000,9, -999.000,9,-999.0000,9, -999.000,9,   -999.0,9,   -999.0,9, -999.000,9,   -999.0,9,   -999.0,  -999.00,9,   -999.0,9,   -999.0,9,   5.1943,  25.9203
  49KA199905_1,  P01W,    73,  1,     22,     22,2,19990606,1336, 47.0027,-167.0825, 5421,    100.1,2,   4.2887,2,  32.8490,1,  32.8543,2,   281.61,1,   315.11,2,    24.76,2,    17.88,2,     0.37,2,     1.54,2, -999.000,9, -999.000,9, -999.000,9,-999.0000,9, -999.000,9,   -999.0,9,   -999.0,9, -999.000,9,   -999.0,9,   -999.0,  -999.00,9,   -999.0,9,   -999.0,9,   4.2819,  26.0511
  49KA199905_1,  P01W,    73,  1,     21,     21,2,19990606,1336, 47.0027,-167.0825, 5421,    150.9,2,   4.0990,2,  32.9882,1,  32.9782,4,   256.22,1,   293.25,4,    30.56,3,    20.64,3,     0.15,3,     1.65,3, -999.000,9, -999.000,9, -999.000,9,-999.0000,9, -999.000,9,   -999.0,9,   -999.0,9, -999.000,9,   -999.0,9,   -999.0,  -999.00,9,   -999.0,9,   -999.0,9,   4.0888,  26.1692
  49KA199905_1,  P01W,    73,  1,     20,     20,2,19990606,1336, 47.0027,-167.0825, 5421,    199.7,2,   4.9495,2,  33.7162,1,  33.7296,4,   144.70,1,   169.42,4,    52.63,3,    30.39,3,     0.01,3,     2.17,3, -999.000,9, -999.000,9, -999.000,9,-999.0000,9, -999.000,9,   -999.0,9,   -999.0,9, -999.000,9,   -999.0,9,   -999.0,  -999.00,9,   -999.0,9,   -999.0,9,   4.9344,  26.6755
  49KA199905_1,  P01W,    73,  1,     19,     19,2,19990606,1336, 47.0027,-167.0825, 5421,    249.1,2,   4.3834,2,  33.7887,1,  33.7933,2,   103.45,1,   129.18,2,    66.76,2,    35.20,2,     0.01,2,     2.49,2, -999.000,9, -999.000,9, -999.000,9,-999.0000,9, -999.000,9,   -999.0,9,   -999.0,9, -999.000,9,   -999.0,9,   -999.0,  -999.00,9,   -999.0,9,   -999.0,9,   4.3656,  26.7883
  49KA199905_1,  P01W,    73,  1,     18,     18,2,19990606,1336, 47.0027,-167.0825, 5421,    299.4,2,   4.1115,2,  33.8487,1,  33.8534,2,    78.25,1,   102.83,2,    77.12,2,    37.94,2,     0.01,2,     2.68,2, -999.000,9, -999.000,9, -999.000,9,-999.0000,9, -999.000,9,   -999.0,9,   -999.0,9, -999.000,9,   -999.0,9,   -999.0,  -999.00,9,   -999.0,9,   -999.0,9,   4.0905,  26.8648
  49KA199905_1,  P01W,    73,  1,     17,     17,2,19990606,1336, 47.0027,-167.0825, 5421,    348.3,2,   4.0010,2,  33.9122,1,  33.9177,2,    56.89,1,    80.50,2,    85.23,2,    40.10,2,     0.00,2,     2.78,2, -999.000,9, -999.000,9, -999.000,9,-999.0000,9, -999.000,9,   -999.0,9,   -999.0,9, -999.000,9,   -999.0,9,   -999.0,  -999.00,9,   -999.0,9,   -999.0,9,   3.9767,  26.9276
  49KA199905_1,  P01W,    73,  1,     16,     16,2,19990606,1336, 47.0027,-167.0825, 5421,    399.8,2,   3.9489,2,  33.9759,1,  33.9783,2,    43.86,1,    66.47,2,    91.48,2,    41.05,2,     0.00,2,     2.86,2, -999.000,9, -999.000,9, -999.000,9,-999.0000,9, -999.000,9,   -999.0,9,   -999.0,9, -999.000,9,   -999.0,9,   -999.0,  -999.00,9,   -999.0,9,   -999.0,9,   3.9210,  26.9814
  49KA199905_1,  P01W,    73,  1,     15,     15,2,19990606,1336, 47.0027,-167.0825, 5421,    498.3,2,   3.8249,2,  34.0781,1,  34.0937,4,    24.71,1,    47.68,4,   104.25,3,    42.47,3,     0.00,3,     2.94,3, -999.000,9, -999.000,9, -999.000,9,-999.0000,9, -999.000,9,   -999.0,9,   -999.0,9, -999.000,9,   -999.0,9,   -999.0,  -999.00,9,   -999.0,9,   -999.0,9,   3.7901,  27.0864
  49KA199905_1,  P01W,    73,  1,     14,     14,2,19990606,1336, 47.0027,-167.0825, 5421,    599.4,2,   3.6635,2,  34.1697,1,  34.1745,2,    14.79,1,    36.48,2,   114.54,2,    43.11,2,     0.00,2,     3.00,2, -999.000,9, -999.000,9, -999.000,9,-999.0000,9, -999.000,9,   -999.0,9,   -999.0,9, -999.000,9,   -999.0,9,   -999.0,  -999.00,9,   -999.0,9,   -999.0,9,   3.6219,  27.1674
  49KA199905_1,  P01W,    73,  1,     13,     13,2,19990606,1336, 47.0027,-167.0825, 5421,    800.8,2,   3.2391,2,  34.3001,1,  34.3038,2,     4.99,1,    27.60,2,   131.98,2,    44.05,2,     0.00,2,     3.07,2, -999.000,9, -999.000,9, -999.000,9,-999.0000,9, -999.000,9,   -999.0,9,   -999.0,9, -999.000,9,   -999.0,9,   -999.0,  -999.00,9,   -999.0,9,   -999.0,9,   3.1847,  27.3123
  49KA199905_1,  P01W,    73,  1,     12,     12,2,19990606,1336, 47.0027,-167.0825, 5421,    999.6,2,   2.8729,2,  34.3736,1,  34.3790,2,     2.66,1,    27.05,2,   144.93,2,    44.17,2,     0.00,2,     3.10,2, -999.000,9, -999.000,9, -999.000,9,-999.0000,9, -999.000,9,   -999.0,9,   -999.0,9, -999.000,9,   -999.0,9,   -999.0,  -999.00,9,   -999.0,9,   -999.0,9,   2.8062,  27.4068
  49KA199905_1,  P01W,    73,  1,     11,     11,2,19990606,1336, 47.0027,-167.0825, 5421,   1249.1,2,   2.5538,2,  34.4476,1,  34.4527,3,     3.08,1,    28.04,3,   156.13,2,    44.35,2,     0.00,2,     3.10,2, -999.000,9, -999.000,9, -999.000,9,-999.0000,9, -999.000,9,   -999.0,9,   -999.0,9, -999.000,9,   -999.0,9,   -999.0,  -999.00,9,   -999.0,9,   -999.0,9,   2.4710,  27.4947
  49KA199905_1,  P01W,    73,  1,     10,     10,2,19990606,1336, 47.0027,-167.0825, 5421,   1498.9,2,   2.2849,2,  34.5051,1,  34.4389,4,     9.84,1,    36.19,4,   164.12,3,    44.00,3,     0.00,3,     3.06,3, -999.000,9, -999.000,9, -999.000,9,-999.0000,9, -999.000,9,   -999.0,9,   -999.0,9, -999.000,9,   -999.0,9,   -999.0,  -999.00,9,   -999.0,9,   -999.0,9,   2.1857,  27.5073
  49KA199905_1,  P01W,    73,  1,      9,      9,2,19990606,1336, 47.0027,-167.0825, 5421,   1748.6,2,   2.0747,2,  34.5525,1,  34.5573,2,    20.53,1,    49.42,2,   168.94,2,    43.27,2,     0.00,2,     3.00,2, -999.000,9, -999.000,9, -999.000,9,-999.0000,9, -999.000,9,   -999.0,9,   -999.0,9, -999.000,9,   -999.0,9,   -999.0,  -999.00,9,   -999.0,9,   -999.0,9,   1.9581,  27.6203
  49KA199905_1,  P01W,    73,  1,      8,      8,2,19990606,1336, 47.0027,-167.0825, 5421,   2000.1,2,   1.9460,2,  34.5804,1,  34.5852,2,    30.81,1,    61.18,2,   170.87,2,    42.52,2,     0.00,2,     2.94,2, -999.000,9, -999.000,9, -999.000,9,-999.0000,9, -999.000,9,   -999.0,9,   -999.0,9, -999.000,9,   -999.0,9,   -999.0,  -999.00,9,   -999.0,9,   -999.0,9,   1.8106,  27.6541
  49KA199905_1,  P01W,    73,  1,      7,      7,2,19990606,1336, 47.0027,-167.0825, 5421,   2499.5,2,   1.7199,2,  34.6256,1,  34.6301,2,    53.49,1,    87.48,3,   171.82,2,    40.84,2,     0.00,2,     2.81,2, -999.000,9, -999.000,9, -999.000,9,-999.0000,9, -999.000,9,   -999.0,9,   -999.0,9, -999.000,9,   -999.0,9,   -999.0,  -999.00,9,   -999.0,9,   -999.0,9,   1.5449,  27.7100
  49KA199905_1,  P01W,    73,  1,      6,      6,2,19990606,1336, 47.0027,-167.0825, 5421,   2999.9,2,   1.5868,2,  34.6513,1,  34.6558,2,    74.28,1,   113.03,2,   168.26,2,    39.24,2,     0.00,2,     2.68,2, -999.000,9, -999.000,9, -999.000,9,-999.0000,9, -999.000,9,   -999.0,9,   -999.0,9, -999.000,9,   -999.0,9,   -999.0,  -999.00,9,   -999.0,9,   -999.0,9,   1.3682,  27.7434
  49KA199905_1,  P01W,    73,  1,      5,      5,2,19990606,1336, 47.0027,-167.0825, 5421,   3500.2,2,   1.5074,2,  34.6677,1,  34.6659,4,    90.88,1,   123.50,4,   164.87,3,    38.30,3,     0.00,3,     2.61,3, -999.000,9, -999.000,9, -999.000,9,-999.0000,9, -999.000,9,   -999.0,9,   -999.0,9, -999.000,9,   -999.0,9,   -999.0,  -999.00,9,   -999.0,9,   -999.0,9,   1.2412,  27.7605
  49KA199905_1,  P01W,    73,  1,      4,      4,2,19990606,1336, 47.0027,-167.0825, 5421,   3999.2,2,   1.4732,2,  34.6781,1,  34.6828,2,   101.48,1,   143.33,2,   161.84,2,    37.17,2,     0.00,2,     2.50,3, -999.000,9, -999.000,9, -999.000,9,-999.0000,9, -999.000,9,   -999.0,9,   -999.0,9, -999.000,9,   -999.0,9,   -999.0,  -999.00,9,   -999.0,9,   -999.0,9,   1.1552,  27.7800
  49KA199905_1,  P01W,    73,  1,      3,      3,2,19990606,1336, 47.0027,-167.0825, 5421,   4500.9,2,   1.4933,2,  34.6828,1,  34.6879,2,   105.59,1,   148.70,2,   163.52,2,    36.79,2,     0.00,2,     2.50,2, -999.000,9, -999.000,9, -999.000,9,-999.0000,9, -999.000,9,   -999.0,9,   -999.0,9, -999.000,9,   -999.0,9,   -999.0,  -999.00,9,   -999.0,9,   -999.0,9,   1.1184,  27.7866
  49KA199905_1,  P01W,    73,  1,      2,      2,2,19990606,1336, 47.0027,-167.0825, 5421,   5000.9,2,   1.5474,2,  34.6837,1,  34.6891,2,   106.64,1,   149.92,2,   165.14,2,    36.72,2,     0.00,2,     2.48,2, -999.000,9, -999.000,9, -999.000,9,-999.0000,9, -999.000,9,   -999.0,9,   -999.0,9, -999.000,9,   -999.0,9,   -999.0,  -999.00,9,   -999.0,9,   -999.0,9,   1.1114,  27.7880
  49KA199905_1,  P01W,    73,  1,      1,      1,2,19990606,1336, 47.0027,-167.0825, 5421,   5519.1,2,   1.5986,2,  34.6844,1,  34.6904,2,   110.26,1,   152.99,2,   163.36,2,    36.48,2,     0.00,2,     2.47,2, -999.000,9, -999.000,9, -999.000,9,-999.0000,9, -999.000,9,   -999.0,9,   -999.0,9, -999.000,9,   -999.0,9,   -999.0,  -999.00,9,   -999.0,9,   -999.0,9,   1.0960,  27.7901