BOTTLE,20220921CCHSIOAMB
EXPOCODE,SECT_ID,STNNBR,CASTNO,SAMPNO,BTLNBR,BTLNBR_FLAG_W,DATE,TIME,LATITUDE,LONGITUDE,DEPTH,CTDPRS,CTDPRS_FLAG_W,CTDTMP,CTDTMP_FLAG_W,CTDSAL,CTDSAL_FLAG_W,SALNTY,SALNTY_FLAG_W,CTDOXY,CTDOXY_FLAG_W,OXYGEN,OXYGEN_FLAG_W,SILCAT,SILCAT_FLAG_W,NITRAT,NITRAT_FLAG_W,NITRIT,NITRIT_FLAG_W,PHSPHT,PHSPHT_FLAG_W,CFC-11,CFC-11_FLAG_W,CFC-12,CFC-12_FLAG_W,CFC113,CFC113_FLAG_W,SF6,SF6_FLAG_W,PH,PH_FLAG_W,ALKALI,ALKALI_FLAG_W,TCARBN,TCARBN_FLAG_W,DELC13,DELC13_FLAG_W,DELC14,DELC14_FLAG_W,C14ERR,CHLORA,CHLORA_FLAG_W,CU,CU_FLAG_W,NI,NI_FLAG_W,THETA,SIG0
,,,,,,,,,,,METERS,DBAR,,ITS-90,,PSS-78,,PSS-78,,UMOL/KG,,UMOL/KG,,UMOL/KG,,UMOL/KG,,UMOL/KG,,UMOL/KG,,PMOL/KG,,PMOL/KG,,PMOL/KG,,FMOL/KG,,,,UMOL/KG,,UMOL/KG,,/MILLE,,/MILLE,,/MILLE,UG/KG,,UMOL/L,,UMOL/L,,ITS-90,KG/M^3
  49KA199905_1,  P01W,    59,  1,     24,     24,2,19990602,2025, 46.9932, 177.2148, 5670,     10.3,2,   4.8865,2,  33.0116,1,  33.0356,4,   281.15,1,  -999.00,9,    28.43,3,    16.54,3,     0.29,3,     1.44,3, -999.000,9, -999.000,9, -999.000,9,-999.0000,9, -999.000,9,   -999.0,9,   -999.0,9, -999.000,9,   -999.0,9,   -999.0,  -999.00,9,   -999.0,9,   -999.0,9,   4.8858,  26.1307
  49KA199905_1,  P01W,    59,  1,     23,     23,2,19990602,2025, 46.9932, 177.2148, 5670,     49.7,2,   4.8032,2,  33.0146,1,  33.0252,4,   281.70,1,   323.24,4,    28.37,3,    16.67,3,     0.31,3,     1.46,3, -999.000,9, -999.000,9, -999.000,9,-999.0000,9, -999.000,9,   -999.0,9,   -999.0,9, -999.000,9,   -999.0,9,   -999.0,  -999.00,9,   -999.0,9,   -999.0,9,   4.7996,  26.1319
  49KA199905_1,  P01W,    59,  1,     22,     22,2,19990602,2025, 46.9932, 177.2148, 5670,    100.0,2,   3.2969,2,  33.1073,1,  33.1122,2,   272.83,1,   313.26,2,    34.98,2,    21.35,2,     0.11,2,     1.70,2, -999.000,9, -999.000,9, -999.000,9,-999.0000,9, -999.000,9,   -999.0,9,   -999.0,9, -999.000,9,   -999.0,9,   -999.0,  -999.00,9,   -999.0,9,   -999.0,9,   3.2908,  26.3523
  49KA199905_1,  P01W,    59,  1,     21,     21,2,19990602,2025, 46.9932, 177.2148, 5670,    150.1,2,   2.6339,2,  33.1725,1,  33.1921,4,   252.84,1,   289.78,4,    43.61,3,    25.04,3,     0.05,3,     1.93,3, -999.000,9, -999.000,9, -999.000,9,-999.0000,9, -999.000,9,   -999.0,9,   -999.0,9, -999.000,9,   -999.0,9,   -999.0,  -999.00,9,   -999.0,9,   -999.0,9,   2.6255,  26.4740
  49KA199905_1,  P01W,    59,  1,     20,     20,2,19990602,2025, 46.9932, 177.2148, 5670,    201.0,2,   4.4615,2,  33.6839,1,  33.6843,2,   149.81,1,   178.63,2,    55.26,2,    29.57,2,     0.04,2,     2.16,2, -999.000,9, -999.000,9, -999.000,9,-999.0000,9, -999.000,9,   -999.0,9,   -999.0,9, -999.000,9,   -999.0,9,   -999.0,  -999.00,9,   -999.0,9,   -999.0,9,   4.4471,  26.6930
  49KA199905_1,  P01W,    59,  1,     19,     19,2,19990602,2025, 46.9932, 177.2148, 5670,    250.5,2,   4.0278,2,  33.7497,1,  33.7541,2,   111.36,1,   141.34,2,    67.52,2,    33.74,2,     0.04,2,     2.43,2, -999.000,9, -999.000,9, -999.000,9,-999.0000,9, -999.000,9,   -999.0,9,   -999.0,9, -999.000,9,   -999.0,9,   -999.0,  -999.00,9,   -999.0,9,   -999.0,9,   4.0105,  26.7940
  49KA199905_1,  P01W,    59,  1,     18,     18,2,19990602,2025, 46.9932, 177.2148, 5670,    300.5,2,   3.8098,2,  33.8072,1,  33.8145,3,    83.97,1,   112.70,3,    76.19,2,    36.00,2,     0.01,2,     2.59,2, -999.000,9, -999.000,9, -999.000,9,-999.0000,9, -999.000,9,   -999.0,9,   -999.0,9, -999.000,9,   -999.0,9,   -999.0,  -999.00,9,   -999.0,9,   -999.0,9,   3.7895,  26.8643
  49KA199905_1,  P01W,    59,  1,     17,     17,2,19990602,2025, 46.9932, 177.2148, 5670,    350.6,2,   3.8951,2,  33.9094,1,  33.9130,2,    61.78,1,    86.43,2,    83.25,2,    37.90,2,     0.01,2,     2.70,2, -999.000,9, -999.000,9, -999.000,9,-999.0000,9, -999.000,9,   -999.0,9,   -999.0,9, -999.000,9,   -999.0,9,   -999.0,  -999.00,9,   -999.0,9,   -999.0,9,   3.8709,  26.9345
  49KA199905_1,  P01W,    59,  1,     16,     16,2,19990602,2025, 46.9932, 177.2148, 5670,    400.2,2,   3.7434,2,  33.9607,1,  33.9663,2,    42.41,1,    66.53,2,    94.32,3,    40.93,3,     0.03,3,     2.87,3, -999.000,9, -999.000,9, -999.000,9,-999.0000,9, -999.000,9,   -999.0,9,   -999.0,9, -999.000,9,   -999.0,9,   -999.0,  -999.00,9,   -999.0,9,   -999.0,9,   3.7161,  26.9924
  49KA199905_1,  P01W,    59,  1,     15,     15,2,19990602,2025, 46.9932, 177.2148, 5670,    499.6,2,   3.6273,2,  34.0790,1,  34.0825,2,    21.55,1,    45.03,2,   104.62,2,    41.56,2,     0.00,2,     2.93,2, -999.000,9, -999.000,9, -999.000,9,-999.0000,9, -999.000,9,   -999.0,9,   -999.0,9, -999.000,9,   -999.0,9,   -999.0,  -999.00,9,   -999.0,9,   -999.0,9,   3.5932,  27.0970
  49KA199905_1,  P01W,    59,  1,     14,     14,2,19990602,2025, 46.9932, 177.2148, 5670,    600.7,2,   3.5390,2,  34.1861,1,  34.1905,2,    14.65,1,    37.94,2,   117.12,2,    42.93,2,     0.03,2,     2.99,2, -999.000,9, -999.000,9, -999.000,9,-999.0000,9, -999.000,9,   -999.0,9,   -999.0,9, -999.000,9,   -999.0,9,   -999.0,  -999.00,9,   -999.0,9,   -999.0,9,   3.4979,  27.1923
  49KA199905_1,  P01W,    59,  1,     13,     13,2,19990602,2025, 46.9932, 177.2148, 5670,    799.7,2,   3.1644,2,  34.2990,1,  34.3019,2,     7.27,1,    31.79,2,   132.36,2,    43.65,2,     0.03,2,     3.04,2, -999.000,9, -999.000,9, -999.000,9,-999.0000,9, -999.000,9,   -999.0,9,   -999.0,9, -999.000,9,   -999.0,9,   -999.0,  -999.00,9,   -999.0,9,   -999.0,9,   3.1107,  27.3177
  49KA199905_1,  P01W,    59,  1,     12,     12,2,19990602,2025, 46.9932, 177.2148, 5670,   1001.0,2,   2.8255,2,  34.3801,1,  34.3832,2,     4.97,1,    30.82,3,   143.56,2,    43.50,2,     0.03,2,     3.03,2, -999.000,9, -999.000,9, -999.000,9,-999.0000,9, -999.000,9,   -999.0,9,   -999.0,9, -999.000,9,   -999.0,9,   -999.0,  -999.00,9,   -999.0,9,   -999.0,9,   2.7591,  27.4143
  49KA199905_1,  P01W,    59,  1,     11,     11,2,19990602,2025, 46.9932, 177.2148, 5670,   1249.1,2,   2.4856,2,  34.4549,1,  34.4596,2,     7.88,1,    35.58,2,   154.37,2,    43.47,2,     0.03,2,     3.03,2, -999.000,9, -999.000,9, -999.000,9,-999.0000,9, -999.000,9,   -999.0,9,   -999.0,9, -999.000,9,   -999.0,9,   -999.0,  -999.00,9,   -999.0,9,   -999.0,9,   2.4034,  27.5059
  49KA199905_1,  P01W,    59,  1,     10,     10,2,19990602,2025, 46.9932, 177.2148, 5670,   1499.8,2,   2.2374,2,  34.5124,1,  34.5158,2,    15.02,1,    41.95,2,   161.00,2,    43.04,2,     0.03,2,     2.99,2, -999.000,9, -999.000,9, -999.000,9,-999.0000,9, -999.000,9,   -999.0,9,   -999.0,9, -999.000,9,   -999.0,9,   -999.0,  -999.00,9,   -999.0,9,   -999.0,9,   2.1385,  27.5727
  49KA199905_1,  P01W,    59,  1,      9,      9,2,19990602,2025, 46.9932, 177.2148, 5670,   1748.7,2,   2.0637,2,  34.5545,1,  34.5582,2,    24.69,1,    54.11,2,   164.10,2,    42.41,2,     0.03,2,     2.94,2, -999.000,9, -999.000,9, -999.000,9,-999.0000,9, -999.000,9,   -999.0,9,   -999.0,9, -999.000,9,   -999.0,9,   -999.0,  -999.00,9,   -999.0,9,   -999.0,9,   1.9472,  27.6219
  49KA199905_1,  P01W,    59,  1,      8,      8,2,19990602,2025, 46.9932, 177.2148, 5670,   2000.6,2,   1.9239,2,  34.5851,1,  34.5884,2,    35.08,1,    66.83,2,   165.62,2,    41.69,2,     0.03,2,     2.88,2, -999.000,9, -999.000,9, -999.000,9,-999.0000,9, -999.000,9,   -999.0,9,   -999.0,9, -999.000,9,   -999.0,9,   -999.0,  -999.00,9,   -999.0,9,   -999.0,9,   1.7888,  27.6583
  49KA199905_1,  P01W,    59,  1,      7,      7,2,19990602,2025, 46.9932, 177.2148, 5670,   2496.5,2,   1.7078,2,  34.6288,1,  34.6319,2,    59.05,1,    94.79,2,   164.23,2,    39.94,2,     0.03,2,     2.80,3, -999.000,9, -999.000,9, -999.000,9,-999.0000,9, -999.000,9,   -999.0,9,   -999.0,9, -999.000,9,   -999.0,9,   -999.0,  -999.00,9,   -999.0,9,   -999.0,9,   1.5333,  27.7123
  49KA199905_1,  P01W,    59,  1,      6,      6,2,19990602,2025, 46.9932, 177.2148, 5670,   3000.0,2,   1.5729,2,  34.6545,1,  34.6580,2,    77.94,1,   118.28,2,   160.98,2,    38.45,2,     0.03,2,     2.64,2, -999.000,9, -999.000,9, -999.000,9,-999.0000,9, -999.000,9,   -999.0,9,   -999.0,9, -999.000,9,   -999.0,9,   -999.0,  -999.00,9,   -999.0,9,   -999.0,9,   1.3546,  27.7462
  49KA199905_1,  P01W,    59,  1,      5,      5,2,19990602,2025, 46.9932, 177.2148, 5670,   3500.3,2,   1.4972,2,  34.6702,1,  34.6640,4,    92.60,1,   127.38,4,   157.55,3,    37.77,3,     0.03,3,     2.59,3, -999.000,9, -999.000,9, -999.000,9,-999.0000,9, -999.000,9,   -999.0,9,   -999.0,9, -999.000,9,   -999.0,9,   -999.0,  -999.00,9,   -999.0,9,   -999.0,9,   1.2312,  27.7596
  49KA199905_1,  P01W,    59,  1,      4,      4,2,19990602,2025, 46.9932, 177.2148, 5670,   3998.3,2,   1.4680,2,  34.6795,1,  34.6828,2,   101.96,1,   148.12,2,   153.36,2,    36.51,2,     0.03,2,     2.49,2, -999.000,9, -999.000,9, -999.000,9,-999.0000,9, -999.000,9,   -999.0,9,   -999.0,9, -999.000,9,   -999.0,9,   -999.0,  -999.00,9,   -999.0,9,   -999.0,9,   1.1502,  27.7803
  49KA199905_1,  P01W,    59,  1,      3,      3,2,19990602,2025, 46.9932, 177.2148, 5670,   4501.5,2,   1.4842,2,  34.6840,1,  34.6952,4,   106.20,1,   154.18,4,   153.42,3,    36.21,3,     0.03,3,     2.46,3, -999.000,9, -999.000,9, -999.000,9,-999.0000,9, -999.000,9,   -999.0,9,   -999.0,9, -999.000,9,   -999.0,9,   -999.0,  -999.00,9,   -999.0,9,   -999.0,9,   1.1095,  27.7931
  49KA199905_1,  P01W,    59,  1,      2,      2,2,19990602,2025, 46.9932, 177.2148, 5670,   5000.9,2,   1.5307,2,  34.6854,1,  34.6896,2,   108.20,1,   153.26,3,   153.64,2,    36.04,2,     0.03,2,     2.44,2, -999.000,9, -999.000,9, -999.000,9,-999.0000,9, -999.000,9,   -999.0,9,   -999.0,9, -999.000,9,   -999.0,9,   -999.0,  -999.00,9,   -999.0,9,   -999.0,9,   1.0953,  27.7895
  49KA199905_1,  P01W,    59,  1,      1,      1,2,19990602,2025, 46.9932, 177.2148, 5670,   5782.5,2,   1.6233,2,  34.6854,1,  34.6897,2,   111.65,1,   158.35,2,   150.31,2,    35.88,3,     0.03,3,     2.44,2, -999.000,9, -999.000,9, -999.000,9,-999.0000,9, -999.000,9,   -999.0,9,   -999.0,9, -999.000,9,   -999.0,9,   -999.0,  -999.00,9,   -999.0,9,   -999.0,9,   1.0855,  27.7903
  49KA199905_1,  P01W,   X14,  1,     24,     24,3,19990603,0429, 46.9983, 179.0017, 5655,     10.1,3,   5.0463,2,  33.0158,1,  33.0210,2,   283.88,1,   325.67,2,    27.59,2,    16.39,2,     0.24,2,     1.47,2,    5.079,2,    2.546,2,    0.474,2,   0.4533,2,    7.740,2,   2218.1,2,   2077.8,2, -999.000,1,      0.5,2,      5.8,     0.89,2,   -999.0,1,   -999.0,1,   5.0456,  26.1014
  49KA199905_1,  P01W,   X14,  1,     23,     23,2,19990603,0429, 46.9983, 179.0017, 5655,     49.1,2,   4.8127,2,  33.0169,1,  33.0226,2,   282.29,1,   323.84,2,    28.33,2,    16.90,2,     0.24,2,     1.49,2,    5.183,2,    2.578,2,    0.462,2,   0.4161,2,    7.726,2,   2218.1,2,   2081.4,2, -999.000,1,     -7.1,2,      3.2,     0.61,2,   -999.0,1,   -999.0,1,   4.8091,  26.1288
  49KA199905_1,  P01W,   X14,  1,     22,     22,2,19990603,0429, 46.9983, 179.0017, 5655,     99.8,2,   3.3332,2,  33.0821,1,  33.0946,4,   275.31,1,   314.49,4,    33.25,3,    20.45,3,     0.04,3,     1.68,3,    5.258,4,    2.627,4,    0.459,4,   0.3317,4,    7.672,4,   2221.4,4,   2107.1,4, -999.000,1,    -22.3,2,      3.2,     0.90,2,   -999.0,1,   -999.0,1,   3.3271,  26.3349
  49KA199905_1,  P01W,   X14,  1,     21,     21,2,19990603,0429, 46.9983, 179.0017, 5655,    150.0,2,   4.0544,2,  33.4914,1,  33.5103,4,   196.95,1,   225.46,4,    44.99,3,    25.34,3,     0.02,3,     1.96,3,    4.167,4,    2.051,4,    0.316,4,   0.3365,4,    7.573,4,   2250.1,4,   2169.3,4, -999.000,1,    -31.5,2,      3.1,     0.01,2,   -999.0,9,   -999.0,9,   4.0442,  26.5967
  49KA199905_1,  P01W,   X14,  1,     20,     20,2,19990603,0429, 46.9983, 179.0017, 5655,    200.1,2,   3.9384,2,  33.6719,1,  33.6800,3,   131.95,1,   159.22,3,    60.56,2,    31.22,2,     0.02,2,     2.33,2,    3.396,2,    1.657,2,    0.225,2,   0.1743,2,    7.468,2,   2263.7,2,   2225.2,2, -999.000,1,    -61.4,2,      3.0,     0.00,2,   -999.0,9,   -999.0,9,   3.9249,  26.7437
  49KA199905_1,  P01W,   X14,  1,     19,     19,2,19990603,0429, 46.9983, 179.0017, 5655,    250.1,2,   3.8178,2,  33.7722,1,  33.7746,2,    95.48,1,   121.80,2,    71.37,2,    34.83,2,     0.02,2,     2.57,2,    2.810,2,    1.328,2,    0.180,2,   0.1174,2,    7.410,2,   2278.5,2,   2260.9,2, -999.000,1,    -82.2,2,      3.0,     0.00,2,   -999.0,1,   -999.0,1,   3.8010,  26.8314
  49KA199905_1,  P01W,   X14,  1,     18,     18,2,19990603,0429, 46.9983, 179.0017, 5655,    300.4,2,   3.8569,2,  33.8536,1,  33.8673,4,    73.34,1,    96.19,4,    78.80,3,    36.78,3,     0.02,3,     2.72,3,    2.293,4,    1.066,4,    0.134,4,   0.0153,4,    7.378,4,   2287.0,4,   2280.3,4, -999.000,1,    -96.9,2,      3.0,     0.00,2,   -999.0,9,   -999.0,9,   3.8364,  26.9016
  49KA199905_1,  P01W,   X14,  1,     17,     17,2,19990603,0429, 46.9983, 179.0017, 5655,    349.6,2,   3.7383,2,  33.9186,1,  33.9289,4,    50.89,1,    75.50,3,    87.80,3,    39.00,3,     0.02,3,     2.86,3,    1.863,4,    0.855,4,    0.117,4,   0.0000,4,    7.345,4,   2298.1,4,   2299.8,4, -999.000,1,   -111.9,2,      2.7,  -999.00,9,   -999.0,9,   -999.0,9,   3.7146,  26.9627
  49KA199905_1,  P01W,   X14,  1,     16,     16,2,19990603,0429, 46.9983, 179.0017, 5655,    399.6,2,   3.7605,2,  33.9902,1,  33.9910,2,    39.15,1,    64.45,2,    93.18,2,    40.01,2,     0.02,2,     2.89,2,    1.518,2,    0.712,2,    0.083,2,   0.0000,2,    7.337,2,   2306.1,2,   2308.4,2, -999.000,1,   -116.9,2,      2.8,  -999.00,9,   -999.0,9,   -999.0,9,   3.7332,  27.0103
  49KA199905_1,  P01W,   X14,  1,     15,     15,2,19990603,0429, 46.9983, 179.0017, 5655,    500.0,2,   3.5795,2,  34.0884,1,  34.0932,2,    16.17,1,    55.42,2,   106.81,2,    42.03,2,     0.02,2,     3.03,2,    0.952,2,    0.442,2,    0.053,2,   0.0000,2,    7.312,2,   2321.7,2,   2336.4,2, -999.000,1,   -148.5,2,      2.7,  -999.00,9,   -999.0,1,   -999.0,1,   3.5456,  27.1101
  49KA199905_1,  P01W,   X14,  1,     14,     14,2,19990603,0429, 46.9983, 179.0017, 5655,    600.4,2,   3.4541,2,  34.1691,1,  34.1735,2,    10.45,1,    33.19,2,   115.11,2,    42.31,2,     0.01,2,     3.07,2,    0.634,2,    0.294,2,    0.022,2,   0.0018,2,    7.317,2,   2334.1,2,   2340.9,2, -999.000,1,   -159.9,2,      2.1,  -999.00,9,   -999.0,9,   -999.0,9,   3.4134,  27.1868
  49KA199905_1,  P01W,   X14,  1,     13,     13,2,19990603,0429, 46.9983, 179.0017, 5655,    801.0,2,   3.1563,2,  34.2805,1,  34.2842,2,     3.97,1,    26.22,2,   128.63,2,    42.86,2,     0.01,2,     3.08,2,    0.303,2,    0.129,2,    0.013,2,   0.0008,2,    7.324,2,   2352.0,2,   2361.8,2, -999.000,1,   -186.3,2,      2.2,  -999.00,9,   -999.0,9,   -999.0,9,   3.1026,  27.3043
  49KA199905_1,  P01W,   X14,  1,     12,     12,2,19990603,0429, 46.9983, 179.0017, 5655,    999.7,2,   2.8343,2,  34.3712,1,  34.3732,2,     3.16,1,    26.34,2,   141.22,2,    42.86,2,     0.00,2,     3.08,2,    0.159,2,    0.066,2,    0.002,2,   0.0000,2,    7.335,2,   2369.9,2,   2377.0,2, -999.000,1,   -200.5,2,      2.6,  -999.00,9,   -999.0,1,   -999.0,1,   2.7679,  27.4055
  49KA199905_1,  P01W,   X14,  1,     11,     11,2,19990603,0429, 46.9983, 179.0017, 5655,   1248.1,2,   2.5020,2,  34.4529,1,  34.4563,2,     8.93,1,    33.98,2,   150.69,2,    42.56,2,     0.00,2,     3.04,2,    0.092,2,    0.032,2,    0.006,2,-999.0000,9,    7.356,2,   2379.5,2,   2379.6,2, -999.000,1,   -215.2,2,      2.5,  -999.00,9,   -999.0,9,   -999.0,9,   2.4198,  27.5019
  49KA199905_1,  P01W,   X14,  1,     10,     10,2,19990603,0429, 46.9983, 179.0017, 5655,   1500.2,2,   2.2973,2,  34.4999,1,  34.5049,2,    13.49,1,    40.11,2,   156.70,2,    42.35,2,     0.00,2,     3.02,2,    0.060,2,    0.016,2,    0.000,2,-999.0000,9,    7.372,2,   2391.8,2,   2388.5,2, -999.000,1,   -228.0,2,      2.3,  -999.00,9,   -999.0,1,   -999.0,1,   2.1978,  27.5592
  49KA199905_1,  P01W,   X14,  1,      9,      9,2,19990603,0429, 46.9983, 179.0017, 5655,   1749.4,2,   2.0834,2,  34.5490,1,  34.5528,2,    22.54,1,    51.12,2,   161.29,2,    41.70,2,     0.00,2,     2.97,2,    0.004,2,    0.006,2,    0.004,2,-999.0000,9,    7.397,2,   2400.6,2,   2384.8,2, -999.000,1,   -234.9,2,      2.7,  -999.00,9,   -999.0,9,   -999.0,9,   1.9666,  27.6160
  49KA199905_1,  P01W,   X14,  1,      8,      8,2,19990603,0429, 46.9983, 179.0017, 5655,   1999.7,2,   1.9238,2,  34.5853,1,  34.5886,2,    35.90,1,    68.24,2,   162.23,2,    40.79,2,     0.00,2,     2.90,2,    0.000,2,    0.000,2,    0.000,2,-999.0000,9,    7.427,2,   2408.2,2,   2375.3,2, -999.000,1,   -239.2,2,      2.5,  -999.00,9,   -999.0,1,   -999.0,1,   1.7888,  27.6585
  49KA199905_1,  P01W,   X14,  1,      7,      7,2,19990603,0429, 46.9983, 179.0017, 5655,   2500.1,2,   1.6939,2,  34.6297,1,  34.6327,2,    59.25,1,    96.42,3,   162.14,2,    38.99,2,     0.00,2,     2.77,2,    0.000,2,    0.000,2,    0.000,2,-999.0000,9,    7.477,2,   2411.0,2,   2367.9,2, -999.000,1,   -234.0,2,      2.5,  -999.00,9,   -999.0,1,   -999.0,1,   1.5194,  27.7140
  49KA199905_1,  P01W,   X14,  1,      6,      6,2,19990603,0429, 46.9983, 179.0017, 5655,   3000.1,2,   1.5692,2,  34.6548,1,  34.6580,2,    78.83,1,   119.26,2,   157.33,2,    37.53,2,     0.00,2,     2.66,2,    0.000,2,    0.000,2,    0.000,2,-999.0000,9,    7.516,2,   2412.8,2,   2349.7,2, -999.000,1,   -242.8,2,      2.4,  -999.00,9,   -999.0,1,   -999.0,1,   1.3510,  27.7464
  49KA199905_1,  P01W,   X14,  1,      5,      5,2,19990603,0429, 46.9983, 179.0017, 5655,   3499.7,2,   1.4929,2,  34.6703,1,  34.6694,4,    92.99,1,   132.50,4,   155.14,3,    37.16,4,     0.00,4,     2.65,4,    0.002,4,    0.004,4,    0.002,4,-999.0000,9,    7.535,4,   2413.8,4,   2339.0,4, -999.000,9,   -232.5,2,      2.5,  -999.00,9,   -999.0,9,   -999.0,9,   1.2271,  27.7643
  49KA199905_1,  P01W,   X14,  1,      4,      4,2,19990603,0429, 46.9983, 179.0017, 5655,   3999.9,2,   1.4607,2,  34.6801,1,  34.6834,2,   102.69,1,   146.54,2,   151.63,2,    35.83,2,     0.00,2,     2.52,2,    0.000,2,    0.000,2,    0.000,2,-999.0000,9,    7.566,2,   2416.6,2,   2331.3,2, -999.000,1,   -224.2,2,      2.5,  -999.00,9,   -999.0,1,   -999.0,1,   1.1429,  27.7813
  49KA199905_1,  P01W,   X14,  1,      3,      3,2,19990603,0429, 46.9983, 179.0017, 5655,   4499.8,2,   1.4829,2,  34.6844,1,  34.6877,2,   105.97,1,   152.59,2,   153.65,2,    35.53,2,     0.00,2,     2.49,2,    0.000,2,    0.004,2,    0.002,2,-999.0000,9,    7.574,2,   2417.5,2,   2329.7,2, -999.000,1,   -227.2,2,      2.6,  -999.00,9,   -999.0,9,   -999.0,9,   1.1085,  27.7871
  49KA199905_1,  P01W,   X14,  1,      2,      2,2,19990603,0429, 46.9983, 179.0017, 5655,   4999.0,2,   1.5394,2,  34.6847,1,  34.6889,2,   106.52,1,   153.17,2,   154.94,2,    35.52,2,     0.00,2,     2.48,2,    0.000,2,    0.000,2,    0.004,2,-999.0000,9,    7.574,2,   2417.8,2,   2329.9,2, -999.000,1,   -222.7,2,      2.8,  -999.00,9,   -999.0,1,   -999.0,1,   1.1040,  27.7884
  49KA199905_1,  P01W,   X14,  1,      1,      1,2,19990603,0429, 46.9983, 179.0017, 5655,   5764.6,2,   1.6331,2,  34.6844,1,  34.6888,2,   109.47,1,   155.04,2,   152.28,2,    35.36,2,     0.00,2,     2.48,2,    0.010,2,    0.000,2,    0.000,2,-999.0000,9,    7.575,2,   2414.5,2,   2328.6,2, -999.000,1,   -220.1,2,      2.5,  -999.00,9,   -999.0,9,   -999.0,9,   1.0973,  27.7888