BOTTLE,20220921CCHSIOAMB
EXPOCODE,SECT_ID,STNNBR,CASTNO,SAMPNO,BTLNBR,BTLNBR_FLAG_W,DATE,TIME,LATITUDE,LONGITUDE,DEPTH,CTDPRS,CTDPRS_FLAG_W,CTDTMP,CTDTMP_FLAG_W,CTDSAL,CTDSAL_FLAG_W,SALNTY,SALNTY_FLAG_W,CTDOXY,CTDOXY_FLAG_W,OXYGEN,OXYGEN_FLAG_W,SILCAT,SILCAT_FLAG_W,NITRAT,NITRAT_FLAG_W,NITRIT,NITRIT_FLAG_W,PHSPHT,PHSPHT_FLAG_W,CFC-11,CFC-11_FLAG_W,CFC-12,CFC-12_FLAG_W,CFC113,CFC113_FLAG_W,SF6,SF6_FLAG_W,PH,PH_FLAG_W,ALKALI,ALKALI_FLAG_W,TCARBN,TCARBN_FLAG_W,DELC13,DELC13_FLAG_W,DELC14,DELC14_FLAG_W,C14ERR,CHLORA,CHLORA_FLAG_W,CU,CU_FLAG_W,NI,NI_FLAG_W,THETA,SIG0
,,,,,,,,,,,METERS,DBAR,,ITS-90,,PSS-78,,PSS-78,,UMOL/KG,,UMOL/KG,,UMOL/KG,,UMOL/KG,,UMOL/KG,,UMOL/KG,,PMOL/KG,,PMOL/KG,,PMOL/KG,,FMOL/KG,,,,UMOL/KG,,UMOL/KG,,/MILLE,,/MILLE,,/MILLE,UG/KG,,UMOL/L,,UMOL/L,,ITS-90,KG/M^3
  49KA199905_1,  P01W,    31,  1,     24,     24,2,19990526,1338, 43.5910, 154.1402, 5395,      9.8,2,   5.9352,2,  33.0994,1,  33.1023,2,   279.93,1,   333.96,2,    23.10,2,    13.50,3,     0.22,3,     1.45,3, -999.000,9, -999.000,9, -999.000,9,-999.0000,9, -999.000,9,   -999.0,9,   -999.0,9, -999.000,9,   -999.0,9,   -999.0,  -999.00,9,   -999.0,9,   -999.0,9,   5.9344,  26.0613
  49KA199905_1,  P01W,    31,  1,     23,     23,2,19990526,1338, 43.5910, 154.1402, 5395,     50.5,2,   2.9794,2,  33.1839,1,  33.1861,2,   278.12,1,   326.41,2,    40.55,3,    21.28,3,     0.47,3,     1.89,3, -999.000,9, -999.000,9, -999.000,9,-999.0000,9, -999.000,9,   -999.0,9,   -999.0,9, -999.000,9,   -999.0,9,   -999.0,  -999.00,9,   -999.0,9,   -999.0,9,   2.9765,  26.4393
  49KA199905_1,  P01W,    31,  1,     22,     22,2,19990526,1338, 43.5910, 154.1402, 5395,    101.2,2,   3.0199,2,  33.3318,1,  33.3327,2,   260.71,1,   304.49,2,    39.90,2,    22.16,2,     0.04,2,     1.78,2, -999.000,9, -999.000,9, -999.000,9,-999.0000,9, -999.000,9,   -999.0,9,   -999.0,9, -999.000,9,   -999.0,9,   -999.0,  -999.00,9,   -999.0,9,   -999.0,9,   3.0139,  26.5530
  49KA199905_1,  P01W,    31,  1,     21,     21,2,19990526,1338, 43.5910, 154.1402, 5395,    150.0,2,   2.6016,2,  33.4114,1,  33.3957,4,   191.29,1,   235.30,4,    55.91,3,    28.35,3,     0.00,3,     2.17,3, -999.000,9, -999.000,9, -999.000,9,-999.0000,9, -999.000,9,   -999.0,9,   -999.0,9, -999.000,9,   -999.0,9,   -999.0,  -999.00,9,   -999.0,9,   -999.0,9,   2.5932,  26.6393
  49KA199905_1,  P01W,    31,  1,     20,     20,2,19990526,1338, 43.5910, 154.1402, 5395,    201.6,2,   3.0407,2,  33.6381,1,  33.6358,2,   112.65,1,   146.39,2,    74.98,2,    34.92,2,     0.00,2,     2.56,2, -999.000,9, -999.000,9, -999.000,9,-999.0000,9, -999.000,9,   -999.0,9,   -999.0,9, -999.000,9,   -999.0,9,   -999.0,  -999.00,9,   -999.0,9,   -999.0,9,   3.0285,  26.7936
  49KA199905_1,  P01W,    31,  1,     19,     19,2,19990526,1338, 43.5910, 154.1402, 5395,    251.2,2,   3.4974,2,  33.8055,1,  33.7954,4,    75.45,1,   104.26,4,    84.88,3,    38.00,3,     0.00,3,     3.73,3, -999.000,9, -999.000,9, -999.000,9,-999.0000,9, -999.000,9,   -999.0,9,   -999.0,9, -999.000,9,   -999.0,9,   -999.0,  -999.00,9,   -999.0,9,   -999.0,9,   3.4811,  26.8790
  49KA199905_1,  P01W,    31,  1,     18,     18,2,19990526,1338, 43.5910, 154.1402, 5395,    301.2,2,   3.5904,2,  33.9002,1,  33.9021,2,    53.50,1,    81.36,2,    92.39,2,    39.70,2,     0.00,2,     2.84,2, -999.000,9, -999.000,9, -999.000,9,-999.0000,9, -999.000,9,   -999.0,9,   -999.0,9, -999.000,9,   -999.0,9,   -999.0,  -999.00,9,   -999.0,9,   -999.0,9,   3.5705,  26.9555
  49KA199905_1,  P01W,    31,  1,     17,     17,2,19990526,1338, 43.5910, 154.1402, 5395,    351.4,2,   3.3314,2,  33.9391,1,  33.9412,2,    30.15,1,    54.44,3,   102.59,2,    42.39,2,     0.00,2,     3.02,2, -999.000,9, -999.000,9, -999.000,9,-999.0000,9, -999.000,9,   -999.0,9,   -999.0,9, -999.000,9,   -999.0,9,   -999.0,  -999.00,9,   -999.0,9,   -999.0,9,   3.3088,  27.0115
  49KA199905_1,  P01W,    31,  1,     16,     16,2,19990526,1338, 43.5910, 154.1402, 5395,    400.6,2,   3.5398,2,  34.0339,1,  34.0327,2,    25.17,1,    48.01,2,   106.60,3,    42.00,3,     0.00,3,     2.99,3, -999.000,9, -999.000,9, -999.000,9,-999.0000,9, -999.000,9,   -999.0,9,   -999.0,9, -999.000,9,   -999.0,9,   -999.0,  -999.00,9,   -999.0,9,   -999.0,9,   3.5131,  27.0651
  49KA199905_1,  P01W,    31,  1,     15,     15,2,19990526,1338, 43.5910, 154.1402, 5395,    498.1,2,   3.2674,2,  34.1242,1,  34.1247,2,     9.19,1,  -999.00,9,   120.99,2,    43.81,2,     0.00,2,     3.11,2, -999.000,9, -999.000,9, -999.000,9,-999.0000,9, -999.000,9,   -999.0,9,   -999.0,9, -999.000,9,   -999.0,9,   -999.0,  -999.00,9,   -999.0,9,   -999.0,9,   3.2348,  27.1648
  49KA199905_1,  P01W,    31,  1,     14,     14,2,19990526,1338, 43.5910, 154.1402, 5395,    598.0,2,   3.2249,2,  34.2232,1,  34.2243,2,     5.26,1,    30.31,2,   129.41,2,    43.83,2,     0.00,2,     3.08,2, -999.000,9, -999.000,9, -999.000,9,-999.0000,9, -999.000,9,   -999.0,9,   -999.0,9, -999.000,9,   -999.0,9,   -999.0,  -999.00,9,   -999.0,9,   -999.0,9,   3.1854,  27.2488
  49KA199905_1,  P01W,    31,  1,     13,     13,2,19990526,1338, 43.5910, 154.1402, 5395,    798.6,2,   2.8612,2,  34.3291,1,  34.3287,2,     7.71,1,    31.28,2,   142.49,2,    43.59,2,     0.00,2,     3.09,2, -999.000,9, -999.000,9, -999.000,9,-999.0000,9, -999.000,9,   -999.0,9,   -999.0,9, -999.000,9,   -999.0,9,   -999.0,  -999.00,9,   -999.0,9,   -999.0,9,   2.8093,  27.3663
  49KA199905_1,  P01W,    31,  1,     12,     12,2,19990526,1338, 43.5910, 154.1402, 5395,   1001.0,2,   2.7263,2,  34.4304,1,  34.2537,4,    13.05,1,    33.26,2,   131.77,4,    43.53,4,     0.00,4,     3.10,4, -999.000,9, -999.000,9, -999.000,9,-999.0000,9, -999.000,9,   -999.0,9,   -999.0,9, -999.000,9,   -999.0,9,   -999.0,  -999.00,9,   -999.0,9,   -999.0,9,   2.6610,  27.3194
  49KA199905_1,  P01W,    31,  1,     11,     11,2,19990526,1338, 43.5910, 154.1402, 5395,   1252.8,2,   2.3753,2,  34.4882,1,  34.4896,2,    16.20,1,    44.17,2,   157.96,2,    43.13,2,     0.00,2,     3.07,2, -999.000,9, -999.000,9, -999.000,9,-999.0000,9, -999.000,9,   -999.0,9,   -999.0,9, -999.000,9,   -999.0,9,   -999.0,  -999.00,9,   -999.0,9,   -999.0,9,   2.2939,  27.5390
  49KA199905_1,  P01W,    31,  1,     10,     10,2,19990526,1338, 43.5910, 154.1402, 5395,   1499.3,2,   2.1807,2,  34.5388,1,  34.5402,2,    25.23,1,    53.38,2,   160.90,2,    42.63,2,     0.00,2,     2.99,2, -999.000,9, -999.000,9, -999.000,9,-999.0000,9, -999.000,9,   -999.0,9,   -999.0,9, -999.000,9,   -999.0,9,   -999.0,  -999.00,9,   -999.0,9,   -999.0,9,   2.0825,  27.5967
  49KA199905_1,  P01W,    31,  1,      9,      9,2,19990526,1338, 43.5910, 154.1402, 5395,   1751.5,2,   2.0169,2,  34.5741,1,  34.5721,2,    34.87,1,    64.61,2,   162.72,2,    41.98,2,     0.00,2,     2.93,2, -999.000,9, -999.000,9, -999.000,9,-999.0000,9, -999.000,9,   -999.0,9,   -999.0,9, -999.000,9,   -999.0,9,   -999.0,  -999.00,9,   -999.0,9,   -999.0,9,   1.9008,  27.6366
  49KA199905_1,  P01W,    31,  1,      8,      8,2,19990526,1338, 43.5910, 154.1402, 5395,   2000.8,2,   1.8949,2,  34.5989,1,  34.6001,2,    45.11,1,    78.33,2,   163.04,2,    41.27,2,     0.00,2,     2.87,2, -999.000,9, -999.000,9, -999.000,9,-999.0000,9, -999.000,9,   -999.0,9,   -999.0,9, -999.000,9,   -999.0,9,   -999.0,  -999.00,9,   -999.0,9,   -999.0,9,   1.7602,  27.6699
  49KA199905_1,  P01W,    31,  1,      7,      7,2,19990526,1338, 43.5910, 154.1402, 5395,   2503.3,2,   1.6694,2,  34.6390,1,  34.6421,2,    68.02,1,   105.93,2,   161.26,2,    39.46,2,     0.00,2,     2.75,2, -999.000,9, -999.000,9, -999.000,9,-999.0000,9, -999.000,9,   -999.0,9,   -999.0,9, -999.000,9,   -999.0,9,   -999.0,  -999.00,9,   -999.0,9,   -999.0,9,   1.4950,  27.7233
  49KA199905_1,  P01W,    31,  1,      6,      6,2,19990526,1338, 43.5910, 154.1402, 5395,   3001.2,2,   1.5413,2,  34.6615,1,  34.6635,2,    85.68,1,   127.10,2,   156.57,2,    37.94,2,     0.00,2,     2.63,2, -999.000,9, -999.000,9, -999.000,9,-999.0000,9, -999.000,9,   -999.0,9,   -999.0,9, -999.000,9,   -999.0,9,   -999.0,  -999.00,9,   -999.0,9,   -999.0,9,   1.3236,  27.7528
  49KA199905_1,  P01W,    31,  1,      5,      5,2,19990526,1338, 43.5910, 154.1402, 5395,   3499.8,2,   1.4819,2,  34.6735,1,  34.6731,2,    96.68,1,  -999.00,9,   153.62,2,    37.37,2,     0.00,2,     2.57,2, -999.000,9, -999.000,9, -999.000,9,-999.0000,9, -999.000,9,   -999.0,9,   -999.0,9, -999.000,9,   -999.0,9,   -999.0,  -999.00,9,   -999.0,9,   -999.0,9,   1.2163,  27.7680
  49KA199905_1,  P01W,    31,  1,      4,      4,2,19990526,1338, 43.5910, 154.1402, 5395,   4001.6,2,   1.4626,2,  34.6805,1,  34.6815,2,   104.07,1,   150.75,2,   151.15,2,    36.57,2,     0.00,2,     2.52,2, -999.000,9, -999.000,9, -999.000,9,-999.0000,9, -999.000,9,   -999.0,9,   -999.0,9, -999.000,9,   -999.0,9,   -999.0,  -999.00,9,   -999.0,9,   -999.0,9,   1.1446,  27.7797
  49KA199905_1,  P01W,    31,  1,      3,      3,2,19990526,1338, 43.5910, 154.1402, 5395,   4500.7,2,   1.4780,2,  34.6843,1,  33.7552,4,   108.84,1,   152.58,4,    81.47,4,    32.63,4,     0.08,4,     2.45,4, -999.000,9, -999.000,9, -999.000,9,-999.0000,9, -999.000,9,   -999.0,9,   -999.0,9, -999.000,9,   -999.0,9,   -999.0,  -999.00,9,   -999.0,9,   -999.0,9,   1.1102,  27.0374
  49KA199905_1,  P01W,    31,  1,      2,      2,2,19990526,1338, 43.5910, 154.1402, 5395,   5000.2,2,   1.5151,2,  34.6863,1,  34.6898,2,   111.60,1,   158.66,2,   149.99,2,    35.92,2,     0.00,2,     2.47,2, -999.000,9, -999.000,9, -999.000,9,-999.0000,9, -999.000,9,   -999.0,9,   -999.0,9, -999.000,9,   -999.0,9,   -999.0,  -999.00,9,   -999.0,9,   -999.0,9,   1.0803,  27.7907
  49KA199905_1,  P01W,    31,  1,      1,      1,2,19990526,1338, 43.5910, 154.1402, 5395,   5472.9,2,   1.5672,2,  34.6867,1,  34.6911,2,   114.11,1,   161.04,2,   149.04,2,    35.78,2,     0.00,2,     2.46,2, -999.000,9, -999.000,9, -999.000,9,-999.0000,9, -999.000,9,   -999.0,9,   -999.0,9, -999.000,9,   -999.0,9,   -999.0,  -999.00,9,   -999.0,9,   -999.0,9,   1.0716,  27.7923
  49KA199905_1,  P01W,    32,  1,     24,     24,2,19990526,2052, 44.0768, 154.9578, 5366,     10.1,2,   5.7644,2,  33.1925,1,  33.1951,2,   274.98,1,   324.02,2,    29.41,2,    16.46,2,     0.27,2,     1.47,2,    4.955,2,    2.471,2,    0.403,2,   0.4500,2,    7.756,3,   2233.0,2,   2079.4,2, -999.000,1,    -23.4,2,      3.2,     1.30,2,   -999.0,9,   -999.0,9,   5.7636,  26.1555
  49KA199905_1,  P01W,    32,  1,     23,     23,2,19990526,2052, 44.0768, 154.9578, 5366,     50.8,2,   4.2503,2,  33.2962,1,  33.3016,2,   270.75,1,   318.48,2,    35.89,2,    19.07,2,     0.47,2,     1.66,2,    5.198,2,    2.558,2,    0.430,2,   0.4528,2,    7.690,2,   2238.1,2,   2119.1,2, -999.000,1,    -14.5,2,      3.7,     0.55,2,   -999.0,9,   -999.0,9,   4.2468,  26.4101
  49KA199905_1,  P01W,    32,  1,     22,     22,2,19990526,2052, 44.0768, 154.9578, 5366,    101.3,2,   2.8440,2,  33.3122,1,  33.3117,2,   260.38,1,   303.50,2,    40.88,2,    22.34,3,     0.06,3,     1.78,3,    5.211,2,    2.598,2,    0.430,2,   0.3527,2,    7.647,2,   2238.4,2,   2137.6,2, -999.000,1,    -23.8,2,      3.8,     0.09,2,   -999.0,9,   -999.0,9,   2.8382,  26.5515
  49KA199905_1,  P01W,    32,  1,     21,     21,2,19990526,2052, 44.0768, 154.9578, 5366,    151.3,2,   2.5176,2,  33.3545,1,  33.3549,2,   222.33,1,   268.07,2,    47.78,2,    24.88,2,     0.04,2,     1.96,2,    4.842,2,    2.384,2,    0.394,2,   0.3248,2,    7.599,3,   2246.7,2,   2164.2,2, -999.000,1,    -38.2,2,      4.0,     0.03,2,   -999.0,9,   -999.0,9,   2.5093,  26.6137
  49KA199905_1,  P01W,    32,  1,     20,     20,2,19990526,2052, 44.0768, 154.9578, 5366,    200.3,2,   3.9368,2,  33.7317,1,  33.7125,4,   120.94,1,   154.71,4,    66.82,3,    31.53,3,     0.04,3,     2.36,3,    3.125,4,    1.506,4,    0.238,4,   0.2006,4,    7.474,4,   2269.6,4,   2224.7,4, -999.000,1,    -61.3,2,      3.7,     0.02,2,   -999.0,9,   -999.0,9,   3.9232,  26.7697
  49KA199905_1,  P01W,    32,  1,     19,     19,2,19990526,2052, 44.0768, 154.9578, 5366,    250.9,2,   3.6713,2,  33.8270,1,  33.8260,2,    78.58,1,   106.68,2,    81.96,2,    36.49,2,     0.00,2,     2.67,2,    2.446,2,    1.165,2,    0.162,2,   0.2145,2,    7.401,2,   2288.6,2,   2274.6,2, -999.000,1,    -91.1,2,      2.9,     0.01,2,   -999.0,9,   -999.0,9,   3.6547,  26.8867
  49KA199905_1,  P01W,    32,  1,     18,     18,2,19990526,2052, 44.0768, 154.9578, 5366,    301.7,2,   3.5741,2,  33.9138,1,  33.9124,2,    51.00,1,  -999.00,9,    92.63,2,    39.42,2,     0.00,2,     2.85,2,    1.939,2,    0.926,2,    0.123,2,   0.1829,2,    7.357,2,   2298.6,2,   2305.1,2, -999.000,1,   -122.1,2,      3.1,     0.01,2,   -999.0,9,   -999.0,9,   3.5542,  26.9652
  49KA199905_1,  P01W,    32,  1,     17,     17,2,19990526,2052, 44.0768, 154.9578, 5366,    350.1,2,   3.6915,2,  34.0017,1,  33.9997,2,    37.71,1,    62.23,2,    98.95,2,    40.31,2,     0.00,2,     2.90,2,    1.503,2,    0.698,2,    0.093,2,   0.0455,2,    7.351,2,   2312.5,2,   2315.9,2, -999.000,1,   -115.3,2,      2.8,  -999.00,9,   -999.0,9,   -999.0,9,   3.6679,  27.0237
  49KA199905_1,  P01W,    32,  1,     16,     16,2,19990526,2052, 44.0768, 154.9578, 5366,    401.4,2,   3.4113,2,  34.0398,1,  34.0380,2,    20.41,1,    43.77,2,   108.85,2,    42.25,2,     0.00,2,     3.03,2,    1.236,2,    0.583,2,    0.082,2,   0.0007,2,    7.313,2,   2316.1,2,   2335.6,2, -999.000,1,   -133.3,2,      3.9,  -999.00,9,   -999.0,9,   -999.0,9,   3.3849,  27.0815
  49KA199905_1,  P01W,    32,  1,     15,     15,2,19990526,2052, 44.0768, 154.9578, 5366,    499.7,2,   3.3112,2,  34.1395,1,  34.1392,2,     2.49,1,    24.08,2,   121.56,2,    43.74,2,     0.00,2,     3.11,2,    0.699,2,    0.318,2,    0.032,2,   0.0044,2,    7.299,2,   2333.0,2,   2359.4,2, -999.000,1,   -158.8,2,      3.0,  -999.00,9,   -999.0,9,   -999.0,9,   3.2783,  27.1723
  49KA199905_1,  P01W,    32,  1,     14,     14,2,19990526,2052, 44.0768, 154.9578, 5366,    601.0,2,   3.1930,2,  34.2242,1,  34.2265,2,     2.70,1,    23.87,2,   129.83,2,    43.55,2,     0.00,2,     3.10,2,    0.478,2,    0.199,2,    0.028,2,   0.0000,2,    7.317,2,   2346.7,2,   2367.6,2, -999.000,1,   -178.6,2,      2.7,  -999.00,9,   -999.0,9,   -999.0,9,   3.1534,  27.2536
  49KA199905_1,  P01W,    32,  1,     13,     13,2,19990526,2052, 44.0768, 154.9578, 5366,    799.8,2,   2.9156,2,  34.3285,1,  34.3286,2,     2.23,1,    23.86,2,   141.64,2,    43.39,2,     0.00,2,     3.10,2,    0.349,2,    0.141,2,    0.011,2,   0.0022,2,    7.333,2,   2359.5,2,   2376.4,2, -999.000,1,   -197.1,2,      2.6,  -999.00,9,   -999.0,9,   -999.0,9,   2.8633,  27.3614
  49KA199905_1,  P01W,    32,  1,     12,     12,2,19990526,2052, 44.0768, 154.9578, 5366,   1002.1,2,   2.6482,2,  34.4078,1,-999.0000,9,     6.04,1,  -999.00,9,  -999.00,9,  -999.00,9,  -999.00,9,  -999.00,9, -999.000,9, -999.000,9, -999.000,9,-999.0000,9, -999.000,9,   -999.0,9,   -999.0,9, -999.000,9,   -999.0,9,   -999.0,  -999.00,9,   -999.0,9,   -999.0,9,-999.0000,-999.0000
  49KA199905_1,  P01W,    32,  1,     11,     11,2,19990526,2052, 44.0768, 154.9578, 5366,   1247.6,2,   2.3548,2,  34.4780,1,  34.4801,2,    11.84,1,    36.52,2,   162.46,2,    42.48,2,     0.01,2,     3.01,2,    0.029,2,    0.038,2,    0.008,2,   0.0000,2,    7.370,2,   2400.1,2,   2392.4,2, -999.000,1,   -227.1,2,      3.0,  -999.00,9,   -999.0,9,   -999.0,9,   2.2741,  27.5331
  49KA199905_1,  P01W,    32,  1,     10,     10,2,19990526,2052, 44.0768, 154.9578, 5366,   1501.8,2,   2.1681,2,  34.5245,1,  34.5258,2,    19.74,1,    47.10,2,   165.26,2,    41.81,2,     0.01,2,     2.99,3,    0.012,2,    0.013,2,    0.000,2,   0.0018,2,    7.389,2,   2400.0,2,   2381.1,2, -999.000,1,   -226.2,2,      2.5,  -999.00,9,   -999.0,9,   -999.0,9,   2.0698,  27.5862
  49KA199905_1,  P01W,    32,  1,      9,      9,2,19990526,2052, 44.0768, 154.9578, 5366,   1749.2,2,   1.9933,2,  34.5713,1,  34.5735,2,    34.58,1,    64.71,2,   165.75,2,    40.88,2,     0.01,2,     2.89,2,    0.004,2,    0.009,2,    0.000,2,   0.0000,2,    7.427,2,   2409.4,2,   2369.8,2, -999.000,1,   -231.7,2,      3.2,  -999.00,9,   -999.0,9,   -999.0,9,   1.8776,  27.6395
  49KA199905_1,  P01W,    32,  1,      8,      8,2,19990526,2052, 44.0768, 154.9578, 5366,   1999.5,2,   1.8638,2,  34.6000,1,  34.5992,2,    44.97,1,    76.92,2,   163.65,2,    40.49,2,     0.01,2,     2.86,3,    0.000,2,    0.005,2,    0.000,2,   0.0000,2,    7.452,2,   2412.1,2,   2358.5,2, -999.000,1,   -236.8,2,      3.2,  -999.00,9,   -999.0,9,   -999.0,9,   1.7296,  27.6715
  49KA199905_1,  P01W,    32,  1,      7,      7,2,19990526,2052, 44.0768, 154.9578, 5366,   2498.8,2,   1.6567,2,  34.6408,1,  34.6410,2,    69.78,1,   107.89,2,   159.82,2,    38.10,3,     0.01,3,     2.73,3, -999.000,9, -999.000,9, -999.000,9,-999.0000,9,    7.499,2,   2416.6,2,   2344.5,2, -999.000,1,   -238.4,2,      2.5,  -999.00,9,   -999.0,9,   -999.0,9,   1.4829,  27.7233
  49KA199905_1,  P01W,    32,  1,      6,      6,2,19990526,2052, 44.0768, 154.9578, 5366,   2999.4,2,   1.5332,2,  34.6619,1,  34.6626,2,    86.33,1,   127.28,2,   158.10,2,    37.51,2,     0.01,2,     2.62,2,    0.000,2,    0.008,2,    0.004,2,   0.0000,2,    7.538,2,   2415.2,2,   2329.6,2, -999.000,1,   -228.4,2,      2.5,  -999.00,9,   -999.0,9,   -999.0,9,   1.3158,  27.7526
  49KA199905_1,  P01W,    32,  1,      5,      5,2,19990526,2052, 44.0768, 154.9578, 5366,   3499.9,2,   1.4695,2,  34.6746,1,  34.6742,2,    98.47,1,   141.57,2,   153.50,2,    36.50,2,     0.01,2,     2.55,2,    0.000,2,    0.000,2,    0.005,2,-999.0000,9,    7.558,2,   2413.8,2,   2324.9,2, -999.000,1,   -216.4,2,      3.6,  -999.00,9,   -999.0,9,   -999.0,9,   1.2042,  27.7697
  49KA199905_1,  P01W,    32,  1,      4,      4,2,19990526,2052, 44.0768, 154.9578, 5366,   4001.5,2,   1.4563,2,  34.6812,1,  34.6840,2,   105.50,1,   151.21,2,   150.83,2,    35.95,2,     0.01,2,     2.50,2,    0.000,2,    0.000,2,    0.000,2,   0.0012,2,    7.569,2,   2412.0,2,   2323.4,2, -999.000,1,   -213.0,2,      2.5,  -999.00,9,   -999.0,9,   -999.0,9,   1.1384,  27.7821
  49KA199905_1,  P01W,    32,  1,      3,      3,2,19990526,2052, 44.0768, 154.9578, 5366,   4501.4,2,   1.4734,2,  34.6848,1,  34.6879,2,   110.19,1,   156.12,2,   149.94,2,    35.61,2,     0.01,2,     2.48,2,    0.000,2,    0.000,2,    0.000,2,-999.0000,9,    7.575,2,   2412.9,2,   -999.0,9, -999.000,1,   -213.0,2,      2.8,  -999.00,9,   -999.0,9,   -999.0,9,   1.0991,  27.7879
  49KA199905_1,  P01W,    32,  1,      2,      2,2,19990526,2052, 44.0768, 154.9578, 5366,   4998.3,2,   1.5164,2,  34.6863,1,  34.6895,2,   113.18,1,   158.59,2,   149.91,2,    35.40,2,     0.01,2,     2.48,2,    0.000,2,    0.004,2,    0.000,2,-999.0000,9,    7.584,2,   2411.1,2,   2319.4,2, -999.000,1,   -206.2,2,      2.7,  -999.00,9,   -999.0,9,   -999.0,9,   1.0818,  27.7904
  49KA199905_1,  P01W,    32,  1,      1,      1,2,19990526,2052, 44.0768, 154.9578, 5366,   5443.3,2,   1.5678,2,  34.6864,1,  34.6895,2,   114.93,1,   159.08,2,   150.54,2,    35.31,2,     0.01,2,     2.46,2,    0.029,3,    0.007,2,    0.004,2,   0.0000,2,    7.603,3,   2412.0,2,   2319.6,2, -999.000,1,   -205.9,2,      2.5,  -999.00,9,   -999.0,9,   -999.0,9,   1.0760,  27.7908