BOTTLE,20220921CCHSIOAMB
EXPOCODE,SECT_ID,STNNBR,CASTNO,SAMPNO,BTLNBR,BTLNBR_FLAG_W,DATE,TIME,LATITUDE,LONGITUDE,DEPTH,CTDPRS,CTDPRS_FLAG_W,CTDTMP,CTDTMP_FLAG_W,CTDSAL,CTDSAL_FLAG_W,SALNTY,SALNTY_FLAG_W,CTDOXY,CTDOXY_FLAG_W,OXYGEN,OXYGEN_FLAG_W,SILCAT,SILCAT_FLAG_W,NITRAT,NITRAT_FLAG_W,NITRIT,NITRIT_FLAG_W,PHSPHT,PHSPHT_FLAG_W,CFC-11,CFC-11_FLAG_W,CFC-12,CFC-12_FLAG_W,CFC113,CFC113_FLAG_W,SF6,SF6_FLAG_W,PH,PH_FLAG_W,ALKALI,ALKALI_FLAG_W,TCARBN,TCARBN_FLAG_W,DELC13,DELC13_FLAG_W,DELC14,DELC14_FLAG_W,C14ERR,CHLORA,CHLORA_FLAG_W,CU,CU_FLAG_W,NI,NI_FLAG_W,THETA,SIG0
,,,,,,,,,,,METERS,DBAR,,ITS-90,,PSS-78,,PSS-78,,UMOL/KG,,UMOL/KG,,UMOL/KG,,UMOL/KG,,UMOL/KG,,UMOL/KG,,PMOL/KG,,PMOL/KG,,PMOL/KG,,FMOL/KG,,,,UMOL/KG,,UMOL/KG,,/MILLE,,/MILLE,,/MILLE,UG/KG,,UMOL/L,,UMOL/L,,ITS-90,KG/M^3
  49KA199905_1,  P01W,    70,  1,     24,     24,2,19990605,1719, 47.0058,-170.4308, 5539,      9.3,2,   5.9364,2,  32.8335,1,  32.8384,2,   280.06,1,   317.29,2,    24.89,2,    16.62,2,     0.19,2,     1.50,2,    4.716,2,    2.404,2,    0.400,2,   0.5257,2,    7.727,2,   2188.9,2,   2058.8,2, -999.000,1,   -999.0,9,   -999.0,     0.45,2,   -999.0,9,   -999.0,9,   5.9356,  25.8527
  49KA199905_1,  P01W,    70,  1,     23,     23,2,19990605,1719, 47.0058,-170.4308, 5539,     50.7,2,   5.2867,2,  32.8538,1,  32.8618,2,   281.49,1,   318.56,2,    25.32,2,    17.15,2,     0.20,2,     1.53,2,    4.850,2,    2.442,2,    0.481,2,   0.3754,2,    7.712,2,   2190.8,2,   2068.4,2, -999.000,1,   -999.0,9,   -999.0,     0.55,2,   -999.0,9,   -999.0,9,   5.2829,  25.9484
  49KA199905_1,  P01W,    70,  1,     22,     22,2,19990605,1719, 47.0058,-170.4308, 5539,    100.2,2,   4.2303,2,  32.8731,1,  32.8782,2,   282.32,1,   318.03,2,    27.82,2,    18.55,2,     0.35,2,     1.64,2,    4.998,2,    2.535,2,    0.445,2,   0.3235,2,    7.683,2,   2189.1,2,   2083.4,2, -999.000,1,   -999.0,9,   -999.0,     0.15,2,   -999.0,9,   -999.0,9,   4.2235,  26.0761
  49KA199905_1,  P01W,    70,  1,     21,     21,2,19990605,1719, 47.0058,-170.4308, 5539,    149.8,2,   3.6462,2,  32.9649,1,  32.9704,2,   269.83,1,   302.85,2,    32.32,2,    20.99,2,     0.14,2,     1.74,2,    4.881,2,    2.462,2,    0.537,2,   0.2955,2,    7.644,2,   2196.2,2,   2098.4,2, -999.000,1,   -999.0,9,   -999.0,     0.03,2,   -999.0,9,   -999.0,9,   3.6367,  26.2071
  49KA199905_1,  P01W,    70,  1,     20,     20,2,19990605,1719, 47.0058,-170.4308, 5539,    200.4,2,   4.0143,2,  33.7247,1,  33.7331,2,    94.35,1,   117.27,2,    68.09,2,    36.24,2,     0.04,2,     2.64,2,    2.882,2,    1.335,2,    0.175,2,   0.1814,2,    7.373,2,   2251.1,2,   2254.6,2, -999.000,1,   -999.0,9,   -999.0,     0.00,2,   -999.0,9,   -999.0,9,   4.0006,  26.7783
  49KA199905_1,  P01W,    70,  1,     19,     19,2,19990605,1719, 47.0058,-170.4308, 5539,    249.8,2,   3.8589,2,  33.8085,1,  33.8108,2,    67.27,1,    89.59,2,    77.12,2,    38.79,2,     0.04,2,     2.80,2,    2.441,2,    1.121,2,    0.158,2,   0.0368,2,    7.334,2,   2258.7,2,   2280.8,2, -999.000,1,   -999.0,9,   -999.0,     0.00,4,   -999.0,9,   -999.0,9,   3.8420,  26.8561
  49KA199905_1,  P01W,    70,  1,     18,     18,2,19990605,1719, 47.0058,-170.4308, 5539,    300.3,2,   3.8179,2,  33.8874,1,  33.8923,2,    45.16,1,    67.48,2,    85.73,2,    40.81,2,     0.04,2,     2.95,2,    1.964,2,    0.860,2,    0.118,2,   0.0135,2,    7.307,2,   2273.5,2,   2300.6,2, -999.000,1,   -999.0,9,   -999.0,     0.00,2,   -999.0,9,   -999.0,9,   3.7975,  26.9254
  49KA199905_1,  P01W,    70,  1,     17,     17,2,19990605,1719, 47.0058,-170.4308, 5539,    350.0,2,   3.7755,2,  33.9529,1,  33.9565,2,    33.25,1,    55.22,2,    92.75,2,    41.60,2,     0.04,2,     3.01,2,    1.561,2,    0.689,2,    0.119,2,   0.0040,2,    7.298,2,   2279.2,2,   2312.6,2, -999.000,1,   -999.0,9,   -999.0,  -999.00,9,   -999.0,9,   -999.0,9,   3.7517,  26.9810
  49KA199905_1,  P01W,    70,  1,     16,     16,2,19990605,1719, 47.0058,-170.4308, 5539,    398.8,2,   3.7766,2,  34.0082,1,  34.0114,2,    23.56,1,    45.08,2,    97.67,2,    42.19,2,     0.04,2,     3.05,2,    1.232,2,    0.555,2,    0.061,2,   0.0034,2,    7.292,2,   2289.0,2,   2324.0,2, -999.000,1,   -999.0,9,   -999.0,  -999.00,9,   -999.0,9,   -999.0,9,   3.7493,  27.0250
  49KA199905_1,  P01W,    70,  1,     15,     15,2,19990605,1719, 47.0058,-170.4308, 5539,    502.3,2,   3.6460,2,  34.1138,1,  34.1170,2,    12.45,1,    33.75,2,   109.05,2,    42.74,2,     0.04,2,     3.10,2,    0.749,2,    0.335,2,    0.037,2,   0.0000,2,    7.293,2,   2316.1,2,   2342.2,2, -999.000,1,   -999.0,9,   -999.0,  -999.00,9,   -999.0,9,   -999.0,9,   3.6116,  27.1226
  49KA199905_1,  P01W,    70,  1,     14,     14,2,19990605,1719, 47.0058,-170.4308, 5539,    601.2,2,   3.5022,2,  34.1884,1,  34.1924,2,     7.47,1,    28.91,2,   117.65,2,    43.12,2,     0.04,2,     3.11,2,    0.494,2,    0.205,2,    0.029,2,   0.0000,2,    7.297,2,   2329.0,2,   2350.0,2, -999.000,1,   -999.0,9,   -999.0,  -999.00,9,   -999.0,9,   -999.0,9,   3.4612,  27.1973
  49KA199905_1,  P01W,    70,  1,     13,     13,2,19990605,1719, 47.0058,-170.4308, 5539,    801.4,2,   3.1624,2,  34.2990,1,  34.3025,2,     2.93,1,    25.44,2,   131.89,2,    43.42,2,     0.04,2,     3.16,2,    0.205,2,    0.085,2,    0.011,2,   0.0000,2,    7.308,2,   2347.1,2,   2369.3,2, -999.000,1,   -999.0,9,   -999.0,  -999.00,9,   -999.0,9,   -999.0,9,   3.1086,  27.3183
  49KA199905_1,  P01W,    70,  1,     12,     12,2,19990605,1719, 47.0058,-170.4308, 5539,   1000.6,2,   2.8003,2,  34.3880,1,  34.3919,2,     2.92,1,    27.32,2,   143.75,2,    43.40,2,     0.03,2,     3.13,2,    0.104,2,    0.035,2,    0.002,2,   0.0001,2,    7.321,2,   2368.5,2,   2377.9,2, -999.000,1,   -999.0,9,   -999.0,  -999.00,9,   -999.0,9,   -999.0,9,   2.7341,  27.4234
  49KA199905_1,  P01W,    70,  1,     11,     11,2,19990605,1719, 47.0058,-170.4308, 5539,   1251.1,2,   2.4954,2,  34.4562,1,  34.4605,2,     5.71,1,    31.68,2,   152.95,2,    43.38,2,     0.03,2,     3.12,2,    0.068,2,    0.010,2,    0.002,2,-999.0000,9,    7.335,2,   2380.2,2,   2390.3,2, -999.000,1,   -999.0,9,   -999.0,  -999.00,9,   -999.0,9,   -999.0,9,   2.4130,  27.5058
  49KA199905_1,  P01W,    70,  1,     10,     10,2,19990605,1719, 47.0058,-170.4308, 5539,   1500.4,2,   2.2856,2,  34.5050,1,  34.5085,2,    10.79,1,    37.29,2,   159.26,2,    43.14,2,     0.03,2,     3.10,2,    0.010,2,    0.004,2,    0.000,2,-999.0000,9,    7.352,2,   2389.6,2,   2390.4,2, -999.000,1,   -999.0,9,   -999.0,  -999.00,9,   -999.0,9,   -999.0,9,   2.1861,  27.5630
  49KA199905_1,  P01W,    70,  1,      9,      9,2,19990605,1719, 47.0058,-170.4308, 5539,   1752.7,2,   2.0915,2,  34.5493,1,  34.5532,2,    20.84,1,    49.28,2,   163.37,2,    42.46,2,     0.03,2,     3.04,2,    0.001,2,    0.000,2,    0.000,2,-999.0000,9,    7.376,2,   2397.6,2,   2386.6,2, -999.000,1,   -999.0,9,   -999.0,  -999.00,9,   -999.0,9,   -999.0,9,   1.9743,  27.6157
  49KA199905_1,  P01W,    70,  1,      8,      8,2,19990605,1719, 47.0058,-170.4308, 5539,   2000.5,2,   1.9364,2,  34.5825,1,  34.5865,2,    32.48,1,    62.82,2,   165.13,2,    41.60,2,     0.03,2,     2.98,2,    0.002,2,    0.000,2,    0.000,2,-999.0000,9,    7.405,2,   2406.3,2,   2381.5,2, -999.000,1,   -999.0,9,   -999.0,  -999.00,9,   -999.0,9,   -999.0,9,   1.8011,  27.6559
  49KA199905_1,  P01W,    70,  1,      7,      7,2,19990605,1719, 47.0058,-170.4308, 5539,   2552.9,2,   1.7038,2,  34.6291,1,  34.6309,2,    56.68,1,    90.93,2,   164.43,2,    39.92,2,     0.03,2,     2.85,2,    0.001,2,    0.000,2,    0.000,2,-999.0000,9,    7.456,2,   2408.4,2,   2368.4,2, -999.000,1,   -999.0,9,   -999.0,  -999.00,9,   -999.0,9,   -999.0,9,   1.5244,  27.7122
  49KA199905_1,  P01W,    70,  1,      6,      6,2,19990605,1719, 47.0058,-170.4308, 5539,   3000.3,2,   1.5850,2,  34.6521,1,  34.6564,2,    74.17,1,   110.74,2,   161.17,2,    38.54,2,     0.03,2,     2.74,2,    0.000,2,    0.000,2,    0.001,2,-999.0000,9,    7.493,2,   2410.6,2,   2351.8,2, -999.000,1,   -999.0,9,   -999.0,  -999.00,9,   -999.0,9,   -999.0,9,   1.3664,  27.7440
  49KA199905_1,  P01W,    70,  1,      5,      5,2,19990605,1719, 47.0058,-170.4308, 5539,   3499.3,2,   1.4973,2,  34.6691,1,  34.6594,4,    91.96,1,   123.40,4,   157.88,3,    37.85,4,     0.03,4,     2.67,4,    0.006,4,    0.000,4,    0.000,4,-999.0000,9,    7.512,4,   2410.1,4,   2342.8,4, -999.000,1,   -999.0,9,   -999.0,  -999.00,9,   -999.0,9,   -999.0,9,   1.2315,  27.7559
  49KA199905_1,  P01W,    70,  1,      4,      4,2,19990605,1719, 47.0058,-170.4308, 5539,   3999.5,2,   1.4692,2,  34.6788,1,  34.6830,2,   101.97,1,   144.53,2,   154.16,2,    36.38,2,     0.03,2,     2.56,2,    0.004,2,    0.000,2,    0.000,2,-999.0000,9,    7.549,2,   2413.1,2,   2328.3,2, -999.000,1,   -999.0,9,   -999.0,  -999.00,9,   -999.0,9,   -999.0,9,   1.1513,  27.7804
  49KA199905_1,  P01W,    70,  1,      3,      3,2,19990605,1719, 47.0058,-170.4308, 5539,   4499.9,2,   1.4903,2,  34.6832,1,  34.6879,2,   105.72,1,   149.18,2,   156.07,2,    36.18,2,     0.03,2,     2.53,2,    0.000,2,    0.001,2,    0.000,2,-999.0000,9,    7.558,2,   2415.2,2,   2327.0,2, -999.000,1,   -999.0,9,   -999.0,  -999.00,9,   -999.0,9,   -999.0,9,   1.1156,  27.7868
  49KA199905_1,  P01W,    70,  1,      2,      2,2,19990605,1719, 47.0058,-170.4308, 5539,   4998.9,2,   1.5456,2,  34.6838,1,  34.6888,2,   106.60,1,   150.30,2,   157.15,2,    36.11,2,     0.03,2,     2.54,2,    0.000,2,    0.005,2,    0.001,2,-999.0000,9,    7.558,2,   2417.3,2,   2332.3,2, -999.000,1,   -999.0,9,   -999.0,  -999.00,9,   -999.0,9,   -999.0,9,   1.1100,  27.7879
  49KA199905_1,  P01W,    70,  1,      1,      1,2,19990605,1719, 47.0058,-170.4308, 5539,   5611.4,2,   1.6172,2,  34.6840,1,  34.6892,2,   109.27,1,   152.27,2,   156.81,2,    35.90,2,     0.03,2,     2.53,2,    0.003,2,    0.000,2,    0.000,2,-999.0000,9,    7.564,2,   2412.5,2,   2330.9,2, -999.000,1,   -999.0,9,   -999.0,  -999.00,9,   -999.0,9,   -999.0,9,   1.1020,  27.7888
  49KA199905_1,  P01W,    71,  1,     24,     24,2,19990605,2358, 47.0050,-169.3472, 5615,     11.6,2,   6.5377,2,  32.8219,1,  32.8297,2,   278.10,1,   316.13,2,    23.45,2,    15.73,3,     0.18,3,     1.46,3, -999.000,9, -999.000,9, -999.000,9,-999.0000,9, -999.000,9,   -999.0,9,   -999.0,9, -999.000,9,   -999.0,9,   -999.0,  -999.00,9,   -999.0,9,   -999.0,9,   6.5367,  25.7704
  49KA199905_1,  P01W,    71,  1,     23,     23,2,19990605,2358, 47.0050,-169.3472, 5615,     50.0,2,   5.1470,2,  32.8531,1,  32.8631,2,   280.61,1,   318.23,2,    25.42,2,    17.36,2,     0.22,2,     1.58,2, -999.000,9, -999.000,9, -999.000,9,-999.0000,9, -999.000,9,   -999.0,9,   -999.0,9, -999.000,9,   -999.0,9,   -999.0,  -999.00,9,   -999.0,9,   -999.0,9,   5.1433,  25.9653
  49KA199905_1,  P01W,    71,  1,     22,     22,2,19990605,2358, 47.0050,-169.3472, 5615,    100.3,2,   4.0742,2,  32.8746,1,  32.8799,2,   281.28,1,   315.47,2,    27.79,2,    18.85,2,     0.56,2,     1.65,2, -999.000,9, -999.000,9, -999.000,9,-999.0000,9, -999.000,9,   -999.0,9,   -999.0,9, -999.000,9,   -999.0,9,   -999.0,  -999.00,9,   -999.0,9,   -999.0,9,   4.0675,  26.0932
  49KA199905_1,  P01W,    71,  1,     21,     21,2,19990605,2358, 47.0050,-169.3472, 5615,    149.5,2,   4.1375,2,  33.2115,1,  33.2203,2,   215.41,1,   248.01,2,    39.34,2,    24.55,2,     0.04,2,     1.94,2, -999.000,9, -999.000,9, -999.000,9,-999.0000,9, -999.000,9,   -999.0,9,   -999.0,9, -999.000,9,   -999.0,9,   -999.0,  -999.00,9,   -999.0,9,   -999.0,9,   4.1273,  26.3577
  49KA199905_1,  P01W,    71,  1,     20,     20,2,19990605,2358, 47.0050,-169.3472, 5615,    201.9,2,   4.0618,2,  33.7060,1,  33.7106,2,   116.21,1,   140.63,2,    63.46,2,    33.72,2,     0.04,2,     2.50,2, -999.000,9, -999.000,9, -999.000,9,-999.0000,9, -999.000,9,   -999.0,9,   -999.0,9, -999.000,9,   -999.0,9,   -999.0,  -999.00,9,   -999.0,9,   -999.0,9,   4.0479,  26.7556
  49KA199905_1,  P01W,    71,  1,     19,     19,2,19990605,2358, 47.0050,-169.3472, 5615,    250.6,2,   3.9053,2,  33.7748,1,  33.7788,2,    88.84,1,   112.12,2,    72.35,2,    36.67,2,     0.03,2,     2.69,2, -999.000,9, -999.000,9, -999.000,9,-999.0000,9, -999.000,9,   -999.0,9,   -999.0,9, -999.000,9,   -999.0,9,   -999.0,  -999.00,9,   -999.0,9,   -999.0,9,   3.8883,  26.8260
  49KA199905_1,  P01W,    71,  1,     18,     18,2,19990605,2358, 47.0050,-169.3472, 5615,    301.9,2,   3.8204,2,  33.8632,1,  33.8688,2,    60.69,1,    83.73,2,    82.66,2,    39.24,2,     0.03,2,     2.85,2, -999.000,9, -999.000,9, -999.000,9,-999.0000,9, -999.000,9,   -999.0,9,   -999.0,9, -999.000,9,   -999.0,9,   -999.0,  -999.00,9,   -999.0,9,   -999.0,9,   3.7999,  26.9065
  49KA199905_1,  P01W,    71,  1,     17,     17,2,19990605,2358, 47.0050,-169.3472, 5615,    350.3,2,   3.8101,2,  33.9306,1,  33.9323,2,    45.71,1,    68.31,3,    89.08,2,    40.51,2,     0.03,2,     2.93,2, -999.000,9, -999.000,9, -999.000,9,-999.0000,9, -999.000,9,   -999.0,9,   -999.0,9, -999.000,9,   -999.0,9,   -999.0,  -999.00,9,   -999.0,9,   -999.0,9,   3.7862,  26.9584
  49KA199905_1,  P01W,    71,  1,     16,     16,2,19990605,2358, 47.0050,-169.3472, 5615,    399.4,2,   3.8337,2,  34.0103,1,  34.0155,2,    34.99,1,    57.33,2,    96.01,2,    41.03,2,     0.03,2,     2.99,2, -999.000,9, -999.000,9, -999.000,9,-999.0000,9, -999.000,9,   -999.0,9,   -999.0,9, -999.000,9,   -999.0,9,   -999.0,  -999.00,9,   -999.0,9,   -999.0,9,   3.8062,  27.0226
  49KA199905_1,  P01W,    71,  1,     15,     15,2,19990605,2358, 47.0050,-169.3472, 5615,    500.8,2,   3.6745,2,  34.1011,1,  34.1067,2,     9.31,1,    29.40,2,   108.56,2,    43.25,2,     0.03,2,     3.13,3, -999.000,9, -999.000,9, -999.000,9,-999.0000,9, -999.000,9,   -999.0,9,   -999.0,9, -999.000,9,   -999.0,9,   -999.0,  -999.00,9,   -999.0,9,   -999.0,9,   3.6401,  27.1117
  49KA199905_1,  P01W,    71,  1,     14,     14,2,19990605,2358, 47.0050,-169.3472, 5615,    602.3,2,   3.4917,2,  34.1910,1,  34.1954,2,     4.70,1,    25.15,2,   118.83,2,    43.30,2,     0.03,2,     3.14,2, -999.000,9, -999.000,9, -999.000,9,-999.0000,9, -999.000,9,   -999.0,9,   -999.0,9, -999.000,9,   -999.0,9,   -999.0,  -999.00,9,   -999.0,9,   -999.0,9,   3.4507,  27.2007
  49KA199905_1,  P01W,    71,  1,     13,     13,2,19990605,2358, 47.0050,-169.3472, 5615,    800.2,2,   3.1595,2,  34.3006,1,  34.3040,2,     3.40,1,    24.88,2,   132.40,2,    43.42,2,     0.03,2,     3.15,2, -999.000,9, -999.000,9, -999.000,9,-999.0000,9, -999.000,9,   -999.0,9,   -999.0,9, -999.000,9,   -999.0,9,   -999.0,  -999.00,9,   -999.0,9,   -999.0,9,   3.1058,  27.3198
  49KA199905_1,  P01W,    71,  1,     12,     12,2,19990605,2358, 47.0050,-169.3472, 5615,   1001.0,2,   2.8547,2,  34.3804,1,  34.3846,2,     3.13,1,    25.36,2,   142.42,2,    43.40,2,     0.03,2,     3.10,2, -999.000,9, -999.000,9, -999.000,9,-999.0000,9, -999.000,9,   -999.0,9,   -999.0,9, -999.000,9,   -999.0,9,   -999.0,  -999.00,9,   -999.0,9,   -999.0,9,   2.7881,  27.4128
  49KA199905_1,  P01W,    71,  1,     11,     11,2,19990605,2358, 47.0050,-169.3472, 5615,   1251.9,2,   2.5205,2,  34.4533,1,  34.4573,2,     4.40,1,    29.22,2,   153.19,2,    43.46,2,     0.03,2,     3.11,2, -999.000,9, -999.000,9, -999.000,9,-999.0000,9, -999.000,9,   -999.0,9,   -999.0,9, -999.000,9,   -999.0,9,   -999.0,  -999.00,9,   -999.0,9,   -999.0,9,   2.4378,  27.5012
  49KA199905_1,  P01W,    71,  1,     10,     10,2,19990605,2358, 47.0050,-169.3472, 5615,   1501.1,2,   2.2660,2,  34.5088,1,  34.5128,2,    10.53,1,    37.64,2,   160.73,2,    43.17,2,     0.03,2,     3.09,2, -999.000,9, -999.000,9, -999.000,9,-999.0000,9, -999.000,9,   -999.0,9,   -999.0,9, -999.000,9,   -999.0,9,   -999.0,  -999.00,9,   -999.0,9,   -999.0,9,   2.1667,  27.5680
  49KA199905_1,  P01W,    71,  1,      9,      9,2,19990605,2358, 47.0050,-169.3472, 5615,   1748.1,2,   2.0908,2,  34.5499,1,  34.5543,2,    19.02,1,    47.25,2,   164.10,2,    42.58,2,     0.03,2,     3.03,2, -999.000,9, -999.000,9, -999.000,9,-999.0000,9, -999.000,9,   -999.0,9,   -999.0,9, -999.000,9,   -999.0,9,   -999.0,  -999.00,9,   -999.0,9,   -999.0,9,   1.9740,  27.6166
  49KA199905_1,  P01W,    71,  1,      8,      8,2,19990605,2358, 47.0050,-169.3472, 5615,   1999.3,2,   1.9398,2,  34.5828,1,  34.5867,2,    29.81,1,    61.03,2,   166.28,2,    41.93,2,     0.03,2,     2.96,2, -999.000,9, -999.000,9, -999.000,9,-999.0000,9, -999.000,9,   -999.0,9,   -999.0,9, -999.000,9,   -999.0,9,   -999.0,  -999.00,9,   -999.0,9,   -999.0,9,   1.8046,  27.6558
  49KA199905_1,  P01W,    71,  1,      7,      7,2,19990605,2358, 47.0050,-169.3472, 5615,   2501.4,2,   1.7200,2,  34.6265,1,  34.6310,2,    53.18,1,    87.78,2,   166.65,2,    40.25,2,     0.03,2,     2.84,2, -999.000,9, -999.000,9, -999.000,9,-999.0000,9, -999.000,9,   -999.0,9,   -999.0,9, -999.000,9,   -999.0,9,   -999.0,  -999.00,9,   -999.0,9,   -999.0,9,   1.5449,  27.7108
  49KA199905_1,  P01W,    71,  1,      6,      6,2,19990605,2358, 47.0050,-169.3472, 5615,   3000.1,2,   1.5780,2,  34.6527,1,  34.6568,2,    75.47,1,   114.56,2,   162.27,2,    38.54,2,     0.03,2,     2.70,2, -999.000,9, -999.000,9, -999.000,9,-999.0000,9, -999.000,9,   -999.0,9,   -999.0,9, -999.000,9,   -999.0,9,   -999.0,  -999.00,9,   -999.0,9,   -999.0,9,   1.3596,  27.7448
  49KA199905_1,  P01W,    71,  1,      5,      5,2,19990605,2358, 47.0050,-169.3472, 5615,   3500.8,2,   1.5044,2,  34.6683,1,  34.6591,4,    90.93,1,   116.46,4,   160.31,4,    38.12,4,     0.03,4,     2.68,4, -999.000,9, -999.000,9, -999.000,9,-999.0000,9, -999.000,9,   -999.0,9,   -999.0,9, -999.000,9,   -999.0,9,   -999.0,  -999.00,9,   -999.0,9,   -999.0,9,   1.2382,  27.7552
  49KA199905_1,  P01W,    71,  1,      4,      4,2,19990605,2358, 47.0050,-169.3472, 5615,   3999.8,2,   1.4730,2,  34.6784,1,  34.6819,2,   101.16,1,   143.83,2,   156.06,2,    36.48,2,     0.03,2,     2.55,2, -999.000,9, -999.000,9, -999.000,9,-999.0000,9, -999.000,9,   -999.0,9,   -999.0,9, -999.000,9,   -999.0,9,   -999.0,  -999.00,9,   -999.0,9,   -999.0,9,   1.1549,  27.7793
  49KA199905_1,  P01W,    71,  1,      3,      3,2,19990605,2358, 47.0050,-169.3472, 5615,   4501.1,2,   1.4963,2,  34.6826,1,  34.6865,2,   104.81,1,   148.90,2,   156.93,2,    36.26,2,     0.03,2,     2.53,2, -999.000,9, -999.000,9, -999.000,9,-999.0000,9, -999.000,9,   -999.0,9,   -999.0,9, -999.000,9,   -999.0,9,   -999.0,  -999.00,9,   -999.0,9,   -999.0,9,   1.1213,  27.7853
  49KA199905_1,  P01W,    71,  1,      2,      2,2,19990605,2358, 47.0050,-169.3472, 5615,   4998.6,2,   1.5479,2,  34.6837,1,  34.6877,2,   105.80,1,   150.04,2,   158.43,2,    36.17,2,     0.03,2,     2.52,2, -999.000,9, -999.000,9, -999.000,9,-999.0000,9, -999.000,9,   -999.0,9,   -999.0,9, -999.000,9,   -999.0,9,   -999.0,  -999.00,9,   -999.0,9,   -999.0,9,   1.1122,  27.7869
  49KA199905_1,  P01W,    71,  1,      1,      1,2,19990605,2358, 47.0050,-169.3472, 5615,   5723.2,2,   1.6299,2,  34.6842,1,  34.6890,2,   109.46,1,   152.34,2,   157.52,2,    36.01,2,     0.03,2,     2.51,2, -999.000,9, -999.000,9, -999.000,9,-999.0000,9, -999.000,9,   -999.0,9,   -999.0,9, -999.000,9,   -999.0,9,   -999.0,  -999.00,9,   -999.0,9,   -999.0,9,   1.0997,  27.7888