BOTTLE,20220921CCHSIOAMB
EXPOCODE,SECT_ID,STNNBR,CASTNO,SAMPNO,BTLNBR,BTLNBR_FLAG_W,DATE,TIME,LATITUDE,LONGITUDE,DEPTH,CTDPRS,CTDPRS_FLAG_W,CTDTMP,CTDTMP_FLAG_W,CTDSAL,CTDSAL_FLAG_W,SALNTY,SALNTY_FLAG_W,CTDOXY,CTDOXY_FLAG_W,OXYGEN,OXYGEN_FLAG_W,SILCAT,SILCAT_FLAG_W,NITRAT,NITRAT_FLAG_W,NITRIT,NITRIT_FLAG_W,PHSPHT,PHSPHT_FLAG_W,CFC-11,CFC-11_FLAG_W,CFC-12,CFC-12_FLAG_W,CFC113,CFC113_FLAG_W,SF6,SF6_FLAG_W,PH,PH_FLAG_W,ALKALI,ALKALI_FLAG_W,TCARBN,TCARBN_FLAG_W,DELC13,DELC13_FLAG_W,DELC14,DELC14_FLAG_W,C14ERR,CHLORA,CHLORA_FLAG_W,CU,CU_FLAG_W,NI,NI_FLAG_W,THETA,SIG0
,,,,,,,,,,,METERS,DBAR,,ITS-90,,PSS-78,,PSS-78,,UMOL/KG,,UMOL/KG,,UMOL/KG,,UMOL/KG,,UMOL/KG,,UMOL/KG,,PMOL/KG,,PMOL/KG,,PMOL/KG,,FMOL/KG,,,,UMOL/KG,,UMOL/KG,,/MILLE,,/MILLE,,/MILLE,UG/KG,,UMOL/L,,UMOL/L,,ITS-90,KG/M^3
  49KA199905_1,  P01W,    62,  1,     24,     24,3,19990603,1159, 46.9978,-179.4252, 5641,     10.4,3,   4.8559,2,  32.9574,1,  32.9702,4,   287.01,1,   326.31,4,    28.15,3,    16.99,3,     0.28,3,     1.53,3,    5.076,4,    2.664,4,    0.518,4,   0.3659,4,    7.722,4,   2218.1,4,   2077.6,4, -999.000,1,   -999.0,9,   -999.0,     0.69,2,   -999.0,9,   -999.0,9,   4.8551,  26.0822
  49KA199905_1,  P01W,    62,  1,     23,     23,2,19990603,1159, 46.9978,-179.4252, 5641,     49.8,2,   4.7544,2,  32.9580,1,  32.9625,2,   285.29,1,   323.92,2,    28.47,2,    17.22,2,     0.29,2,     1.56,2,    5.091,2,    2.674,2,    0.492,2,   0.3720,2,    7.719,2,   2218.1,2,   2083.0,2, -999.000,1,   -999.0,9,   -999.0,     0.70,2,   -999.0,9,   -999.0,9,   4.7508,  26.0875
  49KA199905_1,  P01W,    62,  1,     22,     22,2,19990603,1159, 46.9978,-179.4252, 5641,    101.1,2,   3.5154,2,  32.9945,1,  33.0013,2,   283.68,1,   321.65,2,    30.12,2,    18.88,2,     0.64,2,     1.63,2,    5.261,2,    2.780,2,    0.492,2,   0.3204,2,    7.687,2,   2221.4,2,   2095.1,2, -999.000,1,   -999.0,9,   -999.0,     0.07,2,   -999.0,9,   -999.0,9,   3.5091,  26.2438
  49KA199905_1,  P01W,    62,  1,     21,     21,2,19990603,1159, 46.9978,-179.4252, 5641,    150.3,2,   3.0369,2,  33.0590,1,  33.0636,2,   273.48,1,   311.94,2,    37.13,2,    22.37,2,     0.04,2,     1.87,2,    5.112,2,    2.741,2,    0.478,2,   0.2981,2,    7.641,2,   2250.1,2,   2113.2,2, -999.000,1,   -999.0,9,   -999.0,     0.03,2,   -999.0,9,   -999.0,9,   3.0280,  26.3370
  49KA199905_1,  P01W,    62,  1,     20,     20,2,19990603,1159, 46.9978,-179.4252, 5641,    199.9,2,   4.1825,2,  33.6012,1,  33.6129,4,   159.27,1,   191.17,4,    50.47,3,    27.79,3,     0.02,3,     2.17,3,    3.696,4,    1.951,4,    0.287,4,   0.2589,4,    7.506,4,   2263.7,4,   -999.0,9, -999.000,1,   -999.0,9,   -999.0,     0.01,2,   -999.0,9,   -999.0,9,   4.1686,  26.6655
  49KA199905_1,  P01W,    62,  1,     19,     19,2,19990603,1159, 46.9978,-179.4252, 5641,    250.0,2,   4.0602,2,  33.7397,1,  33.7431,2,   113.80,1,   140.44,2,    64.17,2,    32.75,2,     0.02,2,     2.51,2,    3.018,2,    1.523,2,    0.210,2,   0.1406,2,    7.446,2,   2278.5,2,   2218.5,2, -999.000,1,   -999.0,9,   -999.0,     0.00,2,   -999.0,9,   -999.0,9,   4.0429,  26.7820
  49KA199905_1,  P01W,    62,  1,     18,     18,2,19990603,1159, 46.9978,-179.4252, 5641,    300.0,2,   3.8766,2,  33.8077,1,  33.8106,2,    85.32,1,   112.03,2,    73.79,2,    35.75,2,     0.01,2,     2.71,2,    2.588,2,    1.300,2,    0.164,2,   0.0346,2,    7.393,2,   2287.0,2,   2258.5,2, -999.000,1,   -999.0,9,   -999.0,     0.00,2,   -999.0,9,   -999.0,9,   3.8561,  26.8545
  49KA199905_1,  P01W,    62,  1,     17,     17,2,19990603,1159, 46.9978,-179.4252, 5641,    350.3,2,   3.8795,2,  33.8917,1,  33.8998,3,    63.64,1,    88.21,3,    82.08,2,    37.95,2,     0.01,2,     2.87,2,    2.067,2,    1.019,2,    0.129,2,   0.0038,2,    7.362,2,   2298.1,2,   2280.7,2, -999.000,1,   -999.0,9,   -999.0,  -999.00,9,   -999.0,9,   -999.0,9,   3.8554,  26.9256
  49KA199905_1,  P01W,    62,  1,     16,     16,2,19990603,1159, 46.9978,-179.4252, 5641,    401.2,2,   3.6132,2,  33.9581,1,  33.9588,2,    32.30,1,    55.16,2,    94.29,3,    41.22,3,     0.02,3,     3.06,3,    1.590,2,    0.772,2,    0.102,2,   0.0011,2,    7.314,2,   2306.1,2,   2314.1,2, -999.000,1,   -999.0,9,   -999.0,  -999.00,9,   -999.0,9,   -999.0,9,   3.5863,  26.9991
  49KA199905_1,  P01W,    62,  1,     15,     15,2,19990603,1159, 46.9978,-179.4252, 5641,    500.3,2,   3.6093,2,  34.0867,1,  34.0929,2,    18.09,1,    41.28,2,   105.59,2,    41.87,2,     0.01,2,     3.11,2,    0.958,2,    0.462,2,    0.056,2,   0.0000,2,    7.321,3,   2321.7,2,   2331.2,2, -999.000,1,   -999.0,9,   -999.0,  -999.00,9,   -999.0,9,   -999.0,9,   3.5752,  27.1070
  49KA199905_1,  P01W,    62,  1,     14,     14,2,19990603,1159, 46.9978,-179.4252, 5641,    601.6,2,   3.4011,2,  34.1700,1,  34.1745,2,     7.54,1,    30.68,2,   116.61,2,    42.68,2,     0.01,2,     3.16,2,    0.490,2,    0.211,2,    0.023,2,   0.0000,2,    7.317,3,   2334.1,2,   2350.8,2, -999.000,1,   -999.0,9,   -999.0,  -999.00,9,   -999.0,9,   -999.0,9,   3.3606,  27.1927
  49KA199905_1,  P01W,    62,  1,     13,     13,2,19990603,1159, 46.9978,-179.4252, 5641,    800.6,2,   3.0949,2,  34.2851,1,  34.2878,2,     1.41,1,    24.26,2,   130.82,2,    43.17,2,     0.01,2,     3.21,2,    0.240,2,    0.088,2,    0.012,2,   0.0000,2,    7.330,2,   2352.0,2,   2366.6,2, -999.000,1,   -999.0,9,   -999.0,  -999.00,9,   -999.0,9,   -999.0,9,   3.0415,  27.3128
  49KA199905_1,  P01W,    62,  1,     12,     12,2,19990603,1159, 46.9978,-179.4252, 5641,   1000.8,2,   2.8028,2,  34.3756,1,  34.3795,2,     2.61,1,    27.02,2,   142.13,2,    43.01,2,     0.02,2,     3.13,2,    0.179,2,    0.068,2,    0.008,2,   0.0035,2,    7.348,2,   2369.9,2,   2377.2,2, -999.000,1,   -999.0,9,   -999.0,  -999.00,9,   -999.0,9,   -999.0,9,   2.7366,  27.4133
  49KA199905_1,  P01W,    62,  1,     11,     11,2,19990603,1159, 46.9978,-179.4252, 5641,   1250.9,2,   2.4832,2,  34.4520,1,  34.4565,2,     6.13,1,    33.50,2,   152.58,2,    42.87,2,     0.01,2,     3.12,2,    0.114,2,    0.035,2,    0.008,2,-999.0000,9,    7.369,2,   2379.5,2,   2384.1,2, -999.000,1,   -999.0,9,   -999.0,  -999.00,9,   -999.0,9,   -999.0,9,   2.4009,  27.5037
  49KA199905_1,  P01W,    62,  1,     10,     10,2,19990603,1159, 46.9978,-179.4252, 5641,   1500.5,2,   2.2443,2,  34.5101,1,  34.5140,2,    14.93,1,    43.16,2,   156.53,2,    42.30,2,     0.01,2,     3.02,3,    0.043,2,    0.033,2,    0.002,2,-999.0000,9,    7.393,2,   2391.8,2,   2385.7,2, -999.000,1,   -999.0,9,   -999.0,  -999.00,9,   -999.0,9,   -999.0,9,   2.1453,  27.5707
  49KA199905_1,  P01W,    62,  1,      9,      9,2,19990603,1159, 46.9978,-179.4252, 5641,   1749.8,2,   2.0725,2,  34.5517,1,  34.5559,2,    23.72,1,    53.48,2,   161.76,2,    41.81,2,     0.01,2,     3.07,3,    0.019,2,    0.012,2,    0.005,2,-999.0000,9,    7.415,2,   2400.6,2,   2386.0,2, -999.000,1,   -999.0,9,   -999.0,  -999.00,9,   -999.0,9,   -999.0,9,   1.9558,  27.6193
  49KA199905_1,  P01W,    62,  1,      8,      8,2,19990603,1159, 46.9978,-179.4252, 5641,   2001.0,2,   1.9325,2,  34.5832,1,  34.5869,2,    34.56,1,    66.30,2,   162.95,2,    41.12,2,     0.01,2,     3.02,3,    0.018,2,    0.011,2,    0.006,2,-999.0000,9,    7.470,2,   2408.2,2,   2380.3,2, -999.000,1,   -999.0,9,   -999.0,  -999.00,9,   -999.0,9,   -999.0,9,   1.7972,  27.6565
  49KA199905_1,  P01W,    62,  1,      7,      7,2,19990603,1159, 46.9978,-179.4252, 5641,   2500.6,2,   1.7054,2,  34.6286,1,  34.6321,2,    59.55,1,    94.50,2,   161.34,2,    39.30,2,     0.01,2,     2.88,3,    0.000,2,    0.000,2,    0.000,2,-999.0000,9,    7.502,2,   2411.0,2,   2367.9,2, -999.000,1,   -999.0,9,   -999.0,  -999.00,9,   -999.0,9,   -999.0,9,   1.5306,  27.7127
  49KA199905_1,  P01W,    62,  1,      6,      6,2,19990603,1159, 46.9978,-179.4252, 5641,   3000.1,2,   1.5810,2,  34.6530,1,  34.6565,2,    77.31,1,   116.40,2,   157.36,2,    37.88,2,     0.01,2,     2.67,3,    0.003,2,    0.000,2,    0.003,2,-999.0000,9,    7.508,2,   2412.8,2,   2355.4,2, -999.000,1,   -999.0,9,   -999.0,  -999.00,9,   -999.0,9,   -999.0,9,   1.3626,  27.7444
  49KA199905_1,  P01W,    62,  1,      5,      5,2,19990603,1159, 46.9978,-179.4252, 5641,   3500.0,2,   1.5048,2,  34.6690,1,  34.6627,4,    91.55,1,   126.79,4,   156.46,4,    37.92,4,     0.01,4,     2.75,4,    0.001,4,    0.000,4,    0.004,4,-999.0000,9,    7.527,4,   2413.8,4,   2344.9,4, -999.000,1,   -999.0,9,   -999.0,  -999.00,9,   -999.0,9,   -999.0,9,   1.2387,  27.7581
  49KA199905_1,  P01W,    62,  1,      4,      4,2,19990603,1159, 46.9978,-179.4252, 5641,   3999.5,2,   1.4767,2,  34.6785,1,  34.6839,2,   101.01,1,   144.56,2,   152.07,2,    36.06,2,     0.01,2,     2.66,2,    0.000,2,    0.000,2,    0.000,2,-999.0000,9,    7.567,3,   2416.6,2,   2335.8,2, -999.000,1,   -999.0,9,   -999.0,  -999.00,9,   -999.0,9,   -999.0,9,   1.1585,  27.7806
  49KA199905_1,  P01W,    62,  1,      3,      3,2,19990603,1159, 46.9978,-179.4252, 5641,   4500.7,2,   1.4901,2,  34.6834,1,  34.6868,2,   105.68,1,   151.29,2,   152.06,2,    35.66,2,     0.01,2,     2.63,2,    0.000,2,    0.002,2,    0.000,2,-999.0000,9,    7.568,3,   2417.5,2,   2330.6,2, -999.000,1,   -999.0,9,   -999.0,  -999.00,9,   -999.0,9,   -999.0,9,   1.1154,  27.7859
  49KA199905_1,  P01W,    62,  1,      2,      2,2,19990603,1159, 46.9978,-179.4252, 5641,   4999.7,2,   1.5386,2,  34.6849,1,  34.6884,2,   107.08,1,   153.39,2,   154.16,3,    35.59,3,     0.02,3,     2.61,2,    0.001,2,    0.002,2,    0.000,2,-999.0000,9,    7.581,2,   2417.8,2,   2333.0,2, -999.000,1,   -999.0,9,   -999.0,  -999.00,9,   -999.0,9,   -999.0,9,   1.1031,  27.7880
  49KA199905_1,  P01W,    62,  1,      1,      1,2,19990603,1159, 46.9978,-179.4252, 5641,   5727.8,2,   1.6224,2,  34.6852,1,  34.6895,2,   110.73,1,   154.97,2,   151.36,2,    35.41,2,     0.01,2,     2.59,2,    0.002,2,    0.005,2,    0.003,2,-999.0000,9,    7.577,2,   2414.5,2,   2327.6,2, -999.000,1,   -999.0,9,   -999.0,  -999.00,9,   -999.0,9,   -999.0,9,   1.0918,  27.7897
  49KA199905_1,  P01W,    63,  1,     24,     24,2,19990603,1817, 47.0038,-178.3200, 5521,     10.1,2,   5.1344,2,  32.9215,1,  32.9256,2,   283.18,1,   323.50,2,    27.16,2,    17.01,2,     0.29,2,     1.52,2, -999.000,9, -999.000,9, -999.000,9,-999.0000,9, -999.000,9,   -999.0,9,   -999.0,9, -999.000,9,   -999.0,9,   -999.0,  -999.00,9,   -999.0,1,   -999.0,1,   5.1336,  26.0159
  49KA199905_1,  P01W,    63,  1,     23,     23,2,19990603,1817, 47.0038,-178.3200, 5521,     50.7,2,   4.7842,2,  32.9358,1,  32.9430,2,   280.83,1,   319.49,2,    26.75,2,    17.46,2,     0.31,2,     1.55,2, -999.000,9, -999.000,9, -999.000,9,-999.0000,9, -999.000,9,   -999.0,9,   -999.0,9, -999.000,9,   -999.0,9,   -999.0,  -999.00,9,   -999.0,1,   -999.0,1,   4.7805,  26.0688
  49KA199905_1,  P01W,    63,  1,     22,     22,2,19990603,1817, 47.0038,-178.3200, 5521,    100.4,2,   4.6083,2,  32.9465,1,  32.9504,2,   277.66,1,   317.94,2,    27.22,2,    17.80,2,     0.36,2,     1.58,2, -999.000,9, -999.000,9, -999.000,9,-999.0000,9, -999.000,9,   -999.0,9,   -999.0,9, -999.000,9,   -999.0,9,   -999.0,  -999.00,9,   -999.0,1,   -999.0,1,   4.6012,  26.0940
  49KA199905_1,  P01W,    63,  1,     21,     21,2,19990603,1817, 47.0038,-178.3200, 5521,    150.1,2,   3.7909,2,  32.9660,1,  32.9699,2,   274.32,1,   312.10,2,    28.48,2,    19.28,2,     0.16,2,     1.63,2, -999.000,9, -999.000,9, -999.000,9,-999.0000,9, -999.000,9,   -999.0,9,   -999.0,9, -999.000,9,   -999.0,9,   -999.0,  -999.00,9,   -999.0,9,   -999.0,9,   3.7812,  26.1929
  49KA199905_1,  P01W,    63,  1,     20,     20,2,19990603,1817, 47.0038,-178.3200, 5521,    201.6,2,   4.3794,2,  33.6623,1,  33.6662,2,   135.75,1,   162.54,2,    55.44,2,    30.59,2,     0.01,2,     2.30,2, -999.000,9, -999.000,9, -999.000,9,-999.0000,9, -999.000,9,   -999.0,9,   -999.0,9, -999.000,9,   -999.0,9,   -999.0,  -999.00,9,   -999.0,9,   -999.0,9,   4.3652,  26.6874
  49KA199905_1,  P01W,    63,  1,     19,     19,2,19990603,1817, 47.0038,-178.3200, 5521,    250.5,2,   3.8253,2,  33.7262,1,  33.7316,2,   103.58,1,   128.91,2,    67.57,2,    34.46,2,     0.01,2,     2.56,2, -999.000,9, -999.000,9, -999.000,9,-999.0000,9, -999.000,9,   -999.0,9,   -999.0,9, -999.000,9,   -999.0,9,   -999.0,  -999.00,9,   -999.0,1,   -999.0,1,   3.8085,  26.7964
  49KA199905_1,  P01W,    63,  1,     18,     18,2,19990603,1817, 47.0038,-178.3200, 5521,    299.9,2,   3.7741,2,  33.8021,1,  33.8090,2,    80.18,1,   102.85,2,    75.91,2,    36.84,2,     0.01,2,     2.72,2, -999.000,9, -999.000,9, -999.000,9,-999.0000,9, -999.000,9,   -999.0,9,   -999.0,9, -999.000,9,   -999.0,9,   -999.0,  -999.00,9,   -999.0,9,   -999.0,9,   3.7539,  26.8634
  49KA199905_1,  P01W,    63,  1,     17,     17,2,19990603,1817, 47.0038,-178.3200, 5521,    350.5,2,   3.6914,2,  33.8784,1,  33.8833,2,    55.70,1,    79.29,2,    84.67,2,    39.19,2,     0.01,2,     2.87,2, -999.000,9, -999.000,9, -999.000,9,-999.0000,9, -999.000,9,   -999.0,9,   -999.0,9, -999.000,9,   -999.0,9,   -999.0,  -999.00,9,   -999.0,9,   -999.0,9,   3.6678,  26.9310
  49KA199905_1,  P01W,    63,  1,     16,     16,2,19990603,1817, 47.0038,-178.3200, 5521,    401.3,2,   3.6638,2,  33.9431,1,  33.9468,2,    41.52,1,    64.47,2,    91.51,2,    40.36,2,     0.01,2,     2.95,2, -999.000,9, -999.000,9, -999.000,9,-999.0000,9, -999.000,9,   -999.0,9,   -999.0,9, -999.000,9,   -999.0,9,   -999.0,  -999.00,9,   -999.0,9,   -999.0,9,   3.6367,  26.9846
  49KA199905_1,  P01W,    63,  1,     15,     15,2,19990603,1817, 47.0038,-178.3200, 5521,    499.4,2,   3.6314,2,  34.0702,1,  34.0732,2,    18.16,1,    39.52,2,   103.94,2,    41.85,2,     0.00,2,     3.04,2, -999.000,9, -999.000,9, -999.000,9,-999.0000,9, -999.000,9,   -999.0,9,   -999.0,9, -999.000,9,   -999.0,9,   -999.0,  -999.00,9,   -999.0,1,   -999.0,1,   3.5973,  27.0892
  49KA199905_1,  P01W,    63,  1,     14,     14,2,19990603,1817, 47.0038,-178.3200, 5521,    599.5,2,   3.5236,2,  34.1562,1,  34.1597,2,     8.80,1,    30.28,2,   113.50,2,    42.78,2,     0.00,2,     3.11,2, -999.000,9, -999.000,9, -999.000,9,-999.0000,9, -999.000,9,   -999.0,9,   -999.0,9, -999.000,9,   -999.0,9,   -999.0,  -999.00,9,   -999.0,9,   -999.0,9,   3.4826,  27.1692
  49KA199905_1,  P01W,    63,  1,     13,     13,2,19990603,1817, 47.0038,-178.3200, 5521,    800.4,2,   3.2191,2,  34.2839,1,  34.2854,2,     7.74,1,    28.14,2,   127.17,2,    42.75,2,     0.02,2,     3.11,2, -999.000,9, -999.000,9, -999.000,9,-999.0000,9, -999.000,9,   -999.0,9,   -999.0,9, -999.000,9,   -999.0,9,   -999.0,  -999.00,9,   -999.0,9,   -999.0,9,   3.1649,  27.2995
  49KA199905_1,  P01W,    63,  1,     12,     12,2,19990603,1817, 47.0038,-178.3200, 5521,   1000.5,2,   2.8740,2,  34.3648,1,  34.3665,2,     3.46,1,    25.25,2,   138.88,2,    42.96,2,     0.01,2,     3.10,2, -999.000,9, -999.000,9, -999.000,9,-999.0000,9, -999.000,9,   -999.0,9,   -999.0,9, -999.000,9,   -999.0,9,   -999.0,  -999.00,9,   -999.0,1,   -999.0,1,   2.8073,  27.3967
  49KA199905_1,  P01W,    63,  1,     11,     11,2,19990603,1817, 47.0038,-178.3200, 5521,   1248.8,2,   2.5512,2,  34.4429,1,  34.4461,2,     5.45,1,    30.27,2,   149.82,2,    42.99,2,     0.00,2,     3.10,2, -999.000,9, -999.000,9, -999.000,9,-999.0000,9, -999.000,9,   -999.0,9,   -999.0,9, -999.000,9,   -999.0,9,   -999.0,  -999.00,9,   -999.0,9,   -999.0,9,   2.4684,  27.4897
  49KA199905_1,  P01W,    63,  1,     10,     10,2,19990603,1817, 47.0038,-178.3200, 5521,   1500.4,2,   2.2967,2,  34.5010,1,  34.5035,2,    12.10,1,    38.54,2,   156.74,2,    42.63,2,     0.01,2,     3.06,2, -999.000,9, -999.000,9, -999.000,9,-999.0000,9, -999.000,9,   -999.0,9,   -999.0,9, -999.000,9,   -999.0,9,   -999.0,  -999.00,9,   -999.0,1,   -999.0,1,   2.1972,  27.5581
  49KA199905_1,  P01W,    63,  1,      9,      9,2,19990603,1817, 47.0038,-178.3200, 5521,   1750.4,2,   2.1073,2,  34.5461,1,  34.5476,2,    21.78,1,    50.21,2,   160.98,2,    42.04,2,     0.00,2,     3.01,2, -999.000,9, -999.000,9, -999.000,9,-999.0000,9, -999.000,9,   -999.0,9,   -999.0,9, -999.000,9,   -999.0,9,   -999.0,  -999.00,9,   -999.0,9,   -999.0,9,   1.9901,  27.6100
  49KA199905_1,  P01W,    63,  1,      8,      8,2,19990603,1817, 47.0038,-178.3200, 5521,   2000.1,2,   1.9538,2,  34.5799,1,  34.5828,2,    33.11,1,    64.19,2,   162.35,2,    41.22,2,     0.00,2,     2.95,2, -999.000,9, -999.000,9, -999.000,9,-999.0000,9, -999.000,9,   -999.0,9,   -999.0,9, -999.000,9,   -999.0,9,   -999.0,  -999.00,9,   -999.0,1,   -999.0,1,   1.8183,  27.6516
  49KA199905_1,  P01W,    63,  1,      7,      7,2,19990603,1817, 47.0038,-178.3200, 5521,   2500.1,2,   1.7294,2,  34.6252,1,  34.6286,2,    56.51,1,    91.32,2,   161.84,2,    39.56,2,     0.01,2,     2.82,2, -999.000,9, -999.000,9, -999.000,9,-999.0000,9, -999.000,9,   -999.0,9,   -999.0,9, -999.000,9,   -999.0,9,   -999.0,  -999.00,9,   -999.0,1,   -999.0,1,   1.5542,  27.7081
  49KA199905_1,  P01W,    63,  1,      6,      6,2,19990603,1817, 47.0038,-178.3200, 5521,   3000.9,2,   1.5899,2,  34.6517,1,  34.6544,2,    75.81,1,   115.44,2,   158.63,2,    38.06,2,     0.01,2,     2.71,2, -999.000,9, -999.000,9, -999.000,9,-999.0000,9, -999.000,9,   -999.0,9,   -999.0,9, -999.000,9,   -999.0,9,   -999.0,  -999.00,9,   -999.0,1,   -999.0,1,   1.3712,  27.7421
  49KA199905_1,  P01W,    63,  1,      5,      5,2,19990603,1817, 47.0038,-178.3200, 5521,   3500.3,2,   1.5090,2,  34.6682,1,  34.6548,4,    91.39,1,   115.20,4,   156.90,3,    37.75,4,     0.01,4,     2.68,4, -999.000,9, -999.000,9, -999.000,9,-999.0000,9, -999.000,9,   -999.0,9,   -999.0,9, -999.000,9,   -999.0,9,   -999.0,  -999.00,9,   -999.0,9,   -999.0,9,   1.2428,  27.7514
  49KA199905_1,  P01W,    63,  1,      4,      4,2,19990603,1817, 47.0038,-178.3200, 5521,   4000.7,2,   1.4733,2,  34.6785,1,  34.6822,2,   101.97,1,   145.25,2,   151.41,2,    35.89,2,     0.00,2,     2.53,2, -999.000,9, -999.000,9, -999.000,9,-999.0000,9, -999.000,9,   -999.0,9,   -999.0,9, -999.000,9,   -999.0,9,   -999.0,  -999.00,9,   -999.0,1,   -999.0,1,   1.1551,  27.7795
  49KA199905_1,  P01W,    63,  1,      3,      3,2,19990603,1817, 47.0038,-178.3200, 5521,   4499.5,2,   1.4910,2,  34.6831,1,  34.6867,2,   106.35,1,   150.77,2,   152.22,2,    35.80,2,     0.01,2,     2.52,2, -999.000,9, -999.000,9, -999.000,9,-999.0000,9, -999.000,9,   -999.0,9,   -999.0,9, -999.000,9,   -999.0,9,   -999.0,  -999.00,9,   -999.0,9,   -999.0,9,   1.1164,  27.7858
  49KA199905_1,  P01W,    63,  1,      2,      2,2,19990603,1817, 47.0038,-178.3200, 5521,   5000.7,2,   1.5373,2,  34.6846,1,  34.6883,2,   108.29,1,   153.91,2,   153.62,3,    35.64,3,     0.01,3,     2.51,2, -999.000,9, -999.000,9, -999.000,9,-999.0000,9, -999.000,9,   -999.0,9,   -999.0,9, -999.000,9,   -999.0,9,   -999.0,  -999.00,9,   -999.0,1,   -999.0,1,   1.1017,  27.7881
  49KA199905_1,  P01W,    63,  1,      1,      1,2,19990603,1817, 47.0038,-178.3200, 5521,   5620.9,2,   1.6093,2,  34.6848,1,  34.6896,2,   111.49,1,   153.91,2,   151.76,2,    35.52,2,     0.01,2,     2.52,2, -999.000,9, -999.000,9, -999.000,9,-999.0000,9, -999.000,9,   -999.0,9,   -999.0,9, -999.000,9,   -999.0,9,   -999.0,  -999.00,9,   -999.0,9,   -999.0,9,   1.0931,  27.7897