BOTTLE,20220921CCHSIOAMB
EXPOCODE,SECT_ID,STNNBR,CASTNO,SAMPNO,BTLNBR,BTLNBR_FLAG_W,DATE,TIME,LATITUDE,LONGITUDE,DEPTH,CTDPRS,CTDPRS_FLAG_W,CTDTMP,CTDTMP_FLAG_W,CTDSAL,CTDSAL_FLAG_W,SALNTY,SALNTY_FLAG_W,CTDOXY,CTDOXY_FLAG_W,OXYGEN,OXYGEN_FLAG_W,SILCAT,SILCAT_FLAG_W,NITRAT,NITRAT_FLAG_W,NITRIT,NITRIT_FLAG_W,PHSPHT,PHSPHT_FLAG_W,CFC-11,CFC-11_FLAG_W,CFC-12,CFC-12_FLAG_W,CFC113,CFC113_FLAG_W,SF6,SF6_FLAG_W,PH,PH_FLAG_W,ALKALI,ALKALI_FLAG_W,TCARBN,TCARBN_FLAG_W,DELC13,DELC13_FLAG_W,DELC14,DELC14_FLAG_W,C14ERR,CHLORA,CHLORA_FLAG_W,CU,CU_FLAG_W,NI,NI_FLAG_W,THETA,SIG0
,,,,,,,,,,,METERS,DBAR,,ITS-90,,PSS-78,,PSS-78,,UMOL/KG,,UMOL/KG,,UMOL/KG,,UMOL/KG,,UMOL/KG,,UMOL/KG,,PMOL/KG,,PMOL/KG,,PMOL/KG,,FMOL/KG,,,,UMOL/KG,,UMOL/KG,,/MILLE,,/MILLE,,/MILLE,UG/KG,,UMOL/L,,UMOL/L,,ITS-90,KG/M^3
  49KA199905_1,  P01W,    24,  1,     24,     24,2,19990524,1830, 40.9288, 149.8738, 5362,     10.7,2,  10.6365,2,  33.5920,1,  33.6165,4,   255.80,1,   305.72,4,     2.91,2,     2.14,3,     0.13,3,     0.28,3,    3.813,2,    1.969,2,    0.269,2,-999.0000,9,    7.806,3,   2259.0,2,   2009.4,3, -999.000,1,   -999.0,9,   -999.0,     0.85,2,   -999.0,1,   -999.0,1,  10.6352,  25.7627
  49KA199905_1,  P01W,    24,  1,     23,     23,2,19990524,1830, 40.9288, 149.8738, 5362,     50.4,2,   9.6736,2,  34.0297,1,  34.0316,2,   229.86,1,   273.51,2,    14.18,2,     9.72,2,     0.31,2,     0.83,2,    3.497,2,    1.813,2,    0.267,2,-999.0000,9, -999.000,9,   2264.5,2,   2077.4,3, -999.000,1,   -999.0,9,   -999.0,     0.62,2,   -999.0,1,   -999.0,1,   9.6680,  26.2514
  49KA199905_1,  P01W,    24,  1,     22,     22,2,19990524,1830, 40.9288, 149.8738, 5362,    100.9,2,   7.5978,2,  33.8660,1,  33.8048,4,   214.42,1,   259.71,3,    23.78,3,    15.09,3,     0.08,3,     1.21,3,    3.764,4,    1.964,4,    0.248,4,-999.0000,9,    7.726,4,   2259.4,4,   2102.5,4, -999.000,1,   -999.0,9,   -999.0,     0.03,2,   -999.0,1,   -999.0,1,   7.5881,  26.3950
  49KA199905_1,  P01W,    24,  1,     21,     21,2,19990524,1830, 40.9288, 149.8738, 5362,    150.4,2,   2.6583,2,  33.2727,1,  33.2741,2,   269.86,1,   311.29,2,    34.59,2,    19.76,3,     0.10,3,     1.64,2,    5.180,2,    2.646,2,    0.372,2,-999.0000,9,    7.616,3,   2244.3,2,   2128.3,3, -999.000,1,   -999.0,9,   -999.0,     0.07,2,   -999.0,9,   -999.0,9,   2.6499,  26.5375
  49KA199905_1,  P01W,    24,  1,     20,     20,2,19990524,1830, 40.9288, 149.8738, 5362,    199.6,2,   2.9005,2,  33.3776,1,  33.3685,4,   233.96,1,   275.56,4,    43.03,3,    22.82,3,     0.03,3,     1.84,3,    4.694,4,    2.376,4,    0.343,4,-999.0000,9,    7.576,4,   2250.6,4,   2176.0,4, -999.000,1,   -999.0,9,   -999.0,     0.05,2,   -999.0,9,   -999.0,9,   2.8888,  26.5925
  49KA199905_1,  P01W,    24,  1,     19,     19,2,19990524,1830, 40.9288, 149.8738, 5362,    250.6,2,   4.6957,2,  33.7221,1,  33.7231,2,   153.28,1,   188.01,2,    54.34,2,    26.96,2,     0.01,2,     2.07,2,    3.303,2,    1.653,2,    0.198,2,-999.0000,9,    7.537,3,   2270.8,2,   2190.4,3, -999.000,1,   -999.0,9,   -999.0,     0.02,2,   -999.0,1,   -999.0,1,   4.6771,  26.6989
  49KA199905_1,  P01W,    24,  1,     18,     18,2,19990524,1830, 40.9288, 149.8738, 5362,    299.7,2,   4.9667,2,  33.8796,1,  33.8846,2,   115.30,1,   144.64,2,    65.07,2,    30.61,2,     0.01,2,     2.31,2,    2.520,2,    1.242,2,    0.174,2,-999.0000,9,    7.481,3,   2284.9,2,   2219.5,3, -999.000,1,   -999.0,9,   -999.0,     0.02,2,   -999.0,9,   -999.0,9,   4.9436,  26.7973
  49KA199905_1,  P01W,    24,  1,     17,     17,2,19990524,1830, 40.9288, 149.8738, 5362,    350.2,2,   4.1332,2,  33.8588,1,  33.8609,2,    88.69,1,   118.10,3,    76.37,2,    33.84,2,     0.00,2,     2.56,2,    2.287,2,    1.147,2,    0.123,2,-999.0000,9,    7.435,3,   2290.0,2,   2254.1,3, -999.000,1,   -999.0,9,   -999.0,  -999.00,9,   -999.0,9,   -999.0,9,   4.1084,  26.8689
  49KA199905_1,  P01W,    24,  1,     16,     16,2,19990524,1830, 40.9288, 149.8738, 5362,    401.1,2,   3.3121,2,  33.8489,1,  33.8480,2,    57.42,1,    82.88,2,    91.34,2,    38.46,2,     0.01,2,     2.88,2,    2.066,2,    1.018,2,    0.119,2,-999.0000,9,    7.361,3,   2299.9,2,   2291.8,3, -999.000,1,   -999.0,9,   -999.0,  -999.00,9,   -999.0,9,   -999.0,9,   3.2862,  26.9393
  49KA199905_1,  P01W,    24,  1,     15,     15,2,19990524,1830, 40.9288, 149.8738, 5362,    499.8,2,   3.3394,2,  34.0203,1,  34.0197,2,    26.27,1,    48.43,2,   107.46,2,    41.01,2,     0.00,2,     3.04,2,    1.231,2,    0.605,2,    0.068,2,-999.0000,9,    7.319,3,   2320.4,2,   2323.0,3, -999.000,1,   -999.0,9,   -999.0,  -999.00,9,   -999.0,1,   -999.0,1,   3.3065,  27.0743
  49KA199905_1,  P01W,    24,  1,     14,     14,2,19990524,1830, 40.9288, 149.8738, 5362,    599.8,2,   3.3561,2,  34.1608,1,  34.1635,2,    14.67,1,    35.58,2,   119.77,2,    41.51,2,     0.00,2,     3.06,2,    0.673,2,    0.346,2,    0.036,2,-999.0000,9,    7.365,3,   2338.5,2,   2344.4,3, -999.000,1,   -999.0,9,   -999.0,  -999.00,9,   -999.0,9,   -999.0,9,   3.3159,  27.1881
  49KA199905_1,  P01W,    24,  1,     13,     13,2,19990524,1830, 40.9288, 149.8738, 5362,    800.3,2,   3.0144,2,  34.2879,1,  34.2888,2,     8.90,1,    31.07,2,   135.43,2,    42.00,2,     0.00,2,     3.09,2,    0.345,2,    0.160,2,    0.001,2,-999.0000,9,    7.385,3,   2358.7,2,   2360.5,3, -999.000,1,   -999.0,9,   -999.0,  -999.00,9,   -999.0,9,   -999.0,9,   2.9615,  27.3208
  49KA199905_1,  P01W,    24,  1,     12,     12,2,19990524,1830, 40.9288, 149.8738, 5362,   1000.3,2,   2.8166,2,  34.3884,1,  34.0487,4,    13.74,1,    72.10,4,   102.50,4,    39.10,4,     0.00,4,     2.84,4,    1.364,4,    0.691,4,    0.091,4,-999.0000,9,    7.405,4,   2326.5,4,   2309.0,4, -999.000,1,   -999.0,9,   -999.0,  -999.00,9,   -999.0,1,   -999.0,1,   2.7509,  27.1477
  49KA199905_1,  P01W,    24,  1,     11,     11,2,19990524,1830, 40.9288, 149.8738, 5362,   1250.7,2,   2.5409,2,  34.4670,1,-999.0000,9,    17.38,1,  -999.00,9,  -999.00,9,  -999.00,9,  -999.00,9,  -999.00,9, -999.000,9, -999.000,9, -999.000,9,-999.0000,9, -999.000,9,   -999.0,9,   -999.0,9, -999.000,9,   -999.0,9,   -999.0,  -999.00,9,   -999.0,9,   -999.0,9,-999.0000,-999.0000
  49KA199905_1,  P01W,    24,  1,     10,     10,2,19990524,1830, 40.9288, 149.8738, 5362,   1500.5,2,   2.2471,2,  34.5140,1,  34.5148,2,    23.52,1,    48.45,2,   159.44,2,    42.00,2,     0.00,2,     2.99,2,    0.020,2,    0.025,2,    0.000,2,-999.0000,9,    7.416,3,   2397.7,2,   2372.6,3, -999.000,1,   -999.0,9,   -999.0,  -999.00,9,   -999.0,1,   -999.0,1,   2.1481,  27.5711
  49KA199905_1,  P01W,    24,  1,      9,      9,2,19990524,1830, 40.9288, 149.8738, 5362,   1750.7,2,   2.0771,2,  34.5619,1,  34.5630,2,    35.87,1,    63.83,2,   160.53,2,    40.06,2,     0.00,2,     2.92,2,    0.004,2,    0.004,2,    0.007,2,-999.0000,9,    7.444,3,   2406.9,2,   2367.7,3, -999.000,1,   -999.0,9,   -999.0,  -999.00,9,   -999.0,9,   -999.0,9,   1.9602,  27.6247
  49KA199905_1,  P01W,    24,  1,      8,      8,2,19990524,1830, 40.9288, 149.8738, 5362,   2000.4,2,   1.9298,2,  34.5937,1,  34.5950,2,    47.93,1,    77.63,2,   159.79,2,    39.29,2,     0.00,2,     2.86,2,    0.037,3,    0.010,2,    0.003,2,-999.0000,9,    7.468,3,   2409.1,2,   2365.6,3, -999.000,1,   -999.0,9,   -999.0,  -999.00,9,   -999.0,1,   -999.0,1,   1.7946,  27.6632
  49KA199905_1,  P01W,    24,  1,      7,      7,2,19990524,1830, 40.9288, 149.8738, 5362,   2499.0,2,   1.6817,2,  34.6373,1,  34.6385,2,    71.52,1,   105.68,2,   159.32,3,    37.57,2,     0.00,2,     2.71,2,    0.008,2,    0.005,2,    0.000,2,-999.0000,9,    7.522,3,   2416.2,2,   2349.4,3, -999.000,1,   -999.0,9,   -999.0,  -999.00,9,   -999.0,1,   -999.0,1,   1.5075,  27.7195
  49KA199905_1,  P01W,    24,  1,      6,      6,2,19990524,1830, 40.9288, 149.8738, 5362,   3000.3,2,   1.5514,2,  34.6605,1,  34.6609,2,    89.41,1,   128.82,2,   154.31,2,    36.16,2,     0.00,2,     2.64,3,    0.001,2,    0.003,2,    0.002,2,-999.0000,9,    7.530,3,   2416.6,2,   2335.4,3, -999.000,1,   -999.0,9,   -999.0,  -999.00,9,   -999.0,1,   -999.0,1,   1.3336,  27.7500
  49KA199905_1,  P01W,    24,  1,      5,      5,2,19990524,1830, 40.9288, 149.8738, 5362,   3499.5,2,   1.4909,2,  34.6723,1,  34.6731,2,    99.61,1,   140.53,2,   151.26,2,    35.32,2,     0.00,2,     2.53,3,    0.000,2,    0.000,2,    0.000,2,-999.0000,9,    7.570,2,   2421.1,2,   2323.4,3, -999.000,9,   -999.0,9,   -999.0,  -999.00,9,   -999.0,9,   -999.0,9,   1.2251,  27.7674
  49KA199905_1,  P01W,    24,  1,      4,      4,2,19990524,1830, 40.9288, 149.8738, 5362,   4000.2,2,   1.4659,2,  34.6801,1,  34.6817,2,   107.79,1,   151.50,2,   148.39,2,    34.57,2,     0.00,2,     2.48,3,    0.000,2,    0.001,2,    0.006,2,-999.0000,9,    7.591,3,   2421.0,2,   2318.8,3, -999.000,1,   -999.0,9,   -999.0,  -999.00,9,   -999.0,1,   -999.0,1,   1.1480,  27.7796
  49KA199905_1,  P01W,    24,  1,      3,      3,2,19990524,1830, 40.9288, 149.8738, 5362,   4500.0,2,   1.4750,2,  34.6846,1,  34.6858,2,   113.40,1,   155.96,2,   146.95,2,    34.19,2,     0.00,2,     2.40,3, -999.000,9, -999.000,9, -999.000,9,-999.0000,9,    7.586,2,   2420.2,2,   2314.9,3, -999.000,1,   -999.0,9,   -999.0,  -999.00,9,   -999.0,9,   -999.0,9,   1.1008,  27.7861
  49KA199905_1,  P01W,    24,  1,      2,      2,2,19990524,1830, 40.9288, 149.8738, 5362,   5000.4,2,   1.5113,2,  34.6866,1,  34.6894,2,   116.41,1,   159.73,2,   146.64,2,    34.10,2,     0.00,2,     2.38,3,    0.004,2,    0.005,2,    0.000,2,-999.0000,9,    7.587,2,   2419.4,2,   2306.8,3, -999.000,1,   -999.0,9,   -999.0,  -999.00,9,   -999.0,1,   -999.0,1,   1.0766,  27.7906
  49KA199905_1,  P01W,    24,  1,      1,      1,2,19990524,1830, 40.9288, 149.8738, 5362,   5441.5,2,   1.5558,2,  34.6874,1,  34.6908,2,   119.23,1,   162.34,2,   145.72,2,    33.96,2,     0.00,2,     2.37,3,    0.000,2,    0.000,2,    0.000,2,-999.0000,9,    7.589,2,   2417.8,2,   2304.2,3, -999.000,1,   -999.0,9,   -999.0,  -999.00,9,   -999.0,9,   -999.0,9,   1.0646,  27.7926
  49KA199905_1,  P01W,    26,  1,     24,     24,2,19990525,0207, 41.5680, 150.8755, 5210,      9.9,2,   6.6525,2,  33.0324,1,  33.0426,4,   303.93,1,   362.23,4,    11.91,3,    12.45,3,     0.28,3,     1.06,3,    5.051,4,    2.524,4,    0.372,4,-999.0000,9,    7.735,4,   2262.4,4,   -999.0,5, -999.000,1,   -999.0,9,   -999.0,  -999.00,9,   -999.0,9,   -999.0,9,   6.6516,  25.9233
  49KA199905_1,  P01W,    26,  1,     23,     23,2,19990525,0207, 41.5680, 150.8755, 5210,     49.8,2,   3.0517,2,  33.1907,1,  33.1934,2,   278.16,1,   325.28,2,    33.72,2,    19.23,2,     0.39,2,     1.67,2,    5.633,2,    2.770,2,    0.442,2,-999.0000,9,    7.816,3,   2263.1,2,   -999.0,9, -999.000,1,   -999.0,9,   -999.0,  -999.00,9,   -999.0,9,   -999.0,9,   3.0488,  26.4388
  49KA199905_1,  P01W,    26,  1,     22,     22,2,19990525,0207, 41.5680, 150.8755, 5210,     98.8,2,   2.3461,2,  33.2647,1,  33.2655,2,   269.59,1,   312.78,2,    39.75,2,    21.76,3,     0.07,3,     1.75,2,    5.469,2,    2.722,2,    0.443,2,-999.0000,9,    7.621,3,   2265.3,2,   -999.0,9, -999.000,1,   -999.0,9,   -999.0,  -999.00,9,   -999.0,9,   -999.0,9,   2.3408,  26.5558
  49KA199905_1,  P01W,    26,  1,     21,     21,2,19990525,0207, 41.5680, 150.8755, 5210,    149.6,2,   3.0420,2,  33.4363,1,  33.4332,2,   207.49,1,   253.97,2,    46.87,2,    24.25,3,     0.02,3,     1.92,2,    4.549,2,    2.264,2,    0.319,2,-999.0000,9,    7.590,3,   2276.4,2,   -999.0,9, -999.000,1,   -999.0,9,   -999.0,  -999.00,9,   -999.0,9,   -999.0,9,   3.0331,  26.6315
  49KA199905_1,  P01W,    26,  1,     20,     20,2,19990525,0207, 41.5680, 150.8755, 5210,    200.0,2,   2.9146,2,  33.5640,1,  33.5610,2,   137.89,1,   172.62,2,    68.25,2,    32.17,2,     0.03,2,     2.44,2,    3.593,2,    1.751,2,    0.322,2,-999.0000,9,    7.445,3,   2289.8,2,   -999.0,9, -999.000,1,   -999.0,9,   -999.0,  -999.00,9,   -999.0,9,   -999.0,9,   2.9028,  26.7450
  49KA199905_1,  P01W,    26,  1,     19,     19,2,19990525,0207, 41.5680, 150.8755, 5210,    250.5,2,   3.0223,2,  33.6898,1,  33.6887,2,    90.16,1,   118.60,2,    81.54,2,    36.76,2,     0.02,2,     2.75,2,    2.908,2,    1.369,2,    0.242,2,-999.0000,9,    7.388,3,   2301.4,2,   -999.0,9, -999.000,1,   -999.0,9,   -999.0,  -999.00,9,   -999.0,9,   -999.0,9,   3.0071,  26.8377
  49KA199905_1,  P01W,    26,  1,     18,     18,2,19990525,0207, 41.5680, 150.8755, 5210,    300.4,2,   3.1106,2,  33.8071,1,  33.8077,2,    57.42,1,    83.28,2,    92.59,2,    39.89,2,     0.02,2,     2.91,2,    2.300,2,    1.083,2,    0.159,2,-999.0000,9,    7.347,3,   2320.9,2,   -999.0,9, -999.000,1,   -999.0,9,   -999.0,  -999.00,9,   -999.0,9,   -999.0,9,   3.0920,  26.9250
  49KA199905_1,  P01W,    26,  1,     17,     17,2,19990525,0207, 41.5680, 150.8755, 5210,    349.6,2,   3.1972,2,  33.9037,1,  33.9037,2,    38.12,1,    61.35,2,   100.81,2,    41.53,2,     0.01,2,     3.01,2,    1.798,2,    0.838,2,    0.109,2,-999.0000,9,    7.337,3,   2314.0,2,   -999.0,9, -999.000,1,   -999.0,9,   -999.0,  -999.00,9,   -999.0,9,   -999.0,9,   3.1751,  26.9940
  49KA199905_1,  P01W,    26,  1,     16,     16,2,19990525,0207, 41.5680, 150.8755, 5210,    400.3,2,   3.2248,2,  33.9819,1,  33.9800,2,    25.36,1,    50.49,2,   107.70,2,    42.38,2,     0.01,2,     3.06,2,    1.398,2,    0.680,2,    0.124,2,-999.0000,9,    7.338,3,   2330.5,2,   -999.0,9, -999.000,1,   -999.0,9,   -999.0,  -999.00,9,   -999.0,9,   -999.0,9,   3.1992,  27.0527
  49KA199905_1,  P01W,    26,  1,     15,     15,2,19990525,0207, 41.5680, 150.8755, 5210,    499.2,2,   3.2447,2,  34.1079,1,  34.1079,2,    18.69,1,    45.21,2,   118.38,2,    42.51,2,     0.01,2,     3.06,2,    0.945,2,    0.419,2,    0.052,2,-999.0000,9,    7.347,3,   2345.9,2,   -999.0,9, -999.000,1,   -999.0,9,   -999.0,  -999.00,9,   -999.0,9,   -999.0,9,   3.2121,  27.1535
  49KA199905_1,  P01W,    26,  1,     14,     14,2,19990525,0207, 41.5680, 150.8755, 5210,    600.1,2,   3.2035,2,  34.2163,1,  34.2175,2,     9.50,1,    33.57,2,   128.31,2,    43.20,2,     0.01,2,     3.10,2, -999.000,9, -999.000,9, -999.000,9,-999.0000,9,    7.352,3,   2355.6,2,   2374.4,2, -999.000,1,   -999.0,9,   -999.0,  -999.00,9,   -999.0,9,   -999.0,9,   3.1640,  27.2454
  49KA199905_1,  P01W,    26,  1,     13,     13,2,19990525,0207, 41.5680, 150.8755, 5210,    799.7,2,   3.0255,2,  34.3501,1,  34.3497,2,    13.05,1,    36.93,2,   138.28,2,    42.73,2,     0.00,2,     3.07,2,    0.213,2,    0.093,2,    0.009,2,-999.0000,9,    7.375,3,   2370.3,2,   2375.2,2, -999.000,1,   -999.0,9,   -999.0,  -999.00,9,   -999.0,9,   -999.0,9,   2.9725,  27.3685
  49KA199905_1,  P01W,    26,  1,     12,     12,2,19990525,0207, 41.5680, 150.8755, 5210,    999.6,2,   2.7619,2,  34.4310,1,  34.2246,4,    16.83,1,    37.04,3,   129.50,4,    42.72,4,     0.01,4,     3.08,4,    0.584,4,    0.289,4,    0.036,4,-999.0000,9,    7.369,4,   2356.3,4,   2350.8,4, -999.000,1,   -999.0,9,   -999.0,  -999.00,9,   -999.0,9,   -999.0,9,   2.6965,  27.2930
  49KA199905_1,  P01W,    26,  1,     11,     11,2,19990525,0207, 41.5680, 150.8755, 5210,   1250.0,2,   2.3470,2,  34.4777,1,  34.4773,2,    16.42,1,    39.67,2,   159.92,2,    42.79,2,     0.01,2,     3.06,2,    0.040,2,    0.024,2,    0.008,2,-999.0000,9,    7.407,3,   2394.1,2,   2368.4,2, -999.000,1,   -999.0,9,   -999.0,  -999.00,9,   -999.0,9,   -999.0,9,   2.2662,  27.5315
  49KA199905_1,  P01W,    26,  1,     10,     10,2,19990525,0207, 41.5680, 150.8755, 5210,   1499.7,2,   2.2016,2,  34.5341,1,  34.5350,2,    27.05,1,    52.03,2,   160.65,2,    42.18,2,     0.01,2,     3.00,2,    0.005,2,    0.003,2,    0.000,2,-999.0000,9,    7.463,3,   2401.8,2,   2363.6,2, -999.000,1,   -999.0,9,   -999.0,  -999.00,9,   -999.0,9,   -999.0,9,   2.1031,  27.5909
  49KA199905_1,  P01W,    26,  1,      9,      9,2,19990525,0207, 41.5680, 150.8755, 5210,   1749.3,2,   2.0315,2,  34.5736,1,  34.5793,2,    38.38,1,    67.20,2,   162.00,2,    41.39,2,     0.00,2,     2.94,2,    0.000,2,    0.001,2,    0.000,2,-999.0000,9,    7.452,3,   2406.7,2,   2359.1,2, -999.000,1,   -999.0,9,   -999.0,  -999.00,9,   -999.0,9,   -999.0,9,   1.9153,  27.6413
  49KA199905_1,  P01W,    26,  1,      8,      8,2,19990525,0207, 41.5680, 150.8755, 5210,   2000.0,2,   1.8696,2,  34.6043,1,  34.6056,2,    51.45,1,    80.29,2,   162.30,2,    40.41,2,     0.00,2,     2.87,2,    0.004,2,    0.000,2,    0.004,2,-999.0000,9,    7.478,2,   2414.0,2,   2349.2,2, -999.000,1,   -999.0,9,   -999.0,  -999.00,9,   -999.0,9,   -999.0,9,   1.7352,  27.6762
  49KA199905_1,  P01W,    26,  1,      7,      7,2,19990525,0207, 41.5680, 150.8755, 5210,   2499.0,2,   1.6561,2,  34.6415,1,  34.6424,2,    73.55,1,   107.76,2,   160.01,2,    38.73,2,     0.00,2,     2.73,2,    0.001,2,    0.009,2,    0.000,2,-999.0000,9,    7.525,3,   2413.1,2,   2335.7,2, -999.000,1,   -999.0,9,   -999.0,  -999.00,9,   -999.0,9,   -999.0,9,   1.4823,  27.7245
  49KA199905_1,  P01W,    26,  1,      6,      6,2,19990525,0207, 41.5680, 150.8755, 5210,   3000.0,2,   1.5370,2,  34.6618,1,  34.6648,2,    89.27,1,   127.21,2,   157.18,2,    37.59,2,     0.00,2,     2.64,2,    0.000,2,    0.000,2,    0.000,2,-999.0000,9,    7.561,2,   2412.4,2,   2321.1,2, -999.000,1,   -999.0,9,   -999.0,  -999.00,9,   -999.0,9,   -999.0,9,   1.3195,  27.7541
  49KA199905_1,  P01W,    26,  1,      5,      5,2,19990525,0207, 41.5680, 150.8755, 5210,   3499.5,2,   1.4775,2,  34.6736,1,  34.6764,2,   100.19,1,   141.69,2,   153.74,2,    36.51,2,     0.00,2,     2.57,2,    0.003,2,    0.000,2,    0.002,2,-999.0000,9,    7.574,2,   2415.6,2,   2314.1,2, -999.000,9,   -999.0,9,   -999.0,  -999.00,9,   -999.0,9,   -999.0,9,   1.2120,  27.7709
  49KA199905_1,  P01W,    26,  1,      4,      4,2,19990525,0207, 41.5680, 150.8755, 5210,   3999.9,2,   1.4561,2,  34.6811,1,  34.6825,2,   108.42,1,   151.92,2,   151.28,2,    36.04,2,     0.00,2,     2.52,2,    0.000,2,    0.000,2,    0.000,2,-999.0000,9,    7.592,2,   2415.6,2,   2308.7,2, -999.000,1,   -999.0,9,   -999.0,  -999.00,9,   -999.0,9,   -999.0,9,   1.1384,  27.7809
  49KA199905_1,  P01W,    26,  1,      3,      3,2,19990525,0207, 41.5680, 150.8755, 5210,   4500.4,2,   1.4687,2,  34.6851,1,  34.6880,2,   113.89,1,   157.23,2,   150.51,2,    35.55,2,     0.00,2,     2.48,2,    0.000,2,    0.001,2,    0.000,2,-999.0000,9,    7.600,3,   2413.3,2,   2302.5,2, -999.000,1,   -999.0,9,   -999.0,  -999.00,9,   -999.0,9,   -999.0,9,   1.0947,  27.7883
  49KA199905_1,  P01W,    26,  1,      2,      2,2,19990525,0207, 41.5680, 150.8755, 5210,   4998.3,2,   1.5109,2,  34.6868,1,  34.6894,2,   116.35,1,   159.90,3,   150.89,2,    35.45,2,     0.00,2,     2.48,2,    0.000,2,    0.005,2,    0.003,2,-999.0000,9,    7.593,2,   2412.5,2,   2301.3,2, -999.000,1,   -999.0,9,   -999.0,  -999.00,9,   -999.0,9,   -999.0,9,   1.0765,  27.7906
  49KA199905_1,  P01W,    26,  1,      1,      1,2,19990525,0207, 41.5680, 150.8755, 5210,   5285.5,2,   1.5449,2,  34.6868,1,  34.6904,2,   117.80,1,   160.37,2,   152.03,2,    35.46,2,     0.00,2,     2.48,2,    0.005,2,    0.004,2,    0.009,2,-999.0000,9,    7.593,2,   2412.6,2,   2298.7,2, -999.000,1,   -999.0,9,   -999.0,  -999.00,9,   -999.0,9,   -999.0,9,   1.0738,  27.7916