BOTTLE,20220921CCHSIOAMB
EXPOCODE,SECT_ID,STNNBR,CASTNO,SAMPNO,BTLNBR,BTLNBR_FLAG_W,DATE,TIME,LATITUDE,LONGITUDE,DEPTH,CTDPRS,CTDPRS_FLAG_W,CTDTMP,CTDTMP_FLAG_W,CTDSAL,CTDSAL_FLAG_W,SALNTY,SALNTY_FLAG_W,CTDOXY,CTDOXY_FLAG_W,OXYGEN,OXYGEN_FLAG_W,SILCAT,SILCAT_FLAG_W,NITRAT,NITRAT_FLAG_W,NITRIT,NITRIT_FLAG_W,PHSPHT,PHSPHT_FLAG_W,CFC-11,CFC-11_FLAG_W,CFC-12,CFC-12_FLAG_W,CFC113,CFC113_FLAG_W,SF6,SF6_FLAG_W,PH,PH_FLAG_W,ALKALI,ALKALI_FLAG_W,TCARBN,TCARBN_FLAG_W,DELC13,DELC13_FLAG_W,DELC14,DELC14_FLAG_W,C14ERR,CHLORA,CHLORA_FLAG_W,CU,CU_FLAG_W,NI,NI_FLAG_W,THETA,SIG0
,,,,,,,,,,,METERS,DBAR,,ITS-90,,PSS-78,,PSS-78,,UMOL/KG,,UMOL/KG,,UMOL/KG,,UMOL/KG,,UMOL/KG,,UMOL/KG,,PMOL/KG,,PMOL/KG,,PMOL/KG,,FMOL/KG,,,,UMOL/KG,,UMOL/KG,,/MILLE,,/MILLE,,/MILLE,UG/KG,,UMOL/L,,UMOL/L,,ITS-90,KG/M^3
  49KA199905_1,  P01W,    41,  1,     24,     24,2,19990529,0910, 47.0113, 163.3568, 5729,     10.3,2,   3.5542,2,  32.9405,1,  32.9426,2,   287.28,1,   335.95,2,    37.87,2,    20.13,3,     0.26,3,     1.66,3, -999.000,9, -999.000,9, -999.000,9,-999.0000,9, -999.000,9,   -999.0,9,   -999.0,9, -999.000,9,   -999.0,9,   -999.0,  -999.00,9,   -999.0,9,   -999.0,9,   3.5536,  26.1929
  49KA199905_1,  P01W,    41,  1,     23,     23,2,19990529,0910, 47.0113, 163.3568, 5729,     49.1,2,   3.2960,2,  32.9396,1,  32.9420,2,   288.24,1,   335.03,2,    38.12,2,    20.45,3,     0.26,3,     1.68,3, -999.000,9, -999.000,9, -999.000,9,-999.0000,9, -999.000,9,   -999.0,9,   -999.0,9, -999.000,9,   -999.0,9,   -999.0,  -999.00,9,   -999.0,9,   -999.0,9,   3.2931,  26.2164
  49KA199905_1,  P01W,    41,  1,     22,     22,2,19990529,0910, 47.0113, 163.3568, 5729,     98.9,2,   1.7718,2,  33.0499,1,  33.0448,4,   276.02,1,   318.47,4,    41.92,3,    23.58,3,     0.16,3,     1.81,3, -999.000,9, -999.000,9, -999.000,9,-999.0000,9, -999.000,9,   -999.0,9,   -999.0,9, -999.000,9,   -999.0,9,   -999.0,  -999.00,9,   -999.0,9,   -999.0,9,   1.7671,  26.4224
  49KA199905_1,  P01W,    41,  1,     21,     21,2,19990529,0910, 47.0113, 163.3568, 5729,    150.2,2,   2.2711,2,  33.2034,1,  34.6477,4,   263.04,1,   304.19,4,    42.72,3,    23.84,3,     0.00,3,     1.78,3, -999.000,9, -999.000,9, -999.000,9,-999.0000,9, -999.000,9,   -999.0,9,   -999.0,9, -999.000,9,   -999.0,9,   -999.0,  -999.00,9,   -999.0,9,   -999.0,9,   2.2628,  27.6682
  49KA199905_1,  P01W,    41,  1,     20,     20,2,19990529,0910, 47.0113, 163.3568, 5729,    200.8,2,   2.7791,2,  33.5776,1,  33.5799,2,   103.46,1,   133.45,2,    76.53,2,    36.61,2,     0.00,2,     2.55,3, -999.000,9, -999.000,9, -999.000,9,-999.0000,9, -999.000,9,   -999.0,9,   -999.0,9, -999.000,9,   -999.0,9,   -999.0,  -999.00,9,   -999.0,9,   -999.0,9,   2.7674,  26.7718
  49KA199905_1,  P01W,    41,  1,     19,     19,2,19990529,0910, 47.0113, 163.3568, 5729,    250.8,2,   3.2081,2,  33.7926,1,  33.7920,2,    44.42,1,    70.02,2,    91.04,2,    41.73,2,     0.00,2,     2.82,3, -999.000,9, -999.000,9, -999.000,9,-999.0000,9, -999.000,9,   -999.0,9,   -999.0,9, -999.000,9,   -999.0,9,   -999.0,  -999.00,9,   -999.0,9,   -999.0,9,   3.1925,  26.9033
  49KA199905_1,  P01W,    41,  1,     18,     18,2,19990529,0910, 47.0113, 163.3568, 5729,    299.6,2,   3.3684,2,  33.9325,1,  33.9339,2,    27.63,1,    52.42,2,   100.43,2,    42.40,2,     0.00,2,     2.87,3, -999.000,9, -999.000,9, -999.000,9,-999.0000,9, -999.000,9,   -999.0,9,   -999.0,9, -999.000,9,   -999.0,9,   -999.0,  -999.00,9,   -999.0,9,   -999.0,9,   3.3491,  27.0019
  49KA199905_1,  P01W,    41,  1,     17,     17,2,19990529,0910, 47.0113, 163.3568, 5729,    350.1,2,   3.3319,2,  33.9976,1,  33.9988,2,    14.64,1,    38.62,2,   107.37,2,    43.46,2,     0.00,2,     2.92,3, -999.000,9, -999.000,9, -999.000,9,-999.0000,9, -999.000,9,   -999.0,9,   -999.0,9, -999.000,9,   -999.0,9,   -999.0,  -999.00,9,   -999.0,9,   -999.0,9,   3.3093,  27.0574
  49KA199905_1,  P01W,    41,  1,     16,     16,2,19990529,0910, 47.0113, 163.3568, 5729,    400.8,2,   3.4390,2,  34.0743,1,  34.0775,2,    -4.50,1,    17.19,2,   114.12,2,    45.16,3,     0.00,3,     3.01,3, -999.000,9, -999.000,9, -999.000,9,-999.0000,9, -999.000,9,   -999.0,9,   -999.0,9, -999.000,9,   -999.0,9,   -999.0,  -999.00,9,   -999.0,9,   -999.0,9,   3.4126,  27.1104
  49KA199905_1,  P01W,    41,  1,     15,     15,2,19990529,0910, 47.0113, 163.3568, 5729,    500.4,2,   3.2891,2,  34.1841,1,  34.1847,2,    -3.50,1,    17.33,2,   124.76,2,    44.35,2,     0.00,2,     3.11,3, -999.000,9, -999.000,9, -999.000,9,-999.0000,9, -999.000,9,   -999.0,9,   -999.0,9, -999.000,9,   -999.0,9,   -999.0,  -999.00,9,   -999.0,9,   -999.0,9,   3.2562,  27.2106
  49KA199905_1,  P01W,    41,  1,     14,     14,2,19990529,0910, 47.0113, 163.3568, 5729,    599.6,2,   3.1200,2,  34.2472,1,  34.2481,2,    -2.26,1,    19.44,2,   132.05,2,    44.15,2,     0.00,2,     3.08,3, -999.000,9, -999.000,9, -999.000,9,-999.0000,9, -999.000,9,   -999.0,9,   -999.0,9, -999.000,9,   -999.0,9,   -999.0,  -999.00,9,   -999.0,9,   -999.0,9,   3.0809,  27.2775
  49KA199905_1,  P01W,    41,  1,     13,     13,2,19990529,0910, 47.0113, 163.3568, 5729,    802.2,2,   2.8817,2,  34.3440,1,  34.3447,2,    -4.60,1,    17.32,2,   143.12,2,    44.24,2,     0.00,2,     3.10,3, -999.000,9, -999.000,9, -999.000,9,-999.0000,9, -999.000,9,   -999.0,9,   -999.0,9, -999.000,9,   -999.0,9,   -999.0,  -999.00,9,   -999.0,9,   -999.0,9,   2.8294,  27.3773
  49KA199905_1,  P01W,    41,  1,     12,     12,2,19990529,0910, 47.0113, 163.3568, 5729,    999.6,2,   2.6203,2,  34.4159,1,  34.4179,2,    -1.73,1,    21.82,2,   153.81,2,    43.63,2,     0.00,2,     2.95,3, -999.000,9, -999.000,9, -999.000,9,-999.0000,9, -999.000,9,   -999.0,9,   -999.0,9, -999.000,9,   -999.0,9,   -999.0,  -999.00,9,   -999.0,9,   -999.0,9,   2.5555,  27.4597
  49KA199905_1,  P01W,    41,  1,     11,     11,2,19990529,0910, 47.0113, 163.3568, 5729,   1250.4,2,   2.3242,2,  34.4865,1,  34.4873,2,     7.23,1,    32.32,2,   162.05,2,    43.09,2,     0.00,2,     2.93,3, -999.000,9, -999.000,9, -999.000,9,-999.0000,9, -999.000,9,   -999.0,9,   -999.0,9, -999.000,9,   -999.0,9,   -999.0,  -999.00,9,   -999.0,9,   -999.0,9,   2.2436,  27.5413
  49KA199905_1,  P01W,    41,  1,     10,     10,2,19990529,0910, 47.0113, 163.3568, 5729,   1498.9,2,   2.1175,2,  34.5371,1,  34.5385,2,    18.28,1,    46.52,2,   166.43,2,    42.44,2,     0.00,2,     2.90,3, -999.000,9, -999.000,9, -999.000,9,-999.0000,9, -999.000,9,   -999.0,9,   -999.0,9, -999.000,9,   -999.0,9,   -999.0,  -999.00,9,   -999.0,9,   -999.0,9,   2.0200,  27.6003
  49KA199905_1,  P01W,    41,  1,      9,      9,2,19990529,0910, 47.0113, 163.3568, 5729,   1749.3,2,   1.9448,2,  34.5777,1,  34.5790,2,    32.03,1,    63.34,2,   168.08,2,    41.51,2,     0.00,2,     2.85,3, -999.000,9, -999.000,9, -999.000,9,-999.0000,9, -999.000,9,   -999.0,9,   -999.0,9, -999.000,9,   -999.0,9,   -999.0,  -999.00,9,   -999.0,9,   -999.0,9,   1.8299,  27.6476
  49KA199905_1,  P01W,    41,  1,      8,      8,2,19990529,0910, 47.0113, 163.3568, 5729,   1997.3,2,   1.8281,2,  34.6035,1,  34.6051,2,    44.05,1,    77.82,2,   167.62,2,    40.74,2,     0.00,2,     2.71,3, -999.000,9, -999.000,9, -999.000,9,-999.0000,9, -999.000,9,   -999.0,9,   -999.0,9, -999.000,9,   -999.0,9,   -999.0,  -999.00,9,   -999.0,9,   -999.0,9,   1.6946,  27.6789
  49KA199905_1,  P01W,    41,  1,      7,      7,2,19990529,0910, 47.0113, 163.3568, 5729,   2499.2,2,   1.6382,2,  34.6421,1,  34.6438,2,    69.30,1,   106.77,2,   162.49,2,    38.90,2,     0.00,2,     2.67,3, -999.000,9, -999.000,9, -999.000,9,-999.0000,9, -999.000,9,   -999.0,9,   -999.0,9, -999.000,9,   -999.0,9,   -999.0,  -999.00,9,   -999.0,9,   -999.0,9,   1.4647,  27.7269
  49KA199905_1,  P01W,    41,  1,      6,      6,2,19990529,0910, 47.0113, 163.3568, 5729,   3000.9,2,   1.5347,2,  34.6621,1,  34.6636,2,    86.06,1,   127.41,2,   157.32,2,    37.61,2,     0.00,2,     2.57,3, -999.000,9, -999.000,9, -999.000,9,-999.0000,9, -999.000,9,   -999.0,9,   -999.0,9, -999.000,9,   -999.0,9,   -999.0,  -999.00,9,   -999.0,9,   -999.0,9,   1.3172,  27.7533
  49KA199905_1,  P01W,    41,  1,      5,      5,2,19990529,0910, 47.0113, 163.3568, 5729,   3499.7,2,   1.4799,2,  34.6738,1,  34.6688,4,    97.13,1,   136.14,4,   144.75,4,    37.05,4,     0.00,4,     4.46,4, -999.000,9, -999.000,9, -999.000,9,-999.0000,9, -999.000,9,   -999.0,9,   -999.0,9, -999.000,9,   -999.0,9,   -999.0,  -999.00,9,   -999.0,9,   -999.0,9,   1.2144,  27.7647
  49KA199905_1,  P01W,    41,  1,      4,      4,2,19990529,0910, 47.0113, 163.3568, 5729,   3999.5,2,   1.4668,2,  34.6804,1,  34.6827,2,   104.13,1,   149.15,2,   150.19,2,    35.99,2,     0.00,2,     2.45,3, -999.000,9, -999.000,9, -999.000,9,-999.0000,9, -999.000,9,   -999.0,9,   -999.0,9, -999.000,9,   -999.0,9,   -999.0,  -999.00,9,   -999.0,9,   -999.0,9,   1.1489,  27.7803
  49KA199905_1,  P01W,    41,  1,      3,      3,2,19990529,0910, 47.0113, 163.3568, 5729,   4500.5,2,   1.4786,2,  34.6848,1,  34.6874,2,   109.02,1,   155.10,2,   148.66,2,    35.54,2,     0.00,2,     2.35,3, -999.000,9, -999.000,9, -999.000,9,-999.0000,9, -999.000,9,   -999.0,9,   -999.0,9, -999.000,9,   -999.0,9,   -999.0,  -999.00,9,   -999.0,9,   -999.0,9,   1.1042,  27.7872
  49KA199905_1,  P01W,    41,  1,      2,      2,2,19990529,0910, 47.0113, 163.3568, 5729,   4999.5,2,   1.5180,2,  34.6866,1,  34.6878,2,   111.59,1,   158.68,2,   149.13,2,    35.44,2,     0.00,2,     2.36,3, -999.000,9, -999.000,9, -999.000,9,-999.0000,9, -999.000,9,   -999.0,9,   -999.0,9, -999.000,9,   -999.0,9,   -999.0,  -999.00,9,   -999.0,9,   -999.0,9,   1.0832,  27.7889
  49KA199905_1,  P01W,    41,  1,      1,      1,2,19990529,0910, 47.0113, 163.3568, 5729,   5887.5,2,   1.6289,2,  34.6864,1,  34.6902,2,   114.01,1,   159.66,2,   150.15,2,    35.48,2,     0.00,2,     2.31,3, -999.000,9, -999.000,9, -999.000,9,-999.0000,9, -999.000,9,   -999.0,9,   -999.0,9, -999.000,9,   -999.0,9,   -999.0,  -999.00,9,   -999.0,9,   -999.0,9,   1.0770,  27.7912
  49KA199905_1,  P01W,   X13,  1,     24,     24,2,19990529,1757, 47.0062, 164.9612, 5851,     10.8,2,   3.6016,2,  32.9846,1,  32.9831,2,   289.21,1,   333.99,2,    35.59,2,    19.65,2,     0.26,2,     1.72,2,    5.707,2,    2.839,2,    0.443,2,   0.4048,2,    7.705,2,   2227.7,2,   2100.5,2, -999.000,1,    -22.7,2,      3.5,     0.41,2,   -999.0,1,   -999.0,1,   3.6009,  26.2206
  49KA199905_1,  P01W,   X13,  1,     23,     23,2,19990529,1757, 47.0062, 164.9612, 5851,     49.7,2,   3.1117,2,  32.9824,1,  32.9937,4,   289.78,1,   333.08,4,    36.64,3,    20.33,3,     0.32,3,     1.75,3,    5.832,4,    2.864,4,    0.454,4,   0.4787,4,    7.689,4,   2225.9,4,   2104.1,4, -999.000,1,    -22.4,2,      3.4,     0.34,2,   -999.0,1,   -999.0,1,   3.1088,  26.2741
  49KA199905_1,  P01W,   X13,  1,     22,     22,2,19990529,1757, 47.0062, 164.9612, 5851,    100.6,2,   1.8543,2,  33.0537,1,  33.0544,2,   286.79,1,   326.70,2,    40.61,2,    23.00,3,     0.25,3,     1.88,2,    5.846,2,    2.905,2,    0.551,2,   0.4698,2,    7.643,2,   2229.0,2,   2126.3,2, -999.000,1,    -28.6,2,      3.6,     0.00,2,   -999.0,1,   -999.0,1,   1.8494,  26.4241
  49KA199905_1,  P01W,   X13,  1,     21,     21,2,19990529,1757, 47.0062, 164.9612, 5851,    149.7,2,   1.9913,2,  33.1435,1,  33.1541,4,   244.38,1,   289.87,4,    45.15,3,    25.45,3,     0.01,3,     2.04,3, -999.000,9, -999.000,9, -999.000,9,   0.3503,4,    7.600,4,   2235.4,4,   2148.8,4, -999.000,1,    -35.0,2,      3.6,     0.00,2,   -999.0,9,   -999.0,9,   1.9837,  26.4941
  49KA199905_1,  P01W,   X13,  1,     20,     20,2,19990529,1757, 47.0062, 164.9612, 5851,    199.6,2,   2.8385,2,  33.5486,1,  33.5514,2,   123.08,1,   151.87,2,    68.47,2,    34.16,2,     0.00,2,     2.59,2,    3.559,2,    1.693,2,    0.242,2,   0.2909,2,    7.426,2,   2271.1,2,   2251.1,2, -999.000,1,    -73.4,2,      5.7,     0.00,2,   -999.0,9,   -999.0,9,   2.8268,  26.7439
  49KA199905_1,  P01W,   X13,  1,     19,     19,2,19990529,1757, 47.0062, 164.9612, 5851,    250.6,2,   2.9975,2,  33.6783,1,  33.6941,4,    76.86,1,   101.61,4,    80.69,3,    38.44,3,     0.00,3,     2.84,3,    2.385,4,    1.092,4,    0.163,4,   0.2031,4,    7.352,4,   2282.7,4,   2289.4,4, -999.000,1,    -92.8,2,      3.2,     0.00,2,   -999.0,1,   -999.0,1,   2.9823,  26.8442
  49KA199905_1,  P01W,   X13,  1,     18,     18,2,19990529,1757, 47.0062, 164.9612, 5851,    299.6,2,   3.3666,2,  33.8589,1,  33.8655,4,    47.55,1,    49.05,4,    89.84,3,    40.24,3,     0.00,3,     2.95,3,    2.127,4,    0.984,4,    0.170,4,   0.1867,4,    7.332,4,   2296.6,4,   2309.0,4, -999.000,1,   -109.7,2,      3.1,     0.00,2,   -999.0,9,   -999.0,9,   3.3474,  26.9476
  49KA199905_1,  P01W,   X13,  1,     17,     17,2,19990529,1757, 47.0062, 164.9612, 5851,    353.0,2,   3.3736,2,  33.9515,1,  33.9527,2,    26.59,1,    49.05,2,    98.49,2,    42.06,2,     0.00,2,     3.05,2,    1.614,2,    0.733,2,    0.143,2,   0.0903,2,    7.310,2,   2311.5,2,   2327.5,2, -999.000,1,   -999.0,9,   -999.0,  -999.00,9,   -999.0,9,   -999.0,9,   3.3507,  27.0168
  49KA199905_1,  P01W,   X13,  1,     16,     16,2,19990529,1757, 47.0062, 164.9612, 5851,    400.5,2,   3.4354,2,  34.0197,1,  34.0202,2,    20.90,1,    42.28,2,   102.81,2,    42.18,2,     0.00,2,     3.04,2,    1.299,2,    0.602,2,    0.075,2,   0.0391,2,    7.318,3,   2319.3,2,   2329.8,2, -999.000,1,   -137.6,2,      2.8,  -999.00,9,   -999.0,9,   -999.0,9,   3.4090,  27.0651
  49KA199905_1,  P01W,   X13,  1,     15,     15,2,19990529,1757, 47.0062, 164.9612, 5851,    501.9,2,   3.3599,2,  34.1099,1,  34.1114,2,     7.35,1,    29.06,2,   112.98,2,    43.17,2,     0.00,2,     3.10,2,    0.833,2,    0.385,2,    0.055,2,   0.0151,2,    7.310,2,   2333.2,2,   2353.7,2, -999.000,1,   -148.9,2,      2.8,  -999.00,9,   -999.0,1,   -999.0,1,   3.3267,  27.1456
  49KA199905_1,  P01W,   X13,  1,     14,     14,2,19990529,1757, 47.0062, 164.9612, 5851,    602.2,2,   3.4022,2,  34.2122,1,  34.2135,2,    11.70,1,    33.79,2,   118.26,3,    42.25,3,     0.00,3,     3.05,3,    0.554,2,    0.226,2,    0.037,2,   0.0000,2,    7.341,3,   2345.3,2,   -999.0,9, -999.000,1,   -169.8,2,      2.9,  -999.00,9,   -999.0,9,   -999.0,9,   3.3616,  27.2237
  49KA199905_1,  P01W,   X13,  1,     13,     13,2,19990529,1757, 47.0062, 164.9612, 5851,    802.3,2,   2.9617,2,  34.3213,1,  34.3220,2,     3.69,1,    26.46,2,   135.00,2,    43.10,2,     0.00,2,     3.11,2,    0.280,2,    0.102,2,    0.028,2,   0.0009,2,    7.338,2,   2360.5,2,   2373.5,2, -999.000,1,   -190.1,2,      2.6,  -999.00,9,   -999.0,9,   -999.0,9,   2.9090,  27.3521
  49KA199905_1,  P01W,   X13,  1,     12,     12,2,19990529,1757, 47.0062, 164.9612, 5851,    999.2,2,   2.6967,2,  34.3974,1,  34.3988,2,     2.46,1,    25.87,2,   144.20,2,    43.11,2,     0.00,2,     3.09,2,    0.138,2,    0.055,2,    0.005,2,   0.0000,2,    7.349,2,   2371.8,2,   2382.0,2, -999.000,1,   -205.2,2,      3.4,  -999.00,9,   -999.0,1,   -999.0,1,   2.6314,  27.4379
  49KA199905_1,  P01W,   X13,  1,     11,     11,2,19990529,1757, 47.0062, 164.9612, 5851,   1251.1,2,   2.4158,2,  34.4685,1,  34.4698,2,     8.98,1,    34.44,2,   152.61,2,    42.76,2,     0.00,2,     3.07,2,    0.098,2,    0.026,2,    0.004,2,-999.0000,9,    7.372,2,   2387.9,2,   2385.8,2, -999.000,1,   -216.1,2,      2.5,  -999.00,9,   -999.0,9,   -999.0,9,   2.3341,  27.5199
  49KA199905_1,  P01W,   X13,  1,     10,     10,2,19990529,1757, 47.0062, 164.9612, 5851,   1500.6,2,   2.2224,2,  34.5155,1,-999.0000,9,    14.05,1,  -999.00,9,   150.53,4,    40.40,4,     0.00,4,     2.90,4,    0.052,2,    0.019,2,    0.007,2,-999.0000,9,    7.390,2,   2399.1,2,   2388.7,2, -999.000,1,   -226.7,2,      2.5,  -999.00,9,   -999.0,1,   -999.0,1,-999.0000,-999.0000
  49KA199905_1,  P01W,   X13,  1,      9,      9,2,19990529,1757, 47.0062, 164.9612, 5851,   1748.4,2,   2.0333,2,  34.5605,1,  34.5617,2,    26.28,1,  -999.00,9,   161.18,2,    41.75,2,     0.00,2,     2.98,2,    0.001,2,    0.000,2,    0.007,2,-999.0000,9,    7.419,2,   2403.1,2,   2381.3,2, -999.000,1,   -231.3,2,      2.5,  -999.00,9,   -999.0,9,   -999.0,9,   1.9172,  27.6270
  49KA199905_1,  P01W,   X13,  1,      8,      8,2,19990529,1757, 47.0062, 164.9612, 5851,   2003.5,2,   1.8767,2,  34.5958,1,  34.5894,4,    40.39,1,    68.33,4,   162.87,3,    40.68,3,     0.02,3,     2.89,3,    0.000,4,    0.002,4,    0.001,4,-999.0000,9,    7.442,4,   2408.0,4,   2377.3,4, -999.000,1,   -243.8,4,      2.5,  -999.00,9,   -999.0,1,   -999.0,1,   1.7421,  27.6627
  49KA199905_1,  P01W,   X13,  1,      7,      7,2,19990529,1757, 47.0062, 164.9612, 5851,   2498.6,2,   1.6731,2,  34.6367,1,  34.6374,2,    65.03,1,   102.55,3,   158.33,2,    38.93,2,     0.00,2,     2.77,2,    0.000,2,    0.004,2,    0.002,2,-999.0000,9,    7.498,2,   2412.8,2,   2358.2,2, -999.000,1,   -236.9,2,      2.7,  -999.00,9,   -999.0,9,   -999.0,9,   1.4991,  27.7192
  49KA199905_1,  P01W,   X13,  1,      6,      6,2,19990529,1757, 47.0062, 164.9612, 5851,   3001.4,2,   1.5563,2,  34.6593,1,  34.6608,2,    83.64,1,   123.23,2,   152.73,2,    37.46,2,     0.00,2,     2.65,2,    0.000,2,    0.000,2,    0.000,2,-999.0000,9,    7.538,2,   2421.1,3,   2345.4,2, -999.000,1,   -234.6,2,      3.1,  -999.00,9,   -999.0,1,   -999.0,1,   1.3383,  27.7496
  49KA199905_1,  P01W,   X13,  1,      5,      5,2,19990529,1757, 47.0062, 164.9612, 5851,   3500.7,2,   1.4971,2,  34.6719,1,  34.6709,3,    96.16,1,   134.35,3,   150.73,2,    37.45,2,     0.00,2,     2.64,2,    0.004,2,    0.000,2,    0.003,2,-999.0000,9,    7.546,2,   2415.7,2,   2336.7,2, -999.000,1,   -231.3,2,      2.7,  -999.00,9,   -999.0,9,   -999.0,9,   1.2311,  27.7652
  49KA199905_1,  P01W,   X13,  1,      4,      4,2,19990529,1757, 47.0062, 164.9612, 5851,   4001.5,2,   1.4794,2,  34.6792,1,  34.6813,2,   103.56,1,   147.97,2,   145.79,2,    35.93,2,     0.00,2,     2.53,2,    0.000,2,    0.000,2,    0.000,2,-999.0000,9,    7.573,2,   2415.8,2,   2328.1,2, -999.000,1,   -222.5,2,      2.5,  -999.00,9,   -999.0,1,   -999.0,1,   1.1610,  27.7784
  49KA199905_1,  P01W,   X13,  1,      3,      3,2,19990529,1757, 47.0062, 164.9612, 5851,   4502.7,2,   1.4916,2,  34.6833,1,  34.6862,2,   108.39,1,   154.29,2,   144.16,2,    35.51,2,     0.00,2,     2.50,2,    0.000,2,    0.002,2,    0.000,2,-999.0000,9,    7.587,2,   2415.0,2,   2319.4,2, -999.000,1,   -214.0,2,      2.6,  -999.00,9,   -999.0,9,   -999.0,9,   1.1166,  27.7854
  49KA199905_1,  P01W,   X13,  1,      2,      2,2,19990529,1757, 47.0062, 164.9612, 5851,   5001.5,2,   1.5233,2,  34.6859,1,  34.6896,2,   111.66,1,   157.14,2,   144.23,2,    35.23,2,     0.00,2,     2.51,2,    0.008,2,    0.000,2,    0.001,2,-999.0000,9,    7.593,2,   2414.2,2,   2321.1,2, -999.000,1,   -218.4,2,      3.3,  -999.00,9,   -999.0,1,   -999.0,1,   1.0881,  27.7900
  49KA199905_1,  P01W,   X13,  1,      1,      1,2,19990529,1757, 47.0062, 164.9612, 5851,   5965.1,2,   1.6401,2,  34.6862,1,  34.6901,2,   115.04,1,   159.56,2,   145.67,2,    35.21,2,     0.00,2,     2.48,2,    0.002,2,    0.005,2,    0.001,2,-999.0000,9,    7.592,2,   2416.1,2,   2322.8,2, -999.000,1,   -213.7,2,      3.3,  -999.00,9,   -999.0,9,   -999.0,9,   1.0774,  27.7911