BOTTLE,20220921CCHSIOAMB
EXPOCODE,SECT_ID,STNNBR,CASTNO,SAMPNO,BTLNBR,BTLNBR_FLAG_W,DATE,TIME,LATITUDE,LONGITUDE,DEPTH,CTDPRS,CTDPRS_FLAG_W,CTDTMP,CTDTMP_FLAG_W,CTDSAL,CTDSAL_FLAG_W,SALNTY,SALNTY_FLAG_W,CTDOXY,CTDOXY_FLAG_W,OXYGEN,OXYGEN_FLAG_W,SILCAT,SILCAT_FLAG_W,NITRAT,NITRAT_FLAG_W,NITRIT,NITRIT_FLAG_W,PHSPHT,PHSPHT_FLAG_W,CFC-11,CFC-11_FLAG_W,CFC-12,CFC-12_FLAG_W,CFC113,CFC113_FLAG_W,SF6,SF6_FLAG_W,PH,PH_FLAG_W,ALKALI,ALKALI_FLAG_W,TCARBN,TCARBN_FLAG_W,DELC13,DELC13_FLAG_W,DELC14,DELC14_FLAG_W,C14ERR,CHLORA,CHLORA_FLAG_W,CU,CU_FLAG_W,NI,NI_FLAG_W,THETA,SIG0
,,,,,,,,,,,METERS,DBAR,,ITS-90,,PSS-78,,PSS-78,,UMOL/KG,,UMOL/KG,,UMOL/KG,,UMOL/KG,,UMOL/KG,,UMOL/KG,,PMOL/KG,,PMOL/KG,,PMOL/KG,,FMOL/KG,,,,UMOL/KG,,UMOL/KG,,/MILLE,,/MILLE,,/MILLE,UG/KG,,UMOL/L,,UMOL/L,,ITS-90,KG/M^3
  49KA199905_1,  P01W,    66,  1,     24,     24,2,19990604,1408, 46.9937,-174.9512, 5788,     10.5,2,   5.2731,2,  32.9192,1,  32.9223,2,   284.72,1,   324.82,2,    27.76,2,    16.85,2,     0.27,2,     1.51,2,    4.993,2,    2.507,2,    0.418,2,   0.2726,2,    7.719,3,   2222.8,2,   2070.4,2, -999.000,1,     -2.3,2,      4.0,     2.53,2,   -999.0,1,   -999.0,1,   5.2723,  25.9975
  49KA199905_1,  P01W,    66,  1,     23,     23,2,19990604,1408, 46.9937,-174.9512, 5788,     49.7,2,   4.8139,2,  32.9217,1,  32.9244,2,   282.78,1,   321.52,2,    28.15,2,    17.40,2,     0.29,2,     1.55,2,    5.105,2,    2.572,2,    0.418,2,   0.2956,2,    7.707,2,   2222.6,2,   2072.1,2, -999.000,1,     -2.5,2,      4.0,     0.63,2,   -999.0,1,   -999.0,1,   4.8103,  26.0508
  49KA199905_1,  P01W,    66,  1,     22,     22,2,19990604,1408, 46.9937,-174.9512, 5788,    100.6,2,   3.7689,2,  32.9459,1,  32.9508,2,   280.51,1,   319.47,2,    30.44,2,    19.08,2,     0.53,2,     1.67,2,    5.302,2,    2.655,2,    0.484,2,   0.2882,2,    7.674,2,   2224.0,2,   2091.9,2, -999.000,1,     -4.1,2,      4.1,     0.07,2,   -999.0,1,   -999.0,1,   3.7624,  26.1795
  49KA199905_1,  P01W,    66,  1,     21,     21,2,19990604,1408, 46.9937,-174.9512, 5788,    149.7,2,   3.6098,2,  33.2263,1,  33.1849,4,   227.27,1,   273.65,4,    39.93,3,    23.70,3,     0.03,3,     1.90,3,    4.745,4,    2.367,4,    0.392,4,   0.1918,4,    7.603,4,   2237.9,4,   2130.5,4, -999.000,1,    -21.5,2,      3.7,     0.02,2,   -999.0,9,   -999.0,9,   3.6003,  26.3814
  49KA199905_1,  P01W,    66,  1,     20,     20,2,19990604,1408, 46.9937,-174.9512, 5788,    200.3,2,   4.0019,2,  33.6865,1,  33.6880,2,   126.48,1,   154.25,2,    60.74,2,    31.85,2,     0.02,2,     2.41,2,    3.300,2,    1.584,2,    0.196,2,   0.0597,2,    7.440,2,   2274.7,2,   2226.6,2, -999.000,1,    -47.2,2,      3.4,     0.00,4,   -999.0,9,   -999.0,9,   3.9882,  26.7437
  49KA199905_1,  P01W,    66,  1,     19,     19,2,19990604,1408, 46.9937,-174.9512, 5788,    250.8,2,   3.7291,2,  33.7439,1,  33.7442,2,    97.26,1,   123.20,2,    70.32,2,    35.12,2,     0.01,2,     2.62,2,    2.980,2,    1.382,2,    0.200,2,   0.0650,2,    7.391,2,   2281.6,2,   2256.0,2, -999.000,1,    -73.9,2,      2.8,     0.00,2,   -999.0,1,   -999.0,1,   3.7124,  26.8159
  49KA199905_1,  P01W,    66,  1,     18,     18,2,19990604,1408, 46.9937,-174.9512, 5788,    299.8,2,   3.6312,2,  33.8341,1,  33.8252,4,    66.88,1,    93.33,4,    80.45,3,    37.94,3,     0.02,3,     2.80,3,    2.436,4,    1.101,4,    0.151,4,   0.0385,4,    7.346,4,   2291.0,4,   2278.0,4, -999.000,1,    -91.5,2,      3.2,     0.00,2,   -999.0,9,   -999.0,9,   3.6113,  26.8903
  49KA199905_1,  P01W,    66,  1,     17,     17,2,19990604,1408, 46.9937,-174.9512, 5788,    348.9,2,   3.7399,2,  33.9240,1,  33.9257,2,    50.53,1,    75.39,3,    87.45,2,    39.32,2,     0.02,2,     2.90,2,    1.901,2,    0.873,2,    0.119,2,   0.0152,2,    7.336,2,   2300.1,2,   2290.6,2, -999.000,1,   -106.3,2,      3.1,  -999.00,9,   -999.0,9,   -999.0,9,   3.7163,  26.9600
  49KA199905_1,  P01W,    66,  1,     16,     16,2,19990604,1408, 46.9937,-174.9512, 5788,    400.0,2,   3.6695,2,  33.9809,1,  33.9826,2,    28.20,1,    50.77,2,    95.15,2,    41.57,2,     0.01,2,     3.05,2,    1.474,2,    0.667,2,    0.078,2,   0.0111,2,    7.299,2,   2303.8,2,   2314.3,2, -999.000,1,   -114.5,2,      2.9,  -999.00,9,   -999.0,9,   -999.0,9,   3.6425,  27.0126
  49KA199905_1,  P01W,    66,  1,     15,     15,2,19990604,1408, 46.9937,-174.9512, 5788,    500.8,2,   3.5540,2,  34.1027,1,  34.1041,2,    15.39,1,    38.10,2,   107.88,2,    42.27,2,     0.01,2,     3.09,2,    0.904,2,    0.415,2,    0.054,2,   0.0036,2,    7.304,2,   2318.9,2,   2342.1,2, -999.000,1,   -163.7,2,      3.4,  -999.00,9,   -999.0,1,   -999.0,1,   3.5202,  27.1213
  49KA199905_1,  P01W,    66,  1,     14,     14,2,19990604,1408, 46.9937,-174.9512, 5788,    600.2,2,   3.3951,2,  34.2010,1,  34.2021,2,     8.11,1,    30.49,2,   118.37,2,    42.67,2,     0.01,2,     3.12,2,    0.551,2,    0.229,2,    0.028,2,   0.0002,2,    7.312,2,   2341.5,2,   2351.6,2, -999.000,1,   -167.1,6,      2.7,  -999.00,9,   -999.0,9,   -999.0,9,   3.3547,  27.2152
  49KA199905_1,  P01W,    66,  1,     13,     13,2,19990604,1408, 46.9937,-174.9512, 5788,    799.6,2,   3.0898,2,  34.3037,1,  34.3046,2,     2.59,1,    25.80,2,   131.10,2,    43.14,2,     0.01,2,     3.15,2,    0.245,2,    0.095,2,    0.002,2,   0.0015,2,    7.313,2,   2359.3,2,   2368.5,2, -999.000,1,   -178.1,2,      2.9,  -999.00,9,   -999.0,9,   -999.0,9,   3.0365,  27.3266
  49KA199905_1,  P01W,    66,  1,     12,     12,2,19990604,1408, 46.9937,-174.9512, 5788,   1000.9,2,   2.8134,2,  34.3856,1,  34.3874,2,     3.76,1,    26.55,2,   140.47,2,    42.92,2,     0.01,2,     3.11,2,    0.132,2,    0.045,2,    0.000,2,   0.0000,2,    7.328,2,   2374.0,2,   2378.6,2, -999.000,1,   -999.0,9,   -999.0,  -999.00,9,   -999.0,1,   -999.0,1,   2.7471,  27.4187
  49KA199905_1,  P01W,    66,  1,     11,     11,2,19990604,1408, 46.9937,-174.9512, 5788,   1251.4,2,   2.4675,2,  34.4596,1,  34.4622,2,     7.64,1,    34.73,2,   150.89,2,    42.73,2,     0.01,2,     3.11,2,    0.087,2,    0.030,2,    0.002,2,-999.0000,9,    7.345,2,   2386.9,2,   2385.1,2, -999.000,1,   -218.7,2,      2.3,  -999.00,9,   -999.0,9,   -999.0,9,   2.3853,  27.5095
  49KA199905_1,  P01W,    66,  1,     10,     10,2,19990604,1408, 46.9937,-174.9512, 5788,   1500.5,2,   2.2541,2,  34.5102,1,  34.5121,2,    13.10,1,    40.19,2,   156.61,2,    42.45,2,     0.01,2,     3.09,2,    0.008,2,    0.012,2,    0.000,2,-999.0000,9,    7.359,2,   2395.5,2,   2386.9,2, -999.000,1,   -234.4,2,      2.8,  -999.00,9,   -999.0,1,   -999.0,1,   2.1550,  27.5684
  49KA199905_1,  P01W,    66,  1,      9,      9,2,19990604,1408, 46.9937,-174.9512, 5788,   1749.4,2,   2.0896,2,  34.5495,1,  34.5520,2,    21.45,1,    50.05,2,   152.15,4,    42.17,3,     0.02,3,     3.05,2,    0.000,2,    0.010,2,    0.000,2,-999.0000,9,    7.378,2,   2401.0,2,   2383.9,2, -999.000,1,   -230.2,2,      2.8,  -999.00,9,   -999.0,9,   -999.0,9,   1.9727,  27.6149
  49KA199905_1,  P01W,    66,  1,      8,      8,2,19990604,1408, 46.9937,-174.9512, 5788,   2001.0,2,   1.9496,2,  34.5812,1,  34.5843,2,    30.82,1,    62.05,2,   162.12,2,    41.35,2,     0.01,2,     2.99,2,    0.000,2,    0.007,2,    0.000,2,-999.0000,9,    7.408,2,   2404.5,2,   2379.8,2, -999.000,1,   -240.9,2,      2.6,  -999.00,9,   -999.0,1,   -999.0,1,   1.8141,  27.6531
  49KA199905_1,  P01W,    66,  1,      7,      7,2,19990604,1408, 46.9937,-174.9512, 5788,   2499.7,2,   1.7072,2,  34.6284,1,  34.6312,2,    56.16,1,    91.67,2,   161.75,2,    39.57,2,     0.02,2,     2.85,2,    0.001,2,    0.000,2,    0.000,2,-999.0000,9,    7.461,2,   2409.8,2,   2367.0,2, -999.000,1,   -238.5,2,      3.0,  -999.00,9,   -999.0,1,   -999.0,1,   1.5325,  27.7118
  49KA199905_1,  P01W,    66,  1,      6,      6,2,19990604,1408, 46.9937,-174.9512, 5788,   2999.8,2,   1.5792,2,  34.6531,1,  34.6555,2,    75.75,1,   114.73,2,   157.90,2,    38.06,2,     0.01,2,     2.73,2,    0.000,2,    0.004,2,    0.000,2,-999.0000,9,    7.503,2,   2411.5,2,   2354.6,2, -999.000,1,   -234.8,2,      2.4,  -999.00,9,   -999.0,1,   -999.0,1,   1.3608,  27.7437
  49KA199905_1,  P01W,    66,  1,      5,      5,2,19990604,1408, 46.9937,-174.9512, 5788,   3499.3,2,   1.5034,2,  34.6687,1,  34.6677,4,    90.95,1,   129.46,4,   154.80,3,    37.37,3,     0.01,3,     2.67,3,    0.006,4,    0.000,4,    0.000,4,-999.0000,9,    7.515,4,   2412.3,4,   2345.7,4, -999.000,1,   -231.7,2,      2.9,  -999.00,9,   -999.0,9,   -999.0,9,   1.2374,  27.7622
  49KA199905_1,  P01W,    66,  1,      4,      4,2,19990604,1408, 46.9937,-174.9512, 5788,   3997.9,2,   1.4763,2,  34.6783,1,  34.6810,2,   100.37,1,   144.31,2,   144.77,4,    36.19,3,     0.02,3,     2.58,2,    0.000,2,    0.003,2,    0.005,2,-999.0000,9,    7.534,2,   2411.3,2,   2334.5,2, -999.000,1,   -228.6,2,      2.7,  -999.00,9,   -999.0,1,   -999.0,1,   1.1583,  27.7783
  49KA199905_1,  P01W,    66,  1,      3,      3,2,19990604,1408, 46.9937,-174.9512, 5788,   4500.0,2,   1.4924,2,  34.6832,1,  34.6872,2,   104.43,1,   149.89,2,   152.45,2,    35.79,2,     0.01,2,     2.55,2,    0.000,2,    0.000,2,    0.006,2,-999.0000,9,    7.554,2,   2413.9,2,   2327.2,2, -999.000,1,   -222.6,2,      2.5,  -999.00,9,   -999.0,9,   -999.0,9,   1.1177,  27.7861
  49KA199905_1,  P01W,    66,  1,      2,      2,2,19990604,1408, 46.9937,-174.9512, 5788,   4999.9,2,   1.5414,2,  34.6845,1,  34.6891,2,   106.00,1,   151.93,2,   153.81,2,    35.70,2,     0.01,2,     2.54,2,    0.001,2,    0.000,2,    0.001,2,-999.0000,9,    7.552,2,   2413.8,2,   2328.0,2, -999.000,1,   -219.6,2,      3.7,  -999.00,9,   -999.0,1,   -999.0,1,   1.1058,  27.7884
  49KA199905_1,  P01W,    66,  1,      1,      1,2,19990604,1408, 46.9937,-174.9512, 5788,   5897.5,2,   1.6555,2,  34.6842,1,  34.6894,2,   108.37,1,   152.69,2,   154.79,2,    35.65,2,     0.02,2,     2.54,2,    0.003,2,    0.001,2,    0.000,2,-999.0000,9,    7.564,2,   2413.7,2,   2326.9,2, -999.000,1,   -225.0,2,      2.5,  -999.00,9,   -999.0,9,   -999.0,9,   1.1013,  27.7890
  49KA199905_1,  P01W,    67,  1,     24,     24,2,19990604,2055, 47.0018,-173.8163, 5688,     10.0,2,   5.4820,2,  32.8875,1,  32.8918,2,   283.88,1,   322.86,2,    26.05,2,    16.23,2,     0.21,2,     1.49,2, -999.000,9, -999.000,9, -999.000,9,-999.0000,9, -999.000,9,   -999.0,9,   -999.0,9, -999.000,9,   -999.0,9,   -999.0,  -999.00,9,   -999.0,9,   -999.0,9,   5.4812,  25.9492
  49KA199905_1,  P01W,    67,  1,     23,     23,2,19990604,2055, 47.0018,-173.8163, 5688,     49.8,2,   5.1171,2,  32.8899,1,  32.8945,2,   280.29,1,   319.84,2,    26.76,2,    16.71,2,     0.22,2,     1.53,2, -999.000,9, -999.000,9, -999.000,9,-999.0000,9, -999.000,9,   -999.0,9,   -999.0,9, -999.000,9,   -999.0,9,   -999.0,  -999.00,9,   -999.0,9,   -999.0,9,   5.1134,  25.9935
  49KA199905_1,  P01W,    67,  1,     22,     22,2,19990604,2055, 47.0018,-173.8163, 5688,    100.9,2,   3.8537,2,  32.9268,1,  32.8935,4,   279.73,1,   317.46,4,    29.37,3,    18.88,3,     0.38,3,     1.63,3, -999.000,9, -999.000,9, -999.000,9,-999.0000,9, -999.000,9,   -999.0,9,   -999.0,9, -999.000,9,   -999.0,9,   -999.0,  -999.00,9,   -999.0,9,   -999.0,9,   3.8472,  26.1257
  49KA199905_1,  P01W,    67,  1,     21,     21,2,19990604,2055, 47.0018,-173.8163, 5688,    150.5,2,   3.7296,2,  33.0741,1,  33.0743,2,   247.27,1,   286.26,2,    34.72,2,    21.57,2,     0.02,2,     1.78,2, -999.000,9, -999.000,9, -999.000,9,-999.0000,9, -999.000,9,   -999.0,9,   -999.0,9, -999.000,9,   -999.0,9,   -999.0,  -999.00,9,   -999.0,9,   -999.0,9,   3.7199,  26.2819
  49KA199905_1,  P01W,    67,  1,     20,     20,2,19990604,2055, 47.0018,-173.8163, 5688,    200.4,2,   3.7668,2,  33.6421,1,  33.6480,2,   129.50,1,   155.52,2,    63.19,2,    33.46,2,     0.03,2,     2.47,2, -999.000,9, -999.000,9, -999.000,9,-999.0000,9, -999.000,9,   -999.0,9,   -999.0,9, -999.000,9,   -999.0,9,   -999.0,  -999.00,9,   -999.0,9,   -999.0,9,   3.7535,  26.7353
  49KA199905_1,  P01W,    67,  1,     19,     19,2,19990604,2055, 47.0018,-173.8163, 5688,    250.5,2,   3.7317,2,  33.7410,1,  33.7467,2,    98.01,1,   121.73,2,    72.93,2,    36.52,2,     0.03,2,     2.68,2, -999.000,9, -999.000,9, -999.000,9,-999.0000,9, -999.000,9,   -999.0,9,   -999.0,9, -999.000,9,   -999.0,9,   -999.0,  -999.00,9,   -999.0,9,   -999.0,9,   3.7150,  26.8176
  49KA199905_1,  P01W,    67,  1,     18,     18,2,19990604,2055, 47.0018,-173.8163, 5688,    302.3,2,   3.7519,2,  33.8371,1,  33.8478,4,    70.55,1,    93.39,4,    78.69,3,    37.82,3,     0.01,3,     2.78,3, -999.000,9, -999.000,9, -999.000,9,-999.0000,9, -999.000,9,   -999.0,9,   -999.0,9, -999.000,9,   -999.0,9,   -999.0,  -999.00,9,   -999.0,9,   -999.0,9,   3.7316,  26.8965
  49KA199905_1,  P01W,    67,  1,     17,     17,2,19990604,2055, 47.0018,-173.8163, 5688,    350.3,2,   3.6537,2,  33.9003,1,  33.9127,4,    47.94,1,    69.45,4,    86.84,3,    40.10,3,     0.02,3,     2.94,3, -999.000,9, -999.000,9, -999.000,9,-999.0000,9, -999.000,9,   -999.0,9,   -999.0,9, -999.000,9,   -999.0,9,   -999.0,  -999.00,9,   -999.0,9,   -999.0,9,   3.6302,  26.9581
  49KA199905_1,  P01W,    67,  1,     16,     16,2,19990604,2055, 47.0018,-173.8163, 5688,    400.1,2,   3.7686,2,  33.9814,1,  33.9826,2,    37.14,1,    59.59,2,    90.48,3,    40.60,3,     0.01,3,     2.97,2, -999.000,9, -999.000,9, -999.000,9,-999.0000,9, -999.000,9,   -999.0,9,   -999.0,9, -999.000,9,   -999.0,9,   -999.0,  -999.00,9,   -999.0,9,   -999.0,9,   3.7412,  27.0029
  49KA199905_1,  P01W,    67,  1,     15,     15,2,19990604,2055, 47.0018,-173.8163, 5688,    499.8,2,   3.6337,2,  34.0975,1,  34.1040,2,    18.64,1,    40.57,2,   103.43,3,    42.02,3,     0.01,3,     3.06,2, -999.000,9, -999.000,9, -999.000,9,-999.0000,9, -999.000,9,   -999.0,9,   -999.0,9, -999.000,9,   -999.0,9,   -999.0,  -999.00,9,   -999.0,9,   -999.0,9,   3.5996,  27.1135
  49KA199905_1,  P01W,    67,  1,     14,     14,2,19990604,2055, 47.0018,-173.8163, 5688,    600.6,2,   3.4297,2,  34.1806,1,  34.1841,2,     9.27,1,    31.78,2,   112.82,3,    42.71,3,     0.01,3,     3.12,2, -999.000,9, -999.000,9, -999.000,9,-999.0000,9, -999.000,9,   -999.0,9,   -999.0,9, -999.000,9,   -999.0,9,   -999.0,  -999.00,9,   -999.0,9,   -999.0,9,   3.3891,  27.1976
  49KA199905_1,  P01W,    67,  1,     13,     13,2,19990604,2055, 47.0018,-173.8163, 5688,    799.8,2,   3.1593,2,  34.3077,1,  34.3106,2,     6.49,1,    29.39,2,   124.29,3,    42.84,3,     0.01,3,     3.13,2, -999.000,9, -999.000,9, -999.000,9,-999.0000,9, -999.000,9,   -999.0,9,   -999.0,9, -999.000,9,   -999.0,9,   -999.0,  -999.00,9,   -999.0,9,   -999.0,9,   3.1056,  27.3251
  49KA199905_1,  P01W,    67,  1,     12,     12,2,19990604,2055, 47.0018,-173.8163, 5688,   1000.7,2,   2.8590,2,  34.3848,1,  34.3876,2,     3.37,1,    27.93,2,   139.12,3,    43.11,3,     0.02,3,     3.16,2, -999.000,9, -999.000,9, -999.000,9,-999.0000,9, -999.000,9,   -999.0,9,   -999.0,9, -999.000,9,   -999.0,9,   -999.0,  -999.00,9,   -999.0,9,   -999.0,9,   2.7923,  27.4149
  49KA199905_1,  P01W,    67,  1,     11,     11,2,19990604,2055, 47.0018,-173.8163, 5688,   1249.6,2,   2.5244,2,  34.4506,1,  34.4549,2,     5.03,1,    31.02,2,   141.68,3,    43.10,3,     0.02,3,     3.13,2, -999.000,9, -999.000,9, -999.000,9,-999.0000,9, -999.000,9,   -999.0,9,   -999.0,9, -999.000,9,   -999.0,9,   -999.0,  -999.00,9,   -999.0,9,   -999.0,9,   2.4418,  27.4989
  49KA199905_1,  P01W,    67,  1,     10,     10,2,19990604,2055, 47.0018,-173.8163, 5688,   1500.8,2,   2.2977,2,  34.5058,1,  34.5088,2,     4.64,1,   320.34,4,   148.35,3,    43.41,3,     0.01,3,     3.13,3, -999.000,9, -999.000,9, -999.000,9,-999.0000,9, -999.000,9,   -999.0,9,   -999.0,9, -999.000,9,   -999.0,9,   -999.0,  -999.00,9,   -999.0,9,   -999.0,9,   2.1982,  27.5623
  49KA199905_1,  P01W,    67,  1,      9,      9,2,19990604,2055, 47.0018,-173.8163, 5688,   1751.8,2,   2.0894,2,  34.5508,1,  34.5538,2,    19.80,1,    49.04,2,   151.19,3,    42.32,3,     0.01,3,     3.07,2, -999.000,9, -999.000,9, -999.000,9,-999.0000,9, -999.000,9,   -999.0,9,   -999.0,9, -999.000,9,   -999.0,9,   -999.0,  -999.00,9,   -999.0,9,   -999.0,9,   1.9723,  27.6164
  49KA199905_1,  P01W,    67,  1,      8,      8,2,19990604,2055, 47.0018,-173.8163, 5688,   2000.2,2,   1.9428,2,  34.5824,1,  34.5858,2,    31.55,1,    62.95,2,   152.40,3,    41.41,3,     0.01,3,     2.98,2, -999.000,9, -999.000,9, -999.000,9,-999.0000,9, -999.000,9,   -999.0,9,   -999.0,9, -999.000,9,   -999.0,9,   -999.0,  -999.00,9,   -999.0,9,   -999.0,9,   1.8074,  27.6548
  49KA199905_1,  P01W,    67,  1,      7,      7,2,19990604,2055, 47.0018,-173.8163, 5688,   2499.9,2,   1.7217,2,  34.6265,1,  34.6295,2,    53.45,1,    89.47,3,   152.82,3,    39.75,3,     0.01,3,     2.86,2, -999.000,9, -999.000,9, -999.000,9,-999.0000,9, -999.000,9,   -999.0,9,   -999.0,9, -999.000,9,   -999.0,9,   -999.0,  -999.00,9,   -999.0,9,   -999.0,9,   1.5467,  27.7094
  49KA199905_1,  P01W,    67,  1,      6,      6,2,19990604,2055, 47.0018,-173.8163, 5688,   3000.4,2,   1.5869,2,  34.6520,1,  34.6546,2,    75.43,1,   113.99,2,   149.16,3,    38.12,3,     0.02,3,     2.73,2, -999.000,9, -999.000,9, -999.000,9,-999.0000,9, -999.000,9,   -999.0,9,   -999.0,9, -999.000,9,   -999.0,9,   -999.0,  -999.00,9,   -999.0,9,   -999.0,9,   1.3683,  27.7425
  49KA199905_1,  P01W,    67,  1,      5,      5,2,19990604,2055, 47.0018,-173.8163, 5688,   3499.7,2,   1.5150,2,  34.6673,1,  34.6658,2,    89.60,1,   127.11,2,   146.68,3,    37.57,3,     0.02,3,     2.68,2, -999.000,9, -999.000,9, -999.000,9,-999.0000,9, -999.000,9,   -999.0,9,   -999.0,9, -999.000,9,   -999.0,9,   -999.0,  -999.00,9,   -999.0,9,   -999.0,9,   1.2486,  27.7599
  49KA199905_1,  P01W,    67,  1,      4,      4,2,19990604,2055, 47.0018,-173.8163, 5688,   3993.1,2,   1.4791,2,  34.6777,1,  34.6813,2,   100.03,1,   143.56,2,   143.09,3,    36.18,3,     0.01,3,     2.57,2, -999.000,9, -999.000,9, -999.000,9,-999.0000,9, -999.000,9,   -999.0,9,   -999.0,9, -999.000,9,   -999.0,9,   -999.0,  -999.00,9,   -999.0,9,   -999.0,9,   1.1616,  27.7783
  49KA199905_1,  P01W,    67,  1,      3,      3,2,19990604,2055, 47.0018,-173.8163, 5688,   4501.1,2,   1.4941,2,  34.6826,1,  34.6860,2,   104.73,1,   150.46,2,   143.72,3,    35.82,3,     0.02,3,     2.55,2, -999.000,9, -999.000,9, -999.000,9,-999.0000,9, -999.000,9,   -999.0,9,   -999.0,9, -999.000,9,   -999.0,9,   -999.0,  -999.00,9,   -999.0,9,   -999.0,9,   1.1192,  27.7850
  49KA199905_1,  P01W,    67,  1,      2,      2,2,19990604,2055, 47.0018,-173.8163, 5688,   5000.3,2,   1.5453,2,  34.6839,1,  34.6879,2,   105.72,1,   151.18,2,   145.47,3,    35.82,3,     0.02,3,     2.53,2, -999.000,9, -999.000,9, -999.000,9,-999.0000,9, -999.000,9,   -999.0,9,   -999.0,9, -999.000,9,   -999.0,9,   -999.0,  -999.00,9,   -999.0,9,   -999.0,9,   1.1095,  27.7872
  49KA199905_1,  P01W,    67,  1,      1,      1,2,19990604,2055, 47.0018,-173.8163, 5688,   5822.8,2,   1.6459,2,  34.6838,1,  34.6889,2,   108.99,1,   152.52,2,   145.04,3,    35.70,3,     0.02,3,     2.52,2, -999.000,9, -999.000,9, -999.000,9,-999.0000,9, -999.000,9,   -999.0,9,   -999.0,9, -999.000,9,   -999.0,9,   -999.0,  -999.00,9,   -999.0,9,   -999.0,9,   1.1019,  27.7885