BOTTLE,20220921CCHSIOAMB
EXPOCODE,SECT_ID,STNNBR,CASTNO,SAMPNO,BTLNBR,BTLNBR_FLAG_W,DATE,TIME,LATITUDE,LONGITUDE,DEPTH,CTDPRS,CTDPRS_FLAG_W,CTDTMP,CTDTMP_FLAG_W,CTDSAL,CTDSAL_FLAG_W,SALNTY,SALNTY_FLAG_W,CTDOXY,CTDOXY_FLAG_W,OXYGEN,OXYGEN_FLAG_W,SILCAT,SILCAT_FLAG_W,NITRAT,NITRAT_FLAG_W,NITRIT,NITRIT_FLAG_W,PHSPHT,PHSPHT_FLAG_W,CFC-11,CFC-11_FLAG_W,CFC-12,CFC-12_FLAG_W,CFC113,CFC113_FLAG_W,SF6,SF6_FLAG_W,PH,PH_FLAG_W,ALKALI,ALKALI_FLAG_W,TCARBN,TCARBN_FLAG_W,DELC13,DELC13_FLAG_W,DELC14,DELC14_FLAG_W,C14ERR,CHLORA,CHLORA_FLAG_W,CU,CU_FLAG_W,NI,NI_FLAG_W,THETA,SIG0
,,,,,,,,,,,METERS,DBAR,,ITS-90,,PSS-78,,PSS-78,,UMOL/KG,,UMOL/KG,,UMOL/KG,,UMOL/KG,,UMOL/KG,,UMOL/KG,,PMOL/KG,,PMOL/KG,,PMOL/KG,,FMOL/KG,,,,UMOL/KG,,UMOL/KG,,/MILLE,,/MILLE,,/MILLE,UG/KG,,UMOL/L,,UMOL/L,,ITS-90,KG/M^3
  49KA199905_1,  P01W,    55,  1,     24,     24,2,19990601,0834, 47.0007, 172.7262, 5621,     10.9,2,   3.8673,2,  33.0123,1,  33.0738,4,   286.77,1,   330.28,4,    43.51,3,    23.63,3,     0.39,3,     1.89,3, -999.000,9, -999.000,9, -999.000,9,-999.0000,9, -999.000,9,   -999.0,9,   -999.0,9, -999.000,9,   -999.0,9,   -999.0,  -999.00,9,   -999.0,9,   -999.0,9,   3.8666,  26.2672
  49KA199905_1,  P01W,    55,  1,     23,     23,2,19990601,0834, 47.0007, 172.7262, 5621,     50.1,2,   3.6417,2,  33.0313,1,  33.0547,4,   285.94,1,   328.99,4,    44.42,3,    24.18,3,     0.42,3,     1.93,3, -999.000,9, -999.000,9, -999.000,9,-999.0000,9, -999.000,9,   -999.0,9,   -999.0,9, -999.000,9,   -999.0,9,   -999.0,  -999.00,9,   -999.0,9,   -999.0,9,   3.6385,  26.2741
  49KA199905_1,  P01W,    55,  1,     22,     22,2,19990601,0834, 47.0007, 172.7262, 5621,     99.4,2,   2.7339,2,  33.0908,1,  33.0958,3,   280.62,1,   320.20,3,    46.27,2,    26.00,2,     0.45,2,     2.04,2, -999.000,9, -999.000,9, -999.000,9,-999.0000,9, -999.000,9,   -999.0,9,   -999.0,9, -999.000,9,   -999.0,9,   -999.0,  -999.00,9,   -999.0,9,   -999.0,9,   2.7283,  26.3884
  49KA199905_1,  P01W,    55,  1,     21,     21,2,19990601,0834, 47.0007, 172.7262, 5621,    149.5,2,   3.0011,2,  33.4616,1,  33.4477,4,   145.91,1,   186.19,4,    66.09,3,    34.37,3,     0.05,3,     2.52,3, -999.000,9, -999.000,9, -999.000,9,-999.0000,9, -999.000,9,   -999.0,9,   -999.0,9, -999.000,9,   -999.0,9,   -999.0,  -999.00,9,   -999.0,9,   -999.0,9,   2.9922,  26.6467
  49KA199905_1,  P01W,    55,  1,     20,     20,2,19990601,0834, 47.0007, 172.7262, 5621,    199.7,2,   3.6627,2,  33.8078,1,  33.8174,3,    45.80,1,    70.02,3,    86.77,2,    41.96,2,     0.04,2,     2.97,2, -999.000,9, -999.000,9, -999.000,9,-999.0000,9, -999.000,9,   -999.0,9,   -999.0,9, -999.000,9,   -999.0,9,   -999.0,  -999.00,9,   -999.0,9,   -999.0,9,   3.6496,  26.8803
  49KA199905_1,  P01W,    55,  1,     19,     19,2,19990601,0834, 47.0007, 172.7262, 5621,    250.2,2,   3.4037,2,  33.8816,1,  33.8804,2,    28.65,1,    53.03,2,    96.55,2,    43.63,2,     0.04,2,     3.08,2, -999.000,9, -999.000,9, -999.000,9,-999.0000,9, -999.000,9,   -999.0,9,   -999.0,9, -999.000,9,   -999.0,9,   -999.0,  -999.00,9,   -999.0,9,   -999.0,9,   3.3877,  26.9557
  49KA199905_1,  P01W,    55,  1,     18,     18,2,19990601,0834, 47.0007, 172.7262, 5621,    298.7,2,   3.4372,2,  33.9550,1,  33.9564,2,    17.15,1,    39.60,2,   103.11,2,    44.52,2,     0.04,2,     3.13,2, -999.000,9, -999.000,9, -999.000,9,-999.0000,9, -999.000,9,   -999.0,9,   -999.0,9, -999.000,9,   -999.0,9,   -999.0,  -999.00,9,   -999.0,9,   -999.0,9,   3.4178,  27.0134
  49KA199905_1,  P01W,    55,  1,     17,     17,2,19990601,0834, 47.0007, 172.7262, 5621,    349.7,2,   3.4475,2,  34.0188,1,  34.0187,2,     9.99,1,    31.75,3,   108.79,3,    44.90,3,     0.04,3,     3.18,3, -999.000,9, -999.000,9, -999.000,9,-999.0000,9, -999.000,9,   -999.0,9,   -999.0,9, -999.000,9,   -999.0,9,   -999.0,  -999.00,9,   -999.0,9,   -999.0,9,   3.4246,  27.0624
  49KA199905_1,  P01W,    55,  1,     16,     16,2,19990601,0834, 47.0007, 172.7262, 5621,    397.4,2,   3.4353,2,  34.0832,1,  34.0832,2,     7.72,1,    31.07,2,   113.75,2,    44.59,2,     0.03,2,     3.14,2, -999.000,9, -999.000,9, -999.000,9,-999.0000,9, -999.000,9,   -999.0,9,   -999.0,9, -999.000,9,   -999.0,9,   -999.0,  -999.00,9,   -999.0,9,   -999.0,9,   3.4091,  27.1153
  49KA199905_1,  P01W,    55,  1,     15,     15,2,19990601,0834, 47.0007, 172.7262, 5621,    499.8,2,   3.3263,2,  34.1794,1,  34.1809,2,     2.29,1,    25.74,2,   123.79,2,    44.83,2,     0.03,2,     3.15,2, -999.000,9, -999.000,9, -999.000,9,-999.0000,9, -999.000,9,   -999.0,9,   -999.0,9, -999.000,9,   -999.0,9,   -999.0,  -999.00,9,   -999.0,9,   -999.0,9,   3.2933,  27.2041
  49KA199905_1,  P01W,    55,  1,     14,     14,2,19990601,0834, 47.0007, 172.7262, 5621,    600.5,2,   3.2065,2,  34.2520,1,  34.2540,2,     2.31,1,    25.63,2,   130.59,2,    44.68,2,     0.04,2,     3.14,2, -999.000,9, -999.000,9, -999.000,9,-999.0000,9, -999.000,9,   -999.0,9,   -999.0,9, -999.000,9,   -999.0,9,   -999.0,  -999.00,9,   -999.0,9,   -999.0,9,   3.1669,  27.2742
  49KA199905_1,  P01W,    55,  1,     13,     13,2,19990601,0834, 47.0007, 172.7262, 5621,    801.2,2,   2.8849,2,  34.3476,1,  34.3484,2,    -0.84,1,    23.42,2,   143.84,2,    44.99,2,     0.04,2,     3.15,2, -999.000,9, -999.000,9, -999.000,9,-999.0000,9, -999.000,9,   -999.0,9,   -999.0,9, -999.000,9,   -999.0,9,   -999.0,  -999.00,9,   -999.0,9,   -999.0,9,   2.8327,  27.3800
  49KA199905_1,  P01W,    55,  1,     12,     12,2,19990601,0834, 47.0007, 172.7262, 5621,    998.3,2,   2.6168,2,  34.4163,1,  34.4172,2,    -1.20,1,    24.92,3,   154.09,2,    44.96,2,     0.03,2,     3.13,2, -999.000,9, -999.000,9, -999.000,9,-999.0000,9, -999.000,9,   -999.0,9,   -999.0,9, -999.000,9,   -999.0,9,   -999.0,  -999.00,9,   -999.0,9,   -999.0,9,   2.5522,  27.4594
  49KA199905_1,  P01W,    55,  1,     11,     11,2,19990601,0834, 47.0007, 172.7262, 5621,   1249.9,2,   2.3380,2,  34.4930,1,  34.4939,2,    13.17,1,    41.41,2,   159.49,2,    43.94,2,     0.04,2,     3.10,2, -999.000,9, -999.000,9, -999.000,9,-999.0000,9, -999.000,9,   -999.0,9,   -999.0,9, -999.000,9,   -999.0,9,   -999.0,  -999.00,9,   -999.0,9,   -999.0,9,   2.2572,  27.5455
  49KA199905_1,  P01W,    55,  1,     10,     10,2,19990601,0834, 47.0007, 172.7262, 5621,   1500.6,2,   2.1455,2,  34.5360,1,  34.5372,2,    20.23,1,    50.12,2,   164.23,2,    43.43,2,     0.04,2,     3.05,2, -999.000,9, -999.000,9, -999.000,9,-999.0000,9, -999.000,9,   -999.0,9,   -999.0,9, -999.000,9,   -999.0,9,   -999.0,  -999.00,9,   -999.0,9,   -999.0,9,   2.0476,  27.5971
  49KA199905_1,  P01W,    55,  1,      9,      9,2,19990601,0834, 47.0007, 172.7262, 5621,   1749.0,2,   1.9728,2,  34.5740,1,  34.5764,2,    30.63,1,    61.88,2,   166.94,2,    42.62,2,     0.04,2,     3.00,2, -999.000,9, -999.000,9, -999.000,9,-999.0000,9, -999.000,9,   -999.0,9,   -999.0,9, -999.000,9,   -999.0,9,   -999.0,  -999.00,9,   -999.0,9,   -999.0,9,   1.8575,  27.6434
  49KA199905_1,  P01W,    55,  1,      8,      8,2,19990601,0834, 47.0007, 172.7262, 5621,   1999.2,2,   1.8575,2,  34.5987,1,  34.6000,2,    40.73,1,    74.51,2,   167.49,2,    41.94,2,     0.03,2,     2.94,2, -999.000,9, -999.000,9, -999.000,9,-999.0000,9, -999.000,9,   -999.0,9,   -999.0,9, -999.000,9,   -999.0,9,   -999.0,  -999.00,9,   -999.0,9,   -999.0,9,   1.7234,  27.6726
  49KA199905_1,  P01W,    55,  1,      7,      7,2,19990601,0834, 47.0007, 172.7262, 5621,   2502.6,2,   1.6459,2,  34.6394,1,  34.6418,2,    65.41,1,   104.22,2,   164.79,2,    40.02,2,     0.03,2,     2.80,2, -999.000,9, -999.000,9, -999.000,9,-999.0000,9, -999.000,9,   -999.0,9,   -999.0,9, -999.000,9,   -999.0,9,   -999.0,  -999.00,9,   -999.0,9,   -999.0,9,   1.4720,  27.7247
  49KA199905_1,  P01W,    55,  1,      6,      6,2,19990601,0834, 47.0007, 172.7262, 5621,   2998.2,2,   1.5357,2,  34.6608,1,  34.6618,2,    82.77,1,   125.67,2,   160.19,2,    38.62,2,     0.03,2,     2.69,2, -999.000,9, -999.000,9, -999.000,9,-999.0000,9, -999.000,9,   -999.0,9,   -999.0,9, -999.000,9,   -999.0,9,   -999.0,  -999.00,9,   -999.0,9,   -999.0,9,   1.3184,  27.7518
  49KA199905_1,  P01W,    55,  1,      5,      5,2,19990601,0834, 47.0007, 172.7262, 5621,   3498.6,2,   1.4744,2,  34.6739,1,  34.6752,2,    95.61,1,   139.87,2,   155.90,2,    37.61,2,     0.03,2,     2.61,2, -999.000,9, -999.000,9, -999.000,9,-999.0000,9, -999.000,9,   -999.0,9,   -999.0,9, -999.000,9,   -999.0,9,   -999.0,  -999.00,9,   -999.0,9,   -999.0,9,   1.2091,  27.7702
  49KA199905_1,  P01W,    55,  1,      4,      4,2,19990601,0834, 47.0007, 172.7262, 5621,   3999.5,2,   1.4578,2,  34.6815,1,  34.6830,2,   103.10,1,   148.24,2,   153.50,2,    37.15,2,     0.03,2,     2.56,2, -999.000,9, -999.000,9, -999.000,9,-999.0000,9, -999.000,9,   -999.0,9,   -999.0,9, -999.000,9,   -999.0,9,   -999.0,  -999.00,9,   -999.0,9,   -999.0,9,   1.1401,  27.7812
  49KA199905_1,  P01W,    55,  1,      3,      3,2,19990601,0834, 47.0007, 172.7262, 5621,   4500.4,2,   1.4822,2,  34.6850,1,  34.6878,2,   106.06,1,   153.70,2,   154.68,2,    36.85,2,     0.03,2,     2.53,2, -999.000,9, -999.000,9, -999.000,9,-999.0000,9, -999.000,9,   -999.0,9,   -999.0,9, -999.000,9,   -999.0,9,   -999.0,  -999.00,9,   -999.0,9,   -999.0,9,   1.1077,  27.7872
  49KA199905_1,  P01W,    55,  1,      2,      2,2,19990601,0834, 47.0007, 172.7262, 5621,   4999.6,2,   1.5332,2,  34.6855,1,  34.6891,2,   107.45,1,   155.78,2,   155.23,2,    36.76,2,     0.03,2,     2.52,2, -999.000,9, -999.000,9, -999.000,9,-999.0000,9, -999.000,9,   -999.0,9,   -999.0,9, -999.000,9,   -999.0,9,   -999.0,  -999.00,9,   -999.0,9,   -999.0,9,   1.0979,  27.7890
  49KA199905_1,  P01W,    55,  1,      1,      1,2,19990601,0834, 47.0007, 172.7262, 5621,   5724.2,2,   1.6243,2,  34.6851,1,  34.6894,2,   109.32,1,   156.64,2,   154.40,2,    36.67,2,     0.04,2,     2.52,2, -999.000,9, -999.000,9, -999.000,9,-999.0000,9, -999.000,9,   -999.0,9,   -999.0,9, -999.000,9,   -999.0,9,   -999.0,  -999.00,9,   -999.0,9,   -999.0,9,   1.0941,  27.7894
  49KA199905_1,  P01W,    56,  1,     24,     24,2,19990601,1927, 47.0098, 173.8383, 5708,     10.8,2,   5.4108,2,  33.0703,1,  33.0713,2,   276.65,1,   317.35,2,    24.39,2,    14.49,2,     0.26,2,     1.31,2,    5.023,2,    2.599,2,    0.493,2,   0.2657,2,    7.742,2,   2228.4,2,   2073.4,2, -999.000,1,     -6.0,2,      3.2,     0.57,2,   -999.0,9,   -999.0,9,   5.4100,  26.0995
  49KA199905_1,  P01W,    56,  1,     23,     23,2,19990601,1927, 47.0098, 173.8383, 5708,     53.3,2,   5.3580,2,  33.0734,1,  33.0750,2,   277.66,1,   317.22,2,    24.42,2,    14.62,2,     0.26,2,     1.32,2,    5.057,2,    2.560,2,    0.365,2,   0.3111,2,    7.712,2,   2230.1,2,   2075.3,2, -999.000,1,     -2.4,2,      3.3,     0.51,2,   -999.0,9,   -999.0,9,   5.3539,  26.1090
  49KA199905_1,  P01W,    56,  1,     22,     22,2,19990601,1927, 47.0098, 173.8383, 5708,     99.8,2,   4.0877,2,  33.2367,1,  33.2441,3,   261.92,1,   299.02,3,    31.73,2,    19.56,2,     0.04,2,     1.58,2,    5.055,2,    2.555,2,    0.379,2,   0.2354,2,    7.681,2,   2243.2,2,   2110.3,2, -999.000,1,    -15.9,2,      3.2,     0.03,2,   -999.0,9,   -999.0,9,   4.0810,  26.3813
  49KA199905_1,  P01W,    56,  1,     21,     21,2,19990601,1927, 47.0098, 173.8383, 5708,    152.0,2,   3.7979,2,  33.5489,1,  33.5686,4,   173.92,1,   203.57,4,    51.49,2,    27.68,2,     0.04,2,     2.09,2,    3.920,2,    2.003,2,    0.256,2,   0.2627,2,    7.530,2,   2266.6,2,   2191.1,2, -999.000,1,    -54.1,2,      3.9,     0.00,2,   -999.0,9,   -999.0,9,   3.7879,  26.6687
  49KA199905_1,  P01W,    56,  1,     20,     20,2,19990601,1927, 47.0098, 173.8383, 5708,    200.2,2,   3.7318,2,  33.6890,1,  33.6926,2,   119.03,1,   145.07,2,    66.19,2,    32.98,2,     0.03,2,     2.44,2,    3.103,2,    1.572,2,    0.197,2,   0.2405,2,    7.437,2,   2278.6,2,   2149.0,2, -999.000,1,    -73.1,2,      3.0,     0.00,2,   -999.0,9,   -999.0,9,   3.7186,  26.7742
  49KA199905_1,  P01W,    56,  1,     19,     19,2,19990601,1927, 47.0098, 173.8383, 5708,    251.4,2,   3.5453,2,  33.7782,1,  33.7775,2,    78.86,1,   105.09,2,    78.65,2,    37.12,2,     0.03,2,     2.70,2,    2.525,2,    1.246,2,    0.163,2,   0.1211,2,    7.373,2,   2287.3,2,   2279.3,2, -999.000,1,    -90.9,2,      2.9,     0.00,2,   -999.0,9,   -999.0,9,   3.5290,  26.8602
  49KA199905_1,  P01W,    56,  1,     18,     18,2,19990601,1927, 47.0098, 173.8383, 5708,    301.4,2,   3.7091,2,  33.9036,1,  33.9012,2,    56.37,1,    80.80,2,    86.34,2,    38.80,2,     0.03,2,     2.79,2,    1.933,2,    0.951,2,    0.130,2,   0.0085,2,    7.354,2,   2300.1,2,   2295.9,2, -999.000,1,   -103.2,2,      2.9,     0.00,2,   -999.0,9,   -999.0,9,   3.6889,  26.9432
  49KA199905_1,  P01W,    56,  1,     17,     17,2,19990601,1927, 47.0098, 173.8383, 5708,    350.7,2,   3.5818,2,  33.9620,1,  33.9618,2,    34.27,1,    57.84,2,    95.32,2,    41.01,2,     0.03,2,     2.93,2,    1.501,2,    0.768,2,    0.105,2,   0.0089,2,    7.320,2,   2306.9,2,   2317.5,2, -999.000,1,   -122.3,2,      2.6,  -999.00,9,   -999.0,9,   -999.0,9,   3.5585,  27.0042
  49KA199905_1,  P01W,    56,  1,     16,     16,2,19990601,1927, 47.0098, 173.8383, 5708,    400.3,2,   3.5556,2,  34.0194,1,  34.0206,3,    23.18,1,    45.69,3,   101.51,2,    41.85,2,     0.03,2,     2.98,2,    1.173,2,    0.614,2,    0.068,2,   0.0017,2,    7.315,2,   2316.4,2,   2325.8,2, -999.000,1,   -124.6,2,      2.8,  -999.00,9,   -999.0,9,   -999.0,9,   3.5290,  27.0539
  49KA199905_1,  P01W,    56,  1,     15,     15,2,19990601,1927, 47.0098, 173.8383, 5708,    501.3,2,   3.6881,2,  34.1461,1,  34.1476,2,    21.17,1,    44.35,2,   109.11,3,    41.25,3,     0.02,3,     2.93,3,    0.674,2,    0.361,2,    0.034,2,   0.0000,2,    7.340,3,   2332.0,2,   2336.0,2, -999.000,1,   -154.3,2,      2.7,  -999.00,9,   -999.0,9,   -999.0,9,   3.6536,  27.1429
  49KA199905_1,  P01W,    56,  1,     14,     14,2,19990601,1927, 47.0098, 173.8383, 5708,    601.3,2,   3.4499,2,  34.2099,1,  34.2098,2,    12.32,1,    35.14,2,   117.63,2,    42.11,2,     0.03,2,     3.01,2,    0.468,2,    0.244,2,    0.018,2,-999.0000,9,    7.333,3,   2346.9,2,   2348.3,2, -999.000,1,   -159.7,2,      2.7,  -999.00,9,   -999.0,9,   -999.0,9,   3.4091,  27.2162
  49KA199905_1,  P01W,    56,  1,     13,     13,2,19990601,1927, 47.0098, 173.8383, 5708,    800.7,2,   3.0679,2,  34.3241,1,  34.3253,2,     6.92,1,    30.35,2,   132.75,2,    42.64,2,     0.03,2,     3.05,2,    0.205,2,    0.095,2,    0.014,2,-999.0000,9,    7.335,3,   2365.6,2,   2362.0,2, -999.000,1,   -194.7,2,      2.6,  -999.00,9,   -999.0,9,   -999.0,9,   3.0146,  27.3452
  49KA199905_1,  P01W,    56,  1,     12,     12,2,19990601,1927, 47.0098, 173.8383, 5708,   1002.2,2,   2.7479,2,  34.3961,1,  34.3954,2,     3.34,1,    27.86,3,   144.01,2,    43.06,2,     0.03,2,     3.05,2,    0.123,2,    0.043,2,    0.008,2,   0.0000,2,    7.343,2,   2380.0,2,   2379.4,2, -999.000,1,   -210.8,2,      2.5,  -999.00,9,   -999.0,9,   -999.0,9,   2.6821,  27.4308
  49KA199905_1,  P01W,    56,  1,     11,     11,2,19990601,1927, 47.0098, 173.8383, 5708,   1251.3,2,   2.4492,2,  34.4640,1,  34.4643,2,     8.25,1,    34.26,2,   153.26,2,    42.85,2,     0.02,2,     3.04,2,    0.075,2,    0.029,2,    0.003,2,-999.0000,9,    7.360,2,   2393.7,2,   2386.8,2, -999.000,1,   -218.9,2,      2.5,  -999.00,9,   -999.0,9,   -999.0,9,   2.3672,  27.5127
  49KA199905_1,  P01W,    56,  1,     10,     10,2,19990601,1927, 47.0098, 173.8383, 5708,   1501.9,2,   2.2206,2,  34.5194,1,  34.5193,2,    16.50,1,    44.40,2,   158.71,2,    42.29,2,     0.03,2,     2.99,2,    0.047,2,    0.012,2,    0.001,2,-999.0000,9,    7.385,2,   2400.7,2,   2381.4,2, -999.000,1,   -230.5,2,      2.7,  -999.00,9,   -999.0,9,   -999.0,9,   2.1217,  27.5768
  49KA199905_1,  P01W,    56,  1,      9,      9,2,19990601,1927, 47.0098, 173.8383, 5708,   1751.7,2,   2.0411,2,  34.5624,1,-999.0000,9,    25.76,1,  -999.00,9,  -999.00,9,  -999.00,9,  -999.00,9,  -999.00,9, -999.000,9, -999.000,9, -999.000,9,-999.0000,9, -999.000,9,   -999.0,9,   -999.0,9, -999.000,1,   -999.0,9,   -999.0,  -999.00,9,   -999.0,9,   -999.0,9,-999.0000,-999.0000
  49KA199905_1,  P01W,    56,  1,      8,      8,2,19990601,1927, 47.0098, 173.8383, 5708,   2003.3,2,   1.8942,2,  34.5934,1,  34.5893,3,    38.19,1,    67.89,3,   162.89,2,    40.91,2,     0.03,2,     2.87,2,    0.000,2,    0.000,2,    0.001,2,-999.0000,9,    7.426,2,   2411.4,2,   2374.9,2, -999.000,1,   -230.9,2,      2.5,  -999.00,9,   -999.0,9,   -999.0,9,   1.7593,  27.6613
  49KA199905_1,  P01W,    56,  1,      7,      7,2,19990601,1927, 47.0098, 173.8383, 5708,   2501.2,2,   1.6829,2,  34.6353,1,  34.6350,2,    63.13,1,    99.75,2,   160.15,2,    38.96,2,     0.03,2,     2.73,2,    0.000,2,    0.000,2,    0.001,2,-999.0000,9,    7.479,2,   2417.0,2,   2358.8,2, -999.000,1,   -233.5,2,      2.5,  -999.00,9,   -999.0,9,   -999.0,9,   1.5085,  27.7166
  49KA199905_1,  P01W,    56,  1,      6,      6,2,19990601,1927, 47.0098, 173.8383, 5708,   3000.6,2,   1.5662,2,  34.6573,1,  34.6580,2,    79.97,1,   119.17,2,   158.90,2,    37.75,2,     0.02,2,     2.61,2,    0.000,2,    0.000,2,    0.000,2,-999.0000,9,    7.515,2,   2417.0,2,   2344.0,2, -999.000,1,   -234.3,2,      2.7,  -999.00,9,   -999.0,9,   -999.0,9,   1.3480,  27.7466
  49KA199905_1,  P01W,    56,  1,      5,      5,2,19990601,1927, 47.0098, 173.8383, 5708,   3500.5,2,   1.4953,2,  34.6723,1,  34.6674,4,    93.60,1,   131.20,4,   154.20,3,    37.06,4,     0.02,4,     2.58,4,    0.002,4,    0.000,4,    0.001,4,-999.0000,9,    7.532,4,   2417.0,4,   2337.6,4, -999.000,1,   -229.8,2,      2.5,  -999.00,9,   -999.0,9,   -999.0,9,   1.2293,  27.7625
  49KA199905_1,  P01W,    56,  1,      4,      4,2,19990601,1927, 47.0098, 173.8383, 5708,   3999.7,2,   1.4670,2,  34.6815,1,  34.6823,2,   102.64,1,   147.45,2,   150.26,2,    35.90,2,     0.03,2,     2.50,2,    0.000,2,    0.000,2,    0.000,2,-999.0000,9,    7.545,2,   2417.0,2,   2331.6,2, -999.000,1,   -223.3,2,      2.3,  -999.00,9,   -999.0,9,   -999.0,9,   1.1491,  27.7800
  49KA199905_1,  P01W,    56,  1,      3,      3,2,19990601,1927, 47.0098, 173.8383, 5708,   4500.6,2,   1.4827,2,  34.6860,1,  34.6865,2,   107.62,1,   152.91,2,   149.70,2,    35.48,2,     0.03,2,     2.47,2,    0.002,2,    0.003,2,    0.000,2,-999.0000,9,    7.567,2,   2417.9,2,   2324.7,2, -999.000,1,   -214.1,2,      2.7,  -999.00,9,   -999.0,9,   -999.0,9,   1.1082,  27.7862
  49KA199905_1,  P01W,    56,  1,      2,      2,2,19990601,1927, 47.0098, 173.8383, 5708,   4999.1,2,   1.5323,2,  34.6870,1,  34.6879,2,   108.68,1,   155.25,2,   150.59,2,    35.44,2,     0.03,2,     2.46,2,    0.003,2,    0.000,2,    0.003,2,-999.0000,9,    7.566,2,   2418.8,2,   2325.8,2, -999.000,1,   -213.4,2,      2.4,  -999.00,9,   -999.0,9,   -999.0,9,   1.0971,  27.7880
  49KA199905_1,  P01W,    56,  1,      1,      1,2,19990601,1927, 47.0098, 173.8383, 5708,   5852.1,2,   1.6401,2,  34.6865,1,  34.6845,3,   110.83,1,   152.99,3,   151.40,2,    35.98,2,     0.03,2,     2.50,2,    0.000,2,    0.003,2,    0.000,2,-999.0000,9,    7.563,2,   2418.8,2,   2330.5,2, -999.000,1,   -220.5,2,      2.4,  -999.00,9,   -999.0,9,   -999.0,9,   1.0925,  27.7856