BOTTLE,20220921CCHSIOAMB
EXPOCODE,SECT_ID,STNNBR,CASTNO,SAMPNO,BTLNBR,BTLNBR_FLAG_W,DATE,TIME,LATITUDE,LONGITUDE,DEPTH,CTDPRS,CTDPRS_FLAG_W,CTDTMP,CTDTMP_FLAG_W,CTDSAL,CTDSAL_FLAG_W,SALNTY,SALNTY_FLAG_W,CTDOXY,CTDOXY_FLAG_W,OXYGEN,OXYGEN_FLAG_W,SILCAT,SILCAT_FLAG_W,NITRAT,NITRAT_FLAG_W,NITRIT,NITRIT_FLAG_W,PHSPHT,PHSPHT_FLAG_W,CFC-11,CFC-11_FLAG_W,CFC-12,CFC-12_FLAG_W,CFC113,CFC113_FLAG_W,SF6,SF6_FLAG_W,PH,PH_FLAG_W,ALKALI,ALKALI_FLAG_W,TCARBN,TCARBN_FLAG_W,DELC13,DELC13_FLAG_W,DELC14,DELC14_FLAG_W,C14ERR,CHLORA,CHLORA_FLAG_W,CU,CU_FLAG_W,NI,NI_FLAG_W,THETA,SIG0
,,,,,,,,,,,METERS,DBAR,,ITS-90,,PSS-78,,PSS-78,,UMOL/KG,,UMOL/KG,,UMOL/KG,,UMOL/KG,,UMOL/KG,,UMOL/KG,,PMOL/KG,,PMOL/KG,,PMOL/KG,,FMOL/KG,,,,UMOL/KG,,UMOL/KG,,/MILLE,,/MILLE,,/MILLE,UG/KG,,UMOL/L,,UMOL/L,,ITS-90,KG/M^3
  49KA199905_1,  P01W,    33,  1,     24,     24,2,19990527,0324, 44.5708, 155.7962, 5114,     11.5,2,   3.5635,2,  32.9533,1,  32.9594,2,   304.93,1,   352.49,2,  -999.00,9,  -999.00,9,  -999.00,9,  -999.00,9, -999.000,9, -999.000,9, -999.000,9,-999.0000,9, -999.000,9,   -999.0,9,   -999.0,9, -999.000,9,   -999.0,9,   -999.0,  -999.00,9,   -999.0,9,   -999.0,9,   3.5628,  26.2054
  49KA199905_1,  P01W,    33,  1,     23,     23,2,19990527,0324, 44.5708, 155.7962, 5114,     49.9,2,   1.5509,2,  33.0556,1,  33.0595,2,   292.43,1,   338.63,2,    44.47,2,    23.88,2,     0.27,2,     1.96,2, -999.000,9, -999.000,9, -999.000,9,-999.0000,9, -999.000,9,   -999.0,9,   -999.0,9, -999.000,9,   -999.0,9,   -999.0,  -999.00,9,   -999.0,1,   -999.0,1,   1.5486,  26.4495
  49KA199905_1,  P01W,    33,  1,     22,     22,2,19990527,0324, 44.5708, 155.7962, 5114,    100.5,2,   0.8550,2,  33.1741,1,  33.1893,4,   279.27,1,   314.93,4,    50.18,3,    26.79,3,     0.35,3,     2.12,3, -999.000,9, -999.000,9, -999.000,9,-999.0000,9, -999.000,9,   -999.0,9,   -999.0,9, -999.000,9,   -999.0,9,   -999.0,  -999.00,9,   -999.0,1,   -999.0,1,   0.8509,  26.5986
  49KA199905_1,  P01W,    33,  1,     21,     21,2,19990527,0324, 44.5708, 155.7962, 5114,    150.8,2,   3.2457,2,  33.6721,1,  33.6716,2,    74.54,1,   103.09,2,    80.71,2,    38.62,2,     0.02,2,     2.79,2, -999.000,9, -999.000,9, -999.000,9,-999.0000,9, -999.000,9,   -999.0,9,   -999.0,9, -999.000,9,   -999.0,9,   -999.0,  -999.00,9,   -999.0,9,   -999.0,9,   3.2364,  26.8033
  49KA199905_1,  P01W,    33,  1,     20,     20,2,19990527,0324, 44.5708, 155.7962, 5114,    202.4,2,   3.0964,2,  33.8087,1,  33.8052,2,    50.40,1,    77.80,2,    90.91,2,    40.19,2,     0.01,2,     2.92,2, -999.000,9, -999.000,9, -999.000,9,-999.0000,9, -999.000,9,   -999.0,9,   -999.0,9, -999.000,9,   -999.0,9,   -999.0,  -999.00,9,   -999.0,9,   -999.0,9,   3.0840,  26.9238
  49KA199905_1,  P01W,    33,  1,     19,     19,2,19990527,0324, 44.5708, 155.7962, 5114,    249.8,2,   3.2605,2,  33.9201,1,  33.9215,2,    25.05,1,    48.40,2,    99.91,2,    42.36,2,     0.00,2,     3.03,2, -999.000,9, -999.000,9, -999.000,9,-999.0000,9, -999.000,9,   -999.0,9,   -999.0,9, -999.000,9,   -999.0,9,   -999.0,  -999.00,9,   -999.0,1,   -999.0,1,   3.2448,  27.0018
  49KA199905_1,  P01W,    33,  1,     18,     18,2,19990527,0324, 44.5708, 155.7962, 5114,    299.9,2,   3.2726,2,  34.0061,1,  34.0058,2,    13.93,1,    34.36,2,   107.42,2,    43.02,2,     0.00,2,     3.07,2, -999.000,9, -999.000,9, -999.000,9,-999.0000,9, -999.000,9,   -999.0,9,   -999.0,9, -999.000,9,   -999.0,9,   -999.0,  -999.00,9,   -999.0,9,   -999.0,9,   3.2535,  27.0682
  49KA199905_1,  P01W,    33,  1,     17,     17,2,19990527,0324, 44.5708, 155.7962, 5114,    349.2,2,   3.2346,2,  34.0546,1,  34.0533,2,    11.74,1,    34.81,3,   111.98,2,    42.74,2,     0.00,2,     3.06,2, -999.000,9, -999.000,9, -999.000,9,-999.0000,9, -999.000,9,   -999.0,9,   -999.0,9, -999.000,9,   -999.0,9,   -999.0,  -999.00,9,   -999.0,9,   -999.0,9,   3.2123,  27.1099
  49KA199905_1,  P01W,    33,  1,     16,     16,2,19990527,0324, 44.5708, 155.7962, 5114,    400.9,2,   3.2545,2,  34.1123,1,  34.1122,2,     6.00,1,    28.27,2,   116.93,2,    43.13,2,     0.00,2,     3.07,2, -999.000,9, -999.000,9, -999.000,9,-999.0000,9, -999.000,9,   -999.0,9,   -999.0,9, -999.000,9,   -999.0,9,   -999.0,  -999.00,9,   -999.0,9,   -999.0,9,   3.2286,  27.1554
  49KA199905_1,  P01W,    33,  1,     15,     15,2,19990527,0324, 44.5708, 155.7962, 5114,    499.5,2,   3.1043,2,  34.1888,1,  34.1888,2,     4.22,1,    26.75,2,   125.88,2,    43.17,2,     0.00,2,     3.08,2, -999.000,9, -999.000,9, -999.000,9,-999.0000,9, -999.000,9,   -999.0,9,   -999.0,9, -999.000,9,   -999.0,9,   -999.0,  -999.00,9,   -999.0,1,   -999.0,1,   3.0722,  27.2309
  49KA199905_1,  P01W,    33,  1,     14,     14,2,19990527,0324, 44.5708, 155.7962, 5114,    599.8,2,   2.9766,2,  34.2498,1,  34.2489,2,     2.92,1,    25.33,2,   133.03,2,    43.17,2,     0.00,2,     3.09,2, -999.000,9, -999.000,9, -999.000,9,-999.0000,9, -999.000,9,   -999.0,9,   -999.0,9, -999.000,9,   -999.0,9,   -999.0,  -999.00,9,   -999.0,9,   -999.0,9,   2.9381,  27.2911
  49KA199905_1,  P01W,    33,  1,     13,     13,2,19990527,0324, 44.5708, 155.7962, 5114,    800.3,2,   2.7502,2,  34.3618,1,  34.3605,2,     1.37,1,    24.15,2,   144.84,2,    43.45,2,     0.00,2,     3.09,2, -999.000,9, -999.000,9, -999.000,9,-999.0000,9, -999.000,9,   -999.0,9,   -999.0,9, -999.000,9,   -999.0,9,   -999.0,  -999.00,9,   -999.0,9,   -999.0,9,   2.6990,  27.4014
  49KA199905_1,  P01W,    33,  1,     12,     12,2,19990527,0324, 44.5708, 155.7962, 5114,   1000.3,2,   2.5002,2,  34.4298,1,  34.4307,2,     7.98,1,    32.31,3,   151.61,2,    42.66,2,     0.00,2,     3.04,2, -999.000,9, -999.000,9, -999.000,9,-999.0000,9, -999.000,9,   -999.0,9,   -999.0,9, -999.000,9,   -999.0,9,   -999.0,  -999.00,9,   -999.0,1,   -999.0,1,   2.4363,  27.4800
  49KA199905_1,  P01W,    33,  1,     11,     11,2,19990527,0324, 44.5708, 155.7962, 5114,   1248.4,2,   2.2812,2,  34.4969,1,  34.4985,2,    17.12,1,    43.44,2,   156.33,2,    42.19,2,     0.00,2,     3.00,2, -999.000,9, -999.000,9, -999.000,9,-999.0000,9, -999.000,9,   -999.0,9,   -999.0,9, -999.000,9,   -999.0,9,   -999.0,  -999.00,9,   -999.0,9,   -999.0,9,   2.2010,  27.5538
  49KA199905_1,  P01W,    33,  1,     10,     10,2,19990527,0324, 44.5708, 155.7962, 5114,   1497.9,2,   2.0994,2,  34.5403,1,  34.5411,2,    26.68,1,    56.09,2,   159.71,2,    41.37,2,     0.00,2,     2.95,2, -999.000,9, -999.000,9, -999.000,9,-999.0000,9, -999.000,9,   -999.0,9,   -999.0,9, -999.000,9,   -999.0,9,   -999.0,  -999.00,9,   -999.0,1,   -999.0,1,   2.0022,  27.6038
  49KA199905_1,  P01W,    33,  1,      9,      9,2,19990527,0324, 44.5708, 155.7962, 5114,   1750.1,2,   1.9374,2,  34.5807,1,  34.5822,2,    35.34,1,    66.74,2,   163.08,2,    40.80,2,     0.00,2,     2.90,2, -999.000,9, -999.000,9, -999.000,9,-999.0000,9, -999.000,9,   -999.0,9,   -999.0,9, -999.000,9,   -999.0,9,   -999.0,  -999.00,9,   -999.0,9,   -999.0,9,   1.8225,  27.6508
  49KA199905_1,  P01W,    33,  1,      8,      8,2,19990527,0324, 44.5708, 155.7962, 5114,   1998.9,2,   1.8163,2,  34.6097,1,-999.0000,9,    47.99,1,  -999.00,9,  -999.00,9,  -999.00,9,  -999.00,9,  -999.00,9, -999.000,9, -999.000,9, -999.000,9,-999.0000,9, -999.000,9,   -999.0,9,   -999.0,9, -999.000,9,   -999.0,9,   -999.0,  -999.00,9,   -999.0,9,   -999.0,9,-999.0000,-999.0000
  49KA199905_1,  P01W,    33,  1,      7,      7,2,19990527,0324, 44.5708, 155.7962, 5114,   2499.4,2,   1.6255,2,  34.6444,1,  34.6464,2,    72.07,1,   109.38,3,   157.31,2,    38.18,2,     0.00,2,     2.68,2, -999.000,9, -999.000,9, -999.000,9,-999.0000,9, -999.000,9,   -999.0,9,   -999.0,9, -999.000,9,   -999.0,9,   -999.0,  -999.00,9,   -999.0,9,   -999.0,9,   1.4523,  27.7299
  49KA199905_1,  P01W,    33,  1,      6,      6,2,19990527,0324, 44.5708, 155.7962, 5114,   2998.1,2,   1.5180,2,  34.6639,1,  34.6660,2,    88.12,1,   132.56,2,   152.93,2,    36.86,2,     0.00,2,     2.59,2, -999.000,9, -999.000,9, -999.000,9,-999.0000,9, -999.000,9,   -999.0,9,   -999.0,9, -999.000,9,   -999.0,9,   -999.0,  -999.00,9,   -999.0,1,   -999.0,1,   1.3011,  27.7564
  49KA199905_1,  P01W,    33,  1,      5,      5,2,19990527,0324, 44.5708, 155.7962, 5114,   3499.8,2,   1.4619,2,  34.6754,1,  34.6762,2,    99.12,1,   145.56,2,   149.69,2,    36.09,2,     0.00,2,     2.53,2, -999.000,9, -999.000,9, -999.000,9,-999.0000,9, -999.000,9,   -999.0,9,   -999.0,9, -999.000,9,   -999.0,9,   -999.0,  -999.00,9,   -999.0,9,   -999.0,9,   1.1968,  27.7718
  49KA199905_1,  P01W,    33,  1,      4,      4,2,19990527,0324, 44.5708, 155.7962, 5114,   4001.4,2,   1.4487,2,  34.6819,1,  34.6841,2,   106.53,1,  -999.00,9,   147.18,2,    35.50,2,     0.00,2,     2.49,2, -999.000,9, -999.000,9, -999.000,9,-999.0000,9, -999.000,9,   -999.0,9,   -999.0,9, -999.000,9,   -999.0,9,   -999.0,  -999.00,9,   -999.0,1,   -999.0,1,   1.1310,  27.7827
  49KA199905_1,  P01W,    33,  1,      3,      3,2,19990527,0324, 44.5708, 155.7962, 5114,   4500.5,2,   1.4695,2,  34.6852,1,  34.6884,2,   110.93,1,   158.42,2,   146.30,2,    35.21,2,     0.00,2,     2.45,2, -999.000,9, -999.000,9, -999.000,9,-999.0000,9, -999.000,9,   -999.0,9,   -999.0,9, -999.000,9,   -999.0,9,   -999.0,  -999.00,9,   -999.0,9,   -999.0,9,   1.0954,  27.7886
  49KA199905_1,  P01W,    33,  1,      2,      2,2,19990527,0324, 44.5708, 155.7962, 5114,   5000.4,2,   1.5139,2,  34.6865,1,  34.6905,2,   113.87,1,   166.54,4,   145.99,2,    34.95,2,     0.00,2,     2.44,2, -999.000,9, -999.000,9, -999.000,9,-999.0000,9, -999.000,9,   -999.0,9,   -999.0,9, -999.000,9,   -999.0,9,   -999.0,  -999.00,9,   -999.0,1,   -999.0,1,   1.0791,  27.7913
  49KA199905_1,  P01W,    33,  1,      1,      1,2,19990527,0324, 44.5708, 155.7962, 5114,   5184.6,2,   1.5344,2,  34.6867,1,  34.6905,2,   115.21,1,   162.96,2,   145.98,2,    35.00,2,     0.00,2,     2.45,2, -999.000,9, -999.000,9, -999.000,9,-999.0000,9, -999.000,9,   -999.0,9,   -999.0,9, -999.000,9,   -999.0,9,   -999.0,  -999.00,9,   -999.0,9,   -999.0,9,   1.0763,  27.7915
  49KA199905_1,  P01W,    34,  1,     24,     24,2,19990527,1012, 45.0632, 156.6258, 4777,     10.2,2,   3.2300,2,  32.9104,1,  32.9120,2,   288.16,1,   335.67,2,    40.06,2,    21.46,2,     0.24,2,     1.82,2,    5.678,2,    2.915,2,    0.479,2,   0.4090,2,    7.661,2,   2221.8,2,   2100.0,2, -999.000,1,   -999.0,9,   -999.0,     0.52,2,   -999.0,9,   -999.0,9,   3.2294,  26.1982
  49KA199905_1,  P01W,    34,  1,     23,     23,2,19990527,1012, 45.0632, 156.6258, 4777,     51.3,2,   1.7437,2,  33.0020,1,  33.0068,2,   288.90,1,   335.23,2,    42.07,2,    23.42,2,     0.34,2,     1.94,2,    5.824,2,    2.950,2,    0.604,2,   0.4405,2,    7.622,2,   2226.9,2,   2122.3,2, -999.000,1,   -999.0,9,   -999.0,     0.26,2,   -999.0,9,   -999.0,9,   1.7413,  26.3937
  49KA199905_1,  P01W,    34,  1,     22,     22,2,19990527,1012, 45.0632, 156.6258, 4777,    100.6,2,   1.2389,2,  33.1216,1,  33.1235,2,   282.23,1,   324.39,2,    47.89,2,    26.23,2,     0.37,2,     2.11,2,    5.804,2,    2.927,2,    0.550,2,   0.4958,2,    7.562,2,   2236.7,2,   2141.5,2, -999.000,1,   -999.0,9,   -999.0,     0.11,2,   -999.0,9,   -999.0,9,   1.2345,  26.5218
  49KA199905_1,  P01W,    34,  1,     21,     21,2,19990527,1012, 45.0632, 156.6258, 4777,    150.0,2,   2.5801,2,  33.5320,1,  33.5439,4,   118.87,1,   147.04,4,    74.03,3,    37.22,3,     0.02,3,     2.75,3,    3.431,4,    1.729,4,    0.281,4,   0.3456,4,    7.367,4,   2268.6,4,   2255.4,4, -999.000,1,   -999.0,9,   -999.0,     0.01,2,   -999.0,9,   -999.0,9,   2.5717,  26.7596
  49KA199905_1,  P01W,    34,  1,     20,     20,2,19990527,1012, 45.0632, 156.6258, 4777,    201.2,2,   3.4728,2,  33.9408,1,  33.9406,2,    -0.08,1,    21.93,2,   101.33,2,    45.43,2,     0.02,2,     3.25,2,    1.463,2,    0.678,2,    0.086,2,   0.0811,2,    7.235,2,   2301.8,2,   2345.7,2, -999.000,1,   -999.0,9,   -999.0,     0.00,2,   -999.0,9,   -999.0,9,   3.4598,  26.9968
  49KA199905_1,  P01W,    34,  1,     19,     19,2,19990527,1012, 45.0632, 156.6258, 4777,    250.9,2,   3.4792,2,  34.0125,1,  34.0165,2,    -4.80,1,    16.00,2,   107.67,2,    45.20,2,     0.01,2,     3.24,2,    0.637,2,    0.281,2,    0.041,2,   0.0557,2,    7.239,2,   2311.1,2,   2349.0,2, -999.000,1,   -999.0,9,   -999.0,     0.00,2,   -999.0,9,   -999.0,9,   3.4629,  27.0570
  49KA199905_1,  P01W,    34,  1,     18,     18,2,19990527,1012, 45.0632, 156.6258, 4777,    300.9,2,   3.4461,2,  34.0824,1,  34.0818,2,    -6.76,1,    14.08,2,   113.54,2,    45.03,2,     0.01,2,     3.22,2,    0.593,2,    0.264,2,    0.029,2,   0.0000,2,    7.251,2,   2322.7,2,   2358.4,2, -999.000,1,   -999.0,9,   -999.0,     0.00,2,   -999.0,9,   -999.0,9,   3.4265,  27.1125
  49KA199905_1,  P01W,    34,  1,     17,     17,2,19990527,1012, 45.0632, 156.6258, 4777,    350.3,2,   3.3850,2,  34.1307,1,  34.1308,2,    -6.10,1,    16.00,2,   118.23,2,    44.66,2,     0.02,2,     3.19,2,    0.444,2,    0.193,2,    0.055,2,   0.0000,2,    7.258,2,   2329.0,2,   2361.7,2, -999.000,1,   -999.0,9,   -999.0,  -999.00,9,   -999.0,9,   -999.0,9,   3.3622,  27.1577
  49KA199905_1,  P01W,    34,  1,     16,     16,2,19990527,1012, 45.0632, 156.6258, 4777,    400.1,2,   3.3222,2,  34.1739,1,  34.1758,2,    -5.44,1,    16.56,2,   122.46,2,    44.31,2,     0.01,2,     3.17,2,    0.456,2,    0.206,2,    0.018,2,   0.0000,2,    7.273,2,   2337.6,2,   2365.3,2, -999.000,1,   -999.0,9,   -999.0,  -999.00,9,   -999.0,9,   -999.0,9,   3.2961,  27.1998
  49KA199905_1,  P01W,    34,  1,     15,     15,2,19990527,1012, 45.0632, 156.6258, 4777,    500.2,2,   3.1760,2,  34.2419,1,  34.2422,2,    -6.20,1,    17.19,2,   130.03,2,    44.24,2,     0.02,2,     3.16,2,    0.332,2,    0.138,2,    0.003,2,   0.0030,2,    7.284,2,   2348.2,2,   2372.6,2, -999.000,1,   -999.0,9,   -999.0,  -999.00,9,   -999.0,9,   -999.0,9,   3.1435,  27.2670
  49KA199905_1,  P01W,    34,  1,     14,     14,2,19990527,1012, 45.0632, 156.6258, 4777,    601.0,2,   3.0058,2,  34.3009,1,  34.3014,2,    -5.70,1,    17.32,2,   137.20,2,    44.19,2,     0.01,2,     3.16,2,    0.241,2,    0.095,2,    0.003,2,   0.0015,2,    7.299,2,   2359.6,2,   2380.5,2, -999.000,1,   -999.0,9,   -999.0,  -999.00,9,   -999.0,9,   -999.0,9,   2.9671,  27.3304
  49KA199905_1,  P01W,    34,  1,     13,     13,2,19990527,1012, 45.0632, 156.6258, 4777,    700.3,2,   2.8233,2,  34.3503,1,  34.3509,2,    -2.75,1,    23.28,2,   143.83,2,    43.91,2,     0.01,2,     3.16,2,    0.287,2,    0.092,2,    0.000,2,   0.0004,2,    7.305,2,   2368.4,2,   2382.7,2, -999.000,1,   -999.0,9,   -999.0,  -999.00,9,   -999.0,9,   -999.0,9,   2.7786,  27.3867
  49KA199905_1,  P01W,    34,  1,     12,     12,2,19990527,1012, 45.0632, 156.6258, 4777,    799.0,2,   2.6859,2,  34.3871,1,  34.3882,2,    -0.17,1,    30.32,2,   147.38,2,    43.59,2,     0.03,2,     3.14,2,    0.171,2,    0.071,2,    0.008,2,   0.0000,2,    7.316,2,   2374.8,2,   2386.4,2, -999.000,1,   -999.0,9,   -999.0,  -999.00,9,   -999.0,9,   -999.0,9,   2.6350,  27.4291
  49KA199905_1,  P01W,    34,  1,     11,     11,2,19990527,1012, 45.0632, 156.6258, 4777,   1001.5,2,   2.4378,2,  34.4493,1,  34.4503,2,     7.67,1,    35.06,2,   154.97,2,    43.16,2,     0.01,2,     3.13,2,    0.150,2,    0.059,2,    0.005,2,   0.0000,2,    7.355,3,   2386.1,2,   2384.6,2, -999.000,1,   -999.0,9,   -999.0,  -999.00,9,   -999.0,9,   -999.0,9,   2.3743,  27.5009
  49KA199905_1,  P01W,    34,  1,     10,     10,2,19990527,1012, 45.0632, 156.6258, 4777,   1249.6,2,   2.1840,2,  34.5182,1,  34.5193,2,    17.62,1,    44.83,2,   161.11,2,    42.49,2,     0.02,2,     3.04,2,    0.021,2,    0.013,2,    0.000,2,   0.0034,2,    7.365,2,   2391.1,2,   2390.1,2, -999.000,1,   -999.0,9,   -999.0,  -999.00,9,   -999.0,9,   -999.0,9,   2.1046,  27.5782
  49KA199905_1,  P01W,    34,  1,      9,      9,2,19990527,1012, 45.0632, 156.6258, 4777,   1499.2,2,   2.0235,2,  34.5590,1,  34.5599,2,    26.74,1,    56.30,2,   163.86,2,    41.77,2,     0.03,2,     2.97,2,    0.008,2,    0.006,2,    0.000,2,   0.0004,2,    7.386,2,   2398.8,2,   2382.4,2, -999.000,1,   -999.0,9,   -999.0,  -999.00,9,   -999.0,9,   -999.0,9,   1.9270,  27.6248
  49KA199905_1,  P01W,    34,  1,      8,      8,2,19990527,1012, 45.0632, 156.6258, 4777,   1749.6,2,   1.8724,2,  34.5919,1,  34.5931,2,    38.93,1,    69.06,2,   165.08,2,    40.92,2,     0.03,2,     2.90,2,    0.003,2,    0.001,2,    0.000,2,   0.0000,2,    7.413,2,   2406.2,2,   2379.2,2, -999.000,1,   -999.0,9,   -999.0,  -999.00,9,   -999.0,9,   -999.0,9,   1.7583,  27.6644
  49KA199905_1,  P01W,    34,  1,      7,      7,2,19990527,1012, 45.0632, 156.6258, 4777,   2000.9,2,   1.7532,2,  34.6179,1,  34.6196,2,    54.08,1,    87.95,2,   161.97,2,    39.91,2,     0.01,2,     2.82,2,    0.002,2,    0.000,2,    0.004,2,   0.0023,2,    7.447,2,   2409.0,2,   2366.9,2, -999.000,1,   -999.0,9,   -999.0,  -999.00,9,   -999.0,9,   -999.0,9,   1.6205,  27.6960
  49KA199905_1,  P01W,    34,  1,      6,      6,2,19990527,1012, 45.0632, 156.6258, 4777,   2499.4,2,   1.5772,2,  34.6505,1,  34.6524,2,    77.06,1,   116.92,2,   156.94,2,    38.08,2,     0.02,2,     2.69,2,    0.000,2,    0.000,2,    0.000,2,-999.0000,9,    7.488,2,   2410.8,2,   2354.6,2, -999.000,1,   -999.0,9,   -999.0,  -999.00,9,   -999.0,9,   -999.0,9,   1.4049,  27.7381
  49KA199905_1,  P01W,    34,  1,      5,      5,2,19990527,1012, 45.0632, 156.6258, 4777,   3000.6,2,   1.4852,2,  34.6676,1,  34.6656,2,    92.17,1,   131.25,2,   153.54,2,    37.53,2,     0.03,2,     2.66,2,    0.000,2,    0.000,2,    0.008,2,   0.0000,2,    7.502,2,   2410.8,2,   2349.0,2, -999.000,1,   -999.0,9,   -999.0,  -999.00,9,   -999.0,9,   -999.0,9,   1.2688,  27.7583
  49KA199905_1,  P01W,    34,  1,      4,      4,2,19990527,1012, 45.0632, 156.6258, 4777,   3500.5,2,   1.4450,2,  34.6770,1,  34.6793,2,   102.07,1,   146.94,2,   148.03,2,    36.13,2,     0.03,2,     2.54,2,    0.000,2,    0.001,2,    0.004,2,-999.0000,9,    7.556,2,   2410.0,2,   2331.2,2, -999.000,9,   -999.0,9,   -999.0,  -999.00,9,   -999.0,9,   -999.0,9,   1.1801,  27.7755
  49KA199905_1,  P01W,    34,  1,      3,      3,2,19990527,1012, 45.0632, 156.6258, 4777,   4001.3,2,   1.4356,2,  34.6831,1,  34.6862,2,   109.07,1,   156.44,2,   146.20,2,    35.65,2,     0.01,2,     2.50,2,    0.001,2,    0.002,2,    0.000,2,   0.0000,2,    7.578,2,   2410.1,2,   2329.2,2, -999.000,1,   -999.0,9,   -999.0,  -999.00,9,   -999.0,9,   -999.0,9,   1.1183,  27.7852
  49KA199905_1,  P01W,    34,  1,      2,      2,2,19990527,1012, 45.0632, 156.6258, 4777,   4500.5,2,   1.4634,2,  34.6857,1,  34.6893,2,   112.81,1,   159.06,2,   146.00,2,    35.48,2,     0.01,2,     2.49,2,    0.000,2,    0.003,2,    0.000,2,-999.0000,9,    7.599,3,   2410.1,2,   2324.2,2, -999.000,1,   -999.0,9,   -999.0,  -999.00,9,   -999.0,9,   -999.0,9,   1.0895,  27.7897
  49KA199905_1,  P01W,    34,  1,      1,      1,2,19990527,1012, 45.0632, 156.6258, 4777,   4842.1,2,   1.4980,2,  34.6861,1,  34.6872,2,   114.36,1,   154.52,2,   148.51,2,    35.90,2,     0.03,2,     2.51,2,    0.002,2,    0.000,2,    0.000,2,   0.0000,2,    7.567,3,   2410.2,2,   2328.5,2, -999.000,1,   -999.0,9,   -999.0,  -999.00,9,   -999.0,9,   -999.0,9,   1.0829,  27.7884