BOTTLE,20220921CCHSIOAMB
EXPOCODE,SECT_ID,STNNBR,CASTNO,SAMPNO,BTLNBR,BTLNBR_FLAG_W,DATE,TIME,LATITUDE,LONGITUDE,DEPTH,CTDPRS,CTDPRS_FLAG_W,CTDTMP,CTDTMP_FLAG_W,CTDSAL,CTDSAL_FLAG_W,SALNTY,SALNTY_FLAG_W,CTDOXY,CTDOXY_FLAG_W,OXYGEN,OXYGEN_FLAG_W,SILCAT,SILCAT_FLAG_W,NITRAT,NITRAT_FLAG_W,NITRIT,NITRIT_FLAG_W,PHSPHT,PHSPHT_FLAG_W,CFC-11,CFC-11_FLAG_W,CFC-12,CFC-12_FLAG_W,CFC113,CFC113_FLAG_W,SF6,SF6_FLAG_W,PH,PH_FLAG_W,ALKALI,ALKALI_FLAG_W,TCARBN,TCARBN_FLAG_W,DELC13,DELC13_FLAG_W,DELC14,DELC14_FLAG_W,C14ERR,CHLORA,CHLORA_FLAG_W,CU,CU_FLAG_W,NI,NI_FLAG_W,THETA,SIG0
,,,,,,,,,,,METERS,DBAR,,ITS-90,,PSS-78,,PSS-78,,UMOL/KG,,UMOL/KG,,UMOL/KG,,UMOL/KG,,UMOL/KG,,UMOL/KG,,PMOL/KG,,PMOL/KG,,PMOL/KG,,FMOL/KG,,,,UMOL/KG,,UMOL/KG,,/MILLE,,/MILLE,,/MILLE,UG/KG,,UMOL/L,,UMOL/L,,ITS-90,KG/M^3
  49KA199905_1,  P01W,    44,  1,     24,     24,2,19990530,0223, 46.9917, 166.7598, 5959,      9.6,2,   3.4976,2,  32.9627,1,  32.9646,2,   290.80,1,   335.44,2,    36.48,2,    19.88,2,     0.27,2,     1.76,2,    5.761,2,    2.813,2,    0.470,2,   0.4118,2, -999.000,9,   2233.9,2,   2098.8,2, -999.000,1,   -999.0,9,   -999.0,     0.62,2,   -999.0,9,   -999.0,9,   3.4970,  26.2157
  49KA199905_1,  P01W,    44,  1,     23,     23,2,19990530,0223, 46.9917, 166.7598, 5959,     49.1,2,   3.2472,2,  32.9678,1,  32.9760,2,   289.45,1,   334.47,2,    36.88,2,    20.18,3,     0.28,3,     1.80,3,    5.774,2,    2.822,2,    0.471,2,   0.3624,3, -999.000,9,   2235.3,2,   2100.3,2, -999.000,1,   -999.0,9,   -999.0,     0.51,2,   -999.0,9,   -999.0,9,   3.2443,  26.2479
  49KA199905_1,  P01W,    44,  1,     22,     22,2,19990530,0223, 46.9917, 166.7598, 5959,    100.1,2,   1.8233,2,  33.0238,1,  33.0264,2,   288.73,1,   328.78,2,    38.85,2,    22.39,2,     0.40,2,     1.90,2,    5.892,2,    2.899,2,    0.531,2,   0.4724,2, -999.000,9,   2233.3,2,   2133.3,2, -999.000,1,   -999.0,9,   -999.0,     0.06,2,   -999.0,9,   -999.0,9,   1.8185,  26.4039
  49KA199905_1,  P01W,    44,  1,     21,     21,2,19990530,0223, 46.9917, 166.7598, 5959,    150.4,2,   1.7693,2,  33.1781,1,  33.1841,2,   250.41,1,   284.33,2,    49.04,2,    26.75,2,     0.09,2,     2.12,2,    5.411,2,    2.642,2,    0.458,2,   0.3910,2, -999.000,9,   2246.2,2,   2147.8,2, -999.000,1,   -999.0,9,   -999.0,     0.03,2,   -999.0,9,   -999.0,9,   1.7620,  26.5344
  49KA199905_1,  P01W,    44,  1,     20,     20,2,19990530,0223, 46.9917, 166.7598, 5959,    200.3,2,   2.8041,2,  33.5909,1,  33.5967,2,   103.62,1,   133.90,2,    74.74,2,    35.96,2,     0.02,2,     2.71,2,    3.354,2,    1.581,2,    0.233,2,   0.2514,2, -999.000,9,   2280.0,2,   2263.3,2, -999.000,1,   -999.0,9,   -999.0,     0.00,2,   -999.0,9,   -999.0,9,   2.7924,  26.7831
  49KA199905_1,  P01W,    44,  1,     19,     19,2,19990530,0223, 46.9917, 166.7598, 5959,    250.0,2,   3.1628,2,  33.7818,1,  33.7830,2,    49.06,1,    73.66,2,    87.91,2,    40.69,2,     0.02,2,     2.98,2,    2.432,2,    1.125,2,    0.169,2,   0.1551,2, -999.000,9,   2291.2,2,   2301.5,2, -999.000,1,   -999.0,9,   -999.0,     0.00,2,   -999.0,9,   -999.0,9,   3.1473,  26.9003
  49KA199905_1,  P01W,    44,  1,     18,     18,2,19990530,0223, 46.9917, 166.7598, 5959,    299.0,2,   3.3876,2,  33.9164,1,  33.9235,2,    12.24,1,    32.67,2,    98.70,2,    43.88,2,     0.02,2,     3.17,2,    1.591,2,    0.692,2,    0.094,2,   0.0403,2, -999.000,9,   2305.5,2,   2336.9,2, -999.000,1,   -999.0,9,   -999.0,     0.00,2,   -999.0,9,   -999.0,9,   3.3683,  26.9918
  49KA199905_1,  P01W,    44,  1,     17,     17,2,19990530,0223, 46.9917, 166.7598, 5959,    349.3,2,   3.4146,2,  34.0013,1,  34.0041,2,     2.34,1,    23.69,3,   106.10,2,    44.19,2,     0.01,2,     3.16,2,    1.208,2,    0.539,2,    0.068,2,   0.0287,2, -999.000,9,   2313.3,2,   2344.0,2, -999.000,1,   -999.0,9,   -999.0,  -999.00,9,   -999.0,9,   -999.0,9,   3.3918,  27.0539
  49KA199905_1,  P01W,    44,  1,     16,     16,2,19990530,0223, 46.9917, 166.7598, 5959,    399.5,2,   3.4312,2,  34.0812,1,  34.0811,2,    -0.51,1,    20.88,2,   111.69,2,    44.00,2,     0.02,2,     3.16,2,    0.879,2,    0.374,2,    0.091,2,   0.0143,2, -999.000,9,   2326.4,2,   2350.5,2, -999.000,1,   -999.0,9,   -999.0,  -999.00,9,   -999.0,9,   -999.0,9,   3.4049,  27.1140
  49KA199905_1,  P01W,    44,  1,     15,     15,2,19990530,0223, 46.9917, 166.7598, 5959,    499.5,2,   3.3130,2,  34.1736,1,  34.1735,2,    -3.41,1,    17.96,2,   120.90,2,    43.72,2,     0.01,2,     3.13,2,    0.552,2,    0.219,2,    0.033,2,   0.0160,2, -999.000,9,   2337.8,2,   2360.0,2, -999.000,1,   -999.0,9,   -999.0,  -999.00,9,   -999.0,9,   -999.0,9,   3.2801,  27.1995
  49KA199905_1,  P01W,    44,  1,     14,     14,2,19990530,0223, 46.9917, 166.7598, 5959,    599.2,2,   3.1824,2,  34.2333,1,  34.2345,2,    -3.36,1,    19.92,2,   127.65,2,    43.64,2,     0.02,2,     3.14,2,    0.395,2,    0.146,2,    0.021,2,   0.0004,2, -999.000,9,   2350.0,2,   2365.6,2, -999.000,1,   -999.0,9,   -999.0,  -999.00,9,   -999.0,9,   -999.0,9,   3.1430,  27.2609
  49KA199905_1,  P01W,    44,  1,     13,     13,2,19990530,0223, 46.9917, 166.7598, 5959,    800.8,2,   2.8948,2,  34.3371,1,  34.3377,2,     0.45,1,    23.56,2,   139.58,2,    43.29,2,     0.01,2,     3.10,2,    0.246,2,    0.084,2,    0.018,2,   0.0001,2, -999.000,9,   2367.5,2,   2374.0,2, -999.000,1,   -999.0,9,   -999.0,  -999.00,9,   -999.0,9,   -999.0,9,   2.8426,  27.3705
  49KA199905_1,  P01W,    44,  1,     12,     12,2,19990530,0223, 46.9917, 166.7598, 5959,    998.6,2,   2.6439,2,  34.4097,1,  34.4110,2,     3.99,1,    28.70,2,   146.27,2,    42.62,2,     0.01,2,     3.06,2,    0.160,2,    0.046,2,    0.000,2,   0.0000,2, -999.000,9,   2381.8,2,   2381.3,2, -999.000,1,   -999.0,9,   -999.0,  -999.00,9,   -999.0,9,   -999.0,9,   2.5790,  27.4522
  49KA199905_1,  P01W,    44,  1,     11,     11,2,19990530,0223, 46.9917, 166.7598, 5959,   1250.9,2,   2.3522,2,  34.4812,1,  34.4832,2,    11.56,1,    37.26,2,   154.43,2,    42.21,2,     0.01,2,     3.01,2,    0.104,2,    0.021,2,    0.004,2,-999.0000,9, -999.000,9,   2395.5,2,   2385.7,2, -999.000,1,   -999.0,9,   -999.0,  -999.00,9,   -999.0,9,   -999.0,9,   2.2712,  27.5358
  49KA199905_1,  P01W,    44,  1,     10,     10,2,19990530,0223, 46.9917, 166.7598, 5959,   1500.6,2,   2.1457,2,  34.5324,1,  34.5336,2,    18.60,1,    45.33,2,   160.04,2,    41.90,2,     0.02,2,     2.97,2, -999.000,9,    0.010,2,    0.001,2,-999.0000,9, -999.000,9,   2402.5,2,   2384.0,2, -999.000,1,   -999.0,9,   -999.0,  -999.00,9,   -999.0,9,   -999.0,9,   2.0478,  27.5942
  49KA199905_1,  P01W,    44,  1,      9,      9,2,19990530,0223, 46.9917, 166.7598, 5959,   1750.3,2,   1.9912,2,  34.5690,1,  34.5706,2,    28.62,1,    57.91,2,   162.75,2,    41.13,2,     0.01,2,     2.93,2,    0.003,2,    0.001,2,    0.000,2,-999.0000,9, -999.000,9,   2408.4,2,   2385.6,2, -999.000,1,   -999.0,9,   -999.0,  -999.00,9,   -999.0,9,   -999.0,9,   1.8755,  27.6374
  49KA199905_1,  P01W,    44,  1,      8,      8,2,19990530,0223, 46.9917, 166.7598, 5959,   1998.1,2,   1.8798,2,  34.5953,1,  34.5969,2,    40.17,1,  -999.00,9,   162.99,2,    40.31,2,     0.01,2,     2.86,2,    0.004,2,    0.000,2,    0.004,2,-999.0000,9, -999.000,9,   2409.3,2,   2376.7,2, -999.000,1,   -999.0,9,   -999.0,  -999.00,9,   -999.0,9,   -999.0,9,   1.7455,  27.6684
  49KA199905_1,  P01W,    44,  1,      7,      7,2,19990530,0223, 46.9917, 166.7598, 5959,   2499.8,2,   1.6653,2,  34.6380,1,  34.6396,2,    66.18,1,   103.83,2,   159.71,2,    38.83,2,     0.01,2,     2.72,2,    0.000,2,    0.000,2,    0.004,2,-999.0000,9, -999.000,9,   2416.9,2,   2359.0,2, -999.000,1,   -999.0,9,   -999.0,  -999.00,9,   -999.0,9,   -999.0,9,   1.4913,  27.7216
  49KA199905_1,  P01W,    44,  1,      6,      6,2,19990530,0223, 46.9917, 166.7598, 5959,   2998.7,2,   1.5488,2,  34.6602,1,  34.6621,2,    84.80,1,  -999.00,9,   154.02,2,    37.45,2,     0.01,2,     2.60,2,    0.004,2,    0.005,2,    0.003,2,-999.0000,9, -999.000,9,   2416.8,2,   2347.0,2, -999.000,1,   -999.0,9,   -999.0,  -999.00,9,   -999.0,9,   -999.0,9,   1.3312,  27.7511
  49KA199905_1,  P01W,    44,  1,      5,      5,2,19990530,0223, 46.9917, 166.7598, 5959,   3499.0,2,   1.4937,2,  34.6723,1,  34.6724,2,    96.11,1,   138.42,2,   150.65,2,    36.54,2,     0.01,2,     2.53,2,    0.002,2,    0.005,2,    0.000,2,-999.0000,9, -999.000,9,   2415.8,2,   2344.2,2, -999.000,1,   -999.0,9,   -999.0,  -999.00,9,   -999.0,9,   -999.0,9,   1.2279,  27.7666
  49KA199905_1,  P01W,    44,  1,      4,      4,2,19990530,0223, 46.9917, 166.7598, 5959,   4001.0,2,   1.4807,2,  34.6790,1,  34.6807,2,   102.83,1,   148.96,2,   148.18,2,    35.94,2,     0.01,2,     2.49,2,    0.000,2,    0.000,2,    0.000,2,-999.0000,9, -999.000,9,   2418.5,2,   2317.2,3, -999.000,1,   -999.0,9,   -999.0,  -999.00,9,   -999.0,9,   -999.0,9,   1.1623,  27.7778
  49KA199905_1,  P01W,    44,  1,      3,      3,2,19990530,0223, 46.9917, 166.7598, 5959,   4500.0,2,   1.4920,2,  34.6834,1,  34.6840,2,   108.21,1,   155.03,2,   146.98,2,    35.41,2,     0.01,2,     2.46,2,    0.000,2,    0.000,2,    0.000,2,-999.0000,9, -999.000,9,   2415.6,2,   2325.7,2, -999.000,1,   -999.0,9,   -999.0,  -999.00,9,   -999.0,9,   -999.0,9,   1.1173,  27.7835
  49KA199905_1,  P01W,    44,  1,      2,      2,2,19990530,0223, 46.9917, 166.7598, 5959,   5000.8,2,   1.5275,2,  34.6854,1,  34.6898,2,   111.16,1,   158.63,2,   146.21,2,    35.30,2,     0.01,2,     2.43,2,    0.000,2,    0.000,2,    0.000,2,-999.0000,9, -999.000,9,   2413.6,2,   2324.2,2, -999.000,1,   -999.0,9,   -999.0,  -999.00,9,   -999.0,9,   -999.0,9,   1.0922,  27.7899
  49KA199905_1,  P01W,    44,  1,      1,      1,2,19990530,0223, 46.9917, 166.7598, 5959,   6036.2,2,   1.6519,2,  34.6860,1,  34.6892,2,   114.93,1,   159.84,2,   147.64,2,    35.19,2,     0.01,2,     2.44,2,    0.020,3,    0.004,2,    0.000,2,-999.0000,9, -999.000,9,   2414.5,2,   2323.7,2, -999.000,1,   -999.0,9,   -999.0,  -999.00,9,   -999.0,9,   -999.0,9,   1.0792,  27.7903
  49KA199905_1,  P01W,    45,  1,     24,     24,2,19990530,0901, 47.0063, 167.8380, 6248,     10.3,2,   3.8227,2,  32.9915,1,  32.9946,2,   290.11,1,   335.50,2,    33.79,2,    19.01,2,     0.27,2,     1.67,2, -999.000,9, -999.000,9, -999.000,9,-999.0000,9, -999.000,9,   -999.0,9,   -999.0,9, -999.000,9,   -999.0,9,   -999.0,  -999.00,9,   -999.0,9,   -999.0,9,   3.8220,  26.2086
  49KA199905_1,  P01W,    45,  1,     23,     23,2,19990530,0901, 47.0063, 167.8380, 6248,     50.3,2,   3.5062,2,  32.9883,1,  32.9996,4,   289.56,1,   332.06,4,    36.67,3,    20.10,3,     0.29,3,     1.77,3, -999.000,9, -999.000,9, -999.000,9,-999.0000,9, -999.000,9,   -999.0,9,   -999.0,9, -999.000,9,   -999.0,9,   -999.0,  -999.00,9,   -999.0,9,   -999.0,9,   3.5031,  26.2430
  49KA199905_1,  P01W,    45,  1,     22,     22,2,19990530,0901, 47.0063, 167.8380, 6248,     99.9,2,   2.0038,2,  33.0644,1,  33.0674,2,   285.24,1,   324.92,2,    38.93,2,    22.68,2,     0.14,2,     1.86,2, -999.000,9, -999.000,9, -999.000,9,-999.0000,9, -999.000,9,   -999.0,9,   -999.0,9, -999.000,9,   -999.0,9,   -999.0,  -999.00,9,   -999.0,9,   -999.0,9,   1.9988,  26.4235
  49KA199905_1,  P01W,    45,  1,     21,     21,2,19990530,0901, 47.0063, 167.8380, 6248,    150.4,2,   2.7727,2,  33.3761,1,  33.3878,4,   180.27,1,   218.17,4,    54.55,3,    28.93,3,     0.02,3,     2.24,3, -999.000,9, -999.000,9, -999.000,9,-999.0000,9, -999.000,9,   -999.0,9,   -999.0,9, -999.000,9,   -999.0,9,   -999.0,  -999.00,9,   -999.0,9,   -999.0,9,   2.7641,  26.6186
  49KA199905_1,  P01W,    45,  1,     20,     20,2,19990530,0901, 47.0063, 167.8380, 6248,    200.3,2,   3.1928,2,  33.6787,1,  33.6827,2,    92.20,1,   119.16,2,    77.46,2,    37.01,2,     0.00,2,     2.72,2, -999.000,9, -999.000,9, -999.000,9,-999.0000,9, -999.000,9,   -999.0,9,   -999.0,9, -999.000,9,   -999.0,9,   -999.0,  -999.00,9,   -999.0,9,   -999.0,9,   3.1804,  26.8173
  49KA199905_1,  P01W,    45,  1,     19,     19,2,19990530,0901, 47.0063, 167.8380, 6248,    249.7,2,   3.3746,2,  33.8310,1,  33.8327,2,    50.13,1,    74.97,2,    87.29,2,    40.14,2,     0.02,2,     2.91,2, -999.000,9, -999.000,9, -999.000,9,-999.0000,9, -999.000,9,   -999.0,9,   -999.0,9, -999.000,9,   -999.0,9,   -999.0,  -999.00,9,   -999.0,9,   -999.0,9,   3.3587,  26.9204
  49KA199905_1,  P01W,    45,  1,     18,     18,2,19990530,0901, 47.0063, 167.8380, 6248,    300.1,2,   3.4755,2,  33.9180,1,  33.9207,2,    33.43,1,    56.75,2,    93.81,2,    41.46,2,     0.01,2,     2.99,2, -999.000,9, -999.000,9, -999.000,9,-999.0000,9, -999.000,9,   -999.0,9,   -999.0,9, -999.000,9,   -999.0,9,   -999.0,  -999.00,9,   -999.0,9,   -999.0,9,   3.4559,  26.9813
  49KA199905_1,  P01W,    45,  1,     17,     17,2,19990530,0901, 47.0063, 167.8380, 6248,    350.2,2,   3.4834,2,  33.9754,1,  33.9746,2,    24.59,1,    48.52,2,    98.90,2,    42.07,2,     0.01,2,     3.03,2, -999.000,9, -999.000,9, -999.000,9,-999.0000,9, -999.000,9,   -999.0,9,   -999.0,9, -999.000,9,   -999.0,9,   -999.0,  -999.00,9,   -999.0,9,   -999.0,9,   3.4604,  27.0238
  49KA199905_1,  P01W,    45,  1,     16,     16,2,19990530,0901, 47.0063, 167.8380, 6248,    398.4,2,   3.4637,2,  34.0363,1,  34.0374,2,    16.47,1,    38.98,2,   104.58,2,    42.73,2,     0.01,2,     3.06,2, -999.000,9, -999.000,9, -999.000,9,-999.0000,9, -999.000,9,   -999.0,9,   -999.0,9, -999.000,9,   -999.0,9,   -999.0,  -999.00,9,   -999.0,9,   -999.0,9,   3.4374,  27.0761
  49KA199905_1,  P01W,    45,  1,     15,     15,2,19990530,0901, 47.0063, 167.8380, 6248,    500.4,2,   3.3927,2,  34.1329,1,  34.1348,2,     5.77,1,    29.35,2,   117.28,2,    43.78,2,     0.00,2,     3.13,2, -999.000,9, -999.000,9, -999.000,9,-999.0000,9, -999.000,9,   -999.0,9,   -999.0,9, -999.000,9,   -999.0,9,   -999.0,  -999.00,9,   -999.0,9,   -999.0,9,   3.3594,  27.1611
  49KA199905_1,  P01W,    45,  1,     14,     14,2,19990530,0901, 47.0063, 167.8380, 6248,    599.3,2,   3.2435,2,  34.2105,1,  34.7214,4,     0.78,1,    24.89,4,   122.88,3,    43.34,3,     0.02,3,     3.10,3, -999.000,9, -999.000,9, -999.000,9,-999.0000,9, -999.000,9,   -999.0,9,   -999.0,9, -999.000,9,   -999.0,9,   -999.0,  -999.00,9,   -999.0,9,   -999.0,9,   3.2033,  27.6437
  49KA199905_1,  P01W,    45,  1,     13,     13,2,19990530,0901, 47.0063, 167.8380, 6248,    801.7,2,   2.9036,2,  34.3332,1,  34.3345,2,    -0.75,1,    23.48,2,   137.20,2,    43.28,2,     0.02,2,     3.10,2, -999.000,9, -999.000,9, -999.000,9,-999.0000,9, -999.000,9,   -999.0,9,   -999.0,9, -999.000,9,   -999.0,9,   -999.0,  -999.00,9,   -999.0,9,   -999.0,9,   2.8512,  27.3672
  49KA199905_1,  P01W,    45,  1,     12,     12,2,19990530,0901, 47.0063, 167.8380, 6248,    998.5,2,   2.6377,2,  34.4147,1,  34.4162,2,     5.01,1,    30.82,2,   145.64,2,    42.84,2,     0.02,2,     3.08,2, -999.000,9, -999.000,9, -999.000,9,-999.0000,9, -999.000,9,   -999.0,9,   -999.0,9, -999.000,9,   -999.0,9,   -999.0,  -999.00,9,   -999.0,9,   -999.0,9,   2.5729,  27.4568
  49KA199905_1,  P01W,    45,  1,     11,     11,2,19990530,0901, 47.0063, 167.8380, 6248,   1249.7,2,   2.3752,2,  34.4793,1,  34.4808,2,    11.82,1,    39.29,2,   153.26,2,    42.47,2,     0.01,2,     3.04,2, -999.000,9, -999.000,9, -999.000,9,-999.0000,9, -999.000,9,   -999.0,9,   -999.0,9, -999.000,9,   -999.0,9,   -999.0,  -999.00,9,   -999.0,9,   -999.0,9,   2.2940,  27.5320
  49KA199905_1,  P01W,    45,  1,     10,     10,2,19990530,0901, 47.0063, 167.8380, 6248,   1498.9,2,   2.1773,2,  34.5281,1,  34.5296,2,    19.53,1,    46.86,2,   158.05,2,    42.08,2,     0.01,2,     3.00,2, -999.000,9, -999.000,9, -999.000,9,-999.0000,9, -999.000,9,   -999.0,9,   -999.0,9, -999.000,9,   -999.0,9,   -999.0,  -999.00,9,   -999.0,9,   -999.0,9,   2.0791,  27.5885
  49KA199905_1,  P01W,    45,  1,      9,      9,2,19990530,0901, 47.0063, 167.8380, 6248,   1750.8,2,   2.0270,2,  34.5650,1,  34.5668,2,    30.04,1,    61.49,2,   159.48,2,    41.44,2,     0.01,2,     2.94,2, -999.000,9, -999.000,9, -999.000,9,-999.0000,9, -999.000,9,   -999.0,9,   -999.0,9, -999.000,9,   -999.0,9,   -999.0,  -999.00,9,   -999.0,9,   -999.0,9,   1.9108,  27.6316
  49KA199905_1,  P01W,    45,  1,      8,      8,2,19990530,0901, 47.0063, 167.8380, 6248,   1999.1,2,   1.8993,2,  34.5925,1,  34.5945,2,    39.32,1,    71.92,2,   161.24,2,    40.75,2,     0.01,2,     2.89,2, -999.000,9, -999.000,9, -999.000,9,-999.0000,9, -999.000,9,   -999.0,9,   -999.0,9, -999.000,9,   -999.0,9,   -999.0,  -999.00,9,   -999.0,9,   -999.0,9,   1.7647,  27.6651
  49KA199905_1,  P01W,    45,  1,      7,      7,2,19990530,0901, 47.0063, 167.8380, 6248,   2499.8,2,   1.6954,2,  34.6336,1,  34.6356,2,    63.10,1,    99.75,2,   158.27,2,    38.96,2,     0.01,2,     2.74,2, -999.000,9, -999.000,9, -999.000,9,-999.0000,9, -999.000,9,   -999.0,9,   -999.0,9, -999.000,9,   -999.0,9,   -999.0,  -999.00,9,   -999.0,9,   -999.0,9,   1.5208,  27.7162
  49KA199905_1,  P01W,    45,  1,      6,      6,2,19990530,0901, 47.0063, 167.8380, 6248,   3000.6,2,   1.5611,2,  34.6585,1,  34.6609,2,    83.25,1,   123.67,2,   156.93,2,    37.92,2,     0.00,2,     2.68,2, -999.000,9, -999.000,9, -999.000,9,-999.0000,9, -999.000,9,   -999.0,9,   -999.0,9, -999.000,9,   -999.0,9,   -999.0,  -999.00,9,   -999.0,9,   -999.0,9,   1.3430,  27.7493
  49KA199905_1,  P01W,    45,  1,      5,      5,2,19990530,0901, 47.0063, 167.8380, 6248,   3499.5,2,   1.4950,2,  34.6721,1,  34.6689,4,    95.80,1,   135.28,4,   154.02,4,    37.37,4,     0.00,4,     2.63,4, -999.000,9, -999.000,9, -999.000,9,-999.0000,9, -999.000,9,   -999.0,9,   -999.0,9, -999.000,9,   -999.0,9,   -999.0,  -999.00,9,   -999.0,9,   -999.0,9,   1.2291,  27.7637
  49KA199905_1,  P01W,    45,  1,      4,      4,2,19990530,0901, 47.0063, 167.8380, 6248,   4000.0,2,   1.4764,2,  34.6793,1,  34.6814,2,   103.32,1,   148.62,2,   145.79,2,    35.89,2,     0.01,2,     2.50,2, -999.000,9, -999.000,9, -999.000,9,-999.0000,9, -999.000,9,   -999.0,9,   -999.0,9, -999.000,9,   -999.0,9,   -999.0,  -999.00,9,   -999.0,9,   -999.0,9,   1.1582,  27.7787
  49KA199905_1,  P01W,    45,  1,      3,      3,2,19990530,0901, 47.0063, 167.8380, 6248,   4499.2,2,   1.4913,2,  34.6834,1,  34.6861,2,   107.77,1,   154.59,2,   144.46,2,    35.46,2,     0.01,2,     2.47,2, -999.000,9, -999.000,9, -999.000,9,-999.0000,9, -999.000,9,   -999.0,9,   -999.0,9, -999.000,9,   -999.0,9,   -999.0,  -999.00,9,   -999.0,9,   -999.0,9,   1.1167,  27.7853
  49KA199905_1,  P01W,    45,  1,      2,      2,2,19990530,0901, 47.0063, 167.8380, 6248,   5000.3,2,   1.5289,2,  34.6853,1,  34.6885,2,   110.31,1,   156.79,3,   144.64,2,    35.25,2,     0.01,2,     2.47,2, -999.000,9, -999.000,9, -999.000,9,-999.0000,9, -999.000,9,   -999.0,9,   -999.0,9, -999.000,9,   -999.0,9,   -999.0,  -999.00,9,   -999.0,9,   -999.0,9,   1.0937,  27.7888
  49KA199905_1,  P01W,    45,  1,      1,      1,2,19990530,0901, 47.0063, 167.8380, 6248,   6001.2,2,   1.6465,2,  34.6861,1,  34.6900,2,   114.18,1,   159.44,2,   146.30,2,    35.18,2,     0.01,2,     2.46,2, -999.000,9, -999.000,9, -999.000,9,-999.0000,9, -999.000,9,   -999.0,9,   -999.0,9, -999.000,9,   -999.0,9,   -999.0,  -999.00,9,   -999.0,9,   -999.0,9,   1.0788,  27.7910