BOTTLE,20220816CCHSIOAMB
EXPOCODE,SECT_ID,STNNBR,CASTNO,SAMPNO,BTLNBR,BTLNBR_FLAG_W,DATE,TIME,LATITUDE,LONGITUDE,DEPTH,CTDRAW,CTDPRS,CTDTMP,CTDSAL,CTDSAL_FLAG_W,SALNTY,SALNTY_FLAG_W,CTDOXY,CTDOXY_FLAG_W,OXYGEN,OXYGEN_FLAG_W,SILCAT,SILCAT_FLAG_W,NITRAT,NITRAT_FLAG_W,NITRIT,NITRIT_FLAG_W,PHSPHT,PHSPHT_FLAG_W,CFC-11,CFC-11_FLAG_W,CFC-12,CFC-12_FLAG_W,CFC113,CFC113_FLAG_W,CCL4,CCL4_FLAG_W,TCARBN,TCARBN_FLAG_W,ALKALI,ALKALI_FLAG_W,DOC,DOC_FLAG_W,TDN,TDN_FLAG_W,TRITUM,TRITUM_FLAG_W,TRITER,HELIUM,HELIUM_FLAG_W,HELIER,DELHE3,DELHE3_FLAG_W,DELHER,NEON,NEON_FLAG_W,NEONER,DELC14,DELC14_FLAG_W,C14ERR,DELC13,DELC13_FLAG_W,CDOM325,CDOM325_FLAG_W,CDOM340,CDOM340_FLAG_W,CDOM380,CDOM380_FLAG_W,CDOM412,CDOM412_FLAG_W,CDOMSL,CDOMSL_FLAG_W,CDOMSN,CDOMSN_FLAG_W,DCNS,DCNS_FLAG_W,ARABI,ARABI_FLAG_W,FUCO,FUCO_FLAG_W,GALA,GALA_FLAG_W,GLUC,GLUC_FLAG_W,MAN,MAN_FLAG_W,RHAM,RHAM_FLAG_W,BRDU,BRDU_FLAG_W,PEUK,PEUK_FLAG_W,PROC,PROC_FLAG_W,SYN,SYN_FLAG_W,THETA,BACT,BACT_FLAG_W,BTL_TIME,BTL_LAT,BTL_LON
,,,,,,,,,,,METERS,DBAR,DBAR,ITS-90,PSS-78,,PSS-78,,UMOL/KG,,UMOL/KG,,UMOL/KG,,UMOL/KG,,UMOL/KG,,UMOL/KG,,PMOL/KG,,PMOL/KG,,PMOL/KG,,PMOL/KG,,UMOL/KG,,UMOL/KG,,UMOL/KG,,UMOL/KG,,TU,,TU,NMOL/KG,,NMOL/KG,PERCNT,,PERCNT,NMOL/KG,,NMOL/KG,/MILLE,,/MILLE,/MILLE,,1/M,,1/M,,1/M,,1/M,,1/NM,,1/NM,,NMOL/KG,,NMOL/KG,,NMOL/KG,,NMOL/KG,,NMOL/KG,,NMOL/KG,,NMOL/KG,,PMOL/L/H,,E6/L,,E7/L,,E6/L,,DEG C,E8/L,,,,
316N200309, A20, 33, 1, 10, 10, 2, 20031005, 0115, 28.1918, -52.3318, 4434,  3250.00,   3250.0,   2.7230,  34.9317, 2,  34.9337, 2,    254.2, 2,    291.0, 4,    32.96, 2,    20.13, 2,     0.00, 2,     1.37, 2,    0.018, 2,    0.012, 2,   -0.002, 2,    0.184, 2,   2178.8, 2,   2330.0, 2,  -999.00, 9,  -999.00, 9, -999.000, 9, -999.000, -999.0000, 9, -999.0000,  -999.00, 9,  -999.00, -999.000, 9, -999.000,   -999.0, 9,   -999.0,  -999.00, 9, -999.0000, 9, -999.0000, 9, -999.0000, 9, -999.0000, 9, -999.0000, 9, -999.0000, 9, -999, 9, -999, 9, -999, 9, -999, 9, -999, 9, -999, 9, -999, 9,  -999.00, 9,  -999.00, 9,  -999.00, 9,  -999.00, 9,   2.4520,  -999.00, 9,  214,   28.1923,  -52.3330
316N200309, A20, 33, 1, 9, 9, 2, 20031005, 0115, 28.1918, -52.3318, 4434,  3501.40,   3501.4,   2.5465,  34.9177, 2,  34.9183, 2,    258.6, 2,    291.4, 4,    32.97, 2,    19.81, 2,     0.00, 2,     1.34, 2,    0.018, 2,    0.021, 2,   -0.004, 2,    0.178, 2,   2176.8, 2,   2325.8, 2,    39.50, 2,  -999.00, 9,    0.034, 2,    0.001,   1.8879, 2,   0.0094,     2.05, 2,     0.20,    8.024, 2,    0.040,   -999.0, 9,   -999.0,  -999.00, 9,    0.1400, 2,    0.0940, 2,    0.0420, 2,    0.0260, 2,    0.0200, 2,    0.0220, 2, -999, 9, -999, 9, -999, 9, -999, 9, -999, 9, -999, 9, -999, 9,  -999.00, 9,  -999.00, 9,  -999.00, 9,  -999.00, 9,   2.2528,  -999.00, 9,  209,   28.1926,  -52.3332
316N200309, A20, 33, 1, 8, 8, 2, 20031005, 0115, 28.1918, -52.3318, 4434,  3749.80,   3749.8,   2.4225,  34.9073, 2,  34.9085, 2,    261.0, 2,    285.8, 4,    33.78, 2,    19.61, 2,     0.00, 2,     1.33, 2,    0.046, 2,    0.026, 2,    0.000, 2,    0.240, 2,   2176.7, 2,   2325.7, 2,  -999.00, 9,  -999.00, 9, -999.000, 9, -999.000, -999.0000, 9, -999.0000,  -999.00, 9,  -999.00, -999.000, 9, -999.000,   -999.0, 9,   -999.0,  -999.00, 9, -999.0000, 9, -999.0000, 9, -999.0000, 9, -999.0000, 9, -999.0000, 9, -999.0000, 9, -999, 9, -999, 9, -999, 9, -999, 9, -999, 9, -999, 9, -999, 9,  -999.00, 9,  -999.00, 9,  -999.00, 9,  -999.00, 9,   2.1046,  -999.00, 9,  203,   28.1927,  -52.3336
316N200309, A20, 33, 1, 7, 7, 2, 20031005, 0115, 28.1918, -52.3318, 4434,  4001.10,   4001.1,   2.3027,  34.8952, 2,  34.8955, 2,    260.7, 2,    283.5, 4,    36.96, 2,    19.97, 2,     0.00, 2,     1.36, 2,    0.064, 2,    0.044, 2,    0.000, 2,    0.257, 2,   2180.0, 2,   2325.6, 2,    40.80, 2,  -999.00, 9,    0.049, 2,    0.001,   1.8999, 2,   0.0095,     2.33, 2,     0.20,    8.088, 2,    0.040,   -999.0, 9,   -999.0,  -999.00, 9, -999.0000, 9, -999.0000, 9, -999.0000, 9, -999.0000, 9, -999.0000, 9, -999.0000, 9, -999, 9, -999, 9, -999, 9, -999, 9, -999, 9, -999, 9, -999, 9,  -999.00, 9,  -999.00, 9,  -999.00, 9,  -999.00, 9,   1.9599,  -999.00, 9,  158,   28.1930,  -52.3337
316N200309, A20, 33, 1, 6, 6, 2, 20031005, 0115, 28.1918, -52.3318, 4434,  4250.10,   4250.1,   2.2192,  34.8843, 2,  34.8857, 2,    258.5, 2,    270.4, 4,    41.35, 2,    20.58, 2,     0.00, 2,     1.41, 2,    0.050, 2,    0.042, 2,    0.006, 2,    0.230, 2,   2185.3, 2,   2332.0, 2,  -999.00, 9,  -999.00, 9, -999.000, 9, -999.000, -999.0000, 9, -999.0000,  -999.00, 9,  -999.00, -999.000, 9, -999.000,   -999.0, 9,   -999.0,  -999.00, 9, -999.0000, 9, -999.0000, 9, -999.0000, 9, -999.0000, 9, -999.0000, 9, -999.0000, 9, -999, 9, -999, 9, -999, 9, -999, 9, -999, 9, -999, 9, -999, 9,  -999.00, 9,  -999.00, 9,  -999.00, 9,  -999.00, 9,   1.8502,  -999.00, 9,  152,   28.1932,  -52.3337
316N200309, A20, 33, 1, 5, 5, 2, 20031005, 0115, 28.1918, -52.3318, 4434,  4499.90,   4499.9,   2.1286,  34.8711, 2,  34.8713, 2,    255.0, 2,    255.0, 2,    47.34, 2,    21.51, 2,     0.00, 2,     1.46, 2,    0.038, 6,    0.041, 6,   -0.002, 6,    0.204, 6,   2192.3, 2,   2319.6, 3,    40.70, 2,  -999.00, 9,    0.029, 2,    0.001,   1.8973, 2,   0.0095,     2.44, 2,     0.20,    8.131, 2,    0.041,   -999.0, 9,   -999.0,  -999.00, 9,    0.1330, 2,    0.0940, 2,    0.0460, 2,    0.0290, 2,    0.0180, 2,    0.0190, 2, -999, 9, -999, 9, -999, 9, -999, 9, -999, 9, -999, 9, -999, 9,  -999.00, 9,  -999.00, 9,  -999.00, 9,  -999.00, 9,   1.7329,  -999.00, 9,  146,   28.1930,  -52.3334
316N200309, A20, 33, 1, 4, 4, 2, 20031005, 0115, 28.1918, -52.3318, 4434,  4725.60,   4725.6,   2.1085,  34.8655, 2,  34.8676, 2,    253.2, 2,    253.4, 2,    49.64, 2,    21.81, 2,     0.00, 2,     1.48, 2,    0.029, 2,    0.021, 2,   -0.004, 2,    0.198, 2,   2194.3, 2,   2338.5, 2,  -999.00, 9,  -999.00, 9, -999.000, 9, -999.000, -999.0000, 9, -999.0000,  -999.00, 9,  -999.00, -999.000, 9, -999.000,   -999.0, 9,   -999.0,  -999.00, 9, -999.0000, 9, -999.0000, 9, -999.0000, 9, -999.0000, 9, -999.0000, 9, -999.0000, 9, -999, 9, -999, 9, -999, 9, -999, 9, -999, 9, -999, 9, -999, 9,  -999.00, 9,  -999.00, 9,  -999.00, 9,  -999.00, 9,   1.6863,  -999.00, 9,  141,   28.1927,  -52.3331
316N200309, A20, 33, 1, 3, 3, 2, 20031005, 0115, 28.1918, -52.3318, 4434,  5100.10,   5100.1,   2.1141,  34.8603, 2,  34.8609, 2,    251.3, 2,    252.2, 2,    51.75, 2,    22.11, 2,     0.00, 2,     1.51, 2,    0.025, 2,    0.024, 2,    0.012, 2,    0.208, 2,   2197.4, 2,   2339.0, 2,    40.50, 2,  -999.00, 9,    0.020, 2,    0.000,   1.9258, 2,   0.0096,     2.73, 2,     0.20,    8.192, 2,    0.041,   -999.0, 9,   -999.0,  -999.00, 9, -999.0000, 9, -999.0000, 9, -999.0000, 9, -999.0000, 9, -999.0000, 9, -999.0000, 9, -999, 9, -999, 9, -999, 9, -999, 9, -999, 9, -999, 9, -999, 9,  -999.00, 9,  -999.00, 9,  -999.00, 9,  -999.00, 9,   1.6453,  -999.00, 9,  132,   28.1920,  -52.3326
316N200309, A20, 33, 1, 2, 2, 2, 20031005, 0115, 28.1918, -52.3318, 4434,  5400.40,   5400.4,   2.1450,  34.8591, 2,  34.8597, 2,    250.8, 2,    252.0, 2,    52.17, 2,    22.16, 2,     0.00, 2,     1.52, 2,    0.033, 2,    0.016, 2,    0.003, 2,    0.191, 2,   2198.4, 2,   2342.1, 2,  -999.00, 9,  -999.00, 9, -999.000, 9, -999.000, -999.0000, 9, -999.0000,  -999.00, 9,  -999.00, -999.000, 9, -999.000,   -999.0, 9,   -999.0,  -999.00, 9, -999.0000, 9, -999.0000, 9, -999.0000, 9, -999.0000, 9, -999.0000, 9, -999.0000, 9, -999, 9, -999, 9, -999, 9, -999, 9, -999, 9, -999, 9, -999, 9,  -999.00, 9,  -999.00, 9,  -999.00, 9,  -999.00, 9,   1.6366,  -999.00, 9,  125,   28.1920,  -52.3320
316N200309, A20, 33, 1, 1, 1, 2, 20031005, 0115, 28.1918, -52.3318, 4434,  5715.40,   5715.4,   2.1847,  34.8581, 2,  34.8597, 4,    252.1, 2,    283.5, 4,    52.39, 2,    22.21, 2,     0.00, 2,     1.53, 2,    0.021, 2,    0.017, 2,    0.014, 2,    0.190, 2,   2199.3, 2,   2340.8, 2,    40.80, 2,  -999.00, 9,    0.037, 2,    0.001,   1.9021, 2,   0.0095,     2.68, 2,     0.20,    8.126, 2,    0.041,   -999.0, 9,   -999.0,  -999.00, 9,    0.1440, 2,    0.1040, 2,    0.0530, 2,    0.0370, 2,    0.0150, 2,    0.0170, 2, -999, 9, -999, 9, -999, 9, -999, 9, -999, 9, -999, 9, -999, 9,  -999.00, 9,  -999.00, 9,  -999.00, 9,  -999.00, 9,   1.6333,  -999.00, 9,  116,   28.1918,  -52.3319