BOTTLE,20220816CCHSIOAMB
EXPOCODE,SECT_ID,STNNBR,CASTNO,SAMPNO,BTLNBR,BTLNBR_FLAG_W,DATE,TIME,LATITUDE,LONGITUDE,DEPTH,CTDRAW,CTDPRS,CTDTMP,CTDSAL,CTDSAL_FLAG_W,SALNTY,SALNTY_FLAG_W,CTDOXY,CTDOXY_FLAG_W,OXYGEN,OXYGEN_FLAG_W,SILCAT,SILCAT_FLAG_W,NITRAT,NITRAT_FLAG_W,NITRIT,NITRIT_FLAG_W,PHSPHT,PHSPHT_FLAG_W,CFC-11,CFC-11_FLAG_W,CFC-12,CFC-12_FLAG_W,CFC113,CFC113_FLAG_W,CCL4,CCL4_FLAG_W,TCARBN,TCARBN_FLAG_W,ALKALI,ALKALI_FLAG_W,DOC,DOC_FLAG_W,TDN,TDN_FLAG_W,TRITUM,TRITUM_FLAG_W,TRITER,HELIUM,HELIUM_FLAG_W,HELIER,DELHE3,DELHE3_FLAG_W,DELHER,NEON,NEON_FLAG_W,NEONER,DELC14,DELC14_FLAG_W,C14ERR,DELC13,DELC13_FLAG_W,CDOM325,CDOM325_FLAG_W,CDOM340,CDOM340_FLAG_W,CDOM380,CDOM380_FLAG_W,CDOM412,CDOM412_FLAG_W,CDOMSL,CDOMSL_FLAG_W,CDOMSN,CDOMSN_FLAG_W,DCNS,DCNS_FLAG_W,ARABI,ARABI_FLAG_W,FUCO,FUCO_FLAG_W,GALA,GALA_FLAG_W,GLUC,GLUC_FLAG_W,MAN,MAN_FLAG_W,RHAM,RHAM_FLAG_W,BRDU,BRDU_FLAG_W,PEUK,PEUK_FLAG_W,PROC,PROC_FLAG_W,SYN,SYN_FLAG_W,THETA,BACT,BACT_FLAG_W,BTL_TIME,BTL_LAT,BTL_LON
,,,,,,,,,,,METERS,DBAR,DBAR,ITS-90,PSS-78,,PSS-78,,UMOL/KG,,UMOL/KG,,UMOL/KG,,UMOL/KG,,UMOL/KG,,UMOL/KG,,PMOL/KG,,PMOL/KG,,PMOL/KG,,PMOL/KG,,UMOL/KG,,UMOL/KG,,UMOL/KG,,UMOL/KG,,TU,,TU,NMOL/KG,,NMOL/KG,PERCNT,,PERCNT,NMOL/KG,,NMOL/KG,/MILLE,,/MILLE,/MILLE,,1/M,,1/M,,1/M,,1/M,,1/NM,,1/NM,,NMOL/KG,,NMOL/KG,,NMOL/KG,,NMOL/KG,,NMOL/KG,,NMOL/KG,,NMOL/KG,,PMOL/L/H,,E6/L,,E7/L,,E6/L,,DEG C,E8/L,,,,
316N200309, A20, 62, 1, 10, 10, 2, 20031015, 0351, 9.8953, -52.3432, 4910,  3000.70,   3000.7,   2.7962,  34.9326, 2,  34.9339, 2,    260.9, 2,    260.7, 2,    26.25, 2,    18.89, 2,     0.00, 2,     1.26, 2,    0.301, 2,    0.157, 2,    0.010, 2, -999.000, 9,   2170.0, 2,   2320.2, 2,    42.40, 2,  -999.00, 9, -999.000, 9, -999.000, -999.0000, 9, -999.0000,  -999.00, 9,  -999.00, -999.000, 9, -999.000,   -999.0, 9,   -999.0,  -999.00, 9, -999.0000, 9, -999.0000, 9, -999.0000, 9, -999.0000, 9, -999.0000, 9, -999.0000, 9, -999, 9, -999, 9, -999, 9, -999, 9, -999, 9, -999, 9, -999, 9,  -999.00, 9,  -999.00, 9,  -999.00, 9,  -999.00, 9,   2.5498,  -999.00, 9,  432,    9.9014,  -52.3429
316N200309, A20, 62, 1, 9, 9, 2, 20031015, 0351, 9.8953, -52.3432, 4910,  3201.70,   3201.7,   2.6890,  34.9249, 2,  34.9248, 2,    261.3, 2,    261.4, 2,    26.25, 2,    18.89, 2,     0.00, 2,     1.26, 2,    0.329, 2,    0.165, 2,    0.011, 2, -999.000, 9,   2170.6, 2,   2319.0, 2,  -999.00, 9,  -999.00, 9, -999.000, 9, -999.000, -999.0000, 9, -999.0000,  -999.00, 9,  -999.00, -999.000, 9, -999.000,   -999.0, 9,   -999.0,  -999.00, 9, -999.0000, 9, -999.0000, 9, -999.0000, 9, -999.0000, 9, -999.0000, 9, -999.0000, 9, -999, 9, -999, 9, -999, 9, -999, 9, -999, 9, -999, 9, -999, 9,  -999.00, 9,  -999.00, 9,  -999.00, 9,  -999.00, 9,   2.4240,  -999.00, 9,  428,    9.9009,  -52.3428
316N200309, A20, 62, 1, 8, 8, 2, 20031015, 0351, 9.8953, -52.3432, 4910,  3400.50,   3400.5,   2.5872,  34.9177, 2,  34.9181, 2,    262.6, 2,    261.9, 2,    26.87, 2,    18.75, 2,     0.00, 2,     1.26, 2,    0.369, 2,    0.193, 2,    0.015, 2, -999.000, 9,   2170.8, 2,   2320.3, 2,  -999.00, 9,  -999.00, 9, -999.000, 9, -999.000, -999.0000, 9, -999.0000,  -999.00, 9,  -999.00, -999.000, 9, -999.000,   -999.0, 9,   -999.0,  -999.00, 9, -999.0000, 9, -999.0000, 9, -999.0000, 9, -999.0000, 9, -999.0000, 9, -999.0000, 9, -999, 9, -999, 9, -999, 9, -999, 9, -999, 9, -999, 9, -999, 9,  -999.00, 9,  -999.00, 9,  -999.00, 9,  -999.00, 9,   2.3034,  -999.00, 9,  424,    9.9003,  -52.3426
316N200309, A20, 62, 1, 7, 7, 2, 20031015, 0351, 9.8953, -52.3432, 4910,  3600.70,   3600.7,   2.4792,  34.9099, 2,  34.9105, 2,    263.4, 2,    263.4, 2,    28.73, 2,    18.89, 2,     0.00, 2,     1.27, 2,    0.344, 2,    0.181, 2,    0.022, 2, -999.000, 9,   2171.1, 2,   2321.7, 2,    42.40, 2,  -999.00, 9, -999.000, 9, -999.000, -999.0000, 9, -999.0000,  -999.00, 9,  -999.00, -999.000, 9, -999.000,   -999.0, 9,   -999.0,  -999.00, 9, -999.0000, 9, -999.0000, 9, -999.0000, 9, -999.0000, 9, -999.0000, 9, -999.0000, 9, -999, 9, -999, 9, -999, 9, -999, 9, -999, 9, -999, 9, -999, 9,  -999.00, 9,  -999.00, 9,  -999.00, 9,  -999.00, 9,   2.1763,  -999.00, 9,  420,    9.8996,  -52.3424
316N200309, A20, 62, 1, 6, 6, 2, 20031015, 0351, 9.8953, -52.3432, 4910,  3799.50,   3799.5,   2.3824,  34.9025, 2,  34.9022, 2,    262.7, 2,    263.3, 2,    30.79, 2,    19.06, 2,     0.00, 2,     1.29, 2,    0.311, 2,    0.155, 2,    0.022, 2, -999.000, 9,   2174.8, 2,   2323.2, 2,  -999.00, 9,  -999.00, 9, -999.000, 9, -999.000, -999.0000, 9, -999.0000,  -999.00, 9,  -999.00, -999.000, 9, -999.000,   -999.0, 9,   -999.0,  -999.00, 9, -999.0000, 9, -999.0000, 9, -999.0000, 9, -999.0000, 9, -999.0000, 9, -999.0000, 9, -999, 9, -999, 9, -999, 9, -999, 9, -999, 9, -999, 9, -999, 9,  -999.00, 9,  -999.00, 9,  -999.00, 9,  -999.00, 9,   2.0600,  -999.00, 9,  416,    9.8989,  -52.3423
316N200309, A20, 62, 1, 5, 5, 2, 20031015, 0351, 9.8953, -52.3432, 4910,  3999.60,   3999.6,   2.3352,  34.8984, 2,  34.8977, 2,    262.9, 2,    263.5, 2,    31.41, 2,    19.06, 2,     0.00, 2,     1.29, 2,    0.295, 2,    0.160, 2,    0.017, 2, -999.000, 9,   2175.4, 2,   2322.3, 2,  -999.00, 9,  -999.00, 9, -999.000, 9, -999.000, -999.0000, 9, -999.0000,  -999.00, 9,  -999.00, -999.000, 9, -999.000,   -999.0, 9,   -999.0,  -999.00, 9, -999.0000, 9, -999.0000, 9, -999.0000, 9, -999.0000, 9, -999.0000, 9, -999.0000, 9, -999, 9, -999, 9, -999, 9, -999, 9, -999, 9, -999, 9, -999, 9,  -999.00, 9,  -999.00, 9,  -999.00, 9,  -999.00, 9,   1.9916,  -999.00, 9,  412,    9.8982,  -52.3424
316N200309, A20, 62, 1, 4, 4, 2, 20031015, 0351, 9.8953, -52.3432, 4910,  4247.90,   4247.9,   2.2751,  34.8915, 2,  34.8924, 2,    262.0, 2,    262.3, 2,    34.10, 2,    19.43, 2,     0.00, 2,     1.31, 2,    0.255, 2,    0.140, 2,    0.013, 2, -999.000, 9,   2178.2, 2,   2325.2, 2,    40.90, 2,  -999.00, 9, -999.000, 9, -999.000, -999.0000, 9, -999.0000,  -999.00, 9,  -999.00, -999.000, 9, -999.000,   -999.0, 9,   -999.0,  -999.00, 9, -999.0000, 9, -999.0000, 9, -999.0000, 9, -999.0000, 9, -999.0000, 9, -999.0000, 9, -999, 9, -999, 9, -999, 9, -999, 9, -999, 9, -999, 9, -999, 9,  -999.00, 9,  -999.00, 9,  -999.00, 9,  -999.00, 9,   1.9046,  -999.00, 9,  407,    9.8975,  -52.3427
316N200309, A20, 62, 1, 3, 3, 2, 20031015, 0351, 9.8953, -52.3432, 4910,  4498.80,   4498.8,   2.2094,  34.8817, 2,  34.8820, 2,    259.0, 2,    259.3, 2,    38.97, 2,    20.16, 2,     0.00, 2,     1.37, 2,    0.197, 2,    0.115, 2,    0.010, 2, -999.000, 9,   2183.6, 2,   2330.2, 2,  -999.00, 9,  -999.00, 9, -999.000, 9, -999.000, -999.0000, 9, -999.0000,  -999.00, 9,  -999.00, -999.000, 9, -999.000,   -999.0, 9,   -999.0,  -999.00, 9, -999.0000, 9, -999.0000, 9, -999.0000, 9, -999.0000, 9, -999.0000, 9, -999.0000, 9, -999, 9, -999, 9, -999, 9, -999, 9, -999, 9, -999, 9, -999, 9,  -999.00, 9,  -999.00, 9,  -999.00, 9,  -999.00, 9,   1.8113,  -999.00, 9,  402,    9.8968,  -52.3428
316N200309, A20, 62, 1, 2, 2, 2, 20031015, 0351, 9.8953, -52.3432, 4910,  4749.50,   4749.5,   2.1027,  34.8651, 2,  34.8644, 2,    253.5, 2,    252.6, 2,    47.37, 2,    21.50, 2,     0.00, 2,     1.46, 2,    0.136, 2,    0.076, 2,    0.007, 2, -999.000, 9,   2192.4, 2,   2337.6, 2,  -999.00, 9,  -999.00, 9, -999.000, 9, -999.000, -999.0000, 9, -999.0000,  -999.00, 9,  -999.00, -999.000, 9, -999.000,   -999.0, 9,   -999.0,  -999.00, 9, -999.0000, 9, -999.0000, 9, -999.0000, 9, -999.0000, 9, -999.0000, 9, -999.0000, 9, -999, 9, -999, 9, -999, 9, -999, 9, -999, 9, -999, 9, -999, 9,  -999.00, 9,  -999.00, 9,  -999.00, 9,  -999.00, 9,   1.6778,  -999.00, 9,  356,    9.8960,  -52.3430
316N200309, A20, 62, 1, 1, 1, 2, 20031015, 0351, 9.8953, -52.3432, 4910,  4956.60,   4956.6,   1.8179,  34.8275, 2,  34.8279, 2,    243.6, 2,    481.8, 4,    66.13, 2,    24.17, 2,     0.00, 2,     1.65, 2,    0.098, 2,    0.052, 2,    0.007, 2, -999.000, 9,   2216.0, 2,   2351.4, 2,    40.60, 2,  -999.00, 9, -999.000, 9, -999.000, -999.0000, 9, -999.0000,  -999.00, 9,  -999.00, -999.000, 9, -999.000,   -999.0, 9,   -999.0,  -999.00, 9, -999.0000, 9, -999.0000, 9, -999.0000, 9, -999.0000, 9, -999.0000, 9, -999.0000, 9, -999, 9, -999, 9, -999, 9, -999, 9, -999, 9, -999, 9, -999, 9,  -999.00, 9,  -999.00, 9,  -999.00, 9,  -999.00, 9,   1.3772,  -999.00, 9,  352,    9.8954,  -52.3432