BOTTLE,20220816CCHSIOAMB
EXPOCODE,SECT_ID,STNNBR,CASTNO,SAMPNO,BTLNBR,BTLNBR_FLAG_W,DATE,TIME,LATITUDE,LONGITUDE,DEPTH,CTDRAW,CTDPRS,CTDTMP,CTDSAL,CTDSAL_FLAG_W,SALNTY,SALNTY_FLAG_W,CTDOXY,CTDOXY_FLAG_W,OXYGEN,OXYGEN_FLAG_W,SILCAT,SILCAT_FLAG_W,NITRAT,NITRAT_FLAG_W,NITRIT,NITRIT_FLAG_W,PHSPHT,PHSPHT_FLAG_W,CFC-11,CFC-11_FLAG_W,CFC-12,CFC-12_FLAG_W,CFC113,CFC113_FLAG_W,CCL4,CCL4_FLAG_W,TCARBN,TCARBN_FLAG_W,ALKALI,ALKALI_FLAG_W,DOC,DOC_FLAG_W,TDN,TDN_FLAG_W,TRITUM,TRITUM_FLAG_W,TRITER,HELIUM,HELIUM_FLAG_W,HELIER,DELHE3,DELHE3_FLAG_W,DELHER,NEON,NEON_FLAG_W,NEONER,DELC14,DELC14_FLAG_W,C14ERR,DELC13,DELC13_FLAG_W,CDOM325,CDOM325_FLAG_W,CDOM340,CDOM340_FLAG_W,CDOM380,CDOM380_FLAG_W,CDOM412,CDOM412_FLAG_W,CDOMSL,CDOMSL_FLAG_W,CDOMSN,CDOMSN_FLAG_W,DCNS,DCNS_FLAG_W,ARABI,ARABI_FLAG_W,FUCO,FUCO_FLAG_W,GALA,GALA_FLAG_W,GLUC,GLUC_FLAG_W,MAN,MAN_FLAG_W,RHAM,RHAM_FLAG_W,BRDU,BRDU_FLAG_W,PEUK,PEUK_FLAG_W,PROC,PROC_FLAG_W,SYN,SYN_FLAG_W,THETA,BACT,BACT_FLAG_W,BTL_TIME,BTL_LAT,BTL_LON
,,,,,,,,,,,METERS,DBAR,DBAR,ITS-90,PSS-78,,PSS-78,,UMOL/KG,,UMOL/KG,,UMOL/KG,,UMOL/KG,,UMOL/KG,,UMOL/KG,,PMOL/KG,,PMOL/KG,,PMOL/KG,,PMOL/KG,,UMOL/KG,,UMOL/KG,,UMOL/KG,,UMOL/KG,,TU,,TU,NMOL/KG,,NMOL/KG,PERCNT,,PERCNT,NMOL/KG,,NMOL/KG,/MILLE,,/MILLE,/MILLE,,1/M,,1/M,,1/M,,1/M,,1/NM,,1/NM,,NMOL/KG,,NMOL/KG,,NMOL/KG,,NMOL/KG,,NMOL/KG,,NMOL/KG,,NMOL/KG,,PMOL/L/H,,E6/L,,E7/L,,E6/L,,DEG C,E8/L,,,,
316N200309, A20, 26, 1, 36, 36, 2, 20031001, 0856, 35.5680, -52.3617, 4887,     7.30,      7.3,  24.7998,  36.5988, 2,  36.6019, 2,    206.5, 2,    209.1, 2,     0.77, 2,     0.14, 2,     0.00, 2,     0.02, 2,    1.875, 2,    1.146, 2,    0.172, 2, -999.000, 9,   2045.6, 2,   2391.5, 2,  -999.00, 9,  -999.00, 9, -999.000, 9, -999.000, -999.0000, 9, -999.0000,  -999.00, 9,  -999.00, -999.000, 9, -999.000,     76.5, 2,      3.6,     1.32, 2,    0.0490, 2,    0.0300, 2,    0.0080, 2,    0.0040, 2,    0.0330, 2,    0.0340, 2, -999, 9, -999, 9, -999, 9, -999, 9, -999, 9, -999, 9, -999, 9,  -999.00, 9,  -999.00, 9,  -999.00, 9,  -999.00, 9,  24.7982,  -999.00, 9, 1056,   35.5799,  -52.3699
316N200309, A20, 26, 1, 35, 35, 2, 20031001, 0856, 35.5680, -52.3617, 4887,    25.30,     25.3,  24.7977,  36.6006, 2,  36.6035, 2,    205.2, 2,    208.2, 2,     0.83, 2,     0.14, 2,     0.00, 2,     0.01, 2,    1.868, 2,    1.149, 2,    0.159, 2, -999.000, 9,   -999.0, 9,   -999.0, 9,  -999.00, 9,  -999.00, 9, -999.000, 9, -999.000, -999.0000, 9, -999.0000,  -999.00, 9,  -999.00, -999.000, 9, -999.000,   -999.0, 9,   -999.0,  -999.00, 9,    0.0510, 2,    0.0310, 2,    0.0090, 2,    0.0050, 2,    0.0340, 2,    0.0340, 2, -999, 9, -999, 9, -999, 9, -999, 9, -999, 9, -999, 9, -999, 9,  -999.00, 9,  -999.00, 9,  -999.00, 9,  -999.00, 9,  24.7922,  -999.00, 9, 1055,   35.5798,  -52.3694
316N200309, A20, 26, 1, 34, 34, 2, 20031001, 0856, 35.5680, -52.3617, 4887,    51.00,     51.0,  24.7430,  36.6038, 2,  36.6009, 2,    206.0, 2,    209.9, 2,     0.79, 2,     0.13, 2,     0.01, 2,     0.01, 2,    1.879, 2,    1.152, 2,    0.138, 2, -999.000, 9,   -999.0, 9,   -999.0, 9,  -999.00, 9,  -999.00, 9, -999.000, 9, -999.000, -999.0000, 9, -999.0000,  -999.00, 9,  -999.00, -999.000, 9, -999.000,   -999.0, 9,   -999.0,  -999.00, 9,    0.0550, 2,    0.0350, 2,    0.0110, 2,    0.0060, 2,    0.0310, 2,    0.0310, 2, -999, 9, -999, 9, -999, 9, -999, 9, -999, 9, -999, 9, -999, 9,  -999.00, 9,  -999.00, 9,  -999.00, 9,  -999.00, 9,  24.7319,  -999.00, 9, 1053,   35.5798,  -52.3690
316N200309, A20, 26, 1, 33, 33, 2, 20031001, 0856, 35.5680, -52.3617, 4887,    74.70,     74.7,  21.3275,  36.6718, 2,  36.6727, 2,    191.0, 2,    195.7, 2,     1.14, 2,     1.61, 2,     0.04, 2,     0.07, 2,    2.178, 2,    1.300, 2,    0.119, 2, -999.000, 9,   -999.0, 9,   -999.0, 9,  -999.00, 9,  -999.00, 9, -999.000, 9, -999.000, -999.0000, 9, -999.0000,  -999.00, 9,  -999.00, -999.000, 9, -999.000,   -999.0, 9,   -999.0,  -999.00, 9,    0.1140, 2,    0.0820, 2,    0.0380, 2,    0.0270, 2,    0.0180, 2,    0.0200, 2, -999, 9, -999, 9, -999, 9, -999, 9, -999, 9, -999, 9, -999, 9,  -999.00, 9,  -999.00, 9,  -999.00, 9,  -999.00, 9,  21.3129,  -999.00, 9, 1052,   35.5798,  -52.3686
316N200309, A20, 26, 1, 32, 32, 2, 20031001, 0856, 35.5680, -52.3617, 4887,   100.50,    100.5,  20.0645,  36.6580, 2,  36.6594, 2,    189.8, 2,    197.0, 2,     1.19, 2,     2.01, 2,     0.02, 2,     0.09, 2,    2.255, 2,    1.317, 2,    0.093, 2, -999.000, 9,   -999.0, 9,   -999.0, 9,  -999.00, 9,  -999.00, 9, -999.000, 9, -999.000, -999.0000, 9, -999.0000,  -999.00, 9,  -999.00, -999.000, 9, -999.000,   -999.0, 9,   -999.0,  -999.00, 9,    0.1000, 2,    0.0730, 2,    0.0350, 2,    0.0260, 2,    0.0180, 2,    0.0190, 2, -999, 9, -999, 9, -999, 9, -999, 9, -999, 9, -999, 9, -999, 9,  -999.00, 9,  -999.00, 9,  -999.00, 9,  -999.00, 9,  20.0457,  -999.00, 9, 1050,   35.5797,  -52.3682
316N200309, A20, 26, 1, 31, 31, 2, 20031001, 0856, 35.5680, -52.3617, 4887,   125.20,    125.2,  19.3989,  36.6324, 2,  36.6346, 2,    198.1, 2,    202.5, 2,     1.25, 2,     2.02, 2,     0.02, 2,     0.09, 2, -999.000, 9, -999.000, 9, -999.000, 9, -999.000, 9,   -999.0, 9,   -999.0, 9,  -999.00, 9,  -999.00, 9, -999.000, 9, -999.000, -999.0000, 9, -999.0000,  -999.00, 9,  -999.00, -999.000, 9, -999.000,   -999.0, 9,   -999.0,  -999.00, 9,    0.0800, 2,    0.0580, 2,    0.0270, 2,    0.0200, 2,    0.0210, 2,    0.0210, 2, -999, 9, -999, 9, -999, 9, -999, 9, -999, 9, -999, 9, -999, 9,  -999.00, 9,  -999.00, 9,  -999.00, 9,  -999.00, 9,  19.3760,  -999.00, 9, 1049,   35.5797,  -52.3678
316N200309, A20, 26, 1, 30, 30, 2, 20031001, 0856, 35.5680, -52.3617, 4887,   150.10,    150.1,  19.1817,  36.6197, 2,  36.6225, 2,    200.2, 2,    203.7, 2,     1.21, 2,     2.26, 2,     0.02, 2,     0.10, 2,    2.332, 2,    1.385, 2,    0.089, 2, -999.000, 9,   -999.0, 9,   -999.0, 9,  -999.00, 9,  -999.00, 9, -999.000, 9, -999.000, -999.0000, 9, -999.0000,  -999.00, 9,  -999.00, -999.000, 9, -999.000,   -999.0, 9,   -999.0,  -999.00, 9, -999.0000, 9, -999.0000, 9, -999.0000, 9, -999.0000, 9, -999.0000, 9, -999.0000, 9, -999, 9, -999, 9, -999, 9, -999, 9, -999, 9, -999, 9, -999, 9,  -999.00, 9,  -999.00, 9,  -999.00, 9,  -999.00, 9,  19.1545,  -999.00, 9, 1047,   35.5796,  -52.3674
316N200309, A20, 26, 1, 29, 29, 2, 20031001, 0856, 35.5680, -52.3617, 4887,   200.10,    200.1,  18.8767,  36.6043, 2,  36.6052, 2,    201.8, 2,    203.7, 2,     1.27, 2,     2.75, 2,     0.01, 2,     0.12, 2,    2.311, 2,    1.367, 2,    0.071, 2, -999.000, 9,   -999.0, 9,   -999.0, 9,  -999.00, 9,  -999.00, 9, -999.000, 9, -999.000, -999.0000, 9, -999.0000,  -999.00, 9,  -999.00, -999.000, 9, -999.000,   -999.0, 9,   -999.0,  -999.00, 9, -999.0000, 9, -999.0000, 9, -999.0000, 9, -999.0000, 9, -999.0000, 9, -999.0000, 9, -999, 9, -999, 9, -999, 9, -999, 9, -999, 9, -999, 9, -999, 9,  -999.00, 9,  -999.00, 9,  -999.00, 9,  -999.00, 9,  18.8408,  -999.00, 9, 1045,   35.5794,  -52.3668
316N200309, A20, 26, 1, 28, 28, 2, 20031001, 0856, 35.5680, -52.3617, 4887,   250.20,    250.2,  18.6213,  36.5827, 2,  36.5803, 2,    199.1, 2,    205.1, 2,     1.43, 2,     3.09, 2,     0.01, 2,     0.15, 2,    2.383, 2,    1.384, 2,    0.063, 2, -999.000, 9,   -999.0, 9,   -999.0, 9,  -999.00, 9,  -999.00, 9, -999.000, 9, -999.000, -999.0000, 9, -999.0000,  -999.00, 9,  -999.00, -999.000, 9, -999.000,   -999.0, 9,   -999.0,  -999.00, 9, -999.0000, 9, -999.0000, 9, -999.0000, 9, -999.0000, 9, -999.0000, 9, -999.0000, 9, -999, 9, -999, 9, -999, 9, -999, 9, -999, 9, -999, 9, -999, 9,  -999.00, 9,  -999.00, 9,  -999.00, 9,  -999.00, 9,  18.5768,  -999.00, 9, 1044,   35.5794,  -52.3663
316N200309, A20, 26, 1, 27, 27, 2, 20031001, 0856, 35.5680, -52.3617, 4887,   300.70,    300.7,  18.1637,  36.5304, 2,  36.5289, 2,    196.3, 2,    196.4, 2,     1.68, 2,     4.51, 2,     0.01, 2,     0.22, 2,    2.395, 2,    1.381, 2,    0.037, 2, -999.000, 9,   -999.0, 9,   -999.0, 9,  -999.00, 9,  -999.00, 9, -999.000, 9, -999.000, -999.0000, 9, -999.0000,  -999.00, 9,  -999.00, -999.000, 9, -999.000,   -999.0, 9,   -999.0,  -999.00, 9, -999.0000, 9, -999.0000, 9, -999.0000, 9, -999.0000, 9, -999.0000, 9, -999.0000, 9, -999, 9, -999, 9, -999, 9, -999, 9, -999, 9, -999, 9, -999, 9,  -999.00, 9,  -999.00, 9,  -999.00, 9,  -999.00, 9,  18.1111,  -999.00, 9, 1042,   35.5794,  -52.3657
316N200309, A20, 26, 1, 26, 26, 2, 20031001, 0856, 35.5680, -52.3617, 4887,   402.10,    402.1,  17.0805,  36.3676, 2,  36.3683, 2,    197.3, 2,    199.4, 2,     2.13, 2,     5.99, 2,     0.01, 2,     0.32, 2,    2.446, 2,    1.391, 2,    0.056, 2, -999.000, 9,   -999.0, 9,   -999.0, 9,  -999.00, 9,  -999.00, 9, -999.000, 9, -999.000, -999.0000, 9, -999.0000,  -999.00, 9,  -999.00, -999.000, 9, -999.000,   -999.0, 9,   -999.0,  -999.00, 9, -999.0000, 9, -999.0000, 9, -999.0000, 9, -999.0000, 9, -999.0000, 9, -999.0000, 9, -999, 9, -999, 9, -999, 9, -999, 9, -999, 9, -999, 9, -999, 9,  -999.00, 9,  -999.00, 9,  -999.00, 9,  -999.00, 9,  17.0130,  -999.00, 9, 1039,   35.5795,  -52.3649
316N200309, A20, 26, 1, 25, 25, 2, 20031001, 0856, 35.5680, -52.3617, 4887,   521.70,    521.7,  15.8335,  36.1903, 2,  36.1909, 2,    209.4, 2,    208.1, 2,     2.77, 2,     7.35, 2,     0.01, 2,     0.42, 2,    2.522, 6,    1.438, 6,    0.088, 6, -999.000, 9,   -999.0, 9,   -999.0, 9,  -999.00, 9,  -999.00, 9, -999.000, 9, -999.000, -999.0000, 9, -999.0000,  -999.00, 9,  -999.00, -999.000, 9, -999.000,   -999.0, 9,   -999.0,  -999.00, 9, -999.0000, 9, -999.0000, 9, -999.0000, 9, -999.0000, 9, -999.0000, 9, -999.0000, 9, -999, 9, -999, 9, -999, 9, -999, 9, -999, 9, -999, 9, -999, 9,  -999.00, 9,  -999.00, 9,  -999.00, 9,  -999.00, 9,  15.7501,  -999.00, 9, 1036,   35.5793,  -52.3644
316N200309, A20, 26, 1, 24, 24, 2, 20031001, 0856, 35.5680, -52.3617, 4887,   624.30,    624.3,  14.0774,  35.8709, 2,  35.8698, 2,    194.3, 2,    193.3, 2,     4.49, 2,    11.29, 2,     0.00, 2,     0.67, 2,    2.361, 2,    1.313, 2,    0.056, 2, -999.000, 9,   -999.0, 9,   -999.0, 9,  -999.00, 9,  -999.00, 9, -999.000, 9, -999.000, -999.0000, 9, -999.0000,  -999.00, 9,  -999.00, -999.000, 9, -999.000,   -999.0, 9,   -999.0,  -999.00, 9, -999.0000, 9, -999.0000, 9, -999.0000, 9, -999.0000, 9, -999.0000, 9, -999.0000, 9, -999, 9, -999, 9, -999, 9, -999, 9, -999, 9, -999, 9, -999, 9,  -999.00, 9,  -999.00, 9,  -999.00, 9,  -999.00, 9,  13.9849,  -999.00, 9, 1033,   35.5790,  -52.3646
316N200309, A20, 26, 1, 23, 23, 2, 20031001, 0856, 35.5680, -52.3617, 4887,   750.20,    750.2,  11.8300,  35.5297, 2,  35.5289, 2,    173.7, 2,    171.1, 2,     8.09, 2,    16.93, 2,     0.00, 2,     1.06, 2,    1.958, 2,    1.055, 2,    0.053, 2, -999.000, 9,   -999.0, 9,   -999.0, 9,  -999.00, 9,  -999.00, 9, -999.000, 9, -999.000, -999.0000, 9, -999.0000,  -999.00, 9,  -999.00, -999.000, 9, -999.000,   -999.0, 9,   -999.0,  -999.00, 9, -999.0000, 9, -999.0000, 9, -999.0000, 9, -999.0000, 9, -999.0000, 9, -999.0000, 9, -999, 9, -999, 9, -999, 9, -999, 9, -999, 9, -999, 9, -999, 9,  -999.00, 9,  -999.00, 9,  -999.00, 9,  -999.00, 9,  11.7303,  -999.00, 9, 1030,   35.5785,  -52.3650
316N200309, A20, 26, 1, 22, 22, 2, 20031001, 0856, 35.5680, -52.3617, 4887,   832.10,    832.1,  10.2752,  35.3331, 2,  35.3325, 2,    159.1, 2,    159.8, 2,    10.81, 2,    20.47, 2,     0.00, 2,     1.29, 2,    1.558, 2,    0.825, 2,    0.050, 2, -999.000, 9,   -999.0, 9,   -999.0, 9,  -999.00, 9,  -999.00, 9, -999.000, 9, -999.000, -999.0000, 9, -999.0000,  -999.00, 9,  -999.00, -999.000, 9, -999.000,   -999.0, 9,   -999.0,  -999.00, 9, -999.0000, 9, -999.0000, 9, -999.0000, 9, -999.0000, 9, -999.0000, 9, -999.0000, 9, -999, 9, -999, 9, -999, 9, -999, 9, -999, 9, -999, 9, -999, 9,  -999.00, 9,  -999.00, 9,  -999.00, 9,  -999.00, 9,  10.1735,  -999.00, 9, 1028,   35.5782,  -52.3653
316N200309, A20, 26, 1, 21, 21, 2, 20031001, 0856, 35.5680, -52.3617, 4887,  1001.70,   1001.7,   8.0696,  35.2591, 2,  35.2587, 2,    185.6, 2,    184.1, 4,    12.24, 2,    20.42, 2,     0.00, 2,     1.31, 2,    1.372, 2,    0.700, 2,    0.039, 2, -999.000, 9,   -999.0, 9,   -999.0, 9,  -999.00, 9,  -999.00, 9, -999.000, 9, -999.000, -999.0000, 9, -999.0000,  -999.00, 9,  -999.00, -999.000, 9, -999.000,   -999.0, 9,   -999.0,  -999.00, 9, -999.0000, 9, -999.0000, 9, -999.0000, 9, -999.0000, 9, -999.0000, 9, -999.0000, 9, -999, 9, -999, 9, -999, 9, -999, 9, -999, 9, -999, 9, -999, 9,  -999.00, 9,  -999.00, 9,  -999.00, 9,  -999.00, 9,   7.9622,  -999.00, 9, 1024,   35.5778,  -52.3657
316N200309, A20, 26, 1, 20, 20, 2, 20031001, 0856, 35.5680, -52.3617, 4887,  1201.60,   1201.6,   5.5028,  35.0520, 2,  35.0526, 2,    225.1, 2,    228.8, 4,    12.21, 2,    18.98, 2,     0.00, 2,     1.25, 2,    2.116, 2,    1.081, 2,    0.122, 2, -999.000, 9,   -999.0, 9,   -999.0, 9,  -999.00, 9,  -999.00, 9, -999.000, 9, -999.000, -999.0000, 9, -999.0000,  -999.00, 9,  -999.00, -999.000, 9, -999.000,   -999.0, 9,   -999.0,  -999.00, 9, -999.0000, 9, -999.0000, 9, -999.0000, 9, -999.0000, 9, -999.0000, 9, -999.0000, 9, -999, 9, -999, 9, -999, 9, -999, 9, -999, 9, -999, 9, -999, 9,  -999.00, 9,  -999.00, 9,  -999.00, 9,  -999.00, 9,   5.3954,  -999.00, 9, 1020,   35.5774,  -52.3653
316N200309, A20, 26, 1, 19, 19, 2, 20031001, 0856, 35.5680, -52.3617, 4887,  1325.40,   1325.4,   5.0841,  35.0341, 2,  35.0346, 2,    240.4, 2,    240.7, 4,    11.88, 2,    18.48, 2,     0.00, 2,     1.21, 2,    2.223, 2,    1.130, 2,    0.139, 2, -999.000, 9,   -999.0, 9,   -999.0, 9,  -999.00, 9,  -999.00, 9, -999.000, 9, -999.000, -999.0000, 9, -999.0000,  -999.00, 9,  -999.00, -999.000, 9, -999.000,   -999.0, 9,   -999.0,  -999.00, 9, -999.0000, 9, -999.0000, 9, -999.0000, 9, -999.0000, 9, -999.0000, 9, -999.0000, 9, -999, 9, -999, 9, -999, 9, -999, 9, -999, 9, -999, 9, -999, 9,  -999.00, 9,  -999.00, 9,  -999.00, 9,  -999.00, 9,   4.9686,  -999.00, 9, 1017,   35.5771,  -52.3646
316N200309, A20, 26, 1, 18, 18, 2, 20031001, 0856, 35.5680, -52.3617, 4887,  1450.90,   1450.9,   4.7505,  35.0219, 2,  35.0224, 2,    247.5, 2,    249.7, 4,    11.74, 2,    18.13, 2,     0.00, 2,     1.19, 2,    2.313, 2,    1.162, 2,    0.137, 2, -999.000, 9,   -999.0, 9,   -999.0, 9,  -999.00, 9,  -999.00, 9, -999.000, 9, -999.000, -999.0000, 9, -999.0000,  -999.00, 9,  -999.00, -999.000, 9, -999.000,   -999.0, 9,   -999.0,  -999.00, 9, -999.0000, 9, -999.0000, 9, -999.0000, 9, -999.0000, 9, -999.0000, 9, -999.0000, 9, -999, 9, -999, 9, -999, 9, -999, 9, -999, 9, -999, 9, -999, 9,  -999.00, 9,  -999.00, 9,  -999.00, 9,  -999.00, 9,   4.6264,  -999.00, 9, 1014,   35.5768,  -52.3642
316N200309, A20, 26, 1, 17, 17, 2, 20031001, 0856, 35.5680, -52.3617, 4887,  1575.30,   1575.3,   4.3724,  34.9903, 2,  34.9923, 2,    256.4, 2,    256.9, 2,    11.80, 2,    17.93, 2,     0.00, 2,     1.18, 2,    2.231, 2,    1.120, 2,    0.125, 2, -999.000, 9,   -999.0, 9,   -999.0, 9,  -999.00, 9,  -999.00, 9, -999.000, 9, -999.000, -999.0000, 9, -999.0000,  -999.00, 9,  -999.00, -999.000, 9, -999.000,   -999.0, 9,   -999.0,  -999.00, 9, -999.0000, 9, -999.0000, 9, -999.0000, 9, -999.0000, 9, -999.0000, 9, -999.0000, 9, -999, 9, -999, 9, -999, 9, -999, 9, -999, 9, -999, 9, -999, 9,  -999.00, 9,  -999.00, 9,  -999.00, 9,  -999.00, 9,   4.2408,  -999.00, 9, 1011,   35.5764,  -52.3638
316N200309, A20, 26, 1, 16, 16, 2, 20031001, 0856, 35.5680, -52.3617, 4887,  1701.00,   1701.0,   4.1443,  34.9748, 2,  34.9766, 2,    260.6, 2,    261.2, 2,    11.95, 2,    17.74, 2,     0.00, 2,     1.17, 2,    2.187, 2,    1.079, 2,    0.117, 2, -999.000, 9,   -999.0, 9,   -999.0, 9,  -999.00, 9,  -999.00, 9, -999.000, 9, -999.000, -999.0000, 9, -999.0000,  -999.00, 9,  -999.00, -999.000, 9, -999.000,   -999.0, 9,   -999.0,  -999.00, 9, -999.0000, 9, -999.0000, 9, -999.0000, 9, -999.0000, 9, -999.0000, 9, -999.0000, 9, -999, 9, -999, 9, -999, 9, -999, 9, -999, 9, -999, 9, -999, 9,  -999.00, 9,  -999.00, 9,  -999.00, 9,  -999.00, 9,   4.0037,  -999.00, 9, 1008,   35.5760,  -52.3635
316N200309, A20, 26, 1, 15, 15, 2, 20031001, 0856, 35.5680, -52.3617, 4887,  1849.70,   1849.7,   3.9895,  34.9682, 2,  34.9695, 2,    263.3, 2,    263.3, 2,    12.30, 2,    17.74, 2,     0.00, 2,     1.17, 2,    1.938, 2,    0.959, 2,    0.103, 2, -999.000, 9,   -999.0, 9,   -999.0, 9,  -999.00, 9,  -999.00, 9, -999.000, 9, -999.000, -999.0000, 9, -999.0000,  -999.00, 9,  -999.00, -999.000, 9, -999.000,   -999.0, 9,   -999.0,  -999.00, 9, -999.0000, 9, -999.0000, 9, -999.0000, 9, -999.0000, 9, -999.0000, 9, -999.0000, 9, -999, 9, -999, 9, -999, 9, -999, 9, -999, 9, -999, 9, -999, 9,  -999.00, 9,  -999.00, 9,  -999.00, 9,  -999.00, 9,   3.8367,  -999.00, 9, 1004,   35.5756,  -52.3631
316N200309, A20, 26, 1, 14, 14, 2, 20031001, 0856, 35.5680, -52.3617, 4887,  2000.90,   2000.9,   3.8014,  34.9553, 2,  34.9561, 2,    264.6, 2,    266.6, 2,    12.67, 2,    17.59, 2,     0.00, 2,     1.17, 2,    1.791, 2,    0.860, 2, -999.000, 5,    2.346, 2,   -999.0, 9,   -999.0, 9,  -999.00, 9,  -999.00, 9, -999.000, 9, -999.000, -999.0000, 9, -999.0000,  -999.00, 9,  -999.00, -999.000, 9, -999.000,   -999.0, 9,   -999.0,  -999.00, 9, -999.0000, 9, -999.0000, 9, -999.0000, 9, -999.0000, 9, -999.0000, 9, -999.0000, 9, -999, 9, -999, 9, -999, 9, -999, 9, -999, 9, -999, 9, -999, 9,  -999.00, 9,  -999.00, 9,  -999.00, 9,  -999.00, 9,   3.6368,  -999.00, 9, 1001,   35.5752,  -52.3625
316N200309, A20, 26, 1, 13, 13, 2, 20031001, 0856, 35.5680, -52.3617, 4887,  2247.90,   2247.9,   3.6158,  34.9557, 2,  34.9567, 2,    267.7, 2,    267.6, 2,    14.21, 2,    17.74, 2,     0.00, 2,     1.17, 2,    1.523, 2,    0.740, 2,    0.075, 2, -999.000, 9,   -999.0, 9,   -999.0, 9,  -999.00, 9,  -999.00, 9, -999.000, 9, -999.000, -999.0000, 9, -999.0000,  -999.00, 9,  -999.00, -999.000, 9, -999.000,   -999.0, 9,   -999.0,  -999.00, 9, -999.0000, 9, -999.0000, 9, -999.0000, 9, -999.0000, 9, -999.0000, 9, -999.0000, 9, -999, 9, -999, 9, -999, 9, -999, 9, -999, 9, -999, 9, -999, 9,  -999.00, 9,  -999.00, 9,  -999.00, 9,  -999.00, 9,   3.4299,  -999.00, 9,  956,   35.5744,  -52.3619
316N200309, A20, 26, 1, 12, 12, 2, 20031001, 0856, 35.5680, -52.3617, 4887,  2499.50,   2499.5,   3.4101,  34.9528, 2,  34.9540, 2,    265.4, 2,    266.5, 2,    16.15, 2,    17.79, 2,     0.00, 2,     1.19, 2,    1.097, 2,    0.542, 2,    0.048, 2, -999.000, 9,   -999.0, 9,   -999.0, 9,  -999.00, 9,  -999.00, 9, -999.000, 9, -999.000, -999.0000, 9, -999.0000,  -999.00, 9,  -999.00, -999.000, 9, -999.000,   -999.0, 9,   -999.0,  -999.00, 9, -999.0000, 9, -999.0000, 9, -999.0000, 9, -999.0000, 9, -999.0000, 9, -999.0000, 9, -999, 9, -999, 9, -999, 9, -999, 9, -999, 9, -999, 9, -999, 9,  -999.00, 9,  -999.00, 9,  -999.00, 9,  -999.00, 9,   3.2027,  -999.00, 9,  951,   35.5736,  -52.3615
316N200309, A20, 26, 1, 11, 11, 2, 20031001, 0856, 35.5680, -52.3617, 4887,  2749.90,   2749.9,   3.2578,  34.9501, 2,  34.9516, 2,    265.1, 2,    265.0, 2,    17.89, 2,    17.90, 2,     0.00, 2,     1.20, 2,    0.862, 2,    0.421, 2,    0.035, 2, -999.000, 9,   -999.0, 9,   -999.0, 9,  -999.00, 9,  -999.00, 9, -999.000, 9, -999.000, -999.0000, 9, -999.0000,  -999.00, 9,  -999.00, -999.000, 9, -999.000,   -999.0, 9,   -999.0,  -999.00, 9, -999.0000, 9, -999.0000, 9, -999.0000, 9, -999.0000, 9, -999.0000, 9, -999.0000, 9, -999, 9, -999, 9, -999, 9, -999, 9, -999, 9, -999, 9, -999, 9,  -999.00, 9,  -999.00, 9,  -999.00, 9,  -999.00, 9,   3.0277,  -999.00, 9,  946,   35.5730,  -52.3612