BOTTLE,20220816CCHSIOAMB
EXPOCODE,SECT_ID,STNNBR,CASTNO,SAMPNO,BTLNBR,BTLNBR_FLAG_W,DATE,TIME,LATITUDE,LONGITUDE,DEPTH,CTDRAW,CTDPRS,CTDTMP,CTDSAL,CTDSAL_FLAG_W,SALNTY,SALNTY_FLAG_W,CTDOXY,CTDOXY_FLAG_W,OXYGEN,OXYGEN_FLAG_W,SILCAT,SILCAT_FLAG_W,NITRAT,NITRAT_FLAG_W,NITRIT,NITRIT_FLAG_W,PHSPHT,PHSPHT_FLAG_W,CFC-11,CFC-11_FLAG_W,CFC-12,CFC-12_FLAG_W,CFC113,CFC113_FLAG_W,CCL4,CCL4_FLAG_W,TCARBN,TCARBN_FLAG_W,ALKALI,ALKALI_FLAG_W,DOC,DOC_FLAG_W,TDN,TDN_FLAG_W,TRITUM,TRITUM_FLAG_W,TRITER,HELIUM,HELIUM_FLAG_W,HELIER,DELHE3,DELHE3_FLAG_W,DELHER,NEON,NEON_FLAG_W,NEONER,DELC14,DELC14_FLAG_W,C14ERR,DELC13,DELC13_FLAG_W,CDOM325,CDOM325_FLAG_W,CDOM340,CDOM340_FLAG_W,CDOM380,CDOM380_FLAG_W,CDOM412,CDOM412_FLAG_W,CDOMSL,CDOMSL_FLAG_W,CDOMSN,CDOMSN_FLAG_W,DCNS,DCNS_FLAG_W,ARABI,ARABI_FLAG_W,FUCO,FUCO_FLAG_W,GALA,GALA_FLAG_W,GLUC,GLUC_FLAG_W,MAN,MAN_FLAG_W,RHAM,RHAM_FLAG_W,BRDU,BRDU_FLAG_W,PEUK,PEUK_FLAG_W,PROC,PROC_FLAG_W,SYN,SYN_FLAG_W,THETA,BACT,BACT_FLAG_W,BTL_TIME,BTL_LAT,BTL_LON
,,,,,,,,,,,METERS,DBAR,DBAR,ITS-90,PSS-78,,PSS-78,,UMOL/KG,,UMOL/KG,,UMOL/KG,,UMOL/KG,,UMOL/KG,,UMOL/KG,,PMOL/KG,,PMOL/KG,,PMOL/KG,,PMOL/KG,,UMOL/KG,,UMOL/KG,,UMOL/KG,,UMOL/KG,,TU,,TU,NMOL/KG,,NMOL/KG,PERCNT,,PERCNT,NMOL/KG,,NMOL/KG,/MILLE,,/MILLE,/MILLE,,1/M,,1/M,,1/M,,1/M,,1/NM,,1/NM,,NMOL/KG,,NMOL/KG,,NMOL/KG,,NMOL/KG,,NMOL/KG,,NMOL/KG,,NMOL/KG,,PMOL/L/H,,E6/L,,E7/L,,E6/L,,DEG C,E8/L,,,,
316N200309, A20, 81, 1, 10, 10, 2, 20031017, 2021, 7.2858, -53.3987, 279,     3.50,      3.5,  29.6196,  32.3023, 2,  32.2907, 2,    189.1, 2,    196.0, 2,     9.33, 2,     0.24, 2,     0.00, 2,     0.02, 2,    1.535, 2,    0.950, 2,    0.114, 2,    1.741, 2,   1823.8, 2,   2144.5, 2,  -999.00, 9,  -999.00, 9, -999.000, 9, -999.000, -999.0000, 9, -999.0000,  -999.00, 9,  -999.00, -999.000, 9, -999.000,   -999.0, 9,   -999.0,  -999.00, 9, -999.0000, 9, -999.0000, 9, -999.0000, 9, -999.0000, 9, -999.0000, 9, -999.0000, 9, -999, 9, -999, 9, -999, 9, -999, 9, -999, 9, -999, 9, -999, 9,  -999.00, 9,  -999.00, 9,  -999.00, 9,  -999.00, 9,  29.6187,  -999.00, 9, 2034,    7.2875,  -53.3959
316N200309, A20, 81, 1, 9, 9, 2, 20031017, 2021, 7.2858, -53.3987, 279,    27.10,     27.1,  28.8379,  35.3481, 2,  35.1744, 2,    190.9, 2,    195.8, 2,     2.86, 2,     0.24, 2,     0.00, 2,     0.06, 2,    1.597, 2,    1.034, 2,    0.123, 2,    1.273, 2,   -999.0, 9,   -999.0, 9,  -999.00, 9,  -999.00, 9, -999.000, 9, -999.000, -999.0000, 9, -999.0000,  -999.00, 9,  -999.00, -999.000, 9, -999.000,   -999.0, 9,   -999.0,  -999.00, 9, -999.0000, 9, -999.0000, 9, -999.0000, 9, -999.0000, 9, -999.0000, 9, -999.0000, 9, -999, 9, -999, 9, -999, 9, -999, 9, -999, 9, -999, 9, -999, 9,  -999.00, 9,  -999.00, 9,  -999.00, 9,  -999.00, 9,  28.8314,  -999.00, 9, 2033,    7.2869,  -53.3958
316N200309, A20, 81, 1, 8, 8, 2, 20031017, 2021, 7.2858, -53.3987, 279,    51.00,     51.0,  27.5049,  36.2156, 2,  36.2087, 2,    187.3, 2,    190.8, 2,     0.91, 2,     0.30, 2,     0.03, 2,     0.10, 2,    1.633, 2,    1.045, 2,    0.117, 2,    1.219, 2,   -999.0, 9,   -999.0, 9,  -999.00, 9,  -999.00, 9, -999.000, 9, -999.000, -999.0000, 9, -999.0000,  -999.00, 9,  -999.00, -999.000, 9, -999.000,   -999.0, 9,   -999.0,  -999.00, 9, -999.0000, 9, -999.0000, 9, -999.0000, 9, -999.0000, 9, -999.0000, 9, -999.0000, 9, -999, 9, -999, 9, -999, 9, -999, 9, -999, 9, -999, 9, -999, 9,  -999.00, 9,  -999.00, 9,  -999.00, 9,  -999.00, 9,  27.4930,  -999.00, 9, 2031,    7.2863,  -53.3959
316N200309, A20, 81, 1, 7, 7, 2, 20031017, 2021, 7.2858, -53.3987, 279,    73.20,     73.2,  26.7826,  36.2697, 2,  36.2505, 2,    183.6, 2,    187.1, 2,     1.00, 2,     0.66, 2,     0.07, 2,     0.12, 2,    1.667, 2,    1.028, 2,    0.108, 2,    1.177, 2,   -999.0, 9,   -999.0, 9,  -999.00, 9,  -999.00, 9, -999.000, 9, -999.000, -999.0000, 9, -999.0000,  -999.00, 9,  -999.00, -999.000, 9, -999.000,   -999.0, 9,   -999.0,  -999.00, 9, -999.0000, 9, -999.0000, 9, -999.0000, 9, -999.0000, 9, -999.0000, 9, -999.0000, 9, -999, 9, -999, 9, -999, 9, -999, 9, -999, 9, -999, 9, -999, 9,  -999.00, 9,  -999.00, 9,  -999.00, 9,  -999.00, 9,  26.7658,  -999.00, 9, 2030,    7.2861,  -53.3961
316N200309, A20, 81, 1, 6, 6, 2, 20031017, 2021, 7.2858, -53.3987, 279,   100.80,    100.8,  22.0840,  36.6266, 2,  36.6257, 2,    146.6, 2,    150.2, 2,     2.51, 2,     6.29, 2,     0.07, 2,     0.41, 2,    1.905, 2,    1.184, 2,    0.082, 2,    0.417, 2,   -999.0, 9,   -999.0, 9,  -999.00, 9,  -999.00, 9, -999.000, 9, -999.000, -999.0000, 9, -999.0000,  -999.00, 9,  -999.00, -999.000, 9, -999.000,   -999.0, 9,   -999.0,  -999.00, 9, -999.0000, 9, -999.0000, 9, -999.0000, 9, -999.0000, 9, -999.0000, 9, -999.0000, 9, -999, 9, -999, 9, -999, 9, -999, 9, -999, 9, -999, 9, -999, 9,  -999.00, 9,  -999.00, 9,  -999.00, 9,  -999.00, 9,  22.0639,  -999.00, 9, 2029,    7.2860,  -53.3965
316N200309, A20, 81, 1, 5, 5, 2, 20031017, 2021, 7.2858, -53.3987, 279,   125.90,    125.9,  20.6692,  36.6772, 2,  36.6739, 2,    139.3, 2,    142.3, 2,     2.39, 2,     7.77, 2,     0.03, 2,     0.45, 2,    1.974, 2,    1.159, 2,    0.043, 2,    0.318, 2,   -999.0, 9,   -999.0, 9,  -999.00, 9,  -999.00, 9, -999.000, 9, -999.000, -999.0000, 9, -999.0000,  -999.00, 9,  -999.00, -999.000, 9, -999.000,   -999.0, 9,   -999.0,  -999.00, 9, -999.0000, 9, -999.0000, 9, -999.0000, 9, -999.0000, 9, -999.0000, 9, -999.0000, 9, -999, 9, -999, 9, -999, 9, -999, 9, -999, 9, -999, 9, -999, 9,  -999.00, 9,  -999.00, 9,  -999.00, 9,  -999.00, 9,  20.6452,  -999.00, 9, 2028,    7.2860,  -53.3969
316N200309, A20, 81, 1, 4, 4, 2, 20031017, 2021, 7.2858, -53.3987, 279,   151.10,    151.1,  19.9456,  36.6418, 2,  36.6390, 2,    137.1, 2,    140.1, 2,     2.48, 2,     8.58, 2,     0.02, 2,     0.49, 2,    2.005, 2,    1.201, 2,    0.035, 2,    0.300, 2,   -999.0, 9,   -999.0, 9,  -999.00, 9,  -999.00, 9, -999.000, 9, -999.000, -999.0000, 9, -999.0000,  -999.00, 9,  -999.00, -999.000, 9, -999.000,   -999.0, 9,   -999.0,  -999.00, 9, -999.0000, 9, -999.0000, 9, -999.0000, 9, -999.0000, 9, -999.0000, 9, -999.0000, 9, -999, 9, -999, 9, -999, 9, -999, 9, -999, 9, -999, 9, -999, 9,  -999.00, 9,  -999.00, 9,  -999.00, 9,  -999.00, 9,  19.9175,  -999.00, 9, 2026,    7.2860,  -53.3973
316N200309, A20, 81, 1, 3, 3, 2, 20031017, 2021, 7.2858, -53.3987, 279,   176.00,    176.0,  19.0802,  36.5220, 2,  36.5137, 2,    135.0, 2,    137.9, 2,     3.17, 2,    10.02, 2,     0.02, 2,     0.58, 2,    1.996, 2,    1.182, 2,    0.018, 2,    0.273, 2,   -999.0, 9,   -999.0, 9,  -999.00, 9,  -999.00, 9, -999.000, 9, -999.000, -999.0000, 9, -999.0000,  -999.00, 9,  -999.00, -999.000, 9, -999.000,   -999.0, 9,   -999.0,  -999.00, 9, -999.0000, 9, -999.0000, 9, -999.0000, 9, -999.0000, 9, -999.0000, 9, -999.0000, 9, -999, 9, -999, 9, -999, 9, -999, 9, -999, 9, -999, 9, -999, 9,  -999.00, 9,  -999.00, 9,  -999.00, 9,  -999.00, 9,  19.0485,  -999.00, 9, 2025,    7.2860,  -53.3977
316N200309, A20, 81, 1, 2, 2, 2, 20031017, 2021, 7.2858, -53.3987, 279,   225.30,    225.3,  15.5592,  35.9544, 2,  35.9534, 2,    129.8, 2,    132.5, 2,     6.02, 2,    15.64, 2,     0.02, 2,     0.96, 2,    1.900, 2,    1.068, 2,    0.006, 2,    0.342, 2,   -999.0, 9,   -999.0, 9,  -999.00, 9,  -999.00, 9, -999.000, 9, -999.000, -999.0000, 9, -999.0000,  -999.00, 9,  -999.00, -999.000, 9, -999.000,   -999.0, 9,   -999.0,  -999.00, 9, -999.0000, 9, -999.0000, 9, -999.0000, 9, -999.0000, 9, -999.0000, 9, -999.0000, 9, -999, 9, -999, 9, -999, 9, -999, 9, -999, 9, -999, 9, -999, 9,  -999.00, 9,  -999.00, 9,  -999.00, 9,  -999.00, 9,  15.5239,  -999.00, 9, 2024,    7.2860,  -53.3981
316N200309, A20, 81, 1, 1, 1, 2, 20031017, 2021, 7.2858, -53.3987, 279,   266.30,    266.3,  12.9733,  35.4925, 2,  35.5056, 2,    125.8, 2,    127.9, 2,     9.27, 2,    19.97, 2,     0.02, 2,     1.28, 2,    1.722, 2,    0.935, 2,    0.008, 2,    0.379, 2,   -999.0, 9,   -999.0, 9,  -999.00, 9,  -999.00, 9, -999.000, 9, -999.000, -999.0000, 9, -999.0000,  -999.00, 9,  -999.00, -999.000, 9, -999.000,   -999.0, 9,   -999.0,  -999.00, 9, -999.0000, 9, -999.0000, 9, -999.0000, 9, -999.0000, 9, -999.0000, 9, -999.0000, 9, -999, 9, -999, 9, -999, 9, -999, 9, -999, 9, -999, 9, -999, 9,  -999.00, 9,  -999.00, 9,  -999.00, 9,  -999.00, 9,  12.9364,  -999.00, 9, 2022,    7.2859,  -53.3986
316N200309, A20, 82, 1, 9, 9, 2, 20031017, 2125, 7.2452, -53.4202, 241,     2.60,      2.6,  29.9447,  32.0721, 2,  32.0730, 2,    191.6, 2,    195.3, 2,    10.41, 2,     0.13, 2,     0.00, 2,     0.04, 2,    1.597, 2,    0.999, 2,    0.131, 2, -999.000, 9,   -999.0, 9,   2131.9, 2,  -999.00, 5,     5.20, 2, -999.000, 9, -999.000, -999.0000, 9, -999.0000,  -999.00, 9,  -999.00, -999.000, 9, -999.000,   -999.0, 9,   -999.0,  -999.00, 9, -999.0000, 9, -999.0000, 9, -999.0000, 9, -999.0000, 9, -999.0000, 9, -999.0000, 9, -999, 9, -999, 9, -999, 9, -999, 9, -999, 9, -999, 9, -999, 9,  -999.00, 9,  -999.00, 9,  -999.00, 9,  -999.00, 9,  29.9441,  -999.00, 9, 2135,    7.2479,  -53.4173
316N200309, A20, 82, 1, 10, 10, 2, 20031017, 2125, 7.2452, -53.4202, 241,     2.70,      2.7,  29.9464,  32.0723, 2, -999.0000, 9,    191.6, 2,   -999.0, 9,  -999.00, 9,  -999.00, 9,  -999.00, 9,  -999.00, 9, -999.000, 9, -999.000, 9, -999.000, 9, -999.000, 9,   1816.1, 2,   -999.0, 1,  -999.00, 5,  -999.00, 9, -999.000, 9, -999.000, -999.0000, 9, -999.0000,  -999.00, 9,  -999.00, -999.000, 9, -999.000,     77.6, 2,      3.5,     1.35, 2, -999.0000, 9, -999.0000, 9, -999.0000, 9, -999.0000, 9, -999.0000, 9, -999.0000, 9, -999, 9, -999, 9, -999, 9, -999, 9, -999, 9, -999, 9, -999, 9,  -999.00, 9,  -999.00, 9,  -999.00, 9,  -999.00, 9,  29.9457,  -999.00, 9, 2135,    7.2479,  -53.4173
316N200309, A20, 82, 1, 8, 8, 2, 20031017, 2125, 7.2452, -53.4202, 241,    27.00,     27.0,  28.2154,  35.8378, 2,  35.8426, 2,    191.5, 2,    194.8, 2,     1.59, 2,     0.12, 2,     0.00, 2,     0.07, 2,    1.672, 2,    1.041, 2,    0.127, 2, -999.000, 9,   2011.1, 2,   2349.9, 2,  -999.00, 5,     4.50, 2, -999.000, 9, -999.000, -999.0000, 9, -999.0000,  -999.00, 9,  -999.00, -999.000, 9, -999.000,   -999.0, 9,   -999.0,  -999.00, 9, -999.0000, 9, -999.0000, 9, -999.0000, 9, -999.0000, 9, -999.0000, 9, -999.0000, 9, -999, 9, -999, 9, -999, 9, -999, 9, -999, 9, -999, 9, -999, 9,  -999.00, 9,  -999.00, 9,  -999.00, 9,  -999.00, 9,  28.2090,  -999.00, 9, 2134,    7.2473,  -53.4174
316N200309, A20, 82, 1, 7, 7, 2, 20031017, 2125, 7.2452, -53.4202, 241,    51.40,     51.4,  27.4714,  36.2280, 2,  36.2236, 2,    187.3, 2,    190.1, 2,     0.97, 2,     0.30, 2,     0.05, 2,     0.10, 2,    1.703, 6,    1.057, 6,    0.140, 6, -999.000, 9,   2037.8, 2,   2371.7, 2,  -999.00, 5,     4.70, 2, -999.000, 9, -999.000, -999.0000, 9, -999.0000,  -999.00, 9,  -999.00, -999.000, 9, -999.000,   -999.0, 9,   -999.0,  -999.00, 9, -999.0000, 9, -999.0000, 9, -999.0000, 9, -999.0000, 9, -999.0000, 9, -999.0000, 9, -999, 9, -999, 9, -999, 9, -999, 9, -999, 9, -999, 9, -999, 9,  -999.00, 9,  -999.00, 9,  -999.00, 9,  -999.00, 9,  27.4594,  -999.00, 9, 2133,    7.2469,  -53.4175
316N200309, A20, 82, 1, 6, 6, 2, 20031017, 2125, 7.2452, -53.4202, 241,    74.70,     74.7,  24.9519,  36.3326, 2,  36.2833, 2,    181.6, 2,    182.6, 2,     1.46, 2,     1.41, 2,     0.08, 2,     0.17, 2,    1.749, 2,    1.063, 2,    0.123, 2, -999.000, 9,   2052.9, 2,   2374.0, 2,  -999.00, 5,     5.40, 2, -999.000, 9, -999.000, -999.0000, 9, -999.0000,  -999.00, 9,  -999.00, -999.000, 9, -999.000,   -999.0, 9,   -999.0,  -999.00, 9, -999.0000, 9, -999.0000, 9, -999.0000, 9, -999.0000, 9, -999.0000, 9, -999.0000, 9, -999, 9, -999, 9, -999, 9, -999, 9, -999, 9, -999, 9, -999, 9,  -999.00, 9,  -999.00, 9,  -999.00, 9,  -999.00, 9,  24.9356,  -999.00, 9, 2132,    7.2466,  -53.4178
316N200309, A20, 82, 1, 5, 5, 2, 20031017, 2125, 7.2452, -53.4202, 241,    99.50,     99.5,  21.8845,  36.6007, 2,  36.5967, 2,    146.6, 2,    148.3, 2,     2.97, 2,     6.55, 2,     0.07, 2,     0.44, 2,    1.998, 2,    1.182, 2,    0.078, 2, -999.000, 9,   2129.4, 2,   2391.7, 2,  -999.00, 5,    10.50, 2, -999.000, 9, -999.000, -999.0000, 9, -999.0000,  -999.00, 9,  -999.00, -999.000, 9, -999.000,   -999.0, 9,   -999.0,  -999.00, 9, -999.0000, 9, -999.0000, 9, -999.0000, 9, -999.0000, 9, -999.0000, 9, -999.0000, 9, -999, 9, -999, 9, -999, 9, -999, 9, -999, 9, -999, 9, -999, 9,  -999.00, 9,  -999.00, 9,  -999.00, 9,  -999.00, 9,  21.8648,  -999.00, 9, 2131,    7.2463,  -53.4180
316N200309, A20, 82, 1, 4, 4, 2, 20031017, 2125, 7.2452, -53.4202, 241,   124.40,    124.4,  21.6694,  36.6401, 2,  36.6374, 2,    144.1, 2,    146.2, 2,     2.85, 2,     6.79, 2,     0.06, 2,     0.43, 2,    2.009, 2,    1.207, 2,    0.088, 2, -999.000, 9,   2134.4, 2,   2392.3, 2,  -999.00, 5,    10.20, 2, -999.000, 9, -999.000, -999.0000, 9, -999.0000,  -999.00, 9,  -999.00, -999.000, 9, -999.000,   -999.0, 9,   -999.0,  -999.00, 9, -999.0000, 9, -999.0000, 9, -999.0000, 9, -999.0000, 9, -999.0000, 9, -999.0000, 9, -999, 9, -999, 9, -999, 9, -999, 9, -999, 9, -999, 9, -999, 9,  -999.00, 9,  -999.00, 9,  -999.00, 9,  -999.00, 9,  21.6448,  -999.00, 9, 2130,    7.2460,  -53.4183
316N200309, A20, 82, 1, 3, 3, 2, 20031017, 2125, 7.2452, -53.4202, 241,   148.70,    148.7,  19.7830,  36.5617, 2,  36.5642, 2,    138.3, 2,    139.2, 2,     3.34, 2,     8.97, 2,     0.03, 2,     0.54, 2,    2.068, 2,    1.200, 2,    0.049, 2, -999.000, 9,   2151.6, 2,   2386.7, 2,  -999.00, 5,    12.60, 2, -999.000, 9, -999.000, -999.0000, 9, -999.0000,  -999.00, 9,  -999.00, -999.000, 9, -999.000,   -999.0, 9,   -999.0,  -999.00, 9, -999.0000, 9, -999.0000, 9, -999.0000, 9, -999.0000, 9, -999.0000, 9, -999.0000, 9, -999, 9, -999, 9, -999, 9, -999, 9, -999, 9, -999, 9, -999, 9,  -999.00, 9,  -999.00, 9,  -999.00, 9,  -999.00, 9,  19.7555,  -999.00, 9, 2129,    7.2457,  -53.4186
316N200309, A20, 82, 1, 2, 2, 2, 20031017, 2125, 7.2452, -53.4202, 241,   194.80,    194.8,  17.3986,  36.2645, 2,  36.2721, 2,    135.5, 2,    135.4, 2,     4.55, 2,    12.35, 2,     0.03, 2,     0.74, 2,    2.064, 2,    1.155, 2,    0.034, 2, -999.000, 9,   2160.8, 2,   2370.1, 2,  -999.00, 5,    16.40, 2, -999.000, 9, -999.000, -999.0000, 9, -999.0000,  -999.00, 9,  -999.00, -999.000, 9, -999.000,   -999.0, 9,   -999.0,  -999.00, 9, -999.0000, 9, -999.0000, 9, -999.0000, 9, -999.0000, 9, -999.0000, 9, -999.0000, 9, -999, 9, -999, 9, -999, 9, -999, 9, -999, 9, -999, 9, -999, 9,  -999.00, 9,  -999.00, 9,  -999.00, 9,  -999.00, 9,  17.3657,  -999.00, 9, 2127,    7.2454,  -53.4192
316N200309, A20, 82, 1, 1, 1, 2, 20031017, 2125, 7.2452, -53.4202, 241,   224.60,    224.6,  15.6645,  35.9704, 2,  35.9669, 2,    131.8, 2,    131.5, 2,     6.57, 2,    15.45, 2,     0.04, 2,     0.97, 2,    1.966, 2,    1.091, 2,    0.014, 2, -999.000, 9,   2167.5, 2,   2355.3, 2,  -999.00, 5,    19.70, 2, -999.000, 9, -999.000, -999.0000, 9, -999.0000,  -999.00, 9,  -999.00, -999.000, 9, -999.000,   -999.0, 9,   -999.0,  -999.00, 9, -999.0000, 9, -999.0000, 9, -999.0000, 9, -999.0000, 9, -999.0000, 9, -999.0000, 9, -999, 9, -999, 9, -999, 9, -999, 9, -999, 9, -999, 9, -999, 9,  -999.00, 9,  -999.00, 9,  -999.00, 9,  -999.00, 9,  15.6292,  -999.00, 9, 2126,    7.2452,  -53.4198