BOTTLE,20220816CCHSIOAMB
EXPOCODE,SECT_ID,STNNBR,CASTNO,SAMPNO,BTLNBR,BTLNBR_FLAG_W,DATE,TIME,LATITUDE,LONGITUDE,DEPTH,CTDRAW,CTDPRS,CTDTMP,CTDSAL,CTDSAL_FLAG_W,SALNTY,SALNTY_FLAG_W,CTDOXY,CTDOXY_FLAG_W,OXYGEN,OXYGEN_FLAG_W,SILCAT,SILCAT_FLAG_W,NITRAT,NITRAT_FLAG_W,NITRIT,NITRIT_FLAG_W,PHSPHT,PHSPHT_FLAG_W,CFC-11,CFC-11_FLAG_W,CFC-12,CFC-12_FLAG_W,CFC113,CFC113_FLAG_W,CCL4,CCL4_FLAG_W,TCARBN,TCARBN_FLAG_W,ALKALI,ALKALI_FLAG_W,DOC,DOC_FLAG_W,TDN,TDN_FLAG_W,TRITUM,TRITUM_FLAG_W,TRITER,HELIUM,HELIUM_FLAG_W,HELIER,DELHE3,DELHE3_FLAG_W,DELHER,NEON,NEON_FLAG_W,NEONER,DELC14,DELC14_FLAG_W,C14ERR,DELC13,DELC13_FLAG_W,CDOM325,CDOM325_FLAG_W,CDOM340,CDOM340_FLAG_W,CDOM380,CDOM380_FLAG_W,CDOM412,CDOM412_FLAG_W,CDOMSL,CDOMSL_FLAG_W,CDOMSN,CDOMSN_FLAG_W,DCNS,DCNS_FLAG_W,ARABI,ARABI_FLAG_W,FUCO,FUCO_FLAG_W,GALA,GALA_FLAG_W,GLUC,GLUC_FLAG_W,MAN,MAN_FLAG_W,RHAM,RHAM_FLAG_W,BRDU,BRDU_FLAG_W,PEUK,PEUK_FLAG_W,PROC,PROC_FLAG_W,SYN,SYN_FLAG_W,THETA,BACT,BACT_FLAG_W,BTL_TIME,BTL_LAT,BTL_LON
,,,,,,,,,,,METERS,DBAR,DBAR,ITS-90,PSS-78,,PSS-78,,UMOL/KG,,UMOL/KG,,UMOL/KG,,UMOL/KG,,UMOL/KG,,UMOL/KG,,PMOL/KG,,PMOL/KG,,PMOL/KG,,PMOL/KG,,UMOL/KG,,UMOL/KG,,UMOL/KG,,UMOL/KG,,TU,,TU,NMOL/KG,,NMOL/KG,PERCNT,,PERCNT,NMOL/KG,,NMOL/KG,/MILLE,,/MILLE,/MILLE,,1/M,,1/M,,1/M,,1/M,,1/NM,,1/NM,,NMOL/KG,,NMOL/KG,,NMOL/KG,,NMOL/KG,,NMOL/KG,,NMOL/KG,,NMOL/KG,,PMOL/L/H,,E6/L,,E7/L,,E6/L,,DEG C,E8/L,,,,
316N200309, A20, 32, 1, 10, 10, 2, 20031004, 1654, 27.5148, -52.3290, 6001,  3750.60,   3750.6,   2.3832,  34.9039, 2,  34.9016, 2,    260.2, 2,    283.0, 4,    35.13, 2,    19.94, 2,     0.00, 2,     1.35, 2,    0.037, 2,    0.020, 2,    0.001, 2, -999.000, 9,   -999.0, 9,   -999.0, 9,  -999.00, 9,  -999.00, 9, -999.000, 9, -999.000, -999.0000, 9, -999.0000,  -999.00, 9,  -999.00, -999.000, 9, -999.000,   -999.0, 9,   -999.0,  -999.00, 9, -999.0000, 9, -999.0000, 9, -999.0000, 9, -999.0000, 9, -999.0000, 9, -999.0000, 9, -999, 9, -999, 9, -999, 9, -999, 9, -999, 9, -999, 9, -999, 9,  -999.00, 9,  -999.00, 9,  -999.00, 9,  -999.00, 9,   2.0663,  -999.00, 9, 1745,   27.5139,  -52.3244
316N200309, A20, 32, 1, 9, 9, 2, 20031004, 1654, 27.5148, -52.3290, 6001,  3999.80,   3999.8,   2.2700,  34.8919, 2,  34.8916, 2,    259.5, 2,    279.2, 4,    38.08, 2,    20.24, 2,     0.00, 2,     1.38, 2,    0.050, 2,    0.029, 2,    0.002, 2, -999.000, 9,   -999.0, 9,   -999.0, 9,  -999.00, 9,  -999.00, 9, -999.000, 9, -999.000, -999.0000, 9, -999.0000,  -999.00, 9,  -999.00, -999.000, 9, -999.000,   -999.0, 9,   -999.0,  -999.00, 9, -999.0000, 9, -999.0000, 9, -999.0000, 9, -999.0000, 9, -999.0000, 9, -999.0000, 9, -999, 9, -999, 9, -999, 9, -999, 9, -999, 9, -999, 9, -999, 9,  -999.00, 9,  -999.00, 9,  -999.00, 9,  -999.00, 9,   1.9282,  -999.00, 9, 1740,   27.5138,  -52.3249
316N200309, A20, 32, 1, 8, 8, 2, 20031004, 1654, 27.5148, -52.3290, 6001,  4249.70,   4249.7,   2.1817,  34.8798, 2,  34.8770, 2,    256.5, 2,    268.1, 4,    43.54, 2,    21.04, 2,     0.00, 2,     1.43, 2,    0.034, 2,    0.024, 2,    0.006, 2, -999.000, 9,   -999.0, 9,   -999.0, 9,  -999.00, 9,  -999.00, 9, -999.000, 9, -999.000, -999.0000, 9, -999.0000,  -999.00, 9,  -999.00, -999.000, 9, -999.000,   -999.0, 9,   -999.0,  -999.00, 9, -999.0000, 9, -999.0000, 9, -999.0000, 9, -999.0000, 9, -999.0000, 9, -999.0000, 9, -999, 9, -999, 9, -999, 9, -999, 9, -999, 9, -999, 9, -999, 9,  -999.00, 9,  -999.00, 9,  -999.00, 9,  -999.00, 9,   1.8139,  -999.00, 9, 1735,   27.5137,  -52.3254
316N200309, A20, 32, 1, 7, 7, 2, 20031004, 1654, 27.5148, -52.3290, 6001,  4500.40,   4500.4,   2.1292,  34.8708, 2,  34.8700, 2,    254.5, 2,    259.8, 4,    47.31, 2,    21.59, 2,     0.00, 2,     1.47, 2,    0.020, 2,    0.004, 2,    0.003, 2, -999.000, 9,   -999.0, 9,   -999.0, 9,  -999.00, 9,  -999.00, 9, -999.000, 9, -999.000, -999.0000, 9, -999.0000,  -999.00, 9,  -999.00, -999.000, 9, -999.000,   -999.0, 9,   -999.0,  -999.00, 9, -999.0000, 9, -999.0000, 9, -999.0000, 9, -999.0000, 9, -999.0000, 9, -999.0000, 9, -999, 9, -999, 9, -999, 9, -999, 9, -999, 9, -999, 9, -999, 9,  -999.00, 9,  -999.00, 9,  -999.00, 9,  -999.00, 9,   1.7334,  -999.00, 9, 1729,   27.5140,  -52.3258
316N200309, A20, 32, 1, 6, 6, 2, 20031004, 1654, 27.5148, -52.3290, 6001,  4749.40,   4749.4,   2.1119,  34.8655, 2,  34.8639, 2,    253.2, 2,    252.8, 4,    49.39, 2,    21.89, 2,     0.00, 2,     1.49, 2,    0.027, 2,    0.015, 2,    0.009, 2, -999.000, 9,   -999.0, 9,   -999.0, 9,  -999.00, 9,  -999.00, 9, -999.000, 9, -999.000, -999.0000, 9, -999.0000,  -999.00, 9,  -999.00, -999.000, 9, -999.000,   -999.0, 9,   -999.0,  -999.00, 9, -999.0000, 9, -999.0000, 9, -999.0000, 9, -999.0000, 9, -999.0000, 9, -999.0000, 9, -999, 9, -999, 9, -999, 9, -999, 9, -999, 9, -999, 9, -999, 9,  -999.00, 9,  -999.00, 9,  -999.00, 9,  -999.00, 9,   1.6867,  -999.00, 9, 1724,   27.5140,  -52.3264
316N200309, A20, 32, 1, 5, 5, 2, 20031004, 1654, 27.5148, -52.3290, 6001,  4999.50,   4999.5,   2.1137,  34.8622, 2,  34.8595, 2,    252.2, 2,    251.2, 2,    50.67, 2,    21.89, 2,     0.00, 2,     1.50, 2,    0.018, 2,    0.027, 2,    0.002, 2, -999.000, 9,   -999.0, 9,   -999.0, 9,  -999.00, 9,  -999.00, 9, -999.000, 9, -999.000, -999.0000, 9, -999.0000,  -999.00, 9,  -999.00, -999.000, 9, -999.000,   -999.0, 9,   -999.0,  -999.00, 9, -999.0000, 9, -999.0000, 9, -999.0000, 9, -999.0000, 9, -999.0000, 9, -999.0000, 9, -999, 9, -999, 9, -999, 9, -999, 9, -999, 9, -999, 9, -999, 9,  -999.00, 9,  -999.00, 9,  -999.00, 9,  -999.00, 9,   1.6575,  -999.00, 9, 1718,   27.5137,  -52.3273
316N200309, A20, 32, 1, 4, 4, 2, 20031004, 1654, 27.5148, -52.3290, 6001,  5250.70,   5250.7,   2.1275,  34.8599, 2,  34.8566, 2,    251.5, 2,    250.8, 2,    51.46, 2,    22.04, 2,     0.00, 2,     1.51, 2,    0.024, 2,    0.028, 2,    0.001, 2, -999.000, 9,   -999.0, 9,   -999.0, 9,  -999.00, 9,  -999.00, 9, -999.000, 9, -999.000, -999.0000, 9, -999.0000,  -999.00, 9,  -999.00, -999.000, 9, -999.000,   -999.0, 9,   -999.0,  -999.00, 9, -999.0000, 9, -999.0000, 9, -999.0000, 9, -999.0000, 9, -999.0000, 9, -999.0000, 9, -999, 9, -999, 9, -999, 9, -999, 9, -999, 9, -999, 9, -999, 9,  -999.00, 9,  -999.00, 9,  -999.00, 9,  -999.00, 9,   1.6391,  -999.00, 9, 1712,   27.5139,  -52.3280
316N200309, A20, 32, 1, 3, 3, 2, 20031004, 1654, 27.5148, -52.3290, 6001,  5498.60,   5498.6,   2.1479,  34.8580, 2,  34.8562, 2,    250.5, 2,    250.6, 2,    52.05, 2,    22.18, 2,     0.00, 2,     1.51, 2,    0.021, 2,    0.024, 2,    0.004, 2, -999.000, 9,   -999.0, 9,   -999.0, 9,  -999.00, 9,  -999.00, 9, -999.000, 9, -999.000, -999.0000, 9, -999.0000,  -999.00, 9,  -999.00, -999.000, 9, -999.000,   -999.0, 9,   -999.0,  -999.00, 9, -999.0000, 9, -999.0000, 9, -999.0000, 9, -999.0000, 9, -999.0000, 9, -999.0000, 9, -999, 9, -999, 9, -999, 9, -999, 9, -999, 9, -999, 9, -999, 9,  -999.00, 9,  -999.00, 9,  -999.00, 9,  -999.00, 9,   1.6266,  -999.00, 9, 1706,   27.5145,  -52.3286
316N200309, A20, 32, 1, 2, 2, 2, 20031004, 1654, 27.5148, -52.3290, 6001,  5750.70,   5750.7,   2.1672,  34.8558, 2,  34.8542, 2,    250.7, 2,    313.7, 4,    52.84, 2,    22.33, 2,     0.00, 2,     1.52, 2,    0.022, 2,    0.028, 2,    0.002, 2, -999.000, 9,   -999.0, 9,   -999.0, 9,  -999.00, 9,  -999.00, 9, -999.000, 9, -999.000, -999.0000, 9, -999.0000,  -999.00, 9,  -999.00, -999.000, 9, -999.000,   -999.0, 9,   -999.0,  -999.00, 9, -999.0000, 9, -999.0000, 9, -999.0000, 9, -999.0000, 9, -999.0000, 9, -999.0000, 9, -999, 9, -999, 9, -999, 9, -999, 9, -999, 9, -999, 9, -999, 9,  -999.00, 9,  -999.00, 9,  -999.00, 9,  -999.00, 9,   1.6118,  -999.00, 9, 1700,   27.5147,  -52.3286
316N200309, A20, 32, 1, 1, 1, 2, 20031004, 1654, 27.5148, -52.3290, 6001,  5964.90,   5964.9,   2.1934,  34.8549, 2,  34.8552, 2,    252.6, 2,    318.5, 4,    53.03, 2,    22.33, 2,     0.00, 2,     1.52, 2,    0.024, 2,    0.032, 2,    0.002, 2, -999.000, 9,   -999.0, 9,   -999.0, 9,  -999.00, 9,  -999.00, 9, -999.000, 9, -999.000, -999.0000, 9, -999.0000,  -999.00, 9,  -999.00, -999.000, 9, -999.000,   -999.0, 9,   -999.0,  -999.00, 9, -999.0000, 9, -999.0000, 9, -999.0000, 9, -999.0000, 9, -999.0000, 9, -999.0000, 9, -999, 9, -999, 9, -999, 9, -999, 9, -999, 9, -999, 9, -999, 9,  -999.00, 9,  -999.00, 9,  -999.00, 9,  -999.00, 9,   1.6080,  -999.00, 9, 1655,   27.5148,  -52.3291