BOTTLE,20220816CCHSIOAMB
EXPOCODE,SECT_ID,STNNBR,CASTNO,SAMPNO,BTLNBR,BTLNBR_FLAG_W,DATE,TIME,LATITUDE,LONGITUDE,DEPTH,CTDRAW,CTDPRS,CTDTMP,CTDSAL,CTDSAL_FLAG_W,SALNTY,SALNTY_FLAG_W,CTDOXY,CTDOXY_FLAG_W,OXYGEN,OXYGEN_FLAG_W,SILCAT,SILCAT_FLAG_W,NITRAT,NITRAT_FLAG_W,NITRIT,NITRIT_FLAG_W,PHSPHT,PHSPHT_FLAG_W,CFC-11,CFC-11_FLAG_W,CFC-12,CFC-12_FLAG_W,CFC113,CFC113_FLAG_W,CCL4,CCL4_FLAG_W,TCARBN,TCARBN_FLAG_W,ALKALI,ALKALI_FLAG_W,DOC,DOC_FLAG_W,TDN,TDN_FLAG_W,TRITUM,TRITUM_FLAG_W,TRITER,HELIUM,HELIUM_FLAG_W,HELIER,DELHE3,DELHE3_FLAG_W,DELHER,NEON,NEON_FLAG_W,NEONER,DELC14,DELC14_FLAG_W,C14ERR,DELC13,DELC13_FLAG_W,CDOM325,CDOM325_FLAG_W,CDOM340,CDOM340_FLAG_W,CDOM380,CDOM380_FLAG_W,CDOM412,CDOM412_FLAG_W,CDOMSL,CDOMSL_FLAG_W,CDOMSN,CDOMSN_FLAG_W,DCNS,DCNS_FLAG_W,ARABI,ARABI_FLAG_W,FUCO,FUCO_FLAG_W,GALA,GALA_FLAG_W,GLUC,GLUC_FLAG_W,MAN,MAN_FLAG_W,RHAM,RHAM_FLAG_W,BRDU,BRDU_FLAG_W,PEUK,PEUK_FLAG_W,PROC,PROC_FLAG_W,SYN,SYN_FLAG_W,THETA,BACT,BACT_FLAG_W,BTL_TIME,BTL_LAT,BTL_LON
,,,,,,,,,,,METERS,DBAR,DBAR,ITS-90,PSS-78,,PSS-78,,UMOL/KG,,UMOL/KG,,UMOL/KG,,UMOL/KG,,UMOL/KG,,UMOL/KG,,PMOL/KG,,PMOL/KG,,PMOL/KG,,PMOL/KG,,UMOL/KG,,UMOL/KG,,UMOL/KG,,UMOL/KG,,TU,,TU,NMOL/KG,,NMOL/KG,PERCNT,,PERCNT,NMOL/KG,,NMOL/KG,/MILLE,,/MILLE,/MILLE,,1/M,,1/M,,1/M,,1/M,,1/NM,,1/NM,,NMOL/KG,,NMOL/KG,,NMOL/KG,,NMOL/KG,,NMOL/KG,,NMOL/KG,,NMOL/KG,,PMOL/L/H,,E6/L,,E7/L,,E6/L,,DEG C,E8/L,,,,
316N200309, A20, 65, 1, 36, 36, 2, 20031015, 1940, 9.1980, -52.4545, 4756,     2.90,      2.9,  29.1281,  33.8127, 2,  33.8083, 2,    189.0, 2,    194.3, 2,     6.44, 2,     0.11, 2,     0.00, 2,     0.04, 2,    1.568, 2,    0.971, 2,    0.096, 2,    1.608, 2,   1903.4, 2,   2231.4, 2,  -999.00, 9,  -999.00, 9,    0.562, 2,    0.003,   1.7263, 2,   0.0086,    -1.83, 2,     0.20,    6.725, 2,    0.034,     73.2, 2,      2.9,     1.50, 2,    0.4110, 2,    0.2980, 2,    0.1370, 2,    0.0760, 2,    0.0190, 2,    0.0200, 2, -999, 9, -999, 9, -999, 9, -999, 9, -999, 9, -999, 9, -999, 9,  -999.00, 9,  -999.00, 9,  -999.00, 9,  -999.00, 9,  29.1274,  -999.00, 9, 2136,    9.2120,  -52.4456
316N200309, A20, 65, 1, 35, 35, 2, 20031015, 1940, 9.1980, -52.4545, 4756,    24.60,     24.6,  28.1852,  35.7526, 2,  35.7665, 2,    192.5, 2,    197.2, 2,     2.01, 2,     0.10, 2,     0.00, 2,     0.08, 2,    1.623, 6,    1.015, 6,    0.098, 2,    1.422, 2,   -999.0, 9,   -999.0, 9,  -999.00, 9,  -999.00, 9, -999.000, 9, -999.000, -999.0000, 9, -999.0000,  -999.00, 9,  -999.00, -999.000, 9, -999.000,   -999.0, 9,   -999.0,  -999.00, 9,    0.1640, 2,    0.1170, 2,    0.0520, 2,    0.0320, 2,    0.0190, 2,    0.0200, 2, -999, 9, -999, 9, -999, 9, -999, 9, -999, 9, -999, 9, -999, 9,  -999.00, 9,  -999.00, 9,  -999.00, 9,  -999.00, 9,  28.1794,  -999.00, 9, 2134,    9.2117,  -52.4459
316N200309, A20, 65, 1, 34, 34, 2, 20031015, 1940, 9.1980, -52.4545, 4756,    49.30,     49.3,  27.5656,  36.1700, 2,  36.1682, 2,    186.5, 2,    191.5, 2,     1.27, 2,     0.09, 2,     0.02, 2,     0.09, 2,    1.626, 2,    1.024, 2,    0.091, 2,    1.221, 2,   -999.0, 9,   -999.0, 9,  -999.00, 9,  -999.00, 9,    0.517, 2,    0.004,   1.7163, 2,   0.0086,    -1.44, 2,     0.20,    6.706, 2,    0.034,   -999.0, 9,   -999.0,  -999.00, 9,    0.1370, 2,    0.1000, 2,    0.0480, 2,    0.0340, 2,    0.0160, 2,    0.0180, 2, -999, 9, -999, 9, -999, 9, -999, 9, -999, 9, -999, 9, -999, 9,  -999.00, 9,  -999.00, 9,  -999.00, 9,  -999.00, 9,  27.5541,  -999.00, 9, 2133,    9.2115,  -52.4461
316N200309, A20, 65, 1, 33, 33, 2, 20031015, 1940, 9.1980, -52.4545, 4756,    74.00,     74.0,  25.3228,  36.2835, 2,  36.2828, 2,    167.8, 2,    170.1, 2,     2.57, 2,     3.08, 2,     0.14, 2,     0.27, 2,    1.736, 2,    1.057, 2,    0.094, 2,    1.543, 2,   -999.0, 9,   -999.0, 9,  -999.00, 9,  -999.00, 9, -999.000, 9, -999.000, -999.0000, 9, -999.0000,  -999.00, 9,  -999.00, -999.000, 9, -999.000,   -999.0, 9,   -999.0,  -999.00, 9,    0.1740, 2,    0.1320, 2,    0.0710, 2,    0.0530, 2,    0.0130, 2,    0.0140, 2, -999, 9, -999, 9, -999, 9, -999, 9, -999, 9, -999, 9, -999, 9,  -999.00, 9,  -999.00, 9,  -999.00, 9,  -999.00, 9,  25.3065,  -999.00, 9, 2132,    9.2112,  -52.4464
316N200309, A20, 65, 1, 32, 32, 2, 20031015, 1940, 9.1980, -52.4545, 4756,   103.70,    103.7,  24.2678,  36.5787, 2,  36.5692, 2,    155.8, 2,    160.7, 2,     2.13, 2,     3.30, 2,     0.05, 2,     0.27, 2,    1.796, 2,    1.085, 2,    0.095, 2,    0.625, 2,   -999.0, 9,   -999.0, 9,  -999.00, 9,  -999.00, 9,    0.605, 2,    0.004,   1.7053, 2,   0.0085,    -1.50, 2,     0.20,    6.834, 2,    0.034,   -999.0, 9,   -999.0,  -999.00, 9,    0.1650, 2,    0.1230, 2,    0.0640, 2,    0.0490, 2,    0.0140, 2,    0.0150, 2, -999, 9, -999, 9, -999, 9, -999, 9, -999, 9, -999, 9, -999, 9,  -999.00, 9,  -999.00, 9,  -999.00, 9,  -999.00, 9,  24.2456,  -999.00, 9, 2130,    9.2110,  -52.4465
316N200309, A20, 65, 1, 31, 31, 2, 20031015, 1940, 9.1980, -52.4545, 4756,   127.90,    127.9,  20.5570,  36.5328, 2,  36.5278, 2,    148.4, 2,    147.6, 2,     2.51, 2,     7.88, 2,     0.03, 2,     0.50, 2,    1.959, 2,    1.169, 2,    0.027, 2,    0.370, 2,   -999.0, 9,   -999.0, 9,  -999.00, 9,  -999.00, 9, -999.000, 9, -999.000, -999.0000, 9, -999.0000,  -999.00, 9,  -999.00, -999.000, 9, -999.000,   -999.0, 9,   -999.0,  -999.00, 9,    0.1540, 2,    0.1150, 2,    0.0620, 2,    0.0480, 2,    0.0130, 2,    0.0150, 2, -999, 9, -999, 9, -999, 9, -999, 9, -999, 9, -999, 9, -999, 9,  -999.00, 9,  -999.00, 9,  -999.00, 9,  -999.00, 9,  20.5327,  -999.00, 9, 2129,    9.2108,  -52.4467
316N200309, A20, 65, 1, 30, 30, 2, 20031015, 1940, 9.1980, -52.4545, 4756,   172.20,    172.2,  12.6169,  35.3497, 2,  35.3480, 2,    131.9, 2,    136.5, 2,     8.31, 2,    20.23, 2,     0.01, 2,     1.31, 2,    1.756, 2,    0.937, 2,    0.022, 2,    0.464, 2,   -999.0, 9,   -999.0, 9,  -999.00, 9,  -999.00, 9,    0.404, 2,    0.003,   1.7679, 2,   0.0088,     1.44, 2,     0.20,    7.315, 2,    0.037,   -999.0, 9,   -999.0,  -999.00, 9,    0.1530, 2,    0.1150, 2,    0.0650, 2,    0.0510, 2,    0.0120, 2,    0.0140, 2, -999, 9, -999, 9, -999, 9, -999, 9, -999, 9, -999, 9, -999, 9,  -999.00, 9,  -999.00, 9,  -999.00, 9,  -999.00, 9,  12.5937,  -999.00, 9, 2127,    9.2105,  -52.4470
316N200309, A20, 65, 1, 29, 29, 2, 20031015, 1940, 9.1980, -52.4545, 4756,   223.10,    223.1,  11.1812,  35.1581, 2,  35.1559, 2,    123.0, 2,    124.7, 2,    10.23, 2,    23.69, 2,     0.01, 2,     1.52, 2,    1.509, 2,    0.810, 2,    0.007, 2,    0.437, 2,   -999.0, 9,   -999.0, 9,  -999.00, 9,  -999.00, 9,    0.324, 2,    0.002,   1.8017, 2,   0.0090,     1.85, 2,     0.20,    7.482, 2,    0.037,   -999.0, 9,   -999.0,  -999.00, 9,    0.2260, 2,    0.1760, 2,    0.1010, 2,    0.0790, 2,    0.0120, 2,    0.0130, 2, -999, 9, -999, 9, -999, 9, -999, 9, -999, 9, -999, 9, -999, 9,  -999.00, 9,  -999.00, 9,  -999.00, 9,  -999.00, 9,  11.1533,  -999.00, 9, 2126,    9.2102,  -52.4473
316N200309, A20, 65, 1, 28, 28, 2, 20031015, 1940, 9.1980, -52.4545, 4756,   274.40,    274.4,   9.6517,  34.9254, 2,  34.9242, 2,    127.0, 2,    134.1, 2,    12.47, 2,    25.75, 2,     0.00, 2,     1.68, 2,    1.391, 2,    0.727, 2,    0.006, 2,    0.568, 2,   -999.0, 9,   -999.0, 9,  -999.00, 9,  -999.00, 9, -999.000, 9, -999.000, -999.0000, 9, -999.0000,  -999.00, 9,  -999.00, -999.000, 9, -999.000,   -999.0, 9,   -999.0,  -999.00, 9,    0.1310, 2,    0.0940, 2,    0.0500, 2,    0.0400, 2,    0.0130, 2,    0.0150, 2, -999, 9, -999, 9, -999, 9, -999, 9, -999, 9, -999, 9, -999, 9,  -999.00, 9,  -999.00, 9,  -999.00, 9,  -999.00, 9,   9.6205,  -999.00, 9, 2124,    9.2099,  -52.4476
316N200309, A20, 65, 1, 27, 27, 2, 20031015, 1940, 9.1980, -52.4545, 4756,   325.40,    325.4,   8.6078,  34.7837, 2,  34.7866, 2,    133.2, 2,    136.4, 2,    14.71, 2,    27.77, 2,     0.00, 2,     1.82, 2,    1.206, 6,    0.624, 6,    0.012, 6,    0.621, 6,   -999.0, 9,   -999.0, 9,  -999.00, 9,  -999.00, 9,    0.177, 2,    0.002,   1.8367, 2,   0.0092,     1.18, 2,     0.20,    7.651, 2,    0.038,   -999.0, 9,   -999.0,  -999.00, 9,    0.1340, 2,    0.0970, 2,    0.0540, 2,    0.0430, 2,    0.0120, 2,    0.0140, 2, -999, 9, -999, 9, -999, 9, -999, 9, -999, 9, -999, 9, -999, 9,  -999.00, 9,  -999.00, 9,  -999.00, 9,  -999.00, 9,   8.5732,  -999.00, 9, 2122,    9.2096,  -52.4479
316N200309, A20, 65, 1, 26, 26, 2, 20031015, 1940, 9.1980, -52.4545, 4756,   410.50,    410.5,   8.0744,  34.7687, 2,  34.9303, 2,    118.7, 2,    115.7, 2,    16.95, 2,    31.03, 2,     0.00, 2,     2.00, 2,    0.706, 2,    0.379, 2,    0.006, 2,    0.457, 2,   -999.0, 9,   -999.0, 9,  -999.00, 9,  -999.00, 9,    0.137, 2,    0.002,   1.8225, 2,   0.0091,     2.05, 2,     0.20,    7.612, 2,    0.038,   -999.0, 9,   -999.0,  -999.00, 9,    0.1580, 2,    0.1160, 2,    0.0670, 2,    0.0530, 2,    0.0120, 2,    0.0130, 2, -999, 9, -999, 9, -999, 9, -999, 9, -999, 9, -999, 9, -999, 9,  -999.00, 9,  -999.00, 9,  -999.00, 9,  -999.00, 9,   8.0321,  -999.00, 9, 2120,    9.2093,  -52.4482
316N200309, A20, 65, 1, 25, 25, 2, 20031015, 1940, 9.1980, -52.4545, 4756,   530.40,    530.4,   6.6944,  34.6202, 2,  34.6197, 2,    125.5, 2,    127.3, 2,    20.85, 2,    32.84, 2,     0.00, 2,     2.15, 2,    0.499, 2,    0.259, 2,    0.022, 2,    0.444, 2,   -999.0, 9,   -999.0, 9,  -999.00, 9,  -999.00, 9,    0.086, 2,    0.001,   1.8342, 2,   0.0092,     1.64, 2,     0.20,    7.671, 2,    0.038,   -999.0, 9,   -999.0,  -999.00, 9,    0.1480, 2,    0.1080, 2,    0.0630, 2,    0.0500, 2,    0.0120, 2,    0.0130, 2, -999, 9, -999, 9, -999, 9, -999, 9, -999, 9, -999, 9, -999, 9,  -999.00, 9,  -999.00, 9,  -999.00, 9,  -999.00, 9,   6.6450,  -999.00, 9, 2117,    9.2089,  -52.4484
316N200309, A20, 65, 1, 24, 24, 2, 20031015, 1940, 9.1980, -52.4545, 4756,   674.10,    674.1,   6.2902,  34.6586, 2,  34.6592, 2,    127.4, 2,    120.9, 2,    23.30, 2,    33.92, 2,     0.00, 2,     2.19, 2,    0.203, 2,    0.107, 2,   -0.001, 2,    0.254, 2,   -999.0, 9,   -999.0, 9,  -999.00, 9,  -999.00, 9,    0.070, 2,    0.002,   1.8081, 2,   0.0090,     2.10, 2,     0.20,    7.913, 2,    0.040,   -999.0, 9,   -999.0,  -999.00, 9,    0.1370, 2,    0.0970, 2,    0.0530, 2,    0.0410, 2,    0.0130, 2,    0.0150, 2, -999, 9, -999, 9, -999, 9, -999, 9, -999, 9, -999, 9, -999, 9,  -999.00, 9,  -999.00, 9,  -999.00, 9,  -999.00, 9,   6.2289,  -999.00, 9, 2114,    9.2084,  -52.4487
316N200309, A20, 65, 1, 23, 23, 2, 20031015, 1940, 9.1980, -52.4545, 4756,   825.70,    825.7,   5.0616,  34.5693, 2,  34.5706, 2,    136.1, 2,    142.1, 2,    28.16, 2,    33.96, 2,     0.01, 2,     2.14, 2,    0.120, 2,    0.065, 2,    0.004, 2,    0.251, 2,   -999.0, 9,   2298.8, 2,  -999.00, 9,  -999.00, 9,    0.022, 2,    0.001,   1.8404, 2,   0.0092,     1.87, 2,     0.20,    8.131, 2,    0.041,   -999.0, 9,   -999.0,  -999.00, 9, -999.0000, 9, -999.0000, 9, -999.0000, 9, -999.0000, 9, -999.0000, 9, -999.0000, 9, -999, 9, -999, 9, -999, 9, -999, 9, -999, 9, -999, 9, -999, 9,  -999.00, 9,  -999.00, 9,  -999.00, 9,  -999.00, 9,   4.9934,  -999.00, 9, 2110,    9.2079,  -52.4493
316N200309, A20, 65, 1, 22, 22, 2, 20031015, 1940, 9.1980, -52.4545, 4756,   976.00,    976.0,   4.7889,  34.6091, 2,  34.6101, 2,    147.4, 2,    148.2, 2,    29.17, 2,    33.22, 2,     0.00, 2,     2.02, 2,    0.058, 2,    0.033, 2,    0.010, 2,    0.186, 2,   -999.0, 9,   -999.0, 9,  -999.00, 9,  -999.00, 9,    0.029, 2,    0.001,   1.8247, 2,   0.0091,     1.43, 2,     0.20,    7.986, 2,    0.040,   -999.0, 9,   -999.0,  -999.00, 9,    0.1340, 2,    0.0950, 2,    0.0520, 2,    0.0390, 2,    0.0130, 2,    0.0150, 2, -999, 9, -999, 9, -999, 9, -999, 9, -999, 9, -999, 9, -999, 9,  -999.00, 9,  -999.00, 9,  -999.00, 9,  -999.00, 9,   4.7092,  -999.00, 9, 2107,    9.2075,  -52.4497
316N200309, A20, 65, 1, 21, 21, 2, 20031015, 1940, 9.1980, -52.4545, 4756,  1125.20,   1125.2,   5.1435,  34.7930, 2,  34.7925, 2,    161.0, 2,    158.9, 2,    25.09, 2,    29.92, 2,     0.00, 2,     1.77, 2,    0.074, 2,    0.047, 2,    0.003, 2,    0.140, 2,   -999.0, 9,   -999.0, 9,  -999.00, 9,  -999.00, 9,    0.047, 2,    0.001,   1.8398, 2,   0.0092,     2.27, 2,     0.20,    8.037, 2,    0.040,   -999.0, 9,   -999.0,  -999.00, 9, -999.0000, 9, -999.0000, 9, -999.0000, 9, -999.0000, 9, -999.0000, 9, -999.0000, 9, -999, 9, -999, 9, -999, 9, -999, 9, -999, 9, -999, 9, -999, 9,  -999.00, 9,  -999.00, 9,  -999.00, 9,  -999.00, 9,   5.0470,  -999.00, 9, 2104,    9.2071,  -52.4499
316N200309, A20, 65, 1, 20, 20, 2, 20031015, 1940, 9.1980, -52.4545, 4756,  1275.30,   1275.3,   5.1241,  34.9222, 2,  34.9209, 2,    183.6, 2,    185.4, 2,    20.82, 2,    25.64, 2,     0.00, 2,     1.74, 2,    0.184, 2,    0.108, 2,    0.005, 2,    0.305, 2,   -999.0, 9,   -999.0, 9,  -999.00, 9,  -999.00, 9,    0.122, 2,    0.002,   1.8388, 2,   0.0092,     2.67, 2,     0.20,    7.520, 2,    0.038,   -999.0, 9,   -999.0,  -999.00, 9, -999.0000, 9, -999.0000, 9, -999.0000, 9, -999.0000, 9, -999.0000, 9, -999.0000, 9, -999, 9, -999, 9, -999, 9, -999, 9, -999, 9, -999, 9, -999, 9,  -999.00, 9,  -999.00, 9,  -999.00, 9,  -999.00, 9,   5.0133,  -999.00, 9, 2100,    9.2068,  -52.4499
316N200309, A20, 65, 1, 19, 19, 2, 20031015, 1940, 9.1980, -52.4545, 4756,  1400.50,   1400.5,   5.0788,  34.9864, 2,  34.9872, 2,    204.3, 2,    205.9, 2,    17.68, 2,    22.86, 2,     0.00, 2,     1.51, 2,    0.385, 2,    0.196, 2,    0.008, 2,    0.606, 2,   -999.0, 9,   -999.0, 9,  -999.00, 9,  -999.00, 9, -999.000, 9, -999.000, -999.0000, 9, -999.0000,  -999.00, 9,  -999.00, -999.000, 9, -999.000,   -999.0, 9,   -999.0,  -999.00, 9, -999.0000, 9, -999.0000, 9, -999.0000, 9, -999.0000, 9, -999.0000, 9, -999.0000, 9, -999, 9, -999, 9, -999, 9, -999, 9, -999, 9, -999, 9, -999, 9,  -999.00, 9,  -999.00, 9,  -999.00, 9,  -999.00, 9,   4.9562,  -999.00, 9, 2057,    9.2066,  -52.4499
316N200309, A20, 65, 1, 18, 18, 2, 20031015, 1940, 9.1980, -52.4545, 4756,  1500.40,   1500.4,   4.7068,  35.0161, 2,  35.0163, 2,    230.0, 2,    232.2, 2,    14.77, 2,    20.09, 2,     0.00, 2,     1.33, 2,    0.631, 2,    0.321, 2,    0.016, 2,    0.987, 2,   -999.0, 9,   -999.0, 9,  -999.00, 9,  -999.00, 9,    0.335, 2,    0.003,   1.8362, 2,   0.0092,     5.83, 2,     0.20,    7.588, 2,    0.038,   -999.0, 9,   -999.0,  -999.00, 9, -999.0000, 9, -999.0000, 9, -999.0000, 9, -999.0000, 9, -999.0000, 9, -999.0000, 9, -999, 9, -999, 9, -999, 9, -999, 9, -999, 9, -999, 9, -999, 9,  -999.00, 9,  -999.00, 9,  -999.00, 9,  -999.00, 9,   4.5785,  -999.00, 9, 2054,    9.2065,  -52.4498
316N200309, A20, 65, 1, 17, 17, 2, 20031015, 1940, 9.1980, -52.4545, 4756,  1625.50,   1625.5,   4.2671,  35.0011, 2,  35.0006, 2,    247.2, 2,    248.3, 2,    13.71, 2,    18.86, 2,     0.00, 2,     1.23, 2,    0.779, 2,    0.409, 2,    0.019, 2,    1.253, 2,   -999.0, 9,   -999.0, 9,  -999.00, 9,  -999.00, 9, -999.000, 9, -999.000, -999.0000, 9, -999.0000,  -999.00, 9,  -999.00, -999.000, 9, -999.000,   -999.0, 9,   -999.0,  -999.00, 9, -999.0000, 9, -999.0000, 9, -999.0000, 9, -999.0000, 9, -999.0000, 9, -999.0000, 9, -999, 9, -999, 9, -999, 9, -999, 9, -999, 9, -999, 9, -999, 9,  -999.00, 9,  -999.00, 9,  -999.00, 9,  -999.00, 9,   4.1320,  -999.00, 9, 2052,    9.2063,  -52.4498
316N200309, A20, 65, 1, 16, 16, 2, 20031015, 1940, 9.1980, -52.4545, 4756,  1775.40,   1775.4,   3.9412,  34.9862, 2,  34.9876, 2,    256.4, 2,    256.3, 2,    13.68, 2,    18.32, 2,     0.00, 2,     1.20, 2,    0.767, 2,    0.387, 2,    0.017, 2,    1.288, 2,   -999.0, 9,   -999.0, 9,  -999.00, 9,  -999.00, 9,    0.376, 2,    0.003,   1.8500, 2,   0.0093,     5.67, 2,     0.20,    7.773, 2,    0.039,   -999.0, 9,   -999.0,  -999.00, 9, -999.0000, 9, -999.0000, 9, -999.0000, 9, -999.0000, 9, -999.0000, 9, -999.0000, 9, -999, 9, -999, 9, -999, 9, -999, 9, -999, 9, -999, 9, -999, 9,  -999.00, 9,  -999.00, 9,  -999.00, 9,  -999.00, 9,   3.7961,  -999.00, 9, 2048,    9.2061,  -52.4497
316N200309, A20, 65, 1, 15, 15, 2, 20031015, 1940, 9.1980, -52.4545, 4756,  1926.80,   1926.8,   3.6776,  34.9761, 2,  34.9766, 2,    260.5, 2,    260.0, 2,    14.79, 2,    18.19, 2,     0.00, 2,     1.19, 2,    0.658, 2,    0.343, 2,    0.009, 2,    1.161, 2,   -999.0, 9,   -999.0, 9,  -999.00, 9,  -999.00, 9,    0.307, 2,    0.002,   1.8446, 2,   0.0092,     5.14, 2,     0.20,    7.818, 2,    0.039,   -999.0, 9,   -999.0,  -999.00, 9,    0.1330, 2,    0.0940, 2,    0.0460, 2,    0.0320, 2,    0.0170, 2,    0.0180, 2, -999, 9, -999, 9, -999, 9, -999, 9, -999, 9, -999, 9, -999, 9,  -999.00, 9,  -999.00, 9,  -999.00, 9,  -999.00, 9,   3.5219,  -999.00, 9, 2045,    9.2059,  -52.4498
316N200309, A20, 65, 1, 14, 14, 2, 20031015, 1940, 9.1980, -52.4545, 4756,  2128.90,   2128.9,   3.3796,  34.9672, 2,  34.9689, 2,    260.7, 2,    260.6, 2,    17.44, 2,    18.36, 2,     0.00, 2,     1.20, 2,    0.404, 2,    0.218, 2,    0.015, 2,    0.835, 2,   -999.0, 9,   -999.0, 9,  -999.00, 9,  -999.00, 9,    0.212, 2,    0.002,   1.8607, 2,   0.0093,     3.87, 2,     0.20,    7.966, 2,    0.040,   -999.0, 9,   -999.0,  -999.00, 9, -999.0000, 9, -999.0000, 9, -999.0000, 9, -999.0000, 9, -999.0000, 9, -999.0000, 9, -999, 9, -999, 9, -999, 9, -999, 9, -999, 9, -999, 9, -999, 9,  -999.00, 9,  -999.00, 9,  -999.00, 9,  -999.00, 9,   3.2091,  -999.00, 9, 2040,    9.2057,  -52.4498
316N200309, A20, 65, 1, 13, 13, 2, 20031015, 1940, 9.1980, -52.4545, 4756,  2352.70,   2352.7,   3.1759,  34.9569, 2,  34.9569, 2,    260.7, 2,    260.5, 2,    19.38, 2,    18.45, 2,     0.00, 2,     1.21, 2,    0.325, 2,    0.174, 2,    0.016, 2,    0.720, 2,   -999.0, 9,   -999.0, 9,  -999.00, 9,  -999.00, 9, -999.000, 9, -999.000, -999.0000, 9, -999.0000,  -999.00, 9,  -999.00, -999.000, 9, -999.000,   -999.0, 9,   -999.0,  -999.00, 9, -999.0000, 9, -999.0000, 9, -999.0000, 9, -999.0000, 9, -999.0000, 9, -999.0000, 9, -999, 9, -999, 9, -999, 9, -999, 9, -999, 9, -999, 9, -999, 9,  -999.00, 9,  -999.00, 9,  -999.00, 9,  -999.00, 9,   2.9872,  -999.00, 9, 2035,    9.2054,  -52.4498
316N200309, A20, 65, 1, 12, 12, 2, 20031015, 1940, 9.1980, -52.4545, 4756,  2551.90,   2551.9,   3.0135,  34.9476, 2,  34.9481, 2,    257.6, 2,    257.8, 2,    23.29, 2,    19.13, 2,     0.00, 2,     1.26, 2,    0.140, 2,    0.081, 2,    0.003, 2,    0.415, 2,   -999.0, 9,   -999.0, 9,  -999.00, 9,  -999.00, 9,    0.109, 2,    0.001,   1.8791, 2,   0.0094,     3.07, 2,     0.20,    8.019, 2,    0.040,   -999.0, 9,   -999.0,  -999.00, 9, -999.0000, 9, -999.0000, 9, -999.0000, 9, -999.0000, 9, -999.0000, 9, -999.0000, 9, -999, 9, -999, 9, -999, 9, -999, 9, -999, 9, -999, 9, -999, 9,  -999.00, 9,  -999.00, 9,  -999.00, 9,  -999.00, 9,   2.8081,  -999.00, 9, 2030,    9.2050,  -52.4501
316N200309, A20, 65, 1, 11, 11, 2, 20031015, 1940, 9.1980, -52.4545, 4756,  2700.50,   2700.5,   2.8947,  34.9401, 2,  34.9408, 2,    258.7, 2,    258.4, 2,    24.50, 2,    19.17, 2,     0.00, 2,     1.27, 2,    0.165, 2,    0.094, 2,    0.002, 2,    0.451, 2,   -999.0, 9,   -999.0, 9,  -999.00, 9,  -999.00, 9, -999.000, 9, -999.000, -999.0000, 9, -999.0000,  -999.00, 9,  -999.00, -999.000, 9, -999.000,   -999.0, 9,   -999.0,  -999.00, 9, -999.0000, 9, -999.0000, 9, -999.0000, 9, -999.0000, 9, -999.0000, 9, -999.0000, 9, -999, 9, -999, 9, -999, 9, -999, 9, -999, 9, -999, 9, -999, 9,  -999.00, 9,  -999.00, 9,  -999.00, 9,  -999.00, 9,   2.6769,  -999.00, 9, 2027,    9.2045,  -52.4504