BOTTLE,20220816CCHSIOAMB
EXPOCODE,SECT_ID,STNNBR,CASTNO,SAMPNO,BTLNBR,BTLNBR_FLAG_W,DATE,TIME,LATITUDE,LONGITUDE,DEPTH,CTDRAW,CTDPRS,CTDTMP,CTDSAL,CTDSAL_FLAG_W,SALNTY,SALNTY_FLAG_W,CTDOXY,CTDOXY_FLAG_W,OXYGEN,OXYGEN_FLAG_W,SILCAT,SILCAT_FLAG_W,NITRAT,NITRAT_FLAG_W,NITRIT,NITRIT_FLAG_W,PHSPHT,PHSPHT_FLAG_W,CFC-11,CFC-11_FLAG_W,CFC-12,CFC-12_FLAG_W,CFC113,CFC113_FLAG_W,CCL4,CCL4_FLAG_W,TCARBN,TCARBN_FLAG_W,ALKALI,ALKALI_FLAG_W,DOC,DOC_FLAG_W,TDN,TDN_FLAG_W,TRITUM,TRITUM_FLAG_W,TRITER,HELIUM,HELIUM_FLAG_W,HELIER,DELHE3,DELHE3_FLAG_W,DELHER,NEON,NEON_FLAG_W,NEONER,DELC14,DELC14_FLAG_W,C14ERR,DELC13,DELC13_FLAG_W,CDOM325,CDOM325_FLAG_W,CDOM340,CDOM340_FLAG_W,CDOM380,CDOM380_FLAG_W,CDOM412,CDOM412_FLAG_W,CDOMSL,CDOMSL_FLAG_W,CDOMSN,CDOMSN_FLAG_W,DCNS,DCNS_FLAG_W,ARABI,ARABI_FLAG_W,FUCO,FUCO_FLAG_W,GALA,GALA_FLAG_W,GLUC,GLUC_FLAG_W,MAN,MAN_FLAG_W,RHAM,RHAM_FLAG_W,BRDU,BRDU_FLAG_W,PEUK,PEUK_FLAG_W,PROC,PROC_FLAG_W,SYN,SYN_FLAG_W,THETA,BACT,BACT_FLAG_W,BTL_TIME,BTL_LAT,BTL_LON
,,,,,,,,,,,METERS,DBAR,DBAR,ITS-90,PSS-78,,PSS-78,,UMOL/KG,,UMOL/KG,,UMOL/KG,,UMOL/KG,,UMOL/KG,,UMOL/KG,,PMOL/KG,,PMOL/KG,,PMOL/KG,,PMOL/KG,,UMOL/KG,,UMOL/KG,,UMOL/KG,,UMOL/KG,,TU,,TU,NMOL/KG,,NMOL/KG,PERCNT,,PERCNT,NMOL/KG,,NMOL/KG,/MILLE,,/MILLE,/MILLE,,1/M,,1/M,,1/M,,1/M,,1/NM,,1/NM,,NMOL/KG,,NMOL/KG,,NMOL/KG,,NMOL/KG,,NMOL/KG,,NMOL/KG,,NMOL/KG,,PMOL/L/H,,E6/L,,E7/L,,E6/L,,DEG C,E8/L,,,,
316N200309, A20, 77, 1, 15, 15, 2, 20031017, 1441, 7.5245, -53.2833, 693,     3.00,      3.0,  29.4391,  33.9566, 2,  33.9553, 2,    190.1, 2,    194.2, 2,     4.96, 2,     0.22, 2,     0.00, 2,     0.02, 2,    1.544, 2,    0.971, 2,    0.108, 2,    1.659, 2,   1907.1, 2,   2237.7, 2,  -999.00, 9,  -999.00, 9, -999.000, 9, -999.000, -999.0000, 9, -999.0000,  -999.00, 9,  -999.00, -999.000, 9, -999.000,   -999.0, 9,   -999.0,  -999.00, 9,    0.0370, 2,    0.0410, 2,    0.0390, 2,    0.0420, 2,    0.0010, 2,    0.0010, 2, -999, 9, -999, 9, -999, 9, -999, 9, -999, 9, -999, 9, -999, 9,  -999.00, 9,  -999.00, 9,  -999.00, 9,  -999.00, 9,  29.4384,  -999.00, 9, 1510,    7.5335,  -53.2789
316N200309, A20, 77, 1, 14, 14, 2, 20031017, 1441, 7.5245, -53.2833, 693,    24.50,     24.5,  29.4960,  34.4259, 2,  34.2342, 2,    191.6, 2,    195.2, 2,     4.24, 2,     0.21, 2,     0.00, 2,     0.02, 2, -999.000, 9, -999.000, 9, -999.000, 9, -999.000, 9,   -999.0, 9,   -999.0, 9,  -999.00, 9,  -999.00, 9, -999.000, 9, -999.000, -999.0000, 9, -999.0000,  -999.00, 9,  -999.00, -999.000, 9, -999.000,   -999.0, 9,   -999.0,  -999.00, 9,    0.2590, 2,    0.1790, 2,    0.0750, 2,    0.0410, 2,    0.0210, 2,    0.0220, 2, -999, 9, -999, 9, -999, 9, -999, 9, -999, 9, -999, 9, -999, 9,  -999.00, 9,  -999.00, 9,  -999.00, 9,  -999.00, 9,  29.4900,  -999.00, 9, 1509,    7.5327,  -53.2791
316N200309, A20, 77, 1, 13, 13, 2, 20031017, 1441, 7.5245, -53.2833, 693,    51.00,     51.0,  28.0810,  36.2384, 2,  36.2408, 2,    194.3, 2,    198.9, 2,     0.36, 2,     0.21, 2,     0.00, 2,     0.06, 2,    1.627, 2,    1.014, 2,    0.109, 2,    1.184, 2,   -999.0, 9,   -999.0, 9,  -999.00, 9,  -999.00, 9, -999.000, 9, -999.000, -999.0000, 9, -999.0000,  -999.00, 9,  -999.00, -999.000, 9, -999.000,   -999.0, 9,   -999.0,  -999.00, 9,    0.1290, 2,    0.0880, 2,    0.0390, 2,    0.0260, 2,    0.0200, 2,    0.0220, 2, -999, 9, -999, 9, -999, 9, -999, 9, -999, 9, -999, 9, -999, 9,  -999.00, 9,  -999.00, 9,  -999.00, 9,  -999.00, 9,  28.0689,  -999.00, 9, 1507,    7.5317,  -53.2794
316N200309, A20, 77, 1, 12, 12, 2, 20031017, 1441, 7.5245, -53.2833, 693,    75.00,     75.0,  27.5920,  36.2458, 2,  36.2436, 2,    185.9, 2,    192.0, 2,     0.35, 2,     0.16, 2,     0.00, 2,     0.08, 2, -999.000, 9, -999.000, 9, -999.000, 9, -999.000, 9,   -999.0, 9,   -999.0, 9,  -999.00, 9,  -999.00, 9, -999.000, 9, -999.000, -999.0000, 9, -999.0000,  -999.00, 9,  -999.00, -999.000, 9, -999.000,   -999.0, 9,   -999.0,  -999.00, 9,    0.1140, 2,    0.0810, 2,    0.0380, 2,    0.0280, 2,    0.0170, 2,    0.0190, 2, -999, 9, -999, 9, -999, 9, -999, 9, -999, 9, -999, 9, -999, 9,  -999.00, 9,  -999.00, 9,  -999.00, 9,  -999.00, 9,  27.5744,  -999.00, 9, 1505,    7.5310,  -53.2797
316N200309, A20, 77, 1, 11, 11, 2, 20031017, 1441, 7.5245, -53.2833, 693,    98.80,     98.8,  25.7730,  36.3177, 2,  36.3168, 2,    173.7, 2,    176.7, 2,     0.96, 2,     2.33, 2,     0.04, 2,     0.22, 2,    1.713, 2,    1.063, 2,    0.100, 2,    1.120, 2,   -999.0, 9,   -999.0, 9,  -999.00, 9,  -999.00, 9, -999.000, 9, -999.000, -999.0000, 9, -999.0000,  -999.00, 9,  -999.00, -999.000, 9, -999.000,   -999.0, 9,   -999.0,  -999.00, 9,    0.0920, 2,    0.0650, 2,    0.0300, 2,    0.0230, 2,    0.0210, 2,    0.0220, 2, -999, 9, -999, 9, -999, 9, -999, 9, -999, 9, -999, 9, -999, 9,  -999.00, 9,  -999.00, 9,  -999.00, 9,  -999.00, 9,  25.7510,  -999.00, 9, 1503,    7.5304,  -53.2801
316N200309, A20, 77, 1, 10, 10, 2, 20031017, 1441, 7.5245, -53.2833, 693,   124.90,    124.9,  22.2956,  36.6908, 2,  36.6883, 2,    149.7, 2,    152.6, 2,     1.96, 2,     5.69, 2,     0.05, 2,     0.38, 2,    1.933, 2,    1.137, 2,    0.081, 2,    0.369, 2,   -999.0, 9,   -999.0, 9,  -999.00, 9,  -999.00, 9, -999.000, 9, -999.000, -999.0000, 9, -999.0000,  -999.00, 9,  -999.00, -999.000, 9, -999.000,   -999.0, 9,   -999.0,  -999.00, 9,    0.1400, 2,    0.1020, 2,    0.0510, 2,    0.0400, 2,    0.0140, 2,    0.0160, 2, -999, 9, -999, 9, -999, 9, -999, 9, -999, 9, -999, 9, -999, 9,  -999.00, 9,  -999.00, 9,  -999.00, 9,  -999.00, 9,  22.2704,  -999.00, 9, 1501,    7.5298,  -53.2803
316N200309, A20, 77, 1, 9, 9, 2, 20031017, 1441, 7.5245, -53.2833, 693,   150.30,    150.3,  18.6974,  36.4409, 2,  36.4394, 2,    134.5, 2,    137.0, 2,     2.87, 2,    10.59, 2,     0.02, 2,     0.62, 2,    2.027, 2,    1.168, 2,    0.019, 2,    0.286, 2,   -999.0, 9,   -999.0, 9,  -999.00, 9,  -999.00, 9, -999.000, 9, -999.000, -999.0000, 9, -999.0000,  -999.00, 9,  -999.00, -999.000, 9, -999.000,   -999.0, 9,   -999.0,  -999.00, 9,    0.1390, 2,    0.1000, 2,    0.0530, 2,    0.0420, 2,    0.0130, 2,    0.0150, 2, -999, 9, -999, 9, -999, 9, -999, 9, -999, 9, -999, 9, -999, 9,  -999.00, 9,  -999.00, 9,  -999.00, 9,  -999.00, 9,  18.6706,  -999.00, 9, 1459,    7.5292,  -53.2805
316N200309, A20, 77, 1, 8, 8, 2, 20031017, 1441, 7.5245, -53.2833, 693,   175.20,    175.2,  15.7627,  35.9786, 2,  35.9781, 2,    126.3, 2,    129.0, 2,     5.00, 2,    15.90, 2,     0.02, 2,     0.96, 2,    1.904, 2,    1.089, 2,    0.005, 2,    0.367, 2,   -999.0, 9,   -999.0, 9,  -999.00, 9,  -999.00, 9, -999.000, 9, -999.000, -999.0000, 9, -999.0000,  -999.00, 9,  -999.00, -999.000, 9, -999.000,   -999.0, 9,   -999.0,  -999.00, 9,    0.1310, 2,    0.0960, 2,    0.0510, 2,    0.0420, 2,    0.0120, 2,    0.0150, 2, -999, 9, -999, 9, -999, 9, -999, 9, -999, 9, -999, 9, -999, 9,  -999.00, 9,  -999.00, 9,  -999.00, 9,  -999.00, 9,  15.7350,  -999.00, 9, 1458,    7.5286,  -53.2807
316N200309, A20, 77, 1, 7, 7, 2, 20031017, 1441, 7.5245, -53.2833, 693,   217.20,    217.2,  12.5018,  35.4162, 2,  35.4210, 2,    120.0, 2,    124.0, 2,     8.47, 2,    21.59, 2,     0.02, 2,     1.35, 2,    1.616, 2,    0.877, 2,    0.003, 2,    0.414, 2,   -999.0, 9,   -999.0, 9,  -999.00, 9,  -999.00, 9, -999.000, 9, -999.000, -999.0000, 9, -999.0000,  -999.00, 9,  -999.00, -999.000, 9, -999.000,   -999.0, 9,   -999.0,  -999.00, 9,    0.1270, 2,    0.0910, 2,    0.0490, 2,    0.0400, 2,    0.0130, 2,    0.0150, 2, -999, 9, -999, 9, -999, 9, -999, 9, -999, 9, -999, 9, -999, 9,  -999.00, 9,  -999.00, 9,  -999.00, 9,  -999.00, 9,  12.4726,  -999.00, 9, 1456,    7.5280,  -53.2809
316N200309, A20, 77, 1, 6, 6, 2, 20031017, 1441, 7.5245, -53.2833, 693,   275.60,    275.6,   9.8302,  34.9765, 2,  34.9839, 2,    128.3, 2,    128.7, 2,    12.16, 2,    25.98, 2,     0.01, 2,     1.67, 2,    1.346, 2,    0.730, 2,    0.010, 2,    0.578, 2,   -999.0, 9,   -999.0, 9,  -999.00, 9,  -999.00, 9, -999.000, 9, -999.000, -999.0000, 9, -999.0000,  -999.00, 9,  -999.00, -999.000, 9, -999.000,   -999.0, 9,   -999.0,  -999.00, 9, -999.0000, 9, -999.0000, 9, -999.0000, 9, -999.0000, 9, -999.0000, 9, -999.0000, 9, -999, 9, -999, 9, -999, 9, -999, 9, -999, 9, -999, 9, -999, 9,  -999.00, 9,  -999.00, 9,  -999.00, 9,  -999.00, 9,   9.7985,  -999.00, 9, 1454,    7.5273,  -53.2811
316N200309, A20, 77, 1, 5, 5, 2, 20031017, 1441, 7.5245, -53.2833, 693,   350.70,    350.7,   8.3504,  34.7489, 2,  34.7469, 2,    140.9, 2,    145.8, 2,    14.73, 2,    27.53, 2,     0.01, 2,     1.80, 2,    1.316, 2,    0.681, 2,    0.017, 2,    0.786, 2,   -999.0, 9,   -999.0, 9,  -999.00, 9,  -999.00, 9, -999.000, 9, -999.000, -999.0000, 9, -999.0000,  -999.00, 9,  -999.00, -999.000, 9, -999.000,   -999.0, 9,   -999.0,  -999.00, 9,    0.1180, 2,    0.0830, 2,    0.0450, 2,    0.0380, 2,    0.0120, 2,    0.0150, 2, -999, 9, -999, 9, -999, 9, -999, 9, -999, 9, -999, 9, -999, 9,  -999.00, 9,  -999.00, 9,  -999.00, 9,  -999.00, 9,   8.3138,  -999.00, 9, 1452,    7.5265,  -53.2815
316N200309, A20, 77, 1, 4, 4, 2, 20031017, 1441, 7.5245, -53.2833, 693,   451.40,    451.4,   8.1237,  34.7424, 2,  34.7563, 2,    136.7, 2,    134.7, 2,    15.86, 2,    28.98, 2,     0.01, 2,     1.89, 2,    1.068, 2,    0.546, 2,    0.019, 2,    0.696, 2,   -999.0, 9,   -999.0, 9,  -999.00, 9,  -999.00, 9, -999.000, 9, -999.000, -999.0000, 9, -999.0000,  -999.00, 9,  -999.00, -999.000, 9, -999.000,   -999.0, 9,   -999.0,  -999.00, 9,    0.1210, 2,    0.0860, 2,    0.0470, 2,    0.0380, 2,    0.0120, 2,    0.0150, 2, -999, 9, -999, 9, -999, 9, -999, 9, -999, 9, -999, 9, -999, 9,  -999.00, 9,  -999.00, 9,  -999.00, 9,  -999.00, 9,   8.0770,  -999.00, 9, 1449,    7.5259,  -53.2820
316N200309, A20, 77, 1, 3, 3, 2, 20031017, 1441, 7.5245, -53.2833, 693,   520.40,    520.4,   7.2914,  34.6640, 2,  34.6629, 2,    126.7, 2,    132.0, 2,    18.43, 2,    31.35, 2,     0.01, 2,     2.04, 2,    0.788, 6,    0.418, 6,    0.008, 2,    0.666, 2,   -999.0, 9,   -999.0, 9,  -999.00, 9,  -999.00, 9, -999.000, 9, -999.000, -999.0000, 9, -999.0000,  -999.00, 9,  -999.00, -999.000, 9, -999.000,   -999.0, 9,   -999.0,  -999.00, 9,    0.1300, 2,    0.0930, 2,    0.0520, 2,    0.0430, 2,    0.0120, 2,    0.0140, 2, -999, 9, -999, 9, -999, 9, -999, 9, -999, 9, -999, 9, -999, 9,  -999.00, 9,  -999.00, 9,  -999.00, 9,  -999.00, 9,   7.2406,  -999.00, 9, 1446,    7.5254,  -53.2824
316N200309, A20, 77, 1, 2, 2, 2, 20031017, 1441, 7.5245, -53.2833, 693,   601.20,    601.2,   7.1983,  34.7072, 2,  34.7034, 2,    124.0, 2,    121.5, 2,    19.66, 2,    32.45, 2,     0.01, 2,     2.10, 2,    0.515, 2,    0.290, 2,    0.004, 2,    0.488, 2,   -999.0, 9,   -999.0, 9,  -999.00, 9,  -999.00, 9, -999.000, 9, -999.000, -999.0000, 9, -999.0000,  -999.00, 9,  -999.00, -999.000, 9, -999.000,   -999.0, 9,   -999.0,  -999.00, 9, -999.0000, 9, -999.0000, 9, -999.0000, 9, -999.0000, 9, -999.0000, 9, -999.0000, 9, -999, 9, -999, 9, -999, 9, -999, 9, -999, 9, -999, 9, -999, 9,  -999.00, 9,  -999.00, 9,  -999.00, 9,  -999.00, 9,   7.1397,  -999.00, 9, 1444,    7.5249,  -53.2829
316N200309, A20, 77, 1, 1, 1, 2, 20031017, 1441, 7.5245, -53.2833, 693,   681.10,    681.1,   6.1357,  34.6306, 2,  34.6309, 2,    126.3, 2,    127.6, 2,    24.21, 2,    33.78, 2,     0.01, 2,     2.23, 2,    0.262, 2,    0.154, 2,    0.015, 2,    0.350, 2,   -999.0, 9,   -999.0, 9,  -999.00, 9,  -999.00, 9, -999.000, 9, -999.000, -999.0000, 9, -999.0000,  -999.00, 9,  -999.00, -999.000, 9, -999.000,   -999.0, 9,   -999.0,  -999.00, 9, -999.0000, 9, -999.0000, 9, -999.0000, 9, -999.0000, 9, -999.0000, 9, -999.0000, 9, -999, 9, -999, 9, -999, 9, -999, 9, -999, 9, -999, 9, -999, 9,  -999.00, 9,  -999.00, 9,  -999.00, 9,  -999.00, 9,   6.0745,  -999.00, 9, 1441,    7.5245,  -53.2833
316N200309, A20, 78, 1, 12, 12, 2, 20031017, 1631, 7.4247, -53.3342, 480,     4.30,      4.3,  29.4028,  32.6996, 2,  32.8975, 2,    190.1, 2,    195.0, 2,     7.43, 2,     0.18, 2,     0.00, 2,     0.02, 2,    1.587, 2,    0.997, 2,    0.142, 2, -999.000, 9,   1852.4, 2,   2179.9, 2,    78.50, 2,     4.60, 2, -999.000, 9, -999.000, -999.0000, 9, -999.0000,  -999.00, 9,  -999.00, -999.000, 9, -999.000,   -999.0, 9,   -999.0,  -999.00, 9,    0.5230, 2,    0.3820, 2,    0.1770, 2,    0.1010, 2,    0.0170, 2,    0.0190, 2, 2866, 4, 98, 2, 466, 2, 659, 2, 418, 2, 929, 2, 295, 2,     1.05, 2,     0.69, 2,     8.43, 2,     2.70, 2,  29.4017,     6.51, 2, 1649,    7.4260,  -53.3314
316N200309, A20, 78, 1, 11, 11, 2, 20031017, 1631, 7.4247, -53.3342, 480,    24.90,     24.9,  29.0122,  34.7861, 2,  34.9099, 2,    191.7, 2,    196.2, 2,     2.76, 2,     0.17, 2,     0.01, 2,     0.04, 2,    1.612, 6,    1.009, 6,    0.135, 2,    1.448, 2,   1958.3, 2,   2295.4, 2,    72.80, 2,     5.10, 2, -999.000, 9, -999.000, -999.0000, 9, -999.0000,  -999.00, 9,  -999.00, -999.000, 9, -999.000,   -999.0, 9,   -999.0,  -999.00, 9,    0.2490, 2,    0.1770, 2,    0.0770, 2,    0.0470, 2,    0.0180, 2,    0.0200, 2, -999, 9, -999, 9, -999, 9, -999, 9, -999, 9, -999, 9, -999, 9,     1.29, 2,     1.31, 2,     8.97, 2,    10.42, 2,  29.0061,     4.46, 2, 1648,    7.4254,  -53.3315
316N200309, A20, 78, 1, 10, 10, 2, 20031017, 1631, 7.4247, -53.3342, 480,    52.60,     52.6,  27.7715,  36.1596, 2,  36.1310, 2,    189.2, 2,    193.9, 2,     0.63, 2,     0.20, 2,     0.02, 2,     0.08, 2,    1.678, 2,    1.056, 2,    0.131, 2, -999.000, 9,   2028.5, 2,   2365.5, 2,    65.60, 2,     4.10, 2, -999.000, 9, -999.000, -999.0000, 9, -999.0000,  -999.00, 9,  -999.00, -999.000, 9, -999.000,   -999.0, 9,   -999.0,  -999.00, 9,    0.1380, 2,    0.0980, 2,    0.0460, 2,    0.0330, 2,    0.0160, 2,    0.0190, 2, 1179, 4, 79, 2, 188, 2, 273, 2, 211, 2, 312, 2, 117, 2,     0.94, 2,     2.54, 2,    11.80, 2,     6.18, 2,  27.7592,     4.93, 2, 1647,    7.4249,  -53.3317
316N200309, A20, 78, 1, 9, 9, 2, 20031017, 1631, 7.4247, -53.3342, 480,    73.20,     73.2,  27.5046,  36.2353, 2,  36.2331, 2,    186.9, 2,    190.4, 2,     0.53, 2,     0.14, 2,     0.04, 2,     0.11, 2, -999.000, 9, -999.000, 9, -999.000, 9, -999.000, 9,   2037.8, 2,   2371.4, 2,    65.20, 2,     4.20, 2, -999.000, 9, -999.000, -999.0000, 9, -999.0000,  -999.00, 9,  -999.00, -999.000, 9, -999.000,   -999.0, 9,   -999.0,  -999.00, 9,    0.1210, 2,    0.0860, 2,    0.0410, 2,    0.0330, 2,    0.0150, 2,    0.0180, 2, 1088, 4, 41, 2, 92, 2, 230, 2, 403, 4, 238, 2, 84, 2,     1.99, 2,     1.33, 2,     8.18, 2,     4.44, 2,  27.4876,     3.66, 2, 1645,    7.4247,  -53.3318
316N200309, A20, 78, 1, 8, 8, 2, 20031017, 1631, 7.4247, -53.3342, 480,   100.00,    100.0,  22.7269,  36.5761, 2,  36.5729, 2,    151.2, 2,    155.3, 2,     2.14, 2,     5.36, 2,     0.08, 2,     0.38, 2,    1.925, 2,    1.145, 2,    0.094, 2, -999.000, 9,   2118.8, 2,   2389.8, 2,    54.40, 2,     9.10, 2, -999.000, 9, -999.000, -999.0000, 9, -999.0000,  -999.00, 9,  -999.00, -999.000, 9, -999.000,   -999.0, 9,   -999.0,  -999.00, 9,    0.1750, 2,    0.1290, 2,    0.0690, 2,    0.0560, 2,    0.0130, 2,    0.0140, 2, 661, 4, 100, 2, 100, 2, 128, 2, 128, 2, 136, 2, 68, 2,     0.20, 2,     0.76, 2,     1.40, 2,     0.29, 2,  22.7066,     2.70, 2, 1644,    7.4247,  -53.3321
316N200309, A20, 78, 1, 7, 7, 2, 20031017, 1631, 7.4247, -53.3342, 480,   124.20,    124.2,  21.7566,  36.6903, 2,  36.6854, 2,    144.9, 2,    147.7, 2,     1.93, 2,     6.60, 2,     0.05, 2,     0.41, 2,    2.009, 2,    1.199, 2,    0.076, 2, -999.000, 9,   2136.2, 2,   2393.9, 2,    54.30, 2,    10.60, 2, -999.000, 9, -999.000, -999.0000, 9, -999.0000,  -999.00, 9,  -999.00, -999.000, 9, -999.000,   -999.0, 9,   -999.0,  -999.00, 9,    0.2070, 2,    0.1510, 2,    0.0820, 2,    0.0620, 2,    0.0130, 2,    0.0150, 2, -999, 9, -999, 9, -999, 9, -999, 9, -999, 9, -999, 9, -999, 9,     1.35, 2,     0.27, 2,     1.27, 2,     0.00, 2,  21.7320,     1.84, 2, 1643,    7.4246,  -53.3324
316N200309, A20, 78, 1, 6, 6, 2, 20031017, 1631, 7.4247, -53.3342, 480,   149.40,    149.4,  19.5253,  36.5235, 2,  36.6780, 2,    135.5, 2,    140.6, 2,     2.43, 2,     9.23, 2,     0.03, 2,     0.57, 2,    2.069, 2,    1.220, 2,    0.029, 2, -999.000, 9,   2151.0, 2,   2384.6, 2,    50.70, 2,    12.60, 2, -999.000, 9, -999.000, -999.0000, 9, -999.0000,  -999.00, 9,  -999.00, -999.000, 9, -999.000,   -999.0, 9,   -999.0,  -999.00, 9,    0.1580, 2,    0.1160, 2,    0.0620, 2,    0.0520, 2,    0.0120, 2,    0.0140, 2, -999, 9, -999, 9, -999, 9, -999, 9, -999, 9, -999, 9, -999, 9,     0.16, 2,     0.18, 2,     0.15, 2,     0.04, 2,  19.4979,     1.60, 2, 1641,    7.4246,  -53.3327
316N200309, A20, 78, 1, 5, 5, 2, 20031017, 1631, 7.4247, -53.3342, 480,   200.20,    200.2,  14.9819,  35.8456, 2,  36.5182, 3,    125.9, 2,    127.1, 2,     5.76, 2,    17.27, 2,     0.01, 2,     1.05, 2,    1.883, 2,    1.049, 2,    0.014, 2, -999.000, 9,   2172.8, 2,   2345.3, 2,    46.90, 2,    21.20, 2, -999.000, 9, -999.000, -999.0000, 9, -999.0000,  -999.00, 9,  -999.00, -999.000, 9, -999.000,   -999.0, 9,   -999.0,  -999.00, 9,    0.1790, 2,    0.1330, 2,    0.0730, 2,    0.0590, 2,    0.0120, 2,    0.0140, 2, -999, 9, -999, 9, -999, 9, -999, 9, -999, 9, -999, 9, -999, 9,     0.07, 2,     0.04, 2,     0.12, 2,     0.00, 2,  14.9514,     1.14, 2, 1639,    7.4246,  -53.3330
316N200309, A20, 78, 1, 4, 4, 2, 20031017, 1631, 7.4247, -53.3342, 480,   249.60,    249.6,  12.6550,  35.4329, 2,  35.4291, 2,    123.6, 2,    126.9, 2,     8.50, 2,    20.88, 2,     0.01, 2,     1.32, 2,    1.695, 2,    0.917, 2,    0.022, 2, -999.000, 9,   2180.7, 2,   2326.6, 2,    46.00, 2,    24.00, 2, -999.000, 9, -999.000, -999.0000, 9, -999.0000,  -999.00, 9,  -999.00, -999.000, 9, -999.000,   -999.0, 9,   -999.0,  -999.00, 9,    0.1900, 2,    0.1390, 2,    0.0780, 2,    0.0620, 2,    0.0120, 2,    0.0130, 2, 509, 4, 31, 2, 56, 2, 86, 2, 220, 4, 75, 2, 41, 2,  -999.00, 9,  -999.00, 9,  -999.00, 9,  -999.00, 9,  12.6211,  -999.00, 9, 1638,    7.4246,  -53.3333
316N200309, A20, 78, 1, 3, 3, 2, 20031017, 1631, 7.4247, -53.3342, 480,   299.90,    299.9,  11.0066,  35.1478, 2,  35.1453, 2,    128.4, 2,    129.8, 2,    10.43, 2,    23.39, 2,     0.01, 2,     1.52, 2, -999.000, 5, -999.000, 5, -999.000, 5, -999.000, 9,   2185.3, 2,   2313.1, 2,    41.70, 2,    26.50, 2, -999.000, 9, -999.000, -999.0000, 9, -999.0000,  -999.00, 9,  -999.00, -999.000, 9, -999.000,   -999.0, 9,   -999.0,  -999.00, 9,    0.1470, 2,    0.1040, 2,    0.0570, 2,    0.0460, 2,    0.0120, 2,    0.0150, 2, -999, 9, -999, 9, -999, 9, -999, 9, -999, 9, -999, 9, -999, 9,  -999.00, 9,  -999.00, 9,  -999.00, 9,  -999.00, 9,  10.9693,  -999.00, 9, 1636,    7.4246,  -53.3336
316N200309, A20, 78, 1, 2, 2, 2, 20031017, 1631, 7.4247, -53.3342, 480,   400.70,    400.7,   8.8264,  34.8378, 2,  34.8375, 2,    127.6, 2,    129.1, 2,    14.51, 2,    27.73, 2,     0.01, 2,     1.81, 2,    1.154, 2,    0.612, 2,    0.018, 2, -999.000, 9,   2197.7, 2,   2299.5, 2,    41.70, 2,  -999.00, 9, -999.000, 9, -999.000, -999.0000, 9, -999.0000,  -999.00, 9,  -999.00, -999.000, 9, -999.000,   -999.0, 9,   -999.0,  -999.00, 9,    0.1580, 2,    0.1150, 2,    0.0670, 2,    0.0630, 3,    0.0100, 3,    0.0110, 3, -999, 9, -999, 9, -999, 9, -999, 9, -999, 9, -999, 9, -999, 9,  -999.00, 9,  -999.00, 9,  -999.00, 9,  -999.00, 9,   8.7830,  -999.00, 9, 1634,    7.4246,  -53.3340
316N200309, A20, 78, 1, 1, 1, 2, 20031017, 1631, 7.4247, -53.3342, 480,   470.10,    470.1,   7.6629,  34.7135, 2,  34.7148, 2,    127.6, 2,    127.9, 2,    18.39, 2,    30.21, 2,     0.01, 2,     1.99, 2,    0.847, 6,    0.441, 6,    0.017, 6, -999.000, 9,   2207.5, 2,   2297.5, 2,    40.90, 2,  -999.00, 9, -999.000, 9, -999.000, -999.0000, 9, -999.0000,  -999.00, 9,  -999.00, -999.000, 9, -999.000,   -999.0, 9,   -999.0,  -999.00, 9,    0.1850, 2,    0.1310, 2,    0.0690, 2,    0.0600, 2,    0.0110, 2,    0.0140, 2, 435, 4, 33, 2, 46, 2, 66, 2, 159, 2, 88, 2, 43, 2,  -999.00, 9,  -999.00, 9,  -999.00, 9,  -999.00, 9,   7.6159,  -999.00, 9, 1632,    7.4247,  -53.3341