BOTTLE,20220816CCHSIOAMB
EXPOCODE,SECT_ID,STNNBR,CASTNO,SAMPNO,BTLNBR,BTLNBR_FLAG_W,DATE,TIME,LATITUDE,LONGITUDE,DEPTH,CTDRAW,CTDPRS,CTDTMP,CTDSAL,CTDSAL_FLAG_W,SALNTY,SALNTY_FLAG_W,CTDOXY,CTDOXY_FLAG_W,OXYGEN,OXYGEN_FLAG_W,SILCAT,SILCAT_FLAG_W,NITRAT,NITRAT_FLAG_W,NITRIT,NITRIT_FLAG_W,PHSPHT,PHSPHT_FLAG_W,CFC-11,CFC-11_FLAG_W,CFC-12,CFC-12_FLAG_W,CFC113,CFC113_FLAG_W,CCL4,CCL4_FLAG_W,TCARBN,TCARBN_FLAG_W,ALKALI,ALKALI_FLAG_W,DOC,DOC_FLAG_W,TDN,TDN_FLAG_W,TRITUM,TRITUM_FLAG_W,TRITER,HELIUM,HELIUM_FLAG_W,HELIER,DELHE3,DELHE3_FLAG_W,DELHER,NEON,NEON_FLAG_W,NEONER,DELC14,DELC14_FLAG_W,C14ERR,DELC13,DELC13_FLAG_W,CDOM325,CDOM325_FLAG_W,CDOM340,CDOM340_FLAG_W,CDOM380,CDOM380_FLAG_W,CDOM412,CDOM412_FLAG_W,CDOMSL,CDOMSL_FLAG_W,CDOMSN,CDOMSN_FLAG_W,DCNS,DCNS_FLAG_W,ARABI,ARABI_FLAG_W,FUCO,FUCO_FLAG_W,GALA,GALA_FLAG_W,GLUC,GLUC_FLAG_W,MAN,MAN_FLAG_W,RHAM,RHAM_FLAG_W,BRDU,BRDU_FLAG_W,PEUK,PEUK_FLAG_W,PROC,PROC_FLAG_W,SYN,SYN_FLAG_W,THETA,BACT,BACT_FLAG_W,BTL_TIME,BTL_LAT,BTL_LON
,,,,,,,,,,,METERS,DBAR,DBAR,ITS-90,PSS-78,,PSS-78,,UMOL/KG,,UMOL/KG,,UMOL/KG,,UMOL/KG,,UMOL/KG,,UMOL/KG,,PMOL/KG,,PMOL/KG,,PMOL/KG,,PMOL/KG,,UMOL/KG,,UMOL/KG,,UMOL/KG,,UMOL/KG,,TU,,TU,NMOL/KG,,NMOL/KG,PERCNT,,PERCNT,NMOL/KG,,NMOL/KG,/MILLE,,/MILLE,/MILLE,,1/M,,1/M,,1/M,,1/M,,1/NM,,1/NM,,NMOL/KG,,NMOL/KG,,NMOL/KG,,NMOL/KG,,NMOL/KG,,NMOL/KG,,NMOL/KG,,PMOL/L/H,,E6/L,,E7/L,,E6/L,,DEG C,E8/L,,,,
316N200309, A20, 24, 1, 10, 10, 2, 20030930, 1851, 36.9045, -52.4515, 5576,  3624.90,   3624.9,   2.7187,  34.9230, 2,  34.9225, 2,    269.1, 2,    269.0, 2,    21.69, 2,    17.79, 2,     0.00, 2,     1.20, 2,    0.693, 2,    0.347, 2,    0.029, 2, -999.000, 9,   -999.0, 9,   -999.0, 9,  -999.00, 9,  -999.00, 9,    0.326, 2,    0.002, -999.0000, 9, -999.0000,  -999.00, 9,  -999.00, -999.000, 9, -999.000,   -999.0, 9,   -999.0,  -999.00, 9, -999.0000, 9, -999.0000, 9, -999.0000, 9, -999.0000, 9, -999.0000, 9, -999.0000, 9, -999, 9, -999, 9, -999, 9, -999, 9, -999, 9, -999, 9, -999, 9,  -999.00, 9,  -999.00, 9,  -999.00, 9,  -999.00, 9,   2.4070,  -999.00, 9, 1936,   36.9016,  -52.4500
316N200309, A20, 24, 1, 9, 9, 2, 20030930, 1851, 36.9045, -52.4515, 5576,  3874.50,   3874.5,   2.5290,  34.9113, 2,  34.9107, 2,    270.5, 2,    269.3, 2,    23.72, 2,    17.89, 2,     0.00, 2,     1.21, 2,    0.779, 2,    0.383, 2,    0.032, 2, -999.000, 9,   -999.0, 9,   -999.0, 9,  -999.00, 9,  -999.00, 9, -999.000, 9, -999.000, -999.0000, 9, -999.0000,  -999.00, 9,  -999.00, -999.000, 9, -999.000,   -999.0, 9,   -999.0,  -999.00, 9, -999.0000, 9, -999.0000, 9, -999.0000, 9, -999.0000, 9, -999.0000, 9, -999.0000, 9, -999, 9, -999, 9, -999, 9, -999, 9, -999, 9, -999, 9, -999, 9,  -999.00, 9,  -999.00, 9,  -999.00, 9,  -999.00, 9,   2.1943,  -999.00, 9, 1932,   36.9019,  -52.4504
316N200309, A20, 24, 1, 8, 8, 2, 20030930, 1851, 36.9045, -52.4515, 5576,  4123.80,   4123.8,   2.4205,  34.9033, 2,  34.9046, 2,    269.4, 2,    269.3, 2,    25.85, 2,    18.08, 2,     0.00, 2,     1.23, 2,    0.795, 2,    0.393, 2,    0.042, 2, -999.000, 9,   -999.0, 9,   -999.0, 9,  -999.00, 9,  -999.00, 9, -999.000, 9, -999.000,   1.9226, 2,   0.0096,     6.87, 2,     0.20,    8.085, 2,    0.040,   -999.0, 9,   -999.0,  -999.00, 9,    0.1180, 2,    0.0860, 2,    0.0420, 2,    0.0270, 2,    0.0180, 2,    0.0190, 2, -999, 9, -999, 9, -999, 9, -999, 9, -999, 9, -999, 9, -999, 9,  -999.00, 9,  -999.00, 9,  -999.00, 9,  -999.00, 9,   2.0601,  -999.00, 9, 1927,   36.9021,  -52.4507
316N200309, A20, 24, 1, 7, 7, 2, 20030930, 1851, 36.9045, -52.4515, 5576,  4375.10,   4375.1,   2.3594,  34.8972, 2,  34.8969, 2,    267.9, 2,    268.3, 2,    27.88, 2,    18.39, 2,     0.00, 2,     1.25, 2,    0.795, 2,    0.393, 2,    0.042, 2, -999.000, 9,   -999.0, 9,   -999.0, 9,  -999.00, 9,  -999.00, 9, -999.000, 9, -999.000, -999.0000, 9, -999.0000,  -999.00, 9,  -999.00, -999.000, 9, -999.000,   -999.0, 9,   -999.0,  -999.00, 9, -999.0000, 9, -999.0000, 9, -999.0000, 9, -999.0000, 9, -999.0000, 9, -999.0000, 9, -999, 9, -999, 9, -999, 9, -999, 9, -999, 9, -999, 9, -999, 9,  -999.00, 9,  -999.00, 9,  -999.00, 9,  -999.00, 9,   1.9713,  -999.00, 9, 1922,   36.9026,  -52.4507
316N200309, A20, 24, 1, 6, 6, 2, 20030930, 1851, 36.9045, -52.4515, 5576,  4574.00,   4574.0,   2.3339,  34.8935, 2,  34.8932, 2,    266.8, 2,    268.0, 2,    29.72, 2,    18.58, 2,     0.00, 2,     1.27, 2,    0.770, 2,    0.387, 2,    0.051, 2, -999.000, 9,   -999.0, 9,   -999.0, 9,  -999.00, 9,  -999.00, 9,    0.290, 2,    0.002,   1.9055, 2,   0.0095,     6.52, 2,     0.20,    8.078, 2,    0.040,   -999.0, 9,   -999.0,  -999.00, 9, -999.0000, 9, -999.0000, 9, -999.0000, 9, -999.0000, 9, -999.0000, 9, -999.0000, 9, -999, 9, -999, 9, -999, 9, -999, 9, -999, 9, -999, 9, -999, 9,  -999.00, 9,  -999.00, 9,  -999.00, 9,  -999.00, 9,   1.9228,  -999.00, 9, 1917,   36.9030,  -52.4507
316N200309, A20, 24, 1, 5, 5, 2, 20030930, 1851, 36.9045, -52.4515, 5576,  4748.70,   4748.7,   2.3158,  34.8902, 2,  34.8898, 2,    265.2, 2,    266.0, 2,    31.36, 2,    18.79, 2,     0.00, 2,     1.29, 2,    0.741, 2,    0.372, 2,    0.048, 2, -999.000, 9,   -999.0, 9,   -999.0, 9,  -999.00, 9,  -999.00, 9, -999.000, 9, -999.000, -999.0000, 9, -999.0000,  -999.00, 9,  -999.00, -999.000, 9, -999.000,   -999.0, 9,   -999.0,  -999.00, 9, -999.0000, 9, -999.0000, 9, -999.0000, 9, -999.0000, 9, -999.0000, 9, -999.0000, 9, -999, 9, -999, 9, -999, 9, -999, 9, -999, 9, -999, 9, -999, 9,  -999.00, 9,  -999.00, 9,  -999.00, 9,  -999.00, 9,   1.8839,  -999.00, 9, 1913,   36.9032,  -52.4509
316N200309, A20, 24, 1, 4, 4, 2, 20030930, 1851, 36.9045, -52.4515, 5576,  4949.10,   4949.1,   2.3098,  34.8871, 2,  34.8881, 2,    264.4, 2,    264.4, 2,    33.40, 2,    19.13, 2,     0.00, 2,     1.31, 2,    0.667, 2,    0.337, 2,    0.043, 2, -999.000, 9,   -999.0, 9,   -999.0, 9,  -999.00, 9,  -999.00, 9,    0.285, 2,    0.002,   1.9020, 2,   0.0095,     5.23, 2,     0.20,    8.025, 2,    0.040,   -999.0, 9,   -999.0,  -999.00, 9,    0.1370, 2,    0.0990, 2,    0.0500, 2,    0.0320, 2,    0.0170, 2,    0.0180, 2, -999, 9, -999, 9, -999, 9, -999, 9, -999, 9, -999, 9, -999, 9,  -999.00, 9,  -999.00, 9,  -999.00, 9,  -999.00, 9,   1.8533,  -999.00, 9, 1908,   36.9036,  -52.4511
316N200309, A20, 24, 1, 3, 3, 2, 20030930, 1851, 36.9045, -52.4515, 5576,  5148.10,   5148.1,   2.3077,  34.8842, 2,  34.8841, 2,    264.6, 2,    264.1, 2,    34.24, 2,    19.18, 2,     0.00, 2,     1.31, 2,    0.679, 6,    0.351, 6,    0.040, 2,    1.079, 2,   -999.0, 9,   -999.0, 9,  -999.00, 9,  -999.00, 9, -999.000, 9, -999.000, -999.0000, 9, -999.0000,  -999.00, 9,  -999.00, -999.000, 9, -999.000,   -999.0, 9,   -999.0,  -999.00, 9, -999.0000, 9, -999.0000, 9, -999.0000, 9, -999.0000, 9, -999.0000, 9, -999.0000, 9, -999, 9, -999, 9, -999, 9, -999, 9, -999, 9, -999, 9, -999, 9,  -999.00, 9,  -999.00, 9,  -999.00, 9,  -999.00, 9,   1.8260,  -999.00, 9, 1903,   36.9039,  -52.4513
316N200309, A20, 24, 1, 2, 2, 2, 20030930, 1851, 36.9045, -52.4515, 5576,  5349.20,   5349.2,   2.3032,  34.8807, 2,  34.8808, 2,    262.6, 2,    263.1, 2,    35.79, 2,    19.43, 2,     0.00, 2,     1.33, 2,    0.728, 2,    0.362, 2,    0.050, 2, -999.000, 9,   -999.0, 9,   -999.0, 9,  -999.00, 9,  -999.00, 9,    0.260, 2,    0.002,   1.8638, 2,   0.0093,     4.40, 2,     0.20,    8.069, 2,    0.040,   -999.0, 9,   -999.0,  -999.00, 9, -999.0000, 9, -999.0000, 9, -999.0000, 9, -999.0000, 9, -999.0000, 9, -999.0000, 9, -999, 9, -999, 9, -999, 9, -999, 9, -999, 9, -999, 9, -999, 9,  -999.00, 9,  -999.00, 9,  -999.00, 9,  -999.00, 9,   1.7957,  -999.00, 9, 1858,   36.9042,  -52.4513
316N200309, A20, 24, 1, 1, 1, 2, 20030930, 1851, 36.9045, -52.4515, 5576,  5541.70,   5541.7,   2.2304,  34.8674, 2,  34.8700, 2,    254.0, 2,    255.2, 2,    45.75, 2,    21.03, 2,     0.01, 2,     1.49, 2,    0.263, 2,    0.141, 2,    0.020, 2, -999.000, 9,   -999.0, 9,   -999.0, 9,  -999.00, 9,  -999.00, 9,    0.128, 2,    0.001,   1.8859, 2,   0.0094,     3.75, 2,     0.20,    8.128, 2,    0.041,   -999.0, 9,   -999.0,  -999.00, 9,    0.1050, 2,    0.0790, 2,    0.0400, 2,    0.0260, 2,    0.0170, 2,    0.0180, 2, -999, 9, -999, 9, -999, 9, -999, 9, -999, 9, -999, 9, -999, 9,  -999.00, 9,  -999.00, 9,  -999.00, 9,  -999.00, 9,   1.7004,  -999.00, 9, 1852,   36.9045,  -52.4516