BOTTLE,20220816CCHSIOAMB
EXPOCODE,SECT_ID,STNNBR,CASTNO,SAMPNO,BTLNBR,BTLNBR_FLAG_W,DATE,TIME,LATITUDE,LONGITUDE,DEPTH,CTDRAW,CTDPRS,CTDTMP,CTDSAL,CTDSAL_FLAG_W,SALNTY,SALNTY_FLAG_W,CTDOXY,CTDOXY_FLAG_W,OXYGEN,OXYGEN_FLAG_W,SILCAT,SILCAT_FLAG_W,NITRAT,NITRAT_FLAG_W,NITRIT,NITRIT_FLAG_W,PHSPHT,PHSPHT_FLAG_W,CFC-11,CFC-11_FLAG_W,CFC-12,CFC-12_FLAG_W,CFC113,CFC113_FLAG_W,CCL4,CCL4_FLAG_W,TCARBN,TCARBN_FLAG_W,ALKALI,ALKALI_FLAG_W,DOC,DOC_FLAG_W,TDN,TDN_FLAG_W,TRITUM,TRITUM_FLAG_W,TRITER,HELIUM,HELIUM_FLAG_W,HELIER,DELHE3,DELHE3_FLAG_W,DELHER,NEON,NEON_FLAG_W,NEONER,DELC14,DELC14_FLAG_W,C14ERR,DELC13,DELC13_FLAG_W,CDOM325,CDOM325_FLAG_W,CDOM340,CDOM340_FLAG_W,CDOM380,CDOM380_FLAG_W,CDOM412,CDOM412_FLAG_W,CDOMSL,CDOMSL_FLAG_W,CDOMSN,CDOMSN_FLAG_W,DCNS,DCNS_FLAG_W,ARABI,ARABI_FLAG_W,FUCO,FUCO_FLAG_W,GALA,GALA_FLAG_W,GLUC,GLUC_FLAG_W,MAN,MAN_FLAG_W,RHAM,RHAM_FLAG_W,BRDU,BRDU_FLAG_W,PEUK,PEUK_FLAG_W,PROC,PROC_FLAG_W,SYN,SYN_FLAG_W,THETA,BACT,BACT_FLAG_W,BTL_TIME,BTL_LAT,BTL_LON
,,,,,,,,,,,METERS,DBAR,DBAR,ITS-90,PSS-78,,PSS-78,,UMOL/KG,,UMOL/KG,,UMOL/KG,,UMOL/KG,,UMOL/KG,,UMOL/KG,,PMOL/KG,,PMOL/KG,,PMOL/KG,,PMOL/KG,,UMOL/KG,,UMOL/KG,,UMOL/KG,,UMOL/KG,,TU,,TU,NMOL/KG,,NMOL/KG,PERCNT,,PERCNT,NMOL/KG,,NMOL/KG,/MILLE,,/MILLE,/MILLE,,1/M,,1/M,,1/M,,1/M,,1/NM,,1/NM,,NMOL/KG,,NMOL/KG,,NMOL/KG,,NMOL/KG,,NMOL/KG,,NMOL/KG,,NMOL/KG,,PMOL/L/H,,E6/L,,E7/L,,E6/L,,DEG C,E8/L,,,,
316N200309, A20, 48, 1, 10, 10, 2, 20031010, 2252, 18.8473, -52.3560, 4945,  3100.10,   3100.1,   2.6816,  34.9247, 2,  34.9239, 2,    250.1, 2,    249.5, 2,    35.78, 2,    20.96, 2,     0.00, 2,     1.41, 2,    0.020, 2,    0.017, 2,    0.002, 2, -999.000, 9,   2184.0, 2,   2332.7, 2,  -999.00, 9,  -999.00, 9, -999.000, 9, -999.000, -999.0000, 9, -999.0000,  -999.00, 9,  -999.00, -999.000, 9, -999.000,   -999.0, 9,   -999.0,  -999.00, 9, -999.0000, 9, -999.0000, 9, -999.0000, 9, -999.0000, 9, -999.0000, 9, -999.0000, 9, -999, 9, -999, 9, -999, 9, -999, 9, -999, 9, -999, 9, -999, 9,  -999.00, 9,  -999.00, 9,  -999.00, 9,  -999.00, 9,   2.4274,  -999.00, 9, 2335,   18.8565,  -52.3592
316N200309, A20, 48, 1, 9, 9, 2, 20031010, 2252, 18.8473, -52.3560, 4945,  3300.60,   3300.6,   2.5821,  34.9151, 2,  34.9144, 2,    250.6, 2,    250.0, 2,    37.54, 2,    21.09, 2,     0.00, 2,     1.42, 2,    0.025, 6,    0.024, 6,    0.003, 2,    0.212, 2,   2184.7, 2,   2333.5, 2,    40.00, 2,  -999.00, 9, -999.000, 9, -999.000, -999.0000, 9, -999.0000,  -999.00, 9,  -999.00, -999.000, 9, -999.000,   -999.0, 9,   -999.0,  -999.00, 9, -999.0000, 9, -999.0000, 9, -999.0000, 9, -999.0000, 9, -999.0000, 9, -999.0000, 9, -999, 9, -999, 9, -999, 9, -999, 9, -999, 9, -999, 9, -999, 9,  -999.00, 9,  -999.00, 9,  -999.00, 9,  -999.00, 9,   2.3091,  -999.00, 9, 2330,   18.8555,  -52.3590
316N200309, A20, 48, 1, 8, 8, 2, 20031010, 2252, 18.8473, -52.3560, 4945,  3500.60,   3500.6,   2.4952,  34.9066, 2,  34.9058, 2,    251.2, 2,    251.3, 3,    38.77, 2,    21.08, 2,     0.00, 2,     1.42, 2,    0.034, 2,    0.022, 2,    0.007, 2, -999.000, 9,   2176.6, 2,   2332.9, 2,  -999.00, 9,  -999.00, 9, -999.000, 9, -999.000, -999.0000, 9, -999.0000,  -999.00, 9,  -999.00, -999.000, 9, -999.000,   -999.0, 9,   -999.0,  -999.00, 9, -999.0000, 9, -999.0000, 9, -999.0000, 9, -999.0000, 9, -999.0000, 9, -999.0000, 9, -999, 9, -999, 9, -999, 9, -999, 9, -999, 9, -999, 9, -999, 9,  -999.00, 9,  -999.00, 9,  -999.00, 9,  -999.00, 9,   2.2029,  -999.00, 9, 2326,   18.8544,  -52.3588
316N200309, A20, 48, 1, 7, 7, 2, 20031010, 2252, 18.8473, -52.3560, 4945,  3700.20,   3700.2,   2.3853,  34.8965, 2,  34.8955, 2,    252.0, 2,    252.1, 3,    40.95, 2,    21.22, 2,     0.00, 2,     1.44, 2,    0.027, 2,    0.023, 2,    0.003, 2, -999.000, 9,   2185.3, 2,   2333.5, 2,  -999.00, 9,  -999.00, 9, -999.000, 9, -999.000, -999.0000, 9, -999.0000,  -999.00, 9,  -999.00, -999.000, 9, -999.000,   -999.0, 9,   -999.0,  -999.00, 9, -999.0000, 9, -999.0000, 9, -999.0000, 9, -999.0000, 9, -999.0000, 9, -999.0000, 9, -999, 9, -999, 9, -999, 9, -999, 9, -999, 9, -999, 9, -999, 9,  -999.00, 9,  -999.00, 9,  -999.00, 9,  -999.00, 9,   2.0740,  -999.00, 9, 2322,   18.8535,  -52.3586
316N200309, A20, 48, 1, 6, 6, 2, 20031010, 2252, 18.8473, -52.3560, 4945,  3900.20,   3900.2,   2.3032,  34.8877, 2,  34.8865, 2,    251.4, 2,    252.1, 3,    43.55, 2,    21.59, 2,     0.00, 2,     1.46, 2,    0.036, 2,    0.031, 2,    0.007, 2, -999.000, 9,   2188.3, 2,   2334.8, 2,  -999.00, 9,  -999.00, 9, -999.000, 9, -999.000, -999.0000, 9, -999.0000,  -999.00, 9,  -999.00, -999.000, 9, -999.000,   -999.0, 9,   -999.0,  -999.00, 9, -999.0000, 9, -999.0000, 9, -999.0000, 9, -999.0000, 9, -999.0000, 9, -999.0000, 9, -999, 9, -999, 9, -999, 9, -999, 9, -999, 9, -999, 9, -999, 9,  -999.00, 9,  -999.00, 9,  -999.00, 9,  -999.00, 9,   1.9718,  -999.00, 9, 2318,   18.8526,  -52.3583
316N200309, A20, 48, 1, 5, 5, 2, 20031010, 2252, 18.8473, -52.3560, 4945,  4123.80,   4123.8,   2.2147,  34.8782, 2,  34.8774, 2,    250.8, 2,    250.9, 2,    46.16, 2,    21.83, 2,     0.00, 2,     1.48, 2,    0.030, 2,    0.022, 2,    0.008, 2, -999.000, 9,   2189.8, 2,   2339.7, 2,    40.60, 2,  -999.00, 9, -999.000, 9, -999.000, -999.0000, 9, -999.0000,  -999.00, 9,  -999.00, -999.000, 9, -999.000,   -999.0, 9,   -999.0,  -999.00, 9, -999.0000, 9, -999.0000, 9, -999.0000, 9, -999.0000, 9, -999.0000, 9, -999.0000, 9, -999, 9, -999, 9, -999, 9, -999, 9, -999, 9, -999, 9, -999, 9,  -999.00, 9,  -999.00, 9,  -999.00, 9,  -999.00, 9,   1.8605,  -999.00, 9, 2313,   18.8516,  -52.3580
316N200309, A20, 48, 1, 4, 4, 2, 20031010, 2252, 18.8473, -52.3560, 4945,  4374.10,   4374.1,   2.1386,  34.8690, 2,  34.8690, 2,    250.4, 2,    250.7, 2,    48.76, 2,    22.11, 2,     0.00, 2,     1.50, 2,    0.027, 2,    0.021, 2,    0.008, 2, -999.000, 9,   2193.9, 2,   2337.9, 2,  -999.00, 9,  -999.00, 9, -999.000, 9, -999.000, -999.0000, 9, -999.0000,  -999.00, 9,  -999.00, -999.000, 9, -999.000,   -999.0, 9,   -999.0,  -999.00, 9, -999.0000, 9, -999.0000, 9, -999.0000, 9, -999.0000, 9, -999.0000, 9, -999.0000, 9, -999, 9, -999, 9, -999, 9, -999, 9, -999, 9, -999, 9, -999, 9,  -999.00, 9,  -999.00, 9,  -999.00, 9,  -999.00, 9,   1.7575,  -999.00, 9, 2308,   18.8504,  -52.3577
316N200309, A20, 48, 1, 3, 3, 2, 20031010, 2252, 18.8473, -52.3560, 4945,  4625.00,   4625.0,   2.0861,  34.8612, 2,  34.8599, 2,    249.7, 2,    250.1, 2,    51.15, 2,    22.39, 2,     0.00, 2,     1.52, 2,    0.035, 2,    0.026, 2,    0.005, 2, -999.000, 9,   2195.5, 2,   2340.5, 2,  -999.00, 9,  -999.00, 9, -999.000, 9, -999.000, -999.0000, 9, -999.0000,  -999.00, 9,  -999.00, -999.000, 9, -999.000,   -999.0, 9,   -999.0,  -999.00, 9, -999.0000, 9, -999.0000, 9, -999.0000, 9, -999.0000, 9, -999.0000, 9, -999.0000, 9, -999, 9, -999, 9, -999, 9, -999, 9, -999, 9, -999, 9, -999, 9,  -999.00, 9,  -999.00, 9,  -999.00, 9,  -999.00, 9,   1.6768,  -999.00, 9, 2303,   18.8492,  -52.3573
316N200309, A20, 48, 1, 2, 2, 2, 20031010, 2252, 18.8473, -52.3560, 4945,  4748.90,   4748.9,   2.0817,  34.8592, 2,  34.8582, 2,    249.2, 2,    250.0, 2,    51.77, 2,    22.39, 2,     0.00, 2,     1.52, 2,    0.043, 2,    0.039, 2,    0.003, 2, -999.000, 9,   2196.2, 2,   2340.2, 2,  -999.00, 9,  -999.00, 9, -999.000, 9, -999.000, -999.0000, 9, -999.0000,  -999.00, 9,  -999.00, -999.000, 9, -999.000,   -999.0, 9,   -999.0,  -999.00, 9, -999.0000, 9, -999.0000, 9, -999.0000, 9, -999.0000, 9, -999.0000, 9, -999.0000, 9, -999, 9, -999, 9, -999, 9, -999, 9, -999, 9, -999, 9, -999, 9,  -999.00, 9,  -999.00, 9,  -999.00, 9,  -999.00, 9,   1.6576,  -999.00, 9, 2300,   18.8485,  -52.3569
316N200309, A20, 48, 1, 1, 1, 2, 20031010, 2252, 18.8473, -52.3560, 4945,  5029.40,   5029.4,   2.0923,  34.8564, 2,  34.8568, 2,    249.0, 2,    249.7, 2,    52.59, 2,    22.57, 2,     0.00, 2,     1.53, 2,    0.049, 2,    0.034, 2,    0.003, 2, -999.000, 9,   2198.3, 2,   2340.4, 2,    41.30, 2,  -999.00, 9, -999.000, 9, -999.000, -999.0000, 9, -999.0000,  -999.00, 9,  -999.00, -999.000, 9, -999.000,   -999.0, 9,   -999.0,  -999.00, 9, -999.0000, 9, -999.0000, 9, -999.0000, 9, -999.0000, 9, -999.0000, 9, -999.0000, 9, -999, 9, -999, 9, -999, 9, -999, 9, -999, 9, -999, 9, -999, 9,  -999.00, 9,  -999.00, 9,  -999.00, 9,  -999.00, 9,   1.6331,  -999.00, 9, 2253,   18.8474,  -52.3561