BOTTLE,20220816CCHSIOAMB
EXPOCODE,SECT_ID,STNNBR,CASTNO,SAMPNO,BTLNBR,BTLNBR_FLAG_W,DATE,TIME,LATITUDE,LONGITUDE,DEPTH,CTDRAW,CTDPRS,CTDTMP,CTDSAL,CTDSAL_FLAG_W,SALNTY,SALNTY_FLAG_W,CTDOXY,CTDOXY_FLAG_W,OXYGEN,OXYGEN_FLAG_W,SILCAT,SILCAT_FLAG_W,NITRAT,NITRAT_FLAG_W,NITRIT,NITRIT_FLAG_W,PHSPHT,PHSPHT_FLAG_W,CFC-11,CFC-11_FLAG_W,CFC-12,CFC-12_FLAG_W,CFC113,CFC113_FLAG_W,CCL4,CCL4_FLAG_W,TCARBN,TCARBN_FLAG_W,ALKALI,ALKALI_FLAG_W,DOC,DOC_FLAG_W,TDN,TDN_FLAG_W,TRITUM,TRITUM_FLAG_W,TRITER,HELIUM,HELIUM_FLAG_W,HELIER,DELHE3,DELHE3_FLAG_W,DELHER,NEON,NEON_FLAG_W,NEONER,DELC14,DELC14_FLAG_W,C14ERR,DELC13,DELC13_FLAG_W,CDOM325,CDOM325_FLAG_W,CDOM340,CDOM340_FLAG_W,CDOM380,CDOM380_FLAG_W,CDOM412,CDOM412_FLAG_W,CDOMSL,CDOMSL_FLAG_W,CDOMSN,CDOMSN_FLAG_W,DCNS,DCNS_FLAG_W,ARABI,ARABI_FLAG_W,FUCO,FUCO_FLAG_W,GALA,GALA_FLAG_W,GLUC,GLUC_FLAG_W,MAN,MAN_FLAG_W,RHAM,RHAM_FLAG_W,BRDU,BRDU_FLAG_W,PEUK,PEUK_FLAG_W,PROC,PROC_FLAG_W,SYN,SYN_FLAG_W,THETA,BACT,BACT_FLAG_W,BTL_TIME,BTL_LAT,BTL_LON
,,,,,,,,,,,METERS,DBAR,DBAR,ITS-90,PSS-78,,PSS-78,,UMOL/KG,,UMOL/KG,,UMOL/KG,,UMOL/KG,,UMOL/KG,,UMOL/KG,,PMOL/KG,,PMOL/KG,,PMOL/KG,,PMOL/KG,,UMOL/KG,,UMOL/KG,,UMOL/KG,,UMOL/KG,,TU,,TU,NMOL/KG,,NMOL/KG,PERCNT,,PERCNT,NMOL/KG,,NMOL/KG,/MILLE,,/MILLE,/MILLE,,1/M,,1/M,,1/M,,1/M,,1/NM,,1/NM,,NMOL/KG,,NMOL/KG,,NMOL/KG,,NMOL/KG,,NMOL/KG,,NMOL/KG,,NMOL/KG,,PMOL/L/H,,E6/L,,E7/L,,E6/L,,DEG C,E8/L,,,,
316N200309, A20, 39, 1, 36, 36, 2, 20031008, 0324, 24.8685, -52.3362, 5034,     2.80,      2.8,  28.3281,  37.1985, 2,  37.2000, 2,    190.7, 2,    197.7, 2,     0.69, 2,     0.14, 2,     0.00, 2,     0.02, 2,    1.571, 2,    0.980, 2,    0.113, 2,    1.658, 2,   2052.1, 2,   2430.7, 2,  -999.00, 9,  -999.00, 9,    0.718, 2,    0.004,   1.7258, 2,   0.0086,    -1.42, 2,     0.20,    6.721, 2,    0.034,   -999.0, 9,   -999.0,  -999.00, 9,    0.0420, 2,    0.0270, 2,    0.0090, 2,    0.0060, 2,    0.0320, 2,    0.0320, 2, -999, 9, -999, 9, -999, 9, -999, 9, -999, 9, -999, 9, -999, 9,  -999.00, 9,  -999.00, 9,  -999.00, 9,  -999.00, 9,  28.3274,  -999.00, 9,  526,   24.8816,  -52.3221
316N200309, A20, 39, 1, 35, 35, 2, 20031008, 0324, 24.8685, -52.3362, 5034,    26.20,     26.2,  28.3240,  37.2088, 2,  37.2077, 2,    190.7, 2,    197.2, 2,     0.69, 2,     0.09, 2,     0.00, 2,     0.02, 2,    1.566, 2,    0.972, 2,    0.110, 2,    1.610, 2,   2052.9, 2,   2431.2, 2,  -999.00, 9,  -999.00, 9, -999.000, 9, -999.000, -999.0000, 9, -999.0000,  -999.00, 9,  -999.00, -999.000, 9, -999.000,   -999.0, 9,   -999.0,  -999.00, 9,    0.0460, 2,    0.0290, 2,    0.0090, 2,    0.0050, 2,    0.0340, 2,    0.0340, 2, -999, 9, -999, 9, -999, 9, -999, 9, -999, 9, -999, 9, -999, 9,  -999.00, 9,  -999.00, 9,  -999.00, 9,  -999.00, 9,  28.3178,  -999.00, 9,  525,   24.8814,  -52.3223
316N200309, A20, 39, 1, 34, 34, 2, 20031008, 0324, 24.8685, -52.3362, 5034,    50.90,     50.9,  25.8934,  36.9980, 2,  37.0059, 2,    214.6, 2,    224.8, 2,     0.59, 2,     0.08, 2,     0.00, 2,     0.02, 2,    1.868, 2,    1.103, 2,    0.107, 2,    1.300, 2,   2050.8, 2,   2415.7, 2,  -999.00, 9,  -999.00, 9, -999.000, 9, -999.000,   1.7370, 2,   0.0087,    -1.85, 2,     0.20,    6.866, 2,    0.034,   -999.0, 9,   -999.0,  -999.00, 9,    0.1050, 2,    0.0720, 2,    0.0330, 2,    0.0240, 2,    0.0210, 2,    0.0220, 2, -999, 9, -999, 9, -999, 9, -999, 9, -999, 9, -999, 9, -999, 9,  -999.00, 9,  -999.00, 9,  -999.00, 9,  -999.00, 9,  25.8820,  -999.00, 9,  524,   24.8813,  -52.3224
316N200309, A20, 39, 1, 33, 33, 2, 20031008, 0324, 24.8685, -52.3362, 5034,    75.60,     75.6,  24.0369,  37.0120, 2, -999.0000, 9,    218.4, 2,    224.0, 2,     0.37, 4,     0.03, 4,     0.00, 4,     0.02, 4,    1.963, 2,    1.217, 2,    0.105, 2,    1.212, 2,   2060.2, 2,   2417.5, 2,  -999.00, 9,  -999.00, 9, -999.000, 9, -999.000, -999.0000, 9, -999.0000,  -999.00, 9,  -999.00, -999.000, 9, -999.000,   -999.0, 9,   -999.0,  -999.00, 9,    0.1250, 2,    0.0830, 2,    0.0320, 2,    0.0200, 2,    0.0250, 2,    0.0260, 2, -999, 9, -999, 9, -999, 9, -999, 9, -999, 9, -999, 9, -999, 9,  -999.00, 9,  -999.00, 9,  -999.00, 9,  -999.00, 9,  24.0208,  -999.00, 9,  522,   24.8811,  -52.3226
316N200309, A20, 39, 1, 32, 32, 2, 20031008, 0324, 24.8685, -52.3362, 5034,   100.70,    100.7,  22.8337,  36.9246, 2,  36.9241, 2,    214.3, 2,    214.8, 2,     0.36, 2,     0.07, 2,     0.00, 2,     0.02, 2,    2.009, 2,    1.265, 2,    0.125, 2,    1.127, 2,   2070.3, 2,   2409.2, 2,  -999.00, 9,  -999.00, 9, -999.000, 9, -999.000,   1.7419, 2,   0.0087,    -1.18, 2,     0.20,    6.943, 2,    0.035,   -999.0, 9,   -999.0,  -999.00, 9,    0.1900, 2,    0.1370, 2,    0.0650, 2,    0.0450, 2,    0.0160, 2,    0.0180, 2, -999, 9, -999, 9, -999, 9, -999, 9, -999, 9, -999, 9, -999, 9,  -999.00, 9,  -999.00, 9,  -999.00, 9,  -999.00, 9,  22.8131,  -999.00, 9,  521,   24.8810,  -52.3228
316N200309, A20, 39, 1, 31, 31, 2, 20031008, 0324, 24.8685, -52.3362, 5034,   125.70,    125.7,  21.9791,  36.9374, 2,  36.9358, 2,    207.6, 2,    202.2, 2,     0.36, 2,     0.10, 2,     0.02, 2,     0.02, 2,    2.043, 2,    1.279, 2,    0.142, 2,    0.998, 2,   2088.8, 2,   2410.8, 2,  -999.00, 9,  -999.00, 9, -999.000, 9, -999.000, -999.0000, 9, -999.0000,  -999.00, 9,  -999.00, -999.000, 9, -999.000,   -999.0, 9,   -999.0,  -999.00, 9,    0.1350, 2,    0.0970, 2,    0.0440, 2,    0.0310, 2,    0.0170, 2,    0.0190, 2, -999, 9, -999, 9, -999, 9, -999, 9, -999, 9, -999, 9, -999, 9,  -999.00, 9,  -999.00, 9,  -999.00, 9,  -999.00, 9,  21.9541,  -999.00, 9,  520,   24.8809,  -52.3230
316N200309, A20, 39, 1, 30, 30, 2, 20031008, 0324, 24.8685, -52.3362, 5034,   150.10,    150.1,  21.2137,  36.9158, 2,  36.9125, 2,    191.9, 2,    192.3, 2,     0.36, 2,     0.46, 2,     0.03, 2,     0.03, 2,    2.108, 2,    1.298, 2,    0.127, 2,    0.825, 2,   2102.1, 2,   2406.7, 2,  -999.00, 9,  -999.00, 9,    0.736, 2,    0.004,   1.7371, 2,   0.0087,    -1.43, 2,     0.20,    6.980, 2,    0.035,   -999.0, 9,   -999.0,  -999.00, 9,    0.1520, 2,    0.1110, 2,    0.0550, 2,    0.0400, 2,    0.0150, 2,    0.0170, 2, -999, 9, -999, 9, -999, 9, -999, 9, -999, 9, -999, 9, -999, 9,  -999.00, 9,  -999.00, 9,  -999.00, 9,  -999.00, 9,  21.1845,  -999.00, 9,  519,   24.8808,  -52.3231
316N200309, A20, 39, 1, 29, 29, 2, 20031008, 0324, 24.8685, -52.3362, 5034,   199.80,    199.8,  19.3485,  36.6787, 2,  36.6792, 2,    184.7, 2,    188.1, 2,     0.67, 2,     2.12, 2,     0.01, 2,     0.07, 2,    2.226, 2,    1.388, 2,    0.027, 2,    0.373, 2,   2106.7, 2,   2392.7, 2,  -999.00, 9,  -999.00, 9,    0.757, 2,    0.004,   1.7509, 2,   0.0088,    -0.54, 2,     0.20,    7.043, 2,    0.035,   -999.0, 9,   -999.0,  -999.00, 9,    0.1200, 2,    0.0890, 2,    0.0450, 2,    0.0330, 2,    0.0150, 2,    0.0170, 2, -999, 9, -999, 9, -999, 9, -999, 9, -999, 9, -999, 9, -999, 9,  -999.00, 9,  -999.00, 9,  -999.00, 9,  -999.00, 9,  19.3120,  -999.00, 9,  517,   24.8807,  -52.3234
316N200309, A20, 39, 1, 28, 28, 2, 20031008, 0324, 24.8685, -52.3362, 5034,   254.20,    254.2,  18.3993,  36.5678, 2,  36.5678, 2,    187.2, 2,    192.5, 2,     1.09, 2,     4.19, 2,     0.00, 2,     0.20, 2,    2.294, 2,    1.364, 2,    0.020, 2,    0.414, 2,   2107.1, 2,   2385.1, 2,  -999.00, 9,  -999.00, 9, -999.000, 9, -999.000, -999.0000, 9, -999.0000,  -999.00, 9,  -999.00, -999.000, 9, -999.000,   -999.0, 9,   -999.0,  -999.00, 9, -999.0000, 9, -999.0000, 9, -999.0000, 9, -999.0000, 9, -999.0000, 9, -999.0000, 9, -999, 9, -999, 9, -999, 9, -999, 9, -999, 9, -999, 9, -999, 9,  -999.00, 9,  -999.00, 9,  -999.00, 9,  -999.00, 9,  18.3545,  -999.00, 9,  515,   24.8806,  -52.3237
316N200309, A20, 39, 1, 27, 27, 2, 20031008, 0324, 24.8685, -52.3362, 5034,   303.30,    303.3,  17.9990,  36.5160, 2,  36.5167, 2,    189.0, 2,    191.8, 2,     1.30, 2,     4.99, 2,     0.00, 2,     0.24, 2,    2.292, 2,    1.362, 2,    0.014, 2,    0.416, 2,   2111.2, 2,   2381.6, 2,  -999.00, 9,  -999.00, 9,    0.811, 2,    0.005,   1.7556, 2,   0.0088,     0.23, 2,     0.20,    7.098, 2,    0.035,   -999.0, 9,   -999.0,  -999.00, 9,    0.0970, 2,    0.0690, 2,    0.0330, 2,    0.0240, 2,    0.0190, 2,    0.0200, 2, -999, 9, -999, 9, -999, 9, -999, 9, -999, 9, -999, 9, -999, 9,  -999.00, 9,  -999.00, 9,  -999.00, 9,  -999.00, 9,  17.9462,  -999.00, 9,  514,   24.8804,  -52.3240
316N200309, A20, 39, 1, 26, 26, 2, 20031008, 0324, 24.8685, -52.3362, 5034,   401.80,    401.8,  17.0127,  36.3656, 2,  36.3669, 2,    189.1, 2,    191.4, 2,     1.92, 2,     6.77, 2,     0.00, 2,     0.37, 2,    2.289, 2,    1.332, 2,    0.024, 2,    0.547, 2,   2118.0, 2,   2373.8, 2,  -999.00, 9,  -999.00, 9,    0.861, 2,    0.005,   1.7684, 2,   0.0088,     1.72, 2,     0.20,    7.168, 2,    0.036,   -999.0, 9,   -999.0,  -999.00, 9,    0.1390, 2,    0.1020, 2,    0.0540, 2,    0.0380, 2,    0.0140, 2,    0.0160, 2, -999, 9, -999, 9, -999, 9, -999, 9, -999, 9, -999, 9, -999, 9,  -999.00, 9,  -999.00, 9,  -999.00, 9,  -999.00, 9,  16.9453,  -999.00, 9,  511,   24.8802,  -52.3244
316N200309, A20, 39, 1, 25, 25, 2, 20031008, 0324, 24.8685, -52.3362, 5034,   500.40,    500.4,  15.5417,  36.1146, 2,  36.1134, 2,    175.5, 2,    176.1, 2,     3.29, 2,    10.44, 2,     0.00, 2,     0.61, 2,    2.175, 2,    1.221, 2,    0.023, 2,    0.452, 2,   2136.5, 2,   2362.3, 2,  -999.00, 9,  -999.00, 9,    0.882, 2,    0.004,   1.7444, 2,   0.0087,     3.04, 2,     0.20,    7.190, 2,    0.036,   -999.0, 9,   -999.0,  -999.00, 9,    0.1010, 2,    0.0720, 2,    0.0340, 2,    0.0230, 2,    0.0200, 2,    0.0200, 2, -999, 9, -999, 9, -999, 9, -999, 9, -999, 9, -999, 9, -999, 9,  -999.00, 9,  -999.00, 9,  -999.00, 9,  -999.00, 9,  15.4627,  -999.00, 9,  509,   24.8800,  -52.3248
316N200309, A20, 39, 1, 24, 24, 2, 20031008, 0324, 24.8685, -52.3362, 5034,   651.00,    651.0,  12.2956,  35.6372, 2,  35.6399, 2,    161.9, 2,    162.9, 2,     7.09, 2,    16.86, 2,     0.00, 2,     1.03, 2,    1.611, 2,    0.870, 2,    0.018, 2,    0.407, 2,   2160.8, 2,   2337.0, 2,  -999.00, 9,  -999.00, 9,    0.797, 2,    0.004,   1.8094, 2,   0.0090,     8.31, 2,     0.20,    7.475, 2,    0.037,   -999.0, 9,   -999.0,  -999.00, 9,    0.1140, 2,    0.0800, 2,    0.0380, 2,    0.0260, 2,    0.0190, 2,    0.0200, 2, -999, 9, -999, 9, -999, 9, -999, 9, -999, 9, -999, 9, -999, 9,  -999.00, 9,  -999.00, 9,  -999.00, 9,  -999.00, 9,  12.2072,  -999.00, 9,  505,   24.8796,  -52.3253
316N200309, A20, 39, 1, 23, 23, 2, 20031008, 0324, 24.8685, -52.3362, 5034,   799.90,    799.9,   9.3125,  35.2733, 2,  35.2755, 2,    151.6, 2,    150.5, 2,    12.99, 2,    23.09, 2,     0.00, 2,     1.47, 2,    0.658, 2,    0.353, 2,    0.003, 2,    0.232, 2,   2187.5, 2,   2322.0, 2,  -999.00, 9,  -999.00, 9,    0.466, 2,    0.003,   1.8280, 2,   0.0091,     8.07, 2,     0.20,    7.649, 2,    0.038,   -999.0, 9,   -999.0,  -999.00, 9, -999.0000, 9, -999.0000, 9, -999.0000, 9, -999.0000, 9, -999.0000, 9, -999.0000, 9, -999, 9, -999, 9, -999, 9, -999, 9, -999, 9, -999, 9, -999, 9,  -999.00, 9,  -999.00, 9,  -999.00, 9,  -999.00, 9,   9.2204,  -999.00, 9,  502,   24.8794,  -52.3259
316N200309, A20, 39, 1, 22, 22, 2, 20031008, 0324, 24.8685, -52.3362, 5034,   900.10,    900.1,   7.6878,  35.0990, 2,  35.0996, 2,    154.0, 2,    150.7, 2,    16.89, 2,    25.76, 2,     0.00, 2,     1.67, 2,    0.302, 2,    0.173, 2,    0.003, 2,    0.235, 2,   2197.4, 2,   2316.9, 2,  -999.00, 9,  -999.00, 9,    0.277, 2,    0.002,   1.8240, 2,   0.0091,     5.23, 2,     0.20,    7.667, 2,    0.038,   -999.0, 9,   -999.0,  -999.00, 9, -999.0000, 9, -999.0000, 9, -999.0000, 9, -999.0000, 9, -999.0000, 9, -999.0000, 9, -999, 9, -999, 9, -999, 9, -999, 9, -999, 9, -999, 9, -999, 9,  -999.00, 9,  -999.00, 9,  -999.00, 9,  -999.00, 9,   7.5945,  -999.00, 9,  500,   24.8792,  -52.3263
316N200309, A20, 39, 1, 21, 21, 2, 20031008, 0324, 24.8685, -52.3362, 5034,   990.60,    990.6,   6.7313,  35.0619, 2,  35.0620, 2,    166.4, 2,    170.1, 2,    17.10, 2,    24.64, 2,     0.00, 2,     1.62, 2,    0.326, 2,    0.173, 2,    0.005, 2,    0.330, 2,   2192.9, 2,   2317.3, 2,  -999.00, 9,  -999.00, 9,    0.241, 2,    0.002,   1.8402, 2,   0.0092,     5.17, 2,     0.20,    7.747, 2,    0.039,   -999.0, 9,   -999.0,  -999.00, 9,    0.1290, 2,    0.0900, 2,    0.0450, 2,    0.0300, 2,    0.0170, 2,    0.0190, 2, -999, 9, -999, 9, -999, 9, -999, 9, -999, 9, -999, 9, -999, 9,  -999.00, 9,  -999.00, 9,  -999.00, 9,  -999.00, 9,   6.6351,  -999.00, 9,  457,   24.8790,  -52.3266
316N200309, A20, 39, 1, 20, 20, 2, 20031008, 0324, 24.8685, -52.3362, 5034,  1151.50,   1151.5,   5.7793,  35.0814, 2,  35.0815, 2,    203.9, 2,    204.0, 3,    15.30, 2,    21.78, 2,     0.00, 2,     1.44, 2,    0.400, 2,    0.207, 2,    0.008, 2,    0.615, 2,   2181.9, 2,   2317.8, 2,  -999.00, 9,  -999.00, 9, -999.000, 9, -999.000, -999.0000, 9, -999.0000,  -999.00, 9,  -999.00, -999.000, 9, -999.000,   -999.0, 9,   -999.0,  -999.00, 9, -999.0000, 9, -999.0000, 9, -999.0000, 9, -999.0000, 9, -999.0000, 9, -999.0000, 9, -999, 9, -999, 9, -999, 9, -999, 9, -999, 9, -999, 9, -999, 9,  -999.00, 9,  -999.00, 9,  -999.00, 9,  -999.00, 9,   5.6743,  -999.00, 9,  454,   24.8787,  -52.3271
316N200309, A20, 39, 1, 19, 19, 2, 20031008, 0324, 24.8685, -52.3362, 5034,  1326.60,   1326.6,   5.0483,  35.0780, 2,  35.0797, 2,    228.3, 2,    228.6, 2,    14.45, 2,    19.91, 2,     0.00, 2,     1.32, 2,    0.354, 2,    0.197, 2,    0.005, 2,    0.724, 2,   2173.0, 2,   2316.5, 2,  -999.00, 9,  -999.00, 9,    0.265, 2,    0.002,   1.8555, 2,   0.0093,     5.38, 2,     0.20,    7.869, 2,    0.039,   -999.0, 9,   -999.0,  -999.00, 9,    0.1150, 2,    0.0820, 2,    0.0410, 2,    0.0260, 2,    0.0180, 2,    0.0190, 2, -999, 9, -999, 9, -999, 9, -999, 9, -999, 9, -999, 9, -999, 9,  -999.00, 9,  -999.00, 9,  -999.00, 9,  -999.00, 9,   4.9330,  -999.00, 9,  450,   24.8785,  -52.3277
316N200309, A20, 39, 1, 18, 18, 2, 20031008, 0324, 24.8685, -52.3362, 5034,  1451.00,   1451.0,   4.8399,  35.0841, 2,  35.0864, 2,    235.1, 2,    234.5, 2,    14.87, 2,    19.52, 2,     0.00, 2,     1.29, 2,    0.337, 2,    0.186, 2,    0.010, 2,    0.730, 2,   2171.7, 2,   2317.0, 2,  -999.00, 9,  -999.00, 9,    0.238, 2,    0.002,   1.8511, 2,   0.0093,     4.82, 2,     0.20,    7.870, 2,    0.039,   -999.0, 9,   -999.0,  -999.00, 9, -999.0000, 9, -999.0000, 9, -999.0000, 9, -999.0000, 9, -999.0000, 9, -999.0000, 9, -999, 9, -999, 9, -999, 9, -999, 9, -999, 9, -999, 9, -999, 9,  -999.00, 9,  -999.00, 9,  -999.00, 9,  -999.00, 9,   4.7147,  -999.00, 9,  447,   24.8782,  -52.3282
316N200309, A20, 39, 1, 17, 17, 2, 20031008, 0324, 24.8685, -52.3362, 5034,  1576.20,   1576.2,   4.4449,  35.0640, 2,  35.0659, 2,    240.5, 2,    240.8, 2,    16.13, 2,    19.23, 2,     0.00, 2,     1.28, 2,    0.204, 2,    0.125, 2,    0.003, 2,    0.640, 2,   2168.5, 2,   2318.4, 2,  -999.00, 9,  -999.00, 9, -999.000, 9, -999.000, -999.0000, 9, -999.0000,  -999.00, 9,  -999.00, -999.000, 9, -999.000,   -999.0, 9,   -999.0,  -999.00, 9, -999.0000, 9, -999.0000, 9, -999.0000, 9, -999.0000, 9, -999.0000, 9, -999.0000, 9, -999, 9, -999, 9, -999, 9, -999, 9, -999, 9, -999, 9, -999, 9,  -999.00, 9,  -999.00, 9,  -999.00, 9,  -999.00, 9,   4.3122,  -999.00, 9,  443,   24.8778,  -52.3286
316N200309, A20, 39, 1, 16, 16, 2, 20031008, 0324, 24.8685, -52.3362, 5034,  1700.30,   1700.3,   4.2225,  35.0543, 2,  35.0587, 3,    243.0, 2,    242.8, 2,    17.50, 2,    19.18, 2,     0.00, 2,     1.28, 2,    0.161, 2,    0.095, 2,    0.001, 2,    0.547, 2,   2171.1, 2,   2320.8, 2,  -999.00, 9,  -999.00, 9,    0.128, 2,    0.002,   1.8708, 2,   0.0094,     3.59, 2,     0.20,    7.960, 2,    0.040,   -999.0, 9,   -999.0,  -999.00, 9,    0.1230, 2,    0.0870, 2,    0.0430, 2,    0.0290, 2,    0.0170, 2,    0.0190, 2, -999, 9, -999, 9, -999, 9, -999, 9, -999, 9, -999, 9, -999, 9,  -999.00, 9,  -999.00, 9,  -999.00, 9,  -999.00, 9,   4.0807,  -999.00, 9,  440,   24.8774,  -52.3290
316N200309, A20, 39, 1, 15, 15, 2, 20031008, 0324, 24.8685, -52.3362, 5034,  1850.70,   1850.7,   3.9436,  35.0355, 2,  35.0352, 2,    245.3, 2,    245.3, 2,    19.40, 2,    19.27, 2,     0.00, 2,     1.29, 2,    0.118, 2,    0.066, 2,    0.065, 4,    0.523, 2,   2170.3, 2,   2321.1, 2,  -999.00, 9,  -999.00, 9, -999.000, 9, -999.000, -999.0000, 9, -999.0000,  -999.00, 9,  -999.00, -999.000, 9, -999.000,   -999.0, 9,   -999.0,  -999.00, 9, -999.0000, 9, -999.0000, 9, -999.0000, 9, -999.0000, 9, -999.0000, 9, -999.0000, 9, -999, 9, -999, 9, -999, 9, -999, 9, -999, 9, -999, 9, -999, 9,  -999.00, 9,  -999.00, 9,  -999.00, 9,  -999.00, 9,   3.7911,  -999.00, 9,  437,   24.8771,  -52.3295
316N200309, A20, 39, 1, 14, 14, 2, 20031008, 0324, 24.8685, -52.3362, 5034,  2000.00,   2000.0,   3.6348,  35.0110, 2,  35.0112, 2,    247.1, 2,    247.5, 2,    21.93, 2,    19.45, 2,     0.00, 2,     1.30, 2,    0.074, 2,    0.049, 2,    0.004, 2,    0.402, 2,   2174.4, 2,   2323.7, 2,  -999.00, 9,  -999.00, 9,    0.071, 2,    0.001,   1.8642, 2,   0.0093,     2.77, 2,     0.20,    7.970, 2,    0.040,   -999.0, 9,   -999.0,  -999.00, 9,    0.1350, 2,    0.0970, 2,    0.0500, 2,    0.0330, 2,    0.0160, 2,    0.0170, 2, -999, 9, -999, 9, -999, 9, -999, 9, -999, 9, -999, 9, -999, 9,  -999.00, 9,  -999.00, 9,  -999.00, 9,  -999.00, 9,   3.4726,  -999.00, 9,  433,   24.8767,  -52.3300
316N200309, A20, 39, 1, 13, 13, 2, 20031008, 0324, 24.8685, -52.3362, 5034,  2250.30,   2250.3,   3.2586,  34.9791, 2,  34.9791, 2,    248.5, 2,    249.1, 2,    26.03, 2,    19.78, 2,     0.00, 2,     1.33, 2,    0.042, 2,    0.030, 2,    0.003, 2,    0.281, 2,   2176.1, 2,   2326.0, 2,  -999.00, 9,  -999.00, 9, -999.000, 9, -999.000, -999.0000, 9, -999.0000,  -999.00, 9,  -999.00, -999.000, 9, -999.000,   -999.0, 9,   -999.0,  -999.00, 9, -999.0000, 9, -999.0000, 9, -999.0000, 9, -999.0000, 9, -999.0000, 9, -999.0000, 9, -999, 9, -999, 9, -999, 9, -999, 9, -999, 9, -999, 9, -999, 9,  -999.00, 9,  -999.00, 9,  -999.00, 9,  -999.00, 9,   3.0783,  -999.00, 9,  428,   24.8761,  -52.3306
316N200309, A20, 39, 1, 12, 12, 2, 20031008, 0324, 24.8685, -52.3362, 5034,  2501.30,   2501.3,   3.0386,  34.9599, 2,  34.9593, 2,    249.2, 2,    249.8, 2,    28.99, 2,    20.00, 2,     0.00, 2,     1.36, 2,    0.031, 2,    0.028, 2,    0.001, 2,    0.256, 2,   2179.7, 2,   2329.0, 2,  -999.00, 9,  -999.00, 9, -999.000, 9, -999.000, -999.0000, 9, -999.0000,  -999.00, 9,  -999.00, -999.000, 9, -999.000,   -999.0, 9,   -999.0,  -999.00, 9, -999.0000, 9, -999.0000, 9, -999.0000, 9, -999.0000, 9, -999.0000, 9, -999.0000, 9, -999, 9, -999, 9, -999, 9, -999, 9, -999, 9, -999, 9, -999, 9,  -999.00, 9,  -999.00, 9,  -999.00, 9,  -999.00, 9,   2.8378,  -999.00, 9,  422,   24.8756,  -52.3311
316N200309, A20, 39, 1, 11, 11, 2, 20031008, 0324, 24.8685, -52.3362, 5034,  2751.10,   2751.1,   2.8890,  34.9464, 2,  34.9465, 2,    249.8, 2,    249.9, 2,    31.30, 2,    20.24, 2,     0.00, 2,     1.37, 2,    0.024, 6,    0.018, 6,    0.002, 6,    0.219, 6,   2180.7, 2,   2330.4, 2,  -999.00, 9,  -999.00, 9, -999.000, 9, -999.000, -999.0000, 9, -999.0000,  -999.00, 9,  -999.00, -999.000, 9, -999.000,   -999.0, 9,   -999.0,  -999.00, 9, -999.0000, 9, -999.0000, 9, -999.0000, 9, -999.0000, 9, -999.0000, 9, -999.0000, 9, -999, 9, -999, 9, -999, 9, -999, 9, -999, 9, -999, 9, -999, 9,  -999.00, 9,  -999.00, 9,  -999.00, 9,  -999.00, 9,   2.6662,  -999.00, 9,  417,   24.8750,  -52.3316