BOTTLE,20220816CCHSIOAMB
EXPOCODE,SECT_ID,STNNBR,CASTNO,SAMPNO,BTLNBR,BTLNBR_FLAG_W,DATE,TIME,LATITUDE,LONGITUDE,DEPTH,CTDRAW,CTDPRS,CTDTMP,CTDSAL,CTDSAL_FLAG_W,SALNTY,SALNTY_FLAG_W,CTDOXY,CTDOXY_FLAG_W,OXYGEN,OXYGEN_FLAG_W,SILCAT,SILCAT_FLAG_W,NITRAT,NITRAT_FLAG_W,NITRIT,NITRIT_FLAG_W,PHSPHT,PHSPHT_FLAG_W,CFC-11,CFC-11_FLAG_W,CFC-12,CFC-12_FLAG_W,CFC113,CFC113_FLAG_W,CCL4,CCL4_FLAG_W,TCARBN,TCARBN_FLAG_W,ALKALI,ALKALI_FLAG_W,DOC,DOC_FLAG_W,TDN,TDN_FLAG_W,TRITUM,TRITUM_FLAG_W,TRITER,HELIUM,HELIUM_FLAG_W,HELIER,DELHE3,DELHE3_FLAG_W,DELHER,NEON,NEON_FLAG_W,NEONER,DELC14,DELC14_FLAG_W,C14ERR,DELC13,DELC13_FLAG_W,CDOM325,CDOM325_FLAG_W,CDOM340,CDOM340_FLAG_W,CDOM380,CDOM380_FLAG_W,CDOM412,CDOM412_FLAG_W,CDOMSL,CDOMSL_FLAG_W,CDOMSN,CDOMSN_FLAG_W,DCNS,DCNS_FLAG_W,ARABI,ARABI_FLAG_W,FUCO,FUCO_FLAG_W,GALA,GALA_FLAG_W,GLUC,GLUC_FLAG_W,MAN,MAN_FLAG_W,RHAM,RHAM_FLAG_W,BRDU,BRDU_FLAG_W,PEUK,PEUK_FLAG_W,PROC,PROC_FLAG_W,SYN,SYN_FLAG_W,THETA,BACT,BACT_FLAG_W,BTL_TIME,BTL_LAT,BTL_LON
,,,,,,,,,,,METERS,DBAR,DBAR,ITS-90,PSS-78,,PSS-78,,UMOL/KG,,UMOL/KG,,UMOL/KG,,UMOL/KG,,UMOL/KG,,UMOL/KG,,PMOL/KG,,PMOL/KG,,PMOL/KG,,PMOL/KG,,UMOL/KG,,UMOL/KG,,UMOL/KG,,UMOL/KG,,TU,,TU,NMOL/KG,,NMOL/KG,PERCNT,,PERCNT,NMOL/KG,,NMOL/KG,/MILLE,,/MILLE,/MILLE,,1/M,,1/M,,1/M,,1/M,,1/NM,,1/NM,,NMOL/KG,,NMOL/KG,,NMOL/KG,,NMOL/KG,,NMOL/KG,,NMOL/KG,,NMOL/KG,,PMOL/L/H,,E6/L,,E7/L,,E6/L,,DEG C,E8/L,,,,
316N200309, A20, 43, 1, 10, 10, 2, 20031009, 1030, 22.1990, -52.3653, 4856,  3002.10,   3002.1,   2.7534,  34.9330, 2,  34.9331, 2,    252.2, 2,    252.7, 2,    32.45, 2,    20.28, 2,     0.00, 2,     1.37, 2,    0.020, 2,    0.014, 2,    0.004, 2,    0.157, 2,   -999.0, 9,   -999.0, 9,  -999.00, 9,  -999.00, 9,    0.031, 2,    0.001,   1.8687, 2,   0.0093,     2.62, 2,     0.20,    7.983, 2,    0.040,   -999.0, 9,   -999.0,  -999.00, 9, -999.0000, 9, -999.0000, 9, -999.0000, 9, -999.0000, 9, -999.0000, 9, -999.0000, 9, -999, 9, -999, 9, -999, 9, -999, 9, -999, 9, -999, 9, -999, 9,  -999.00, 9,  -999.00, 9,  -999.00, 9,  -999.00, 9,   2.5077,  -999.00, 9, 1117,   22.2073,  -52.3665
316N200309, A20, 43, 1, 9, 9, 2, 20031009, 1030, 22.1990, -52.3653, 4856,  3200.70,   3200.7,   2.6406,  34.9230, 2,  34.9225, 2,    254.0, 2,    254.1, 2,    34.10, 2,    20.42, 2,     0.00, 2,     1.38, 2,    0.021, 2,    0.014, 2,    0.007, 2,    0.179, 2,   -999.0, 9,   -999.0, 9,  -999.00, 9,  -999.00, 9,    0.020, 2,    0.001,   1.8682, 2,   0.0093,     2.63, 2,     0.20,    7.985, 2,    0.040,   -999.0, 9,   -999.0,  -999.00, 9, -999.0000, 9, -999.0000, 9, -999.0000, 9, -999.0000, 9, -999.0000, 9, -999.0000, 9, -999, 9, -999, 9, -999, 9, -999, 9, -999, 9, -999, 9, -999, 9,  -999.00, 9,  -999.00, 9,  -999.00, 9,  -999.00, 9,   2.3768,  -999.00, 9, 1113,   22.2065,  -52.3662
316N200309, A20, 43, 1, 8, 8, 2, 20031009, 1030, 22.1990, -52.3653, 4856,  3398.90,   3398.9,   2.5104,  34.9111, 2,  34.9103, 2,    253.9, 2,    253.4, 2,    37.23, 2,    20.70, 2,     0.00, 2,     1.41, 2,    0.017, 2,    0.012, 2,    0.007, 2,    0.177, 2,   -999.0, 9,   -999.0, 9,  -999.00, 9,  -999.00, 9, -999.000, 9, -999.000, -999.0000, 9, -999.0000,  -999.00, 9,  -999.00, -999.000, 9, -999.000,   -999.0, 9,   -999.0,  -999.00, 9, -999.0000, 9, -999.0000, 9, -999.0000, 9, -999.0000, 9, -999.0000, 9, -999.0000, 9, -999, 9, -999, 9, -999, 9, -999, 9, -999, 9, -999, 9, -999, 9,  -999.00, 9,  -999.00, 9,  -999.00, 9,  -999.00, 9,   2.2286,  -999.00, 9, 1109,   22.2055,  -52.3661
316N200309, A20, 43, 1, 7, 7, 2, 20031009, 1030, 22.1990, -52.3653, 4856,  3598.50,   3598.5,   2.4074,  34.9011, 2,  34.9008, 2,    252.4, 2,    253.5, 2,    39.94, 2,    20.98, 2,     0.00, 2,     1.43, 2,    0.015, 2,    0.015, 2,    0.004, 2,    0.165, 2,   -999.0, 9,   -999.0, 9,  -999.00, 9,  -999.00, 9,    0.022, 2,    0.001,   1.8803, 2,   0.0094,     2.84, 2,     0.20,    8.050, 2,    0.040,   -999.0, 9,   -999.0,  -999.00, 9, -999.0000, 9, -999.0000, 9, -999.0000, 9, -999.0000, 9, -999.0000, 9, -999.0000, 9, -999, 9, -999, 9, -999, 9, -999, 9, -999, 9, -999, 9, -999, 9,  -999.00, 9,  -999.00, 9,  -999.00, 9,  -999.00, 9,   2.1067,  -999.00, 9, 1105,   22.2045,  -52.3660
316N200309, A20, 43, 1, 6, 6, 2, 20031009, 1030, 22.1990, -52.3653, 4856,  3799.90,   3799.9,   2.2966,  34.8902, 2,  34.8892, 2,    251.8, 2,    253.2, 2,    42.75, 2,    21.30, 2,     0.00, 2,     1.45, 2,    0.014, 2,    0.015, 2,    0.004, 2,    0.165, 2,   -999.0, 9,   -999.0, 9,  -999.00, 9,  -999.00, 9, -999.000, 9, -999.000, -999.0000, 9, -999.0000,  -999.00, 9,  -999.00, -999.000, 9, -999.000,   -999.0, 9,   -999.0,  -999.00, 9, -999.0000, 9, -999.0000, 9, -999.0000, 9, -999.0000, 9, -999.0000, 9, -999.0000, 9, -999, 9, -999, 9, -999, 9, -999, 9, -999, 9, -999, 9, -999, 9,  -999.00, 9,  -999.00, 9,  -999.00, 9,  -999.00, 9,   1.9766,  -999.00, 9, 1101,   22.2035,  -52.3658
316N200309, A20, 43, 1, 5, 5, 2, 20031009, 1030, 22.1990, -52.3653, 4856,  3998.70,   3998.7,   2.2213,  34.8819, 2,  34.8816, 2,    254.2, 2,    252.9, 2,    45.24, 2,    21.53, 2,     0.00, 2,     1.47, 2,    0.020, 2,    0.024, 2,    0.004, 2,    0.196, 2,   -999.0, 9,   -999.0, 9,  -999.00, 9,  -999.00, 9,    0.032, 2,    0.001,   1.8833, 2,   0.0094,     2.67, 2,     0.20,    8.053, 2,    0.040,   -999.0, 9,   -999.0,  -999.00, 9, -999.0000, 9, -999.0000, 9, -999.0000, 9, -999.0000, 9, -999.0000, 9, -999.0000, 9, -999, 9, -999, 9, -999, 9, -999, 9, -999, 9, -999, 9, -999, 9,  -999.00, 9,  -999.00, 9,  -999.00, 9,  -999.00, 9,   1.8811,  -999.00, 9, 1057,   22.2027,  -52.3656
316N200309, A20, 43, 1, 4, 4, 2, 20031009, 1030, 22.1990, -52.3653, 4856,  4301.80,   4301.8,   2.1598,  34.8735, 2,  34.8788, 3,    252.7, 2,    252.3, 2,    47.65, 2,    21.81, 2,     0.00, 2,     1.49, 2,    0.022, 2,    0.023, 2,    0.002, 2,    0.169, 2,   -999.0, 9,   -999.0, 9,  -999.00, 9,  -999.00, 9, -999.000, 9, -999.000, -999.0000, 9, -999.0000,  -999.00, 9,  -999.00, -999.000, 9, -999.000,   -999.0, 9,   -999.0,  -999.00, 9, -999.0000, 9, -999.0000, 9, -999.0000, 9, -999.0000, 9, -999.0000, 9, -999.0000, 9, -999, 9, -999, 9, -999, 9, -999, 9, -999, 9, -999, 9, -999, 9,  -999.00, 9,  -999.00, 9,  -999.00, 9,  -999.00, 9,   1.7865,  -999.00, 9, 1051,   22.2017,  -52.3653
316N200309, A20, 43, 1, 3, 3, 2, 20031009, 1030, 22.1990, -52.3653, 4856,  4601.30,   4601.3,   2.1147,  34.8656, 2,  34.8643, 2,    251.9, 2,    251.5, 2,    50.15, 2,    22.08, 2,     0.00, 2,     1.51, 2,    0.021, 2,    0.024, 2,    0.002, 2,    0.217, 2,   -999.0, 9,   -999.0, 9,  -999.00, 9,  -999.00, 9,    0.031, 2,    0.001,   1.9137, 2,   0.0096,     2.69, 2,     0.20,    8.123, 2,    0.041,   -999.0, 9,   -999.0,  -999.00, 9, -999.0000, 9, -999.0000, 9, -999.0000, 9, -999.0000, 9, -999.0000, 9, -999.0000, 9, -999, 9, -999, 9, -999, 9, -999, 9, -999, 9, -999, 9, -999, 9,  -999.00, 9,  -999.00, 9,  -999.00, 9,  -999.00, 9,   1.7073,  -999.00, 9, 1044,   22.2006,  -52.3654
316N200309, A20, 43, 1, 2, 2, 2, 20031009, 1030, 22.1990, -52.3653, 4856,  4901.40,   4901.4,   2.0914,  34.8593, 2,  34.8589, 2,    250.7, 2,    250.8, 2,    52.13, 2,    22.27, 2,     0.00, 2,     1.53, 2,    0.041, 2,    0.033, 2,    0.004, 2,    0.202, 2,   -999.0, 9,   -999.0, 9,  -999.00, 9,  -999.00, 9, -999.000, 9, -999.000, -999.0000, 9, -999.0000,  -999.00, 9,  -999.00, -999.000, 9, -999.000,   -999.0, 9,   -999.0,  -999.00, 9, -999.0000, 9, -999.0000, 9, -999.0000, 9, -999.0000, 9, -999.0000, 9, -999.0000, 9, -999, 9, -999, 9, -999, 9, -999, 9, -999, 9, -999, 9, -999, 9,  -999.00, 9,  -999.00, 9,  -999.00, 9,  -999.00, 9,   1.6482,  -999.00, 9, 1036,   22.1996,  -52.3653
316N200309, A20, 43, 1, 1, 1, 2, 20031009, 1030, 22.1990, -52.3653, 4856,  5133.90,   5133.9,   2.0534,  34.8519, 2,  34.8523, 2,    249.4, 2,    249.5, 2,    54.53, 2,    22.59, 2,     0.00, 2,     1.54, 2,    0.049, 2,    0.035, 2,    0.001, 2,    0.237, 2,   -999.0, 9,   -999.0, 9,  -999.00, 9,  -999.00, 9,    0.048, 2,    0.001,   1.8850, 2,   0.0094,     3.43, 2,     0.20,    8.060, 2,    0.040,   -999.0, 9,   -999.0,  -999.00, 9, -999.0000, 9, -999.0000, 9, -999.0000, 9, -999.0000, 9, -999.0000, 9, -999.0000, 9, -999, 9, -999, 9, -999, 9, -999, 9, -999, 9, -999, 9, -999, 9,  -999.00, 9,  -999.00, 9,  -999.00, 9,  -999.00, 9,   1.5825,  -999.00, 9, 1030,   22.1990,  -52.3653