BOTTLE,20220816CCHSIOAMB
EXPOCODE,SECT_ID,STNNBR,CASTNO,SAMPNO,BTLNBR,BTLNBR_FLAG_W,DATE,TIME,LATITUDE,LONGITUDE,DEPTH,CTDRAW,CTDPRS,CTDTMP,CTDSAL,CTDSAL_FLAG_W,SALNTY,SALNTY_FLAG_W,CTDOXY,CTDOXY_FLAG_W,OXYGEN,OXYGEN_FLAG_W,SILCAT,SILCAT_FLAG_W,NITRAT,NITRAT_FLAG_W,NITRIT,NITRIT_FLAG_W,PHSPHT,PHSPHT_FLAG_W,CFC-11,CFC-11_FLAG_W,CFC-12,CFC-12_FLAG_W,CFC113,CFC113_FLAG_W,CCL4,CCL4_FLAG_W,TCARBN,TCARBN_FLAG_W,ALKALI,ALKALI_FLAG_W,DOC,DOC_FLAG_W,TDN,TDN_FLAG_W,TRITUM,TRITUM_FLAG_W,TRITER,HELIUM,HELIUM_FLAG_W,HELIER,DELHE3,DELHE3_FLAG_W,DELHER,NEON,NEON_FLAG_W,NEONER,DELC14,DELC14_FLAG_W,C14ERR,DELC13,DELC13_FLAG_W,CDOM325,CDOM325_FLAG_W,CDOM340,CDOM340_FLAG_W,CDOM380,CDOM380_FLAG_W,CDOM412,CDOM412_FLAG_W,CDOMSL,CDOMSL_FLAG_W,CDOMSN,CDOMSN_FLAG_W,DCNS,DCNS_FLAG_W,ARABI,ARABI_FLAG_W,FUCO,FUCO_FLAG_W,GALA,GALA_FLAG_W,GLUC,GLUC_FLAG_W,MAN,MAN_FLAG_W,RHAM,RHAM_FLAG_W,BRDU,BRDU_FLAG_W,PEUK,PEUK_FLAG_W,PROC,PROC_FLAG_W,SYN,SYN_FLAG_W,THETA,BACT,BACT_FLAG_W,BTL_TIME,BTL_LAT,BTL_LON
,,,,,,,,,,,METERS,DBAR,DBAR,ITS-90,PSS-78,,PSS-78,,UMOL/KG,,UMOL/KG,,UMOL/KG,,UMOL/KG,,UMOL/KG,,UMOL/KG,,PMOL/KG,,PMOL/KG,,PMOL/KG,,PMOL/KG,,UMOL/KG,,UMOL/KG,,UMOL/KG,,UMOL/KG,,TU,,TU,NMOL/KG,,NMOL/KG,PERCNT,,PERCNT,NMOL/KG,,NMOL/KG,/MILLE,,/MILLE,/MILLE,,1/M,,1/M,,1/M,,1/M,,1/NM,,1/NM,,NMOL/KG,,NMOL/KG,,NMOL/KG,,NMOL/KG,,NMOL/KG,,NMOL/KG,,NMOL/KG,,PMOL/L/H,,E6/L,,E7/L,,E6/L,,DEG C,E8/L,,,,
316N200309, A20, 52, 1, 10, 10, 2, 20031012, 0424, 16.2463, -52.3313, 4899,  3099.40,   3099.4,   2.7094,  34.9257, 2,  34.9260, 2,    253.6, 2,    253.4, 2,    32.46, 2,    20.32, 2,     0.00, 2,     1.37, 2,    0.081, 2,    0.058, 2,    0.006, 2, -999.000, 9,   2176.2, 2,   -999.0, 9,  -999.00, 9,  -999.00, 9, -999.000, 9, -999.000, -999.0000, 9, -999.0000,  -999.00, 9,  -999.00, -999.000, 9, -999.000,   -999.0, 9,   -999.0,  -999.00, 9, -999.0000, 9, -999.0000, 9, -999.0000, 9, -999.0000, 9, -999.0000, 9, -999.0000, 9, -999, 9, -999, 9, -999, 9, -999, 9, -999, 9, -999, 9, -999, 9,  -999.00, 9,  -999.00, 9,  -999.00, 9,  -999.00, 9,   2.4547,  -999.00, 9,  504,   16.2507,  -52.3286
316N200309, A20, 52, 1, 9, 9, 2, 20031012, 0424, 16.2463, -52.3313, 4899,  3299.20,   3299.2,   2.6251,  34.9193, 2,  34.9185, 2,    255.3, 2,    255.5, 2,    32.88, 2,    20.17, 2,     0.00, 2,     1.36, 2,    0.091, 2,    0.048, 2,    0.005, 2, -999.000, 9,   2176.1, 2,   -999.0, 9,    40.40, 2,  -999.00, 9,    0.000, 2,    0.000,   1.8818, 2,   0.0094,     3.46, 2,     0.20,    8.042, 2,    0.040,   -999.0, 9,   -999.0,  -999.00, 9,    0.1510, 2,    0.1090, 2,    0.0570, 2,    0.0490, 3,    0.0110, 3,    0.0140, 3, -999, 9, -999, 9, -999, 9, -999, 9, -999, 9, -999, 9, -999, 9,  -999.00, 9,  -999.00, 9,  -999.00, 9,  -999.00, 9,   2.3512,  -999.00, 9,  500,   16.2502,  -52.3289
316N200309, A20, 52, 1, 8, 8, 2, 20031012, 0424, 16.2463, -52.3313, 4899,  3499.80,   3499.8,   2.5075,  34.9093, 2,  34.9097, 2,    255.4, 2,    255.5, 2,    35.18, 2,    20.21, 2,     0.00, 2,     1.37, 2,    0.091, 2,    0.052, 2,    0.005, 2, -999.000, 9,   2178.9, 2,   -999.0, 9,  -999.00, 9,  -999.00, 9,    0.073, 2,    0.001,   1.8809, 2,   0.0094,     3.76, 2,     0.20,    8.055, 2,    0.040,   -999.0, 9,   -999.0,  -999.00, 9, -999.0000, 9, -999.0000, 9, -999.0000, 9, -999.0000, 9, -999.0000, 9, -999.0000, 9, -999, 9, -999, 9, -999, 9, -999, 9, -999, 9, -999, 9, -999, 9,  -999.00, 9,  -999.00, 9,  -999.00, 9,  -999.00, 9,   2.2150,  -999.00, 9,  456,   16.2497,  -52.3292
316N200309, A20, 52, 1, 7, 7, 2, 20031012, 0424, 16.2463, -52.3313, 4899,  3699.70,   3699.7,   2.4204,  34.9012, 2,  34.9016, 2,    255.8, 2,    255.8, 2,    37.17, 2,    20.45, 2,     0.00, 2,     1.38, 2,    0.100, 2,    0.059, 2,    0.010, 2, -999.000, 9,   2180.6, 2,   -999.0, 9,  -999.00, 9,  -999.00, 9, -999.000, 9, -999.000, -999.0000, 9, -999.0000,  -999.00, 9,  -999.00, -999.000, 9, -999.000,   -999.0, 9,   -999.0,  -999.00, 9, -999.0000, 9, -999.0000, 9, -999.0000, 9, -999.0000, 9, -999.0000, 9, -999.0000, 9, -999, 9, -999, 9, -999, 9, -999, 9, -999, 9, -999, 9, -999, 9,  -999.00, 9,  -999.00, 9,  -999.00, 9,  -999.00, 9,   2.1082,  -999.00, 9,  452,   16.2492,  -52.3295
316N200309, A20, 52, 1, 6, 6, 2, 20031012, 0424, 16.2463, -52.3313, 4899,  3900.30,   3900.3,   2.3159,  34.8911, 2,  34.8902, 2,    255.4, 2,    256.0, 2,    40.00, 2,    20.73, 2,     0.00, 2,     1.41, 2,    0.094, 2,    0.051, 2,    0.006, 2, -999.000, 9,   2183.1, 2,   -999.0, 9,    39.10, 2,  -999.00, 9,    0.074, 2,    0.001,   1.8877, 2,   0.0094,     3.73, 2,     0.20,    8.063, 2,    0.040,   -999.0, 9,   -999.0,  -999.00, 9,    0.1460, 2,    0.1040, 2,    0.0530, 2,    0.0450, 2,    0.0120, 3,    0.0150, 3, -999, 9, -999, 9, -999, 9, -999, 9, -999, 9, -999, 9, -999, 9,  -999.00, 9,  -999.00, 9,  -999.00, 9,  -999.00, 9,   1.9841,  -999.00, 9,  448,   16.2487,  -52.3299
316N200309, A20, 52, 1, 5, 5, 2, 20031012, 0424, 16.2463, -52.3313, 4899,  4100.10,   4100.1,   2.2360,  34.8834, 2,  34.8831, 2,    255.7, 2,    255.6, 2,    41.57, 2,    20.88, 2,     0.00, 2,     1.42, 2,    0.095, 2,    0.053, 2,    0.009, 2, -999.000, 9,   2185.0, 2,   -999.0, 9,  -999.00, 9,  -999.00, 9, -999.000, 9, -999.000, -999.0000, 9, -999.0000,  -999.00, 9,  -999.00, -999.000, 9, -999.000,   -999.0, 9,   -999.0,  -999.00, 9, -999.0000, 9, -999.0000, 9, -999.0000, 9, -999.0000, 9, -999.0000, 9, -999.0000, 9, -999, 9, -999, 9, -999, 9, -999, 9, -999, 9, -999, 9, -999, 9,  -999.00, 9,  -999.00, 9,  -999.00, 9,  -999.00, 9,   1.8838,  -999.00, 9,  444,   16.2482,  -52.3302
316N200309, A20, 52, 1, 4, 4, 2, 20031012, 0424, 16.2463, -52.3313, 4899,  4300.50,   4300.5,   2.1795,  34.8766, 2,  34.8764, 2,    255.3, 2,    255.2, 2,    43.66, 2,    21.06, 2,     0.00, 2,     1.43, 2,    0.103, 2,    0.067, 2,    0.003, 2, -999.000, 9,   2187.0, 2,   -999.0, 9,  -999.00, 9,  -999.00, 9, -999.000, 9, -999.000, -999.0000, 9, -999.0000,  -999.00, 9,  -999.00, -999.000, 9, -999.000,   -999.0, 9,   -999.0,  -999.00, 9, -999.0000, 9, -999.0000, 9, -999.0000, 9, -999.0000, 9, -999.0000, 9, -999.0000, 9, -999, 9, -999, 9, -999, 9, -999, 9, -999, 9, -999, 9, -999, 9,  -999.00, 9,  -999.00, 9,  -999.00, 9,  -999.00, 9,   1.8058,  -999.00, 9,  439,   16.2478,  -52.3304
316N200309, A20, 52, 1, 3, 3, 2, 20031012, 0424, 16.2463, -52.3313, 4899,  4500.20,   4500.2,   2.0415,  34.8588, 2,  34.8580, 2,    251.9, 2,    251.3, 2,    51.12, 2,    22.06, 2,     0.00, 2,     1.51, 2,    0.102, 2,    0.063, 2,    0.008, 2, -999.000, 9,   2195.8, 2,   -999.0, 9,    40.30, 2,  -999.00, 9, -999.000, 9, -999.000,   1.8985, 2,   0.0095,     4.03, 2,     0.20,    8.144, 2,    0.041,   -999.0, 9,   -999.0,  -999.00, 9,    0.1550, 2,    0.1100, 2,    0.0540, 2,    0.0400, 2,    0.0150, 2,    0.0170, 2, -999, 9, -999, 9, -999, 9, -999, 9, -999, 9, -999, 9, -999, 9,  -999.00, 9,  -999.00, 9,  -999.00, 9,  -999.00, 9,   1.6486,  -999.00, 9,  435,   16.2474,  -52.3305
316N200309, A20, 52, 1, 2, 2, 2, 20031012, 0424, 16.2463, -52.3313, 4899,  4724.50,   4724.5,   1.9574,  34.8467, 2,  34.8469, 2,    249.0, 2,    249.1, 2,    55.76, 2,    22.68, 2,     0.00, 2,     1.55, 2,    0.101, 2,    0.055, 2,    0.005, 2, -999.000, 9,   2200.6, 2,   -999.0, 9,  -999.00, 9,  -999.00, 9, -999.000, 9, -999.000, -999.0000, 9, -999.0000,  -999.00, 9,  -999.00, -999.000, 9, -999.000,   -999.0, 9,   -999.0,  -999.00, 9, -999.0000, 9, -999.0000, 9, -999.0000, 9, -999.0000, 9, -999.0000, 9, -999.0000, 9, -999, 9, -999, 9, -999, 9, -999, 9, -999, 9, -999, 9, -999, 9,  -999.00, 9,  -999.00, 9,  -999.00, 9,  -999.00, 9,   1.5403,  -999.00, 9,  430,   16.2469,  -52.3309
316N200309, A20, 52, 1, 1, 1, 2, 20031012, 0424, 16.2463, -52.3313, 4899,  4957.80,   4957.8,   1.8938,  34.8358, 2,  34.8353, 2,    246.7, 2,    246.6, 2,    60.39, 2,    23.39, 2,     0.00, 2,     1.60, 2,    0.094, 2,    0.051, 2,    0.005, 2, -999.000, 9,   2205.6, 2,   -999.0, 9,    40.40, 2,  -999.00, 9,    0.065, 2,    0.001,   1.8878, 2,   0.0094,     3.52, 2,     0.20,    8.101, 2,    0.041,   -999.0, 9,   -999.0,  -999.00, 9,    0.1360, 2,    0.0970, 2,    0.0480, 2,    0.0370, 2,    0.0140, 2,    0.0170, 2, -999, 9, -999, 9, -999, 9, -999, 9, -999, 9, -999, 9, -999, 9,  -999.00, 9,  -999.00, 9,  -999.00, 9,  -999.00, 9,   1.4504,  -999.00, 9,  424,   16.2463,  -52.3313