BOTTLE,20220816CCHSIOAMB
EXPOCODE,SECT_ID,STNNBR,CASTNO,SAMPNO,BTLNBR,BTLNBR_FLAG_W,DATE,TIME,LATITUDE,LONGITUDE,DEPTH,CTDRAW,CTDPRS,CTDTMP,CTDSAL,CTDSAL_FLAG_W,SALNTY,SALNTY_FLAG_W,CTDOXY,CTDOXY_FLAG_W,OXYGEN,OXYGEN_FLAG_W,SILCAT,SILCAT_FLAG_W,NITRAT,NITRAT_FLAG_W,NITRIT,NITRIT_FLAG_W,PHSPHT,PHSPHT_FLAG_W,CFC-11,CFC-11_FLAG_W,CFC-12,CFC-12_FLAG_W,CFC113,CFC113_FLAG_W,CCL4,CCL4_FLAG_W,TCARBN,TCARBN_FLAG_W,ALKALI,ALKALI_FLAG_W,DOC,DOC_FLAG_W,TDN,TDN_FLAG_W,TRITUM,TRITUM_FLAG_W,TRITER,HELIUM,HELIUM_FLAG_W,HELIER,DELHE3,DELHE3_FLAG_W,DELHER,NEON,NEON_FLAG_W,NEONER,DELC14,DELC14_FLAG_W,C14ERR,DELC13,DELC13_FLAG_W,CDOM325,CDOM325_FLAG_W,CDOM340,CDOM340_FLAG_W,CDOM380,CDOM380_FLAG_W,CDOM412,CDOM412_FLAG_W,CDOMSL,CDOMSL_FLAG_W,CDOMSN,CDOMSN_FLAG_W,DCNS,DCNS_FLAG_W,ARABI,ARABI_FLAG_W,FUCO,FUCO_FLAG_W,GALA,GALA_FLAG_W,GLUC,GLUC_FLAG_W,MAN,MAN_FLAG_W,RHAM,RHAM_FLAG_W,BRDU,BRDU_FLAG_W,PEUK,PEUK_FLAG_W,PROC,PROC_FLAG_W,SYN,SYN_FLAG_W,THETA,BACT,BACT_FLAG_W,BTL_TIME,BTL_LAT,BTL_LON
,,,,,,,,,,,METERS,DBAR,DBAR,ITS-90,PSS-78,,PSS-78,,UMOL/KG,,UMOL/KG,,UMOL/KG,,UMOL/KG,,UMOL/KG,,UMOL/KG,,PMOL/KG,,PMOL/KG,,PMOL/KG,,PMOL/KG,,UMOL/KG,,UMOL/KG,,UMOL/KG,,UMOL/KG,,TU,,TU,NMOL/KG,,NMOL/KG,PERCNT,,PERCNT,NMOL/KG,,NMOL/KG,/MILLE,,/MILLE,/MILLE,,1/M,,1/M,,1/M,,1/M,,1/NM,,1/NM,,NMOL/KG,,NMOL/KG,,NMOL/KG,,NMOL/KG,,NMOL/KG,,NMOL/KG,,NMOL/KG,,PMOL/L/H,,E6/L,,E7/L,,E6/L,,DEG C,E8/L,,,,
316N200309, A20, 17, 1, 36, 36, 2, 20030928, 1826, 39.4778, -51.8000, 5325,     4.70,      4.7,  21.8409,  35.3805, 2, -999.0000, 9,    216.8, 2,    221.9, 2,  -999.00, 9,  -999.00, 9,  -999.00, 9,  -999.00, 9,    2.077, 2,    1.274, 2,    0.157, 2,    2.230, 2,   2024.8, 2,   2331.4, 2,    68.80, 2,     6.00, 2, -999.000, 9, -999.000, -999.0000, 9, -999.0000,  -999.00, 9,  -999.00, -999.000, 9, -999.000,     72.6, 6,      3.2,     1.48, 6,    0.0970, 2,    0.0740, 2,    0.0340, 2,    0.0180, 2,    0.0190, 2,    0.0180, 2, 2206, 4, 92, 2, 294, 2, 383, 2, 739, 2, 510, 2, 188, 2,     1.42, 2,     1.71, 2,    14.30, 2,    11.74, 2,  21.8400,     4.91, 2, 2037,   39.4583,  -51.8234
316N200309, A20, 17, 1, 35, 35, 2, 20030928, 1826, 39.4778, -51.8000, 5325,    27.40,     27.4,  21.6408,  35.3512, 2,  35.3514, 2,    218.9, 2,    221.4, 2,     0.21, 2,     0.11, 2,     0.00, 2,     0.04, 2,    2.112, 2,    1.277, 2,    0.180, 2,    2.264, 2,   2023.5, 2,   2329.5, 2,    67.60, 2,     4.90, 2, -999.000, 9, -999.000, -999.0000, 9, -999.0000,  -999.00, 9,  -999.00, -999.000, 9, -999.000,   -999.0, 9,   -999.0,  -999.00, 9,    0.0970, 2,    0.0740, 2,    0.0330, 2,    0.0190, 2,    0.0200, 2,    0.0190, 2, -999, 9, -999, 9, -999, 9, -999, 9, -999, 9, -999, 9, -999, 9,     2.25, 2,     1.80, 2,    12.01, 2,    10.47, 2,  21.6354,     4.89, 2, 2033,   39.4588,  -51.8245
316N200309, A20, 17, 1, 34, 34, 2, 20030928, 1826, 39.4778, -51.8000, 5325,    47.30,     47.3,  21.3322,  35.5870, 2,  35.5882, 2,    223.0, 2,    220.5, 2,     0.30, 2,     0.14, 2,     0.02, 2,     0.06, 2,    2.180, 2,    1.334, 2,    0.148, 2,    1.772, 2,   2040.3, 2,   2341.9, 2,    67.40, 2,     5.50, 2, -999.000, 9, -999.000, -999.0000, 9, -999.0000,  -999.00, 9,  -999.00, -999.000, 9, -999.000,   -999.0, 9,   -999.0,  -999.00, 9,    0.1570, 2,    0.1190, 2,    0.0590, 2,    0.0400, 2,    0.0160, 2,    0.0170, 2, 1622, 4, 73, 2, 235, 2, 384, 2, 271, 2, 497, 2, 162, 2,     2.04, 2,     8.16, 2,    10.92, 2,    13.73, 2,  21.3230,     5.07, 2, 2032,   39.4591,  -51.8244
316N200309, A20, 17, 1, 33, 33, 2, 20030928, 1826, 39.4778, -51.8000, 5325,    78.20,     78.2,  16.3398,  35.5196, 2,  35.5496, 2,    203.0, 2,    212.8, 2,     1.42, 2,     3.90, 2,     0.31, 2,     0.33, 2,    2.754, 2,    1.605, 2,    0.155, 2,    1.601, 2,   2091.6, 2,   2339.6, 2,    59.60, 2,     8.80, 2, -999.000, 9, -999.000, -999.0000, 9, -999.0000,  -999.00, 9,  -999.00, -999.000, 9, -999.000,   -999.0, 9,   -999.0,  -999.00, 9,    0.1960, 2,    0.1510, 2,    0.0770, 2,    0.0530, 2,    0.0150, 2,    0.0160, 2, 1013, 4, 36, 2, 141, 2, 184, 2, 315, 2, 235, 2, 101, 2,     0.35, 2,     2.72, 2,     1.69, 2,     0.84, 2,  16.3272,     2.66, 2, 2030,   39.4595,  -51.8243
316N200309, A20, 17, 1, 32, 32, 2, 20030928, 1826, 39.4778, -51.8000, 5325,    98.00,     98.0,  16.6302,  36.0413, 2,  36.0372, 2,    186.2, 2,    182.3, 2,     2.23, 2,     7.46, 2,     0.06, 2,     0.46, 2,    2.416, 2,    1.411, 2,    0.079, 2,    0.766, 2,   2121.4, 2,   2358.0, 2,    52.80, 2,    11.10, 2, -999.000, 9, -999.000, -999.0000, 9, -999.0000,  -999.00, 9,  -999.00, -999.000, 9, -999.000,   -999.0, 9,   -999.0,  -999.00, 9,    0.1280, 2,    0.1000, 2,    0.0510, 2,    0.0380, 2,    0.0140, 2,    0.0150, 2, 544, 4, 33, 2, 95, 2, 116, 2, 93, 2, 131, 2, 76, 2,     0.86, 2,     1.16, 2,     0.77, 2,     0.36, 2,  16.6142,     1.97, 2, 2029,   39.4598,  -51.8242
316N200309, A20, 17, 1, 31, 31, 2, 20030928, 1826, 39.4778, -51.8000, 5325,   128.00,    128.0,  14.7602,  35.7671, 2,  35.7710, 2,    178.1, 2,    189.7, 2,     2.83, 2,     9.03, 2,     0.05, 2,     0.58, 2,    2.583, 2,    1.463, 2,    0.114, 2,    0.997, 2,   2125.2, 2,   2345.0, 2,    52.40, 2,    12.10, 2, -999.000, 9, -999.000, -999.0000, 9, -999.0000,  -999.00, 9,  -999.00, -999.000, 9, -999.000,   -999.0, 9,   -999.0,  -999.00, 9,    0.1360, 2,    0.1050, 2,    0.0540, 2,    0.0380, 2,    0.0150, 2,    0.0160, 2, -999, 9, -999, 9, -999, 9, -999, 9, -999, 9, -999, 9, -999, 9,     0.60, 2,     0.44, 2,     0.12, 2,     0.39, 2,  14.7409,     1.81, 2, 2028,   39.4601,  -51.8241
316N200309, A20, 17, 1, 30, 30, 2, 20030928, 1826, 39.4778, -51.8000, 5325,   147.50,    147.5,  13.8021,  35.6131, 2,  35.6153, 2,    183.4, 2,    192.7, 2,     3.34, 2,    10.12, 2,     0.04, 2,     0.65, 2,    2.634, 2,    1.518, 2,    0.113, 2,    1.072, 2,   2128.9, 2,   2337.9, 2,    51.50, 2,    13.10, 2, -999.000, 9, -999.000, -999.0000, 9, -999.0000,  -999.00, 9,  -999.00, -999.000, 9, -999.000,   -999.0, 9,   -999.0,  -999.00, 9,    0.1470, 2,    0.1110, 2,    0.0560, 2,    0.0390, 2,    0.0150, 2,    0.0160, 2, -999, 9, -999, 9, -999, 9, -999, 9, -999, 9, -999, 9, -999, 9,     0.64, 2,     0.61, 2,     0.00, 2,     0.21, 2,  13.7809,     1.80, 2, 2027,   39.4603,  -51.8240
316N200309, A20, 17, 1, 29, 29, 2, 20030928, 1826, 39.4778, -51.8000, 5325,   207.10,    207.1,  13.2444,  35.6205, 2,  35.6236, 2,    176.6, 2,    183.7, 2,     4.66, 2,    12.67, 2,     0.02, 2,     0.79, 2,    2.387, 2,    1.332, 2,    0.125, 2,    0.914, 2,   2140.6, 2,   2337.1, 2,    50.10, 2,    15.40, 2, -999.000, 9, -999.000, -999.0000, 9, -999.0000,  -999.00, 9,  -999.00, -999.000, 9, -999.000,   -999.0, 9,   -999.0,  -999.00, 9,    0.1250, 2,    0.0920, 2,    0.0460, 2,    0.0330, 2,    0.0160, 2,    0.0170, 2, 398, 4, 29, 2, 58, 2, 79, 2, 99, 2, 84, 2, 49, 2,     0.88, 2,     0.10, 2,     0.00, 2,     0.01, 2,  13.2154,     1.10, 2, 2025,   39.4608,  -51.8239
316N200309, A20, 17, 1, 28, 28, 2, 20030928, 1826, 39.4778, -51.8000, 5325,   255.90,    255.9,  12.0184,  35.4388, 2,  35.4405, 2,    171.3, 2,    194.4, 3,     5.88, 2,    13.94, 2,     0.01, 2,     0.89, 2,    2.446, 2,    1.390, 2,    0.117, 2,    1.064, 2,   2143.8, 2,   2328.8, 2,    50.50, 2,    17.20, 2, -999.000, 9, -999.000, -999.0000, 9, -999.0000,  -999.00, 9,  -999.00, -999.000, 9, -999.000,   -999.0, 9,   -999.0,  -999.00, 9,    0.1330, 2,    0.0960, 2,    0.0470, 2,    0.0330, 2,    0.0160, 2,    0.0180, 2, 448, 4, 37, 2, 69, 2, 96, 2, 107, 2, 101, 2, 38, 2,     1.06, 2,  -999.00, 9,  -999.00, 9,  -999.00, 9,  11.9847,  -999.00, 9, 2023,   39.4612,  -51.8237
316N200309, A20, 17, 1, 27, 27, 2, 20030928, 1826, 39.4778, -51.8000, 5325,   304.00,    304.0,  11.4303,  35.4022, 2,  35.4005, 2,    170.0, 2,    166.1, 2,     8.35, 2,    17.91, 2,     0.01, 2,     1.13, 2,    1.898, 2,    1.043, 2,    0.077, 2,    0.793, 2,   2163.0, 2,   2326.3, 2,    50.20, 2,    21.90, 2, -999.000, 9, -999.000, -999.0000, 9, -999.0000,  -999.00, 9,  -999.00, -999.000, 9, -999.000,   -999.0, 9,   -999.0,  -999.00, 9,    0.1270, 2,    0.0910, 2,    0.0440, 2,    0.0300, 2,    0.0170, 2,    0.0190, 2, -999, 9, -999, 9, -999, 9, -999, 9, -999, 9, -999, 9, -999, 9,     1.31, 2,  -999.00, 9,  -999.00, 9,  -999.00, 9,  11.3916,  -999.00, 9, 2021,   39.4615,  -51.8236
316N200309, A20, 17, 1, 26, 26, 2, 20030928, 1826, 39.4778, -51.8000, 5325,   402.30,    402.3,   9.6709,  35.2268, 2,  35.2251, 2,    149.7, 2,    150.1, 2,    12.05, 2,    22.30, 2,     0.01, 2,     1.43, 2,    1.325, 2,    0.717, 2,    0.043, 2,    0.689, 2,   2184.6, 2,   2318.2, 2,    47.20, 2,  -999.00, 9, -999.000, 9, -999.000, -999.0000, 9, -999.0000,  -999.00, 9,  -999.00, -999.000, 9, -999.000,   -999.0, 9,   -999.0,  -999.00, 9,    0.1310, 2,    0.0920, 2,    0.0470, 2,    0.0350, 2,    0.0150, 2,    0.0170, 2, -999, 9, -999, 9, -999, 9, -999, 9, -999, 9, -999, 9, -999, 9,  -999.00, 9,  -999.00, 9,  -999.00, 9,  -999.00, 9,   9.6246,  -999.00, 9, 2019,   39.4621,  -51.8233
316N200309, A20, 17, 1, 25, 25, 2, 20030928, 1826, 39.4778, -51.8000, 5325,   500.40,    500.4,   8.0600,  35.0937, 2,  35.0923, 2,    160.5, 2,     21.0, 4,    13.80, 2,    23.45, 2,     0.01, 2,     1.52, 2,    1.214, 2,    0.647, 2,    0.063, 2,    0.865, 2,   2188.7, 2,   2313.8, 2,    45.80, 2,  -999.00, 9, -999.000, 9, -999.000, -999.0000, 9, -999.0000,  -999.00, 9,  -999.00, -999.000, 9, -999.000,   -999.0, 9,   -999.0,  -999.00, 9,    0.1280, 2,    0.0900, 2,    0.0450, 2,    0.0360, 2,    0.0140, 3,    0.0170, 3, 400, 4, 23, 2, 47, 2, 69, 2, 182, 2, 42, 4, 37, 2,  -999.00, 9,  -999.00, 9,  -999.00, 9,  -999.00, 9,   8.0081,  -999.00, 9, 2016,   39.4627,  -51.8229
316N200309, A20, 17, 1, 24, 24, 2, 20030928, 1826, 39.4778, -51.8000, 5325,   624.70,    624.7,   6.4594,  35.0563, 2,  35.0549, 2,    199.1, 2,    194.9, 2,    13.38, 2,    21.66, 2,     0.01, 2,     1.42, 2,    1.458, 2,    0.749, 2,    0.062, 2,    1.308, 2,   2184.1, 2,   2309.3, 2,    47.20, 2,  -999.00, 9, -999.000, 9, -999.000, -999.0000, 9, -999.0000,  -999.00, 9,  -999.00, -999.000, 9, -999.000,   -999.0, 9,   -999.0,  -999.00, 9,    0.1380, 2,    0.0970, 2,    0.0480, 2,    0.0350, 2,    0.0160, 2,    0.0180, 2, -999, 9, -999, 9, -999, 9, -999, 9, -999, 9, -999, 9, -999, 9,  -999.00, 9,  -999.00, 9,  -999.00, 9,  -999.00, 9,   6.4015,  -999.00, 9, 2014,   39.4632,  -51.8224
316N200309, A20, 17, 1, 23, 23, 2, 20030928, 1826, 39.4778, -51.8000, 5325,   751.20,    751.2,   5.1075,  34.9820, 2,  34.9813, 2,    225.7, 2,    234.2, 3,    11.82, 2,    19.05, 2,     0.01, 2,     1.26, 2,    2.338, 2,    1.232, 2,    0.129, 2,    2.376, 2,   2171.7, 2,   2305.3, 2,    46.70, 2,  -999.00, 9, -999.000, 9, -999.000, -999.0000, 9, -999.0000,  -999.00, 9,  -999.00, -999.000, 9, -999.000,   -999.0, 9,   -999.0,  -999.00, 9,    0.1380, 2,    0.0960, 2,    0.0450, 2,    0.0310, 2,    0.0170, 2,    0.0200, 2, -999, 9, -999, 9, -999, 9, -999, 9, -999, 9, -999, 9, -999, 9,  -999.00, 9,  -999.00, 9,  -999.00, 9,  -999.00, 9,   5.0451,  -999.00, 9, 2011,   39.4638,  -51.8218
316N200309, A20, 17, 1, 22, 22, 2, 20030928, 1826, 39.4778, -51.8000, 5325,   900.40,    900.4,   4.9640,  35.0161, 2,  35.0144, 2,    237.4, 2,    238.1, 2,    11.81, 2,    18.95, 2,     0.00, 2,     1.25, 2,    2.026, 2,    1.036, 2,    0.102, 2,    2.120, 2,   2171.3, 2,   2308.4, 2,    43.90, 3,  -999.00, 9, -999.000, 9, -999.000, -999.0000, 9, -999.0000,  -999.00, 9,  -999.00, -999.000, 9, -999.000,   -999.0, 9,   -999.0,  -999.00, 9,    0.1390, 2,    0.0970, 2,    0.0460, 2,    0.0310, 2,    0.0170, 2,    0.0200, 2, -999, 9, -999, 9, -999, 9, -999, 9, -999, 9, -999, 9, -999, 9,  -999.00, 9,  -999.00, 9,  -999.00, 9,  -999.00, 9,   4.8891,  -999.00, 9, 2007,   39.4644,  -51.8211
316N200309, A20, 17, 1, 21, 21, 2, 20030928, 1826, 39.4778, -51.8000, 5325,  1050.80,   1050.8,   4.5612,  35.0049, 2,  35.0041, 2,    250.1, 2,    253.9, 2,    10.98, 2,    17.87, 2,     0.00, 2,     1.17, 2,    2.431, 2,    1.275, 2,    0.139, 2,    2.644, 2,   2166.1, 2,   2307.2, 2,    46.80, 2,  -999.00, 9, -999.000, 9, -999.000, -999.0000, 9, -999.0000,  -999.00, 9,  -999.00, -999.000, 9, -999.000,   -999.0, 9,   -999.0,  -999.00, 9,    0.1270, 2,    0.0880, 2,    0.0410, 2,    0.0290, 3,    0.0180, 2,    0.0200, 2, 478, 4, 35, 2, 35, 2, 78, 2, 191, 4, 90, 2, 49, 2,  -999.00, 9,  -999.00, 9,  -999.00, 9,  -999.00, 9,   4.4759,  -999.00, 9, 2004,   39.4650,  -51.8204
316N200309, A20, 17, 1, 20, 20, 2, 20030928, 1826, 39.4778, -51.8000, 5325,  1201.30,   1201.3,   4.2767,  34.9779, 2,  34.9780, 2,    258.3, 2,    259.2, 2,    11.08, 2,    17.76, 2,     0.00, 2,     1.17, 2,    2.441, 2,    1.263, 2,    0.138, 2,    2.748, 2,   2167.0, 2,   2305.7, 2,    45.60, 2,  -999.00, 9, -999.000, 9, -999.000, -999.0000, 9, -999.0000,  -999.00, 9,  -999.00, -999.000, 9, -999.000,   -999.0, 9,   -999.0,  -999.00, 9,    0.1350, 2,    0.0940, 2,    0.0450, 2,    0.0320, 2,    0.0170, 2,    0.0190, 2, -999, 9, -999, 9, -999, 9, -999, 9, -999, 9, -999, 9, -999, 9,  -999.00, 9,  -999.00, 9,  -999.00, 9,  -999.00, 9,   4.1805,  -999.00, 9, 2001,   39.4656,  -51.8197
316N200309, A20, 17, 1, 19, 19, 2, 20030928, 1826, 39.4778, -51.8000, 5325,  1324.80,   1324.8,   4.0720,  34.9632, 2,  34.9638, 2,    263.3, 2,    263.4, 2,    11.28, 2,    17.61, 2,     0.01, 2,     1.17, 2,    2.335, 2,    1.213, 2,    0.153, 2,    2.707, 2,   2162.6, 2,   2304.7, 2,    45.60, 2,  -999.00, 9, -999.000, 9, -999.000, -999.0000, 9, -999.0000,  -999.00, 9,  -999.00, -999.000, 9, -999.000,   -999.0, 9,   -999.0,  -999.00, 9,    0.1450, 2,    0.1000, 2,    0.0490, 2,    0.0320, 2,    0.0170, 2,    0.0190, 2, -999, 9, -999, 9, -999, 9, -999, 9, -999, 9, -999, 9, -999, 9,  -999.00, 9,  -999.00, 9,  -999.00, 9,  -999.00, 9,   3.9668,  -999.00, 9, 1958,   39.4661,  -51.8190
316N200309, A20, 17, 1, 18, 18, 2, 20030928, 1826, 39.4778, -51.8000, 5325,  1449.90,   1449.9,   3.9133,  34.9517, 2,  34.9524, 2,    266.1, 2,    259.2, 3,    11.37, 2,    17.52, 2,     0.01, 2,     1.16, 2,    2.250, 2,    1.163, 2,    0.124, 2,    2.659, 2,   2163.6, 2,   2304.8, 2,  -999.00, 9,  -999.00, 9, -999.000, 9, -999.000, -999.0000, 9, -999.0000,  -999.00, 9,  -999.00, -999.000, 9, -999.000,   -999.0, 9,   -999.0,  -999.00, 9, -999.0000, 9, -999.0000, 9, -999.0000, 9, -999.0000, 9, -999.0000, 9, -999.0000, 9, -999, 9, -999, 9, -999, 9, -999, 9, -999, 9, -999, 9, -999, 9,  -999.00, 9,  -999.00, 9,  -999.00, 9,  -999.00, 9,   3.7986,  -999.00, 9, 1955,   39.4666,  -51.8183
316N200309, A20, 17, 1, 17, 17, 2, 20030928, 1826, 39.4778, -51.8000, 5325,  1575.40,   1575.4,   3.8068,  34.9486, 2,  34.9486, 2,    266.9, 2,    267.1, 2,    11.78, 2,    17.56, 2,     0.01, 2,     1.17, 2,    2.045, 6,    1.031, 6,    0.106, 6,    2.512, 6,   2160.6, 2,   2302.2, 2,    45.00, 2,  -999.00, 9, -999.000, 9, -999.000, -999.0000, 9, -999.0000,  -999.00, 9,  -999.00, -999.000, 9, -999.000,   -999.0, 9,   -999.0,  -999.00, 9,    0.1460, 2,    0.1000, 2,    0.0500, 2,    0.0350, 2,    0.0160, 3,    0.0180, 3, -999, 9, -999, 9, -999, 9, -999, 9, -999, 9, -999, 9, -999, 9,  -999.00, 9,  -999.00, 9,  -999.00, 9,  -999.00, 9,   3.6820,  -999.00, 9, 1952,   39.4671,  -51.8177
316N200309, A20, 17, 1, 16, 16, 2, 20030928, 1826, 39.4778, -51.8000, 5325,  1700.70,   1700.7,   3.7079,  34.9472, 2,  34.9469, 2,    268.5, 2,    267.6, 2,    12.29, 2,    17.55, 2,     0.00, 2,     1.17, 2,    1.767, 2,    0.864, 2,    0.088, 2,    2.277, 2,   2161.8, 2,   2302.7, 2,  -999.00, 9,  -999.00, 9, -999.000, 9, -999.000, -999.0000, 9, -999.0000,  -999.00, 9,  -999.00, -999.000, 9, -999.000,   -999.0, 9,   -999.0,  -999.00, 9, -999.0000, 9, -999.0000, 9, -999.0000, 9, -999.0000, 9, -999.0000, 9, -999.0000, 9, -999, 9, -999, 9, -999, 9, -999, 9, -999, 9, -999, 9, -999, 9,  -999.00, 9,  -999.00, 9,  -999.00, 9,  -999.00, 9,   3.5729,  -999.00, 9, 1949,   39.4677,  -51.8173
316N200309, A20, 17, 1, 15, 15, 2, 20030928, 1826, 39.4778, -51.8000, 5325,  1851.60,   1851.6,   3.5809,  34.9419, 2,  34.9416, 2,    269.5, 2,    269.2, 2,    12.80, 2,    17.50, 2,     0.00, 2,     1.17, 2,    1.657, 2,    0.832, 2,    0.083, 2,    2.225, 2,   2159.3, 2,   2301.9, 2,  -999.00, 9,  -999.00, 9, -999.000, 9, -999.000, -999.0000, 9, -999.0000,  -999.00, 9,  -999.00, -999.000, 9, -999.000,   -999.0, 9,   -999.0,  -999.00, 9, -999.0000, 9, -999.0000, 9, -999.0000, 9, -999.0000, 9, -999.0000, 9, -999.0000, 9, -999, 9, -999, 9, -999, 9, -999, 9, -999, 9, -999, 9, -999, 9,  -999.00, 9,  -999.00, 9,  -999.00, 9,  -999.00, 9,   3.4337,  -999.00, 9, 1946,   39.4684,  -51.8168
316N200309, A20, 17, 1, 14, 14, 2, 20030928, 1826, 39.4778, -51.8000, 5325,  2003.60,   2003.6,   3.4970,  34.9398, 2,  34.9394, 2,    269.9, 2,    270.0, 2,    13.20, 2,    17.51, 2,     0.00, 2,     1.17, 2,    1.581, 2,    0.807, 2,    0.081, 2,    2.155, 2,   2162.5, 2,   2301.7, 2,    49.00, 3,  -999.00, 9, -999.000, 9, -999.000, -999.0000, 9, -999.0000,  -999.00, 9,  -999.00, -999.000, 9, -999.000,   -999.0, 9,   -999.0,  -999.00, 9,    0.1280, 2,    0.0890, 2,    0.0430, 2,    0.0350, 3,    0.0140, 3,    0.0180, 3, -999, 9, -999, 9, -999, 9, -999, 9, -999, 9, -999, 9, -999, 9,  -999.00, 9,  -999.00, 9,  -999.00, 9,  -999.00, 9,   3.3367,  -999.00, 9, 1942,   39.4689,  -51.8163
316N200309, A20, 17, 1, 13, 13, 2, 20030928, 1826, 39.4778, -51.8000, 5325,  2254.50,   2254.5,   3.4089,  34.9435, 2,  34.9439, 2,    268.4, 2,    268.9, 2,    14.33, 2,    17.60, 2,     0.00, 2,     1.17, 2,    1.318, 2,    0.676, 2,    0.062, 2,    1.894, 2,   2159.1, 2,   2309.6, 2,  -999.00, 9,  -999.00, 9, -999.000, 9, -999.000, -999.0000, 9, -999.0000,  -999.00, 9,  -999.00, -999.000, 9, -999.000,   -999.0, 9,   -999.0,  -999.00, 9, -999.0000, 9, -999.0000, 9, -999.0000, 9, -999.0000, 9, -999.0000, 9, -999.0000, 9, -999, 9, -999, 9, -999, 9, -999, 9, -999, 9, -999, 9, -999, 9,  -999.00, 9,  -999.00, 9,  -999.00, 9,  -999.00, 9,   3.2258,  -999.00, 9, 1937,   39.4698,  -51.8153
316N200309, A20, 17, 1, 12, 12, 2, 20030928, 1826, 39.4778, -51.8000, 5325,  2501.10,   2501.1,   3.2946,  34.9479, 2,  34.9482, 2,    266.7, 2,    266.8, 2,    15.87, 2,    17.75, 2,     0.00, 2,     1.18, 2,    0.930, 2,    0.482, 2,    0.037, 2,    1.467, 2,   2162.2, 2,   2306.7, 2,    43.50, 2,  -999.00, 9, -999.000, 9, -999.000, -999.0000, 9, -999.0000,  -999.00, 9,  -999.00, -999.000, 9, -999.000,   -999.0, 9,   -999.0,  -999.00, 9,    0.1350, 2,    0.0940, 2,    0.0450, 2,    0.0320, 2,    0.0170, 2,    0.0190, 2, -999, 9, -999, 9, -999, 9, -999, 9, -999, 9, -999, 9, -999, 9,  -999.00, 9,  -999.00, 9,  -999.00, 9,  -999.00, 9,   3.0891,  -999.00, 9, 1932,   39.4705,  -51.8144
316N200309, A20, 17, 1, 11, 11, 2, 20030928, 1826, 39.4778, -51.8000, 5325,  2751.20,   2751.2,   3.1412,  34.9458, 2,  34.9457, 2,    266.1, 2,    265.5, 2,    17.62, 2,    17.95, 2,     0.00, 2,     1.20, 2,    0.704, 2,    0.371, 2,    0.030, 2,    1.202, 2,   2161.9, 2,   2311.5, 2,  -999.00, 9,  -999.00, 9, -999.000, 9, -999.000, -999.0000, 9, -999.0000,  -999.00, 9,  -999.00, -999.000, 9, -999.000,   -999.0, 9,   -999.0,  -999.00, 9, -999.0000, 9, -999.0000, 9, -999.0000, 9, -999.0000, 9, -999.0000, 9, -999.0000, 9, -999, 9, -999, 9, -999, 9, -999, 9, -999, 9, -999, 9, -999, 9,  -999.00, 9,  -999.00, 9,  -999.00, 9,  -999.00, 9,   2.9133,  -999.00, 9, 1926,   39.4712,  -51.8133