BOTTLE,20220816CCHSIOAMB
EXPOCODE,SECT_ID,STNNBR,CASTNO,SAMPNO,BTLNBR,BTLNBR_FLAG_W,DATE,TIME,LATITUDE,LONGITUDE,DEPTH,CTDRAW,CTDPRS,CTDTMP,CTDSAL,CTDSAL_FLAG_W,SALNTY,SALNTY_FLAG_W,CTDOXY,CTDOXY_FLAG_W,OXYGEN,OXYGEN_FLAG_W,SILCAT,SILCAT_FLAG_W,NITRAT,NITRAT_FLAG_W,NITRIT,NITRIT_FLAG_W,PHSPHT,PHSPHT_FLAG_W,CFC-11,CFC-11_FLAG_W,CFC-12,CFC-12_FLAG_W,CFC113,CFC113_FLAG_W,CCL4,CCL4_FLAG_W,TCARBN,TCARBN_FLAG_W,ALKALI,ALKALI_FLAG_W,DOC,DOC_FLAG_W,TDN,TDN_FLAG_W,TRITUM,TRITUM_FLAG_W,TRITER,HELIUM,HELIUM_FLAG_W,HELIER,DELHE3,DELHE3_FLAG_W,DELHER,NEON,NEON_FLAG_W,NEONER,DELC14,DELC14_FLAG_W,C14ERR,DELC13,DELC13_FLAG_W,CDOM325,CDOM325_FLAG_W,CDOM340,CDOM340_FLAG_W,CDOM380,CDOM380_FLAG_W,CDOM412,CDOM412_FLAG_W,CDOMSL,CDOMSL_FLAG_W,CDOMSN,CDOMSN_FLAG_W,DCNS,DCNS_FLAG_W,ARABI,ARABI_FLAG_W,FUCO,FUCO_FLAG_W,GALA,GALA_FLAG_W,GLUC,GLUC_FLAG_W,MAN,MAN_FLAG_W,RHAM,RHAM_FLAG_W,BRDU,BRDU_FLAG_W,PEUK,PEUK_FLAG_W,PROC,PROC_FLAG_W,SYN,SYN_FLAG_W,THETA,BACT,BACT_FLAG_W,BTL_TIME,BTL_LAT,BTL_LON
,,,,,,,,,,,METERS,DBAR,DBAR,ITS-90,PSS-78,,PSS-78,,UMOL/KG,,UMOL/KG,,UMOL/KG,,UMOL/KG,,UMOL/KG,,UMOL/KG,,PMOL/KG,,PMOL/KG,,PMOL/KG,,PMOL/KG,,UMOL/KG,,UMOL/KG,,UMOL/KG,,UMOL/KG,,TU,,TU,NMOL/KG,,NMOL/KG,PERCNT,,PERCNT,NMOL/KG,,NMOL/KG,/MILLE,,/MILLE,/MILLE,,1/M,,1/M,,1/M,,1/M,,1/NM,,1/NM,,NMOL/KG,,NMOL/KG,,NMOL/KG,,NMOL/KG,,NMOL/KG,,NMOL/KG,,NMOL/KG,,PMOL/L/H,,E6/L,,E7/L,,E6/L,,DEG C,E8/L,,,,
316N200309, A20, 22, 1, 36, 36, 2, 20030930, 0339, 38.1843, -52.4895, 5382,    22.20,     22.2,  25.7575,  36.3393, 2,  36.3424, 2,    197.9, 2,    204.1, 2,     0.78, 2,     0.13, 2,     0.00, 2,     0.02, 2,    2.335, 2,    1.367, 2,    0.107, 2, -999.000, 9,   2026.9, 2,   2371.8, 2,  -999.00, 9,  -999.00, 9, -999.000, 9, -999.000, -999.0000, 9, -999.0000,  -999.00, 9,  -999.00, -999.000, 9, -999.000,   -999.0, 9,   -999.0,  -999.00, 9,    0.0800, 2,    0.0540, 2,    0.0210, 2,    0.0130, 2,    0.0260, 2,    0.0260, 2, -999, 9, -999, 9, -999, 9, -999, 9, -999, 9, -999, 9, -999, 9,  -999.00, 9,  -999.00, 9,  -999.00, 9,  -999.00, 9,  25.7525,  -999.00, 9,  548,   38.1978,  -52.4740
316N200309, A20, 22, 1, 35, 35, 2, 20030930, 0339, 38.1843, -52.4895, 5382,    52.20,     52.2,  25.1223,  36.3075, 2,  36.3105, 2,    202.1, 2,    205.6, 2,     0.68, 2,     0.12, 2,     0.00, 2,     0.02, 2,    1.789, 2,    1.098, 2,    0.142, 2, -999.000, 9,   -999.0, 9,   -999.0, 9,  -999.00, 9,  -999.00, 9, -999.000, 9, -999.000, -999.0000, 9, -999.0000,  -999.00, 9,  -999.00, -999.000, 9, -999.000,   -999.0, 9,   -999.0,  -999.00, 9,    0.0770, 2,    0.0520, 2,    0.0200, 2,    0.0120, 2,    0.0250, 2,    0.0260, 2, -999, 9, -999, 9, -999, 9, -999, 9, -999, 9, -999, 9, -999, 9,  -999.00, 9,  -999.00, 9,  -999.00, 9,  -999.00, 9,  25.1109,  -999.00, 9,  547,   38.1976,  -52.4744
316N200309, A20, 22, 1, 34, 34, 2, 20030930, 0339, 38.1843, -52.4895, 5382,    76.90,     76.9,  25.1057,  36.3411, 2,  36.3435, 2,    203.0, 2,    205.2, 2,     0.58, 2,     0.12, 2,     0.00, 2,     0.02, 2,    1.867, 2,    1.135, 2,    0.154, 2, -999.000, 9,   -999.0, 9,   -999.0, 9,  -999.00, 9,  -999.00, 9, -999.000, 9, -999.000, -999.0000, 9, -999.0000,  -999.00, 9,  -999.00, -999.000, 9, -999.000,   -999.0, 9,   -999.0,  -999.00, 9,    0.0770, 2,    0.0540, 2,    0.0210, 2,    0.0140, 2,    0.0240, 2,    0.0240, 2, -999, 9, -999, 9, -999, 9, -999, 9, -999, 9, -999, 9, -999, 9,  -999.00, 9,  -999.00, 9,  -999.00, 9,  -999.00, 9,  25.0889,  -999.00, 9,  545,   38.1976,  -52.4747
316N200309, A20, 22, 1, 33, 33, 2, 20030930, 0339, 38.1843, -52.4895, 5382,    97.00,     97.0,  24.1949,  36.4657, 2,  36.4808, 2,    196.8, 2,    201.7, 2,     0.78, 2,     0.18, 2,     0.04, 2,     0.02, 2,    1.982, 2,    1.172, 2,    0.117, 2, -999.000, 9,   -999.0, 9,   -999.0, 9,  -999.00, 9,  -999.00, 9, -999.000, 9, -999.000, -999.0000, 9, -999.0000,  -999.00, 9,  -999.00, -999.000, 9, -999.000,   -999.0, 9,   -999.0,  -999.00, 9,    0.1480, 2,    0.1080, 2,    0.0510, 2,    0.0350, 2,    0.0160, 2,    0.0180, 2, -999, 9, -999, 9, -999, 9, -999, 9, -999, 9, -999, 9, -999, 9,  -999.00, 9,  -999.00, 9,  -999.00, 9,  -999.00, 9,  24.1743,  -999.00, 9,  544,   38.1975,  -52.4749
316N200309, A20, 22, 1, 32, 32, 2, 20030930, 0339, 38.1843, -52.4895, 5382,   127.20,    127.2,  20.6218,  36.6180, 2,  36.6245, 2,    214.5, 2,    218.6, 3,     0.67, 2,     1.30, 2,     0.08, 2,     0.07, 2,    2.266, 2,    1.328, 2,    0.118, 2, -999.000, 9,   -999.0, 9,   -999.0, 9,  -999.00, 9,  -999.00, 9, -999.000, 9, -999.000, -999.0000, 9, -999.0000,  -999.00, 9,  -999.00, -999.000, 9, -999.000,   -999.0, 9,   -999.0,  -999.00, 9,    0.1120, 2,    0.0840, 2,    0.0400, 2,    0.0280, 2,    0.0170, 2,    0.0180, 2, -999, 9, -999, 9, -999, 9, -999, 9, -999, 9, -999, 9, -999, 9,  -999.00, 9,  -999.00, 9,  -999.00, 9,  -999.00, 9,  20.5976,  -999.00, 9,  543,   38.1974,  -52.4752
316N200309, A20, 22, 1, 31, 31, 2, 20030930, 0339, 38.1843, -52.4895, 5382,   150.40,    150.4,  19.9731,  36.6337, 2,  36.6376, 2,    202.6, 2,    212.9, 3,     0.58, 2,     0.86, 2,     0.08, 2,     0.05, 2,    2.291, 2,    1.336, 2,    0.131, 2, -999.000, 9,   -999.0, 9,   -999.0, 9,  -999.00, 9,  -999.00, 9, -999.000, 9, -999.000, -999.0000, 9, -999.0000,  -999.00, 9,  -999.00, -999.000, 9, -999.000,   -999.0, 9,   -999.0,  -999.00, 9,    0.1310, 2,    0.1000, 2,    0.0490, 2,    0.0340, 2,    0.0160, 2,    0.0170, 2, -999, 9, -999, 9, -999, 9, -999, 9, -999, 9, -999, 9, -999, 9,  -999.00, 9,  -999.00, 9,  -999.00, 9,  -999.00, 9,  19.9451,  -999.00, 9,  541,   38.1972,  -52.4755
316N200309, A20, 22, 1, 30, 30, 2, 20030930, 0339, 38.1843, -52.4895, 5382,   199.60,    199.6,  19.2780,  36.6243, 2,  36.6251, 2,    201.4, 2,    206.5, 2,     0.77, 2,     1.93, 2,     0.02, 2,     0.09, 2,    1.841, 2,    1.124, 2,    0.147, 2, -999.000, 9,   -999.0, 9,   -999.0, 9,  -999.00, 9,  -999.00, 9, -999.000, 9, -999.000, -999.0000, 9, -999.0000,  -999.00, 9,  -999.00, -999.000, 9, -999.000,   -999.0, 9,   -999.0,  -999.00, 9, -999.0000, 9, -999.0000, 9, -999.0000, 9, -999.0000, 9, -999.0000, 9, -999.0000, 9, -999, 9, -999, 9, -999, 9, -999, 9, -999, 9, -999, 9, -999, 9,  -999.00, 9,  -999.00, 9,  -999.00, 9,  -999.00, 9,  19.2417,  -999.00, 9,  540,   38.1971,  -52.4757
316N200309, A20, 22, 1, 29, 29, 2, 20030930, 0339, 38.1843, -52.4895, 5382,   251.10,    251.1,  18.9445,  36.6023, 2,  36.6045, 2,    200.0, 2,    205.5, 2,     0.87, 2,     2.41, 2,     0.02, 2,     0.11, 2,    2.342, 2,    1.375, 2,    0.097, 2, -999.000, 9,   -999.0, 9,   -999.0, 9,  -999.00, 9,  -999.00, 9, -999.000, 9, -999.000, -999.0000, 9, -999.0000,  -999.00, 9,  -999.00, -999.000, 9, -999.000,   -999.0, 9,   -999.0,  -999.00, 9,    0.0860, 2,    0.0670, 2,    0.0340, 2,    0.0260, 2,    0.0160, 2,    0.0170, 2, -999, 9, -999, 9, -999, 9, -999, 9, -999, 9, -999, 9, -999, 9,  -999.00, 9,  -999.00, 9,  -999.00, 9,  -999.00, 9,  18.8993,  -999.00, 9,  538,   38.1969,  -52.4759
316N200309, A20, 22, 1, 28, 28, 2, 20030930, 0339, 38.1843, -52.4895, 5382,   300.30,    300.3,  18.7321,  36.5933, 2,  36.5939, 2,    207.4, 2,    204.1, 2,     0.97, 2,     3.10, 2,     0.01, 2,     0.15, 2,    2.353, 2,    1.368, 2,    0.073, 2, -999.000, 9,   -999.0, 9,   -999.0, 9,  -999.00, 9,  -999.00, 9, -999.000, 9, -999.000, -999.0000, 9, -999.0000,  -999.00, 9,  -999.00, -999.000, 9, -999.000,   -999.0, 9,   -999.0,  -999.00, 9, -999.0000, 9, -999.0000, 9, -999.0000, 9, -999.0000, 9, -999.0000, 9, -999.0000, 9, -999, 9, -999, 9, -999, 9, -999, 9, -999, 9, -999, 9, -999, 9,  -999.00, 9,  -999.00, 9,  -999.00, 9,  -999.00, 9,  18.6784,  -999.00, 9,  536,   38.1968,  -52.4762
316N200309, A20, 22, 1, 27, 27, 2, 20030930, 0339, 38.1843, -52.4895, 5382,   400.50,    400.5,  18.1205,  36.5240, 2,  36.5238, 2,    191.2, 2,    194.0, 2,     1.47, 2,     4.83, 2,     0.01, 2,     0.24, 2,    2.366, 2,    1.349, 2,    0.026, 2, -999.000, 9,   -999.0, 9,   -999.0, 9,  -999.00, 9,  -999.00, 9, -999.000, 9, -999.000, -999.0000, 9, -999.0000,  -999.00, 9,  -999.00, -999.000, 9, -999.000,   -999.0, 9,   -999.0,  -999.00, 9, -999.0000, 9, -999.0000, 9, -999.0000, 9, -999.0000, 9, -999.0000, 9, -999.0000, 9, -999, 9, -999, 9, -999, 9, -999, 9, -999, 9, -999, 9, -999, 9,  -999.00, 9,  -999.00, 9,  -999.00, 9,  -999.00, 9,  18.0504,  -999.00, 9,  534,   38.1964,  -52.4766
316N200309, A20, 22, 1, 26, 26, 2, 20030930, 0339, 38.1843, -52.4895, 5382,   500.20,    500.2,  17.3448,  36.4082, 2,  36.4077, 2,    189.9, 2,    188.4, 2,     2.07, 2,     6.72, 2,     0.01, 2,     0.36, 2,    2.370, 2,    1.335, 2,    0.021, 2, -999.000, 9,   -999.0, 9,   -999.0, 9,  -999.00, 9,  -999.00, 9, -999.000, 9, -999.000, -999.0000, 9, -999.0000,  -999.00, 9,  -999.00, -999.000, 9, -999.000,   -999.0, 9,   -999.0,  -999.00, 9, -999.0000, 9, -999.0000, 9, -999.0000, 9, -999.0000, 9, -999.0000, 9, -999.0000, 9, -999, 9, -999, 9, -999, 9, -999, 9, -999, 9, -999, 9, -999, 9,  -999.00, 9,  -999.00, 9,  -999.00, 9,  -999.00, 9,  17.2597,  -999.00, 9,  532,   38.1960,  -52.4771
316N200309, A20, 22, 1, 25, 25, 2, 20030930, 0339, 38.1843, -52.4895, 5382,   624.90,    624.9,  15.8936,  36.1553, 2,  36.1527, 2,    171.3, 2,    174.6, 2,     3.47, 2,    10.41, 2,     0.01, 2,     0.60, 2,    2.206, 2,    1.212, 2,    0.035, 2, -999.000, 9,   -999.0, 9,   -999.0, 9,  -999.00, 9,  -999.00, 9, -999.000, 9, -999.000, -999.0000, 9, -999.0000,  -999.00, 9,  -999.00, -999.000, 9, -999.000,   -999.0, 9,   -999.0,  -999.00, 9, -999.0000, 9, -999.0000, 9, -999.0000, 9, -999.0000, 9, -999.0000, 9, -999.0000, 9, -999, 9, -999, 9, -999, 9, -999, 9, -999, 9, -999, 9, -999, 9,  -999.00, 9,  -999.00, 9,  -999.00, 9,  -999.00, 9,  15.7931,  -999.00, 9,  529,   38.1956,  -52.4776
316N200309, A20, 22, 1, 24, 24, 2, 20030930, 0339, 38.1843, -52.4895, 5382,   790.40,    790.4,  12.9208,  35.6564, 2,  35.6549, 2,    148.9, 2,    139.6, 2,     8.30, 2,    18.83, 2,     0.00, 2,     1.15, 2,    1.508, 2,    0.811, 2,    0.019, 2, -999.000, 9,   -999.0, 9,   -999.0, 9,  -999.00, 9,  -999.00, 9, -999.000, 9, -999.000, -999.0000, 9, -999.0000,  -999.00, 9,  -999.00, -999.000, 9, -999.000,   -999.0, 9,   -999.0,  -999.00, 9, -999.0000, 9, -999.0000, 9, -999.0000, 9, -999.0000, 9, -999.0000, 9, -999.0000, 9, -999, 9, -999, 9, -999, 9, -999, 9, -999, 9, -999, 9, -999, 9,  -999.00, 9,  -999.00, 9,  -999.00, 9,  -999.00, 9,  12.8095,  -999.00, 9,  525,   38.1950,  -52.4781
316N200309, A20, 22, 1, 23, 23, 2, 20030930, 0339, 38.1843, -52.4895, 5382,   960.50,    960.5,  10.2108,  35.3013, 2,  35.3011, 2,    135.0, 2,    139.6, 2,    12.73, 2,    23.19, 2,     0.00, 2,     1.47, 2,    1.052, 2,    0.554, 2,    0.023, 2, -999.000, 9,   -999.0, 9,   -999.0, 9,  -999.00, 9,  -999.00, 9, -999.000, 9, -999.000, -999.0000, 9, -999.0000,  -999.00, 9,  -999.00, -999.000, 9, -999.000,   -999.0, 9,   -999.0,  -999.00, 9, -999.0000, 9, -999.0000, 9, -999.0000, 9, -999.0000, 9, -999.0000, 9, -999.0000, 9, -999, 9, -999, 9, -999, 9, -999, 9, -999, 9, -999, 9, -999, 9,  -999.00, 9,  -999.00, 9,  -999.00, 9,  -999.00, 9,  10.0933,  -999.00, 9,  522,   38.1944,  -52.4787
316N200309, A20, 22, 1, 22, 22, 2, 20030930, 0339, 38.1843, -52.4895, 5382,  1050.90,   1050.9,   8.4423,  35.1412, 2,  35.1408, 2,    154.3, 2,    153.4, 2,    14.34, 2,    23.89, 2,     0.00, 2,     1.54, 2,    1.054, 2,    0.548, 2,    0.034, 2, -999.000, 9,   -999.0, 9,   -999.0, 9,  -999.00, 9,  -999.00, 9, -999.000, 9, -999.000, -999.0000, 9, -999.0000,  -999.00, 9,  -999.00, -999.000, 9, -999.000,   -999.0, 9,   -999.0,  -999.00, 9, -999.0000, 9, -999.0000, 9, -999.0000, 9, -999.0000, 9, -999.0000, 9, -999.0000, 9, -999, 9, -999, 9, -999, 9, -999, 9, -999, 9, -999, 9, -999, 9,  -999.00, 9,  -999.00, 9,  -999.00, 9,  -999.00, 9,   8.3266,  -999.00, 9,  519,   38.1942,  -52.4791
316N200309, A20, 22, 1, 21, 21, 2, 20030930, 0339, 38.1843, -52.4895, 5382,  1201.30,   1201.3,   6.0699,  35.0533, 2,  35.0530, 2,    206.0, 2,    206.6, 2,    13.13, 2,    20.66, 2,     0.00, 2,     1.36, 2,    1.585, 2,    0.810, 2,    0.067, 2, -999.000, 9,   -999.0, 9,   -999.0, 9,  -999.00, 9,  -999.00, 9, -999.000, 9, -999.000, -999.0000, 9, -999.0000,  -999.00, 9,  -999.00, -999.000, 9, -999.000,   -999.0, 9,   -999.0,  -999.00, 9, -999.0000, 9, -999.0000, 9, -999.0000, 9, -999.0000, 9, -999.0000, 9, -999.0000, 9, -999, 9, -999, 9, -999, 9, -999, 9, -999, 9, -999, 9, -999, 9,  -999.00, 9,  -999.00, 9,  -999.00, 9,  -999.00, 9,   5.9574,  -999.00, 9,  516,   38.1939,  -52.4796
316N200309, A20, 22, 1, 20, 20, 2, 20030930, 0339, 38.1843, -52.4895, 5382,  1358.10,   1358.1,   4.3821,  34.8955, 2,  34.8969, 2,    242.1, 2,    261.4, 3,    10.50, 2,    17.41, 2,     0.00, 2,     1.16, 2,    3.449, 2,    1.769, 2,    0.249, 2, -999.000, 9,   -999.0, 9,   -999.0, 9,  -999.00, 9,  -999.00, 9, -999.000, 9, -999.000, -999.0000, 9, -999.0000,  -999.00, 9,  -999.00, -999.000, 9, -999.000,   -999.0, 9,   -999.0,  -999.00, 9,    0.1340, 2,    0.0980, 2,    0.0470, 2,    0.0310, 2,    0.0170, 2,    0.0180, 2, -999, 9, -999, 9, -999, 9, -999, 9, -999, 9, -999, 9, -999, 9,  -999.00, 9,  -999.00, 9,  -999.00, 9,  -999.00, 9,   4.2709,  -999.00, 9,  513,   38.1936,  -52.4801
316N200309, A20, 22, 1, 19, 19, 2, 20030930, 0339, 38.1843, -52.4895, 5382,  1450.50,   1450.5,   4.7980,  35.0089, 2,  35.0090, 2,    242.3, 2,    245.7, 2,    11.71, 2,    18.39, 2,     0.00, 2,     1.21, 2,    2.243, 2,    1.123, 2,    0.133, 2, -999.000, 9,   -999.0, 9,   -999.0, 9,  -999.00, 9,  -999.00, 9, -999.000, 9, -999.000, -999.0000, 9, -999.0000,  -999.00, 9,  -999.00, -999.000, 9, -999.000,   -999.0, 9,   -999.0,  -999.00, 9, -999.0000, 9, -999.0000, 9, -999.0000, 9, -999.0000, 9, -999.0000, 9, -999.0000, 9, -999, 9, -999, 9, -999, 9, -999, 9, -999, 9, -999, 9, -999, 9,  -999.00, 9,  -999.00, 9,  -999.00, 9,  -999.00, 9,   4.6736,  -999.00, 9,  510,   38.1934,  -52.4802
316N200309, A20, 22, 1, 18, 18, 2, 20030930, 0339, 38.1843, -52.4895, 5382,  1575.40,   1575.4,   4.4502,  34.9836, 2,  34.9850, 2,    254.2, 2,    254.7, 2,    11.51, 2,    18.04, 2,     0.00, 2,     1.19, 2,    2.360, 2,    1.181, 2,    0.132, 2, -999.000, 9,   -999.0, 9,   -999.0, 9,  -999.00, 9,  -999.00, 9, -999.000, 9, -999.000, -999.0000, 9, -999.0000,  -999.00, 9,  -999.00, -999.000, 9, -999.000,   -999.0, 9,   -999.0,  -999.00, 9, -999.0000, 9, -999.0000, 9, -999.0000, 9, -999.0000, 9, -999.0000, 9, -999.0000, 9, -999, 9, -999, 9, -999, 9, -999, 9, -999, 9, -999, 9, -999, 9,  -999.00, 9,  -999.00, 9,  -999.00, 9,  -999.00, 9,   4.3178,  -999.00, 9,  508,   38.1929,  -52.4803
316N200309, A20, 22, 1, 17, 17, 2, 20030930, 0339, 38.1843, -52.4895, 5382,  1701.90,   1701.9,   4.2452,  34.9749, 2,  34.9758, 2,    261.1, 2,    259.0, 2,    11.70, 2,    17.89, 2,     0.00, 2,     1.18, 2,    2.234, 2,    1.126, 2,    0.132, 2, -999.000, 9,   -999.0, 9,   -999.0, 9,  -999.00, 9,  -999.00, 9, -999.000, 9, -999.000, -999.0000, 9, -999.0000,  -999.00, 9,  -999.00, -999.000, 9, -999.000,   -999.0, 9,   -999.0,  -999.00, 9, -999.0000, 9, -999.0000, 9, -999.0000, 9, -999.0000, 9, -999.0000, 9, -999.0000, 9, -999, 9, -999, 9, -999, 9, -999, 9, -999, 9, -999, 9, -999, 9,  -999.00, 9,  -999.00, 9,  -999.00, 9,  -999.00, 9,   4.1032,  -999.00, 9,  505,   38.1925,  -52.4805
316N200309, A20, 22, 1, 16, 16, 2, 20030930, 0339, 38.1843, -52.4895, 5382,  1849.50,   1849.5,   4.0079,  34.9596, 2,  34.9600, 2,    261.6, 2,    263.6, 2,    11.91, 2,    17.75, 2,     0.00, 2,     1.17, 2,    2.149, 2,    1.068, 2,    0.107, 2, -999.000, 9,   -999.0, 9,   -999.0, 9,  -999.00, 9,  -999.00, 9, -999.000, 9, -999.000, -999.0000, 9, -999.0000,  -999.00, 9,  -999.00, -999.000, 9, -999.000,   -999.0, 9,   -999.0,  -999.00, 9, -999.0000, 9, -999.0000, 9, -999.0000, 9, -999.0000, 9, -999.0000, 9, -999.0000, 9, -999, 9, -999, 9, -999, 9, -999, 9, -999, 9, -999, 9, -999, 9,  -999.00, 9,  -999.00, 9,  -999.00, 9,  -999.00, 9,   3.8550,  -999.00, 9,  501,   38.1921,  -52.4809
316N200309, A20, 22, 1, 15, 15, 2, 20030930, 0339, 38.1843, -52.4895, 5382,  2000.00,   2000.0,   3.8667,  34.9529, 2,  34.9545, 2,    265.1, 2,    265.6, 2,    12.21, 2,    17.70, 2,     0.00, 2,     1.17, 2,    1.883, 2,    0.934, 2,    0.105, 2, -999.000, 9,   -999.0, 9,   -999.0, 9,  -999.00, 9,  -999.00, 9, -999.000, 9, -999.000, -999.0000, 9, -999.0000,  -999.00, 9,  -999.00, -999.000, 9, -999.000,   -999.0, 9,   -999.0,  -999.00, 9,    0.1300, 2,    0.0970, 2,    0.0500, 2,    0.0330, 2,    0.0160, 2,    0.0170, 2, -999, 9, -999, 9, -999, 9, -999, 9, -999, 9, -999, 9, -999, 9,  -999.00, 9,  -999.00, 9,  -999.00, 9,  -999.00, 9,   3.7012,  -999.00, 9,  458,   38.1917,  -52.4816
316N200309, A20, 22, 1, 14, 14, 2, 20030930, 0339, 38.1843, -52.4895, 5382,  2251.00,   2251.0,   3.6732,  34.9442, 2,  34.9604, 3,    268.7, 2,    268.7, 2,    12.91, 2,    17.64, 2,     0.00, 2,     1.17, 2,    1.731, 2,    0.856, 2,    0.085, 2, -999.000, 9,   -999.0, 9,   -999.0, 9,  -999.00, 9,  -999.00, 9, -999.000, 9, -999.000, -999.0000, 9, -999.0000,  -999.00, 9,  -999.00, -999.000, 9, -999.000,   -999.0, 9,   -999.0,  -999.00, 9, -999.0000, 9, -999.0000, 9, -999.0000, 9, -999.0000, 9, -999.0000, 9, -999.0000, 9, -999, 9, -999, 9, -999, 9, -999, 9, -999, 9, -999, 9, -999, 9,  -999.00, 9,  -999.00, 9,  -999.00, 9,  -999.00, 9,   3.4861,  -999.00, 9,  453,   38.1910,  -52.4823
316N200309, A20, 22, 1, 13, 13, 2, 20030930, 0339, 38.1843, -52.4895, 5382,  2501.10,   2501.1,   3.5121,  34.9411, 2,  34.9416, 2,    270.2, 2,    269.9, 2,    13.72, 2,    17.49, 2,     0.00, 2,     1.17, 2,    1.578, 6,    0.780, 6,    0.084, 6, -999.000, 9,   -999.0, 9,   -999.0, 9,  -999.00, 9,  -999.00, 9, -999.000, 9, -999.000, -999.0000, 9, -999.0000,  -999.00, 9,  -999.00, -999.000, 9, -999.000,   -999.0, 9,   -999.0,  -999.00, 9, -999.0000, 9, -999.0000, 9, -999.0000, 9, -999.0000, 9, -999.0000, 9, -999.0000, 9, -999, 9, -999, 9, -999, 9, -999, 9, -999, 9, -999, 9, -999, 9,  -999.00, 9,  -999.00, 9,  -999.00, 9,  -999.00, 9,   3.3027,  -999.00, 9,  448,   38.1905,  -52.4830
316N200309, A20, 22, 1, 12, 12, 2, 20030930, 0339, 38.1843, -52.4895, 5382,  2749.70,   2749.7,   3.3974,  34.9465, 2,  34.9469, 2,    268.0, 2,    267.9, 2,    15.43, 2,    17.69, 2,     0.00, 2,     1.18, 2,    1.159, 2,    0.584, 2,    0.065, 2, -999.000, 9,   -999.0, 9,   -999.0, 9,  -999.00, 9,  -999.00, 9, -999.000, 9, -999.000, -999.0000, 9, -999.0000,  -999.00, 9,  -999.00, -999.000, 9, -999.000,   -999.0, 9,   -999.0,  -999.00, 9, -999.0000, 9, -999.0000, 9, -999.0000, 9, -999.0000, 9, -999.0000, 9, -999.0000, 9, -999, 9, -999, 9, -999, 9, -999, 9, -999, 9, -999, 9, -999, 9,  -999.00, 9,  -999.00, 9,  -999.00, 9,  -999.00, 9,   3.1645,  -999.00, 9,  443,   38.1901,  -52.4838
316N200309, A20, 22, 1, 11, 11, 2, 20030930, 0339, 38.1843, -52.4895, 5382,  3000.90,   3000.9,   3.2467,  34.9454, 2,  34.9455, 2,    266.9, 2,    266.7, 2,    17.04, 2,    17.74, 2,     0.00, 2,     1.19, 2,    0.968, 2,    0.485, 2,    0.043, 2, -999.000, 9,   -999.0, 9,   -999.0, 9,  -999.00, 9,  -999.00, 9, -999.000, 9, -999.000, -999.0000, 9, -999.0000,  -999.00, 9,  -999.00, -999.000, 9, -999.000,   -999.0, 9,   -999.0,  -999.00, 9,    0.1170, 2,    0.0890, 2,    0.0450, 2,    0.0290, 2,    0.0170, 2,    0.0170, 2, -999, 9, -999, 9, -999, 9, -999, 9, -999, 9, -999, 9, -999, 9,  -999.00, 9,  -999.00, 9,  -999.00, 9,  -999.00, 9,   2.9905,  -999.00, 9,  438,   38.1895,  -52.4841