BOTTLE,20220816CCHSIOAMB
EXPOCODE,SECT_ID,STNNBR,CASTNO,SAMPNO,BTLNBR,BTLNBR_FLAG_W,DATE,TIME,LATITUDE,LONGITUDE,DEPTH,CTDRAW,CTDPRS,CTDTMP,CTDSAL,CTDSAL_FLAG_W,SALNTY,SALNTY_FLAG_W,CTDOXY,CTDOXY_FLAG_W,OXYGEN,OXYGEN_FLAG_W,SILCAT,SILCAT_FLAG_W,NITRAT,NITRAT_FLAG_W,NITRIT,NITRIT_FLAG_W,PHSPHT,PHSPHT_FLAG_W,CFC-11,CFC-11_FLAG_W,CFC-12,CFC-12_FLAG_W,CFC113,CFC113_FLAG_W,CCL4,CCL4_FLAG_W,TCARBN,TCARBN_FLAG_W,ALKALI,ALKALI_FLAG_W,DOC,DOC_FLAG_W,TDN,TDN_FLAG_W,TRITUM,TRITUM_FLAG_W,TRITER,HELIUM,HELIUM_FLAG_W,HELIER,DELHE3,DELHE3_FLAG_W,DELHER,NEON,NEON_FLAG_W,NEONER,DELC14,DELC14_FLAG_W,C14ERR,DELC13,DELC13_FLAG_W,CDOM325,CDOM325_FLAG_W,CDOM340,CDOM340_FLAG_W,CDOM380,CDOM380_FLAG_W,CDOM412,CDOM412_FLAG_W,CDOMSL,CDOMSL_FLAG_W,CDOMSN,CDOMSN_FLAG_W,DCNS,DCNS_FLAG_W,ARABI,ARABI_FLAG_W,FUCO,FUCO_FLAG_W,GALA,GALA_FLAG_W,GLUC,GLUC_FLAG_W,MAN,MAN_FLAG_W,RHAM,RHAM_FLAG_W,BRDU,BRDU_FLAG_W,PEUK,PEUK_FLAG_W,PROC,PROC_FLAG_W,SYN,SYN_FLAG_W,THETA,BACT,BACT_FLAG_W,BTL_TIME,BTL_LAT,BTL_LON
,,,,,,,,,,,METERS,DBAR,DBAR,ITS-90,PSS-78,,PSS-78,,UMOL/KG,,UMOL/KG,,UMOL/KG,,UMOL/KG,,UMOL/KG,,UMOL/KG,,PMOL/KG,,PMOL/KG,,PMOL/KG,,PMOL/KG,,UMOL/KG,,UMOL/KG,,UMOL/KG,,UMOL/KG,,TU,,TU,NMOL/KG,,NMOL/KG,PERCNT,,PERCNT,NMOL/KG,,NMOL/KG,/MILLE,,/MILLE,/MILLE,,1/M,,1/M,,1/M,,1/M,,1/NM,,1/NM,,NMOL/KG,,NMOL/KG,,NMOL/KG,,NMOL/KG,,NMOL/KG,,NMOL/KG,,NMOL/KG,,PMOL/L/H,,E6/L,,E7/L,,E6/L,,DEG C,E8/L,,,,
316N200309, A20, 22, 1, 10, 10, 2, 20030930, 0339, 38.1843, -52.4895, 5382,  3219.30,   3219.3,   3.0436,  34.9360, 2,  34.9370, 2,    269.2, 2,    268.1, 2,    18.26, 2,    17.69, 2,     0.00, 2,     1.19, 2,    0.992, 2,    0.483, 2,    0.050, 2, -999.000, 9,   -999.0, 9,   -999.0, 9,  -999.00, 9,  -999.00, 9, -999.000, 9, -999.000, -999.0000, 9, -999.0000,  -999.00, 9,  -999.00, -999.000, 9, -999.000,   -999.0, 9,   -999.0,  -999.00, 9, -999.0000, 9, -999.0000, 9, -999.0000, 9, -999.0000, 9, -999.0000, 9, -999.0000, 9, -999, 9, -999, 9, -999, 9, -999, 9, -999, 9, -999, 9, -999, 9,  -999.00, 9,  -999.00, 9,  -999.00, 9,  -999.00, 9,   2.7685,  -999.00, 9,  433,   38.1893,  -52.4841
316N200309, A20, 22, 1, 9, 9, 2, 20030930, 0339, 38.1843, -52.4895, 5382,  3400.50,   3400.5,   2.8952,  34.9306, 2,  34.9313, 2,    267.0, 2,    268.3, 2,    19.57, 2,    17.73, 2,     0.00, 2,     1.19, 2,    0.880, 2,    0.439, 2,    0.033, 2, -999.000, 9,   -999.0, 9,   -999.0, 9,  -999.00, 9,  -999.00, 9, -999.000, 9, -999.000, -999.0000, 9, -999.0000,  -999.00, 9,  -999.00, -999.000, 9, -999.000,   -999.0, 9,   -999.0,  -999.00, 9, -999.0000, 9, -999.0000, 9, -999.0000, 9, -999.0000, 9, -999.0000, 9, -999.0000, 9, -999, 9, -999, 9, -999, 9, -999, 9, -999, 9, -999, 9, -999, 9,  -999.00, 9,  -999.00, 9,  -999.00, 9,  -999.00, 9,   2.6039,  -999.00, 9,  430,   38.1892,  -52.4843
316N200309, A20, 22, 1, 8, 8, 2, 20030930, 0339, 38.1843, -52.4895, 5382,  3599.20,   3599.2,   2.7421,  34.9235, 2,  34.9242, 2,    268.8, 2,    269.3, 2,    20.99, 2,    17.73, 2,     0.00, 2,     1.19, 2, -999.000, 5, -999.000, 5, -999.000, 5, -999.000, 9,   -999.0, 9,   -999.0, 9,  -999.00, 9,  -999.00, 9, -999.000, 9, -999.000, -999.0000, 9, -999.0000,  -999.00, 9,  -999.00, -999.000, 9, -999.000,   -999.0, 9,   -999.0,  -999.00, 9, -999.0000, 9, -999.0000, 9, -999.0000, 9, -999.0000, 9, -999.0000, 9, -999.0000, 9, -999, 9, -999, 9, -999, 9, -999, 9, -999, 9, -999, 9, -999, 9,  -999.00, 9,  -999.00, 9,  -999.00, 9,  -999.00, 9,   2.4327,  -999.00, 9,  426,   38.1889,  -52.4849
316N200309, A20, 22, 1, 7, 7, 2, 20030930, 0339, 38.1843, -52.4895, 5382,  3802.10,   3802.1,   2.5716,  34.9138, 2,  34.9146, 2,    269.3, 2,    270.1, 2,    22.61, 2,    17.78, 2,     0.00, 2,     1.20, 2,    0.841, 2,    0.418, 2,    0.055, 2, -999.000, 9,   -999.0, 9,   -999.0, 9,  -999.00, 9,  -999.00, 9, -999.000, 9, -999.000, -999.0000, 9, -999.0000,  -999.00, 9,  -999.00, -999.000, 9, -999.000,   -999.0, 9,   -999.0,  -999.00, 9, -999.0000, 9, -999.0000, 9, -999.0000, 9, -999.0000, 9, -999.0000, 9, -999.0000, 9, -999, 9, -999, 9, -999, 9, -999, 9, -999, 9, -999, 9, -999, 9,  -999.00, 9,  -999.00, 9,  -999.00, 9,  -999.00, 9,   2.2439,  -999.00, 9,  421,   38.1885,  -52.4854
316N200309, A20, 22, 1, 6, 6, 2, 20030930, 0339, 38.1843, -52.4895, 5382,  4001.00,   4001.0,   2.4557,  34.9065, 2,  34.9067, 2,    269.2, 2,    269.9, 2,    25.04, 2,    18.02, 2,     0.00, 2,     1.22, 2,    0.746, 2,    0.364, 2,    0.037, 2, -999.000, 9,   -999.0, 9,   -999.0, 9,  -999.00, 9,  -999.00, 9, -999.000, 9, -999.000, -999.0000, 9, -999.0000,  -999.00, 9,  -999.00, -999.000, 9, -999.000,   -999.0, 9,   -999.0,  -999.00, 9,    0.1200, 2,    0.0900, 2,    0.0450, 2,    0.0280, 2,    0.0170, 2,    0.0180, 2, -999, 9, -999, 9, -999, 9, -999, 9, -999, 9, -999, 9, -999, 9,  -999.00, 9,  -999.00, 9,  -999.00, 9,  -999.00, 9,   2.1085,  -999.00, 9,  417,   38.1882,  -52.4858
316N200309, A20, 22, 1, 5, 5, 2, 20030930, 0339, 38.1843, -52.4895, 5382,  4249.80,   4249.8,   2.3573,  34.8982, 2,  34.8985, 2,    268.3, 2,    268.0, 2,    27.88, 2,    18.32, 2,     0.00, 2,     1.25, 2,    0.758, 2,    0.376, 2,    0.048, 2,    1.160, 2,   -999.0, 9,   -999.0, 9,  -999.00, 9,  -999.00, 9, -999.000, 9, -999.000, -999.0000, 9, -999.0000,  -999.00, 9,  -999.00, -999.000, 9, -999.000,   -999.0, 9,   -999.0,  -999.00, 9, -999.0000, 9, -999.0000, 9, -999.0000, 9, -999.0000, 9, -999.0000, 9, -999.0000, 9, -999, 9, -999, 9, -999, 9, -999, 9, -999, 9, -999, 9, -999, 9,  -999.00, 9,  -999.00, 9,  -999.00, 9,  -999.00, 9,   1.9842,  -999.00, 9,  412,   38.1879,  -52.4865
316N200309, A20, 22, 1, 4, 4, 2, 20030930, 0339, 38.1843, -52.4895, 5382,  4501.40,   4501.4,   2.3161,  34.8930, 2,  34.8938, 2,    266.9, 2,    267.3, 2,    29.61, 2,    18.51, 2,     0.00, 2,     1.26, 2,    0.784, 2,    0.388, 2,    0.043, 2, -999.000, 9,   -999.0, 9,   -999.0, 9,  -999.00, 9,  -999.00, 9, -999.000, 9, -999.000, -999.0000, 9, -999.0000,  -999.00, 9,  -999.00, -999.000, 9, -999.000,   -999.0, 9,   -999.0,  -999.00, 9, -999.0000, 9, -999.0000, 9, -999.0000, 9, -999.0000, 9, -999.0000, 9, -999.0000, 9, -999, 9, -999, 9, -999, 9, -999, 9, -999, 9, -999, 9, -999, 9,  -999.00, 9,  -999.00, 9,  -999.00, 9,  -999.00, 9,   1.9143,  -999.00, 9,  407,   38.1874,  -52.4871
316N200309, A20, 22, 1, 3, 3, 2, 20030930, 0339, 38.1843, -52.4895, 5382,  4800.70,   4800.7,   2.2969,  34.8880, 2,  34.8890, 2,    264.6, 2,    265.4, 2,    32.25, 2,    18.95, 2,     0.00, 2,     1.29, 2,    0.717, 2,    0.355, 2,    0.046, 2, -999.000, 9,   -999.0, 9,   -999.0, 9,  -999.00, 9,  -999.00, 9, -999.000, 9, -999.000, -999.0000, 9, -999.0000,  -999.00, 9,  -999.00, -999.000, 9, -999.000,   -999.0, 9,   -999.0,  -999.00, 9, -999.0000, 9, -999.0000, 9, -999.0000, 9, -999.0000, 9, -999.0000, 9, -999.0000, 9, -999, 9, -999, 9, -999, 9, -999, 9, -999, 9, -999, 9, -999, 9,  -999.00, 9,  -999.00, 9,  -999.00, 9,  -999.00, 9,   1.8593,  -999.00, 9,  400,   38.1868,  -52.4879
316N200309, A20, 22, 1, 2, 2, 2, 20030930, 0339, 38.1843, -52.4895, 5382,  5150.20,   5150.2,   2.2932,  34.8827, 2,  34.8855, 2,    262.7, 2,    263.4, 2,    34.90, 2,    19.39, 2,     0.00, 2,     1.33, 2,    0.695, 2,    0.355, 2,    0.043, 2, -999.000, 9,   -999.0, 9,   -999.0, 9,  -999.00, 9,  -999.00, 9, -999.000, 9, -999.000, -999.0000, 9, -999.0000,  -999.00, 9,  -999.00, -999.000, 9, -999.000,   -999.0, 9,   -999.0,  -999.00, 9,    0.1220, 2,    0.0930, 2,    0.0490, 2,    0.0300, 2,    0.0160, 2,    0.0160, 2, -999, 9, -999, 9, -999, 9, -999, 9, -999, 9, -999, 9, -999, 9,  -999.00, 9,  -999.00, 9,  -999.00, 9,  -999.00, 9,   1.8117,  -999.00, 9,  352,   38.1859,  -52.4883
316N200309, A20, 22, 1, 1, 1, 2, 20030930, 0339, 38.1843, -52.4895, 5382,  5474.70,   5474.7,   2.2847,  34.8780, 2,  34.8800, 2,    264.5, 2,    263.9, 2,    34.18, 3,    19.15, 3,     0.00, 2,     1.31, 3,    1.035, 2,    0.529, 2,    0.062, 2, -999.000, 9,   -999.0, 9,   -999.0, 9,  -999.00, 9,  -999.00, 9, -999.000, 9, -999.000, -999.0000, 9, -999.0000,  -999.00, 9,  -999.00, -999.000, 9, -999.000,   -999.0, 9,   -999.0,  -999.00, 9, -999.0000, 9, -999.0000, 9, -999.0000, 9, -999.0000, 9, -999.0000, 9, -999.0000, 9, -999, 9, -999, 9, -999, 9, -999, 9, -999, 9, -999, 9, -999, 9,  -999.00, 9,  -999.00, 9,  -999.00, 9,  -999.00, 9,   1.7614,  -999.00, 9,  340,   38.1844,  -52.4893