BOTTLE,20220816CCHSIOAMB
EXPOCODE,SECT_ID,STNNBR,CASTNO,SAMPNO,BTLNBR,BTLNBR_FLAG_W,DATE,TIME,LATITUDE,LONGITUDE,DEPTH,CTDRAW,CTDPRS,CTDTMP,CTDSAL,CTDSAL_FLAG_W,SALNTY,SALNTY_FLAG_W,CTDOXY,CTDOXY_FLAG_W,OXYGEN,OXYGEN_FLAG_W,SILCAT,SILCAT_FLAG_W,NITRAT,NITRAT_FLAG_W,NITRIT,NITRIT_FLAG_W,PHSPHT,PHSPHT_FLAG_W,CFC-11,CFC-11_FLAG_W,CFC-12,CFC-12_FLAG_W,CFC113,CFC113_FLAG_W,CCL4,CCL4_FLAG_W,TCARBN,TCARBN_FLAG_W,ALKALI,ALKALI_FLAG_W,DOC,DOC_FLAG_W,TDN,TDN_FLAG_W,TRITUM,TRITUM_FLAG_W,TRITER,HELIUM,HELIUM_FLAG_W,HELIER,DELHE3,DELHE3_FLAG_W,DELHER,NEON,NEON_FLAG_W,NEONER,DELC14,DELC14_FLAG_W,C14ERR,DELC13,DELC13_FLAG_W,CDOM325,CDOM325_FLAG_W,CDOM340,CDOM340_FLAG_W,CDOM380,CDOM380_FLAG_W,CDOM412,CDOM412_FLAG_W,CDOMSL,CDOMSL_FLAG_W,CDOMSN,CDOMSN_FLAG_W,DCNS,DCNS_FLAG_W,ARABI,ARABI_FLAG_W,FUCO,FUCO_FLAG_W,GALA,GALA_FLAG_W,GLUC,GLUC_FLAG_W,MAN,MAN_FLAG_W,RHAM,RHAM_FLAG_W,BRDU,BRDU_FLAG_W,PEUK,PEUK_FLAG_W,PROC,PROC_FLAG_W,SYN,SYN_FLAG_W,THETA,BACT,BACT_FLAG_W,BTL_TIME,BTL_LAT,BTL_LON
,,,,,,,,,,,METERS,DBAR,DBAR,ITS-90,PSS-78,,PSS-78,,UMOL/KG,,UMOL/KG,,UMOL/KG,,UMOL/KG,,UMOL/KG,,UMOL/KG,,PMOL/KG,,PMOL/KG,,PMOL/KG,,PMOL/KG,,UMOL/KG,,UMOL/KG,,UMOL/KG,,UMOL/KG,,TU,,TU,NMOL/KG,,NMOL/KG,PERCNT,,PERCNT,NMOL/KG,,NMOL/KG,/MILLE,,/MILLE,/MILLE,,1/M,,1/M,,1/M,,1/M,,1/NM,,1/NM,,NMOL/KG,,NMOL/KG,,NMOL/KG,,NMOL/KG,,NMOL/KG,,NMOL/KG,,NMOL/KG,,PMOL/L/H,,E6/L,,E7/L,,E6/L,,DEG C,E8/L,,,,
316N200309, A20, 44, 1, 10, 10, 2, 20031009, 1758, 21.5170, -52.3427, 4875,  3099.80,   3099.8,   2.6551,  34.9233, 2,  34.9250, 2,    251.0, 2,    251.5, 2,    35.15, 2,    20.49, 2,     0.00, 2,     1.39, 2,    0.026, 2,    0.020, 2,    0.006, 2, -999.000, 9,   2178.6, 2,   2330.7, 2,  -999.00, 9,  -999.00, 9, -999.000, 9, -999.000, -999.0000, 9, -999.0000,  -999.00, 9,  -999.00, -999.000, 9, -999.000,   -999.0, 9,   -999.0,  -999.00, 9, -999.0000, 9, -999.0000, 9, -999.0000, 9, -999.0000, 9, -999.0000, 9, -999.0000, 9, -999, 9, -999, 9, -999, 9, -999, 9, -999, 9, -999, 9, -999, 9,  -999.00, 9,  -999.00, 9,  -999.00, 9,  -999.00, 9,   2.4016,  -999.00, 9, 1840,   21.5237,  -52.3426
316N200309, A20, 44, 1, 9, 9, 2, 20031009, 1758, 21.5170, -52.3427, 4875,  3300.30,   3300.3,   2.5651,  34.9146, 2,  34.9146, 2,    251.0, 2,    251.3, 2,    37.34, 2,    20.72, 2,     0.00, 2,     1.40, 2,    0.013, 2,    0.012, 2,    0.006, 2, -999.000, 9,   2181.4, 2,   2333.1, 2,    39.60, 2,  -999.00, 9, -999.000, 9, -999.000, -999.0000, 9, -999.0000,  -999.00, 9,  -999.00, -999.000, 9, -999.000,   -999.0, 9,   -999.0,  -999.00, 9,    0.1350, 2,    0.0950, 2,    0.0480, 2,    0.0360, 2,    0.0150, 2,    0.0170, 2, -999, 9, -999, 9, -999, 9, -999, 9, -999, 9, -999, 9, -999, 9,  -999.00, 9,  -999.00, 9,  -999.00, 9,  -999.00, 9,   2.2926,  -999.00, 9, 1836,   21.5230,  -52.3425
316N200309, A20, 44, 1, 8, 8, 2, 20031009, 1758, 21.5170, -52.3427, 4875,  3499.70,   3499.7,   2.4499,  34.9036, 2,  34.9042, 2,    251.2, 2,    251.4, 2,    40.05, 2,    21.00, 2,     0.00, 2,     1.42, 2,    0.014, 2,    0.008, 2,    0.005, 2, -999.000, 9,   2184.2, 2,   2334.0, 2,  -999.00, 9,  -999.00, 9, -999.000, 9, -999.000, -999.0000, 9, -999.0000,  -999.00, 9,  -999.00, -999.000, 9, -999.000,   -999.0, 9,   -999.0,  -999.00, 9, -999.0000, 9, -999.0000, 9, -999.0000, 9, -999.0000, 9, -999.0000, 9, -999.0000, 9, -999, 9, -999, 9, -999, 9, -999, 9, -999, 9, -999, 9, -999, 9,  -999.00, 9,  -999.00, 9,  -999.00, 9,  -999.00, 9,   2.1588,  -999.00, 9, 1832,   21.5225,  -52.3425
316N200309, A20, 44, 1, 7, 7, 2, 20031009, 1758, 21.5170, -52.3427, 4875,  3700.10,   3700.1,   2.3672,  34.8956, 2,  34.8961, 2,    251.7, 2,    251.9, 2,    41.91, 2,    21.14, 2,     0.00, 2,     1.44, 2,    0.020, 6,    0.014, 6,    0.003, 6, -999.000, 9,   2185.4, 2,   2335.1, 2,  -999.00, 9,  -999.00, 9, -999.000, 9, -999.000, -999.0000, 9, -999.0000,  -999.00, 9,  -999.00, -999.000, 9, -999.000,   -999.0, 9,   -999.0,  -999.00, 9, -999.0000, 9, -999.0000, 9, -999.0000, 9, -999.0000, 9, -999.0000, 9, -999.0000, 9, -999, 9, -999, 9, -999, 9, -999, 9, -999, 9, -999, 9, -999, 9,  -999.00, 9,  -999.00, 9,  -999.00, 9,  -999.00, 9,   2.0563,  -999.00, 9, 1828,   21.5219,  -52.3426
316N200309, A20, 44, 1, 6, 6, 2, 20031009, 1758, 21.5170, -52.3427, 4875,  3899.90,   3899.9,   2.2704,  34.8862, 2,  34.8941, 3,    252.3, 2,    252.7, 2,    44.10, 2,    21.33, 2,     0.00, 2,     1.45, 2, -999.000, 5, -999.000, 5, -999.000, 5, -999.000, 9,   2188.0, 2,   2336.1, 2,  -999.00, 9,  -999.00, 9, -999.000, 9, -999.000, -999.0000, 9, -999.0000,  -999.00, 9,  -999.00, -999.000, 9, -999.000,   -999.0, 9,   -999.0,  -999.00, 9, -999.0000, 9, -999.0000, 9, -999.0000, 9, -999.0000, 9, -999.0000, 9, -999.0000, 9, -999, 9, -999, 9, -999, 9, -999, 9, -999, 9, -999, 9, -999, 9,  -999.00, 9,  -999.00, 9,  -999.00, 9,  -999.00, 9,   1.9399,  -999.00, 9, 1824,   21.5212,  -52.3426
316N200309, A20, 44, 1, 5, 5, 2, 20031009, 1758, 21.5170, -52.3427, 4875,  4123.80,   4123.8,   2.2097,  34.8785, 2,  34.8790, 2,    251.9, 2,    251.3, 2,    46.51, 2,    21.61, 2,     0.00, 2,     1.47, 2,    0.032, 2,    0.023, 2,    0.002, 2, -999.000, 9,   2190.4, 2,   2338.0, 2,    40.50, 2,  -999.00, 9, -999.000, 9, -999.000, -999.0000, 9, -999.0000,  -999.00, 9,  -999.00, -999.000, 9, -999.000,   -999.0, 9,   -999.0,  -999.00, 9,    0.1250, 2,    0.0880, 2,    0.0430, 2,    0.0300, 2,    0.0170, 2,    0.0190, 2, -999, 9, -999, 9, -999, 9, -999, 9, -999, 9, -999, 9, -999, 9,  -999.00, 9,  -999.00, 9,  -999.00, 9,  -999.00, 9,   1.8556,  -999.00, 9, 1819,   21.5204,  -52.3426
316N200309, A20, 44, 1, 4, 4, 2, 20031009, 1758, 21.5170, -52.3427, 4875,  4373.60,   4373.6,   2.1580,  34.8716, 2,  34.8721, 2,    251.6, 2,    251.3, 2,    48.28, 2,    21.71, 2,     0.00, 2,     1.49, 2,    0.017, 2,    0.017, 2,    0.002, 2, -999.000, 9,   2192.5, 2,   2338.3, 2,  -999.00, 9,  -999.00, 9, -999.000, 9, -999.000, -999.0000, 9, -999.0000,  -999.00, 9,  -999.00, -999.000, 9, -999.000,   -999.0, 9,   -999.0,  -999.00, 9, -999.0000, 9, -999.0000, 9, -999.0000, 9, -999.0000, 9, -999.0000, 9, -999.0000, 9, -999, 9, -999, 9, -999, 9, -999, 9, -999, 9, -999, 9, -999, 9,  -999.00, 9,  -999.00, 9,  -999.00, 9,  -999.00, 9,   1.7764,  -999.00, 9, 1814,   21.5197,  -52.3426
316N200309, A20, 44, 1, 3, 3, 2, 20031009, 1758, 21.5170, -52.3427, 4875,  4598.60,   4598.6,   2.1244,  34.8659, 2,  34.8656, 2,    251.0, 2,    250.9, 2,    49.94, 2,    21.90, 2,     0.00, 2,     1.50, 2,    0.022, 2,    0.019, 2,    0.008, 2, -999.000, 9,   2194.5, 2,   2339.6, 2,  -999.00, 9,  -999.00, 9, -999.000, 9, -999.000, -999.0000, 9, -999.0000,  -999.00, 9,  -999.00, -999.000, 9, -999.000,   -999.0, 9,   -999.0,  -999.00, 9, -999.0000, 9, -999.0000, 9, -999.0000, 9, -999.0000, 9, -999.0000, 9, -999.0000, 9, -999, 9, -999, 9, -999, 9, -999, 9, -999, 9, -999, 9, -999, 9,  -999.00, 9,  -999.00, 9,  -999.00, 9,  -999.00, 9,   1.7170,  -999.00, 9, 1810,   21.5189,  -52.3426
316N200309, A20, 44, 1, 2, 2, 2, 20031009, 1758, 21.5170, -52.3427, 4875,  4799.40,   4799.4,   2.0932,  34.8602, 2,  34.8603, 2,    250.6, 2,    250.3, 2,    51.72, 2,    22.18, 2,     0.00, 2,     1.52, 2,    0.038, 2,    0.024, 2,    0.005, 2, -999.000, 9,   2196.0, 2,   2340.4, 2,    39.50, 2,  -999.00, 9, -999.000, 9, -999.000, -999.0000, 9, -999.0000,  -999.00, 9,  -999.00, -999.000, 9, -999.000,   -999.0, 9,   -999.0,  -999.00, 9,    0.1680, 2,    0.1230, 2,    0.0620, 2,    0.0420, 2,    0.0150, 2,    0.0170, 2, -999, 9, -999, 9, -999, 9, -999, 9, -999, 9, -999, 9, -999, 9,  -999.00, 9,  -999.00, 9,  -999.00, 9,  -999.00, 9,   1.6626,  -999.00, 9, 1805,   21.5180,  -52.3427
316N200309, A20, 44, 1, 1, 1, 2, 20031009, 1758, 21.5170, -52.3427, 4875,  4969.00,   4969.0,   2.0616,  34.8546, 2,  34.8572, 2,    250.4, 2,    249.9, 2,    53.38, 2,    22.41, 2,     0.00, 2,     1.52, 2,    0.050, 2,    0.029, 2,    0.006, 2, -999.000, 9,   2199.5, 2,   2341.1, 2,    39.90, 2,  -999.00, 9, -999.000, 9, -999.000, -999.0000, 9, -999.0000,  -999.00, 9,  -999.00, -999.000, 9, -999.000,   -999.0, 9,   -999.0,  -999.00, 9,    0.1370, 2,    0.0960, 2,    0.0460, 2,    0.0360, 2,    0.0140, 2,    0.0170, 2, -999, 9, -999, 9, -999, 9, -999, 9, -999, 9, -999, 9, -999, 9,  -999.00, 9,  -999.00, 9,  -999.00, 9,  -999.00, 9,   1.6110,  -999.00, 9, 1759,   21.5171,  -52.3427