BOTTLE,20220816CCHSIOAMB
EXPOCODE,SECT_ID,STNNBR,CASTNO,SAMPNO,BTLNBR,BTLNBR_FLAG_W,DATE,TIME,LATITUDE,LONGITUDE,DEPTH,CTDRAW,CTDPRS,CTDTMP,CTDSAL,CTDSAL_FLAG_W,SALNTY,SALNTY_FLAG_W,CTDOXY,CTDOXY_FLAG_W,OXYGEN,OXYGEN_FLAG_W,SILCAT,SILCAT_FLAG_W,NITRAT,NITRAT_FLAG_W,NITRIT,NITRIT_FLAG_W,PHSPHT,PHSPHT_FLAG_W,CFC-11,CFC-11_FLAG_W,CFC-12,CFC-12_FLAG_W,CFC113,CFC113_FLAG_W,CCL4,CCL4_FLAG_W,TCARBN,TCARBN_FLAG_W,ALKALI,ALKALI_FLAG_W,DOC,DOC_FLAG_W,TDN,TDN_FLAG_W,TRITUM,TRITUM_FLAG_W,TRITER,HELIUM,HELIUM_FLAG_W,HELIER,DELHE3,DELHE3_FLAG_W,DELHER,NEON,NEON_FLAG_W,NEONER,DELC14,DELC14_FLAG_W,C14ERR,DELC13,DELC13_FLAG_W,CDOM325,CDOM325_FLAG_W,CDOM340,CDOM340_FLAG_W,CDOM380,CDOM380_FLAG_W,CDOM412,CDOM412_FLAG_W,CDOMSL,CDOMSL_FLAG_W,CDOMSN,CDOMSN_FLAG_W,DCNS,DCNS_FLAG_W,ARABI,ARABI_FLAG_W,FUCO,FUCO_FLAG_W,GALA,GALA_FLAG_W,GLUC,GLUC_FLAG_W,MAN,MAN_FLAG_W,RHAM,RHAM_FLAG_W,BRDU,BRDU_FLAG_W,PEUK,PEUK_FLAG_W,PROC,PROC_FLAG_W,SYN,SYN_FLAG_W,THETA,BACT,BACT_FLAG_W,BTL_TIME,BTL_LAT,BTL_LON
,,,,,,,,,,,METERS,DBAR,DBAR,ITS-90,PSS-78,,PSS-78,,UMOL/KG,,UMOL/KG,,UMOL/KG,,UMOL/KG,,UMOL/KG,,UMOL/KG,,PMOL/KG,,PMOL/KG,,PMOL/KG,,PMOL/KG,,UMOL/KG,,UMOL/KG,,UMOL/KG,,UMOL/KG,,TU,,TU,NMOL/KG,,NMOL/KG,PERCNT,,PERCNT,NMOL/KG,,NMOL/KG,/MILLE,,/MILLE,/MILLE,,1/M,,1/M,,1/M,,1/M,,1/NM,,1/NM,,NMOL/KG,,NMOL/KG,,NMOL/KG,,NMOL/KG,,NMOL/KG,,NMOL/KG,,NMOL/KG,,PMOL/L/H,,E6/L,,E7/L,,E6/L,,DEG C,E8/L,,,,
316N200309, A20, 19, 1, 10, 10, 2, 20030929, 0828, 39.1463, -52.1658, 5327,  3301.10,   3301.1,   2.7402,  34.9258, 2,  34.9254, 2,    267.2, 2,    268.3, 2,    20.67, 2,    18.03, 2,     0.00, 2,     1.21, 2,    0.692, 2,    0.372, 2,    0.028, 2,    1.155, 2,   2173.1, 3,   2313.3, 2,    43.90, 2,  -999.00, 9, -999.000, 9, -999.000, -999.0000, 9, -999.0000,  -999.00, 9,  -999.00, -999.000, 9, -999.000,   -999.0, 9,   -999.0,  -999.00, 9,    0.1290, 2,    0.0940, 2,    0.0480, 2,    0.0380, 3,    0.0130, 3,    0.0160, 3, -999, 9, -999, 9, -999, 9, -999, 9, -999, 9, -999, 9, -999, 9,  -999.00, 9,  -999.00, 9,  -999.00, 9,  -999.00, 9,   2.4634,  -999.00, 9,  915,   39.1367,  -52.1501
316N200309, A20, 19, 1, 9, 9, 2, 20030929, 0828, 39.1463, -52.1658, 5327,  3500.10,   3500.1,   2.5743,  34.9160, 2,  34.9156, 2,    268.6, 2,    269.7, 2,    22.30, 2,    18.14, 2,     0.00, 2,     1.21, 2,    0.754, 2,    0.388, 2,    0.035, 2,    1.268, 2,   2169.7, 2,   2313.8, 2,  -999.00, 9,  -999.00, 9, -999.000, 9, -999.000, -999.0000, 9, -999.0000,  -999.00, 9,  -999.00, -999.000, 9, -999.000,   -999.0, 9,   -999.0,  -999.00, 9, -999.0000, 9, -999.0000, 9, -999.0000, 9, -999.0000, 9, -999.0000, 9, -999.0000, 9, -999, 9, -999, 9, -999, 9, -999, 9, -999, 9, -999, 9, -999, 9,  -999.00, 9,  -999.00, 9,  -999.00, 9,  -999.00, 9,   2.2801,  -999.00, 9,  910,   39.1376,  -52.1516
316N200309, A20, 19, 1, 8, 8, 2, 20030929, 0828, 39.1463, -52.1658, 5327,  3699.30,   3699.3,   2.4556,  34.9081, 2,  34.9081, 2,    269.3, 2,    269.7, 2,    23.82, 2,    18.15, 2,     0.00, 2,     1.22, 2,    0.794, 2,    0.405, 2,    0.036, 2,    1.295, 2,   2170.5, 3,   2315.4, 2,  -999.00, 9,  -999.00, 9, -999.000, 9, -999.000, -999.0000, 9, -999.0000,  -999.00, 9,  -999.00, -999.000, 9, -999.000,   -999.0, 9,   -999.0,  -999.00, 9, -999.0000, 9, -999.0000, 9, -999.0000, 9, -999.0000, 9, -999.0000, 9, -999.0000, 9, -999, 9, -999, 9, -999, 9, -999, 9, -999, 9, -999, 9, -999, 9,  -999.00, 9,  -999.00, 9,  -999.00, 9,  -999.00, 9,   2.1425,  -999.00, 9,  906,   39.1384,  -52.1530
316N200309, A20, 19, 1, 7, 7, 2, 20030929, 0828, 39.1463, -52.1658, 5327,  3899.50,   3899.5,   2.3715,  34.9016, 2,  34.9018, 2,    269.3, 2,    269.6, 2,    25.55, 2,    18.26, 2,     0.00, 2,     1.23, 2,    0.830, 2,    0.432, 2,    0.040, 2,    1.337, 2,   2169.8, 2,   2315.1, 2,  -999.00, 9,  -999.00, 9, -999.000, 9, -999.000, -999.0000, 9, -999.0000,  -999.00, 9,  -999.00, -999.000, 9, -999.000,   -999.0, 9,   -999.0,  -999.00, 9, -999.0000, 9, -999.0000, 9, -999.0000, 9, -999.0000, 9, -999.0000, 9, -999.0000, 9, -999, 9, -999, 9, -999, 9, -999, 9, -999, 9, -999, 9, -999, 9,  -999.00, 9,  -999.00, 9,  -999.00, 9,  -999.00, 9,   2.0382,  -999.00, 9,  902,   39.1394,  -52.1544
316N200309, A20, 19, 1, 6, 6, 2, 20030929, 0828, 39.1463, -52.1658, 5327,  4099.00,   4099.0,   2.3160,  34.8962, 2,  34.8965, 2,    269.1, 2,    268.6, 2,    27.51, 2,    18.42, 2,     0.00, 2,     1.25, 2,    0.820, 2,    0.421, 2,    0.042, 2,    1.294, 2,   2181.4, 3,   2320.0, 2,    42.90, 2,  -999.00, 9, -999.000, 9, -999.000, -999.0000, 9, -999.0000,  -999.00, 9,  -999.00, -999.000, 9, -999.000,   -999.0, 9,   -999.0,  -999.00, 9,    0.1370, 2,    0.0970, 2,    0.0490, 2,    0.0350, 2,    0.0150, 3,    0.0170, 3, -999, 9, -999, 9, -999, 9, -999, 9, -999, 9, -999, 9, -999, 9,  -999.00, 9,  -999.00, 9,  -999.00, 9,  -999.00, 9,   1.9616,  -999.00, 9,  858,   39.1404,  -52.1558
316N200309, A20, 19, 1, 5, 5, 2, 20030929, 0828, 39.1463, -52.1658, 5327,  4298.00,   4298.0,   2.2875,  34.8925, 2,  34.8924, 2,    268.5, 2,    267.8, 2,    29.24, 2,    18.62, 2,     0.00, 2,     1.26, 2,    0.798, 2,    0.420, 2,    0.042, 2,    1.270, 2,   2173.8, 2,   2319.7, 2,  -999.00, 9,  -999.00, 9, -999.000, 9, -999.000, -999.0000, 9, -999.0000,  -999.00, 9,  -999.00, -999.000, 9, -999.000,   -999.0, 9,   -999.0,  -999.00, 9, -999.0000, 9, -999.0000, 9, -999.0000, 9, -999.0000, 9, -999.0000, 9, -999.0000, 9, -999, 9, -999, 9, -999, 9, -999, 9, -999, 9, -999, 9, -999, 9,  -999.00, 9,  -999.00, 9,  -999.00, 9,  -999.00, 9,   1.9108,  -999.00, 9,  854,   39.1413,  -52.1572
316N200309, A20, 19, 1, 4, 4, 2, 20030929, 0828, 39.1463, -52.1658, 5327,  4648.40,   4648.4,   2.2693,  34.8873, 2,  34.8877, 2,    267.3, 2,    266.4, 2,    31.71, 2,    18.93, 2,     0.00, 2,     1.29, 2,    0.786, 2,    0.410, 2,    0.043, 2,    1.233, 2,   2185.2, 3,   2321.8, 2,  -999.00, 9,  -999.00, 9, -999.000, 9, -999.000, -999.0000, 9, -999.0000,  -999.00, 9,  -999.00, -999.000, 9, -999.000,   -999.0, 9,   -999.0,  -999.00, 9, -999.0000, 9, -999.0000, 9, -999.0000, 9, -999.0000, 9, -999.0000, 9, -999.0000, 9, -999, 9, -999, 9, -999, 9, -999, 9, -999, 9, -999, 9, -999, 9,  -999.00, 9,  -999.00, 9,  -999.00, 9,  -999.00, 9,   1.8512,  -999.00, 9,  847,   39.1424,  -52.1598
316N200309, A20, 19, 1, 3, 3, 2, 20030929, 0828, 39.1463, -52.1658, 5327,  4895.70,   4895.7,   2.2641,  34.8836, 2,  34.8831, 2,    266.3, 2,    265.0, 2,    33.47, 2,    19.19, 2,     0.00, 2,     1.31, 2,    0.788, 2,    0.409, 2,    0.050, 2,    1.177, 2,   2181.0, 2,   2323.6, 2,  -999.00, 9,  -999.00, 9, -999.000, 9, -999.000, -999.0000, 9, -999.0000,  -999.00, 9,  -999.00, -999.000, 9, -999.000,   -999.0, 9,   -999.0,  -999.00, 9, -999.0000, 9, -999.0000, 9, -999.0000, 9, -999.0000, 9, -999.0000, 9, -999.0000, 9, -999, 9, -999, 9, -999, 9, -999, 9, -999, 9, -999, 9, -999, 9,  -999.00, 9,  -999.00, 9,  -999.00, 9,  -999.00, 9,   1.8158,  -999.00, 9,  841,   39.1433,  -52.1618
316N200309, A20, 19, 1, 2, 2, 2, 20030929, 0828, 39.1463, -52.1658, 5327,  5148.20,   5148.2,   2.2717,  34.8810, 2,  34.8818, 2,    265.9, 2,    264.9, 2,    34.07, 2,    19.20, 2,     0.00, 2,     1.31, 2,    0.857, 2,    0.431, 2,    0.044, 2,    1.218, 2,   2185.5, 2,   2323.4, 2,    42.20, 2,  -999.00, 9, -999.000, 9, -999.000, -999.0000, 9, -999.0000,  -999.00, 9,  -999.00, -999.000, 9, -999.000,   -999.0, 9,   -999.0,  -999.00, 9,    0.1330, 2,    0.0950, 2,    0.0450, 2,    0.0340, 2,    0.0160, 2,    0.0180, 2, -999, 9, -999, 9, -999, 9, -999, 9, -999, 9, -999, 9, -999, 9,  -999.00, 9,  -999.00, 9,  -999.00, 9,  -999.00, 9,   1.7912,  -999.00, 9,  836,   39.1446,  -52.1636
316N200309, A20, 19, 1, 1, 1, 2, 20030929, 0828, 39.1463, -52.1658, 5327,  5418.20,   5418.2,   2.2569,  34.8737, 2,  34.8741, 2,    261.6, 2,    543.5, 3,    40.51, 2,    20.24, 2,     0.01, 2,     1.41, 2,    0.523, 2,    0.278, 2,    0.029, 2,    0.796, 2,   2188.4, 2,   2335.2, 2,    42.20, 2,  -999.00, 9, -999.000, 9, -999.000, -999.0000, 9, -999.0000,  -999.00, 9,  -999.00, -999.000, 9, -999.000,   -999.0, 9,   -999.0,  -999.00, 9, -999.0000, 9, -999.0000, 9, -999.0000, 9, -999.0000, 9, -999.0000, 9, -999.0000, 9, -999, 9, -999, 9, -999, 9, -999, 9, -999, 9, -999, 9, -999, 9,  -999.00, 9,  -999.00, 9,  -999.00, 9,  -999.00, 9,   1.7421,  -999.00, 9,  829,   39.1461,  -52.1656