BOTTLE,20220816CCHSIOAMB
EXPOCODE,SECT_ID,STNNBR,CASTNO,SAMPNO,BTLNBR,BTLNBR_FLAG_W,DATE,TIME,LATITUDE,LONGITUDE,DEPTH,CTDRAW,CTDPRS,CTDTMP,CTDSAL,CTDSAL_FLAG_W,SALNTY,SALNTY_FLAG_W,CTDOXY,CTDOXY_FLAG_W,OXYGEN,OXYGEN_FLAG_W,SILCAT,SILCAT_FLAG_W,NITRAT,NITRAT_FLAG_W,NITRIT,NITRIT_FLAG_W,PHSPHT,PHSPHT_FLAG_W,CFC-11,CFC-11_FLAG_W,CFC-12,CFC-12_FLAG_W,CFC113,CFC113_FLAG_W,CCL4,CCL4_FLAG_W,TCARBN,TCARBN_FLAG_W,ALKALI,ALKALI_FLAG_W,DOC,DOC_FLAG_W,TDN,TDN_FLAG_W,TRITUM,TRITUM_FLAG_W,TRITER,HELIUM,HELIUM_FLAG_W,HELIER,DELHE3,DELHE3_FLAG_W,DELHER,NEON,NEON_FLAG_W,NEONER,DELC14,DELC14_FLAG_W,C14ERR,DELC13,DELC13_FLAG_W,CDOM325,CDOM325_FLAG_W,CDOM340,CDOM340_FLAG_W,CDOM380,CDOM380_FLAG_W,CDOM412,CDOM412_FLAG_W,CDOMSL,CDOMSL_FLAG_W,CDOMSN,CDOMSN_FLAG_W,DCNS,DCNS_FLAG_W,ARABI,ARABI_FLAG_W,FUCO,FUCO_FLAG_W,GALA,GALA_FLAG_W,GLUC,GLUC_FLAG_W,MAN,MAN_FLAG_W,RHAM,RHAM_FLAG_W,BRDU,BRDU_FLAG_W,PEUK,PEUK_FLAG_W,PROC,PROC_FLAG_W,SYN,SYN_FLAG_W,THETA,BACT,BACT_FLAG_W,BTL_TIME,BTL_LAT,BTL_LON
,,,,,,,,,,,METERS,DBAR,DBAR,ITS-90,PSS-78,,PSS-78,,UMOL/KG,,UMOL/KG,,UMOL/KG,,UMOL/KG,,UMOL/KG,,UMOL/KG,,PMOL/KG,,PMOL/KG,,PMOL/KG,,PMOL/KG,,UMOL/KG,,UMOL/KG,,UMOL/KG,,UMOL/KG,,TU,,TU,NMOL/KG,,NMOL/KG,PERCNT,,PERCNT,NMOL/KG,,NMOL/KG,/MILLE,,/MILLE,/MILLE,,1/M,,1/M,,1/M,,1/M,,1/NM,,1/NM,,NMOL/KG,,NMOL/KG,,NMOL/KG,,NMOL/KG,,NMOL/KG,,NMOL/KG,,NMOL/KG,,PMOL/L/H,,E6/L,,E7/L,,E6/L,,DEG C,E8/L,,,,
316N200309, A20, 64, 1, 36, 36, 2, 20031015, 1410, 9.3990, -52.3665, 4814,     3.00,      3.0,  28.7629,  34.3426, 2,  34.3276, 2,    187.9, 2,    195.5, 2,     4.70, 2,     0.09, 2,     0.00, 2,     0.05, 2,    1.632, 2,    1.008, 2,    0.141, 2, -999.000, 9,   1924.6, 2,   2263.7, 2,    73.90, 2,     5.50, 2, -999.000, 9, -999.000, -999.0000, 9, -999.0000,  -999.00, 9,  -999.00, -999.000, 9, -999.000,   -999.0, 9,   -999.0,  -999.00, 9,    0.3000, 2,    0.2140, 2,    0.0950, 2,    0.0540, 2,    0.0190, 2,    0.0200, 2, 2725, 4, 107, 2, 393, 2, 500, 2, 737, 2, 732, 2, 255, 2,     0.25, 2,  -999.00, 9,  -999.00, 9,  -999.00, 9,  28.7621,  -999.00, 9, 1609,    9.4135,  -52.3663
316N200309, A20, 64, 1, 35, 35, 2, 20031015, 1410, 9.3990, -52.3665, 4814,    24.70,     24.7,  28.1533,  35.9147, 2,  35.9080, 2,    189.3, 2,    197.8, 2,     1.91, 2,     0.09, 2,     0.00, 2,     0.07, 2,    1.643, 2,    1.027, 2,    0.136, 2, -999.000, 9,   2015.2, 2,   2354.2, 2,    68.40, 2,     5.20, 2, -999.000, 9, -999.000, -999.0000, 9, -999.0000,  -999.00, 9,  -999.00, -999.000, 9, -999.000,   -999.0, 9,   -999.0,  -999.00, 9,    0.1480, 2,    0.1030, 2,    0.0430, 2,    0.0260, 2,    0.0210, 2,    0.0220, 2, -999, 9, -999, 9, -999, 9, -999, 9, -999, 9, -999, 9, -999, 9,     0.43, 2,     1.53, 2,    15.93, 2,    14.66, 2,  28.1474,     4.27, 2, 1608,    9.4133,  -52.3665
316N200309, A20, 64, 1, 34, 34, 2, 20031015, 1410, 9.3990, -52.3665, 4814,    54.80,     54.8,  26.6821,  36.1948, 2,  36.1860, 2,    176.9, 2,    183.0, 2,     2.29, 2,     0.98, 2,     0.24, 2,     0.17, 2,    1.711, 2,    1.061, 2,    0.137, 2, -999.000, 9,   2049.2, 2,   2369.1, 2,    64.30, 2,     6.70, 2, -999.000, 9, -999.000, -999.0000, 9, -999.0000,  -999.00, 9,  -999.00, -999.000, 9, -999.000,   -999.0, 9,   -999.0,  -999.00, 9,    0.1290, 2,    0.0920, 2,    0.0430, 2,    0.0320, 2,    0.0160, 2,    0.0190, 2, 1000, 4, 51, 2, 144, 2, 191, 2, 255, 2, 270, 2, 88, 2,     0.45, 2,     5.78, 2,     7.45, 2,    11.93, 2,  26.6696,     4.23, 2, 1606,    9.4129,  -52.3666
316N200309, A20, 64, 1, 33, 33, 2, 20031015, 1410, 9.3990, -52.3665, 4814,    74.50,     74.5,  24.9860,  36.3583, 2,  36.3629, 2,    162.6, 2,    166.5, 2,     2.68, 2,     3.19, 2,     0.05, 2,     0.27, 2,    1.806, 2,    1.098, 2,    0.120, 2, -999.000, 9,   2082.5, 2,   2379.2, 2,    61.60, 2,     7.00, 2, -999.000, 9, -999.000, -999.0000, 9, -999.0000,  -999.00, 9,  -999.00, -999.000, 9, -999.000,   -999.0, 9,   -999.0,  -999.00, 9,    0.1330, 2,    0.0970, 2,    0.0470, 2,    0.0350, 2,    0.0150, 2,    0.0170, 2, 1129, 4, 38, 2, 103, 2, 146, 2, 626, 2, 154, 2, 63, 2,     0.33, 2,     0.90, 2,     1.21, 2,     0.57, 2,  24.9698,     3.28, 2, 1604,    9.4126,  -52.3668
316N200309, A20, 64, 1, 32, 32, 2, 20031015, 1410, 9.3990, -52.3665, 4814,    99.70,     99.7,  22.2488,  36.5950, 2,  36.5892, 2,    152.7, 2,    155.5, 2,     2.14, 2,     5.64, 2,     0.03, 2,     0.39, 2,    1.990, 2,    1.177, 2,    0.103, 2, -999.000, 9,   2123.7, 2,   2390.5, 2,    57.60, 2,    10.40, 2, -999.000, 9, -999.000, -999.0000, 9, -999.0000,  -999.00, 9,  -999.00, -999.000, 9, -999.000,   -999.0, 9,   -999.0,  -999.00, 9,    0.1450, 2,    0.1050, 2,    0.0530, 2,    0.0410, 2,    0.0140, 2,    0.0160, 2, 887, 4, 83, 2, 92, 2, 130, 2, 294, 2, 223, 2, 64, 2,     0.34, 2,     0.22, 2,     0.52, 2,     0.03, 2,  22.2288,     2.12, 2, 1603,    9.4124,  -52.3669
316N200309, A20, 64, 1, 31, 31, 2, 20031015, 1410, 9.3990, -52.3665, 4814,   125.50,    125.5,  18.5101,  36.2723, 2,  36.3105, 2,    136.7, 2,    139.2, 2,     3.64, 2,    11.10, 2,     0.02, 2,     0.68, 2, -999.000, 5, -999.000, 5, -999.000, 5, -999.000, 9,   2154.7, 2,   2374.5, 2,    50.40, 2,    15.00, 2, -999.000, 9, -999.000, -999.0000, 9, -999.0000,  -999.00, 9,  -999.00, -999.000, 9, -999.000,   -999.0, 9,   -999.0,  -999.00, 9,    0.1250, 2,    0.0900, 2,    0.0450, 2,    0.0350, 2,    0.0150, 2,    0.0170, 2, -999, 9, -999, 9, -999, 9, -999, 9, -999, 9, -999, 9, -999, 9,     0.31, 2,     0.06, 2,     0.06, 2,     0.05, 2,  18.4880,     1.57, 2, 1601,    9.4122,  -52.3671
316N200309, A20, 64, 1, 30, 30, 2, 20031015, 1410, 9.3990, -52.3665, 4814,   174.00,    174.0,  11.7673,  35.1920, 2,  35.1928, 2,    147.0, 2,    146.0, 2,     8.94, 2,    20.44, 2,     0.01, 2,     1.35, 2,    1.856, 2,    0.993, 2,    0.038, 2, -999.000, 9,   2170.7, 2,   2316.4, 2,    45.70, 2,    24.90, 3, -999.000, 9, -999.000, -999.0000, 9, -999.0000,  -999.00, 9,  -999.00, -999.000, 9, -999.000,   -999.0, 9,   -999.0,  -999.00, 9,    0.1140, 2,    0.0810, 2,    0.0420, 2,    0.0340, 2,    0.0140, 2,    0.0160, 2, 438, 4, 60, 2, 54, 2, 95, 2, 88, 2, 106, 2, 36, 2,     0.18, 2,     1.15, 2,     3.77, 2,     6.17, 2,  11.7449,     0.03, 2, 1559,    9.4119,  -52.3672
316N200309, A20, 64, 1, 29, 29, 2, 20031015, 1410, 9.3990, -52.3665, 4814,   224.90,    224.9,  10.9494,  35.1248, 2,  35.1256, 2,    128.7, 2,    126.6, 2,    10.56, 2,    23.80, 2,     0.01, 2,     1.53, 2,    1.541, 2,    0.816, 2,    0.018, 2, -999.000, 9,   2186.0, 2,   2312.8, 2,    46.80, 2,    28.50, 4, -999.000, 9, -999.000, -999.0000, 9, -999.0000,  -999.00, 9,  -999.00, -999.000, 9, -999.000,   -999.0, 9,   -999.0,  -999.00, 9,    0.1840, 2,    0.1410, 2,    0.0790, 2,    0.0620, 3,    0.0120, 3,    0.0130, 3, -999, 9, -999, 9, -999, 9, -999, 9, -999, 9, -999, 9, -999, 9,     0.19, 2,  -999.00, 9,  -999.00, 9,  -999.00, 9,  10.9217,  -999.00, 9, 1558,    9.4117,  -52.3674
316N200309, A20, 64, 1, 28, 28, 2, 20031015, 1410, 9.3990, -52.3665, 4814,   300.40,    300.4,   9.7017,  34.9416, 2,  34.9400, 2,    120.7, 2,    122.5, 2,    12.80, 2,    26.72, 2,     0.00, 2,     1.72, 2,    1.271, 2,    0.666, 2,    0.022, 2, -999.000, 9,   2193.6, 2,   2305.4, 2,    44.70, 2,    32.10, 4, -999.000, 9, -999.000, -999.0000, 9, -999.0000,  -999.00, 9,  -999.00, -999.000, 9, -999.000,   -999.0, 9,   -999.0,  -999.00, 9,    0.1340, 2,    0.0960, 2,    0.0530, 2,    0.0430, 2,    0.0120, 2,    0.0140, 2, 417, 4, 23, 2, 47, 2, 68, 2, 133, 2, 107, 2, 39, 2,  -999.00, 9,  -999.00, 9,  -999.00, 9,  -999.00, 9,   9.6673,  -999.00, 9, 1555,    9.4113,  -52.3676
316N200309, A20, 64, 1, 27, 27, 2, 20031015, 1410, 9.3990, -52.3665, 4814,   374.40,    374.4,   8.6537,  34.7972, 2,  34.7962, 2,    127.3, 2,    134.8, 2,    14.74, 2,    27.78, 2,     0.00, 2,     1.80, 2,    1.190, 2,    0.613, 2,    0.041, 2, -999.000, 9,   2194.7, 2,   2300.5, 2,    43.10, 2,  -999.00, 9, -999.000, 9, -999.000, -999.0000, 9, -999.0000,  -999.00, 9,  -999.00, -999.000, 9, -999.000,   -999.0, 9,   -999.0,  -999.00, 9,    0.1280, 2,    0.0910, 2,    0.0510, 2,    0.0430, 2,    0.0120, 2,    0.0140, 2, -999, 9, -999, 9, -999, 9, -999, 9, -999, 9, -999, 9, -999, 9,  -999.00, 9,  -999.00, 9,  -999.00, 9,  -999.00, 9,   8.6136,  -999.00, 9, 1553,    9.4109,  -52.3678
316N200309, A20, 64, 1, 26, 26, 2, 20031015, 1410, 9.3990, -52.3665, 4814,   475.90,    475.9,   7.6438,  34.6926, 2,  34.6908, 2,    130.1, 2,    129.8, 2,    17.81, 2,    30.45, 2,     0.00, 2,     1.97, 2,    0.879, 2,    0.460, 2,    0.019, 2, -999.000, 9,   2205.0, 2,   2296.8, 2,    43.00, 2,  -999.00, 9, -999.000, 9, -999.000, -999.0000, 9, -999.0000,  -999.00, 9,  -999.00, -999.000, 9, -999.000,   -999.0, 9,   -999.0,  -999.00, 9,    0.1300, 2,    0.0920, 2,    0.0520, 2,    0.0420, 2,    0.0120, 2,    0.0140, 2, -999, 9, -999, 9, -999, 9, -999, 9, -999, 9, -999, 9, -999, 9,  -999.00, 9,  -999.00, 9,  -999.00, 9,  -999.00, 9,   7.5963,  -999.00, 9, 1550,    9.4105,  -52.3680
316N200309, A20, 64, 1, 25, 25, 2, 20031015, 1410, 9.3990, -52.3665, 4814,   575.10,    575.1,   6.3773,  34.5939, 2,  34.5912, 2,    130.3, 2,    131.8, 2,    22.25, 2,    32.91, 2,     0.00, 2,     2.12, 2,    0.494, 2,    0.266, 2,    0.039, 2, -999.000, 9,   2212.7, 2,   2297.8, 2,    42.80, 2,  -999.00, 9, -999.000, 9, -999.000, -999.0000, 9, -999.0000,  -999.00, 9,  -999.00, -999.000, 9, -999.000,   -999.0, 9,   -999.0,  -999.00, 9,    0.1820, 2,    0.1330, 2,    0.0750, 2,    0.0640, 3,    0.0110, 3,    0.0130, 3, 324, 4, 16, 2, 40, 2, 65, 2, 125, 2, 61, 2, 17, 2,  -999.00, 9,  -999.00, 9,  -999.00, 9,  -999.00, 9,   6.3250,  -999.00, 9, 1548,    9.4102,  -52.3682
316N200309, A20, 64, 1, 24, 24, 2, 20031015, 1410, 9.3990, -52.3665, 4814,   674.70,    674.7,   6.2527,  34.6547, 2,  34.6523, 2,    120.7, 2,    121.2, 2,    23.68, 2,    33.93, 2,     0.00, 2,     2.18, 2,    0.206, 2,    0.116, 2,    0.009, 2, -999.000, 9,   2221.7, 2,   2300.6, 2,    42.10, 2,  -999.00, 9, -999.000, 9, -999.000, -999.0000, 9, -999.0000,  -999.00, 9,  -999.00, -999.000, 9, -999.000,   -999.0, 9,   -999.0,  -999.00, 9,    0.1440, 2,    0.1030, 2,    0.0590, 2,    0.0490, 2,    0.0110, 2,    0.0130, 2, -999, 9, -999, 9, -999, 9, -999, 9, -999, 9, -999, 9, -999, 9,  -999.00, 9,  -999.00, 9,  -999.00, 9,  -999.00, 9,   6.1914,  -999.00, 9, 1545,    9.4100,  -52.3683
316N200309, A20, 64, 1, 23, 23, 2, 20031015, 1410, 9.3990, -52.3665, 4814,   824.30,    824.3,   5.1310,  34.5702, 2,  34.5690, 2,    143.3, 2,    140.2, 2,    28.13, 2,    33.94, 2,     0.00, 2,     2.24, 2,    0.144, 2,    0.081, 2,    0.006, 2, -999.000, 9,   2219.5, 2,   2300.5, 2,    39.90, 2,  -999.00, 9, -999.000, 9, -999.000, -999.0000, 9, -999.0000,  -999.00, 9,  -999.00, -999.000, 9, -999.000,   -999.0, 9,   -999.0,  -999.00, 9,    0.1340, 2,    0.0950, 2,    0.0530, 2,    0.0440, 2,    0.0120, 2,    0.0140, 2, -999, 9, -999, 9, -999, 9, -999, 9, -999, 9, -999, 9, -999, 9,  -999.00, 9,  -999.00, 9,  -999.00, 9,  -999.00, 9,   5.0624,  -999.00, 9, 1542,    9.4098,  -52.3682
316N200309, A20, 64, 1, 22, 22, 2, 20031015, 1410, 9.3990, -52.3665, 4814,   974.80,    974.8,   5.1771,  34.6676, 2,  34.6655, 2,    139.7, 2,    139.9, 2,    27.68, 2,    33.05, 2,     0.00, 2,     2.19, 2,    0.046, 2,    0.031, 2,    0.001, 2, -999.000, 9,   2218.7, 2,   2305.6, 2,    41.70, 2,  -999.00, 9, -999.000, 9, -999.000, -999.0000, 9, -999.0000,  -999.00, 9,  -999.00, -999.000, 9, -999.000,   -999.0, 9,   -999.0,  -999.00, 9,    0.1300, 2,    0.0920, 2,    0.0510, 2,    0.0430, 2,    0.0120, 2,    0.0140, 2, 354, 4, 23, 2, 33, 2, 54, 2, 170, 2, 35, 2, 39, 2,  -999.00, 9,  -999.00, 9,  -999.00, 9,  -999.00, 9,   5.0945,  -999.00, 9, 1538,    9.4097,  -52.3681
316N200309, A20, 64, 1, 21, 21, 2, 20031015, 1410, 9.3990, -52.3665, 4814,  1125.20,   1125.2,   5.1896,  34.8050, 2,  34.8066, 2,    154.3, 2,    154.1, 2,    24.84, 2,    30.08, 2,     0.00, 2,     1.98, 2,    0.050, 2,    0.038, 2,    0.001, 2, -999.000, 9,   2210.1, 2,   2310.8, 2,    40.80, 2,  -999.00, 9, -999.000, 9, -999.000, -999.0000, 9, -999.0000,  -999.00, 9,  -999.00, -999.000, 9, -999.000,   -999.0, 9,   -999.0,  -999.00, 9,    0.1300, 2,    0.0920, 2,    0.0490, 2,    0.0390, 2,    0.0130, 2,    0.0150, 2, -999, 9, -999, 9, -999, 9, -999, 9, -999, 9, -999, 9, -999, 9,  -999.00, 9,  -999.00, 9,  -999.00, 9,  -999.00, 9,   5.0927,  -999.00, 9, 1535,    9.4093,  -52.3681
316N200309, A20, 64, 1, 20, 20, 2, 20031015, 1410, 9.3990, -52.3665, 4814,  1274.10,   1274.1,   5.0657,  34.9240, 2,  34.9223, 2,    186.7, 2,    187.7, 2,    20.76, 2,    25.44, 2,     0.00, 2,     1.67, 2,    0.199, 2,    0.105, 2,    0.008, 2, -999.000, 9,   2209.6, 2,   2314.5, 2,    43.30, 2,  -999.00, 9, -999.000, 9, -999.000, -999.0000, 9, -999.0000,  -999.00, 9,  -999.00, -999.000, 9, -999.000,   -999.0, 9,   -999.0,  -999.00, 9,    0.1250, 2,    0.0880, 2,    0.0450, 2,    0.0350, 2,    0.0140, 2,    0.0170, 2, -999, 9, -999, 9, -999, 9, -999, 9, -999, 9, -999, 9, -999, 9,  -999.00, 9,  -999.00, 9,  -999.00, 9,  -999.00, 9,   4.9556,  -999.00, 9, 1531,    9.4089,  -52.3681
316N200309, A20, 64, 1, 19, 19, 2, 20031015, 1410, 9.3990, -52.3665, 4814,  1399.30,   1399.3,   4.9380,  34.9923, 2,  34.9947, 2,    206.2, 2,    212.7, 2,    17.11, 2,    22.13, 2,     0.00, 2,     1.45, 2,    0.402, 6,    0.207, 6,    0.023, 6, -999.000, 9,   2178.2, 2,   2315.0, 2,    42.40, 2,  -999.00, 9, -999.000, 9, -999.000, -999.0000, 9, -999.0000,  -999.00, 9,  -999.00, -999.000, 9, -999.000,   -999.0, 9,   -999.0,  -999.00, 9,    0.1230, 2,    0.0860, 2,    0.0420, 2,    0.0350, 2,    0.0140, 2,    0.0170, 2, -999, 9, -999, 9, -999, 9, -999, 9, -999, 9, -999, 9, -999, 9,  -999.00, 9,  -999.00, 9,  -999.00, 9,  -999.00, 9,   4.8170,  -999.00, 9, 1528,    9.4085,  -52.3680
316N200309, A20, 64, 1, 18, 18, 2, 20031015, 1410, 9.3990, -52.3665, 4814,  1499.90,   1499.9,   4.6735,  35.0109, 2,  35.0110, 2,    231.8, 2,    232.1, 2,    15.01, 2,    20.08, 2,     0.00, 2,     1.31, 2,    0.676, 6,    0.340, 6,    0.031, 2,    0.992, 2,   2169.5, 2,   2314.4, 2,  -999.00, 9,  -999.00, 9, -999.000, 9, -999.000, -999.0000, 9, -999.0000,  -999.00, 9,  -999.00, -999.000, 9, -999.000,   -999.0, 9,   -999.0,  -999.00, 9, -999.0000, 9, -999.0000, 9, -999.0000, 9, -999.0000, 9, -999.0000, 9, -999.0000, 9, -999, 9, -999, 9, -999, 9, -999, 9, -999, 9, -999, 9, -999, 9,  -999.00, 9,  -999.00, 9,  -999.00, 9,  -999.00, 9,   4.5457,  -999.00, 9, 1525,    9.4084,  -52.3678
316N200309, A20, 64, 1, 17, 17, 2, 20031015, 1410, 9.3990, -52.3665, 4814,  1624.70,   1624.7,   4.2260,  34.9986, 2,  34.9974, 2,    247.8, 2,    249.7, 2,    13.64, 2,    18.73, 2,     0.00, 2,     1.21, 2,    0.856, 2,    0.424, 2,    0.035, 2, -999.000, 9,   2161.7, 2,   2312.0, 2,    44.10, 2,  -999.00, 9, -999.000, 9, -999.000, -999.0000, 9, -999.0000,  -999.00, 9,  -999.00, -999.000, 9, -999.000,   -999.0, 9,   -999.0,  -999.00, 9,    0.1230, 2,    0.0860, 2,    0.0420, 2,    0.0330, 2,    0.0150, 2,    0.0180, 2, -999, 9, -999, 9, -999, 9, -999, 9, -999, 9, -999, 9, -999, 9,  -999.00, 9,  -999.00, 9,  -999.00, 9,  -999.00, 9,   4.0915,  -999.00, 9, 1522,    9.4083,  -52.3677
316N200309, A20, 64, 1, 16, 16, 2, 20031015, 1410, 9.3990, -52.3665, 4814,  1775.50,   1775.5,   3.9967,  34.9873, 2,  34.9868, 2,    257.2, 2,    255.7, 2,    13.61, 2,    18.33, 2,     0.00, 2,     1.19, 2,    0.874, 2,    0.433, 2,    0.041, 2, -999.000, 9,   2160.1, 2,   2312.0, 2,  -999.00, 9,  -999.00, 9, -999.000, 9, -999.000, -999.0000, 9, -999.0000,  -999.00, 9,  -999.00, -999.000, 9, -999.000,   -999.0, 9,   -999.0,  -999.00, 9, -999.0000, 9, -999.0000, 9, -999.0000, 9, -999.0000, 9, -999.0000, 9, -999.0000, 9, -999, 9, -999, 9, -999, 9, -999, 9, -999, 9, -999, 9, -999, 9,  -999.00, 9,  -999.00, 9,  -999.00, 9,  -999.00, 9,   3.8508,  -999.00, 9, 1519,    9.4079,  -52.3677
316N200309, A20, 64, 1, 15, 15, 2, 20031015, 1410, 9.3990, -52.3665, 4814,  1925.80,   1925.8,   3.7702,  34.9797, 2,  34.9793, 2,    260.9, 2,    258.8, 2,    14.52, 2,    18.28, 2,     0.00, 2,     1.19, 2,    0.695, 2,    0.347, 2,    0.038, 2, -999.000, 9,   2158.8, 2,   2311.5, 2,  -999.00, 9,  -999.00, 9, -999.000, 9, -999.000, -999.0000, 9, -999.0000,  -999.00, 9,  -999.00, -999.000, 9, -999.000,   -999.0, 9,   -999.0,  -999.00, 9, -999.0000, 9, -999.0000, 9, -999.0000, 9, -999.0000, 9, -999.0000, 9, -999.0000, 9, -999, 9, -999, 9, -999, 9, -999, 9, -999, 9, -999, 9, -999, 9,  -999.00, 9,  -999.00, 9,  -999.00, 9,  -999.00, 9,   3.6132,  -999.00, 9, 1515,    9.4075,  -52.3676
316N200309, A20, 64, 1, 14, 14, 2, 20031015, 1410, 9.3990, -52.3665, 4814,  2125.20,   2125.2,   3.5002,  34.9713, 2,  34.9711, 2,    262.0, 2,    260.0, 2,    16.57, 2,    18.33, 2,     0.00, 2,     1.20, 2,    0.509, 2,    0.262, 2,    0.029, 2, -999.000, 9,   2159.4, 2,   2313.8, 2,    42.00, 2,  -999.00, 9, -999.000, 9, -999.000, -999.0000, 9, -999.0000,  -999.00, 9,  -999.00, -999.000, 9, -999.000,   -999.0, 9,   -999.0,  -999.00, 9,    0.1150, 2,    0.0810, 2,    0.0390, 2,    0.0310, 2,    0.0150, 2,    0.0180, 2, -999, 9, -999, 9, -999, 9, -999, 9, -999, 9, -999, 9, -999, 9,  -999.00, 9,  -999.00, 9,  -999.00, 9,  -999.00, 9,   3.3281,  -999.00, 9, 1511,    9.4068,  -52.3677
316N200309, A20, 64, 1, 13, 13, 2, 20031015, 1410, 9.3990, -52.3665, 4814,  2375.20,   2375.2,   3.1923,  34.9576, 2,  34.9567, 2,    262.0, 2,    260.6, 2,    19.33, 2,    18.41, 2,     0.00, 2,     1.22, 2,    0.345, 2,    0.173, 2,    0.014, 2, -999.000, 9,   2161.2, 2,   2315.6, 2,  -999.00, 9,  -999.00, 9, -999.000, 9, -999.000, -999.0000, 9, -999.0000,  -999.00, 9,  -999.00, -999.000, 9, -999.000,   -999.0, 9,   -999.0,  -999.00, 9, -999.0000, 9, -999.0000, 9, -999.0000, 9, -999.0000, 9, -999.0000, 9, -999.0000, 9, -999, 9, -999, 9, -999, 9, -999, 9, -999, 9, -999, 9, -999, 9,  -999.00, 9,  -999.00, 9,  -999.00, 9,  -999.00, 9,   3.0011,  -999.00, 9, 1506,    9.4060,  -52.3677
316N200309, A20, 64, 1, 12, 12, 2, 20031015, 1410, 9.3990, -52.3665, 4814,  2625.60,   2625.6,   3.0185,  34.9475, 2,  34.9457, 2,    261.8, 2,    260.5, 2,    21.39, 2,    18.60, 2,     0.00, 2,     1.23, 2,    0.311, 2,    0.153, 2,    0.016, 2, -999.000, 9,   2163.3, 2,   2318.6, 2,    41.60, 2,  -999.00, 9, -999.000, 9, -999.000, -999.0000, 9, -999.0000,  -999.00, 9,  -999.00, -999.000, 9, -999.000,   -999.0, 9,   -999.0,  -999.00, 9, -999.0000, 9, -999.0000, 9, -999.0000, 9, -999.0000, 9, -999.0000, 9, -999.0000, 9, -999, 9, -999, 9, -999, 9, -999, 9, -999, 9, -999, 9, -999, 9,  -999.00, 9,  -999.00, 9,  -999.00, 9,  -999.00, 9,   2.8058,  -999.00, 9, 1500,    9.4054,  -52.3673
316N200309, A20, 64, 1, 11, 11, 2, 20031015, 1410, 9.3990, -52.3665, 4814,  2877.20,   2877.2,   2.8524,  34.9366, 2,  34.9374, 2,    258.9, 2,    257.4, 2,    25.41, 2,    19.19, 2,     0.00, 2,     1.28, 2,    0.189, 2,    0.086, 2,    0.012, 2, -999.000, 9,   2167.4, 2,   2321.9, 2,  -999.00, 9,  -999.00, 9, -999.000, 9, -999.000, -999.0000, 9, -999.0000,  -999.00, 9,  -999.00, -999.000, 9, -999.000,   -999.0, 9,   -999.0,  -999.00, 9, -999.0000, 9, -999.0000, 9, -999.0000, 9, -999.0000, 9, -999.0000, 9, -999.0000, 9, -999, 9, -999, 9, -999, 9, -999, 9, -999, 9, -999, 9, -999, 9,  -999.00, 9,  -999.00, 9,  -999.00, 9,  -999.00, 9,   2.6175,  -999.00, 9, 1455,    9.4052,  -52.3667
316N200309, A20, 64, 1, 10, 10, 2, 20031015, 1410, 9.3990, -52.3665, 4814,  3100.70,   3100.7,   2.7254,  34.9275, 2,  34.9270, 2,    257.8, 2,    257.8, 2,    27.68, 2,    19.36, 2,     0.00, 2,     1.29, 2,    0.189, 2,    0.094, 2,    0.017, 2, -999.000, 9,   2167.6, 2,   2324.5, 2,  -999.00, 9,  -999.00, 9, -999.000, 9, -999.000, -999.0000, 9, -999.0000,  -999.00, 9,  -999.00, -999.000, 9, -999.000,   -999.0, 9,   -999.0,  -999.00, 9, -999.0000, 9, -999.0000, 9, -999.0000, 9, -999.0000, 9, -999.0000, 9, -999.0000, 9, -999, 9, -999, 9, -999, 9, -999, 9, -999, 9, -999, 9, -999, 9,  -999.00, 9,  -999.00, 9,  -999.00, 9,  -999.00, 9,   2.4701,  -999.00, 9, 1450,    9.4047,  -52.3665