BOTTLE,20220816CCHSIOAMB
EXPOCODE,SECT_ID,STNNBR,CASTNO,SAMPNO,BTLNBR,BTLNBR_FLAG_W,DATE,TIME,LATITUDE,LONGITUDE,DEPTH,CTDRAW,CTDPRS,CTDTMP,CTDSAL,CTDSAL_FLAG_W,SALNTY,SALNTY_FLAG_W,CTDOXY,CTDOXY_FLAG_W,OXYGEN,OXYGEN_FLAG_W,SILCAT,SILCAT_FLAG_W,NITRAT,NITRAT_FLAG_W,NITRIT,NITRIT_FLAG_W,PHSPHT,PHSPHT_FLAG_W,CFC-11,CFC-11_FLAG_W,CFC-12,CFC-12_FLAG_W,CFC113,CFC113_FLAG_W,CCL4,CCL4_FLAG_W,TCARBN,TCARBN_FLAG_W,ALKALI,ALKALI_FLAG_W,DOC,DOC_FLAG_W,TDN,TDN_FLAG_W,TRITUM,TRITUM_FLAG_W,TRITER,HELIUM,HELIUM_FLAG_W,HELIER,DELHE3,DELHE3_FLAG_W,DELHER,NEON,NEON_FLAG_W,NEONER,DELC14,DELC14_FLAG_W,C14ERR,DELC13,DELC13_FLAG_W,CDOM325,CDOM325_FLAG_W,CDOM340,CDOM340_FLAG_W,CDOM380,CDOM380_FLAG_W,CDOM412,CDOM412_FLAG_W,CDOMSL,CDOMSL_FLAG_W,CDOMSN,CDOMSN_FLAG_W,DCNS,DCNS_FLAG_W,ARABI,ARABI_FLAG_W,FUCO,FUCO_FLAG_W,GALA,GALA_FLAG_W,GLUC,GLUC_FLAG_W,MAN,MAN_FLAG_W,RHAM,RHAM_FLAG_W,BRDU,BRDU_FLAG_W,PEUK,PEUK_FLAG_W,PROC,PROC_FLAG_W,SYN,SYN_FLAG_W,THETA,BACT,BACT_FLAG_W,BTL_TIME,BTL_LAT,BTL_LON
,,,,,,,,,,,METERS,DBAR,DBAR,ITS-90,PSS-78,,PSS-78,,UMOL/KG,,UMOL/KG,,UMOL/KG,,UMOL/KG,,UMOL/KG,,UMOL/KG,,PMOL/KG,,PMOL/KG,,PMOL/KG,,PMOL/KG,,UMOL/KG,,UMOL/KG,,UMOL/KG,,UMOL/KG,,TU,,TU,NMOL/KG,,NMOL/KG,PERCNT,,PERCNT,NMOL/KG,,NMOL/KG,/MILLE,,/MILLE,/MILLE,,1/M,,1/M,,1/M,,1/M,,1/NM,,1/NM,,NMOL/KG,,NMOL/KG,,NMOL/KG,,NMOL/KG,,NMOL/KG,,NMOL/KG,,NMOL/KG,,PMOL/L/H,,E6/L,,E7/L,,E6/L,,DEG C,E8/L,,,,
316N200309, A20, 65, 1, 10, 10, 2, 20031015, 1940, 9.1980, -52.4545, 4756,  2898.80,   2898.8,   2.7662,  34.9314, 2,  34.9309, 2,    260.1, 2,    260.2, 2,    24.89, 2,    18.94, 2,     0.00, 2,     1.26, 2,    0.271, 2,    0.152, 2,    0.002, 2,    0.604, 2,   -999.0, 9,   -999.0, 9,  -999.00, 9,  -999.00, 9,    0.145, 2,    0.002,   1.8469, 2,   0.0092,     4.32, 2,     0.20,    7.927, 2,    0.040,   -999.0, 9,   -999.0,  -999.00, 9,    0.1630, 2,    0.1190, 2,    0.0640, 2,    0.0470, 2,    0.0140, 2,    0.0150, 2, -999, 9, -999, 9, -999, 9, -999, 9, -999, 9, -999, 9, -999, 9,  -999.00, 9,  -999.00, 9,  -999.00, 9,  -999.00, 9,   2.5310,  -999.00, 9, 2023,    9.2037,  -52.4511
316N200309, A20, 65, 1, 9, 9, 2, 20031015, 1940, 9.1980, -52.4545, 4756,  3099.00,   3099.0,   2.6371,  34.9223, 2,  34.9217, 2,    259.6, 2,    257.6, 2,    27.56, 2,    19.21, 2,     0.00, 2,     1.28, 2,    0.254, 2,    0.137, 2,    0.002, 2,    0.556, 2,   -999.0, 9,   -999.0, 9,  -999.00, 9,  -999.00, 9,    0.001, 2,    0.000,   1.8518, 2,   0.0093,     4.32, 2,     0.20,    7.936, 2,    0.040,   -999.0, 9,   -999.0,  -999.00, 9, -999.0000, 9, -999.0000, 9, -999.0000, 9, -999.0000, 9, -999.0000, 9, -999.0000, 9, -999, 9, -999, 9, -999, 9, -999, 9, -999, 9, -999, 9, -999, 9,  -999.00, 9,  -999.00, 9,  -999.00, 9,  -999.00, 9,   2.3840,  -999.00, 9, 2018,    9.2030,  -52.4520
316N200309, A20, 65, 1, 8, 8, 2, 20031015, 1940, 9.1980, -52.4545, 4756,  3299.10,   3299.1,   2.5687,  34.9171, 2,  34.9187, 2,    261.0, 2,    261.5, 2,    27.54, 2,    19.08, 2,     0.00, 2,     1.27, 2,    0.308, 2,    0.161, 2,    0.001, 2,    0.634, 2,   -999.0, 9,   -999.0, 9,  -999.00, 9,  -999.00, 9, -999.000, 9, -999.000, -999.0000, 9, -999.0000,  -999.00, 9,  -999.00, -999.000, 9, -999.000,   -999.0, 9,   -999.0,  -999.00, 9, -999.0000, 9, -999.0000, 9, -999.0000, 9, -999.0000, 9, -999.0000, 9, -999.0000, 9, -999, 9, -999, 9, -999, 9, -999, 9, -999, 9, -999, 9, -999, 9,  -999.00, 9,  -999.00, 9,  -999.00, 9,  -999.00, 9,   2.2962,  -999.00, 9, 2014,    9.2021,  -52.4530
316N200309, A20, 65, 1, 7, 7, 2, 20031015, 1940, 9.1980, -52.4545, 4756,  3499.40,   3499.4,   2.4874,  34.9114, 2,  34.9117, 2,    263.3, 2,    263.4, 2,    27.30, 2,    18.80, 2,     0.00, 2,     1.25, 2,    0.374, 2,    0.194, 2,    0.015, 2,    0.769, 2,   -999.0, 9,   -999.0, 9,  -999.00, 9,  -999.00, 9,    0.198, 2,    0.002,   1.8706, 2,   0.0094,     4.89, 2,     0.20,    7.988, 2,    0.040,   -999.0, 9,   -999.0,  -999.00, 9, -999.0000, 9, -999.0000, 9, -999.0000, 9, -999.0000, 9, -999.0000, 9, -999.0000, 9, -999, 9, -999, 9, -999, 9, -999, 9, -999, 9, -999, 9, -999, 9,  -999.00, 9,  -999.00, 9,  -999.00, 9,  -999.00, 9,   2.1954,  -999.00, 9, 2009,    9.2013,  -52.4539
316N200309, A20, 65, 1, 6, 6, 2, 20031015, 1940, 9.1980, -52.4545, 4756,  3700.40,   3700.4,   2.4477,  34.9079, 2,  34.9067, 2,    264.1, 2,    265.0, 2,    27.48, 2,    18.62, 2,     0.00, 2,     1.25, 2,    0.402, 2,    0.201, 2,    0.012, 2,    0.864, 2,   -999.0, 9,   -999.0, 9,  -999.00, 9,  -999.00, 9, -999.000, 9, -999.000, -999.0000, 9, -999.0000,  -999.00, 9,  -999.00, -999.000, 9, -999.000,   -999.0, 9,   -999.0,  -999.00, 9, -999.0000, 9, -999.0000, 9, -999.0000, 9, -999.0000, 9, -999.0000, 9, -999.0000, 9, -999, 9, -999, 9, -999, 9, -999, 9, -999, 9, -999, 9, -999, 9,  -999.00, 9,  -999.00, 9,  -999.00, 9,  -999.00, 9,   2.1347,  -999.00, 9, 2005,    9.2008,  -52.4542
316N200309, A20, 65, 1, 5, 5, 2, 20031015, 1940, 9.1980, -52.4545, 4756,  3899.00,   3899.0,   2.4201,  34.9050, 2,  34.9050, 2,    264.5, 2,    265.2, 2,    27.87, 2,    18.66, 2,     0.00, 2,     1.25, 2,    0.419, 2,    0.212, 2,    0.016, 2,    0.849, 2,   -999.0, 9,   -999.0, 9,  -999.00, 9,  -999.00, 9,    0.230, 2,    0.002,   1.8674, 2,   0.0093,     4.67, 2,     0.20,    7.975, 2,    0.040,   -999.0, 9,   -999.0,  -999.00, 9,    0.1250, 2,    0.0870, 2,    0.0400, 2,    0.0290, 2,    0.0190, 2,    0.0200, 2, -999, 9, -999, 9, -999, 9, -999, 9, -999, 9, -999, 9, -999, 9,  -999.00, 9,  -999.00, 9,  -999.00, 9,  -999.00, 9,   2.0855,  -999.00, 9, 2001,    9.2004,  -52.4542
316N200309, A20, 65, 1, 4, 4, 2, 20031015, 1940, 9.1980, -52.4545, 4756,  4150.10,   4150.1,   2.3718,  34.9002, 2,  34.8998, 2,    264.4, 2,    265.1, 2,    28.99, 2,    18.71, 2,     0.00, 2,     1.25, 2,    0.413, 2,    0.210, 2,    0.015, 2,    0.905, 2,   -999.0, 9,   -999.0, 9,  -999.00, 9,  -999.00, 9, -999.000, 9, -999.000, -999.0000, 9, -999.0000,  -999.00, 9,  -999.00, -999.000, 9, -999.000,   -999.0, 9,   -999.0,  -999.00, 9, -999.0000, 9, -999.0000, 9, -999.0000, 9, -999.0000, 9, -999.0000, 9, -999.0000, 9, -999, 9, -999, 9, -999, 9, -999, 9, -999, 9, -999, 9, -999, 9,  -999.00, 9,  -999.00, 9,  -999.00, 9,  -999.00, 9,   2.0098,  -999.00, 9, 1955,    9.1997,  -52.4543
316N200309, A20, 65, 1, 3, 3, 2, 20031015, 1940, 9.1980, -52.4545, 4756,  4399.10,   4399.1,   2.3342,  34.8958, 2,  34.8959, 2,    264.0, 2,    264.4, 2,    30.00, 2,    18.83, 2,     0.00, 2,     1.26, 2,    0.414, 2,    0.225, 2,    0.003, 2,    0.881, 2,   -999.0, 9,   -999.0, 9,  -999.00, 9,  -999.00, 9,    0.210, 2,    0.002,   1.8642, 2,   0.0093,     4.75, 2,     0.20,    7.963, 2,    0.040,   -999.0, 9,   -999.0,  -999.00, 9, -999.0000, 9, -999.0000, 9, -999.0000, 9, -999.0000, 9, -999.0000, 9, -999.0000, 9, -999, 9, -999, 9, -999, 9, -999, 9, -999, 9, -999, 9, -999, 9,  -999.00, 9,  -999.00, 9,  -999.00, 9,  -999.00, 9,   1.9440,  -999.00, 9, 1950,    9.1993,  -52.4542
316N200309, A20, 65, 1, 2, 2, 2, 20031015, 1940, 9.1980, -52.4545, 4756,  4599.70,   4599.7,   2.1902,  34.8782, 2,  34.8804, 2,    257.9, 2,    257.6, 2,    39.78, 2,    20.33, 2,     0.00, 2,     1.38, 2,    0.213, 2,    0.116, 2,    0.005, 2,    0.587, 2,   -999.0, 9,   2331.2, 2,  -999.00, 9,  -999.00, 9, -999.000, 9, -999.000, -999.0000, 9, -999.0000,  -999.00, 9,  -999.00, -999.000, 9, -999.000,   -999.0, 9,   -999.0,  -999.00, 9, -999.0000, 9, -999.0000, 9, -999.0000, 9, -999.0000, 9, -999.0000, 9, -999.0000, 9, -999, 9, -999, 9, -999, 9, -999, 9, -999, 9, -999, 9, -999, 9,  -999.00, 9,  -999.00, 9,  -999.00, 9,  -999.00, 9,   1.7806,  -999.00, 9, 1945,    9.1985,  -52.4544
316N200309, A20, 65, 1, 1, 1, 2, 20031015, 1940, 9.1980, -52.4545, 4756,  4804.00,   4804.0,   1.8262,  34.8309, 2,  34.8304, 2,    244.6, 2,    243.6, 2,    63.34, 2,    23.83, 2,     0.00, 2,     1.62, 2,    0.077, 2,    0.046, 2,    0.003, 2,    0.279, 2,   -999.0, 9,   2346.8, 2,  -999.00, 9,  -999.00, 9,    0.066, 2,    0.001,   1.8971, 2,   0.0095,     4.56, 2,     0.20,    8.059, 2,    0.040,   -999.0, 9,   -999.0,  -999.00, 9,    0.1420, 2,    0.1010, 2,    0.0510, 2,    0.0370, 2,    0.0150, 2,    0.0170, 2, -999, 9, -999, 9, -999, 9, -999, 9, -999, 9, -999, 9, -999, 9,  -999.00, 9,  -999.00, 9,  -999.00, 9,  -999.00, 9,   1.4038,  -999.00, 9, 1940,    9.1981,  -52.4545