BOTTLE,20220816CCHSIOAMB
EXPOCODE,SECT_ID,STNNBR,CASTNO,SAMPNO,BTLNBR,BTLNBR_FLAG_W,DATE,TIME,LATITUDE,LONGITUDE,DEPTH,CTDRAW,CTDPRS,CTDTMP,CTDSAL,CTDSAL_FLAG_W,SALNTY,SALNTY_FLAG_W,CTDOXY,CTDOXY_FLAG_W,OXYGEN,OXYGEN_FLAG_W,SILCAT,SILCAT_FLAG_W,NITRAT,NITRAT_FLAG_W,NITRIT,NITRIT_FLAG_W,PHSPHT,PHSPHT_FLAG_W,CFC-11,CFC-11_FLAG_W,CFC-12,CFC-12_FLAG_W,CFC113,CFC113_FLAG_W,CCL4,CCL4_FLAG_W,TCARBN,TCARBN_FLAG_W,ALKALI,ALKALI_FLAG_W,DOC,DOC_FLAG_W,TDN,TDN_FLAG_W,TRITUM,TRITUM_FLAG_W,TRITER,HELIUM,HELIUM_FLAG_W,HELIER,DELHE3,DELHE3_FLAG_W,DELHER,NEON,NEON_FLAG_W,NEONER,DELC14,DELC14_FLAG_W,C14ERR,DELC13,DELC13_FLAG_W,CDOM325,CDOM325_FLAG_W,CDOM340,CDOM340_FLAG_W,CDOM380,CDOM380_FLAG_W,CDOM412,CDOM412_FLAG_W,CDOMSL,CDOMSL_FLAG_W,CDOMSN,CDOMSN_FLAG_W,DCNS,DCNS_FLAG_W,ARABI,ARABI_FLAG_W,FUCO,FUCO_FLAG_W,GALA,GALA_FLAG_W,GLUC,GLUC_FLAG_W,MAN,MAN_FLAG_W,RHAM,RHAM_FLAG_W,BRDU,BRDU_FLAG_W,PEUK,PEUK_FLAG_W,PROC,PROC_FLAG_W,SYN,SYN_FLAG_W,THETA,BACT,BACT_FLAG_W,BTL_TIME,BTL_LAT,BTL_LON
,,,,,,,,,,,METERS,DBAR,DBAR,ITS-90,PSS-78,,PSS-78,,UMOL/KG,,UMOL/KG,,UMOL/KG,,UMOL/KG,,UMOL/KG,,UMOL/KG,,PMOL/KG,,PMOL/KG,,PMOL/KG,,PMOL/KG,,UMOL/KG,,UMOL/KG,,UMOL/KG,,UMOL/KG,,TU,,TU,NMOL/KG,,NMOL/KG,PERCNT,,PERCNT,NMOL/KG,,NMOL/KG,/MILLE,,/MILLE,/MILLE,,1/M,,1/M,,1/M,,1/M,,1/NM,,1/NM,,NMOL/KG,,NMOL/KG,,NMOL/KG,,NMOL/KG,,NMOL/KG,,NMOL/KG,,NMOL/KG,,PMOL/L/H,,E6/L,,E7/L,,E6/L,,DEG C,E8/L,,,,
316N200309, A20, 36, 1, 10, 10, 2, 20031006, 0125, 30.1888, -52.3387, 5656,  3349.90,   3349.9,   2.6726,  34.9272, 2,  34.9264, 2,    258.0, 2,    258.2, 2,    30.64, 2,    19.61, 2,     0.00, 2,     1.33, 2,    0.057, 2,    0.032, 2,    0.009, 2, -999.000, 9,   -999.0, 9,   -999.0, 9,  -999.00, 9,  -999.00, 9, -999.000, 9, -999.000, -999.0000, 9, -999.0000,  -999.00, 9,  -999.00, -999.000, 9, -999.000,   -999.0, 9,   -999.0,  -999.00, 9, -999.0000, 9, -999.0000, 9, -999.0000, 9, -999.0000, 9, -999.0000, 9, -999.0000, 9, -999, 9, -999, 9, -999, 9, -999, 9, -999, 9, -999, 9, -999, 9,  -999.00, 9,  -999.00, 9,  -999.00, 9,  -999.00, 9,   2.3921,  -999.00, 9,  224,   30.1875,  -52.3336
316N200309, A20, 36, 1, 9, 9, 2, 20031006, 0125, 30.1888, -52.3387, 5656,  3600.20,   3600.2,   2.5169,  34.9147, 2,  34.9124, 2,    260.0, 2,    260.3, 2,    31.52, 2,    19.52, 2,     0.00, 2,     1.33, 2,    0.072, 6,    0.044, 6,    0.008, 2,    0.345, 2,   -999.0, 9,   -999.0, 9,  -999.00, 9,  -999.00, 9, -999.000, 9, -999.000, -999.0000, 9, -999.0000,  -999.00, 9,  -999.00, -999.000, 9, -999.000,   -999.0, 9,   -999.0,  -999.00, 9, -999.0000, 9, -999.0000, 9, -999.0000, 9, -999.0000, 9, -999.0000, 9, -999.0000, 9, -999, 9, -999, 9, -999, 9, -999, 9, -999, 9, -999, 9, -999, 9,  -999.00, 9,  -999.00, 9,  -999.00, 9,  -999.00, 9,   2.2131,  -999.00, 9,  219,   30.1879,  -52.3339
316N200309, A20, 36, 1, 8, 8, 2, 20031006, 0125, 30.1888, -52.3387, 5656,  3757.20,   3757.2,   2.4341,  34.9082, 2,  34.9061, 2,    262.1, 2,    262.3, 2,    31.40, 2,    19.41, 2,     0.00, 2,     1.31, 2,    0.102, 2,    0.055, 2,    0.006, 2, -999.000, 9,   -999.0, 9,   -999.0, 9,  -999.00, 9,  -999.00, 9, -999.000, 9, -999.000, -999.0000, 9, -999.0000,  -999.00, 9,  -999.00, -999.000, 9, -999.000,   -999.0, 9,   -999.0,  -999.00, 9, -999.0000, 9, -999.0000, 9, -999.0000, 9, -999.0000, 9, -999.0000, 9, -999.0000, 9, -999, 9, -999, 9, -999, 9, -999, 9, -999, 9, -999, 9, -999, 9,  -999.00, 9,  -999.00, 9,  -999.00, 9,  -999.00, 9,   2.1151,  -999.00, 9,  216,   30.1880,  -52.3345
316N200309, A20, 36, 1, 7, 7, 2, 20031006, 0125, 30.1888, -52.3387, 5656,  4102.70,   4102.7,   2.2981,  34.8949, 2,  34.8938, 2,    262.0, 2,    262.0, 2,    34.65, 2,    19.60, 2,     0.00, 2,     1.34, 2,    0.160, 2,    0.082, 2,    0.008, 2, -999.000, 9,   -999.0, 9,   -999.0, 9,  -999.00, 9,  -999.00, 9, -999.000, 9, -999.000, -999.0000, 9, -999.0000,  -999.00, 9,  -999.00, -999.000, 9, -999.000,   -999.0, 9,   -999.0,  -999.00, 9, -999.0000, 9, -999.0000, 9, -999.0000, 9, -999.0000, 9, -999.0000, 9, -999.0000, 9, -999, 9, -999, 9, -999, 9, -999, 9, -999, 9, -999, 9, -999, 9,  -999.00, 9,  -999.00, 9,  -999.00, 9,  -999.00, 9,   1.9438,  -999.00, 9,  209,   30.1885,  -52.3346
316N200309, A20, 36, 1, 6, 6, 2, 20031006, 0125, 30.1888, -52.3387, 5656,  4348.70,   4348.7,   2.2327,  34.8854, 2,  34.8839, 2,    259.1, 2,    260.2, 2,    38.89, 2,    20.22, 2,     0.00, 2,     1.39, 2,    0.130, 2,    0.072, 2,    0.006, 2, -999.000, 9,   -999.0, 9,   -999.0, 9,  -999.00, 9,  -999.00, 9, -999.000, 9, -999.000, -999.0000, 9, -999.0000,  -999.00, 9,  -999.00, -999.000, 9, -999.000,   -999.0, 9,   -999.0,  -999.00, 9, -999.0000, 9, -999.0000, 9, -999.0000, 9, -999.0000, 9, -999.0000, 9, -999.0000, 9, -999, 9, -999, 9, -999, 9, -999, 9, -999, 9, -999, 9, -999, 9,  -999.00, 9,  -999.00, 9,  -999.00, 9,  -999.00, 9,   1.8516,  -999.00, 9,  203,   30.1887,  -52.3352
316N200309, A20, 36, 1, 5, 5, 2, 20031006, 0125, 30.1888, -52.3387, 5656,  4599.50,   4599.5,   2.1313,  34.8705, 2,  34.8684, 2,    255.3, 2,    254.8, 2,    46.01, 2,    21.34, 2,     0.00, 2,     1.46, 2,    0.079, 2,    0.049, 2,    0.006, 2, -999.000, 9,   -999.0, 9,   -999.0, 9,  -999.00, 9,  -999.00, 9, -999.000, 9, -999.000, -999.0000, 9, -999.0000,  -999.00, 9,  -999.00, -999.000, 9, -999.000,   -999.0, 9,   -999.0,  -999.00, 9, -999.0000, 9, -999.0000, 9, -999.0000, 9, -999.0000, 9, -999.0000, 9, -999.0000, 9, -999, 9, -999, 9, -999, 9, -999, 9, -999, 9, -999, 9, -999, 9,  -999.00, 9,  -999.00, 9,  -999.00, 9,  -999.00, 9,   1.7236,  -999.00, 9,  158,   30.1886,  -52.3363
316N200309, A20, 36, 1, 4, 4, 2, 20031006, 0125, 30.1888, -52.3387, 5656,  4949.70,   4949.7,   2.0948,  34.8610, 2,  34.8591, 2,    251.6, 2,    252.1, 2,    50.27, 2,    21.95, 2,     0.00, 2,     1.50, 2,    0.049, 2,    0.039, 2,    0.004, 2, -999.000, 9,   -999.0, 9,   -999.0, 9,  -999.00, 9,  -999.00, 9, -999.000, 9, -999.000, -999.0000, 9, -999.0000,  -999.00, 9,  -999.00, -999.000, 9, -999.000,   -999.0, 9,   -999.0,  -999.00, 9, -999.0000, 9, -999.0000, 9, -999.0000, 9, -999.0000, 9, -999.0000, 9, -999.0000, 9, -999, 9, -999, 9, -999, 9, -999, 9, -999, 9, -999, 9, -999, 9,  -999.00, 9,  -999.00, 9,  -999.00, 9,  -999.00, 9,   1.6455,  -999.00, 9,  150,   30.1884,  -52.3378
316N200309, A20, 36, 1, 3, 3, 2, 20031006, 0125, 30.1888, -52.3387, 5656,  5202.00,   5202.0,   2.1145,  34.8593, 2,  34.8578, 2,    250.8, 2,    251.8, 2,    51.05, 2,    22.11, 2,     0.00, 2,     1.51, 2,    0.045, 2,    0.031, 2,    0.007, 2, -999.000, 9,   -999.0, 9,   -999.0, 9,  -999.00, 9,  -999.00, 9, -999.000, 9, -999.000, -999.0000, 9, -999.0000,  -999.00, 9,  -999.00, -999.000, 9, -999.000,   -999.0, 9,   -999.0,  -999.00, 9, -999.0000, 9, -999.0000, 9, -999.0000, 9, -999.0000, 9, -999.0000, 9, -999.0000, 9, -999, 9, -999, 9, -999, 9, -999, 9, -999, 9, -999, 9, -999, 9,  -999.00, 9,  -999.00, 9,  -999.00, 9,  -999.00, 9,   1.6328,  -999.00, 9,  143,   30.1883,  -52.3388
316N200309, A20, 36, 1, 2, 2, 2, 20031006, 0125, 30.1888, -52.3387, 5656,  5450.30,   5450.3,   2.1437,  34.8584, 2,  34.8582, 2,    250.3, 2,    258.9, 3,    51.14, 2,    22.10, 2,     0.00, 2,     1.51, 2,    0.051, 2,    0.043, 2,    0.008, 2, -999.000, 9,   -999.0, 9,   -999.0, 9,  -999.00, 9,  -999.00, 9, -999.000, 9, -999.000, -999.0000, 9, -999.0000,  -999.00, 9,  -999.00, -999.000, 9, -999.000,   -999.0, 9,   -999.0,  -999.00, 9, -999.0000, 9, -999.0000, 9, -999.0000, 9, -999.0000, 9, -999.0000, 9, -999.0000, 9, -999, 9, -999, 9, -999, 9, -999, 9, -999, 9, -999, 9, -999, 9,  -999.00, 9,  -999.00, 9,  -999.00, 9,  -999.00, 9,   1.6289,  -999.00, 9,  136,   30.1887,  -52.3386
316N200309, A20, 36, 1, 1, 1, 2, 20031006, 0125, 30.1888, -52.3387, 5656,  5756.10,   5756.1,   2.1818,  34.8573, 2,  34.8564, 2,    251.0, 2,    251.6, 2,    51.52, 2,    22.05, 2,     0.00, 2,     1.51, 2,    0.049, 2,    0.035, 2,    0.006, 2, -999.000, 9,   -999.0, 9,   -999.0, 9,  -999.00, 9,  -999.00, 9, -999.000, 9, -999.000, -999.0000, 9, -999.0000,  -999.00, 9,  -999.00, -999.000, 9, -999.000,   -999.0, 9,   -999.0,  -999.00, 9, -999.0000, 9, -999.0000, 9, -999.0000, 9, -999.0000, 9, -999.0000, 9, -999.0000, 9, -999, 9, -999, 9, -999, 9, -999, 9, -999, 9, -999, 9, -999, 9,  -999.00, 9,  -999.00, 9,  -999.00, 9,  -999.00, 9,   1.6251,  -999.00, 9,  126,   30.1888,  -52.3387