BOTTLE,20220816CCHSIOAMB
EXPOCODE,SECT_ID,STNNBR,CASTNO,SAMPNO,BTLNBR,BTLNBR_FLAG_W,DATE,TIME,LATITUDE,LONGITUDE,DEPTH,CTDRAW,CTDPRS,CTDTMP,CTDSAL,CTDSAL_FLAG_W,SALNTY,SALNTY_FLAG_W,CTDOXY,CTDOXY_FLAG_W,OXYGEN,OXYGEN_FLAG_W,SILCAT,SILCAT_FLAG_W,NITRAT,NITRAT_FLAG_W,NITRIT,NITRIT_FLAG_W,PHSPHT,PHSPHT_FLAG_W,CFC-11,CFC-11_FLAG_W,CFC-12,CFC-12_FLAG_W,CFC113,CFC113_FLAG_W,CCL4,CCL4_FLAG_W,TCARBN,TCARBN_FLAG_W,ALKALI,ALKALI_FLAG_W,DOC,DOC_FLAG_W,TDN,TDN_FLAG_W,TRITUM,TRITUM_FLAG_W,TRITER,HELIUM,HELIUM_FLAG_W,HELIER,DELHE3,DELHE3_FLAG_W,DELHER,NEON,NEON_FLAG_W,NEONER,DELC14,DELC14_FLAG_W,C14ERR,DELC13,DELC13_FLAG_W,CDOM325,CDOM325_FLAG_W,CDOM340,CDOM340_FLAG_W,CDOM380,CDOM380_FLAG_W,CDOM412,CDOM412_FLAG_W,CDOMSL,CDOMSL_FLAG_W,CDOMSN,CDOMSN_FLAG_W,DCNS,DCNS_FLAG_W,ARABI,ARABI_FLAG_W,FUCO,FUCO_FLAG_W,GALA,GALA_FLAG_W,GLUC,GLUC_FLAG_W,MAN,MAN_FLAG_W,RHAM,RHAM_FLAG_W,BRDU,BRDU_FLAG_W,PEUK,PEUK_FLAG_W,PROC,PROC_FLAG_W,SYN,SYN_FLAG_W,THETA,BACT,BACT_FLAG_W,BTL_TIME,BTL_LAT,BTL_LON
,,,,,,,,,,,METERS,DBAR,DBAR,ITS-90,PSS-78,,PSS-78,,UMOL/KG,,UMOL/KG,,UMOL/KG,,UMOL/KG,,UMOL/KG,,UMOL/KG,,PMOL/KG,,PMOL/KG,,PMOL/KG,,PMOL/KG,,UMOL/KG,,UMOL/KG,,UMOL/KG,,UMOL/KG,,TU,,TU,NMOL/KG,,NMOL/KG,PERCNT,,PERCNT,NMOL/KG,,NMOL/KG,/MILLE,,/MILLE,/MILLE,,1/M,,1/M,,1/M,,1/M,,1/NM,,1/NM,,NMOL/KG,,NMOL/KG,,NMOL/KG,,NMOL/KG,,NMOL/KG,,NMOL/KG,,NMOL/KG,,PMOL/L/H,,E6/L,,E7/L,,E6/L,,DEG C,E8/L,,,,
316N200309, A20, 70, 1, 26, 26, 2, 20031016, 2230, 8.3457, -52.8933, 2445,     3.00,      3.0,  29.3295,  33.2995, 2,  33.3012, 2,    187.1, 2,    195.0, 2,     6.43, 2,     0.12, 2,     0.00, 2,     0.03, 2,    1.590, 2,    1.009, 2,    0.144, 2, -999.000, 9,   1872.0, 2,   2202.2, 2,  -999.00, 5,  -999.00, 9, -999.000, 9, -999.000, -999.0000, 9, -999.0000,  -999.00, 9,  -999.00, -999.000, 9, -999.000,   -999.0, 9,   -999.0,  -999.00, 9, -999.0000, 9, -999.0000, 9, -999.0000, 9, -999.0000, 9, -999.0000, 9, -999.0000, 9, -999, 9, -999, 9, -999, 9, -999, 9, -999, 9, -999, 9, -999, 9,  -999.00, 9,  -999.00, 9,  -999.00, 9,  -999.00, 9,  29.3288,  -999.00, 9, 2338,    8.3641,  -52.8983
316N200309, A20, 70, 1, 25, 25, 2, 20031016, 2230, 8.3457, -52.8933, 2445,    24.70,     24.7,  28.6238,  35.8383, 2,  35.7829, 2,    191.8, 2,    199.3, 2,     1.36, 2,     0.12, 2,     0.00, 2,     0.06, 2, -999.000, 9, -999.000, 9, -999.000, 9, -999.000, 9,   2002.4, 2,   2348.6, 2,  -999.00, 5,  -999.00, 9, -999.000, 9, -999.000, -999.0000, 9, -999.0000,  -999.00, 9,  -999.00, -999.000, 9, -999.000,   -999.0, 9,   -999.0,  -999.00, 9, -999.0000, 9, -999.0000, 9, -999.0000, 9, -999.0000, 9, -999.0000, 9, -999.0000, 9, -999, 9, -999, 9, -999, 9, -999, 9, -999, 9, -999, 9, -999, 9,  -999.00, 9,  -999.00, 9,  -999.00, 9,  -999.00, 9,  28.6179,  -999.00, 9, 2337,    8.3636,  -52.8982
316N200309, A20, 70, 1, 24, 24, 2, 20031016, 2230, 8.3457, -52.8933, 2445,    50.00,     50.0,  27.9178,  36.2463, 2,  36.2442, 2,    190.0, 2,    196.2, 2,     0.45, 2,     0.12, 2,     0.00, 2,     0.07, 2, -999.000, 9, -999.000, 9, -999.000, 9, -999.000, 9,   2030.1, 2,   2374.1, 2,  -999.00, 5,  -999.00, 9, -999.000, 9, -999.000, -999.0000, 9, -999.0000,  -999.00, 9,  -999.00, -999.000, 9, -999.000,   -999.0, 9,   -999.0,  -999.00, 9, -999.0000, 9, -999.0000, 9, -999.0000, 9, -999.0000, 9, -999.0000, 9, -999.0000, 9, -999, 9, -999, 9, -999, 9, -999, 9, -999, 9, -999, 9, -999, 9,  -999.00, 9,  -999.00, 9,  -999.00, 9,  -999.00, 9,  27.9060,  -999.00, 9, 2336,    8.3632,  -52.8982
316N200309, A20, 70, 1, 23, 23, 2, 20031016, 2230, 8.3457, -52.8933, 2445,    74.20,     74.2,  27.4448,  36.2494, 2,  36.2479, 2,    186.1, 2,    191.1, 2,     0.55, 2,     0.17, 2,     0.00, 2,     0.08, 2,    1.701, 2,    1.059, 2,    0.143, 2, -999.000, 9,   2038.1, 2,   2374.8, 2,  -999.00, 5,  -999.00, 9, -999.000, 9, -999.000, -999.0000, 9, -999.0000,  -999.00, 9,  -999.00, -999.000, 9, -999.000,   -999.0, 9,   -999.0,  -999.00, 9, -999.0000, 9, -999.0000, 9, -999.0000, 9, -999.0000, 9, -999.0000, 9, -999.0000, 9, -999, 9, -999, 9, -999, 9, -999, 9, -999, 9, -999, 9, -999, 9,  -999.00, 9,  -999.00, 9,  -999.00, 9,  -999.00, 9,  27.4275,  -999.00, 9, 2334,    8.3628,  -52.8981
316N200309, A20, 70, 1, 22, 22, 2, 20031016, 2230, 8.3457, -52.8933, 2445,   100.30,    100.3,  26.8403,  36.2729, 2,  36.2713, 2,    178.4, 2,    183.5, 2,     0.64, 2,     1.19, 2,     0.01, 2,     0.17, 2,    1.709, 2,    1.064, 2,    0.135, 2, -999.000, 9,   2050.2, 2,   2376.8, 2,  -999.00, 5,  -999.00, 9, -999.000, 9, -999.000, -999.0000, 9, -999.0000,  -999.00, 9,  -999.00, -999.000, 9, -999.000,   -999.0, 9,   -999.0,  -999.00, 9, -999.0000, 9, -999.0000, 9, -999.0000, 9, -999.0000, 9, -999.0000, 9, -999.0000, 9, -999, 9, -999, 9, -999, 9, -999, 9, -999, 9, -999, 9, -999, 9,  -999.00, 9,  -999.00, 9,  -999.00, 9,  -999.00, 9,  26.8173,  -999.00, 9, 2333,    8.3623,  -52.8980
316N200309, A20, 70, 1, 21, 21, 2, 20031016, 2230, 8.3457, -52.8933, 2445,   125.00,    125.0,  24.9574,  36.3855, 2,  36.3641, 2,    175.6, 2,    178.6, 2,     1.04, 2,     2.77, 2,     0.01, 2,     0.27, 2, -999.000, 9, -999.000, 9, -999.000, 9, -999.000, 9,   2074.1, 2,   2383.0, 2,  -999.00, 5,  -999.00, 9, -999.000, 9, -999.000, -999.0000, 9, -999.0000,  -999.00, 9,  -999.00, -999.000, 9, -999.000,   -999.0, 9,   -999.0,  -999.00, 9, -999.0000, 9, -999.0000, 9, -999.0000, 9, -999.0000, 9, -999.0000, 9, -999.0000, 9, -999, 9, -999, 9, -999, 9, -999, 9, -999, 9, -999, 9, -999, 9,  -999.00, 9,  -999.00, 9,  -999.00, 9,  -999.00, 9,  24.9302,  -999.00, 9, 2332,    8.3619,  -52.8980
316N200309, A20, 70, 1, 20, 20, 2, 20031016, 2230, 8.3457, -52.8933, 2445,   149.80,    149.8,  20.8550,  36.4266, 2,  36.3994, 2,    158.1, 2,    155.3, 2,     2.56, 2,     7.36, 2,     0.01, 2,     0.49, 2,    1.995, 2,    1.172, 2,    0.063, 2, -999.000, 9,   2124.7, 2,   2381.7, 2,  -999.00, 5,  -999.00, 9, -999.000, 9, -999.000, -999.0000, 9, -999.0000,  -999.00, 9,  -999.00, -999.000, 9, -999.000,   -999.0, 9,   -999.0,  -999.00, 9, -999.0000, 9, -999.0000, 9, -999.0000, 9, -999.0000, 9, -999.0000, 9, -999.0000, 9, -999, 9, -999, 9, -999, 9, -999, 9, -999, 9, -999, 9, -999, 9,  -999.00, 9,  -999.00, 9,  -999.00, 9,  -999.00, 9,  20.8263,  -999.00, 9, 2330,    8.3615,  -52.8979
316N200309, A20, 70, 1, 19, 19, 2, 20031016, 2230, 8.3457, -52.8933, 2445,   199.80,    199.8,  13.0038,  35.4460, 2,  35.4450, 2,    129.1, 2,    127.7, 2,     8.12, 2,    20.52, 2,     0.01, 2,     1.30, 2,    1.741, 2,    0.951, 2,    0.010, 2,    0.384, 2,   2179.7, 2,   2328.4, 2,  -999.00, 5,  -999.00, 9, -999.000, 9, -999.000, -999.0000, 9, -999.0000,  -999.00, 9,  -999.00, -999.000, 9, -999.000,   -999.0, 9,   -999.0,  -999.00, 9, -999.0000, 9, -999.0000, 9, -999.0000, 9, -999.0000, 9, -999.0000, 9, -999.0000, 9, -999, 9, -999, 9, -999, 9, -999, 9, -999, 9, -999, 9, -999, 9,  -999.00, 9,  -999.00, 9,  -999.00, 9,  -999.00, 9,  12.9762,  -999.00, 9, 2328,    8.3610,  -52.8978
316N200309, A20, 70, 1, 18, 18, 2, 20031016, 2230, 8.3457, -52.8933, 2445,   249.80,    249.8,  11.0315,  35.1330, 2,  35.1323, 2,    124.0, 2,    128.2, 2,    10.35, 2,    23.65, 2,     0.00, 2,     1.52, 2, -999.000, 9, -999.000, 9, -999.000, 9, -999.000, 9,   2184.7, 2,   2313.9, 2,  -999.00, 5,  -999.00, 9, -999.000, 9, -999.000, -999.0000, 9, -999.0000,  -999.00, 9,  -999.00, -999.000, 9, -999.000,   -999.0, 9,   -999.0,  -999.00, 9, -999.0000, 9, -999.0000, 9, -999.0000, 9, -999.0000, 9, -999.0000, 9, -999.0000, 9, -999, 9, -999, 9, -999, 9, -999, 9, -999, 9, -999, 9, -999, 9,  -999.00, 9,  -999.00, 9,  -999.00, 9,  -999.00, 9,  11.0006,  -999.00, 9, 2327,    8.3605,  -52.8978
316N200309, A20, 70, 1, 17, 17, 2, 20031016, 2230, 8.3457, -52.8933, 2445,   329.60,    329.6,   9.3848,  34.9330, 2,  34.9315, 2,    111.6, 2,    118.7, 2,    13.62, 2,    28.06, 2,     0.00, 2,     1.80, 2,    0.981, 2,    0.498, 2,    0.006, 2, -999.000, 9,   2201.0, 2,   2305.9, 2,  -999.00, 5,  -999.00, 9, -999.000, 9, -999.000, -999.0000, 9, -999.0000,  -999.00, 9,  -999.00, -999.000, 9, -999.000,   -999.0, 9,   -999.0,  -999.00, 9, -999.0000, 9, -999.0000, 9, -999.0000, 9, -999.0000, 9, -999.0000, 9, -999.0000, 9, -999, 9, -999, 9, -999, 9, -999, 9, -999, 9, -999, 9, -999, 9,  -999.00, 9,  -999.00, 9,  -999.00, 9,  -999.00, 9,   9.3478,  -999.00, 9, 2325,    8.3598,  -52.8976
316N200309, A20, 70, 1, 16, 16, 2, 20031016, 2230, 8.3457, -52.8933, 2445,   399.90,    399.9,   8.1110,  34.7784, 2,  34.7819, 2,    114.9, 2,    114.7, 2,    16.68, 2,    31.10, 2,     0.00, 2,     1.99, 2,    0.754, 2,    0.392, 2,    0.023, 2, -999.000, 9,   2210.7, 2,   2300.7, 2,  -999.00, 5,  -999.00, 9, -999.000, 9, -999.000, -999.0000, 9, -999.0000,  -999.00, 9,  -999.00, -999.000, 9, -999.000,   -999.0, 9,   -999.0,  -999.00, 9, -999.0000, 9, -999.0000, 9, -999.0000, 9, -999.0000, 9, -999.0000, 9, -999.0000, 9, -999, 9, -999, 9, -999, 9, -999, 9, -999, 9, -999, 9, -999, 9,  -999.00, 9,  -999.00, 9,  -999.00, 9,  -999.00, 9,   8.0698,  -999.00, 9, 2322,    8.3592,  -52.8975
316N200309, A20, 70, 1, 15, 15, 2, 20031016, 2230, 8.3457, -52.8933, 2445,   499.60,    499.6,   6.8475,  34.6563, 2,  34.6563, 2,    122.9, 2,    119.7, 2,    20.88, 2,    33.48, 2,     0.00, 2,     2.18, 2,    0.432, 2,    0.220, 2,    0.002, 2, -999.000, 9,   2217.4, 2,   2296.6, 2,  -999.00, 5,  -999.00, 9, -999.000, 9, -999.000, -999.0000, 9, -999.0000,  -999.00, 9,  -999.00, -999.000, 9, -999.000,   -999.0, 9,   -999.0,  -999.00, 9, -999.0000, 9, -999.0000, 9, -999.0000, 9, -999.0000, 9, -999.0000, 9, -999.0000, 9, -999, 9, -999, 9, -999, 9, -999, 9, -999, 9, -999, 9, -999, 9,  -999.00, 9,  -999.00, 9,  -999.00, 9,  -999.00, 9,   6.8005,  -999.00, 9, 2320,    8.3587,  -52.8973
316N200309, A20, 70, 1, 14, 14, 2, 20031016, 2230, 8.3457, -52.8933, 2445,   624.50,    624.5,   5.7152,  34.5839, 2,  34.5855, 2,    128.7, 2,    131.6, 2,    25.19, 2,    34.16, 2,     0.00, 2,     2.27, 2,    0.158, 2,    0.069, 2,   -0.005, 2, -999.000, 9,   2219.4, 2,   2298.0, 2,  -999.00, 5,  -999.00, 9, -999.000, 9, -999.000, -999.0000, 9, -999.0000,  -999.00, 9,  -999.00, -999.000, 9, -999.000,   -999.0, 9,   -999.0,  -999.00, 9, -999.0000, 9, -999.0000, 9, -999.0000, 9, -999.0000, 9, -999.0000, 9, -999.0000, 9, -999, 9, -999, 9, -999, 9, -999, 9, -999, 9, -999, 9, -999, 9,  -999.00, 9,  -999.00, 9,  -999.00, 9,  -999.00, 9,   5.6614,  -999.00, 9, 2316,    8.3580,  -52.8970
316N200309, A20, 70, 1, 13, 13, 2, 20031016, 2230, 8.3457, -52.8933, 2445,   750.00,    750.0,   5.2417,  34.6117, 2,  34.6115, 2,    137.1, 2,    134.2, 2,    27.65, 2,    34.44, 2,     0.00, 2,     2.30, 2,    0.030, 2,    0.010, 2,   -0.008, 2, -999.000, 9,   2222.6, 2,   2301.0, 2,  -999.00, 5,  -999.00, 9, -999.000, 9, -999.000, -999.0000, 9, -999.0000,  -999.00, 9,  -999.00, -999.000, 9, -999.000,   -999.0, 9,   -999.0,  -999.00, 9, -999.0000, 9, -999.0000, 9, -999.0000, 9, -999.0000, 9, -999.0000, 9, -999.0000, 9, -999, 9, -999, 9, -999, 9, -999, 9, -999, 9, -999, 9, -999, 9,  -999.00, 9,  -999.00, 9,  -999.00, 9,  -999.00, 9,   5.1790,  -999.00, 9, 2313,    8.3573,  -52.8967
316N200309, A20, 70, 1, 12, 12, 2, 20031016, 2230, 8.3457, -52.8933, 2445,   902.60,    902.6,   4.8830,  34.6678, 2,  34.6669, 2,    149.8, 2,    147.9, 2,    28.16, 2,    32.77, 2,     0.00, 2,     2.20, 2,   -0.025, 3,   -0.018, 3,   -0.008, 3, -999.000, 9,   2219.4, 2,   2304.4, 2,  -999.00, 5,  -999.00, 9, -999.000, 9, -999.000, -999.0000, 9, -999.0000,  -999.00, 9,  -999.00, -999.000, 9, -999.000,   -999.0, 9,   -999.0,  -999.00, 9, -999.0000, 9, -999.0000, 9, -999.0000, 9, -999.0000, 9, -999.0000, 9, -999.0000, 9, -999, 9, -999, 9, -999, 9, -999, 9, -999, 9, -999, 9, -999, 9,  -999.00, 9,  -999.00, 9,  -999.00, 9,  -999.00, 9,   4.8090,  -999.00, 9, 2310,    8.3565,  -52.8964
316N200309, A20, 70, 1, 11, 11, 2, 20031016, 2230, 8.3457, -52.8933, 2445,  1051.50,   1051.5,   4.7847,  34.7696, 2,  34.7691, 2,    163.7, 2,    163.9, 2,    26.00, 2,    30.16, 2,     0.00, 2,     2.01, 2,   -0.084, 3,   -0.047, 3,   -0.011, 3, -999.000, 9,   2211.2, 2,   2308.9, 2,  -999.00, 5,  -999.00, 9, -999.000, 9, -999.000, -999.0000, 9, -999.0000,  -999.00, 9,  -999.00, -999.000, 9, -999.000,   -999.0, 9,   -999.0,  -999.00, 9, -999.0000, 9, -999.0000, 9, -999.0000, 9, -999.0000, 9, -999.0000, 9, -999.0000, 9, -999, 9, -999, 9, -999, 9, -999, 9, -999, 9, -999, 9, -999, 9,  -999.00, 9,  -999.00, 9,  -999.00, 9,  -999.00, 9,   4.6980,  -999.00, 9, 2305,    8.3556,  -52.8961
316N200309, A20, 70, 1, 10, 10, 2, 20031016, 2230, 8.3457, -52.8933, 2445,  1202.70,   1202.7,   4.8429,  34.8888, 2,  34.8910, 2,    184.7, 2,    185.9, 2,    21.78, 2,    26.34, 2,     0.00, 2,     1.75, 2,    0.055, 2,    0.024, 2,   -0.001, 2, -999.000, 9,   2196.7, 2,   2312.4, 2,  -999.00, 5,  -999.00, 9, -999.000, 9, -999.000, -999.0000, 9, -999.0000,  -999.00, 9,  -999.00, -999.000, 9, -999.000,   -999.0, 9,   -999.0,  -999.00, 9, -999.0000, 9, -999.0000, 9, -999.0000, 9, -999.0000, 9, -999.0000, 9, -999.0000, 9, -999, 9, -999, 9, -999, 9, -999, 9, -999, 9, -999, 9, -999, 9,  -999.00, 9,  -999.00, 9,  -999.00, 9,  -999.00, 9,   4.7416,  -999.00, 9, 2302,    8.3547,  -52.8957
316N200309, A20, 70, 1, 9, 9, 2, 20031016, 2230, 8.3457, -52.8933, 2445,  1327.40,   1327.4,   4.8775,  34.9658, 2,  34.9671, 2,    201.3, 2,    205.9, 2,    18.50, 2,    23.39, 2,     0.00, 2,     1.54, 2,    0.222, 2,    0.092, 2,   -0.004, 2, -999.000, 9,   2184.4, 2,   2313.4, 2,  -999.00, 5,  -999.00, 9, -999.000, 9, -999.000, -999.0000, 9, -999.0000,  -999.00, 9,  -999.00, -999.000, 9, -999.000,   -999.0, 9,   -999.0,  -999.00, 9, -999.0000, 9, -999.0000, 9, -999.0000, 9, -999.0000, 9, -999.0000, 9, -999.0000, 9, -999, 9, -999, 9, -999, 9, -999, 9, -999, 9, -999, 9, -999, 9,  -999.00, 9,  -999.00, 9,  -999.00, 9,  -999.00, 9,   4.7640,  -999.00, 9, 2258,    8.3539,  -52.8955
316N200309, A20, 70, 1, 8, 8, 2, 20031016, 2230, 8.3457, -52.8933, 2445,  1452.60,   1452.6,   4.5571,  35.0105, 2,  35.0108, 2,    236.8, 2,    236.9, 2,    14.61, 2,    19.81, 2,     0.00, 2,     1.29, 2,    0.731, 2,    0.359, 2,    0.031, 2, -999.000, 9,   2170.3, 2,   2312.9, 2,  -999.00, 5,  -999.00, 9, -999.000, 9, -999.000, -999.0000, 9, -999.0000,  -999.00, 9,  -999.00, -999.000, 9, -999.000,   -999.0, 9,   -999.0,  -999.00, 9, -999.0000, 9, -999.0000, 9, -999.0000, 9, -999.0000, 9, -999.0000, 9, -999.0000, 9, -999, 9, -999, 9, -999, 9, -999, 9, -999, 9, -999, 9, -999, 9,  -999.00, 9,  -999.00, 9,  -999.00, 9,  -999.00, 9,   4.4351,  -999.00, 9, 2255,    8.3530,  -52.8952
316N200309, A20, 70, 1, 7, 7, 2, 20031016, 2230, 8.3457, -52.8933, 2445,  1551.30,   1551.3,   4.2987,  35.0023, 2,  35.0026, 2,    248.4, 2,    247.1, 2,    13.90, 2,    18.98, 2,     0.00, 2,     1.24, 2,    0.805, 2,    0.402, 2,    0.027, 2, -999.000, 9,   2165.7, 2,   2310.7, 2,  -999.00, 5,  -999.00, 9, -999.000, 9, -999.000, -999.0000, 9, -999.0000,  -999.00, 9,  -999.00, -999.000, 9, -999.000,   -999.0, 9,   -999.0,  -999.00, 9, -999.0000, 9, -999.0000, 9, -999.0000, 9, -999.0000, 9, -999.0000, 9, -999.0000, 9, -999, 9, -999, 9, -999, 9, -999, 9, -999, 9, -999, 9, -999, 9,  -999.00, 9,  -999.00, 9,  -999.00, 9,  -999.00, 9,   4.1703,  -999.00, 9, 2252,    8.3522,  -52.8950
316N200309, A20, 70, 1, 6, 6, 2, 20031016, 2230, 8.3457, -52.8933, 2445,  1652.30,   1652.3,   4.1421,  34.9950, 2,  34.9949, 2,    253.5, 2,    252.0, 2,    13.79, 2,    18.61, 2,     0.00, 2,     1.21, 2,    0.857, 2,    0.423, 2,    0.032, 2, -999.000, 9,   2162.5, 2,   2309.9, 2,  -999.00, 5,  -999.00, 9, -999.000, 9, -999.000, -999.0000, 9, -999.0000,  -999.00, 9,  -999.00, -999.000, 9, -999.000,   -999.0, 9,   -999.0,  -999.00, 9, -999.0000, 9, -999.0000, 9, -999.0000, 9, -999.0000, 9, -999.0000, 9, -999.0000, 9, -999, 9, -999, 9, -999, 9, -999, 9, -999, 9, -999, 9, -999, 9,  -999.00, 9,  -999.00, 9,  -999.00, 9,  -999.00, 9,   4.0060,  -999.00, 9, 2249,    8.3513,  -52.8948
316N200309, A20, 70, 1, 5, 5, 2, 20031016, 2230, 8.3457, -52.8933, 2445,  1774.90,   1774.9,   3.8957,  34.9829, 2,  34.9831, 2,    258.9, 2,    258.0, 2,    13.89, 2,    18.24, 2,     0.00, 2,     1.19, 2,    0.882, 2,    0.432, 2,    0.037, 2, -999.000, 9,   2162.6, 2,   2310.4, 2,  -999.00, 5,  -999.00, 9, -999.000, 9, -999.000, -999.0000, 9, -999.0000,  -999.00, 9,  -999.00, -999.000, 9, -999.000,   -999.0, 9,   -999.0,  -999.00, 9, -999.0000, 9, -999.0000, 9, -999.0000, 9, -999.0000, 9, -999.0000, 9, -999.0000, 9, -999, 9, -999, 9, -999, 9, -999, 9, -999, 9, -999, 9, -999, 9,  -999.00, 9,  -999.00, 9,  -999.00, 9,  -999.00, 9,   3.7513,  -999.00, 9, 2246,    8.3505,  -52.8945
316N200309, A20, 70, 1, 4, 4, 2, 20031016, 2230, 8.3457, -52.8933, 2445,  1900.50,   1900.5,   3.7869,  34.9786, 2,  34.9791, 2,    260.1, 2,    259.2, 2,    14.30, 2,    18.20, 2,     0.00, 2,     1.18, 2,    0.775, 2,    0.386, 2,    0.032, 2, -999.000, 9,   2161.0, 2,   2310.1, 2,  -999.00, 5,  -999.00, 9, -999.000, 9, -999.000, -999.0000, 9, -999.0000,  -999.00, 9,  -999.00, -999.000, 9, -999.000,   -999.0, 9,   -999.0,  -999.00, 9, -999.0000, 9, -999.0000, 9, -999.0000, 9, -999.0000, 9, -999.0000, 9, -999.0000, 9, -999, 9, -999, 9, -999, 9, -999, 9, -999, 9, -999, 9, -999, 9,  -999.00, 9,  -999.00, 9,  -999.00, 9,  -999.00, 9,   3.6320,  -999.00, 9, 2243,    8.3496,  -52.8943
316N200309, A20, 70, 1, 3, 3, 2, 20031016, 2230, 8.3457, -52.8933, 2445,  2049.00,   2049.0,   3.6289,  34.9737, 2,  34.9748, 2,    260.3, 2,    260.9, 2,    15.32, 2,    18.25, 2,     0.00, 2,     1.18, 2,    0.678, 2,    0.334, 2,    0.027, 2, -999.000, 9,   2161.5, 2,   2311.0, 2,  -999.00, 5,  -999.00, 9, -999.000, 9, -999.000, -999.0000, 9, -999.0000,  -999.00, 9,  -999.00, -999.000, 9, -999.000,   -999.0, 9,   -999.0,  -999.00, 9, -999.0000, 9, -999.0000, 9, -999.0000, 9, -999.0000, 9, -999.0000, 9, -999.0000, 9, -999, 9, -999, 9, -999, 9, -999, 9, -999, 9, -999, 9, -999, 9,  -999.00, 9,  -999.00, 9,  -999.00, 9,  -999.00, 9,   3.4622,  -999.00, 9, 2240,    8.3485,  -52.8941
316N200309, A20, 70, 1, 2, 2, 2, 20031016, 2230, 8.3457, -52.8933, 2445,  2249.10,   2249.1,   3.5058,  34.9705, 2,  34.9697, 2,    258.9, 2,    260.3, 2,    16.54, 2,    18.34, 2,     0.00, 2,     1.20, 2,    0.528, 2,    0.266, 2,    0.021, 2, -999.000, 9,   2162.9, 2,   2311.5, 2,  -999.00, 5,  -999.00, 9, -999.000, 9, -999.000, -999.0000, 9, -999.0000,  -999.00, 9,  -999.00, -999.000, 9, -999.000,   -999.0, 9,   -999.0,  -999.00, 9, -999.0000, 9, -999.0000, 9, -999.0000, 9, -999.0000, 9, -999.0000, 9, -999.0000, 9, -999, 9, -999, 9, -999, 9, -999, 9, -999, 9, -999, 9, -999, 9,  -999.00, 9,  -999.00, 9,  -999.00, 9,  -999.00, 9,   3.3216,  -999.00, 9, 2235,    8.3472,  -52.8939
316N200309, A20, 70, 1, 1, 1, 2, 20031016, 2230, 8.3457, -52.8933, 2445,  2444.00,   2444.0,   3.2233,  34.9581, 2,  34.9581, 2,    258.2, 2,    260.1, 2,    19.30, 2,    18.52, 2,     0.00, 2,     1.22, 2,    0.374, 2,    0.192, 2,    0.016, 2, -999.000, 9,   2164.9, 2,   2315.1, 2,  -999.00, 5,  -999.00, 9, -999.000, 9, -999.000, -999.0000, 9, -999.0000,  -999.00, 9,  -999.00, -999.000, 9, -999.000,   -999.0, 9,   -999.0,  -999.00, 9, -999.0000, 9, -999.0000, 9, -999.0000, 9, -999.0000, 9, -999.0000, 9, -999.0000, 9, -999, 9, -999, 9, -999, 9, -999, 9, -999, 9, -999, 9, -999, 9,  -999.00, 9,  -999.00, 9,  -999.00, 9,  -999.00, 9,   3.0247,  -999.00, 9, 2231,    8.3459,  -52.8935