BOTTLE,20220816CCHSIOAMB
EXPOCODE,SECT_ID,STNNBR,CASTNO,SAMPNO,BTLNBR,BTLNBR_FLAG_W,DATE,TIME,LATITUDE,LONGITUDE,DEPTH,CTDRAW,CTDPRS,CTDTMP,CTDSAL,CTDSAL_FLAG_W,SALNTY,SALNTY_FLAG_W,CTDOXY,CTDOXY_FLAG_W,OXYGEN,OXYGEN_FLAG_W,SILCAT,SILCAT_FLAG_W,NITRAT,NITRAT_FLAG_W,NITRIT,NITRIT_FLAG_W,PHSPHT,PHSPHT_FLAG_W,CFC-11,CFC-11_FLAG_W,CFC-12,CFC-12_FLAG_W,CFC113,CFC113_FLAG_W,CCL4,CCL4_FLAG_W,TCARBN,TCARBN_FLAG_W,ALKALI,ALKALI_FLAG_W,DOC,DOC_FLAG_W,TDN,TDN_FLAG_W,TRITUM,TRITUM_FLAG_W,TRITER,HELIUM,HELIUM_FLAG_W,HELIER,DELHE3,DELHE3_FLAG_W,DELHER,NEON,NEON_FLAG_W,NEONER,DELC14,DELC14_FLAG_W,C14ERR,DELC13,DELC13_FLAG_W,CDOM325,CDOM325_FLAG_W,CDOM340,CDOM340_FLAG_W,CDOM380,CDOM380_FLAG_W,CDOM412,CDOM412_FLAG_W,CDOMSL,CDOMSL_FLAG_W,CDOMSN,CDOMSN_FLAG_W,DCNS,DCNS_FLAG_W,ARABI,ARABI_FLAG_W,FUCO,FUCO_FLAG_W,GALA,GALA_FLAG_W,GLUC,GLUC_FLAG_W,MAN,MAN_FLAG_W,RHAM,RHAM_FLAG_W,BRDU,BRDU_FLAG_W,PEUK,PEUK_FLAG_W,PROC,PROC_FLAG_W,SYN,SYN_FLAG_W,THETA,BACT,BACT_FLAG_W,BTL_TIME,BTL_LAT,BTL_LON
,,,,,,,,,,,METERS,DBAR,DBAR,ITS-90,PSS-78,,PSS-78,,UMOL/KG,,UMOL/KG,,UMOL/KG,,UMOL/KG,,UMOL/KG,,UMOL/KG,,PMOL/KG,,PMOL/KG,,PMOL/KG,,PMOL/KG,,UMOL/KG,,UMOL/KG,,UMOL/KG,,UMOL/KG,,TU,,TU,NMOL/KG,,NMOL/KG,PERCNT,,PERCNT,NMOL/KG,,NMOL/KG,/MILLE,,/MILLE,/MILLE,,1/M,,1/M,,1/M,,1/M,,1/NM,,1/NM,,NMOL/KG,,NMOL/KG,,NMOL/KG,,NMOL/KG,,NMOL/KG,,NMOL/KG,,NMOL/KG,,PMOL/L/H,,E6/L,,E7/L,,E6/L,,DEG C,E8/L,,,,
316N200309, A20, 31, 1, 10, 10, 2, 20031004, 0903, 26.8420, -52.3437, 4990,  3297.70,   3297.7,   2.6391,  34.9242, 2,  34.9242, 2,    255.3, 2,    309.7, 4,    34.48, 2,    20.30, 2,     0.00, 2,     1.38, 2,    0.013, 2,    0.010, 2,   -0.001, 2,    0.123, 2,   2181.0, 2,   2331.5, 2,    41.30, 2,  -999.00, 9, -999.000, 9, -999.000, -999.0000, 9, -999.0000,  -999.00, 9,  -999.00, -999.000, 9, -999.000,   -999.0, 9,   -999.0,  -999.00, 9,    0.1200, 2,    0.0820, 2,    0.0370, 2,    0.0320, 2,    0.0150, 2,    0.0190, 2, -999, 9, -999, 9, -999, 9, -999, 9, -999, 9, -999, 9, -999, 9,  -999.00, 9,  -999.00, 9,  -999.00, 9,  -999.00, 9,   2.3650,  -999.00, 9,  949,   26.8355,  -52.3403
316N200309, A20, 31, 1, 9, 9, 2, 20031004, 0903, 26.8420, -52.3437, 4990,  3496.90,   3496.9,   2.5246,  34.9145, 2,  34.9158, 2,    257.0, 2,    323.4, 4,    35.37, 2,    20.24, 2,     0.00, 2,     1.39, 2,    0.012, 2,    0.007, 2,   -0.002, 2,    0.166, 2,   2180.4, 2,   2329.2, 2,  -999.00, 9,  -999.00, 9, -999.000, 9, -999.000, -999.0000, 9, -999.0000,  -999.00, 9,  -999.00, -999.000, 9, -999.000,   -999.0, 9,   -999.0,  -999.00, 9, -999.0000, 9, -999.0000, 9, -999.0000, 9, -999.0000, 9, -999.0000, 9, -999.0000, 9, -999, 9, -999, 9, -999, 9, -999, 9, -999, 9, -999, 9, -999, 9,  -999.00, 9,  -999.00, 9,  -999.00, 9,  -999.00, 9,   2.2319,  -999.00, 9,  944,   26.8368,  -52.3406
316N200309, A20, 31, 1, 8, 8, 2, 20031004, 0903, 26.8420, -52.3437, 4990,  3697.90,   3697.9,   2.4181,  34.9048, 2,  34.9054, 2,    258.4, 2,    312.7, 4,    36.66, 2,    20.29, 2,     0.00, 2,     1.39, 2,    0.021, 2,    0.017, 2,   -0.002, 2,    0.171, 2,   2183.6, 2,   2330.3, 2,  -999.00, 9,  -999.00, 9, -999.000, 9, -999.000, -999.0000, 9, -999.0000,  -999.00, 9,  -999.00, -999.000, 9, -999.000,   -999.0, 9,   -999.0,  -999.00, 9, -999.0000, 9, -999.0000, 9, -999.0000, 9, -999.0000, 9, -999.0000, 9, -999.0000, 9, -999, 9, -999, 9, -999, 9, -999, 9, -999, 9, -999, 9, -999, 9,  -999.00, 9,  -999.00, 9,  -999.00, 9,  -999.00, 9,   2.1061,  -999.00, 9,  940,   26.8381,  -52.3412
316N200309, A20, 31, 1, 7, 7, 2, 20031004, 0903, 26.8420, -52.3437, 4990,  3899.20,   3899.2,   2.3242,  34.8953, 2,  34.8939, 2,    258.9, 2,    310.6, 4,    38.95, 2,    20.53, 2,     0.00, 2,     1.41, 2,    0.021, 2,    0.023, 2,   -0.002, 2,    0.184, 2,   2184.7, 2,   2333.2, 2,  -999.00, 9,  -999.00, 9, -999.000, 9, -999.000, -999.0000, 9, -999.0000,  -999.00, 9,  -999.00, -999.000, 9, -999.000,   -999.0, 9,   -999.0,  -999.00, 9, -999.0000, 9, -999.0000, 9, -999.0000, 9, -999.0000, 9, -999.0000, 9, -999.0000, 9, -999, 9, -999, 9, -999, 9, -999, 9, -999, 9, -999, 9, -999, 9,  -999.00, 9,  -999.00, 9,  -999.00, 9,  -999.00, 9,   1.9923,  -999.00, 9,  935,   26.8388,  -52.3419
316N200309, A20, 31, 1, 6, 6, 2, 20031004, 0903, 26.8420, -52.3437, 4990,  4123.60,   4123.6,   2.2357,  34.8844, 2,  34.8839, 2,    256.8, 2,    306.6, 4,    42.73, 2,    21.03, 2,     0.00, 2,     1.45, 2,    0.022, 2,    0.010, 2,   -0.002, 2,    0.169, 2,   2187.6, 2,   2335.1, 2,    41.50, 2,  -999.00, 9, -999.000, 9, -999.000, -999.0000, 9, -999.0000,  -999.00, 9,  -999.00, -999.000, 9, -999.000,   -999.0, 9,   -999.0,  -999.00, 9,    0.1230, 2,    0.0850, 2,    0.0410, 2,    0.0370, 3,    0.0130, 3,    0.0170, 3, -999, 9, -999, 9, -999, 9, -999, 9, -999, 9, -999, 9, -999, 9,  -999.00, 9,  -999.00, 9,  -999.00, 9,  -999.00, 9,   1.8808,  -999.00, 9,  930,   26.8394,  -52.3424
316N200309, A20, 31, 1, 5, 5, 2, 20031004, 0903, 26.8420, -52.3437, 4990,  4372.20,   4372.2,   2.1689,  34.8749, 2,  34.8739, 2,    254.9, 2,    279.5, 4,    46.13, 2,    21.43, 2,     0.00, 2,     1.47, 2,    0.019, 2,    0.018, 2,   -0.002, 2,    0.191, 2,   2191.2, 2,   2337.5, 2,  -999.00, 9,  -999.00, 9, -999.000, 9, -999.000, -999.0000, 9, -999.0000,  -999.00, 9,  -999.00, -999.000, 9, -999.000,   -999.0, 9,   -999.0,  -999.00, 9, -999.0000, 9, -999.0000, 9, -999.0000, 9, -999.0000, 9, -999.0000, 9, -999.0000, 9, -999, 9, -999, 9, -999, 9, -999, 9, -999, 9, -999, 9, -999, 9,  -999.00, 9,  -999.00, 9,  -999.00, 9,  -999.00, 9,   1.7871,  -999.00, 9,  924,   26.8402,  -52.3425
316N200309, A20, 31, 1, 4, 4, 2, 20031004, 0903, 26.8420, -52.3437, 4990,  4624.60,   4624.6,   2.1221,  34.8669, 2,  34.8666, 2,    253.6, 2,    260.2, 4,    48.93, 2,    21.88, 2,     0.00, 2,     1.50, 2,    0.023, 2,    0.012, 2,   -0.002, 2,    0.194, 2,   2192.7, 2,   2340.2, 2,  -999.00, 9,  -999.00, 9, -999.000, 9, -999.000, -999.0000, 9, -999.0000,  -999.00, 9,  -999.00, -999.000, 9, -999.000,   -999.0, 9,   -999.0,  -999.00, 9, -999.0000, 9, -999.0000, 9, -999.0000, 9, -999.0000, 9, -999.0000, 9, -999.0000, 9, -999, 9, -999, 9, -999, 9, -999, 9, -999, 9, -999, 9, -999, 9,  -999.00, 9,  -999.00, 9,  -999.00, 9,  -999.00, 9,   1.7117,  -999.00, 9,  918,   26.8410,  -52.3428
316N200309, A20, 31, 1, 3, 3, 2, 20031004, 0903, 26.8420, -52.3437, 4990,  4749.80,   4749.8,   2.1247,  34.8657, 2,  34.8652, 2,    253.3, 2,    328.3, 4,    49.43, 2,    21.98, 2,     0.00, 2,     1.50, 2,    0.019, 2,    0.024, 2,   -0.002, 2,    0.137, 2,   2193.4, 2,   2337.8, 2,  -999.00, 9,  -999.00, 9, -999.000, 9, -999.000, -999.0000, 9, -999.0000,  -999.00, 9,  -999.00, -999.000, 9, -999.000,   -999.0, 9,   -999.0,  -999.00, 9, -999.0000, 9, -999.0000, 9, -999.0000, 9, -999.0000, 9, -999.0000, 9, -999.0000, 9, -999, 9, -999, 9, -999, 9, -999, 9, -999, 9, -999, 9, -999, 9,  -999.00, 9,  -999.00, 9,  -999.00, 9,  -999.00, 9,   1.6990,  -999.00, 9,  914,   26.8413,  -52.3430
316N200309, A20, 31, 1, 2, 2, 2, 20031004, 0903, 26.8420, -52.3437, 4990,  4900.70,   4900.7,   2.1193,  34.8629, 2,  34.8625, 2,    252.6, 2,    310.2, 4,    50.42, 2,    22.08, 2,     0.00, 2,     1.51, 2,    0.023, 2,    0.029, 2,   -0.002, 2,    0.172, 2,   2192.8, 2,   2341.5, 2,    41.10, 2,  -999.00, 9, -999.000, 9, -999.000, -999.0000, 9, -999.0000,  -999.00, 9,  -999.00, -999.000, 9, -999.000,   -999.0, 9,   -999.0,  -999.00, 9,    0.1280, 2,    0.0880, 2,    0.0390, 2,    0.0300, 2,    0.0180, 2,    0.0210, 2, -999, 9, -999, 9, -999, 9, -999, 9, -999, 9, -999, 9, -999, 9,  -999.00, 9,  -999.00, 9,  -999.00, 9,  -999.00, 9,   1.6753,  -999.00, 9,  910,   26.8417,  -52.3432
316N200309, A20, 31, 1, 1, 1, 2, 20031004, 0903, 26.8420, -52.3437, 4990,  5186.20,   5186.2,   2.1286,  34.8596, 2,  34.8599, 2,    252.3, 2,    284.4, 4,    51.42, 2,    22.27, 2,     0.00, 2,     1.52, 2,    0.021, 2,    0.017, 2,   -0.002, 2,    0.134, 2,   2195.6, 2,   2342.2, 2,    41.90, 2,  -999.00, 9, -999.000, 9, -999.000, -999.0000, 9, -999.0000,  -999.00, 9,  -999.00, -999.000, 9, -999.000,   -999.0, 9,   -999.0,  -999.00, 9,    0.1290, 2,    0.0900, 2,    0.0440, 2,    0.0480, 3,    0.0090, 3,    0.0130, 3, -999, 9, -999, 9, -999, 9, -999, 9, -999, 9, -999, 9, -999, 9,  -999.00, 9,  -999.00, 9,  -999.00, 9,  -999.00, 9,   1.6484,  -999.00, 9,  903,   26.8421,  -52.3437