BOTTLE,20220816CCHSIOAMB
EXPOCODE,SECT_ID,STNNBR,CASTNO,SAMPNO,BTLNBR,BTLNBR_FLAG_W,DATE,TIME,LATITUDE,LONGITUDE,DEPTH,CTDRAW,CTDPRS,CTDTMP,CTDSAL,CTDSAL_FLAG_W,SALNTY,SALNTY_FLAG_W,CTDOXY,CTDOXY_FLAG_W,OXYGEN,OXYGEN_FLAG_W,SILCAT,SILCAT_FLAG_W,NITRAT,NITRAT_FLAG_W,NITRIT,NITRIT_FLAG_W,PHSPHT,PHSPHT_FLAG_W,CFC-11,CFC-11_FLAG_W,CFC-12,CFC-12_FLAG_W,CFC113,CFC113_FLAG_W,CCL4,CCL4_FLAG_W,TCARBN,TCARBN_FLAG_W,ALKALI,ALKALI_FLAG_W,DOC,DOC_FLAG_W,TDN,TDN_FLAG_W,TRITUM,TRITUM_FLAG_W,TRITER,HELIUM,HELIUM_FLAG_W,HELIER,DELHE3,DELHE3_FLAG_W,DELHER,NEON,NEON_FLAG_W,NEONER,DELC14,DELC14_FLAG_W,C14ERR,DELC13,DELC13_FLAG_W,CDOM325,CDOM325_FLAG_W,CDOM340,CDOM340_FLAG_W,CDOM380,CDOM380_FLAG_W,CDOM412,CDOM412_FLAG_W,CDOMSL,CDOMSL_FLAG_W,CDOMSN,CDOMSN_FLAG_W,DCNS,DCNS_FLAG_W,ARABI,ARABI_FLAG_W,FUCO,FUCO_FLAG_W,GALA,GALA_FLAG_W,GLUC,GLUC_FLAG_W,MAN,MAN_FLAG_W,RHAM,RHAM_FLAG_W,BRDU,BRDU_FLAG_W,PEUK,PEUK_FLAG_W,PROC,PROC_FLAG_W,SYN,SYN_FLAG_W,THETA,BACT,BACT_FLAG_W,BTL_TIME,BTL_LAT,BTL_LON
,,,,,,,,,,,METERS,DBAR,DBAR,ITS-90,PSS-78,,PSS-78,,UMOL/KG,,UMOL/KG,,UMOL/KG,,UMOL/KG,,UMOL/KG,,UMOL/KG,,PMOL/KG,,PMOL/KG,,PMOL/KG,,PMOL/KG,,UMOL/KG,,UMOL/KG,,UMOL/KG,,UMOL/KG,,TU,,TU,NMOL/KG,,NMOL/KG,PERCNT,,PERCNT,NMOL/KG,,NMOL/KG,/MILLE,,/MILLE,/MILLE,,1/M,,1/M,,1/M,,1/M,,1/NM,,1/NM,,NMOL/KG,,NMOL/KG,,NMOL/KG,,NMOL/KG,,NMOL/KG,,NMOL/KG,,NMOL/KG,,PMOL/L/H,,E6/L,,E7/L,,E6/L,,DEG C,E8/L,,,,
316N200309, A20, 18, 1, 36, 36, 2, 20030929, 0223, 39.3178, -51.9663, 5325,     2.80,      2.8,  25.7364,  36.1276, 2, -999.0000, 9,    195.1, 2,    205.7, 2,     0.71, 2,     0.19, 2,     0.00, 2,     0.03, 2,    1.777, 2,    1.091, 2,    0.144, 2, -999.000, 9,   2021.1, 2,   2364.8, 2,  -999.00, 9,  -999.00, 9, -999.000, 9, -999.000,   1.7469, 2,   0.0087,    -1.38, 2,     0.20,    6.868, 2,    0.034,   -999.0, 9,   -999.0,  -999.00, 9,    0.0970, 2,    0.0660, 2,    0.0270, 2,    0.0170, 2,    0.0240, 2,    0.0250, 2, -999, 9, -999, 9, -999, 9, -999, 9, -999, 9, -999, 9, -999, 9,  -999.00, 9,  -999.00, 9,  -999.00, 9,  -999.00, 9,  25.7358,  -999.00, 9,  436,   39.2808,  -51.9366
316N200309, A20, 18, 1, 35, 35, 2, 20030929, 0223, 39.3178, -51.9663, 5325,    26.80,     26.8,  25.7325,  36.1280, 2,  36.1260, 2,    194.8, 2,    205.1, 2,     0.70, 2,     0.18, 2,     0.00, 2,     0.02, 2,    1.776, 2,    1.107, 2,    0.146, 2, -999.000, 9,   -999.0, 9,   -999.0, 9,  -999.00, 9,  -999.00, 9, -999.000, 9, -999.000, -999.0000, 9, -999.0000,  -999.00, 9,  -999.00, -999.000, 9, -999.000,   -999.0, 9,   -999.0,  -999.00, 9,    0.1110, 2,    0.0750, 2,    0.0320, 2,    0.0200, 2,    0.0230, 2,    0.0240, 2, -999, 9, -999, 9, -999, 9, -999, 9, -999, 9, -999, 9, -999, 9,  -999.00, 9,  -999.00, 9,  -999.00, 9,  -999.00, 9,  25.7265,  -999.00, 9,  434,   39.2809,  -51.9370
316N200309, A20, 18, 1, 34, 34, 2, 20030929, 0223, 39.3178, -51.9663, 5325,    51.70,     51.7,  25.5322,  36.3755, 2,  36.3770, 2,    195.4, 2,    206.7, 2,     0.60, 2,     0.08, 2,     0.00, 2,     0.02, 2,    1.819, 2,    1.115, 2,    0.150, 2, -999.000, 9,   -999.0, 9,   -999.0, 9,  -999.00, 9,  -999.00, 9,    0.799, 2,    0.005,   1.7517, 2,   0.0088,    -1.11, 2,     0.20,    6.884, 2,    0.034,   -999.0, 9,   -999.0,  -999.00, 9,    0.0840, 2,    0.0570, 2,    0.0230, 2,    0.0150, 2,    0.0250, 2,    0.0260, 2, -999, 9, -999, 9, -999, 9, -999, 9, -999, 9, -999, 9, -999, 9,  -999.00, 9,  -999.00, 9,  -999.00, 9,  -999.00, 9,  25.5208,  -999.00, 9,  433,   39.2810,  -51.9374
316N200309, A20, 18, 1, 33, 33, 2, 20030929, 0223, 39.3178, -51.9663, 5325,    77.20,     77.2,  22.1466,  36.6604, 2,  36.6685, 2,    195.6, 2,    184.2, 2,     1.00, 2,     1.97, 2,     0.09, 2,     0.12, 2,    2.100, 2,    1.238, 2,    0.096, 2, -999.000, 9,   -999.0, 9,   -999.0, 9,  -999.00, 9,  -999.00, 9, -999.000, 9, -999.000, -999.0000, 9, -999.0000,  -999.00, 9,  -999.00, -999.000, 9, -999.000,   -999.0, 9,   -999.0,  -999.00, 9,    0.1380, 2,    0.1020, 2,    0.0480, 2,    0.0340, 2,    0.0160, 2,    0.0180, 2, -999, 9, -999, 9, -999, 9, -999, 9, -999, 9, -999, 9, -999, 9,  -999.00, 9,  -999.00, 9,  -999.00, 9,  -999.00, 9,  22.1311,  -999.00, 9,  431,   39.2813,  -51.9375
316N200309, A20, 18, 1, 32, 32, 2, 20030929, 0223, 39.3178, -51.9663, 5325,   101.60,    101.6,  20.3509,  36.6510, 2,  36.6532, 2,    163.2, 2,    182.1, 2,     1.20, 2,     3.12, 2,     0.04, 2,     0.18, 2,    2.206, 2,    1.281, 2,    0.073, 2, -999.000, 9,   -999.0, 9,   -999.0, 9,  -999.00, 9,  -999.00, 9,    0.778, 2,    0.005,   1.7967, 2,   0.0090,    -0.67, 2,     0.20,    7.187, 2,    0.036,   -999.0, 9,   -999.0,  -999.00, 9,    0.1160, 2,    0.0880, 2,    0.0420, 2,    0.0300, 2,    0.0160, 2,    0.0170, 2, -999, 9, -999, 9, -999, 9, -999, 9, -999, 9, -999, 9, -999, 9,  -999.00, 9,  -999.00, 9,  -999.00, 9,  -999.00, 9,  20.3317,  -999.00, 9,  429,   39.2820,  -51.9378
316N200309, A20, 18, 1, 31, 31, 2, 20030929, 0223, 39.3178, -51.9663, 5325,   126.70,    126.7,  19.0054,  36.5993, 2,  36.5997, 2,    174.2, 2,    201.1, 2,     0.89, 2,     2.65, 2,     0.01, 2,     0.13, 2,    2.324, 2,    1.393, 2,    0.083, 2, -999.000, 9,   -999.0, 9,   -999.0, 9,  -999.00, 9,  -999.00, 9, -999.000, 9, -999.000, -999.0000, 9, -999.0000,  -999.00, 9,  -999.00, -999.000, 9, -999.000,   -999.0, 9,   -999.0,  -999.00, 9, -999.0000, 9, -999.0000, 9, -999.0000, 9, -999.0000, 9, -999.0000, 9, -999.0000, 9, -999, 9, -999, 9, -999, 9, -999, 9, -999, 9, -999, 9, -999, 9,  -999.00, 9,  -999.00, 9,  -999.00, 9,  -999.00, 9,  18.9826,  -999.00, 9,  428,   39.2825,  -51.9382
316N200309, A20, 18, 1, 30, 30, 2, 20030929, 0223, 39.3178, -51.9663, 5325,   151.90,    151.9,  18.6476,  36.5845, 2,  36.5801, 2,    184.8, 2,    204.4, 2,     1.09, 2,     3.00, 2,     0.01, 2,     0.15, 2,    2.359, 2,    1.395, 2,    0.072, 2, -999.000, 9,   -999.0, 9,   -999.0, 9,  -999.00, 9,  -999.00, 9,    0.784, 2,    0.005,   1.8336, 2,   0.0092,    -0.67, 2,     0.20,    7.339, 2,    0.037,   -999.0, 9,   -999.0,  -999.00, 9,    0.0960, 2,    0.0720, 2,    0.0370, 2,    0.0260, 2,    0.0160, 2,    0.0170, 2, -999, 9, -999, 9, -999, 9, -999, 9, -999, 9, -999, 9, -999, 9,  -999.00, 9,  -999.00, 9,  -999.00, 9,  -999.00, 9,  18.6206,  -999.00, 9,  427,   39.2830,  -51.9385
316N200309, A20, 18, 1, 29, 29, 2, 20030929, 0223, 39.3178, -51.9663, 5325,   201.60,    201.6,  17.7446,  36.4766, 2,  36.4685, 2,    179.4, 2,    189.2, 2,     1.79, 2,     5.87, 2,     0.01, 2,     0.31, 2,    2.289, 2,    1.317, 2,    0.035, 2, -999.000, 9,   -999.0, 9,   -999.0, 9,  -999.00, 9,  -999.00, 9,    0.788, 2,    0.004,   1.8125, 2,   0.0091,     0.48, 2,     0.20,    7.281, 2,    0.036,   -999.0, 9,   -999.0,  -999.00, 9,    0.0770, 2,    0.0590, 2,    0.0280, 2,    0.0200, 2,    0.0180, 2,    0.0180, 2, -999, 9, -999, 9, -999, 9, -999, 9, -999, 9, -999, 9, -999, 9,  -999.00, 9,  -999.00, 9,  -999.00, 9,  -999.00, 9,  17.7100,  -999.00, 9,  425,   39.2835,  -51.9390
316N200309, A20, 18, 1, 28, 28, 2, 20030929, 0223, 39.3178, -51.9663, 5325,   246.50,    246.5,  15.3790,  35.9205, 2,  35.9323, 2,    179.5, 2,    180.8, 2,     3.31, 2,     9.65, 2,     0.02, 2,     0.58, 2,    2.455, 2,    1.370, 2,    0.075, 2, -999.000, 9,   -999.0, 9,   -999.0, 9,  -999.00, 9,  -999.00, 9, -999.000, 9, -999.000, -999.0000, 9, -999.0000,  -999.00, 9,  -999.00, -999.000, 9, -999.000,   -999.0, 9,   -999.0,  -999.00, 9, -999.0000, 9, -999.0000, 9, -999.0000, 9, -999.0000, 9, -999.0000, 9, -999.0000, 9, -999, 9, -999, 9, -999, 9, -999, 9, -999, 9, -999, 9, -999, 9,  -999.00, 9,  -999.00, 9,  -999.00, 9,  -999.00, 9,  15.3407,  -999.00, 9,  423,   39.2840,  -51.9394
316N200309, A20, 18, 1, 27, 27, 2, 20030929, 0223, 39.3178, -51.9663, 5325,   292.90,    292.9,  14.0435,  35.7639, 2,  35.7657, 2,    172.8, 2,    166.6, 2,     5.35, 2,    13.62, 2,     0.02, 2,     0.83, 2,    2.179, 2,    1.202, 2,    0.078, 2, -999.000, 9,   -999.0, 9,   -999.0, 9,  -999.00, 9,  -999.00, 9,    0.849, 2,    0.005,   1.8342, 2,   0.0092,     2.61, 2,     0.20,    7.531, 2,    0.038,   -999.0, 9,   -999.0,  -999.00, 9, -999.0000, 9, -999.0000, 9, -999.0000, 9, -999.0000, 9, -999.0000, 9, -999.0000, 9, -999, 9, -999, 9, -999, 9, -999, 9, -999, 9, -999, 9, -999, 9,  -999.00, 9,  -999.00, 9,  -999.00, 9,  -999.00, 9,  14.0006,  -999.00, 9,  421,   39.2846,  -51.9400
316N200309, A20, 18, 1, 26, 26, 2, 20030929, 0223, 39.3178, -51.9663, 5325,   398.60,    398.6,  12.0994,  35.5202, 2,  35.5192, 2,    165.5, 2,    161.5, 2,     8.20, 2,    17.62, 2,     0.02, 2,     1.10, 2,    1.823, 2,    1.009, 2,    0.076, 2, -999.000, 9,   -999.0, 9,   -999.0, 9,  -999.00, 9,  -999.00, 9,    0.776, 2,    0.004,   1.8157, 2,   0.0091,     3.38, 2,     0.20,    7.529, 2,    0.038,   -999.0, 9,   -999.0,  -999.00, 9, -999.0000, 9, -999.0000, 9, -999.0000, 9, -999.0000, 9, -999.0000, 9, -999.0000, 9, -999, 9, -999, 9, -999, 9, -999, 9, -999, 9, -999, 9, -999, 9,  -999.00, 9,  -999.00, 9,  -999.00, 9,  -999.00, 9,  12.0464,  -999.00, 9,  419,   39.2854,  -51.9407
316N200309, A20, 18, 1, 25, 25, 2, 20030929, 0223, 39.3178, -51.9663, 5325,   528.40,    528.4,   8.9340,  35.1350, 2,  35.1337, 2,    152.9, 2,    153.3, 2,    13.23, 2,    22.94, 2,     0.02, 2,     1.48, 2,    1.386, 2,    0.742, 2,    0.067, 2, -999.000, 9,   -999.0, 9,   -999.0, 9,  -999.00, 9,  -999.00, 9,    0.546, 2,    0.005,   1.8499, 2,   0.0092,     5.03, 2,     0.20,    7.730, 2,    0.039,   -999.0, 9,   -999.0,  -999.00, 9, -999.0000, 9, -999.0000, 9, -999.0000, 9, -999.0000, 9, -999.0000, 9, -999.0000, 9, -999, 9, -999, 9, -999, 9, -999, 9, -999, 9, -999, 9, -999, 9,  -999.00, 9,  -999.00, 9,  -999.00, 9,  -999.00, 9,   8.8756,  -999.00, 9,  416,   39.2864,  -51.9415
316N200309, A20, 18, 1, 24, 24, 2, 20030929, 0223, 39.3178, -51.9663, 5325,   626.40,    626.4,   7.0185,  34.9981, 2,  34.9984, 2,    176.5, 2,    180.9, 2,    13.73, 2,    22.08, 2,     0.02, 2,     1.46, 2,    1.710, 2,    0.898, 2,    0.107, 2, -999.000, 9,   -999.0, 9,   -999.0, 9,  -999.00, 9,  -999.00, 9,    0.610, 2,    0.002,   1.8768, 2,   0.0094,     5.56, 2,     0.20,    7.882, 2,    0.039,   -999.0, 9,   -999.0,  -999.00, 9, -999.0000, 9, -999.0000, 9, -999.0000, 9, -999.0000, 9, -999.0000, 9, -999.0000, 9, -999, 9, -999, 9, -999, 9, -999, 9, -999, 9, -999, 9, -999, 9,  -999.00, 9,  -999.00, 9,  -999.00, 9,  -999.00, 9,   6.9579,  -999.00, 9,  413,   39.2874,  -51.9422
316N200309, A20, 18, 1, 23, 23, 2, 20030929, 0223, 39.3178, -51.9663, 5325,   749.80,    749.8,   5.5422,  34.9494, 2,  34.9520, 2,    216.8, 2,    218.2, 2,    12.70, 2,    19.87, 2,     0.02, 2,     1.31, 2,    2.358, 2,    1.222, 2,    0.156, 2, -999.000, 9,   -999.0, 9,   -999.0, 9,  -999.00, 9,  -999.00, 9,    0.788, 2,    0.004,   1.8583, 2,   0.0093,     5.01, 2,     0.20,    7.893, 2,    0.039,   -999.0, 9,   -999.0,  -999.00, 9, -999.0000, 9, -999.0000, 9, -999.0000, 9, -999.0000, 9, -999.0000, 9, -999.0000, 9, -999, 9, -999, 9, -999, 9, -999, 9, -999, 9, -999, 9, -999, 9,  -999.00, 9,  -999.00, 9,  -999.00, 9,  -999.00, 9,   5.4774,  -999.00, 9,  409,   39.2884,  -51.9432
316N200309, A20, 18, 1, 22, 22, 2, 20030929, 0223, 39.3178, -51.9663, 5325,   903.50,    903.5,   5.0855,  35.0185, 2,  35.0179, 2,    238.5, 2,    233.5, 2,    12.39, 2,    19.23, 2,     0.01, 2,     1.26, 2,    2.022, 2,    1.028, 2,    0.117, 2, -999.000, 9,   -999.0, 9,   -999.0, 9,  -999.00, 9,  -999.00, 9,    0.653, 2,    0.004,   1.8558, 2,   0.0093,     6.08, 2,     0.20,    7.907, 2,    0.040,   -999.0, 9,   -999.0,  -999.00, 9, -999.0000, 9, -999.0000, 9, -999.0000, 9, -999.0000, 9, -999.0000, 9, -999.0000, 9, -999, 9, -999, 9, -999, 9, -999, 9, -999, 9, -999, 9, -999, 9,  -999.00, 9,  -999.00, 9,  -999.00, 9,  -999.00, 9,   5.0095,  -999.00, 9,  406,   39.2896,  -51.9441
316N200309, A20, 18, 1, 21, 21, 2, 20030929, 0223, 39.3178, -51.9663, 5325,  1050.60,   1050.6,   4.5861,  34.9916, 2,  34.9925, 2,    247.9, 2,    248.9, 2,    11.86, 2,    18.38, 2,     0.01, 2,     1.21, 2,    2.241, 6,    1.152, 6,    0.142, 2,    2.491, 2,   -999.0, 9,   -999.0, 9,  -999.00, 9,  -999.00, 9,    0.664, 2,    0.004,   1.8510, 2,   0.0093,     6.69, 2,     0.20,    7.887, 2,    0.039,   -999.0, 9,   -999.0,  -999.00, 9,    0.1180, 2,    0.0870, 2,    0.0420, 2,    0.0280, 2,    0.0170, 2,    0.0180, 2, -999, 9, -999, 9, -999, 9, -999, 9, -999, 9, -999, 9, -999, 9,  -999.00, 9,  -999.00, 9,  -999.00, 9,  -999.00, 9,   4.5007,  -999.00, 9,  402,   39.2905,  -51.9451
316N200309, A20, 18, 1, 20, 20, 2, 20030929, 0223, 39.3178, -51.9663, 5325,  1201.70,   1201.7,   4.3600,  34.9868, 2,  34.9874, 2,    254.2, 2,    254.3, 2,    11.96, 2,    18.17, 2,     0.01, 2,     1.19, 2,    2.073, 6,    1.048, 6,    0.111, 2,    2.463, 2,   -999.0, 9,   -999.0, 9,  -999.00, 9,  -999.00, 9, -999.000, 9, -999.000, -999.0000, 9, -999.0000,  -999.00, 9,  -999.00, -999.000, 9, -999.000,   -999.0, 9,   -999.0,  -999.00, 9, -999.0000, 9, -999.0000, 9, -999.0000, 9, -999.0000, 9, -999.0000, 9, -999.0000, 9, -999, 9, -999, 9, -999, 9, -999, 9, -999, 9, -999, 9, -999, 9,  -999.00, 9,  -999.00, 9,  -999.00, 9,  -999.00, 9,   4.2630,  -999.00, 9,  358,   39.2914,  -51.9461
316N200309, A20, 18, 1, 19, 19, 2, 20030929, 0223, 39.3178, -51.9663, 5325,  1327.50,   1327.5,   4.1678,  34.9718, 2,  34.9719, 2,    258.9, 2,    259.1, 2,    11.86, 2,    18.03, 2,     0.01, 2,     1.18, 2,    2.111, 6,    1.084, 6,    0.116, 2,    2.570, 2,   -999.0, 9,   -999.0, 9,  -999.00, 9,  -999.00, 9, -999.000, 9, -999.000,   1.8614, 2,   0.0093,     7.06, 2,     0.20,    7.919, 2,    0.040,   -999.0, 9,   -999.0,  -999.00, 9, -999.0000, 9, -999.0000, 9, -999.0000, 9, -999.0000, 9, -999.0000, 9, -999.0000, 9, -999, 9, -999, 9, -999, 9, -999, 9, -999, 9, -999, 9, -999, 9,  -999.00, 9,  -999.00, 9,  -999.00, 9,  -999.00, 9,   4.0615,  -999.00, 9,  355,   39.2922,  -51.9471
316N200309, A20, 18, 1, 18, 18, 2, 20030929, 0223, 39.3178, -51.9663, 5325,  1452.20,   1452.2,   4.0250,  34.9661, 2,  34.9663, 2,    261.9, 2,    261.9, 2,    12.06, 2,    17.93, 2,     0.01, 2,     1.18, 2,    1.964, 6,    0.976, 6,    0.105, 2,    2.458, 2,   -999.0, 9,   -999.0, 9,  -999.00, 9,  -999.00, 9,    0.644, 2,    0.003,   1.8695, 2,   0.0093,     7.51, 2,     0.20,    7.965, 2,    0.040,   -999.0, 9,   -999.0,  -999.00, 9, -999.0000, 9, -999.0000, 9, -999.0000, 9, -999.0000, 9, -999.0000, 9, -999.0000, 9, -999, 9, -999, 9, -999, 9, -999, 9, -999, 9, -999, 9, -999, 9,  -999.00, 9,  -999.00, 9,  -999.00, 9,  -999.00, 9,   3.9089,  -999.00, 9,  352,   39.2929,  -51.9480
316N200309, A20, 18, 1, 17, 17, 2, 20030929, 0223, 39.3178, -51.9663, 5325,  1576.00,   1576.0,   3.8574,  34.9557, 2,  34.9551, 2,    264.3, 2,    265.0, 2,    12.35, 2,    17.77, 2,     0.01, 2,     1.17, 2,    1.863, 6,    0.943, 6,    0.100, 2,    2.399, 2,   -999.0, 9,   -999.0, 9,  -999.00, 9,  -999.00, 9, -999.000, 9, -999.000, -999.0000, 9, -999.0000,  -999.00, 9,  -999.00, -999.000, 9, -999.000,   -999.0, 9,   -999.0,  -999.00, 9, -999.0000, 9, -999.0000, 9, -999.0000, 9, -999.0000, 9, -999.0000, 9, -999.0000, 9, -999, 9, -999, 9, -999, 9, -999, 9, -999, 9, -999, 9, -999, 9,  -999.00, 9,  -999.00, 9,  -999.00, 9,  -999.00, 9,   3.7319,  -999.00, 9,  348,   39.2937,  -51.9488
316N200309, A20, 18, 1, 16, 16, 2, 20030929, 0223, 39.3178, -51.9663, 5325,  1701.90,   1701.9,   3.7478,  34.9490, 2,  34.9490, 2,    266.6, 2,    267.0, 2,    12.56, 2,    17.72, 2,     0.01, 2,     1.17, 2,    1.850, 6,    0.906, 6,    0.090, 2,    2.360, 2,   -999.0, 9,   -999.0, 9,  -999.00, 9,  -999.00, 9, -999.000, 9, -999.000,   1.8687, 2,   0.0093,     7.12, 2,     0.20,    7.988, 2,    0.040,   -999.0, 9,   -999.0,  -999.00, 9, -999.0000, 9, -999.0000, 9, -999.0000, 9, -999.0000, 9, -999.0000, 9, -999.0000, 9, -999, 9, -999, 9, -999, 9, -999, 9, -999, 9, -999, 9, -999, 9,  -999.00, 9,  -999.00, 9,  -999.00, 9,  -999.00, 9,   3.6122,  -999.00, 9,  345,   39.2947,  -51.9496
316N200309, A20, 18, 1, 15, 15, 2, 20030929, 0223, 39.3178, -51.9663, 5325,  1851.80,   1851.8,   3.6349,  34.9444, 2,  34.9445, 2,    268.0, 2,    268.8, 2,    13.07, 2,    17.72, 2,     0.01, 2,     1.16, 2,    1.717, 6,    0.855, 6,    0.100, 2,    2.335, 2,   -999.0, 9,   -999.0, 9,  -999.00, 9,  -999.00, 9, -999.000, 9, -999.000, -999.0000, 9, -999.0000,  -999.00, 9,  -999.00, -999.000, 9, -999.000,   -999.0, 9,   -999.0,  -999.00, 9, -999.0000, 9, -999.0000, 9, -999.0000, 9, -999.0000, 9, -999.0000, 9, -999.0000, 9, -999, 9, -999, 9, -999, 9, -999, 9, -999, 9, -999, 9, -999, 9,  -999.00, 9,  -999.00, 9,  -999.00, 9,  -999.00, 9,   3.4869,  -999.00, 9,  341,   39.2957,  -51.9505
316N200309, A20, 18, 1, 14, 14, 2, 20030929, 0223, 39.3178, -51.9663, 5325,  2004.00,   2004.0,   3.5548,  34.9424, 2,  34.9429, 2,    269.0, 2,    269.3, 2,    13.47, 2,    17.58, 2,     0.01, 2,     1.16, 2,    1.601, 6,    0.790, 6,    0.081, 2,    2.211, 2,   -999.0, 9,   -999.0, 9,  -999.00, 9,  -999.00, 9,    0.530, 2,    0.003,   1.8590, 2,   0.0093,     6.04, 2,     0.20,    7.943, 2,    0.040,   -999.0, 9,   -999.0,  -999.00, 9,    0.1260, 2,    0.0960, 2,    0.0490, 2,    0.0330, 2,    0.0160, 2,    0.0160, 2, -999, 9, -999, 9, -999, 9, -999, 9, -999, 9, -999, 9, -999, 9,  -999.00, 9,  -999.00, 9,  -999.00, 9,  -999.00, 9,   3.3936,  -999.00, 9,  338,   39.2968,  -51.9515
316N200309, A20, 18, 1, 13, 13, 2, 20030929, 0223, 39.3178, -51.9663, 5325,  2252.90,   2252.9,   3.4479,  34.9437, 2,  34.9431, 2,    268.8, 2,    268.9, 2,    14.49, 2,    17.72, 2,     0.01, 2,     1.17, 2,    1.373, 6,    0.666, 6,    0.066, 2,    1.983, 2,   -999.0, 9,   -999.0, 9,  -999.00, 9,  -999.00, 9, -999.000, 9, -999.000, -999.0000, 9, -999.0000,  -999.00, 9,  -999.00, -999.000, 9, -999.000,   -999.0, 9,   -999.0,  -999.00, 9, -999.0000, 9, -999.0000, 9, -999.0000, 9, -999.0000, 9, -999.0000, 9, -999.0000, 9, -999, 9, -999, 9, -999, 9, -999, 9, -999, 9, -999, 9, -999, 9,  -999.00, 9,  -999.00, 9,  -999.00, 9,  -999.00, 9,   3.2643,  -999.00, 9,  332,   39.2983,  -51.9528
316N200309, A20, 18, 1, 12, 12, 2, 20030929, 0223, 39.3178, -51.9663, 5325,  2503.40,   2503.4,   3.3247,  34.9482, 2,  34.9477, 2,    266.7, 2,    267.1, 2,    16.13, 2,    17.82, 2,     0.01, 2,     1.18, 2,    1.000, 6,    0.492, 6,    0.047, 2,    1.568, 2,   -999.0, 9,   -999.0, 9,  -999.00, 9,  -999.00, 9,    0.381, 2,    0.002,   1.8750, 2,   0.0094,     5.78, 2,     0.20,    7.863, 2,    0.039,   -999.0, 9,   -999.0,  -999.00, 9, -999.0000, 9, -999.0000, 9, -999.0000, 9, -999.0000, 9, -999.0000, 9, -999.0000, 9, -999, 9, -999, 9, -999, 9, -999, 9, -999, 9, -999, 9, -999, 9,  -999.00, 9,  -999.00, 9,  -999.00, 9,  -999.00, 9,   3.1185,  -999.00, 9,  327,   39.2997,  -51.9541
316N200309, A20, 18, 1, 11, 11, 2, 20030929, 0223, 39.3178, -51.9663, 5325,  2751.40,   2751.4,   3.1488,  34.9461, 2,  34.9459, 2,    265.5, 2,    265.7, 2,    18.08, 2,    17.93, 2,     0.01, 2,     1.20, 2,    0.753, 6,    0.379, 6,    0.031, 2,    1.263, 2,   -999.0, 9,   -999.0, 9,  -999.00, 9,  -999.00, 9, -999.000, 9, -999.000, -999.0000, 9, -999.0000,  -999.00, 9,  -999.00, -999.000, 9, -999.000,   -999.0, 9,   -999.0,  -999.00, 9, -999.0000, 9, -999.0000, 9, -999.0000, 9, -999.0000, 9, -999.0000, 9, -999.0000, 9, -999, 9, -999, 9, -999, 9, -999, 9, -999, 9, -999, 9, -999, 9,  -999.00, 9,  -999.00, 9,  -999.00, 9,  -999.00, 9,   2.9208,  -999.00, 9,  322,   39.3011,  -51.9551