BOTTLE,20220816CCHSIOAMB
EXPOCODE,SECT_ID,STNNBR,CASTNO,SAMPNO,BTLNBR,BTLNBR_FLAG_W,DATE,TIME,LATITUDE,LONGITUDE,DEPTH,CTDRAW,CTDPRS,CTDTMP,CTDSAL,CTDSAL_FLAG_W,SALNTY,SALNTY_FLAG_W,CTDOXY,CTDOXY_FLAG_W,OXYGEN,OXYGEN_FLAG_W,SILCAT,SILCAT_FLAG_W,NITRAT,NITRAT_FLAG_W,NITRIT,NITRIT_FLAG_W,PHSPHT,PHSPHT_FLAG_W,CFC-11,CFC-11_FLAG_W,CFC-12,CFC-12_FLAG_W,CFC113,CFC113_FLAG_W,CCL4,CCL4_FLAG_W,TCARBN,TCARBN_FLAG_W,ALKALI,ALKALI_FLAG_W,DOC,DOC_FLAG_W,TDN,TDN_FLAG_W,TRITUM,TRITUM_FLAG_W,TRITER,HELIUM,HELIUM_FLAG_W,HELIER,DELHE3,DELHE3_FLAG_W,DELHER,NEON,NEON_FLAG_W,NEONER,DELC14,DELC14_FLAG_W,C14ERR,DELC13,DELC13_FLAG_W,CDOM325,CDOM325_FLAG_W,CDOM340,CDOM340_FLAG_W,CDOM380,CDOM380_FLAG_W,CDOM412,CDOM412_FLAG_W,CDOMSL,CDOMSL_FLAG_W,CDOMSN,CDOMSN_FLAG_W,DCNS,DCNS_FLAG_W,ARABI,ARABI_FLAG_W,FUCO,FUCO_FLAG_W,GALA,GALA_FLAG_W,GLUC,GLUC_FLAG_W,MAN,MAN_FLAG_W,RHAM,RHAM_FLAG_W,BRDU,BRDU_FLAG_W,PEUK,PEUK_FLAG_W,PROC,PROC_FLAG_W,SYN,SYN_FLAG_W,THETA,BACT,BACT_FLAG_W,BTL_TIME,BTL_LAT,BTL_LON
,,,,,,,,,,,METERS,DBAR,DBAR,ITS-90,PSS-78,,PSS-78,,UMOL/KG,,UMOL/KG,,UMOL/KG,,UMOL/KG,,UMOL/KG,,UMOL/KG,,PMOL/KG,,PMOL/KG,,PMOL/KG,,PMOL/KG,,UMOL/KG,,UMOL/KG,,UMOL/KG,,UMOL/KG,,TU,,TU,NMOL/KG,,NMOL/KG,PERCNT,,PERCNT,NMOL/KG,,NMOL/KG,/MILLE,,/MILLE,/MILLE,,1/M,,1/M,,1/M,,1/M,,1/NM,,1/NM,,NMOL/KG,,NMOL/KG,,NMOL/KG,,NMOL/KG,,NMOL/KG,,NMOL/KG,,NMOL/KG,,PMOL/L/H,,E6/L,,E7/L,,E6/L,,DEG C,E8/L,,,,
316N200309, A20, 37, 1, 36, 36, 2, 20031006, 1026, 30.8932, -52.3452, 5404,     3.10,      3.1,  25.6189,  36.8697, 2,  36.8711, 2,    205.8, 2,    210.2, 2,     0.71, 2,     0.17, 2,     0.00, 2,     0.02, 2,    1.780, 2,    1.073, 2,    0.107, 2,    1.754, 2,   2055.5, 2,   2407.4, 2,    69.30, 2,     4.20, 2, -999.000, 9, -999.000, -999.0000, 9, -999.0000,  -999.00, 9,  -999.00, -999.000, 9, -999.000,   -999.0, 9,   -999.0,  -999.00, 9,    0.0440, 2,    0.0310, 2,    0.0090, 2,    0.0040, 2,    0.0240, 2,    0.0240, 2, 2073, 4, 106, 2, 316, 2, 481, 2, 294, 2, 675, 2, 201, 2,     0.10, 2,     0.30, 2,     4.85, 2,     2.56, 2,  25.6182,     3.09, 2, 1242,   30.9253,  -52.3183
316N200309, A20, 37, 1, 35, 35, 2, 20031006, 1026, 30.8932, -52.3452, 5404,    25.50,     25.5,  25.6021,  36.8708, 2,  36.8703, 2,    205.7, 2,    209.6, 2,     0.69, 2,     0.16, 2,     0.00, 2,     0.02, 2,    1.780, 2,    1.087, 2,    0.086, 2,    1.762, 2,   2057.2, 2,   2407.9, 2,    69.40, 2,     5.10, 2,    0.803, 2,    0.003,   1.7587, 2,   0.0088,    -1.50, 2,     0.20,    6.903, 2,    0.035,   -999.0, 9,   -999.0,  -999.00, 9,    0.0250, 2,    0.0130, 2,    0.0000, 4,   -0.0010, 4, -999.0000, 5, -999.0000, 5, -999, 9, -999, 9, -999, 9, -999, 9, -999, 9, -999, 9, -999, 9,     0.23, 2,     0.48, 2,     5.78, 2,     3.21, 2,  25.5965,     2.92, 2, 1239,   30.9244,  -52.3184
316N200309, A20, 37, 1, 34, 34, 2, 20031006, 1026, 30.8932, -52.3452, 5404,    48.60,     48.6,  25.6014,  36.8722, 2,  36.8740, 2,    205.4, 2,    209.6, 2,     0.78, 2,     0.06, 2,     0.00, 2,     0.01, 2,    1.772, 2,    1.081, 2,    0.096, 2,    1.735, 2,   2056.8, 2,   2402.9, 2,    67.40, 2,     4.60, 2,    0.745, 2,    0.003,   1.7456, 2,   0.0087,    -1.41, 2,     0.20,    6.854, 2,    0.034,   -999.0, 9,   -999.0,  -999.00, 9,    0.0260, 2,    0.0150, 2,    0.0020, 3,    0.0010, 2, -999.0000, 5, -999.0000, 5, 2464, 4, 218, 2, 345, 2, 613, 2, 377, 2, 683, 2, 227, 2,     0.46, 2,     0.51, 2,     5.36, 2,     2.74, 2,  25.5906,     3.24, 2, 1238,   30.9237,  -52.3188
316N200309, A20, 37, 1, 33, 33, 2, 20031006, 1026, 30.8932, -52.3452, 5404,    75.10,     75.1,  24.8831,  36.8603, 2,  36.8615, 2,    212.8, 2,    219.3, 2,     0.66, 2,     0.05, 2,     0.00, 2,     0.01, 2,    1.842, 2,    1.094, 2,    0.094, 2,    1.580, 2,   2056.6, 2,   2397.2, 2,    66.40, 2,     4.50, 2, -999.000, 9, -999.000, -999.0000, 9, -999.0000,  -999.00, 9,  -999.00, -999.000, 9, -999.000,   -999.0, 9,   -999.0,  -999.00, 9,    0.0500, 2,    0.0310, 2,    0.0090, 2,    0.0050, 2,    0.0330, 2,    0.0330, 2, 2698, 4, 132, 2, 361, 2, 677, 2, 415, 2, 896, 2, 218, 2,     0.23, 2,     0.51, 2,     6.74, 2,     2.55, 2,  24.8668,     3.23, 2, 1236,   30.9230,  -52.3193
316N200309, A20, 37, 1, 32, 32, 2, 20031006, 1026, 30.8932, -52.3452, 5404,   101.00,    101.0,  21.4902,  36.7019, 2,  36.7034, 2,    226.0, 2,    230.9, 2,     0.65, 2,     0.10, 2,     0.00, 2,     0.01, 2,    2.145, 2,    1.282, 2,    0.104, 2,    1.374, 2,   2065.2, 2,   2397.3, 2,    63.00, 2,     4.30, 2,    0.742, 2,    0.003,   1.7373, 2,   0.0087,    -1.76, 2,     0.20,    6.988, 2,    0.035,   -999.0, 9,   -999.0,  -999.00, 9,    0.1230, 2,    0.0830, 2,    0.0320, 2,    0.0190, 2,    0.0250, 2,    0.0250, 2, 1568, 4, 62, 2, 247, 2, 436, 2, 226, 2, 442, 2, 156, 2,     0.25, 2,     0.55, 2,     9.59, 2,     1.80, 2,  21.4704,     3.09, 2, 1234,   30.9225,  -52.3199
316N200309, A20, 37, 1, 31, 31, 2, 20031006, 1026, 30.8932, -52.3452, 5404,   149.00,    149.0,  19.7748,  36.7054, 2,  36.7068, 2,    192.7, 2,    191.8, 2,     0.83, 2,     0.61, 2,     0.03, 2,     0.03, 2,    2.219, 2,    1.324, 2,    0.057, 2,    0.732, 2,   2106.4, 3,   2395.9, 2,    55.00, 2,     4.20, 2,    0.752, 2,    0.004,   1.7502, 2,   0.0088,    -1.19, 2,     0.20,    7.063, 2,    0.035,   -999.0, 9,   -999.0,  -999.00, 9,    0.0840, 2,    0.0620, 2,    0.0310, 2,    0.0250, 2,    0.0190, 2,    0.0190, 2, -999, 9, -999, 9, -999, 9, -999, 9, -999, 9, -999, 9, -999, 9,     0.17, 2,     0.91, 2,     1.87, 2,     0.00, 2,  19.7472,     1.60, 2, 1232,   30.9220,  -52.3205
316N200309, A20, 37, 1, 30, 30, 2, 20031006, 1026, 30.8932, -52.3452, 5404,   198.30,    198.3,  18.8534,  36.6119, 2,  36.6136, 2,    189.1, 2,    195.3, 2,     1.10, 2,     2.72, 2,     0.01, 2,     0.11, 2,    2.272, 2,    1.330, 2,    0.023, 2,    0.490, 2,   2104.3, 2,   2388.5, 2,    61.70, 2,     6.60, 2,    0.746, 2,    0.004,   1.7637, 2,   0.0088,    -0.38, 2,     0.20,    7.136, 2,    0.036,   -999.0, 9,   -999.0,  -999.00, 9,    0.0620, 2,    0.0450, 2,    0.0220, 2,    0.0190, 2,    0.0210, 2,    0.0210, 2, 548, 4, 71, 2, 73, 2, 117, 2, 71, 4, 150, 2, 66, 2,     0.05, 2,     0.15, 2,     0.15, 2,     0.00, 2,  18.8179,     0.78, 2, 1230,   30.9215,  -52.3210
316N200309, A20, 37, 1, 29, 29, 2, 20031006, 1026, 30.8932, -52.3452, 5404,   250.20,    250.2,  18.3749,  36.5508, 2,  36.5505, 2,    193.5, 2,    219.9, 3,     1.28, 2,     2.87, 2,     0.01, 2,     0.14, 2,    2.302, 2,    1.322, 2,    0.083, 2,    0.783, 2,   2097.3, 3,   2385.5, 2,    50.80, 2,     6.60, 2, -999.000, 9, -999.000, -999.0000, 9, -999.0000,  -999.00, 9,  -999.00, -999.000, 9, -999.000,   -999.0, 9,   -999.0,  -999.00, 9,    0.0610, 2,    0.0440, 2,    0.0220, 2,    0.0190, 2,    0.0210, 2,    0.0210, 2, -999, 9, -999, 9, -999, 9, -999, 9, -999, 9, -999, 9, -999, 9,     0.02, 2,  -999.00, 9,  -999.00, 9,  -999.00, 9,  18.3308,  -999.00, 9, 1229,   30.9211,  -52.3215
316N200309, A20, 37, 1, 28, 28, 2, 20031006, 1026, 30.8932, -52.3452, 5404,   298.50,    298.5,  18.1224,  36.5273, 2,  36.5262, 2,    199.0, 2,    201.2, 2,     1.55, 2,     4.31, 2,     0.01, 2,     0.21, 2,    2.304, 2,    1.352, 2,    0.006, 2,    0.527, 2,   2106.6, 2,   2380.0, 2,    49.50, 2,     8.20, 2,    0.782, 2,    0.005,   1.7647, 2,   0.0088,    -0.03, 2,     0.20,    7.115, 2,    0.036,   -999.0, 9,   -999.0,  -999.00, 9,    0.0620, 2,    0.0430, 2,    0.0190, 2,    0.0150, 2,    0.0240, 2,    0.0240, 2, 541, 4, 25, 2, 65, 2, 85, 2, 124, 2, 197, 4, 46, 2,  -999.00, 9,  -999.00, 9,  -999.00, 9,  -999.00, 9,  18.0703,  -999.00, 9, 1227,   30.9208,  -52.3219
316N200309, A20, 37, 1, 27, 27, 2, 20031006, 1026, 30.8932, -52.3452, 5404,   406.00,    406.0,  17.2552,  36.4067, 2,  36.4059, 2,    198.1, 2,    200.4, 2,     1.92, 2,     5.85, 2,     0.00, 2,     0.30, 2,    2.344, 2,    1.299, 2,    0.031, 2,    0.499, 2,   2114.7, 2,   2376.8, 2,    48.50, 2,  -999.00, 9,    0.793, 2,    0.005,   1.7882, 2,   0.0089,     0.45, 2,     0.20,    7.252, 2,    0.036,   -999.0, 9,   -999.0,  -999.00, 9,    0.0530, 2,    0.0370, 2,    0.0170, 2,    0.0140, 2,    0.0240, 2,    0.0240, 2, -999, 9, -999, 9, -999, 9, -999, 9, -999, 9, -999, 9, -999, 9,  -999.00, 9,  -999.00, 9,  -999.00, 9,  -999.00, 9,  17.1864,  -999.00, 9, 1224,   30.9203,  -52.3227
316N200309, A20, 37, 1, 26, 26, 2, 20031006, 1026, 30.8932, -52.3452, 5404,   510.90,    510.9,  16.1016,  36.2083, 2,  36.2149, 2,    194.7, 2,    192.7, 2,     2.78, 2,     8.10, 2,     0.00, 2,     0.46, 2,    2.336, 2,    1.313, 2,    0.024, 2,    0.524, 2,   2125.4, 2,   2366.5, 2,    48.40, 2,  -999.00, 9,    0.874, 2,    0.005,   1.7667, 2,   0.0088,     1.59, 2,     0.20,    7.235, 2,    0.036,   -999.0, 9,   -999.0,  -999.00, 9,    0.0680, 2,    0.0480, 2,    0.0230, 2,    0.0180, 3,    0.0210, 2,    0.0220, 2, 377, 4, 35, 2, 46, 2, 78, 2, 100, 2, 80, 2, 38, 2,  -999.00, 9,  -999.00, 9,  -999.00, 9,  -999.00, 9,  16.0189,  -999.00, 9, 1220,   30.9197,  -52.3235
316N200309, A20, 37, 1, 25, 25, 2, 20031006, 1026, 30.8932, -52.3452, 5404,   606.40,    606.4,  14.5282,  35.9451, 2,  35.9429, 2,    180.5, 2,    179.4, 2,     4.51, 2,    11.86, 2,     0.00, 2,     0.70, 2,    2.182, 2,    1.169, 2,    0.014, 2,    0.469, 2,   2141.0, 2,   2351.9, 2,    45.80, 2,  -999.00, 9,    0.856, 2,    0.005,   1.7956, 2,   0.0090,     4.12, 2,     0.20,    7.372, 2,    0.037,   -999.0, 9,   -999.0,  -999.00, 9,    0.0690, 2,    0.0480, 2,    0.0210, 2,    0.0150, 3,    0.0230, 2,    0.0240, 2, -999, 9, -999, 9, -999, 9, -999, 9, -999, 9, -999, 9, -999, 9,  -999.00, 9,  -999.00, 9,  -999.00, 9,  -999.00, 9,  14.4365,  -999.00, 9, 1217,   30.9191,  -52.3242
316N200309, A20, 37, 1, 24, 24, 2, 20031006, 1026, 30.8932, -52.3452, 5404,   722.70,    722.7,  12.1584,  35.5971, 2,  35.6013, 2,    166.1, 2,    164.1, 2,     7.88, 2,    17.16, 2,     0.00, 2,     1.04, 2,    1.675, 2,    0.858, 2,    0.019, 2,    0.402, 2,   2162.4, 2,   2334.8, 2,    43.40, 2,  -999.00, 9, -999.000, 9, -999.000, -999.0000, 9, -999.0000,  -999.00, 9,  -999.00, -999.000, 9, -999.000,   -999.0, 9,   -999.0,  -999.00, 9,    0.0880, 2,    0.0610, 2,    0.0310, 2,    0.0250, 2,    0.0190, 2,    0.0200, 2, -999, 9, -999, 9, -999, 9, -999, 9, -999, 9, -999, 9, -999, 9,  -999.00, 9,  -999.00, 9,  -999.00, 9,  -999.00, 9,  12.0607,  -999.00, 9, 1213,   30.9182,  -52.3250
316N200309, A20, 37, 1, 23, 23, 2, 20031006, 1026, 30.8932, -52.3452, 5404,   861.00,    861.0,   9.3578,  35.2814, 2,  35.2792, 2,    159.7, 2,    159.6, 2,    12.34, 2,    21.78, 2,     0.00, 2,     1.38, 2,    1.012, 2,    0.521, 2,   -0.005, 2,    0.385, 2,   2182.2, 2,   2323.2, 2,    43.50, 2,  -999.00, 9,    0.529, 2,    0.003,   1.8517, 2,   0.0093,     7.46, 2,     0.20,    7.723, 2,    0.039,   -999.0, 9,   -999.0,  -999.00, 9,    0.0990, 2,    0.0700, 2,    0.0360, 2,    0.0280, 2,    0.0170, 2,    0.0190, 2, -999, 9, -999, 9, -999, 9, -999, 9, -999, 9, -999, 9, -999, 9,  -999.00, 9,  -999.00, 9,  -999.00, 9,  -999.00, 9,   9.2582,  -999.00, 9, 1210,   30.9171,  -52.3258
316N200309, A20, 37, 1, 22, 22, 2, 20031006, 1026, 30.8932, -52.3452, 5404,   953.20,    953.2,   8.0198,  35.1786, 2,  35.1778, 2,    163.6, 2,    165.0, 2,    14.66, 2,    23.21, 2,     0.00, 2,     1.49, 2,    0.644, 2,    0.364, 2,   -0.001, 2,    0.337, 2,   2188.7, 2,   2319.3, 2,  -999.00, 9,  -999.00, 9,    0.398, 2,    0.003,   1.8344, 2,   0.0092,     7.01, 2,     0.20,    7.671, 2,    0.038,   -999.0, 9,   -999.0,  -999.00, 9, -999.0000, 9, -999.0000, 9, -999.0000, 9, -999.0000, 9, -999.0000, 9, -999.0000, 9, -999, 9, -999, 9, -999, 9, -999, 9, -999, 9, -999, 9, -999, 9,  -999.00, 9,  -999.00, 9,  -999.00, 9,  -999.00, 9,   7.9183,  -999.00, 9, 1207,   30.9162,  -52.3265
316N200309, A20, 37, 1, 21, 21, 2, 20031006, 1026, 30.8932, -52.3452, 5404,  1050.20,   1050.2,   7.1902,  35.1516, 2,  35.1508, 2,    177.8, 2,    178.4, 2,    15.14, 2,    22.80, 2,     0.00, 2,     1.47, 2,    0.606, 2,    0.310, 2,    0.003, 2,    0.425, 2,   2188.5, 2,   2321.1, 2,    39.30, 2,  -999.00, 9,    0.362, 2,    0.003,   1.8320, 2,   0.0092,     6.26, 2,     0.20,    7.684, 2,    0.038,   -999.0, 9,   -999.0,  -999.00, 9,    0.0940, 2,    0.0660, 2,    0.0330, 2,    0.0260, 2,    0.0190, 2,    0.0200, 2, 335, 4, 13, 2, 49, 2, 47, 2, 153, 2, 41, 2, 32, 2,  -999.00, 9,  -999.00, 9,  -999.00, 9,  -999.00, 9,   7.0841,  -999.00, 9, 1204,   30.9154,  -52.3272
316N200309, A20, 37, 1, 20, 20, 2, 20031006, 1026, 30.8932, -52.3452, 5404,  1201.00,   1201.0,   6.1701,  35.1355, 2,  35.1358, 2,    202.8, 2,    201.9, 2,    14.92, 2,    21.31, 2,     0.00, 2,     1.40, 2,    0.554, 2,    0.310, 2,    0.000, 2,    0.632, 2,   2182.2, 2,   2320.5, 2,    42.10, 2,  -999.00, 9, -999.000, 9, -999.000, -999.0000, 9, -999.0000,  -999.00, 9,  -999.00, -999.000, 9, -999.000,   -999.0, 9,   -999.0,  -999.00, 9,    0.0940, 2,    0.0650, 2,    0.0310, 2,    0.0240, 2,    0.0200, 2,    0.0210, 2, -999, 9, -999, 9, -999, 9, -999, 9, -999, 9, -999, 9, -999, 9,  -999.00, 9,  -999.00, 9,  -999.00, 9,  -999.00, 9,   6.0566,  -999.00, 9, 1200,   30.9144,  -52.3278
316N200309, A20, 37, 1, 19, 19, 2, 20031006, 1026, 30.8932, -52.3452, 5404,  1352.40,   1352.4,   5.6202,  35.1469, 2,  35.1502, 2,    224.1, 2,    225.7, 2,    13.45, 2,    19.28, 2,     0.00, 2,     1.26, 2,    1.035, 2,    0.530, 2,    0.023, 2,    1.130, 2,   2174.6, 2,   2319.9, 2,  -999.00, 9,  -999.00, 9,    0.455, 2,    0.003,   1.8483, 2,   0.0092,     6.84, 2,     0.20,    7.792, 2,    0.039,   -999.0, 9,   -999.0,  -999.00, 9, -999.0000, 9, -999.0000, 9, -999.0000, 9, -999.0000, 9, -999.0000, 9, -999.0000, 9, -999, 9, -999, 9, -999, 9, -999, 9, -999, 9, -999, 9, -999, 9,  -999.00, 9,  -999.00, 9,  -999.00, 9,  -999.00, 9,   5.4965,  -999.00, 9, 1156,   30.9133,  -52.3287
316N200309, A20, 37, 1, 18, 18, 2, 20031006, 1026, 30.8932, -52.3452, 5404,  1501.30,   1501.3,   5.1263,  35.1194, 2,  35.1197, 2,    239.0, 2,    237.7, 2,    13.44, 2,    18.71, 2,     0.00, 2,     1.22, 2,    1.074, 2,    0.551, 2,    0.036, 2,    1.339, 2,   2171.9, 2,   2318.5, 2,    43.30, 2,  -999.00, 9,    0.471, 2,    0.004,   1.8576, 2,   0.0093,     7.56, 2,     0.20,    7.813, 2,    0.039,   -999.0, 9,   -999.0,  -999.00, 9,    0.0950, 2,    0.0660, 2,    0.0320, 2,    0.0220, 2,    0.0200, 2,    0.0210, 2, -999, 9, -999, 9, -999, 9, -999, 9, -999, 9, -999, 9, -999, 9,  -999.00, 9,  -999.00, 9,  -999.00, 9,  -999.00, 9,   4.9930,  -999.00, 9, 1151,   30.9122,  -52.3295
316N200309, A20, 37, 1, 17, 17, 2, 20031006, 1026, 30.8932, -52.3452, 5404,  1639.50,   1639.5,   4.6813,  35.0831, 2,  35.0813, 2,    245.2, 2,    246.0, 2,    13.81, 2,    18.40, 2,     0.00, 2,     1.20, 2,    1.009, 2,    0.517, 2,    0.051, 2,    1.391, 2,   2170.1, 2,   2315.1, 2,  -999.00, 9,  -999.00, 9, -999.000, 9, -999.000,   1.8638, 2,   0.0093,     7.30, 2,     0.20,    7.799, 2,    0.039,   -999.0, 9,   -999.0,  -999.00, 9, -999.0000, 9, -999.0000, 9, -999.0000, 9, -999.0000, 9, -999.0000, 9, -999.0000, 9, -999, 9, -999, 9, -999, 9, -999, 9, -999, 9, -999, 9, -999, 9,  -999.00, 9,  -999.00, 9,  -999.00, 9,  -999.00, 9,   4.5396,  -999.00, 9, 1148,   30.9112,  -52.3301
316N200309, A20, 37, 1, 16, 16, 2, 20031006, 1026, 30.8932, -52.3452, 5404,  1800.30,   1800.3,   4.1971,  35.0347, 2,  35.0411, 3,    253.8, 2,    254.0, 2,    14.57, 2,    18.15, 2,     0.00, 2,     1.20, 2,    0.988, 2,    0.501, 2,    0.040, 2,    1.460, 2,   2166.9, 2,   2313.4, 2,  -999.00, 9,  -999.00, 9, -999.000, 9, -999.000, -999.0000, 9, -999.0000,  -999.00, 9,  -999.00, -999.000, 9, -999.000,   -999.0, 9,   -999.0,  -999.00, 9, -999.0000, 9, -999.0000, 9, -999.0000, 9, -999.0000, 9, -999.0000, 9, -999.0000, 9, -999, 9, -999, 9, -999, 9, -999, 9, -999, 9, -999, 9, -999, 9,  -999.00, 9,  -999.00, 9,  -999.00, 9,  -999.00, 9,   4.0461,  -999.00, 9, 1144,   30.9102,  -52.3307
316N200309, A20, 37, 1, 15, 15, 2, 20031006, 1026, 30.8932, -52.3452, 5404,  1981.20,   1981.2,   3.9190,  35.0133, 2,  35.0126, 2,    256.2, 2,    256.7, 2,    15.93, 2,    18.10, 2,     0.00, 2,     1.20, 2,    0.822, 2,    0.425, 2,    0.039, 2,    1.309, 2,   2166.5, 2,   2313.6, 2,    43.40, 2,  -999.00, 9,    0.368, 2,    0.003,   1.8748, 2,   0.0094,     6.68, 2,     0.20,    7.884, 2,    0.039,   -999.0, 9,   -999.0,  -999.00, 9,    0.0990, 2,    0.0690, 2,    0.0340, 2,    0.0250, 2,    0.0190, 2,    0.0200, 2, -999, 9, -999, 9, -999, 9, -999, 9, -999, 9, -999, 9, -999, 9,  -999.00, 9,  -999.00, 9,  -999.00, 9,  -999.00, 9,   3.7544,  -999.00, 9, 1140,   30.9090,  -52.3314
316N200309, A20, 37, 1, 14, 14, 2, 20031006, 1026, 30.8932, -52.3452, 5404,  2249.10,   2249.1,   3.6181,  35.0008, 2,  34.9990, 2,    255.0, 2,    254.2, 2,    20.21, 2,    18.66, 2,     0.00, 2,     1.24, 2,    0.339, 2,    0.195, 2,    0.027, 2,    0.713, 2,   2170.0, 2,   2318.8, 2,  -999.00, 9,  -999.00, 9, -999.000, 9, -999.000, -999.0000, 9, -999.0000,  -999.00, 9,  -999.00, -999.000, 9, -999.000,   -999.0, 9,   -999.0,  -999.00, 9, -999.0000, 9, -999.0000, 9, -999.0000, 9, -999.0000, 9, -999.0000, 9, -999.0000, 9, -999, 9, -999, 9, -999, 9, -999, 9, -999, 9, -999, 9, -999, 9,  -999.00, 9,  -999.00, 9,  -999.00, 9,  -999.00, 9,   3.4319,  -999.00, 9, 1135,   30.9076,  -52.3323
316N200309, A20, 37, 1, 13, 13, 2, 20031006, 1026, 30.8932, -52.3452, 5404,  2499.10,   2499.1,   3.3655,  34.9821, 2,  34.9795, 2,    253.3, 2,    253.9, 2,    23.44, 2,    18.95, 2,     0.00, 2,     1.28, 2,    0.173, 2,    0.122, 2,    0.006, 2,    0.522, 2,   2173.1, 2,   2318.5, 2,    42.30, 2,  -999.00, 9, -999.000, 9, -999.000, -999.0000, 9, -999.0000,  -999.00, 9,  -999.00, -999.000, 9, -999.000,   -999.0, 9,   -999.0,  -999.00, 9,    0.0950, 2,    0.0660, 2,    0.0320, 2,    0.0230, 2,    0.0190, 2,    0.0210, 2, -999, 9, -999, 9, -999, 9, -999, 9, -999, 9, -999, 9, -999, 9,  -999.00, 9,  -999.00, 9,  -999.00, 9,  -999.00, 9,   3.1589,  -999.00, 9, 1130,   30.9062,  -52.3331
316N200309, A20, 37, 1, 12, 12, 2, 20031006, 1026, 30.8932, -52.3452, 5404,  2747.70,   2747.7,   3.1498,  34.9653, 2,  34.9638, 2,    252.9, 2,    253.9, 2,    26.46, 2,    19.36, 2,     0.00, 2,     1.31, 2,    0.090, 2,    0.068, 2,    0.000, 2,    0.429, 2,   2175.6, 2,   2323.9, 2,  -999.00, 9,  -999.00, 9, -999.000, 9, -999.000, -999.0000, 9, -999.0000,  -999.00, 9,  -999.00, -999.000, 9, -999.000,   -999.0, 9,   -999.0,  -999.00, 9, -999.0000, 9, -999.0000, 9, -999.0000, 9, -999.0000, 9, -999.0000, 9, -999.0000, 9, -999, 9, -999, 9, -999, 9, -999, 9, -999, 9, -999, 9, -999, 9,  -999.00, 9,  -999.00, 9,  -999.00, 9,  -999.00, 9,   2.9220,  -999.00, 9, 1125,   30.9051,  -52.3343
316N200309, A20, 37, 1, 11, 11, 2, 20031006, 1026, 30.8932, -52.3452, 5404,  2998.70,   2998.7,   2.9724,  34.9507, 2,  34.9494, 2,    253.6, 2,    254.1, 2,    28.52, 2,    19.56, 2,     0.00, 2,     1.33, 2,    0.063, 2,    0.036, 2,   -0.004, 2,    0.361, 2,   2176.8, 2,   2325.1, 2,    41.30, 2,  -999.00, 9, -999.000, 9, -999.000, -999.0000, 9, -999.0000,  -999.00, 9,  -999.00, -999.000, 9, -999.000,   -999.0, 9,   -999.0,  -999.00, 9,    0.0970, 2,    0.0670, 2,    0.0320, 2,    0.0210, 2,    0.0200, 2,    0.0210, 2, -999, 9, -999, 9, -999, 9, -999, 9, -999, 9, -999, 9, -999, 9,  -999.00, 9,  -999.00, 9,  -999.00, 9,  -999.00, 9,   2.7223,  -999.00, 9, 1120,   30.9038,  -52.3353
316N200309, A20, 37, 1, 10, 10, 2, 20031006, 1026, 30.8932, -52.3452, 5404,  3247.50,   3247.5,   2.7949,  34.9359, 2,  34.9628, 3,    255.9, 2,    265.1, 3,    30.17, 2,    19.61, 2,     0.00, 2,     1.33, 2,    0.065, 2,    0.054, 2,   -0.004, 2,    0.307, 2,   2176.9, 2,   2325.8, 2,  -999.00, 9,  -999.00, 9, -999.000, 9, -999.000, -999.0000, 9, -999.0000,  -999.00, 9,  -999.00, -999.000, 9, -999.000,   -999.0, 9,   -999.0,  -999.00, 9, -999.0000, 9, -999.0000, 9, -999.0000, 9, -999.0000, 9, -999.0000, 9, -999.0000, 9, -999, 9, -999, 9, -999, 9, -999, 9, -999, 9, -999, 9, -999, 9,  -999.00, 9,  -999.00, 9,  -999.00, 9,  -999.00, 9,   2.5225,  -999.00, 9, 1115,   30.9027,  -52.3361