BOTTLE,20220816CCHSIOAMB
EXPOCODE,SECT_ID,STNNBR,CASTNO,SAMPNO,BTLNBR,BTLNBR_FLAG_W,DATE,TIME,LATITUDE,LONGITUDE,DEPTH,CTDRAW,CTDPRS,CTDTMP,CTDSAL,CTDSAL_FLAG_W,SALNTY,SALNTY_FLAG_W,CTDOXY,CTDOXY_FLAG_W,OXYGEN,OXYGEN_FLAG_W,SILCAT,SILCAT_FLAG_W,NITRAT,NITRAT_FLAG_W,NITRIT,NITRIT_FLAG_W,PHSPHT,PHSPHT_FLAG_W,CFC-11,CFC-11_FLAG_W,CFC-12,CFC-12_FLAG_W,CFC113,CFC113_FLAG_W,CCL4,CCL4_FLAG_W,TCARBN,TCARBN_FLAG_W,ALKALI,ALKALI_FLAG_W,DOC,DOC_FLAG_W,TDN,TDN_FLAG_W,TRITUM,TRITUM_FLAG_W,TRITER,HELIUM,HELIUM_FLAG_W,HELIER,DELHE3,DELHE3_FLAG_W,DELHER,NEON,NEON_FLAG_W,NEONER,DELC14,DELC14_FLAG_W,C14ERR,DELC13,DELC13_FLAG_W,CDOM325,CDOM325_FLAG_W,CDOM340,CDOM340_FLAG_W,CDOM380,CDOM380_FLAG_W,CDOM412,CDOM412_FLAG_W,CDOMSL,CDOMSL_FLAG_W,CDOMSN,CDOMSN_FLAG_W,DCNS,DCNS_FLAG_W,ARABI,ARABI_FLAG_W,FUCO,FUCO_FLAG_W,GALA,GALA_FLAG_W,GLUC,GLUC_FLAG_W,MAN,MAN_FLAG_W,RHAM,RHAM_FLAG_W,BRDU,BRDU_FLAG_W,PEUK,PEUK_FLAG_W,PROC,PROC_FLAG_W,SYN,SYN_FLAG_W,THETA,BACT,BACT_FLAG_W,BTL_TIME,BTL_LAT,BTL_LON
,,,,,,,,,,,METERS,DBAR,DBAR,ITS-90,PSS-78,,PSS-78,,UMOL/KG,,UMOL/KG,,UMOL/KG,,UMOL/KG,,UMOL/KG,,UMOL/KG,,PMOL/KG,,PMOL/KG,,PMOL/KG,,PMOL/KG,,UMOL/KG,,UMOL/KG,,UMOL/KG,,UMOL/KG,,TU,,TU,NMOL/KG,,NMOL/KG,PERCNT,,PERCNT,NMOL/KG,,NMOL/KG,/MILLE,,/MILLE,/MILLE,,1/M,,1/M,,1/M,,1/M,,1/NM,,1/NM,,NMOL/KG,,NMOL/KG,,NMOL/KG,,NMOL/KG,,NMOL/KG,,NMOL/KG,,NMOL/KG,,PMOL/L/H,,E6/L,,E7/L,,E6/L,,DEG C,E8/L,,,,
316N200309, A20, 23, 1, 9, 9, 2, 20030930, 1057, 37.6017, -52.4870, 5419,  3500.90,   3500.9,   2.8451,  34.9301, 2,  34.9303, 2,    266.6, 2,    267.3, 2,    21.11, 2,    17.86, 2,     0.00, 2,     1.21, 2,    0.630, 2,    0.333, 2,    0.025, 2,    1.149, 2,   2165.3, 2,   2314.9, 2,  -999.00, 9,  -999.00, 9, -999.000, 9, -999.000, -999.0000, 9, -999.0000,  -999.00, 9,  -999.00, -999.000, 9, -999.000,   -999.0, 9,   -999.0,  -999.00, 9, -999.0000, 9, -999.0000, 9, -999.0000, 9, -999.0000, 9, -999.0000, 9, -999.0000, 9, -999, 9, -999, 9, -999, 9, -999, 9, -999, 9, -999, 9, -999, 9,  -999.00, 9,  -999.00, 9,  -999.00, 9,  -999.00, 9,   2.5440,  -999.00, 9, 1144,   37.6096,  -52.4794
316N200309, A20, 23, 1, 8, 8, 2, 20030930, 1057, 37.6017, -52.4870, 5419,  3698.70,   3698.7,   2.6866,  34.9212, 2,  34.9219, 2,    267.9, 2,    268.6, 2,    22.00, 2,    17.81, 2,     0.00, 2,     1.21, 2,    0.655, 2,    0.334, 2,    0.025, 2,    1.184, 2,   2167.9, 2,   2315.2, 2,  -999.00, 9,  -999.00, 9, -999.000, 9, -999.000, -999.0000, 9, -999.0000,  -999.00, 9,  -999.00, -999.000, 9, -999.000,   -999.0, 9,   -999.0,  -999.00, 9, -999.0000, 9, -999.0000, 9, -999.0000, 9, -999.0000, 9, -999.0000, 9, -999.0000, 9, -999, 9, -999, 9, -999, 9, -999, 9, -999, 9, -999, 9, -999, 9,  -999.00, 9,  -999.00, 9,  -999.00, 9,  -999.00, 9,   2.3675,  -999.00, 9, 1139,   37.6088,  -52.4801
316N200309, A20, 23, 1, 7, 7, 2, 20030930, 1057, 37.6017, -52.4870, 5419,  3900.70,   3900.7,   2.5444,  34.9123, 2,  34.9126, 2,    268.0, 2,    268.7, 2,    24.19, 2,    17.96, 2,     0.00, 2,     1.23, 2,    0.631, 2,    0.335, 2,    0.026, 2,    1.181, 2,   2169.8, 2,   2316.9, 2,  -999.00, 9,  -999.00, 9, -999.000, 9, -999.000, -999.0000, 9, -999.0000,  -999.00, 9,  -999.00, -999.000, 9, -999.000,   -999.0, 9,   -999.0,  -999.00, 9, -999.0000, 9, -999.0000, 9, -999.0000, 9, -999.0000, 9, -999.0000, 9, -999.0000, 9, -999, 9, -999, 9, -999, 9, -999, 9, -999, 9, -999, 9, -999, 9,  -999.00, 9,  -999.00, 9,  -999.00, 9,  -999.00, 9,   2.2062,  -999.00, 9, 1135,   37.6081,  -52.4807
316N200309, A20, 23, 1, 6, 6, 2, 20030930, 1057, 37.6017, -52.4870, 5419,  4098.80,   4098.8,   2.4467,  34.9051, 2,  34.9048, 2,    267.7, 2,    268.7, 2,    25.68, 2,    18.07, 2,     0.00, 2,     1.24, 2,    0.678, 2,    0.344, 2,    0.038, 2,    1.238, 2,   2171.3, 2,   2317.5, 2,    43.20, 2,  -999.00, 9, -999.000, 9, -999.000, -999.0000, 9, -999.0000,  -999.00, 9,  -999.00, -999.000, 9, -999.000,   -999.0, 9,   -999.0,  -999.00, 9,    0.1290, 2,    0.0910, 2,    0.0470, 2,    0.0500, 3,    0.0090, 3,    0.0120, 3, -999, 9, -999, 9, -999, 9, -999, 9, -999, 9, -999, 9, -999, 9,  -999.00, 9,  -999.00, 9,  -999.00, 9,  -999.00, 9,   2.0885,  -999.00, 9, 1130,   37.6073,  -52.4814
316N200309, A20, 23, 1, 5, 5, 2, 20030930, 1057, 37.6017, -52.4870, 5419,  4299.90,   4299.9,   2.3705,  34.8985, 2,  34.8987, 2,    267.4, 2,    268.2, 2,    27.58, 2,    18.27, 2,     0.00, 2,     1.25, 2,    0.686, 2,    0.353, 2,    0.037, 2,    1.265, 2,   2175.1, 2,   2321.5, 2,  -999.00, 9,  -999.00, 9, -999.000, 9, -999.000, -999.0000, 9, -999.0000,  -999.00, 9,  -999.00, -999.000, 9, -999.000,   -999.0, 9,   -999.0,  -999.00, 9, -999.0000, 9, -999.0000, 9, -999.0000, 9, -999.0000, 9, -999.0000, 9, -999.0000, 9, -999, 9, -999, 9, -999, 9, -999, 9, -999, 9, -999, 9, -999, 9,  -999.00, 9,  -999.00, 9,  -999.00, 9,  -999.00, 9,   1.9911,  -999.00, 9, 1126,   37.6066,  -52.4823
316N200309, A20, 23, 1, 4, 4, 2, 20030930, 1057, 37.6017, -52.4870, 5419,  4649.80,   4649.8,   2.3165,  34.8910, 2,  34.8912, 2,    265.0, 2,    265.9, 2,    37.66, 4,    19.82, 4,     0.00, 4,     1.36, 4,    0.633, 2,    0.326, 2,    0.036, 2,    1.144, 2,   2177.4, 2,   2324.5, 2,  -999.00, 9,  -999.00, 9, -999.000, 9, -999.000, -999.0000, 9, -999.0000,  -999.00, 9,  -999.00, -999.000, 9, -999.000,   -999.0, 9,   -999.0,  -999.00, 9, -999.0000, 9, -999.0000, 9, -999.0000, 9, -999.0000, 9, -999.0000, 9, -999.0000, 9, -999, 9, -999, 9, -999, 9, -999, 9, -999, 9, -999, 9, -999, 9,  -999.00, 9,  -999.00, 9,  -999.00, 9,  -999.00, 9,   1.8967,  -999.00, 9, 1118,   37.6054,  -52.4836
316N200309, A20, 23, 1, 3, 3, 2, 20030930, 1057, 37.6017, -52.4870, 5419,  4947.50,   4947.5,   2.3015,  34.8857, 2,  34.8863, 2,    262.5, 2,    263.6, 2,    34.21, 2,    19.32, 2,     0.00, 2,     1.32, 2,    0.557, 2,    0.278, 2,    0.033, 2,    0.987, 2,   2183.3, 2,   2328.5, 2,    43.30, 2,  -999.00, 9, -999.000, 9, -999.000, -999.0000, 9, -999.0000,  -999.00, 9,  -999.00, -999.000, 9, -999.000,   -999.0, 9,   -999.0,  -999.00, 9,    0.1350, 2,    0.0950, 2,    0.0430, 2,    0.0380, 2,    0.0130, 2,    0.0170, 2, -999, 9, -999, 9, -999, 9, -999, 9, -999, 9, -999, 9, -999, 9,  -999.00, 9,  -999.00, 9,  -999.00, 9,  -999.00, 9,   1.8454,  -999.00, 9, 1111,   37.6042,  -52.4849
316N200309, A20, 23, 1, 2, 2, 2, 20030930, 1057, 37.6017, -52.4870, 5419,  5247.70,   5247.7,   2.2802,  34.8790, 2,  34.8802, 2,    259.9, 2,    261.4, 2,    37.63, 2,    19.72, 2,     0.00, 2,     1.36, 2,    0.502, 2,    0.281, 2,    0.030, 2,    0.909, 2,   2185.8, 2,   2320.0, 4,  -999.00, 9,  -999.00, 9, -999.000, 9, -999.000, -999.0000, 9, -999.0000,  -999.00, 9,  -999.00, -999.000, 9, -999.000,   -999.0, 9,   -999.0,  -999.00, 9, -999.0000, 9, -999.0000, 9, -999.0000, 9, -999.0000, 9, -999.0000, 9, -999.0000, 9, -999, 9, -999, 9, -999, 9, -999, 9, -999, 9, -999, 9, -999, 9,  -999.00, 9,  -999.00, 9,  -999.00, 9,  -999.00, 9,   1.7867,  -999.00, 9, 1105,   37.6029,  -52.4860
316N200309, A20, 23, 1, 1, 1, 2, 20030930, 1057, 37.6017, -52.4870, 5419,  5513.40,   5513.4,   2.2524,  34.8706, 2,  34.8747, 2,    256.7, 2,    257.4, 2,    42.88, 2,    20.72, 2,     0.01, 2,     1.44, 2,    0.357, 2,    0.193, 2,    0.023, 2,    0.685, 2,   2194.1, 2,   2337.2, 2,    42.10, 2,  -999.00, 9, -999.000, 9, -999.000, -999.0000, 9, -999.0000,  -999.00, 9,  -999.00, -999.000, 9, -999.000,   -999.0, 9,   -999.0,  -999.00, 9,    0.1350, 2,    0.0940, 2,    0.0470, 2,    0.0360, 2,    0.0140, 2,    0.0170, 2, -999, 9, -999, 9, -999, 9, -999, 9, -999, 9, -999, 9, -999, 9,  -999.00, 9,  -999.00, 9,  -999.00, 9,  -999.00, 9,   1.7253,  -999.00, 9, 1059,   37.6018,  -52.4869