BOTTLE,20220816CCHSIOAMB
EXPOCODE,SECT_ID,STNNBR,CASTNO,SAMPNO,BTLNBR,BTLNBR_FLAG_W,DATE,TIME,LATITUDE,LONGITUDE,DEPTH,CTDRAW,CTDPRS,CTDTMP,CTDSAL,CTDSAL_FLAG_W,SALNTY,SALNTY_FLAG_W,CTDOXY,CTDOXY_FLAG_W,OXYGEN,OXYGEN_FLAG_W,SILCAT,SILCAT_FLAG_W,NITRAT,NITRAT_FLAG_W,NITRIT,NITRIT_FLAG_W,PHSPHT,PHSPHT_FLAG_W,CFC-11,CFC-11_FLAG_W,CFC-12,CFC-12_FLAG_W,CFC113,CFC113_FLAG_W,CCL4,CCL4_FLAG_W,TCARBN,TCARBN_FLAG_W,ALKALI,ALKALI_FLAG_W,DOC,DOC_FLAG_W,TDN,TDN_FLAG_W,TRITUM,TRITUM_FLAG_W,TRITER,HELIUM,HELIUM_FLAG_W,HELIER,DELHE3,DELHE3_FLAG_W,DELHER,NEON,NEON_FLAG_W,NEONER,DELC14,DELC14_FLAG_W,C14ERR,DELC13,DELC13_FLAG_W,CDOM325,CDOM325_FLAG_W,CDOM340,CDOM340_FLAG_W,CDOM380,CDOM380_FLAG_W,CDOM412,CDOM412_FLAG_W,CDOMSL,CDOMSL_FLAG_W,CDOMSN,CDOMSN_FLAG_W,DCNS,DCNS_FLAG_W,ARABI,ARABI_FLAG_W,FUCO,FUCO_FLAG_W,GALA,GALA_FLAG_W,GLUC,GLUC_FLAG_W,MAN,MAN_FLAG_W,RHAM,RHAM_FLAG_W,BRDU,BRDU_FLAG_W,PEUK,PEUK_FLAG_W,PROC,PROC_FLAG_W,SYN,SYN_FLAG_W,THETA,BACT,BACT_FLAG_W,BTL_TIME,BTL_LAT,BTL_LON
,,,,,,,,,,,METERS,DBAR,DBAR,ITS-90,PSS-78,,PSS-78,,UMOL/KG,,UMOL/KG,,UMOL/KG,,UMOL/KG,,UMOL/KG,,UMOL/KG,,PMOL/KG,,PMOL/KG,,PMOL/KG,,PMOL/KG,,UMOL/KG,,UMOL/KG,,UMOL/KG,,UMOL/KG,,TU,,TU,NMOL/KG,,NMOL/KG,PERCNT,,PERCNT,NMOL/KG,,NMOL/KG,/MILLE,,/MILLE,/MILLE,,1/M,,1/M,,1/M,,1/M,,1/NM,,1/NM,,NMOL/KG,,NMOL/KG,,NMOL/KG,,NMOL/KG,,NMOL/KG,,NMOL/KG,,NMOL/KG,,PMOL/L/H,,E6/L,,E7/L,,E6/L,,DEG C,E8/L,,,,
316N200309, A20, 51, 1, 10, 10, 2, 20031011, 2116, 16.8975, -52.3318, 4669,  2800.50,   2800.5,   2.8223,  34.9358, 2,  34.9349, 2,    255.4, 2,    255.4, 2,    28.44, 2,    19.59, 2,     0.00, 2,     1.33, 2,    0.087, 2,    0.047, 2,    0.008, 2,    0.301, 2,   -999.0, 9,   -999.0, 9,  -999.00, 9,  -999.00, 9, -999.000, 9, -999.000, -999.0000, 9, -999.0000,  -999.00, 9,  -999.00, -999.000, 9, -999.000,   -999.0, 9,   -999.0,  -999.00, 9, -999.0000, 9, -999.0000, 9, -999.0000, 9, -999.0000, 9, -999.0000, 9, -999.0000, 9, -999, 9, -999, 9, -999, 9, -999, 9, -999, 9, -999, 9, -999, 9,  -999.00, 9,  -999.00, 9,  -999.00, 9,  -999.00, 9,   2.5959,  -999.00, 9, 2200,   16.9004,  -52.3303
316N200309, A20, 51, 1, 9, 9, 2, 20031011, 2116, 16.8975, -52.3318, 4669,  3001.20,   3001.2,   2.7284,  34.9282, 2,  34.9274, 2,    255.4, 2,    255.3, 2,    30.10, 2,    19.78, 2,     0.00, 2,     1.34, 2,    0.100, 2,    0.047, 2,    0.037, 4,    0.285, 2,   -999.0, 9,   -999.0, 9,  -999.00, 9,  -999.00, 9, -999.000, 9, -999.000, -999.0000, 9, -999.0000,  -999.00, 9,  -999.00, -999.000, 9, -999.000,   -999.0, 9,   -999.0,  -999.00, 9, -999.0000, 9, -999.0000, 9, -999.0000, 9, -999.0000, 9, -999.0000, 9, -999.0000, 9, -999, 9, -999, 9, -999, 9, -999, 9, -999, 9, -999, 9, -999, 9,  -999.00, 9,  -999.00, 9,  -999.00, 9,  -999.00, 9,   2.4834,  -999.00, 9, 2156,   16.9001,  -52.3303
316N200309, A20, 51, 1, 8, 8, 2, 20031011, 2116, 16.8975, -52.3318, 4669,  3201.50,   3201.5,   2.6276,  34.9201, 2,  34.9191, 2,    255.2, 2,    255.2, 2,    32.18, 2,    20.01, 2,     0.00, 2,     1.36, 2,    0.097, 2,    0.051, 2,   -0.002, 2,    0.284, 2,   -999.0, 9,   -999.0, 9,  -999.00, 9,  -999.00, 9, -999.000, 9, -999.000, -999.0000, 9, -999.0000,  -999.00, 9,  -999.00, -999.000, 9, -999.000,   -999.0, 9,   -999.0,  -999.00, 9, -999.0000, 9, -999.0000, 9, -999.0000, 9, -999.0000, 9, -999.0000, 9, -999.0000, 9, -999, 9, -999, 9, -999, 9, -999, 9, -999, 9, -999, 9, -999, 9,  -999.00, 9,  -999.00, 9,  -999.00, 9,  -999.00, 9,   2.3640,  -999.00, 9, 2152,   16.8999,  -52.3303
316N200309, A20, 51, 1, 7, 7, 2, 20031011, 2116, 16.8975, -52.3318, 4669,  3401.10,   3401.1,   2.5387,  34.9126, 2,  34.9118, 2,    255.7, 2,    255.9, 2,    33.74, 2,    20.10, 2,     0.00, 2,     1.36, 2,    0.103, 2,    0.055, 2,    0.003, 2,    0.322, 2,   -999.0, 9,   -999.0, 9,  -999.00, 9,  -999.00, 9, -999.000, 9, -999.000, -999.0000, 9, -999.0000,  -999.00, 9,  -999.00, -999.000, 9, -999.000,   -999.0, 9,   -999.0,  -999.00, 9, -999.0000, 9, -999.0000, 9, -999.0000, 9, -999.0000, 9, -999.0000, 9, -999.0000, 9, -999, 9, -999, 9, -999, 9, -999, 9, -999, 9, -999, 9, -999, 9,  -999.00, 9,  -999.00, 9,  -999.00, 9,  -999.00, 9,   2.2560,  -999.00, 9, 2147,   16.8996,  -52.3302
316N200309, A20, 51, 1, 6, 6, 2, 20031011, 2116, 16.8975, -52.3318, 4669,  3602.30,   3602.3,   2.4638,  34.9054, 2,  34.9050, 2,    256.0, 2,    256.5, 2,    35.51, 2,    20.28, 2,     0.00, 2,     1.38, 2,    0.094, 2,    0.054, 2,   -0.003, 2,    0.338, 2,   -999.0, 9,   -999.0, 9,  -999.00, 9,  -999.00, 9, -999.000, 9, -999.000, -999.0000, 9, -999.0000,  -999.00, 9,  -999.00, -999.000, 9, -999.000,   -999.0, 9,   -999.0,  -999.00, 9, -999.0000, 9, -999.0000, 9, -999.0000, 9, -999.0000, 9, -999.0000, 9, -999.0000, 9, -999, 9, -999, 9, -999, 9, -999, 9, -999, 9, -999, 9, -999, 9,  -999.00, 9,  -999.00, 9,  -999.00, 9,  -999.00, 9,   2.1611,  -999.00, 9, 2143,   16.8993,  -52.3300
316N200309, A20, 51, 1, 5, 5, 2, 20031011, 2116, 16.8975, -52.3318, 4669,  3801.40,   3801.4,   2.3429,  34.8942, 2,  34.8936, 2,    256.2, 2,    255.2, 2,    38.74, 2,    20.61, 2,     0.00, 2,     1.40, 2,    0.084, 6,    0.047, 6,    0.007, 6,    0.340, 6,   -999.0, 9,   -999.0, 9,  -999.00, 9,  -999.00, 9, -999.000, 9, -999.000, -999.0000, 9, -999.0000,  -999.00, 9,  -999.00, -999.000, 9, -999.000,   -999.0, 9,   -999.0,  -999.00, 9, -999.0000, 9, -999.0000, 9, -999.0000, 9, -999.0000, 9, -999.0000, 9, -999.0000, 9, -999, 9, -999, 9, -999, 9, -999, 9, -999, 9, -999, 9, -999, 9,  -999.00, 9,  -999.00, 9,  -999.00, 9,  -999.00, 9,   2.0215,  -999.00, 9, 2139,   16.8990,  -52.3299
316N200309, A20, 51, 1, 4, 4, 2, 20031011, 2116, 16.8975, -52.3318, 4669,  4000.00,   4000.0,   2.2594,  34.8862, 2,  34.8859, 2,    254.8, 2,    255.3, 2,    40.93, 2,    20.79, 2,     0.00, 2,     1.42, 2,    0.085, 2,    0.047, 2,    0.003, 2,    0.360, 2,   -999.0, 9,   -999.0, 9,  -999.00, 9,  -999.00, 9, -999.000, 9, -999.000, -999.0000, 9, -999.0000,  -999.00, 9,  -999.00, -999.000, 9, -999.000,   -999.0, 9,   -999.0,  -999.00, 9, -999.0000, 9, -999.0000, 9, -999.0000, 9, -999.0000, 9, -999.0000, 9, -999.0000, 9, -999, 9, -999, 9, -999, 9, -999, 9, -999, 9, -999, 9, -999, 9,  -999.00, 9,  -999.00, 9,  -999.00, 9,  -999.00, 9,   1.9180,  -999.00, 9, 2134,   16.8988,  -52.3299
316N200309, A20, 51, 1, 3, 3, 2, 20031011, 2116, 16.8975, -52.3318, 4669,  4250.90,   4250.9,   2.1428,  34.8712, 2,  34.8709, 2,    252.2, 2,    252.2, 2,    46.88, 2,    21.69, 2,     0.00, 2,     1.48, 2,    0.056, 2,    0.037, 2,    0.008, 2,    0.287, 2,   -999.0, 9,   -999.0, 9,  -999.00, 9,  -999.00, 9, -999.000, 9, -999.000, -999.0000, 9, -999.0000,  -999.00, 9,  -999.00, -999.000, 9, -999.000,   -999.0, 9,   -999.0,  -999.00, 9, -999.0000, 9, -999.0000, 9, -999.0000, 9, -999.0000, 9, -999.0000, 9, -999.0000, 9, -999, 9, -999, 9, -999, 9, -999, 9, -999, 9, -999, 9, -999, 9,  -999.00, 9,  -999.00, 9,  -999.00, 9,  -999.00, 9,   1.7759,  -999.00, 9, 2129,   16.8985,  -52.3303
316N200309, A20, 51, 1, 2, 2, 2, 20031011, 2116, 16.8975, -52.3318, 4669,  4500.80,   4500.8,   2.0502,  34.8593, 2,  34.8589, 2,    250.7, 2,    250.6, 2,    50.74, 2,    22.11, 2,     0.00, 2,     1.51, 2,    0.075, 2,    0.046, 2,    0.007, 2,    0.313, 2,   -999.0, 9,   -999.0, 9,  -999.00, 9,  -999.00, 9, -999.000, 9, -999.000, -999.0000, 9, -999.0000,  -999.00, 9,  -999.00, -999.000, 9, -999.000,   -999.0, 9,   -999.0,  -999.00, 9, -999.0000, 9, -999.0000, 9, -999.0000, 9, -999.0000, 9, -999.0000, 9, -999.0000, 9, -999, 9, -999, 9, -999, 9, -999, 9, -999, 9, -999, 9, -999, 9,  -999.00, 9,  -999.00, 9,  -999.00, 9,  -999.00, 9,   1.6569,  -999.00, 9, 2124,   16.8981,  -52.3310
316N200309, A20, 51, 1, 1, 1, 2, 20031011, 2116, 16.8975, -52.3318, 4669,  4736.50,   4736.5,   1.9847,  34.8487, 2,  34.8491, 2,    248.6, 2,    248.8, 2,    54.72, 2,    22.68, 2,     0.00, 2,     1.55, 2,    0.076, 2,    0.046, 2,    0.002, 2,    0.303, 2,   -999.0, 9,   -999.0, 9,  -999.00, 9,  -999.00, 9, -999.000, 9, -999.000, -999.0000, 9, -999.0000,  -999.00, 9,  -999.00, -999.000, 9, -999.000,   -999.0, 9,   -999.0,  -999.00, 9, -999.0000, 9, -999.0000, 9, -999.0000, 9, -999.0000, 9, -999.0000, 9, -999.0000, 9, -999, 9, -999, 9, -999, 9, -999, 9, -999, 9, -999, 9, -999, 9,  -999.00, 9,  -999.00, 9,  -999.00, 9,  -999.00, 9,   1.5653,  -999.00, 9, 2117,   16.8975,  -52.3318