BOTTLE,20220816CCHSIOAMB
EXPOCODE,SECT_ID,STNNBR,CASTNO,SAMPNO,BTLNBR,BTLNBR_FLAG_W,DATE,TIME,LATITUDE,LONGITUDE,DEPTH,CTDRAW,CTDPRS,CTDTMP,CTDSAL,CTDSAL_FLAG_W,SALNTY,SALNTY_FLAG_W,CTDOXY,CTDOXY_FLAG_W,OXYGEN,OXYGEN_FLAG_W,SILCAT,SILCAT_FLAG_W,NITRAT,NITRAT_FLAG_W,NITRIT,NITRIT_FLAG_W,PHSPHT,PHSPHT_FLAG_W,CFC-11,CFC-11_FLAG_W,CFC-12,CFC-12_FLAG_W,CFC113,CFC113_FLAG_W,CCL4,CCL4_FLAG_W,TCARBN,TCARBN_FLAG_W,ALKALI,ALKALI_FLAG_W,DOC,DOC_FLAG_W,TDN,TDN_FLAG_W,TRITUM,TRITUM_FLAG_W,TRITER,HELIUM,HELIUM_FLAG_W,HELIER,DELHE3,DELHE3_FLAG_W,DELHER,NEON,NEON_FLAG_W,NEONER,DELC14,DELC14_FLAG_W,C14ERR,DELC13,DELC13_FLAG_W,CDOM325,CDOM325_FLAG_W,CDOM340,CDOM340_FLAG_W,CDOM380,CDOM380_FLAG_W,CDOM412,CDOM412_FLAG_W,CDOMSL,CDOMSL_FLAG_W,CDOMSN,CDOMSN_FLAG_W,DCNS,DCNS_FLAG_W,ARABI,ARABI_FLAG_W,FUCO,FUCO_FLAG_W,GALA,GALA_FLAG_W,GLUC,GLUC_FLAG_W,MAN,MAN_FLAG_W,RHAM,RHAM_FLAG_W,BRDU,BRDU_FLAG_W,PEUK,PEUK_FLAG_W,PROC,PROC_FLAG_W,SYN,SYN_FLAG_W,THETA,BACT,BACT_FLAG_W,BTL_TIME,BTL_LAT,BTL_LON
,,,,,,,,,,,METERS,DBAR,DBAR,ITS-90,PSS-78,,PSS-78,,UMOL/KG,,UMOL/KG,,UMOL/KG,,UMOL/KG,,UMOL/KG,,UMOL/KG,,PMOL/KG,,PMOL/KG,,PMOL/KG,,PMOL/KG,,UMOL/KG,,UMOL/KG,,UMOL/KG,,UMOL/KG,,TU,,TU,NMOL/KG,,NMOL/KG,PERCNT,,PERCNT,NMOL/KG,,NMOL/KG,/MILLE,,/MILLE,/MILLE,,1/M,,1/M,,1/M,,1/M,,1/NM,,1/NM,,NMOL/KG,,NMOL/KG,,NMOL/KG,,NMOL/KG,,NMOL/KG,,NMOL/KG,,NMOL/KG,,PMOL/L/H,,E6/L,,E7/L,,E6/L,,DEG C,E8/L,,,,
316N200309, A20, 31, 1, 36, 36, 2, 20031004, 0903, 26.8420, -52.3437, 4990,     4.20,      4.2,  27.9272,  37.4392, 2,  37.4386, 2,    195.5, 2,    247.5, 4,     0.74, 2,     0.08, 2,     0.00, 2,     0.03, 2,    1.495, 2,    0.981, 2,    0.112, 2,    1.599, 2,   2070.0, 2,   2444.4, 2,    73.90, 2,     4.00, 2, -999.000, 9, -999.000, -999.0000, 9, -999.0000,  -999.00, 9,  -999.00, -999.000, 9, -999.000,   -999.0, 9,   -999.0,  -999.00, 9,    0.0390, 2,    0.0240, 2,    0.0070, 2,    0.0050, 2,    0.0340, 2,    0.0320, 2, 3212, 4, 77, 2, 420, 2, 696, 2, 909, 2, 877, 2, 232, 2,     0.52, 2,     0.53, 2,     0.97, 2,     6.81, 2,  27.9262,     2.02, 2, 1110,   26.8242,  -52.3356
316N200309, A20, 31, 1, 35, 35, 2, 20031004, 0903, 26.8420, -52.3437, 4990,    29.80,     29.8,  27.9190,  37.4399, 2,  37.4356, 2,    195.3, 2,    257.4, 4,     0.74, 2,     0.08, 2,     0.00, 2,     0.03, 2,    1.506, 2,    0.940, 2,    0.107, 2,    1.627, 2,   2070.4, 2,   2443.5, 2,    76.40, 3,     4.80, 2, -999.000, 9, -999.000, -999.0000, 9, -999.0000,  -999.00, 9,  -999.00, -999.000, 9, -999.000,   -999.0, 9,   -999.0,  -999.00, 9,    0.0540, 2,    0.0370, 2,    0.0150, 2,    0.0120, 2,    0.0260, 2,    0.0260, 2, 3004, 4, 110, 2, 427, 2, 907, 2, 407, 2, 923, 2, 231, 2,     0.38, 2,     0.44, 2,     1.01, 2,     6.69, 2,  27.9119,     1.81, 2, 1109,   26.8242,  -52.3357
316N200309, A20, 31, 1, 34, 34, 2, 20031004, 0903, 26.8420, -52.3437, 4990,    74.20,     74.2,  24.1583,  37.1635, 2,  37.1586, 2,    225.6, 2,    285.6, 4,     0.64, 2,     0.08, 2,     0.00, 2,     0.02, 2,    1.882, 2,    1.188, 2,    0.133, 2,    1.366, 2,   2068.6, 2,   2424.4, 2,    70.10, 2,     4.80, 2, -999.000, 9, -999.000, -999.0000, 9, -999.0000,  -999.00, 9,  -999.00, -999.000, 9, -999.000,   -999.0, 9,   -999.0,  -999.00, 9,    0.1180, 2,    0.0790, 2,    0.0330, 2,    0.0230, 2,    0.0230, 2,    0.0250, 2, 2484, 4, 102, 2, 352, 2, 645, 2, 319, 2, 841, 2, 226, 2,     0.57, 2,     0.43, 2,    11.16, 2,     1.32, 2,  24.1425,     2.50, 2, 1107,   26.8243,  -52.3358
316N200309, A20, 31, 1, 33, 33, 2, 20031004, 0903, 26.8420, -52.3437, 4990,   100.20,    100.2,  22.8353,  37.0707, 2,  37.0621, 2,    221.7, 2,    279.8, 4,     0.63, 2,     0.08, 2,     0.00, 2,     0.02, 2,    1.984, 2,    1.222, 2,    0.127, 2,    1.338, 2,   2075.4, 2,   2420.0, 2,    67.50, 2,     4.20, 2, -999.000, 9, -999.000, -999.0000, 9, -999.0000,  -999.00, 9,  -999.00, -999.000, 9, -999.000,   -999.0, 9,   -999.0,  -999.00, 9,    0.1300, 2,    0.0880, 2,    0.0350, 2,    0.0260, 2,    0.0230, 2,    0.0240, 2, 1834, 4, 89, 2, 284, 2, 466, 2, 400, 2, 407, 2, 188, 2,     0.36, 2,     0.72, 2,    10.75, 2,     1.08, 2,  22.8148,     1.71, 2, 1106,   26.8244,  -52.3358
316N200309, A20, 31, 1, 32, 32, 2, 20031004, 0903, 26.8420, -52.3437, 4990,   124.20,    124.2,  21.5422,  36.9231, 2,  36.9258, 2,    214.6, 2,    271.1, 4,     0.73, 2,     0.12, 2,     0.00, 2,     0.02, 2,    2.038, 2,    1.226, 2,    0.112, 2,    1.220, 2,   2083.5, 2,   2410.8, 2,    62.30, 2,     3.70, 2, -999.000, 9, -999.000, -999.0000, 9, -999.0000,  -999.00, 9,  -999.00, -999.000, 9, -999.000,   -999.0, 9,   -999.0,  -999.00, 9,    0.1260, 2,    0.0880, 2,    0.0360, 2,    0.0270, 2,    0.0210, 2,    0.0230, 2, -999, 9, -999, 9, -999, 9, -999, 9, -999, 9, -999, 9, -999, 9,     0.16, 2,     0.91, 2,     7.19, 2,     0.25, 2,  21.5178,     1.45, 2, 1104,   26.8245,  -52.3359
316N200309, A20, 31, 1, 31, 31, 2, 20031004, 0903, 26.8420, -52.3437, 4990,   175.40,    175.4,  19.8125,  36.7511, 2,  36.7520, 2,    192.0, 2,    258.7, 4,     0.93, 2,     0.83, 2,     0.03, 2,     0.04, 2,    2.140, 2,    1.314, 2,    0.091, 2,    0.745, 2,   2106.5, 2,   2399.5, 2,    57.00, 2,     5.10, 3, -999.000, 9, -999.000, -999.0000, 9, -999.0000,  -999.00, 9,  -999.00, -999.000, 9, -999.000,   -999.0, 9,   -999.0,  -999.00, 9,    0.1170, 2,    0.0850, 2,    0.0410, 2,    0.0330, 2,    0.0150, 2,    0.0170, 2, 784, 4, 43, 2, 93, 2, 128, 2, 295, 2, 158, 2, 67, 2,     0.14, 2,     0.60, 2,     1.12, 2,     0.00, 2,  19.7800,     1.20, 2, 1102,   26.8246,  -52.3361
316N200309, A20, 31, 1, 30, 30, 2, 20031004, 0903, 26.8420, -52.3437, 4990,   224.90,    224.9,  18.8589,  36.6424, 2,  36.6417, 2,    191.3, 2,    226.5, 4,     1.21, 2,     2.68, 2,     0.01, 2,     0.12, 2,    2.229, 2,    1.334, 2,    0.032, 2,    0.545, 2,   2108.2, 2,   2391.6, 2,    55.40, 2,     8.10, 4, -999.000, 9, -999.000, -999.0000, 9, -999.0000,  -999.00, 9,  -999.00, -999.000, 9, -999.000,   -999.0, 9,   -999.0,  -999.00, 9,    0.1000, 2,    0.0730, 2,    0.0350, 2,    0.0290, 2,    0.0150, 2,    0.0180, 2, -999, 9, -999, 9, -999, 9, -999, 9, -999, 9, -999, 9, -999, 9,     0.14, 2,  -999.00, 9,  -999.00, 9,  -999.00, 9,  18.8186,  -999.00, 9, 1101,   26.8248,  -52.3362
316N200309, A20, 31, 1, 29, 29, 2, 20031004, 0903, 26.8420, -52.3437, 4990,   275.10,    275.1,  18.0665,  36.5308, 2,  36.5303, 2,    193.5, 2,    215.1, 4,     1.50, 2,     4.47, 2,     0.01, 2,     0.22, 2,    2.286, 2,    1.336, 2,    0.021, 2,    0.422, 2,   2108.6, 2,   2385.2, 2,    49.00, 2,     7.80, 2, -999.000, 9, -999.000, -999.0000, 9, -999.0000,  -999.00, 9,  -999.00, -999.000, 9, -999.000,   -999.0, 9,   -999.0,  -999.00, 9,    0.1090, 2,    0.0810, 2,    0.0410, 2,    0.0330, 2,    0.0140, 2,    0.0160, 2, 352, 4, 34, 2, 55, 2, 78, 2, 72, 2, 72, 2, 42, 2,     0.26, 2,  -999.00, 9,  -999.00, 9,  -999.00, 9,  18.0186,  -999.00, 9, 1059,   26.8249,  -52.3363
316N200309, A20, 31, 1, 28, 28, 2, 20031004, 0903, 26.8420, -52.3437, 4990,   350.40,    350.4,  17.2906,  36.4119, 2,  36.4121, 2,    195.5, 2,    195.0, 2,     1.88, 2,     5.70, 2,     0.01, 2,     0.30, 2,    2.302, 2,    1.339, 2,    0.029, 2,    0.492, 2,   2111.9, 2,   2377.4, 2,    49.10, 2,  -999.00, 9, -999.000, 9, -999.000, -999.0000, 9, -999.0000,  -999.00, 9,  -999.00, -999.000, 9, -999.000,   -999.0, 9,   -999.0,  -999.00, 9,    0.0930, 2,    0.0670, 2,    0.0310, 2,    0.0270, 2,    0.0200, 2,    0.0210, 2, -999, 9, -999, 9, -999, 9, -999, 9, -999, 9, -999, 9, -999, 9,  -999.00, 9,  -999.00, 9,  -999.00, 9,  -999.00, 9,  17.2313,  -999.00, 9, 1057,   26.8252,  -52.3365
316N200309, A20, 31, 1, 27, 27, 2, 20031004, 0903, 26.8420, -52.3437, 4990,   450.90,    450.9,  15.8006,  36.1615, 2,  36.1620, 2,    186.3, 2,    196.5, 2,     3.15, 2,     9.07, 2,     0.00, 2,     0.52, 2,    2.298, 2,    1.284, 2,    0.032, 2,    0.474, 2,   2127.3, 2,   2364.5, 2,    47.20, 2,  -999.00, 9, -999.000, 9, -999.000, -999.0000, 9, -999.0000,  -999.00, 9,  -999.00, -999.000, 9, -999.000,   -999.0, 9,   -999.0,  -999.00, 9,    0.1080, 2,    0.0780, 2,    0.0380, 2,    0.0280, 2,    0.0170, 2,    0.0190, 2, -999, 9, -999, 9, -999, 9, -999, 9, -999, 9, -999, 9, -999, 9,  -999.00, 9,  -999.00, 9,  -999.00, 9,  -999.00, 9,  15.7288,  -999.00, 9, 1054,   26.8254,  -52.3367
316N200309, A20, 31, 1, 26, 26, 2, 20031004, 0903, 26.8420, -52.3437, 4990,   551.20,    551.2,  14.2220,  35.9098, 2,  35.9083, 2,    178.6, 2,    176.8, 2,     4.71, 2,    12.46, 2,     0.00, 2,     0.73, 2,    2.097, 2,    1.168, 2,    0.028, 2,    0.439, 2,   2141.7, 2,   2350.2, 2,    46.00, 2,  -999.00, 9, -999.000, 9, -999.000, -999.0000, 9, -999.0000,  -999.00, 9,  -999.00, -999.000, 9, -999.000,   -999.0, 9,   -999.0,  -999.00, 9,    0.1030, 2,    0.0740, 2,    0.0360, 2,    0.0290, 2,    0.0170, 2,    0.0190, 2, 268, 4, 20, 2, 46, 2, 51, 2, 52, 2, 67, 2, 33, 2,  -999.00, 9,  -999.00, 9,  -999.00, 9,  -999.00, 9,  14.1399,  -999.00, 9, 1051,   26.8257,  -52.3369
316N200309, A20, 31, 1, 25, 25, 2, 20031004, 0903, 26.8420, -52.3437, 4990,   675.60,    675.6,  11.8245,  35.5812, 2,  35.5803, 2,    167.9, 2,    165.9, 2,     7.95, 2,    17.38, 2,     0.00, 2,     1.06, 2,    1.575, 2,    0.804, 2,    0.021, 2,    0.375, 2,   2160.1, 2,   2334.8, 2,    45.90, 2,  -999.00, 9, -999.000, 9, -999.000, -999.0000, 9, -999.0000,  -999.00, 9,  -999.00, -999.000, 9, -999.000,   -999.0, 9,   -999.0,  -999.00, 9,    0.1070, 2,    0.0760, 2,    0.0360, 2,    0.0270, 2,    0.0190, 2,    0.0200, 2, -999, 9, -999, 9, -999, 9, -999, 9, -999, 9, -999, 9, -999, 9,  -999.00, 9,  -999.00, 9,  -999.00, 9,  -999.00, 9,  11.7350,  -999.00, 9, 1048,   26.8261,  -52.3371
316N200309, A20, 31, 1, 24, 24, 2, 20031004, 0903, 26.8420, -52.3437, 4990,   799.50,    799.5,   9.5202,  35.3209, 2,  35.3198, 2,    161.6, 2,    158.1, 2,    12.26, 2,    21.86, 2,     0.00, 2,     1.38, 2,    0.812, 2,    0.453, 2,    0.016, 2,    0.314, 2,   2178.9, 2,   2325.3, 2,    43.50, 2,  -999.00, 9, -999.000, 9, -999.000, -999.0000, 9, -999.0000,  -999.00, 9,  -999.00, -999.000, 9, -999.000,   -999.0, 9,   -999.0,  -999.00, 9,    0.1140, 2,    0.0780, 2,    0.0370, 2,    0.0310, 2,    0.0160, 2,    0.0190, 2, -999, 9, -999, 9, -999, 9, -999, 9, -999, 9, -999, 9, -999, 9,  -999.00, 9,  -999.00, 9,  -999.00, 9,  -999.00, 9,   9.4270,  -999.00, 9, 1045,   26.8266,  -52.3373
316N200309, A20, 31, 1, 23, 23, 2, 20031004, 0903, 26.8420, -52.3437, 4990,   900.90,    900.9,   7.7984,  35.1368, 2,  35.1354, 2,    158.3, 2,    155.6, 2,    16.29, 2,    24.96, 2,     0.00, 2,     1.61, 2,    0.375, 6,    0.206, 6,    0.007, 2,    0.225, 2,   2193.2, 2,   2318.7, 2,    42.90, 2,  -999.00, 9, -999.000, 9, -999.000, -999.0000, 9, -999.0000,  -999.00, 9,  -999.00, -999.000, 9, -999.000,   -999.0, 9,   -999.0,  -999.00, 9,    0.1140, 2,    0.0780, 2,    0.0370, 2,    0.0310, 2,    0.0150, 2,    0.0180, 2, 253, 4, 46, 2, 25, 2, 50, 2, 45, 2, 50, 2, 38, 2,  -999.00, 9,  -999.00, 9,  -999.00, 9,  -999.00, 9,   7.7043,  -999.00, 9, 1042,   26.8270,  -52.3374
316N200309, A20, 31, 1, 22, 22, 2, 20031004, 0903, 26.8420, -52.3437, 4990,  1100.80,   1100.8,   6.3392,  35.0973, 2,  35.0970, 2,    188.6, 2,    186.2, 2,    16.58, 2,    23.27, 2,     0.00, 2,     1.52, 2,    0.282, 2,    0.164, 2,   -0.001, 2,    0.353, 2,   2184.7, 2,   2319.7, 2,    43.40, 2,  -999.00, 9, -999.000, 9, -999.000, -999.0000, 9, -999.0000,  -999.00, 9,  -999.00, -999.000, 9, -999.000,   -999.0, 9,   -999.0,  -999.00, 9,    0.1200, 2,    0.0830, 2,    0.0390, 2,    0.0330, 2,    0.0140, 3,    0.0180, 3, -999, 9, -999, 9, -999, 9, -999, 9, -999, 9, -999, 9, -999, 9,  -999.00, 9,  -999.00, 9,  -999.00, 9,  -999.00, 9,   6.2346,  -999.00, 9, 1038,   26.8277,  -52.3376
316N200309, A20, 31, 1, 21, 21, 2, 20031004, 0903, 26.8420, -52.3437, 4990,  1274.90,   1274.9,   5.5629,  35.1015, 2,  35.1002, 2,    215.8, 2,    213.6, 2,    15.30, 2,    20.99, 2,     0.00, 2,     1.38, 2,    0.342, 2,    0.202, 2,    0.006, 2,    0.613, 2,   2176.9, 2,   2318.5, 2,    43.20, 2,  -999.00, 9, -999.000, 9, -999.000, -999.0000, 9, -999.0000,  -999.00, 9,  -999.00, -999.000, 9, -999.000,   -999.0, 9,   -999.0,  -999.00, 9,    0.1270, 2,    0.0870, 2,    0.0410, 2,    0.0350, 2,    0.0140, 2,    0.0180, 2, -999, 9, -999, 9, -999, 9, -999, 9, -999, 9, -999, 9, -999, 9,  -999.00, 9,  -999.00, 9,  -999.00, 9,  -999.00, 9,   5.4477,  -999.00, 9, 1034,   26.8282,  -52.3378
316N200309, A20, 31, 1, 20, 20, 2, 20031004, 0903, 26.8420, -52.3437, 4990,  1401.70,   1401.7,   5.1535,  35.1007, 2,  35.1000, 2,    229.3, 2,    227.0, 2,    15.00, 2,    19.98, 2,     0.00, 2,     1.32, 2,    0.381, 2,    0.212, 2,    0.005, 2,    0.684, 2,   2172.9, 2,   2318.8, 2,    42.60, 2,  -999.00, 9, -999.000, 9, -999.000, -999.0000, 9, -999.0000,  -999.00, 9,  -999.00, -999.000, 9, -999.000,   -999.0, 9,   -999.0,  -999.00, 9,    0.1160, 2,    0.0800, 2,    0.0370, 2,    0.0370, 3,    0.0110, 3,    0.0160, 3, -999, 9, -999, 9, -999, 9, -999, 9, -999, 9, -999, 9, -999, 9,  -999.00, 9,  -999.00, 9,  -999.00, 9,  -999.00, 9,   5.0297,  -999.00, 9, 1031,   26.8285,  -52.3380
316N200309, A20, 31, 1, 19, 19, 2, 20031004, 0903, 26.8420, -52.3437, 4990,  1503.60,   1503.6,   4.8612,  35.0899, 2,  35.0902, 2,    234.8, 2,    234.5, 2,    15.19, 2,    19.52, 2,     0.00, 2,     1.29, 2,    0.403, 2,    0.232, 2,    0.009, 2,    0.745, 2,   2170.6, 2,   2317.6, 2,  -999.00, 9,  -999.00, 9, -999.000, 9, -999.000, -999.0000, 9, -999.0000,  -999.00, 9,  -999.00, -999.000, 9, -999.000,   -999.0, 9,   -999.0,  -999.00, 9, -999.0000, 9, -999.0000, 9, -999.0000, 9, -999.0000, 9, -999.0000, 9, -999.0000, 9, -999, 9, -999, 9, -999, 9, -999, 9, -999, 9, -999, 9, -999, 9,  -999.00, 9,  -999.00, 9,  -999.00, 9,  -999.00, 9,   4.7307,  -999.00, 9, 1028,   26.8286,  -52.3382
316N200309, A20, 31, 1, 18, 18, 2, 20031004, 0903, 26.8420, -52.3437, 4990,  1627.70,   1627.7,   4.5153,  35.0754, 2,  35.0744, 2,    240.3, 2,    238.6, 2,    16.77, 2,    19.46, 2,     0.00, 2,     1.29, 2,    0.234, 2,    0.142, 2,    0.003, 2,    0.613, 2,   2171.7, 2,   2319.8, 2,    43.80, 2,  -999.00, 9, -999.000, 9, -999.000, -999.0000, 9, -999.0000,  -999.00, 9,  -999.00, -999.000, 9, -999.000,   -999.0, 9,   -999.0,  -999.00, 9,    0.1220, 2,    0.0850, 2,    0.0400, 2,    0.0380, 3,    0.0120, 3,    0.0160, 3, -999, 9, -999, 9, -999, 9, -999, 9, -999, 9, -999, 9, -999, 9,  -999.00, 9,  -999.00, 9,  -999.00, 9,  -999.00, 9,   4.3768,  -999.00, 9, 1025,   26.8288,  -52.3384
316N200309, A20, 31, 1, 17, 17, 2, 20031004, 0903, 26.8420, -52.3437, 4990,  1777.50,   1777.5,   4.2096,  35.0596, 2,  35.0614, 2,    245.1, 2,    243.3, 2,    18.24, 2,    19.21, 2,     0.00, 2,     1.28, 2,    0.230, 2,    0.143, 2,    0.003, 2,    0.627, 2,   2171.3, 2,   2322.5, 2,  -999.00, 9,  -999.00, 9, -999.000, 9, -999.000, -999.0000, 9, -999.0000,  -999.00, 9,  -999.00, -999.000, 9, -999.000,   -999.0, 9,   -999.0,  -999.00, 9, -999.0000, 9, -999.0000, 9, -999.0000, 9, -999.0000, 9, -999.0000, 9, -999.0000, 9, -999, 9, -999, 9, -999, 9, -999, 9, -999, 9, -999, 9, -999, 9,  -999.00, 9,  -999.00, 9,  -999.00, 9,  -999.00, 9,   4.0606,  -999.00, 9, 1021,   26.8291,  -52.3386
316N200309, A20, 31, 1, 16, 16, 2, 20031004, 0903, 26.8420, -52.3437, 4990,  1928.20,   1928.2,   3.8898,  35.0343, 2,  35.0358, 2,    249.1, 2,    283.6, 4,    19.92, 2,    19.00, 2,     0.00, 2,     1.27, 2,    0.198, 2,    0.126, 2,    0.002, 2,    0.556, 2,   2171.4, 2,   2321.9, 2,  -999.00, 9,  -999.00, 9, -999.000, 9, -999.000, -999.0000, 9, -999.0000,  -999.00, 9,  -999.00, -999.000, 9, -999.000,   -999.0, 9,   -999.0,  -999.00, 9, -999.0000, 9, -999.0000, 9, -999.0000, 9, -999.0000, 9, -999.0000, 9, -999.0000, 9, -999, 9, -999, 9, -999, 9, -999, 9, -999, 9, -999, 9, -999, 9,  -999.00, 9,  -999.00, 9,  -999.00, 9,  -999.00, 9,   3.7306,  -999.00, 9, 1018,   26.8293,  -52.3387
316N200309, A20, 31, 1, 15, 15, 2, 20031004, 0903, 26.8420, -52.3437, 4990,  2128.90,   2128.9,   3.5070,  35.0018, 2,  35.0008, 2,    250.5, 2,    265.3, 4,    23.58, 2,    19.40, 2,     0.00, 2,     1.30, 2,    0.118, 2,    0.074, 2,    0.005, 2,    0.424, 2,   2174.3, 2,   2324.8, 2,    43.30, 2,  -999.00, 9, -999.000, 9, -999.000, -999.0000, 9, -999.0000,  -999.00, 9,  -999.00, -999.000, 9, -999.000,   -999.0, 9,   -999.0,  -999.00, 9,    0.1240, 2,    0.0850, 2,    0.0400, 2,    0.0300, 2,    0.0170, 2,    0.0200, 2, -999, 9, -999, 9, -999, 9, -999, 9, -999, 9, -999, 9, -999, 9,  -999.00, 9,  -999.00, 9,  -999.00, 9,  -999.00, 9,   3.3344,  -999.00, 9, 1013,   26.8296,  -52.3388
316N200309, A20, 31, 1, 14, 14, 2, 20031004, 0903, 26.8420, -52.3437, 4990,  2373.40,   2373.4,   3.2207,  34.9760, 2,  34.9756, 2,    250.9, 2,    294.7, 4,    27.04, 2,    19.70, 2,     0.00, 2,     1.33, 2,    0.072, 2,    0.059, 2,   -0.001, 2,    0.354, 2,   2177.3, 2,   2327.0, 2,  -999.00, 9,  -999.00, 9, -999.000, 9, -999.000, -999.0000, 9, -999.0000,  -999.00, 9,  -999.00, -999.000, 9, -999.000,   -999.0, 9,   -999.0,  -999.00, 9, -999.0000, 9, -999.0000, 9, -999.0000, 9, -999.0000, 9, -999.0000, 9, -999.0000, 9, -999, 9, -999, 9, -999, 9, -999, 9, -999, 9, -999, 9, -999, 9,  -999.00, 9,  -999.00, 9,  -999.00, 9,  -999.00, 9,   3.0291,  -999.00, 9, 1008,   26.8304,  -52.3391
316N200309, A20, 31, 1, 13, 13, 2, 20031004, 0903, 26.8420, -52.3437, 4990,  2622.30,   2622.3,   3.0519,  34.9605, 2,  34.9620, 2,    251.5, 2,    286.1, 4,    29.32, 2,    19.95, 2,     0.00, 2,     1.36, 2,    0.064, 2,    0.050, 2,   -0.001, 2,    0.292, 2,   2179.1, 2,   2329.6, 2,    41.50, 2,  -999.00, 9, -999.000, 9, -999.000, -999.0000, 9, -999.0000,  -999.00, 9,  -999.00, -999.000, 9, -999.000,   -999.0, 9,   -999.0,  -999.00, 9,    0.1270, 2,    0.0860, 2,    0.0420, 2,    0.0380, 3,    0.0120, 3,    0.0160, 3, -999, 9, -999, 9, -999, 9, -999, 9, -999, 9, -999, 9, -999, 9,  -999.00, 9,  -999.00, 9,  -999.00, 9,  -999.00, 9,   2.8388,  -999.00, 9, 1003,   26.8316,  -52.3393
316N200309, A20, 31, 1, 12, 12, 2, 20031004, 0903, 26.8420, -52.3437, 4990,  2871.90,   2871.9,   2.8874,  34.9456, 2,  34.9449, 2,    251.9, 2,    251.2, 4,    32.00, 2,    20.25, 2,     0.00, 2,     1.38, 2,    0.030, 2,    0.026, 2,   -0.001, 2,    0.231, 2,   2181.4, 2,   2331.4, 2,  -999.00, 9,  -999.00, 9, -999.000, 9, -999.000, -999.0000, 9, -999.0000,  -999.00, 9,  -999.00, -999.000, 9, -999.000,   -999.0, 9,   -999.0,  -999.00, 9, -999.0000, 9, -999.0000, 9, -999.0000, 9, -999.0000, 9, -999.0000, 9, -999.0000, 9, -999, 9, -999, 9, -999, 9, -999, 9, -999, 9, -999, 9, -999, 9,  -999.00, 9,  -999.00, 9,  -999.00, 9,  -999.00, 9,   2.6523,  -999.00, 9,  957,   26.8331,  -52.3397
316N200309, A20, 31, 1, 11, 11, 2, 20031004, 0903, 26.8420, -52.3437, 4990,  3097.50,   3097.5,   2.7309,  34.9324, 2,  34.9311, 2,    253.4, 2,    317.0, 4,    33.69, 2,    20.39, 2,     0.00, 2,     1.39, 2,    0.019, 2,    0.018, 2,   -0.001, 2,    0.179, 2,   2181.5, 2,   2331.7, 2,  -999.00, 9,  -999.00, 9, -999.000, 9, -999.000, -999.0000, 9, -999.0000,  -999.00, 9,  -999.00, -999.000, 9, -999.000,   -999.0, 9,   -999.0,  -999.00, 9, -999.0000, 9, -999.0000, 9, -999.0000, 9, -999.0000, 9, -999.0000, 9, -999.0000, 9, -999, 9, -999, 9, -999, 9, -999, 9, -999, 9, -999, 9, -999, 9,  -999.00, 9,  -999.00, 9,  -999.00, 9,  -999.00, 9,   2.4759,  -999.00, 9,  953,   26.8343,  -52.3401