BOTTLE,20220816CCHSIOAMB
EXPOCODE,SECT_ID,STNNBR,CASTNO,SAMPNO,BTLNBR,BTLNBR_FLAG_W,DATE,TIME,LATITUDE,LONGITUDE,DEPTH,CTDRAW,CTDPRS,CTDTMP,CTDSAL,CTDSAL_FLAG_W,SALNTY,SALNTY_FLAG_W,CTDOXY,CTDOXY_FLAG_W,OXYGEN,OXYGEN_FLAG_W,SILCAT,SILCAT_FLAG_W,NITRAT,NITRAT_FLAG_W,NITRIT,NITRIT_FLAG_W,PHSPHT,PHSPHT_FLAG_W,CFC-11,CFC-11_FLAG_W,CFC-12,CFC-12_FLAG_W,CFC113,CFC113_FLAG_W,CCL4,CCL4_FLAG_W,TCARBN,TCARBN_FLAG_W,ALKALI,ALKALI_FLAG_W,DOC,DOC_FLAG_W,TDN,TDN_FLAG_W,TRITUM,TRITUM_FLAG_W,TRITER,HELIUM,HELIUM_FLAG_W,HELIER,DELHE3,DELHE3_FLAG_W,DELHER,NEON,NEON_FLAG_W,NEONER,DELC14,DELC14_FLAG_W,C14ERR,DELC13,DELC13_FLAG_W,CDOM325,CDOM325_FLAG_W,CDOM340,CDOM340_FLAG_W,CDOM380,CDOM380_FLAG_W,CDOM412,CDOM412_FLAG_W,CDOMSL,CDOMSL_FLAG_W,CDOMSN,CDOMSN_FLAG_W,DCNS,DCNS_FLAG_W,ARABI,ARABI_FLAG_W,FUCO,FUCO_FLAG_W,GALA,GALA_FLAG_W,GLUC,GLUC_FLAG_W,MAN,MAN_FLAG_W,RHAM,RHAM_FLAG_W,BRDU,BRDU_FLAG_W,PEUK,PEUK_FLAG_W,PROC,PROC_FLAG_W,SYN,SYN_FLAG_W,THETA,BACT,BACT_FLAG_W,BTL_TIME,BTL_LAT,BTL_LON
,,,,,,,,,,,METERS,DBAR,DBAR,ITS-90,PSS-78,,PSS-78,,UMOL/KG,,UMOL/KG,,UMOL/KG,,UMOL/KG,,UMOL/KG,,UMOL/KG,,PMOL/KG,,PMOL/KG,,PMOL/KG,,PMOL/KG,,UMOL/KG,,UMOL/KG,,UMOL/KG,,UMOL/KG,,TU,,TU,NMOL/KG,,NMOL/KG,PERCNT,,PERCNT,NMOL/KG,,NMOL/KG,/MILLE,,/MILLE,/MILLE,,1/M,,1/M,,1/M,,1/M,,1/NM,,1/NM,,NMOL/KG,,NMOL/KG,,NMOL/KG,,NMOL/KG,,NMOL/KG,,NMOL/KG,,NMOL/KG,,PMOL/L/H,,E6/L,,E7/L,,E6/L,,DEG C,E8/L,,,,
316N200309, A20, 29, 1, 10, 10, 2, 20031002, 1422, 32.2200, -52.3557, 5517,  3501.90,   3501.9,   2.5985,  34.9214, 2,  34.9215, 2,    263.6, 2,    264.0, 2,    26.56, 2,    18.89, 2,     0.00, 2,     1.27, 2,    0.204, 2,    0.114, 2,    0.020, 2,    0.562, 2,   2169.3, 2,   2316.7, 3,    41.20, 2,  -999.00, 9, -999.000, 9, -999.000, -999.0000, 9, -999.0000,  -999.00, 9,  -999.00, -999.000, 9, -999.000,   -999.0, 9,   -999.0,  -999.00, 9,    0.1180, 2,    0.0820, 2,    0.0380, 2,    0.0330, 2,    0.0140, 2,    0.0180, 2, -999, 9, -999, 9, -999, 9, -999, 9, -999, 9, -999, 9, -999, 9,  -999.00, 9,  -999.00, 9,  -999.00, 9,  -999.00, 9,   2.3033,  -999.00, 9, 1518,   32.2276,  -52.3614
316N200309, A20, 29, 1, 9, 9, 2, 20031002, 1422, 32.2200, -52.3557, 5517,  3700.60,   3700.6,   2.4780,  34.9124, 2,  34.9117, 2,    264.3, 2,    264.8, 2,    27.82, 2,    18.90, 2,     0.00, 2,     1.27, 2,    0.250, 2,    0.145, 2,    0.001, 2,    0.612, 2,   2170.2, 2,   2322.6, 2,  -999.00, 9,  -999.00, 9, -999.000, 9, -999.000, -999.0000, 9, -999.0000,  -999.00, 9,  -999.00, -999.000, 9, -999.000,   -999.0, 9,   -999.0,  -999.00, 9, -999.0000, 9, -999.0000, 9, -999.0000, 9, -999.0000, 9, -999.0000, 9, -999.0000, 9, -999, 9, -999, 9, -999, 9, -999, 9, -999, 9, -999, 9, -999, 9,  -999.00, 9,  -999.00, 9,  -999.00, 9,  -999.00, 9,   2.1641,  -999.00, 9, 1513,   32.2270,  -52.3610
316N200309, A20, 29, 1, 8, 8, 2, 20031002, 1422, 32.2200, -52.3557, 5517,  3900.60,   3900.6,   2.3947,  34.9048, 2,  34.9054, 2,    264.4, 2,    264.8, 2,    29.57, 2,    19.01, 2,     0.00, 2,     1.28, 2,    0.284, 2,    0.158, 2,    0.012, 2,    0.679, 2,   2171.7, 2,   2316.4, 3,  -999.00, 9,  -999.00, 9, -999.000, 9, -999.000, -999.0000, 9, -999.0000,  -999.00, 9,  -999.00, -999.000, 9, -999.000,   -999.0, 9,   -999.0,  -999.00, 9, -999.0000, 9, -999.0000, 9, -999.0000, 9, -999.0000, 9, -999.0000, 9, -999.0000, 9, -999, 9, -999, 9, -999, 9, -999, 9, -999, 9, -999, 9, -999, 9,  -999.00, 9,  -999.00, 9,  -999.00, 9,  -999.00, 9,   2.0606,  -999.00, 9, 1508,   32.2264,  -52.3604
316N200309, A20, 29, 1, 7, 7, 2, 20031002, 1422, 32.2200, -52.3557, 5517,  4100.20,   4100.2,   2.3366,  34.8987, 2,  34.9006, 2,    263.9, 2,    263.6, 2,    31.82, 2,    19.34, 2,     0.00, 2,     1.31, 2,    0.265, 2,    0.149, 2,    0.003, 2,    0.613, 2,   2174.6, 2,   2323.8, 2,    41.40, 2,  -999.00, 9, -999.000, 9, -999.000, -999.0000, 9, -999.0000,  -999.00, 9,  -999.00, -999.000, 9, -999.000,   -999.0, 9,   -999.0,  -999.00, 9,    0.1220, 2,    0.0840, 2,    0.0380, 2,    0.0330, 2,    0.0150, 2,    0.0180, 2, -999, 9, -999, 9, -999, 9, -999, 9, -999, 9, -999, 9, -999, 9,  -999.00, 9,  -999.00, 9,  -999.00, 9,  -999.00, 9,   1.9814,  -999.00, 9, 1503,   32.2258,  -52.3598
316N200309, A20, 29, 1, 6, 6, 2, 20031002, 1422, 32.2200, -52.3557, 5517,  4301.30,   4301.3,   2.2902,  34.8926, 2,  34.8924, 2,    262.6, 2,    263.5, 2,    33.78, 2,    19.66, 2,     0.00, 2,     1.32, 2,    0.304, 2,    0.174, 2,    0.014, 2,    0.662, 2,   2177.6, 2,   2326.5, 2,  -999.00, 9,  -999.00, 9, -999.000, 9, -999.000, -999.0000, 9, -999.0000,  -999.00, 9,  -999.00, -999.000, 9, -999.000,   -999.0, 9,   -999.0,  -999.00, 9, -999.0000, 9, -999.0000, 9, -999.0000, 9, -999.0000, 9, -999.0000, 9, -999.0000, 9, -999, 9, -999, 9, -999, 9, -999, 9, -999, 9, -999, 9, -999, 9,  -999.00, 9,  -999.00, 9,  -999.00, 9,  -999.00, 9,   1.9130,  -999.00, 9, 1458,   32.2252,  -52.3594
316N200309, A20, 29, 1, 5, 5, 2, 20031002, 1422, 32.2200, -52.3557, 5517,  4550.40,   4550.4,   2.2270,  34.8831, 2,  34.8839, 2,    260.1, 2,    259.6, 2,    38.52, 2,    20.27, 2,     0.00, 2,     1.37, 2,    0.252, 2,    0.147, 2,    0.004, 2,    0.549, 2,   2183.7, 2,   2331.0, 2,  -999.00, 9,  -999.00, 9, -999.000, 9, -999.000, -999.0000, 9, -999.0000,  -999.00, 9,  -999.00, -999.000, 9, -999.000,   -999.0, 9,   -999.0,  -999.00, 9, -999.0000, 9, -999.0000, 9, -999.0000, 9, -999.0000, 9, -999.0000, 9, -999.0000, 9, -999, 9, -999, 9, -999, 9, -999, 9, -999, 9, -999, 9, -999, 9,  -999.00, 9,  -999.00, 9,  -999.00, 9,  -999.00, 9,   1.8222,  -999.00, 9, 1452,   32.2241,  -52.3591
316N200309, A20, 29, 1, 4, 4, 2, 20031002, 1422, 32.2200, -52.3557, 5517,  4826.10,   4826.1,   2.1540,  34.8703, 2,  34.8707, 2,    255.5, 2,    255.3, 2,    45.17, 2,    21.34, 2,     0.00, 2,     1.45, 2,    0.169, 2,    0.106, 2,    0.005, 2,    0.438, 2,   2190.6, 2,   2329.9, 2,    41.10, 2,  -999.00, 9, -999.000, 9, -999.000, -999.0000, 9, -999.0000,  -999.00, 9,  -999.00, -999.000, 9, -999.000,   -999.0, 9,   -999.0,  -999.00, 9,    0.1190, 2,    0.0810, 2,    0.0370, 2,    0.0280, 2,    0.0200, 2,    0.0220, 2, -999, 9, -999, 9, -999, 9, -999, 9, -999, 9, -999, 9, -999, 9,  -999.00, 9,  -999.00, 9,  -999.00, 9,  -999.00, 9,   1.7179,  -999.00, 9, 1445,   32.2232,  -52.3584
316N200309, A20, 29, 1, 3, 3, 2, 20031002, 1422, 32.2200, -52.3557, 5517,  5101.20,   5101.2,   2.1331,  34.8636, 2,  34.8646, 2,    252.6, 2,    253.0, 2,    48.73, 2,    21.89, 2,     0.00, 2,     1.49, 2,    0.117, 2,    0.075, 2,    0.002, 2,    0.336, 2,   2194.6, 2,   2338.8, 2,  -999.00, 9,  -999.00, 9, -999.000, 9, -999.000, -999.0000, 9, -999.0000,  -999.00, 9,  -999.00, -999.000, 9, -999.000,   -999.0, 9,   -999.0,  -999.00, 9, -999.0000, 9, -999.0000, 9, -999.0000, 9, -999.0000, 9, -999.0000, 9, -999.0000, 9, -999, 9, -999, 9, -999, 9, -999, 9, -999, 9, -999, 9, -999, 9,  -999.00, 9,  -999.00, 9,  -999.00, 9,  -999.00, 9,   1.6635,  -999.00, 9, 1438,   32.2221,  -52.3575
316N200309, A20, 29, 1, 2, 2, 2, 20031002, 1422, 32.2200, -52.3557, 5517,  5350.80,   5350.8,   2.1454,  34.8605, 2,  34.8609, 2,    251.5, 2,    252.2, 2,    50.11, 2,    22.12, 2,     0.00, 2,     1.50, 2,    0.076, 2,    0.052, 2,    0.001, 2,    0.283, 2,   2195.1, 2,   2346.2, 3,    40.30, 2,  -999.00, 9, -999.000, 9, -999.000, -999.0000, 9, -999.0000,  -999.00, 9,  -999.00, -999.000, 9, -999.000,   -999.0, 9,   -999.0,  -999.00, 9,    0.1260, 2,    0.0860, 2,    0.0380, 2,    0.0270, 2,    0.0210, 2,    0.0220, 2, -999, 9, -999, 9, -999, 9, -999, 9, -999, 9, -999, 9, -999, 9,  -999.00, 9,  -999.00, 9,  -999.00, 9,  -999.00, 9,   1.6434,  -999.00, 9, 1430,   32.2211,  -52.3565
316N200309, A20, 29, 1, 1, 1, 2, 20031002, 1422, 32.2200, -52.3557, 5517,  5586.30,   5586.3,   2.1642,  34.8585, 2,  34.8599, 2,    252.4, 2,   4013.8, 4,    50.99, 2,    22.23, 2,     0.00, 2,     1.51, 2,    0.072, 2,    0.051, 2,    0.001, 2,    0.307, 2,   2197.5, 2,   2339.0, 2,  -999.00, 9,  -999.00, 9, -999.000, 9, -999.000, -999.0000, 9, -999.0000,  -999.00, 9,  -999.00, -999.000, 9, -999.000,   -999.0, 9,   -999.0,  -999.00, 9, -999.0000, 9, -999.0000, 9, -999.0000, 9, -999.0000, 9, -999.0000, 9, -999.0000, 9, -999, 9, -999, 9, -999, 9, -999, 9, -999, 9, -999, 9, -999, 9,  -999.00, 9,  -999.00, 9,  -999.00, 9,  -999.00, 9,   1.6308,  -999.00, 9, 1422,   32.2199,  -52.3556