BOTTLE,20220816CCHSIOAMB
EXPOCODE,SECT_ID,STNNBR,CASTNO,SAMPNO,BTLNBR,BTLNBR_FLAG_W,DATE,TIME,LATITUDE,LONGITUDE,DEPTH,CTDRAW,CTDPRS,CTDTMP,CTDSAL,CTDSAL_FLAG_W,SALNTY,SALNTY_FLAG_W,CTDOXY,CTDOXY_FLAG_W,OXYGEN,OXYGEN_FLAG_W,SILCAT,SILCAT_FLAG_W,NITRAT,NITRAT_FLAG_W,NITRIT,NITRIT_FLAG_W,PHSPHT,PHSPHT_FLAG_W,CFC-11,CFC-11_FLAG_W,CFC-12,CFC-12_FLAG_W,CFC113,CFC113_FLAG_W,CCL4,CCL4_FLAG_W,TCARBN,TCARBN_FLAG_W,ALKALI,ALKALI_FLAG_W,DOC,DOC_FLAG_W,TDN,TDN_FLAG_W,TRITUM,TRITUM_FLAG_W,TRITER,HELIUM,HELIUM_FLAG_W,HELIER,DELHE3,DELHE3_FLAG_W,DELHER,NEON,NEON_FLAG_W,NEONER,DELC14,DELC14_FLAG_W,C14ERR,DELC13,DELC13_FLAG_W,CDOM325,CDOM325_FLAG_W,CDOM340,CDOM340_FLAG_W,CDOM380,CDOM380_FLAG_W,CDOM412,CDOM412_FLAG_W,CDOMSL,CDOMSL_FLAG_W,CDOMSN,CDOMSN_FLAG_W,DCNS,DCNS_FLAG_W,ARABI,ARABI_FLAG_W,FUCO,FUCO_FLAG_W,GALA,GALA_FLAG_W,GLUC,GLUC_FLAG_W,MAN,MAN_FLAG_W,RHAM,RHAM_FLAG_W,BRDU,BRDU_FLAG_W,PEUK,PEUK_FLAG_W,PROC,PROC_FLAG_W,SYN,SYN_FLAG_W,THETA,BACT,BACT_FLAG_W,BTL_TIME,BTL_LAT,BTL_LON
,,,,,,,,,,,METERS,DBAR,DBAR,ITS-90,PSS-78,,PSS-78,,UMOL/KG,,UMOL/KG,,UMOL/KG,,UMOL/KG,,UMOL/KG,,UMOL/KG,,PMOL/KG,,PMOL/KG,,PMOL/KG,,PMOL/KG,,UMOL/KG,,UMOL/KG,,UMOL/KG,,UMOL/KG,,TU,,TU,NMOL/KG,,NMOL/KG,PERCNT,,PERCNT,NMOL/KG,,NMOL/KG,/MILLE,,/MILLE,/MILLE,,1/M,,1/M,,1/M,,1/M,,1/NM,,1/NM,,NMOL/KG,,NMOL/KG,,NMOL/KG,,NMOL/KG,,NMOL/KG,,NMOL/KG,,NMOL/KG,,PMOL/L/H,,E6/L,,E7/L,,E6/L,,DEG C,E8/L,,,,
316N200309, A20, 35, 1, 36, 36, 2, 20031005, 1754, 29.5643, -52.3253, 5574,     5.80,      5.8,  26.2559,  36.9282, 2,  36.9260, 2,    202.2, 2,    206.9, 2,     0.69, 2,     0.15, 2,     0.00, 2,     0.02, 2,    1.723, 2,    1.044, 2,    0.093, 2,    1.856, 2,   2057.3, 2,   2411.2, 2,    72.00, 2,     4.80, 2, -999.000, 9, -999.000, -999.0000, 9, -999.0000,  -999.00, 9,  -999.00, -999.000, 9, -999.000,   -999.0, 9,   -999.0,  -999.00, 9,    0.0440, 2,    0.0260, 2,    0.0050, 2,    0.0040, 2,    0.0350, 2,    0.0350, 2, 2320, 4, 71, 2, 316, 2, 520, 2, 476, 2, 762, 2, 175, 2,     0.19, 2,     0.41, 2,     3.88, 2,     2.22, 2,  26.2546,     2.20, 2, 2022,   29.5989,  -52.3087
316N200309, A20, 35, 1, 35, 35, 2, 20031005, 1754, 29.5643, -52.3253, 5574,    25.40,     25.4,  26.1637,  36.9267, 2,  36.9229, 2,    202.2, 2,    206.6, 2,     0.59, 2,     0.15, 2,     0.00, 2,     0.02, 2,    1.712, 2,    1.017, 2,    0.072, 2,    1.841, 2,   2057.3, 2,   2413.7, 2,    69.10, 2,     4.70, 2, -999.000, 9, -999.000, -999.0000, 9, -999.0000,  -999.00, 9,  -999.00, -999.000, 9, -999.000,   -999.0, 9,   -999.0,  -999.00, 9,    0.0470, 2,    0.0290, 2,    0.0070, 2,    0.0060, 2,    0.0330, 2,    0.0340, 2, -999, 9, -999, 9, -999, 9, -999, 9, -999, 9, -999, 9, -999, 9,     0.54, 2,     0.35, 2,     3.98, 2,     2.32, 2,  26.1580,     2.43, 2, 2021,   29.5985,  -52.3088
316N200309, A20, 35, 1, 34, 34, 2, 20031005, 1754, 29.5643, -52.3253, 5574,    51.60,     51.6,  26.0237,  36.9020, 2,  36.9056, 2,    202.4, 2,    207.7, 2,     0.67, 2,     0.15, 2,     0.00, 2,     0.02, 2,    1.730, 2,    1.033, 2,    0.085, 2,    1.846, 2,   2057.0, 2,   2410.6, 2,    68.90, 2,     4.50, 2, -999.000, 9, -999.000, -999.0000, 9, -999.0000,  -999.00, 9,  -999.00, -999.000, 9, -999.000,   -999.0, 9,   -999.0,  -999.00, 9,    0.0630, 2,    0.0410, 2,    0.0140, 2,    0.0130, 2,    0.0300, 2,    0.0300, 2, 2452, 4, 193, 2, 332, 2, 616, 2, 342, 2, 729, 2, 240, 2,     0.12, 2,     0.45, 2,     4.02, 2,     2.45, 2,  26.0121,     2.49, 2, 2019,   29.5980,  -52.3088
316N200309, A20, 35, 1, 33, 33, 2, 20031005, 1754, 29.5643, -52.3253, 5574,    75.80,     75.8,  20.7283,  36.5875, 2,  36.5912, 2,    225.8, 2,    231.2, 2,     0.57, 2,     0.15, 2,     0.00, 2,     0.02, 2,    2.182, 2,    1.297, 2,    0.096, 2,    1.271, 2,   2063.3, 2,   2391.3, 2,    68.00, 2,     4.10, 2, -999.000, 9, -999.000, -999.0000, 9, -999.0000,  -999.00, 9,  -999.00, -999.000, 9, -999.000,   -999.0, 9,   -999.0,  -999.00, 9,    0.1860, 2,    0.1300, 2,    0.0560, 2,    0.0370, 2,    0.0180, 2,    0.0210, 2, 1618, 4, 62, 2, 217, 2, 385, 2, 280, 2, 513, 2, 162, 2,     0.08, 2,     0.49, 2,     9.72, 2,     2.04, 2,  20.7138,     3.06, 2, 2018,   29.5976,  -52.3087
316N200309, A20, 35, 1, 32, 32, 2, 20031005, 1754, 29.5643, -52.3253, 5574,   126.30,    126.3,  19.1885,  36.6122, 2,  36.6124, 2,    206.0, 2,    203.2, 2,     1.04, 2,     1.65, 2,     0.05, 2,     0.06, 2,    2.246, 2,    1.315, 2,    0.100, 2,    0.828, 2,   2092.5, 2,   2390.4, 2,    54.90, 2,     4.90, 2, -999.000, 9, -999.000, -999.0000, 9, -999.0000,  -999.00, 9,  -999.00, -999.000, 9, -999.000,   -999.0, 9,   -999.0,  -999.00, 9,    0.1140, 2,    0.0830, 2,    0.0400, 2,    0.0320, 2,    0.0150, 2,    0.0180, 2, 723, 4, 29, 2, 113, 2, 147, 2, 193, 2, 176, 2, 64, 2,     0.05, 2,     0.56, 2,     2.28, 2,     0.00, 2,  19.1656,     1.30, 2, 2016,   29.5969,  -52.3087
316N200309, A20, 35, 1, 31, 31, 2, 20031005, 1754, 29.5643, -52.3253, 5574,   177.20,    177.2,  18.6993,  36.5895, 2,  36.5886, 2,    202.6, 2,    206.3, 2,     1.23, 2,     2.84, 2,     0.01, 2,     0.13, 2,    2.295, 2,    1.304, 2,    0.083, 2,    0.745, 2,   2093.6, 2,   2388.3, 2,    54.70, 2,  -999.00, 9, -999.000, 9, -999.000, -999.0000, 9, -999.0000,  -999.00, 9,  -999.00, -999.000, 9, -999.000,   -999.0, 9,   -999.0,  -999.00, 9,    0.0910, 2,    0.0640, 2,    0.0280, 2,    0.0220, 2,    0.0220, 2,    0.0220, 2, -999, 9, -999, 9, -999, 9, -999, 9, -999, 9, -999, 9, -999, 9,     0.05, 2,     0.04, 2,     0.03, 2,     0.00, 2,  18.6677,     0.87, 2, 2014,   29.5962,  -52.3087
316N200309, A20, 35, 1, 30, 30, 2, 20031005, 1754, 29.5643, -52.3253, 5574,   228.20,    228.2,  18.4254,  36.5608, 2,  36.5611, 2,    199.6, 2,    206.4, 2,     1.32, 2,     3.14, 2,     0.01, 2,     0.16, 2,    2.302, 2,    1.288, 2,    0.067, 2,    0.745, 2,   2097.0, 2,   2387.0, 2,    54.90, 2,     7.20, 2, -999.000, 9, -999.000, -999.0000, 9, -999.0000,  -999.00, 9,  -999.00, -999.000, 9, -999.000,   -999.0, 9,   -999.0,  -999.00, 9,    0.0870, 2,    0.0610, 2,    0.0270, 2,    0.0230, 2,    0.0230, 2,    0.0230, 2, 420, 4, 37, 2, 72, 2, 102, 2, 63, 4, 95, 2, 52, 2,     0.05, 2,  -999.00, 9,  -999.00, 9,  -999.00, 9,  18.3852,  -999.00, 9, 2012,   29.5954,  -52.3089
316N200309, A20, 35, 1, 29, 29, 2, 20031005, 1754, 29.5643, -52.3253, 5574,   279.50,    279.5,  18.0833,  36.5248, 2,  36.5240, 2,    200.4, 2,    203.5, 2,     1.50, 2,     4.05, 2,     0.01, 2,     0.20, 2,    2.333, 2,    1.315, 2,    0.047, 2,    0.715, 2,   2101.7, 2,   2383.9, 2,    49.80, 2,     7.10, 2, -999.000, 9, -999.000, -999.0000, 9, -999.0000,  -999.00, 9,  -999.00, -999.000, 9, -999.000,   -999.0, 9,   -999.0,  -999.00, 9,    0.0900, 2,    0.0640, 2,    0.0280, 2,    0.0240, 2,    0.0220, 2,    0.0230, 2, -999, 9, -999, 9, -999, 9, -999, 9, -999, 9, -999, 9, -999, 9,     0.00, 2,  -999.00, 9,  -999.00, 9,  -999.00, 9,  18.0346,  -999.00, 9, 2010,   29.5947,  -52.3091
316N200309, A20, 35, 1, 28, 28, 2, 20031005, 1754, 29.5643, -52.3253, 5574,   351.60,    351.6,  17.6203,  36.4616, 2,  36.4588, 2,    196.3, 2,    198.0, 2,     1.88, 2,     5.36, 2,     0.01, 2,     0.28, 2,    2.317, 2,    1.279, 2,    0.025, 2,    0.671, 2,   2108.7, 2,   2380.3, 2,    49.20, 2,  -999.00, 9, -999.000, 9, -999.000, -999.0000, 9, -999.0000,  -999.00, 9,  -999.00, -999.000, 9, -999.000,   -999.0, 9,   -999.0,  -999.00, 9,    0.0870, 2,    0.0610, 2,    0.0250, 2,    0.0190, 2,    0.0230, 2,    0.0240, 2, 445, 4, 29, 2, 60, 2, 90, 2, 151, 2, 73, 2, 43, 2,  -999.00, 9,  -999.00, 9,  -999.00, 9,  -999.00, 9,  17.5600,  -999.00, 9, 2008,   29.5938,  -52.3092
316N200309, A20, 35, 1, 27, 27, 2, 20031005, 1754, 29.5643, -52.3253, 5574,   475.70,    475.7,  16.1656,  36.2084, 2,  36.2060, 2,    193.0, 2,    190.3, 2,     3.04, 2,     8.38, 2,     0.01, 2,     0.48, 2,    2.263, 2,    1.246, 2,    0.103, 4,    0.671, 2,   2124.2, 2,   2366.0, 2,    54.40, 2,  -999.00, 9, -999.000, 9, -999.000, -999.0000, 9, -999.0000,  -999.00, 9,  -999.00, -999.000, 9, -999.000,   -999.0, 9,   -999.0,  -999.00, 9,    0.0930, 2,    0.0650, 2,    0.0280, 2,    0.0210, 2,    0.0230, 2,    0.0230, 2, 445, 4, 34, 2, 64, 2, 78, 2, 133, 2, 91, 2, 45, 2,  -999.00, 9,  -999.00, 9,  -999.00, 9,  -999.00, 9,  16.0885,  -999.00, 9, 2005,   29.5926,  -52.3096
316N200309, A20, 35, 1, 26, 26, 2, 20031005, 1754, 29.5643, -52.3253, 5574,   597.40,    597.4,  14.0889,  35.8677, 2,  35.8641, 2,    176.3, 2,    178.1, 2,     4.99, 2,    12.62, 2,     0.01, 2,     0.75, 2,    2.116, 2,    1.141, 2,    0.017, 2,    0.570, 2,   2143.0, 2,   2349.5, 2,    48.50, 2,  -999.00, 9, -999.000, 9, -999.000, -999.0000, 9, -999.0000,  -999.00, 9,  -999.00, -999.000, 9, -999.000,   -999.0, 9,   -999.0,  -999.00, 9,    0.1070, 2,    0.0740, 2,    0.0330, 2,    0.0230, 2,    0.0210, 2,    0.0220, 2, -999, 9, -999, 9, -999, 9, -999, 9, -999, 9, -999, 9, -999, 9,  -999.00, 9,  -999.00, 9,  -999.00, 9,  -999.00, 9,  14.0003,  -999.00, 9, 2002,   29.5915,  -52.3101
316N200309, A20, 35, 1, 25, 25, 2, 20031005, 1754, 29.5643, -52.3253, 5574,   721.90,    721.9,  11.5154,  35.5228, 2,  35.5219, 2,    163.5, 2,    164.9, 2,     8.50, 2,    17.85, 2,     0.00, 2,     1.10, 2,    1.604, 2,    0.881, 2,   -0.001, 2,    0.476, 2,   2162.9, 2,   2331.6, 2,    46.90, 2,  -999.00, 9, -999.000, 9, -999.000, -999.0000, 9, -999.0000,  -999.00, 9,  -999.00, -999.000, 9, -999.000,   -999.0, 9,   -999.0,  -999.00, 9,    0.1140, 2,    0.0780, 2,    0.0350, 2,    0.0250, 2,    0.0210, 2,    0.0220, 2, -999, 9, -999, 9, -999, 9, -999, 9, -999, 9, -999, 9, -999, 9,  -999.00, 9,  -999.00, 9,  -999.00, 9,  -999.00, 9,  11.4211,  -999.00, 9, 2000,   29.5905,  -52.3105
316N200309, A20, 35, 1, 24, 24, 2, 20031005, 1754, 29.5643, -52.3253, 5574,   849.90,    849.9,   9.4611,  35.3162, 2,  35.3124, 2,    164.9, 2,    163.5, 2,    11.73, 2,    21.09, 2,     0.00, 2,     1.34, 2,    1.056, 2,    0.559, 2,    0.032, 4,    0.432, 2,   2178.8, 2,   2324.1, 2,  -999.00, 9,  -999.00, 9, -999.000, 9, -999.000, -999.0000, 9, -999.0000,  -999.00, 9,  -999.00, -999.000, 9, -999.000,   -999.0, 9,   -999.0,  -999.00, 9, -999.0000, 9, -999.0000, 9, -999.0000, 9, -999.0000, 9, -999.0000, 9, -999.0000, 9, -999, 9, -999, 9, -999, 9, -999, 9, -999, 9, -999, 9, -999, 9,  -999.00, 9,  -999.00, 9,  -999.00, 9,  -999.00, 9,   9.3622,  -999.00, 9, 1957,   29.5896,  -52.3106
316N200309, A20, 35, 1, 23, 23, 2, 20031005, 1754, 29.5643, -52.3253, 5574,   972.10,    972.1,   8.1023,  35.2734, 2,  35.2718, 2,    175.1, 2,    174.6, 2,    13.48, 2,    21.60, 2,     0.00, 2,     1.39, 2,    0.717, 2,    0.393, 2,    0.008, 2,    0.453, 2,   2184.8, 2,   2326.3, 2,    42.20, 2,  -999.00, 9, -999.000, 9, -999.000, -999.0000, 9, -999.0000,  -999.00, 9,  -999.00, -999.000, 9, -999.000,   -999.0, 9,   -999.0,  -999.00, 9,    0.1160, 2,    0.0800, 2,    0.0370, 2,    0.0260, 2,    0.0200, 2,    0.0210, 2, 255, 4, 15, 2, 29, 2, 61, 2, 60, 2, 48, 2, 43, 2,  -999.00, 9,  -999.00, 9,  -999.00, 9,  -999.00, 9,   7.9979,  -999.00, 9, 1954,   29.5887,  -52.3107
316N200309, A20, 35, 1, 22, 22, 2, 20031005, 1754, 29.5643, -52.3253, 5574,  1123.00,   1123.0,   6.7988,  35.2115, 2,  35.2103, 2,    198.3, 2,    196.8, 2,    13.87, 2,    20.79, 2,     0.00, 2,     1.35, 2,    0.739, 2,    0.400, 2,    0.013, 2,    0.694, 2,   2182.9, 2,   2324.7, 2,    42.40, 2,  -999.00, 9, -999.000, 9, -999.000, -999.0000, 9, -999.0000,  -999.00, 9,  -999.00, -999.000, 9, -999.000,   -999.0, 9,   -999.0,  -999.00, 9,    0.1300, 2,    0.0900, 2,    0.0400, 2,    0.0300, 2,    0.0180, 2,    0.0210, 2, -999, 9, -999, 9, -999, 9, -999, 9, -999, 9, -999, 9, -999, 9,  -999.00, 9,  -999.00, 9,  -999.00, 9,  -999.00, 9,   6.6880,  -999.00, 9, 1951,   29.5875,  -52.3102
316N200309, A20, 35, 1, 21, 21, 2, 20031005, 1754, 29.5643, -52.3253, 5574,  1276.60,   1276.6,   5.9892,  35.1798, 2,  35.1774, 2,    214.2, 2,    214.9, 2,    13.86, 2,    19.86, 2,     0.00, 2,     1.30, 2,    0.737, 2,    0.391, 2,    0.018, 2,    0.909, 2,   2176.9, 2,   2322.3, 2,    42.80, 2,  -999.00, 9, -999.000, 9, -999.000, -999.0000, 9, -999.0000,  -999.00, 9,  -999.00, -999.000, 9, -999.000,   -999.0, 9,   -999.0,  -999.00, 9,    0.1240, 2,    0.0850, 2,    0.0370, 2,    0.0270, 2,    0.0210, 2,    0.0230, 2, -999, 9, -999, 9, -999, 9, -999, 9, -999, 9, -999, 9, -999, 9,  -999.00, 9,  -999.00, 9,  -999.00, 9,  -999.00, 9,   5.8696,  -999.00, 9, 1948,   29.5879,  -52.3089
316N200309, A20, 35, 1, 20, 20, 2, 20031005, 1754, 29.5643, -52.3253, 5574,  1435.60,   1435.6,   5.1992,  35.1269, 2,  35.1254, 2,    233.6, 2,    245.7, 3,    13.46, 2,    18.79, 2,     0.00, 2,     1.23, 2,    1.001, 2,    0.488, 2,    0.029, 2,    1.343, 2,   2169.3, 2,   2319.0, 2,    45.20, 2,  -999.00, 9, -999.000, 9, -999.000, -999.0000, 9, -999.0000,  -999.00, 9,  -999.00, -999.000, 9, -999.000,   -999.0, 9,   -999.0,  -999.00, 9,    0.1260, 2,    0.0880, 2,    0.0400, 2,    0.0310, 2,    0.0170, 2,    0.0200, 2, -999, 9, -999, 9, -999, 9, -999, 9, -999, 9, -999, 9, -999, 9,  -999.00, 9,  -999.00, 9,  -999.00, 9,  -999.00, 9,   5.0716,  -999.00, 9, 1943,   29.5888,  -52.3077
316N200309, A20, 35, 1, 19, 19, 2, 20031005, 1754, 29.5643, -52.3253, 5574,  1578.20,   1578.2,   4.7098,  35.0890, 2,  35.0864, 2,    243.2, 2,    243.8, 2,    14.34, 2,    18.64, 2,     0.00, 2,     1.22, 2,    0.763, 2,    0.398, 2,    0.020, 2,    1.212, 2,   2167.9, 2,   2316.7, 2,    43.00, 2,  -999.00, 9, -999.000, 9, -999.000, -999.0000, 9, -999.0000,  -999.00, 9,  -999.00, -999.000, 9, -999.000,   -999.0, 9,   -999.0,  -999.00, 9,    0.1200, 2,    0.0830, 2,    0.0380, 2,    0.0290, 2,    0.0180, 2,    0.0200, 2, -999, 9, -999, 9, -999, 9, -999, 9, -999, 9, -999, 9, -999, 9,  -999.00, 9,  -999.00, 9,  -999.00, 9,  -999.00, 9,   4.5738,  -999.00, 9, 1929,   29.5930,  -52.3062
316N200309, A20, 35, 1, 18, 18, 2, 20031005, 1754, 29.5643, -52.3253, 5574,  1728.40,   1728.4,   4.2877,  35.0490, 2,  35.0468, 2,    250.3, 2,    251.9, 2,    14.72, 2,    18.28, 2,     0.00, 2,     1.20, 2,    0.847, 2,    0.416, 2,    0.027, 2,    1.389, 2,   2165.1, 2,   2316.7, 2,  -999.00, 9,  -999.00, 9, -999.000, 9, -999.000, -999.0000, 9, -999.0000,  -999.00, 9,  -999.00, -999.000, 9, -999.000,   -999.0, 9,   -999.0,  -999.00, 9, -999.0000, 9, -999.0000, 9, -999.0000, 9, -999.0000, 9, -999.0000, 9, -999.0000, 9, -999, 9, -999, 9, -999, 9, -999, 9, -999, 9, -999, 9, -999, 9,  -999.00, 9,  -999.00, 9,  -999.00, 9,  -999.00, 9,   4.1424,  -999.00, 9, 1925,   29.5920,  -52.3078
316N200309, A20, 35, 1, 17, 17, 2, 20031005, 1754, 29.5643, -52.3253, 5574,  1903.40,   1903.4,   3.9541,  35.0246, 2,  35.0220, 2,    255.1, 2,    254.3, 2,    16.58, 2,    18.34, 2,     0.00, 2,     1.21, 2,    0.627, 2,    0.330, 2,    0.015, 2,    1.178, 2,   2165.3, 2,   2316.2, 2,  -999.00, 9,  -999.00, 9, -999.000, 9, -999.000, -999.0000, 9, -999.0000,  -999.00, 9,  -999.00, -999.000, 9, -999.000,   -999.0, 9,   -999.0,  -999.00, 9, -999.0000, 9, -999.0000, 9, -999.0000, 9, -999.0000, 9, -999.0000, 9, -999.0000, 9, -999, 9, -999, 9, -999, 9, -999, 9, -999, 9, -999, 9, -999, 9,  -999.00, 9,  -999.00, 9,  -999.00, 9,  -999.00, 9,   3.7965,  -999.00, 9, 1920,   29.5911,  -52.3097
316N200309, A20, 35, 1, 16, 16, 2, 20031005, 1754, 29.5643, -52.3253, 5574,  2128.70,   2128.7,   3.5997,  34.9982, 2,  34.9967, 2,    255.2, 2,    255.2, 2,    19.52, 2,    18.59, 2,     0.00, 2,     1.24, 2,    0.374, 2,    0.208, 2,    0.003, 2,    0.869, 2,   2165.4, 2,   2318.4, 2,    42.20, 2,  -999.00, 9, -999.000, 9, -999.000, -999.0000, 9, -999.0000,  -999.00, 9,  -999.00, -999.000, 9, -999.000,   -999.0, 9,   -999.0,  -999.00, 9,    0.1160, 2,    0.0800, 2,    0.0370, 2,    0.0280, 2,    0.0190, 2,    0.0210, 2, -999, 9, -999, 9, -999, 9, -999, 9, -999, 9, -999, 9, -999, 9,  -999.00, 9,  -999.00, 9,  -999.00, 9,  -999.00, 9,   3.4256,  -999.00, 9, 1914,   29.5900,  -52.3120
316N200309, A20, 35, 1, 15, 15, 2, 20031005, 1754, 29.5643, -52.3253, 5574,  2379.20,   2379.2,   3.3540,  34.9832, 2,  34.9809, 2,    253.1, 2,    251.5, 2,    23.36, 2,    19.11, 2,     0.00, 2,     1.28, 2,    0.155, 6,    0.095, 6,   -0.002, 2,    0.523, 2,   2169.0, 2,   2320.9, 2,  -999.00, 9,  -999.00, 9, -999.000, 9, -999.000, -999.0000, 9, -999.0000,  -999.00, 9,  -999.00, -999.000, 9, -999.000,   -999.0, 9,   -999.0,  -999.00, 9, -999.0000, 9, -999.0000, 9, -999.0000, 9, -999.0000, 9, -999.0000, 9, -999.0000, 9, -999, 9, -999, 9, -999, 9, -999, 9, -999, 9, -999, 9, -999, 9,  -999.00, 9,  -999.00, 9,  -999.00, 9,  -999.00, 9,   3.1595,  -999.00, 9, 1907,   29.5888,  -52.3147
316N200309, A20, 35, 1, 14, 14, 2, 20031005, 1754, 29.5643, -52.3253, 5574,  2627.30,   2627.3,   3.1397,  34.9664, 2,  34.9634, 2,    252.5, 2,    253.3, 2,    26.42, 2,    19.46, 2,     0.00, 2,     1.31, 2,    0.082, 2,    0.049, 2,   -0.002, 2,    0.388, 2,   2173.1, 2,   2322.8, 2,    40.80, 2,  -999.00, 9, -999.000, 9, -999.000, -999.0000, 9, -999.0000,  -999.00, 9,  -999.00, -999.000, 9, -999.000,   -999.0, 9,   -999.0,  -999.00, 9,    0.1170, 2,    0.0810, 2,    0.0370, 2,    0.0300, 2,    0.0170, 2,    0.0200, 2, -999, 9, -999, 9, -999, 9, -999, 9, -999, 9, -999, 9, -999, 9,  -999.00, 9,  -999.00, 9,  -999.00, 9,  -999.00, 9,   2.9243,  -999.00, 9, 1901,   29.5870,  -52.3160
316N200309, A20, 35, 1, 13, 13, 2, 20031005, 1754, 29.5643, -52.3253, 5574,  2875.60,   2875.6,   2.9844,  34.9535, 2,  34.9510, 2,    251.8, 2,    253.5, 2,    28.59, 2,    19.78, 2,     0.00, 2,     1.33, 2,    0.038, 2,    0.029, 2,    0.003, 2,    0.318, 2,   2172.9, 2,   2323.9, 2,  -999.00, 9,  -999.00, 9, -999.000, 9, -999.000, -999.0000, 9, -999.0000,  -999.00, 9,  -999.00, -999.000, 9, -999.000,   -999.0, 9,   -999.0,  -999.00, 9, -999.0000, 9, -999.0000, 9, -999.0000, 9, -999.0000, 9, -999.0000, 9, -999.0000, 9, -999, 9, -999, 9, -999, 9, -999, 9, -999, 9, -999, 9, -999, 9,  -999.00, 9,  -999.00, 9,  -999.00, 9,  -999.00, 9,   2.7469,  -999.00, 9, 1856,   29.5852,  -52.3169
316N200309, A20, 35, 1, 12, 12, 2, 20031005, 1754, 29.5643, -52.3253, 5574,  3124.50,   3124.5,   2.7790,  34.9368, 2,  34.9351, 2,    253.5, 2,    256.3, 2,    29.86, 2,    19.73, 2,     0.00, 2,     1.33, 2,    0.030, 2,    0.021, 2,    0.004, 2,    0.238, 2,   2173.4, 2,   2311.7, 4,  -999.00, 9,  -999.00, 9, -999.000, 9, -999.000, -999.0000, 9, -999.0000,  -999.00, 9,  -999.00, -999.000, 9, -999.000,   -999.0, 9,   -999.0,  -999.00, 9, -999.0000, 9, -999.0000, 9, -999.0000, 9, -999.0000, 9, -999.0000, 9, -999.0000, 9, -999, 9, -999, 9, -999, 9, -999, 9, -999, 9, -999, 9, -999, 9,  -999.00, 9,  -999.00, 9,  -999.00, 9,  -999.00, 9,   2.5200,  -999.00, 9, 1851,   29.5834,  -52.3179
316N200309, A20, 35, 1, 11, 11, 2, 20031005, 1754, 29.5643, -52.3253, 5574,  3378.60,   3378.6,   2.6228,  34.9241, 2,  34.9233, 2,    259.5, 2,    259.4, 2,    29.86, 2,    19.42, 2,     0.00, 2,     1.31, 2,    0.066, 2,    0.043, 2,    0.000, 2,    0.315, 2,   2171.1, 2,   2315.6, 4,    41.90, 2,  -999.00, 9, -999.000, 9, -999.000, -999.0000, 9, -999.0000,  -999.00, 9,  -999.00, -999.000, 9, -999.000,   -999.0, 9,   -999.0,  -999.00, 9,    0.1230, 2,    0.0840, 2,    0.0400, 2,    0.0270, 2,    0.0190, 2,    0.0210, 2, -999, 9, -999, 9, -999, 9, -999, 9, -999, 9, -999, 9, -999, 9,  -999.00, 9,  -999.00, 9,  -999.00, 9,  -999.00, 9,   2.3404,  -999.00, 9, 1845,   29.5816,  -52.3187