BOTTLE,20220816CCHSIOAMB
EXPOCODE,SECT_ID,STNNBR,CASTNO,SAMPNO,BTLNBR,BTLNBR_FLAG_W,DATE,TIME,LATITUDE,LONGITUDE,DEPTH,CTDRAW,CTDPRS,CTDTMP,CTDSAL,CTDSAL_FLAG_W,SALNTY,SALNTY_FLAG_W,CTDOXY,CTDOXY_FLAG_W,OXYGEN,OXYGEN_FLAG_W,SILCAT,SILCAT_FLAG_W,NITRAT,NITRAT_FLAG_W,NITRIT,NITRIT_FLAG_W,PHSPHT,PHSPHT_FLAG_W,CFC-11,CFC-11_FLAG_W,CFC-12,CFC-12_FLAG_W,CFC113,CFC113_FLAG_W,CCL4,CCL4_FLAG_W,TCARBN,TCARBN_FLAG_W,ALKALI,ALKALI_FLAG_W,DOC,DOC_FLAG_W,TDN,TDN_FLAG_W,TRITUM,TRITUM_FLAG_W,TRITER,HELIUM,HELIUM_FLAG_W,HELIER,DELHE3,DELHE3_FLAG_W,DELHER,NEON,NEON_FLAG_W,NEONER,DELC14,DELC14_FLAG_W,C14ERR,DELC13,DELC13_FLAG_W,CDOM325,CDOM325_FLAG_W,CDOM340,CDOM340_FLAG_W,CDOM380,CDOM380_FLAG_W,CDOM412,CDOM412_FLAG_W,CDOMSL,CDOMSL_FLAG_W,CDOMSN,CDOMSN_FLAG_W,DCNS,DCNS_FLAG_W,ARABI,ARABI_FLAG_W,FUCO,FUCO_FLAG_W,GALA,GALA_FLAG_W,GLUC,GLUC_FLAG_W,MAN,MAN_FLAG_W,RHAM,RHAM_FLAG_W,BRDU,BRDU_FLAG_W,PEUK,PEUK_FLAG_W,PROC,PROC_FLAG_W,SYN,SYN_FLAG_W,THETA,BACT,BACT_FLAG_W,BTL_TIME,BTL_LAT,BTL_LON
,,,,,,,,,,,METERS,DBAR,DBAR,ITS-90,PSS-78,,PSS-78,,UMOL/KG,,UMOL/KG,,UMOL/KG,,UMOL/KG,,UMOL/KG,,UMOL/KG,,PMOL/KG,,PMOL/KG,,PMOL/KG,,PMOL/KG,,UMOL/KG,,UMOL/KG,,UMOL/KG,,UMOL/KG,,TU,,TU,NMOL/KG,,NMOL/KG,PERCNT,,PERCNT,NMOL/KG,,NMOL/KG,/MILLE,,/MILLE,/MILLE,,1/M,,1/M,,1/M,,1/M,,1/NM,,1/NM,,NMOL/KG,,NMOL/KG,,NMOL/KG,,NMOL/KG,,NMOL/KG,,NMOL/KG,,NMOL/KG,,PMOL/L/H,,E6/L,,E7/L,,E6/L,,DEG C,E8/L,,,,
316N200309, A20, 28, 1, 36, 36, 2, 20031002, 0320, 33.5447, -52.3495, 5529,     2.90,      2.9,  26.4065,  36.7694, 2,  36.7740, 2,    201.0, 2,    215.4, 2,     0.46, 2,     0.17, 2,     0.00, 2,     0.01, 2,    1.704, 2,    1.063, 2,    0.138, 2, -999.000, 9,   2046.4, 2,   2400.4, 2,  -999.00, 9,  -999.00, 9,    0.721, 2,    0.004,   1.7466, 2,   0.0087,    -1.24, 2,     0.20,    6.692, 2,    0.033,   -999.0, 9,   -999.0,  -999.00, 9,    0.0700, 2,    0.0480, 2,    0.0210, 2,    0.0140, 2,    0.0250, 2,    0.0250, 2, -999, 9, -999, 9, -999, 9, -999, 9, -999, 9, -999, 9, -999, 9,  -999.00, 9,  -999.00, 9,  -999.00, 9,  -999.00, 9,  26.4058,  -999.00, 9,  527,   33.5614,  -52.3458
316N200309, A20, 28, 1, 35, 35, 2, 20031002, 0320, 33.5447, -52.3495, 5529,    24.50,     24.5,  26.4116,  36.7726, 2,  36.7740, 2,    200.8, 2,    204.1, 2,     0.49, 2,     0.17, 2,     0.00, 2,     0.01, 2,    1.699, 2,    1.060, 2,    0.146, 2, -999.000, 9,   2061.7, 2,   2398.7, 2,  -999.00, 9,  -999.00, 9, -999.000, 9, -999.000, -999.0000, 9, -999.0000,  -999.00, 9,  -999.00, -999.000, 9, -999.000,   -999.0, 9,   -999.0,  -999.00, 9,    0.0710, 2,    0.0490, 2,    0.0200, 2,    0.0140, 2,    0.0250, 2,    0.0260, 2, -999, 9, -999, 9, -999, 9, -999, 9, -999, 9, -999, 9, -999, 9,  -999.00, 9,  -999.00, 9,  -999.00, 9,  -999.00, 9,  26.4060,  -999.00, 9,  525,   33.5611,  -52.3459
316N200309, A20, 28, 1, 34, 34, 2, 20031002, 0320, 33.5447, -52.3495, 5529,    51.00,     51.0,  25.6965,  36.8137, 2,  36.8147, 2,    205.0, 2,    217.1, 2,     0.41, 2,     0.16, 2,     0.00, 2,     0.01, 2,    1.865, 2,    1.147, 2,    0.149, 2, -999.000, 9,   2052.4, 2,   2403.1, 2,  -999.00, 9,  -999.00, 9,    0.742, 2,    0.004,   1.7291, 2,   0.0086,    -1.31, 2,     0.20,    6.680, 2,    0.033,   -999.0, 9,   -999.0,  -999.00, 9,    0.0850, 2,    0.0570, 2,    0.0230, 2,    0.0150, 2,    0.0250, 2,    0.0260, 2, -999, 9, -999, 9, -999, 9, -999, 9, -999, 9, -999, 9, -999, 9,  -999.00, 9,  -999.00, 9,  -999.00, 9,  -999.00, 9,  25.6852,  -999.00, 9,  524,   33.5608,  -52.3460
316N200309, A20, 28, 1, 33, 33, 2, 20031002, 0320, 33.5447, -52.3495, 5529,    75.50,     75.5,  22.2317,  36.6332, 2,  36.6294, 2,    232.2, 2,    217.1, 2,     0.34, 2,     0.11, 2,     0.00, 2,     0.01, 2,    2.155, 2,    1.288, 2,    0.143, 2, -999.000, 9,   2062.8, 2,   2393.8, 2,  -999.00, 9,  -999.00, 9, -999.000, 9, -999.000, -999.0000, 9, -999.0000,  -999.00, 9,  -999.00, -999.000, 9, -999.000,   -999.0, 9,   -999.0,  -999.00, 9,    0.2160, 2,    0.1570, 2,    0.0790, 2,    0.0560, 2,    0.0140, 2,    0.0160, 2, -999, 9, -999, 9, -999, 9, -999, 9, -999, 9, -999, 9, -999, 9,  -999.00, 9,  -999.00, 9,  -999.00, 9,  -999.00, 9,  22.2166,  -999.00, 9,  522,   33.5606,  -52.3460
316N200309, A20, 28, 1, 32, 32, 2, 20031002, 0320, 33.5447, -52.3495, 5529,    99.20,     99.2,  20.9310,  36.7160, 2,  36.7205, 2,    222.0, 2,    223.9, 2,     0.37, 2,     0.11, 2,     0.01, 2,     0.01, 2,    2.264, 2,    1.357, 2,    0.176, 2, -999.000, 9,   2071.8, 2,   2397.8, 2,  -999.00, 9,  -999.00, 9, -999.000, 9, -999.000,   1.7778, 2,   0.0089,    -1.15, 2,     0.20,    6.857, 2,    0.034,   -999.0, 9,   -999.0,  -999.00, 9,    0.2510, 2,    0.1890, 2,    0.1000, 2,    0.0710, 2,    0.0120, 2,    0.0140, 2, -999, 9, -999, 9, -999, 9, -999, 9, -999, 9, -999, 9, -999, 9,  -999.00, 9,  -999.00, 9,  -999.00, 9,  -999.00, 9,  20.9119,  -999.00, 9,  521,   33.5604,  -52.3461
316N200309, A20, 28, 1, 31, 31, 2, 20031002, 0320, 33.5447, -52.3495, 5529,   125.50,    125.5,  19.7708,  36.6555, 2,  36.6562, 2,    209.6, 2,    208.5, 2,     0.49, 2,     0.14, 2,     0.11, 2,     0.02, 2,    2.311, 2,    1.373, 2,    0.132, 2, -999.000, 9,   2087.3, 2,   2393.7, 2,  -999.00, 9,  -999.00, 9, -999.000, 9, -999.000, -999.0000, 9, -999.0000,  -999.00, 9,  -999.00, -999.000, 9, -999.000,   -999.0, 9,   -999.0,  -999.00, 9, -999.0000, 9, -999.0000, 9, -999.0000, 9, -999.0000, 9, -999.0000, 9, -999.0000, 9, -999, 9, -999, 9, -999, 9, -999, 9, -999, 9, -999, 9, -999, 9,  -999.00, 9,  -999.00, 9,  -999.00, 9,  -999.00, 9,  19.7476,  -999.00, 9,  520,   33.5602,  -52.3462
316N200309, A20, 28, 1, 30, 30, 2, 20031002, 0320, 33.5447, -52.3495, 5529,   150.50,    150.5,  19.2636,  36.6374, 2,  36.6392, 2,    198.0, 2,    197.5, 2,     0.62, 2,     1.29, 2,     0.03, 2,     0.03, 2,    2.309, 2,    1.364, 2,    0.114, 2, -999.000, 9,   2098.3, 2,   2390.6, 2,  -999.00, 9,  -999.00, 9,    0.786, 2,    0.003,   1.7684, 2,   0.0088,    -1.02, 2,     0.20,    6.824, 2,    0.034,   -999.0, 9,   -999.0,  -999.00, 9,    0.2080, 2,    0.1630, 2,    0.0950, 2,    0.0730, 2,    0.0110, 2,    0.0120, 2, -999, 9, -999, 9, -999, 9, -999, 9, -999, 9, -999, 9, -999, 9,  -999.00, 9,  -999.00, 9,  -999.00, 9,  -999.00, 9,  19.2362,  -999.00, 9,  519,   33.5600,  -52.3462
316N200309, A20, 28, 1, 29, 29, 2, 20031002, 0320, 33.5447, -52.3495, 5529,   199.60,    199.6,  18.7466,  36.5964, 2,  36.5977, 2,    195.9, 2,    200.6, 2,     0.84, 2,     2.92, 2,     0.01, 2,     0.12, 2,    2.378, 2,    1.394, 2,    0.114, 2, -999.000, 9,   2098.4, 2,   2372.7, 4,  -999.00, 9,  -999.00, 9,    0.745, 2,    0.004,   1.8128, 2,   0.0091,    -0.41, 2,     0.20,    7.031, 2,    0.035,   -999.0, 9,   -999.0,  -999.00, 9, -999.0000, 9, -999.0000, 9, -999.0000, 9, -999.0000, 9, -999.0000, 9, -999.0000, 9, -999, 9, -999, 9, -999, 9, -999, 9, -999, 9, -999, 9, -999, 9,  -999.00, 9,  -999.00, 9,  -999.00, 9,  -999.00, 9,  18.7110,  -999.00, 9,  517,   33.5598,  -52.3463
316N200309, A20, 28, 1, 28, 28, 2, 20031002, 0320, 33.5447, -52.3495, 5529,   252.40,    252.4,  18.3812,  36.5593, 2,  36.5593, 2,    197.2, 2,    203.6, 2,     0.97, 2,     3.61, 2,     0.01, 2,     0.17, 2,    2.401, 2,    1.396, 2,    0.063, 2, -999.000, 9,   2099.2, 2,   2385.1, 2,  -999.00, 9,  -999.00, 9, -999.000, 9, -999.000, -999.0000, 9, -999.0000,  -999.00, 9,  -999.00, -999.000, 9, -999.000,   -999.0, 9,   -999.0,  -999.00, 9, -999.0000, 9, -999.0000, 9, -999.0000, 9, -999.0000, 9, -999.0000, 9, -999.0000, 9, -999, 9, -999, 9, -999, 9, -999, 9, -999, 9, -999, 9, -999, 9,  -999.00, 9,  -999.00, 9,  -999.00, 9,  -999.00, 9,  18.3367,  -999.00, 9,  515,   33.5595,  -52.3464
316N200309, A20, 28, 1, 27, 27, 2, 20031002, 0320, 33.5447, -52.3495, 5529,   299.60,    299.6,  18.0669,  36.5229, 2,  36.5234, 2,    193.8, 2,    200.4, 2,     1.18, 2,     4.39, 2,     0.01, 2,     0.21, 2,    2.433, 2,    1.397, 2,    0.066, 2, -999.000, 9,   2102.6, 2,   2382.4, 2,  -999.00, 9,  -999.00, 9,    0.816, 2,    0.003,   1.7853, 2,   0.0089,    -0.01, 2,     0.20,    6.905, 2,    0.035,   -999.0, 9,   -999.0,  -999.00, 9,    0.1180, 2,    0.0880, 2,    0.0440, 2,    0.0330, 2,    0.0150, 2,    0.0170, 2, -999, 9, -999, 9, -999, 9, -999, 9, -999, 9, -999, 9, -999, 9,  -999.00, 9,  -999.00, 9,  -999.00, 9,  -999.00, 9,  18.0147,  -999.00, 9,  514,   33.5592,  -52.3464
316N200309, A20, 28, 1, 26, 26, 2, 20031002, 0320, 33.5447, -52.3495, 5529,   401.60,    401.6,  17.3494,  36.4201, 2,  36.4190, 2,    195.1, 2,    196.9, 2,     1.60, 2,     5.86, 2,     0.01, 2,     0.30, 2,    2.436, 2,    1.392, 2,    0.038, 2, -999.000, 9,   2111.4, 2,   2375.6, 2,  -999.00, 9,  -999.00, 9,    0.815, 2,    0.003,   1.8121, 2,   0.0091,     0.88, 2,     0.20,    7.064, 2,    0.035,   -999.0, 9,   -999.0,  -999.00, 9, -999.0000, 9, -999.0000, 9, -999.0000, 9, -999.0000, 9, -999.0000, 9, -999.0000, 9, -999, 9, -999, 9, -999, 9, -999, 9, -999, 9, -999, 9, -999, 9,  -999.00, 9,  -999.00, 9,  -999.00, 9,  -999.00, 9,  17.2812,  -999.00, 9,  511,   33.5588,  -52.3466
316N200309, A20, 28, 1, 25, 25, 2, 20031002, 0320, 33.5447, -52.3495, 5529,   501.80,    501.8,  16.2292,  36.2306, 2,  36.2301, 2,    192.6, 2,    191.7, 2,     2.41, 2,     8.08, 2,     0.01, 2,     0.44, 2,    2.387, 2,    1.340, 2,    0.027, 2, -999.000, 9,   2121.7, 2,   2369.5, 2,  -999.00, 9,  -999.00, 9,    0.844, 2,    0.004,   1.7969, 2,   0.0090,     2.01, 2,     0.20,    6.998, 2,    0.035,   -999.0, 9,   -999.0,  -999.00, 9,    0.1490, 2,    0.1090, 2,    0.0560, 2,    0.0400, 2,    0.0140, 2,    0.0160, 2, -999, 9, -999, 9, -999, 9, -999, 9, -999, 9, -999, 9, -999, 9,  -999.00, 9,  -999.00, 9,  -999.00, 9,  -999.00, 9,  16.1476,  -999.00, 9,  509,   33.5582,  -52.3466
316N200309, A20, 28, 1, 24, 24, 2, 20031002, 0320, 33.5447, -52.3495, 5529,   626.10,    626.1,  13.8480,  35.8002, 2,  35.8001, 2,    167.2, 2,    176.3, 2,     5.20, 2,    13.35, 2,     0.01, 2,     0.79, 2,    2.151, 2,    1.183, 2,    0.045, 2, -999.000, 9,   2152.7, 2,   2345.7, 2,  -999.00, 9,  -999.00, 9, -999.000, 9, -999.000, -999.0000, 9, -999.0000,  -999.00, 9,  -999.00, -999.000, 9, -999.000,   -999.0, 9,   -999.0,  -999.00, 9, -999.0000, 9, -999.0000, 9, -999.0000, 9, -999.0000, 9, -999.0000, 9, -999.0000, 9, -999, 9, -999, 9, -999, 9, -999, 9, -999, 9, -999, 9, -999, 9,  -999.00, 9,  -999.00, 9,  -999.00, 9,  -999.00, 9,  13.7562,  -999.00, 9,  506,   33.5577,  -52.3467
316N200309, A20, 28, 1, 23, 23, 2, 20031002, 0320, 33.5447, -52.3495, 5529,   744.30,    744.3,  11.4147,  35.4565, 2,  35.4551, 2,    154.3, 2,    149.5, 2,     9.76, 2,    20.17, 2,     0.00, 2,     1.23, 2,    1.453, 2,    0.781, 2,    0.027, 2, -999.000, 9,   2171.9, 2,   2327.6, 2,  -999.00, 9,  -999.00, 9,    0.644, 2,    0.003,   1.8206, 2,   0.0091,     5.98, 2,     0.20,    7.341, 2,    0.037,   -999.0, 9,   -999.0,  -999.00, 9,    0.1500, 2,    0.1060, 2,    0.0530, 2,    0.0370, 2,    0.0150, 2,    0.0180, 2, -999, 9, -999, 9, -999, 9, -999, 9, -999, 9, -999, 9, -999, 9,  -999.00, 9,  -999.00, 9,  -999.00, 9,  -999.00, 9,  11.3180,  -999.00, 9,  503,   33.5572,  -52.3469
316N200309, A20, 28, 1, 22, 22, 2, 20031002, 0320, 33.5447, -52.3495, 5529,   899.90,    899.9,   8.3961,  35.2276, 2,  35.2257, 2,    174.5, 2,    169.8, 2,    12.56, 2,    21.87, 2,     0.00, 2,     1.37, 2,    1.037, 2,    0.535, 2,    0.017, 2, -999.000, 9,   2183.1, 2,   2320.0, 2,  -999.00, 9,  -999.00, 9,    0.542, 2,    0.003,   1.8240, 2,   0.0091,     8.08, 2,     0.20,    7.209, 2,    0.036,   -999.0, 9,   -999.0,  -999.00, 9, -999.0000, 9, -999.0000, 9, -999.0000, 9, -999.0000, 9, -999.0000, 9, -999.0000, 9, -999, 9, -999, 9, -999, 9, -999, 9, -999, 9, -999, 9, -999, 9,  -999.00, 9,  -999.00, 9,  -999.00, 9,  -999.00, 9,   8.2981,  -999.00, 9,  500,   33.5566,  -52.3469
316N200309, A20, 28, 1, 21, 21, 2, 20031002, 0320, 33.5447, -52.3495, 5529,  1048.90,   1048.9,   6.6715,  35.1583, 2,  35.1577, 2,    201.5, 2,    199.4, 4,    13.09, 2,    20.67, 2,     0.00, 2,     1.32, 2,    1.163, 2,    0.597, 2,    0.046, 2, -999.000, 9,   2178.3, 2,   2318.9, 2,  -999.00, 9,  -999.00, 9,    0.545, 2,    0.003,   1.8435, 2,   0.0092,     7.11, 2,     0.20,    7.502, 2,    0.038,   -999.0, 9,   -999.0,  -999.00, 9,    0.1310, 2,    0.0900, 2,    0.0420, 2,    0.0270, 2,    0.0190, 2,    0.0210, 2, -999, 9, -999, 9, -999, 9, -999, 9, -999, 9, -999, 9, -999, 9,  -999.00, 9,  -999.00, 9,  -999.00, 9,  -999.00, 9,   6.5696,  -999.00, 9,  456,   33.5560,  -52.3470
316N200309, A20, 28, 1, 20, 20, 2, 20031002, 0320, 33.5447, -52.3495, 5529,  1199.80,   1199.8,   5.1448,  35.0321, 2,  35.0315, 2,    231.1, 2,    239.3, 4,    11.44, 2,    18.42, 2,     0.00, 2,     1.19, 2,    2.377, 2,    1.214, 2,    0.141, 2, -999.000, 9,   2180.4, 2,   2300.5, 3,  -999.00, 9,  -999.00, 9, -999.000, 9, -999.000, -999.0000, 9, -999.0000,  -999.00, 9,  -999.00, -999.000, 9, -999.000,   -999.0, 9,   -999.0,  -999.00, 9, -999.0000, 9, -999.0000, 9, -999.0000, 9, -999.0000, 9, -999.0000, 9, -999.0000, 9, -999, 9, -999, 9, -999, 9, -999, 9, -999, 9, -999, 9, -999, 9,  -999.00, 9,  -999.00, 9,  -999.00, 9,  -999.00, 9,   5.0408,  -999.00, 9,  453,   33.5554,  -52.3471
316N200309, A20, 28, 1, 19, 19, 2, 20031002, 0320, 33.5447, -52.3495, 5529,  1324.00,   1324.0,   4.9268,  35.0533, 2,  35.0530, 2,    240.0, 2,    242.6, 2,    11.95, 2,    18.42, 2,     0.00, 2,     1.19, 2,    1.722, 2,    0.881, 2,    0.084, 2, -999.000, 9,   2174.7, 2,   2312.7, 2,  -999.00, 9,  -999.00, 9,    0.674, 2,    0.003,   1.8514, 2,   0.0093,     7.11, 2,     0.20,    7.571, 2,    0.038,   -999.0, 9,   -999.0,  -999.00, 9, -999.0000, 9, -999.0000, 9, -999.0000, 9, -999.0000, 9, -999.0000, 9, -999.0000, 9, -999, 9, -999, 9, -999, 9, -999, 9, -999, 9, -999, 9, -999, 9,  -999.00, 9,  -999.00, 9,  -999.00, 9,  -999.00, 9,   4.8130,  -999.00, 9,  450,   33.5549,  -52.3472
316N200309, A20, 28, 1, 18, 18, 2, 20031002, 0320, 33.5447, -52.3495, 5529,  1449.80,   1449.8,   4.4566,  35.0069, 2,  35.0063, 2,    251.9, 2,    254.5, 2,    11.59, 2,    17.97, 2,     0.00, 2,     1.16, 2,    2.134, 2,    1.058, 2,    0.130, 2, -999.000, 9,   2168.3, 2,   2308.4, 2,  -999.00, 9,  -999.00, 9,    0.699, 2,    0.004,   1.8564, 2,   0.0093,     7.35, 2,     0.20,    7.522, 2,    0.038,   -999.0, 9,   -999.0,  -999.00, 9, -999.0000, 9, -999.0000, 9, -999.0000, 9, -999.0000, 9, -999.0000, 9, -999.0000, 9, -999, 9, -999, 9, -999, 9, -999, 9, -999, 9, -999, 9, -999, 9,  -999.00, 9,  -999.00, 9,  -999.00, 9,  -999.00, 9,   4.3359,  -999.00, 9,  447,   33.5544,  -52.3473
316N200309, A20, 28, 1, 17, 17, 2, 20031002, 0320, 33.5447, -52.3495, 5529,  1573.70,   1573.7,   4.2289,  34.9965, 2,  34.9965, 2,    257.3, 2,    258.0, 2,    11.91, 2,    17.87, 2,     0.00, 2,     1.16, 2,    1.830, 2,    0.907, 2,    0.100, 2, -999.000, 9,   2166.8, 2,   2307.6, 2,  -999.00, 9,  -999.00, 9, -999.000, 9, -999.000, -999.0000, 9, -999.0000,  -999.00, 9,  -999.00, -999.000, 9, -999.000,   -999.0, 9,   -999.0,  -999.00, 9, -999.0000, 9, -999.0000, 9, -999.0000, 9, -999.0000, 9, -999.0000, 9, -999.0000, 9, -999, 9, -999, 9, -999, 9, -999, 9, -999, 9, -999, 9, -999, 9,  -999.00, 9,  -999.00, 9,  -999.00, 9,  -999.00, 9,   4.0992,  -999.00, 9,  445,   33.5539,  -52.3473
316N200309, A20, 28, 1, 16, 16, 2, 20031002, 0320, 33.5447, -52.3495, 5529,  1697.70,   1697.7,   4.0098,  34.9772, 2,  34.9772, 2,    261.9, 2,    262.4, 2,    12.14, 2,    17.77, 2,     0.00, 2,     1.15, 2,    1.859, 2,    0.921, 2,    0.094, 2, -999.000, 9,   2167.0, 2,   2305.5, 2,  -999.00, 9,  -999.00, 9,    0.624, 2,    0.003,   1.8630, 2,   0.0093,     7.61, 2,     0.20,    7.478, 2,    0.037,   -999.0, 9,   -999.0,  -999.00, 9, -999.0000, 9, -999.0000, 9, -999.0000, 9, -999.0000, 9, -999.0000, 9, -999.0000, 9, -999, 9, -999, 9, -999, 9, -999, 9, -999, 9, -999, 9, -999, 9,  -999.00, 9,  -999.00, 9,  -999.00, 9,  -999.00, 9,   3.8712,  -999.00, 9,  442,   33.5534,  -52.3472
316N200309, A20, 28, 1, 15, 15, 2, 20031002, 0320, 33.5447, -52.3495, 5529,  1848.00,   1848.0,   3.8302,  34.9657, 2,  34.9654, 2,    265.7, 2,    265.1, 2,    12.57, 2,    17.67, 2,     0.00, 2,     1.15, 2,    1.635, 2,    0.808, 2,    0.082, 2, -999.000, 9,   2162.7, 2,   2306.9, 2,  -999.00, 9,  -999.00, 9, -999.000, 9, -999.000, -999.0000, 9, -999.0000,  -999.00, 9,  -999.00, -999.000, 9, -999.000,   -999.0, 9,   -999.0,  -999.00, 9, -999.0000, 9, -999.0000, 9, -999.0000, 9, -999.0000, 9, -999.0000, 9, -999.0000, 9, -999, 9, -999, 9, -999, 9, -999, 9, -999, 9, -999, 9, -999, 9,  -999.00, 9,  -999.00, 9,  -999.00, 9,  -999.00, 9,   3.6798,  -999.00, 9,  439,   33.5528,  -52.3471
316N200309, A20, 28, 1, 14, 14, 2, 20031002, 0320, 33.5447, -52.3495, 5529,  1998.70,   1998.7,   3.6707,  34.9587, 2,  34.9587, 2,    267.2, 2,    266.6, 2,    13.29, 2,    17.77, 2,     0.00, 2,     1.15, 2,    1.584, 2,    0.782, 2,    0.089, 2, -999.000, 9,   2166.5, 2,   2307.3, 2,  -999.00, 9,  -999.00, 9,    0.537, 2,    0.003,   1.8581, 2,   0.0093,     6.91, 2,     0.20,    7.586, 2,    0.038,   -999.0, 9,   -999.0,  -999.00, 9, -999.0000, 9, -999.0000, 9, -999.0000, 9, -999.0000, 9, -999.0000, 9, -999.0000, 9, -999, 9, -999, 9, -999, 9, -999, 9, -999, 9, -999, 9, -999, 9,  -999.00, 9,  -999.00, 9,  -999.00, 9,  -999.00, 9,   3.5082,  -999.00, 9,  436,   33.5524,  -52.3471
316N200309, A20, 28, 1, 13, 13, 2, 20031002, 0320, 33.5447, -52.3495, 5529,  2248.50,   2248.5,   3.4977,  34.9577, 2,  34.9577, 2,    266.1, 2,    266.1, 2,    15.11, 2,    17.82, 2,     0.00, 2,     1.17, 2,    1.155, 6,    0.569, 6,    0.053, 6, -999.000, 9,   2168.1, 2,   2309.1, 2,  -999.00, 9,  -999.00, 9, -999.000, 9, -999.000, -999.0000, 9, -999.0000,  -999.00, 9,  -999.00, -999.000, 9, -999.000,   -999.0, 9,   -999.0,  -999.00, 9, -999.0000, 9, -999.0000, 9, -999.0000, 9, -999.0000, 9, -999.0000, 9, -999.0000, 9, -999, 9, -999, 9, -999, 9, -999, 9, -999, 9, -999, 9, -999, 9,  -999.00, 9,  -999.00, 9,  -999.00, 9,  -999.00, 9,   3.3137,  -999.00, 9,  431,   33.5517,  -52.3473
316N200309, A20, 28, 1, 12, 12, 2, 20031002, 0320, 33.5447, -52.3495, 5529,  2499.50,   2499.5,   3.3374,  34.9612, 2,  34.9612, 2,    263.7, 2,    269.3, 4,    17.82, 2,    18.16, 2,     0.00, 2,     1.20, 2,    0.711, 2,    0.356, 2,    0.033, 2, -999.000, 9,   2171.0, 2,   2312.6, 2,  -999.00, 9,  -999.00, 9,    0.285, 2,    0.001,   1.8669, 2,   0.0093,     4.54, 2,     0.20,    7.537, 2,    0.038,   -999.0, 9,   -999.0,  -999.00, 9, -999.0000, 9, -999.0000, 9, -999.0000, 9, -999.0000, 9, -999.0000, 9, -999.0000, 9, -999, 9, -999, 9, -999, 9, -999, 9, -999, 9, -999, 9, -999, 9,  -999.00, 9,  -999.00, 9,  -999.00, 9,  -999.00, 9,   3.1313,  -999.00, 9,  426,   33.5511,  -52.3475
316N200309, A20, 28, 1, 11, 11, 2, 20031002, 0320, 33.5447, -52.3495, 5529,  2748.10,   2748.1,   3.1790,  34.9580, 2,  34.9571, 2,    261.7, 2,    265.6, 4,    20.55, 2,    18.51, 2,     0.00, 2,     1.22, 2,    0.455, 2,    0.224, 2,    0.015, 2, -999.000, 9,   2167.2, 2,   2315.9, 2,  -999.00, 9,  -999.00, 9,    0.208, 2,    0.002,   1.8950, 2,   0.0095,     4.84, 2,     0.20,    7.978, 2,    0.040,   -999.0, 9,   -999.0,  -999.00, 9, -999.0000, 9, -999.0000, 9, -999.0000, 9, -999.0000, 9, -999.0000, 9, -999.0000, 9, -999, 9, -999, 9, -999, 9, -999, 9, -999, 9, -999, 9, -999, 9,  -999.00, 9,  -999.00, 9,  -999.00, 9,  -999.00, 9,   2.9506,  -999.00, 9,  421,   33.5506,  -52.3479