BOTTLE,20220816CCHSIOAMB
EXPOCODE,SECT_ID,STNNBR,CASTNO,SAMPNO,BTLNBR,BTLNBR_FLAG_W,DATE,TIME,LATITUDE,LONGITUDE,DEPTH,CTDRAW,CTDPRS,CTDTMP,CTDSAL,CTDSAL_FLAG_W,SALNTY,SALNTY_FLAG_W,CTDOXY,CTDOXY_FLAG_W,OXYGEN,OXYGEN_FLAG_W,SILCAT,SILCAT_FLAG_W,NITRAT,NITRAT_FLAG_W,NITRIT,NITRIT_FLAG_W,PHSPHT,PHSPHT_FLAG_W,CFC-11,CFC-11_FLAG_W,CFC-12,CFC-12_FLAG_W,CFC113,CFC113_FLAG_W,CCL4,CCL4_FLAG_W,TCARBN,TCARBN_FLAG_W,ALKALI,ALKALI_FLAG_W,DOC,DOC_FLAG_W,TDN,TDN_FLAG_W,TRITUM,TRITUM_FLAG_W,TRITER,HELIUM,HELIUM_FLAG_W,HELIER,DELHE3,DELHE3_FLAG_W,DELHER,NEON,NEON_FLAG_W,NEONER,DELC14,DELC14_FLAG_W,C14ERR,DELC13,DELC13_FLAG_W,CDOM325,CDOM325_FLAG_W,CDOM340,CDOM340_FLAG_W,CDOM380,CDOM380_FLAG_W,CDOM412,CDOM412_FLAG_W,CDOMSL,CDOMSL_FLAG_W,CDOMSN,CDOMSN_FLAG_W,DCNS,DCNS_FLAG_W,ARABI,ARABI_FLAG_W,FUCO,FUCO_FLAG_W,GALA,GALA_FLAG_W,GLUC,GLUC_FLAG_W,MAN,MAN_FLAG_W,RHAM,RHAM_FLAG_W,BRDU,BRDU_FLAG_W,PEUK,PEUK_FLAG_W,PROC,PROC_FLAG_W,SYN,SYN_FLAG_W,THETA,BACT,BACT_FLAG_W,BTL_TIME,BTL_LAT,BTL_LON
,,,,,,,,,,,METERS,DBAR,DBAR,ITS-90,PSS-78,,PSS-78,,UMOL/KG,,UMOL/KG,,UMOL/KG,,UMOL/KG,,UMOL/KG,,UMOL/KG,,PMOL/KG,,PMOL/KG,,PMOL/KG,,PMOL/KG,,UMOL/KG,,UMOL/KG,,UMOL/KG,,UMOL/KG,,TU,,TU,NMOL/KG,,NMOL/KG,PERCNT,,PERCNT,NMOL/KG,,NMOL/KG,/MILLE,,/MILLE,/MILLE,,1/M,,1/M,,1/M,,1/M,,1/NM,,1/NM,,NMOL/KG,,NMOL/KG,,NMOL/KG,,NMOL/KG,,NMOL/KG,,NMOL/KG,,NMOL/KG,,PMOL/L/H,,E6/L,,E7/L,,E6/L,,DEG C,E8/L,,,,
316N200309, A20, 54, 1, 10, 10, 2, 20031012, 1841, 14.9587, -52.3310, 4558,  2749.80,   2749.8,   2.8149,  34.9343, 2,  34.9349, 2,    252.3, 2,    251.9, 2,    31.23, 2,    20.22, 2,     0.00, 2,     1.36, 2,    0.043, 2,    0.029, 2,    0.004, 2, -999.000, 9,   2176.4, 2,   2327.1, 2,  -999.00, 9,  -999.00, 9, -999.000, 9, -999.000, -999.0000, 9, -999.0000,  -999.00, 9,  -999.00, -999.000, 9, -999.000,   -999.0, 9,   -999.0,  -999.00, 9, -999.0000, 9, -999.0000, 9, -999.0000, 9, -999.0000, 9, -999.0000, 9, -999.0000, 9, -999, 9, -999, 9, -999, 9, -999, 9, -999, 9, -999, 9, -999, 9,  -999.00, 9,  -999.00, 9,  -999.00, 9,  -999.00, 9,   2.5937,  -999.00, 9, 1921,   14.9622,  -52.3317
316N200309, A20, 54, 1, 9, 9, 2, 20031012, 1841, 14.9587, -52.3310, 4558,  3000.60,   3000.6,   2.7039,  34.9251, 2,  34.9258, 2,    251.8, 2,    250.9, 2,    34.26, 2,    20.56, 2,     0.00, 2,     1.38, 2,    0.031, 2,    0.030, 2,    0.009, 2, -999.000, 9,   2182.3, 2,   2329.7, 2,    41.10, 2,  -999.00, 9, -999.000, 9, -999.000, -999.0000, 9, -999.0000,  -999.00, 9,  -999.00, -999.000, 9, -999.000,   -100.0, 2,      3.0,     1.09, 2,    0.1280, 2,    0.0890, 2,    0.0430, 2,    0.0320, 2,    0.0160, 2,    0.0190, 2, -999, 9, -999, 9, -999, 9, -999, 9, -999, 9, -999, 9, -999, 9,  -999.00, 9,  -999.00, 9,  -999.00, 9,  -999.00, 9,   2.4595,  -999.00, 9, 1916,   14.9617,  -52.3317
316N200309, A20, 54, 1, 8, 8, 2, 20031012, 1841, 14.9587, -52.3310, 4558,  3199.60,   3199.6,   2.6264,  34.9186, 2,  34.9195, 2,    252.1, 2,    250.8, 2,    35.50, 2,    20.64, 2,     0.00, 2,     1.39, 2,    0.049, 2,    0.032, 2,    0.010, 2, -999.000, 9,   2181.1, 2,   2329.5, 2,  -999.00, 9,  -999.00, 9, -999.000, 9, -999.000, -999.0000, 9, -999.0000,  -999.00, 9,  -999.00, -999.000, 9, -999.000,   -999.0, 9,   -999.0,  -999.00, 9, -999.0000, 9, -999.0000, 9, -999.0000, 9, -999.0000, 9, -999.0000, 9, -999.0000, 9, -999, 9, -999, 9, -999, 9, -999, 9, -999, 9, -999, 9, -999, 9,  -999.00, 9,  -999.00, 9,  -999.00, 9,  -999.00, 9,   2.3631,  -999.00, 9, 1912,   14.9613,  -52.3316
316N200309, A20, 54, 1, 7, 7, 2, 20031012, 1841, 14.9587, -52.3310, 4558,  3398.90,   3398.9,   2.5339,  34.9106, 2,  34.9111, 2,    252.7, 2,    252.3, 2,    36.86, 2,    20.69, 2,     0.00, 2,     1.40, 2,    0.057, 2,    0.031, 2,    0.008, 2, -999.000, 9,   2183.9, 2,   2329.9, 2,  -999.00, 9,  -999.00, 9, -999.000, 9, -999.000, -999.0000, 9, -999.0000,  -999.00, 9,  -999.00, -999.000, 9, -999.000,   -999.0, 9,   -999.0,  -999.00, 9, -999.0000, 9, -999.0000, 9, -999.0000, 9, -999.0000, 9, -999.0000, 9, -999.0000, 9, -999, 9, -999, 9, -999, 9, -999, 9, -999, 9, -999, 9, -999, 9,  -999.00, 9,  -999.00, 9,  -999.00, 9,  -999.00, 9,   2.2516,  -999.00, 9, 1907,   14.9609,  -52.3314
316N200309, A20, 54, 1, 6, 6, 2, 20031012, 1841, 14.9587, -52.3310, 4558,  3599.90,   3599.9,   2.4525,  34.9049, 2,  34.9061, 2,    255.2, 2,    256.7, 2,    35.71, 2,    20.22, 2,     0.00, 2,     1.37, 2,    0.117, 2,    0.069, 2,    0.004, 2, -999.000, 9,   2181.8, 2,   2328.8, 2,    42.90, 3,  -999.00, 9, -999.000, 9, -999.000, -999.0000, 9, -999.0000,  -999.00, 9,  -999.00, -999.000, 9, -999.000,    -95.4, 2,      2.9,     1.11, 2,    0.1310, 2,    0.0930, 2,    0.0440, 2,    0.0310, 2,    0.0170, 2,    0.0190, 2, -999, 9, -999, 9, -999, 9, -999, 9, -999, 9, -999, 9, -999, 9,  -999.00, 9,  -999.00, 9,  -999.00, 9,  -999.00, 9,   2.1504,  -999.00, 9, 1903,   14.9604,  -52.3314
316N200309, A20, 54, 1, 5, 5, 2, 20031012, 1841, 14.9587, -52.3310, 4558,  3800.20,   3800.2,   2.3716,  34.9009, 2,  34.9012, 2,    259.6, 2,    261.3, 2,    32.68, 2,    19.46, 2,     0.00, 2,     1.31, 2,    0.215, 2,    0.108, 2,    0.007, 2, -999.000, 9,   2176.8, 2,   2325.3, 2,  -999.00, 9,  -999.00, 9, -999.000, 9, -999.000, -999.0000, 9, -999.0000,  -999.00, 9,  -999.00, -999.000, 9, -999.000,   -999.0, 9,   -999.0,  -999.00, 9, -999.0000, 9, -999.0000, 9, -999.0000, 9, -999.0000, 9, -999.0000, 9, -999.0000, 9, -999, 9, -999, 9, -999, 9, -999, 9, -999, 9, -999, 9, -999, 9,  -999.00, 9,  -999.00, 9,  -999.00, 9,  -999.00, 9,   2.0495,  -999.00, 9, 1859,   14.9600,  -52.3313
316N200309, A20, 54, 1, 4, 4, 2, 20031012, 1841, 14.9587, -52.3310, 4558,  3999.40,   3999.4,   2.3226,  34.8968, 2,  34.8998, 2,    261.9, 2,    262.4, 2,    32.88, 2,    19.36, 2,     0.00, 2,     1.31, 2,    0.228, 2,    0.118, 2,    0.013, 2, -999.000, 9,   2175.5, 2,   2324.2, 2,  -999.00, 9,  -999.00, 9, -999.000, 9, -999.000, -999.0000, 9, -999.0000,  -999.00, 9,  -999.00, -999.000, 9, -999.000,    -82.6, 2,      2.5,     1.10, 2, -999.0000, 9, -999.0000, 9, -999.0000, 9, -999.0000, 9, -999.0000, 9, -999.0000, 9, -999, 9, -999, 9, -999, 9, -999, 9, -999, 9, -999, 9, -999, 9,  -999.00, 9,  -999.00, 9,  -999.00, 9,  -999.00, 9,   1.9794,  -999.00, 9, 1854,   14.9597,  -52.3313
316N200309, A20, 54, 1, 3, 3, 2, 20031012, 1841, 14.9587, -52.3310, 4558,  4250.20,   4250.2,   2.2695,  34.8895, 2,  34.8904, 2,    260.8, 2,    261.0, 2,    35.70, 2,    19.75, 2,     0.00, 2,     1.33, 2,    0.215, 2,    0.110, 2,    0.011, 2, -999.000, 9,   2179.0, 2,   2327.2, 2,  -999.00, 9,  -999.00, 9, -999.000, 9, -999.000, -999.0000, 9, -999.0000,  -999.00, 9,  -999.00, -999.000, 9, -999.000,   -999.0, 9,   -999.0,  -999.00, 9, -999.0000, 9, -999.0000, 9, -999.0000, 9, -999.0000, 9, -999.0000, 9, -999.0000, 9, -999, 9, -999, 9, -999, 9, -999, 9, -999, 9, -999, 9, -999, 9,  -999.00, 9,  -999.00, 9,  -999.00, 9,  -999.00, 9,   1.8989,  -999.00, 9, 1849,   14.9594,  -52.3313
316N200309, A20, 54, 1, 2, 2, 2, 20031012, 1841, 14.9587, -52.3310, 4558,  4424.60,   4424.6,   2.2458,  34.8850, 2,  34.8861, 2,    259.6, 2,    259.3, 2,    37.68, 2,    19.98, 2,     0.00, 2,     1.36, 2,    0.197, 2,    0.103, 2,    0.015, 2, -999.000, 9,   2181.5, 2,   2329.2, 2,  -999.00, 9,  -999.00, 9, -999.000, 9, -999.000, -999.0000, 9, -999.0000,  -999.00, 9,  -999.00, -999.000, 9, -999.000,    -88.2, 2,      3.3,     1.07, 2, -999.0000, 9, -999.0000, 9, -999.0000, 9, -999.0000, 9, -999.0000, 9, -999.0000, 9, -999, 9, -999, 9, -999, 9, -999, 9, -999, 9, -999, 9, -999, 9,  -999.00, 9,  -999.00, 9,  -999.00, 9,  -999.00, 9,   1.8553,  -999.00, 9, 1845,   14.9591,  -52.3311
316N200309, A20, 54, 1, 1, 1, 2, 20031012, 1841, 14.9587, -52.3310, 4558,  4611.50,   4611.5,   2.1707,  34.8736, 2,  34.8749, 2,    257.5, 2,    256.9, 2,    42.91, 2,    20.79, 2,     0.00, 2,     1.41, 2,    0.166, 2,    0.090, 2,    0.010, 2, -999.000, 9,   2187.4, 2,   2332.0, 2,    41.30, 2,  -999.00, 9, -999.000, 9, -999.000, -999.0000, 9, -999.0000,  -999.00, 9,  -999.00, -999.000, 9, -999.000,    -98.2, 2,      3.0,     1.08, 2,    0.1450, 2,    0.1040, 2,    0.0510, 2,    0.0360, 2,    0.0160, 2,    0.0180, 2, -999, 9, -999, 9, -999, 9, -999, 9, -999, 9, -999, 9, -999, 9,  -999.00, 9,  -999.00, 9,  -999.00, 9,  -999.00, 9,   1.7603,  -999.00, 9, 1841,   14.9587,  -52.3311