BOTTLE,20220816CCHSIOAMB
EXPOCODE,SECT_ID,STNNBR,CASTNO,SAMPNO,BTLNBR,BTLNBR_FLAG_W,DATE,TIME,LATITUDE,LONGITUDE,DEPTH,CTDRAW,CTDPRS,CTDTMP,CTDSAL,CTDSAL_FLAG_W,SALNTY,SALNTY_FLAG_W,CTDOXY,CTDOXY_FLAG_W,OXYGEN,OXYGEN_FLAG_W,SILCAT,SILCAT_FLAG_W,NITRAT,NITRAT_FLAG_W,NITRIT,NITRIT_FLAG_W,PHSPHT,PHSPHT_FLAG_W,CFC-11,CFC-11_FLAG_W,CFC-12,CFC-12_FLAG_W,CFC113,CFC113_FLAG_W,CCL4,CCL4_FLAG_W,TCARBN,TCARBN_FLAG_W,ALKALI,ALKALI_FLAG_W,DOC,DOC_FLAG_W,TDN,TDN_FLAG_W,TRITUM,TRITUM_FLAG_W,TRITER,HELIUM,HELIUM_FLAG_W,HELIER,DELHE3,DELHE3_FLAG_W,DELHER,NEON,NEON_FLAG_W,NEONER,DELC14,DELC14_FLAG_W,C14ERR,DELC13,DELC13_FLAG_W,CDOM325,CDOM325_FLAG_W,CDOM340,CDOM340_FLAG_W,CDOM380,CDOM380_FLAG_W,CDOM412,CDOM412_FLAG_W,CDOMSL,CDOMSL_FLAG_W,CDOMSN,CDOMSN_FLAG_W,DCNS,DCNS_FLAG_W,ARABI,ARABI_FLAG_W,FUCO,FUCO_FLAG_W,GALA,GALA_FLAG_W,GLUC,GLUC_FLAG_W,MAN,MAN_FLAG_W,RHAM,RHAM_FLAG_W,BRDU,BRDU_FLAG_W,PEUK,PEUK_FLAG_W,PROC,PROC_FLAG_W,SYN,SYN_FLAG_W,THETA,BACT,BACT_FLAG_W,BTL_TIME,BTL_LAT,BTL_LON
,,,,,,,,,,,METERS,DBAR,DBAR,ITS-90,PSS-78,,PSS-78,,UMOL/KG,,UMOL/KG,,UMOL/KG,,UMOL/KG,,UMOL/KG,,UMOL/KG,,PMOL/KG,,PMOL/KG,,PMOL/KG,,PMOL/KG,,UMOL/KG,,UMOL/KG,,UMOL/KG,,UMOL/KG,,TU,,TU,NMOL/KG,,NMOL/KG,PERCNT,,PERCNT,NMOL/KG,,NMOL/KG,/MILLE,,/MILLE,/MILLE,,1/M,,1/M,,1/M,,1/M,,1/NM,,1/NM,,NMOL/KG,,NMOL/KG,,NMOL/KG,,NMOL/KG,,NMOL/KG,,NMOL/KG,,NMOL/KG,,PMOL/L/H,,E6/L,,E7/L,,E6/L,,DEG C,E8/L,,,,
316N200309, A20, 17, 1, 10, 10, 2, 20030928, 1826, 39.4778, -51.8000, 5325,  3002.20,   3002.2,   2.9160,  34.9358, 2,  34.9355, 2,    266.4, 2,    266.9, 2,    19.58, 2,    17.90, 2,     0.00, 2,     1.20, 2,    0.643, 2,    0.337, 2,    0.024, 2,    1.141, 2,   2164.1, 2,   2312.7, 2,    43.10, 2,  -999.00, 9, -999.000, 9, -999.000, -999.0000, 9, -999.0000,  -999.00, 9,  -999.00, -999.000, 9, -999.000,   -999.0, 9,   -999.0,  -999.00, 9,    0.1280, 2,    0.0890, 2,    0.0430, 2,    0.0350, 3,    0.0150, 3,    0.0180, 3, -999, 9, -999, 9, -999, 9, -999, 9, -999, 9, -999, 9, -999, 9,  -999.00, 9,  -999.00, 9,  -999.00, 9,  -999.00, 9,   2.6668,  -999.00, 9, 1921,   39.4719,  -51.8121
316N200309, A20, 17, 1, 9, 9, 2, 20030928, 1826, 39.4778, -51.8000, 5325,  3204.30,   3204.3,   2.7427,  34.9266, 2,  34.9262, 2,    267.1, 2,    267.9, 2,    20.81, 2,    17.89, 2,     0.00, 2,     1.21, 2,    0.632, 2,    0.343, 2,    0.036, 2,    1.128, 2,   2163.4, 2,   2313.6, 2,  -999.00, 9,  -999.00, 9, -999.000, 9, -999.000, -999.0000, 9, -999.0000,  -999.00, 9,  -999.00, -999.000, 9, -999.000,   -999.0, 9,   -999.0,  -999.00, 9, -999.0000, 9, -999.0000, 9, -999.0000, 9, -999.0000, 9, -999.0000, 9, -999.0000, 9, -999, 9, -999, 9, -999, 9, -999, 9, -999, 9, -999, 9, -999, 9,  -999.00, 9,  -999.00, 9,  -999.00, 9,  -999.00, 9,   2.4762,  -999.00, 9, 1916,   39.4724,  -51.8110
316N200309, A20, 17, 1, 8, 8, 2, 20030928, 1826, 39.4778, -51.8000, 5325,  3404.50,   3404.5,   2.6103,  34.9187, 2,  34.9185, 2,    268.1, 2,    268.9, 2,    22.05, 2,    17.84, 2,     0.00, 2,     1.21, 2,    0.670, 2,    0.349, 2,    0.030, 2,    1.190, 2,   2166.0, 2,   2313.6, 2,  -999.00, 9,  -999.00, 9, -999.000, 9, -999.000, -999.0000, 9, -999.0000,  -999.00, 9,  -999.00, -999.000, 9, -999.000,   -999.0, 9,   -999.0,  -999.00, 9, -999.0000, 9, -999.0000, 9, -999.0000, 9, -999.0000, 9, -999.0000, 9, -999.0000, 9, -999, 9, -999, 9, -999, 9, -999, 9, -999, 9, -999, 9, -999, 9,  -999.00, 9,  -999.00, 9,  -999.00, 9,  -999.00, 9,   2.3255,  -999.00, 9, 1912,   39.4729,  -51.8101
316N200309, A20, 17, 1, 7, 7, 2, 20030928, 1826, 39.4778, -51.8000, 5325,  3604.30,   3604.3,   2.4925,  34.9112, 2,  34.9103, 2,    268.4, 2,    269.2, 2,    23.60, 2,    17.94, 2,     0.00, 2,     1.21, 2,    0.685, 2,    0.367, 2,    0.034, 2,    1.206, 2,   2165.6, 2,   2314.8, 2,    43.50, 2,  -999.00, 9, -999.000, 9, -999.000, -999.0000, 9, -999.0000,  -999.00, 9,  -999.00, -999.000, 9, -999.000,   -999.0, 9,   -999.0,  -999.00, 9,    0.1360, 2,    0.0950, 2,    0.0460, 2,    0.0360, 3,    0.0150, 3,    0.0180, 3, -999, 9, -999, 9, -999, 9, -999, 9, -999, 9, -999, 9, -999, 9,  -999.00, 9,  -999.00, 9,  -999.00, 9,  -999.00, 9,   2.1889,  -999.00, 9, 1908,   39.4733,  -51.8091
316N200309, A20, 17, 1, 6, 6, 2, 20030928, 1826, 39.4778, -51.8000, 5325,  3792.70,   3792.7,   2.3898,  34.9037, 2,  34.9036, 2,    268.8, 2,    270.0, 2,    25.14, 2,    18.08, 2,     0.00, 2,     1.22, 2,    0.739, 2,    0.375, 2,    0.037, 2,    1.256, 2,   2168.4, 2,   2317.8, 2,  -999.00, 9,  -999.00, 9, -999.000, 9, -999.000, -999.0000, 9, -999.0000,  -999.00, 9,  -999.00, -999.000, 9, -999.000,   -999.0, 9,   -999.0,  -999.00, 9, -999.0000, 9, -999.0000, 9, -999.0000, 9, -999.0000, 9, -999.0000, 9, -999.0000, 9, -999, 9, -999, 9, -999, 9, -999, 9, -999, 9, -999, 9, -999, 9,  -999.00, 9,  -999.00, 9,  -999.00, 9,  -999.00, 9,   2.0681,  -999.00, 9, 1903,   39.4737,  -51.8081
316N200309, A20, 17, 1, 5, 5, 2, 20030928, 1826, 39.4778, -51.8000, 5325,  3999.70,   3999.7,   2.3256,  34.8979, 2,  34.8977, 2,    268.6, 2,    268.4, 2,    27.11, 2,    18.23, 2,     0.00, 2,     1.24, 2,    0.758, 2,    0.393, 2,    0.042, 2,    1.262, 2,   2170.4, 2,   2318.1, 2,  -999.00, 9,  -999.00, 9, -999.000, 9, -999.000, -999.0000, 9, -999.0000,  -999.00, 9,  -999.00, -999.000, 9, -999.000,   -999.0, 9,   -999.0,  -999.00, 9, -999.0000, 9, -999.0000, 9, -999.0000, 9, -999.0000, 9, -999.0000, 9, -999.0000, 9, -999, 9, -999, 9, -999, 9, -999, 9, -999, 9, -999, 9, -999, 9,  -999.00, 9,  -999.00, 9,  -999.00, 9,  -999.00, 9,   1.9823,  -999.00, 9, 1859,   39.4742,  -51.8072
316N200309, A20, 17, 1, 4, 4, 2, 20030928, 1826, 39.4778, -51.8000, 5325,  4348.80,   4348.8,   2.2772,  34.8911, 2,  34.8918, 2,    267.4, 2,    267.5, 2,    29.60, 2,    18.57, 2,     0.00, 2,     1.26, 2,    0.818, 6,    0.422, 6,    0.047, 6,    1.263, 6,   2175.6, 2,   2319.9, 2,  -999.00, 9,  -999.00, 9, -999.000, 9, -999.000, -999.0000, 9, -999.0000,  -999.00, 9,  -999.00, -999.000, 9, -999.000,   -999.0, 9,   -999.0,  -999.00, 9, -999.0000, 9, -999.0000, 9, -999.0000, 9, -999.0000, 9, -999.0000, 9, -999.0000, 9, -999, 9, -999, 9, -999, 9, -999, 9, -999, 9, -999, 9, -999, 9,  -999.00, 9,  -999.00, 9,  -999.00, 9,  -999.00, 9,   1.8948,  -999.00, 9, 1851,   39.4749,  -51.8055
316N200309, A20, 17, 1, 3, 3, 2, 20030928, 1826, 39.4778, -51.8000, 5325,  4699.40,   4699.4,   2.2654,  34.8862, 2,  34.8857, 2,    266.2, 2,    266.0, 2,    31.88, 2,    18.86, 2,     0.00, 2,     1.29, 2,    0.794, 2,    0.419, 2,    0.064, 2,    1.221, 2,   2177.4, 2,   2322.3, 2,  -999.00, 9,  -999.00, 9, -999.000, 9, -999.000, -999.0000, 9, -999.0000,  -999.00, 9,  -999.00, -999.000, 9, -999.000,   -999.0, 9,   -999.0,  -999.00, 9, -999.0000, 9, -999.0000, 9, -999.0000, 9, -999.0000, 9, -999.0000, 9, -999.0000, 9, -999, 9, -999, 9, -999, 9, -999, 9, -999, 9, -999, 9, -999, 9,  -999.00, 9,  -999.00, 9,  -999.00, 9,  -999.00, 9,   1.8412,  -999.00, 9, 1843,   39.4757,  -51.8037
316N200309, A20, 17, 1, 2, 2, 2, 20030928, 1826, 39.4778, -51.8000, 5325,  5052.30,   5052.3,   2.2560,  34.8802, 2,  34.8802, 2,    263.5, 2,    263.3, 2,    35.21, 2,    19.40, 2,     0.00, 2,     1.33, 2,    0.722, 2,    0.385, 2,    0.044, 2,    1.052, 2,   2181.8, 2,   2329.2, 2,    43.30, 2,  -999.00, 9, -999.000, 9, -999.000, -999.0000, 9, -999.0000,  -999.00, 9,  -999.00, -999.000, 9, -999.000,   -999.0, 9,   -999.0,  -999.00, 9,    0.1500, 2,    0.1050, 2,    0.0460, 2,    0.0310, 2,    0.0190, 2,    0.0210, 2, -999, 9, -999, 9, -999, 9, -999, 9, -999, 9, -999, 9, -999, 9,  -999.00, 9,  -999.00, 9,  -999.00, 9,  -999.00, 9,   1.7883,  -999.00, 9, 1835,   39.4767,  -51.8018
316N200309, A20, 17, 1, 1, 1, 2, 20030928, 1826, 39.4778, -51.8000, 5325,  5413.40,   5413.4,   2.2713,  34.8758, 2,  34.8770, 2,    261.7, 2,    261.6, 2,    37.50, 2,    19.80, 2,     0.01, 2,     1.36, 2,    0.698, 2,    0.369, 2,    0.041, 2,    1.026, 2,   2184.2, 2,   2331.1, 2,  -999.00, 9,  -999.00, 9, -999.000, 9, -999.000, -999.0000, 9, -999.0000,  -999.00, 9,  -999.00, -999.000, 9, -999.000,   -999.0, 9,   -999.0,  -999.00, 9, -999.0000, 9, -999.0000, 9, -999.0000, 9, -999.0000, 9, -999.0000, 9, -999.0000, 9, -999, 9, -999, 9, -999, 9, -999, 9, -999, 9, -999, 9, -999, 9,  -999.00, 9,  -999.00, 9,  -999.00, 9,  -999.00, 9,   1.7566,  -999.00, 9, 1826,   39.4779,  -51.7999