BOTTLE,20220816CCHSIOAMB
EXPOCODE,SECT_ID,STNNBR,CASTNO,SAMPNO,BTLNBR,BTLNBR_FLAG_W,DATE,TIME,LATITUDE,LONGITUDE,DEPTH,CTDRAW,CTDPRS,CTDTMP,CTDSAL,CTDSAL_FLAG_W,SALNTY,SALNTY_FLAG_W,CTDOXY,CTDOXY_FLAG_W,OXYGEN,OXYGEN_FLAG_W,SILCAT,SILCAT_FLAG_W,NITRAT,NITRAT_FLAG_W,NITRIT,NITRIT_FLAG_W,PHSPHT,PHSPHT_FLAG_W,CFC-11,CFC-11_FLAG_W,CFC-12,CFC-12_FLAG_W,CFC113,CFC113_FLAG_W,CCL4,CCL4_FLAG_W,TCARBN,TCARBN_FLAG_W,ALKALI,ALKALI_FLAG_W,DOC,DOC_FLAG_W,TDN,TDN_FLAG_W,TRITUM,TRITUM_FLAG_W,TRITER,HELIUM,HELIUM_FLAG_W,HELIER,DELHE3,DELHE3_FLAG_W,DELHER,NEON,NEON_FLAG_W,NEONER,DELC14,DELC14_FLAG_W,C14ERR,DELC13,DELC13_FLAG_W,CDOM325,CDOM325_FLAG_W,CDOM340,CDOM340_FLAG_W,CDOM380,CDOM380_FLAG_W,CDOM412,CDOM412_FLAG_W,CDOMSL,CDOMSL_FLAG_W,CDOMSN,CDOMSN_FLAG_W,DCNS,DCNS_FLAG_W,ARABI,ARABI_FLAG_W,FUCO,FUCO_FLAG_W,GALA,GALA_FLAG_W,GLUC,GLUC_FLAG_W,MAN,MAN_FLAG_W,RHAM,RHAM_FLAG_W,BRDU,BRDU_FLAG_W,PEUK,PEUK_FLAG_W,PROC,PROC_FLAG_W,SYN,SYN_FLAG_W,THETA,BACT,BACT_FLAG_W,BTL_TIME,BTL_LAT,BTL_LON
,,,,,,,,,,,METERS,DBAR,DBAR,ITS-90,PSS-78,,PSS-78,,UMOL/KG,,UMOL/KG,,UMOL/KG,,UMOL/KG,,UMOL/KG,,UMOL/KG,,PMOL/KG,,PMOL/KG,,PMOL/KG,,PMOL/KG,,UMOL/KG,,UMOL/KG,,UMOL/KG,,UMOL/KG,,TU,,TU,NMOL/KG,,NMOL/KG,PERCNT,,PERCNT,NMOL/KG,,NMOL/KG,/MILLE,,/MILLE,/MILLE,,1/M,,1/M,,1/M,,1/M,,1/NM,,1/NM,,NMOL/KG,,NMOL/KG,,NMOL/KG,,NMOL/KG,,NMOL/KG,,NMOL/KG,,NMOL/KG,,PMOL/L/H,,E6/L,,E7/L,,E6/L,,DEG C,E8/L,,,,
316N200309, A20, 66, 1, 22, 22, 2, 20031016, 0104, 8.9938, -52.5578, 4669,   900.90,    900.9,   4.8218,  34.5975, 2,  34.5965, 2,    144.3, 2,    144.2, 2,    29.14, 2,    33.65, 2,     0.00, 2,     2.29, 2,    0.050, 2,    0.028, 2,    0.006, 2, -999.000, 9,   2224.0, 2,   2299.9, 2,  -999.00, 9,  -999.00, 9, -999.000, 9, -999.000, -999.0000, 9, -999.0000,  -999.00, 9,  -999.00, -999.000, 9, -999.000,   -999.0, 9,   -999.0,  -999.00, 9, -999.0000, 9, -999.0000, 9, -999.0000, 9, -999.0000, 9, -999.0000, 9, -999.0000, 9, -999, 9, -999, 9, -999, 9, -999, 9, -999, 9, -999, 9, -999, 9,  -999.00, 9,  -999.00, 9,  -999.00, 9,  -999.00, 9,   4.7485,  -999.00, 9,  232,    9.0061,  -52.5525
316N200309, A20, 66, 1, 21, 21, 2, 20031016, 0104, 8.9938, -52.5578, 4669,  1050.40,   1050.4,   4.8429,  34.6890, 2,  34.6879, 2,    154.0, 2,    152.8, 2,    27.68, 2,    31.93, 2,     0.00, 2,     2.17, 2,    0.053, 6,    0.035, 6,    0.003, 6, -999.000, 9,   2219.3, 2,   2302.7, 2,  -999.00, 9,  -999.00, 9, -999.000, 9, -999.000, -999.0000, 9, -999.0000,  -999.00, 9,  -999.00, -999.000, 9, -999.000,   -999.0, 9,   -999.0,  -999.00, 9, -999.0000, 9, -999.0000, 9, -999.0000, 9, -999.0000, 9, -999.0000, 9, -999.0000, 9, -999, 9, -999, 9, -999, 9, -999, 9, -999, 9, -999, 9, -999, 9,  -999.00, 9,  -999.00, 9,  -999.00, 9,  -999.00, 9,   4.7559,  -999.00, 9,  229,    9.0055,  -52.5529
316N200309, A20, 66, 1, 20, 20, 2, 20031016, 0104, 8.9938, -52.5578, 4669,  1199.80,   1199.8,   5.0193,  34.8468, 2,  34.8460, 2,    169.6, 2,    171.4, 2,    23.33, 2,    28.12, 2,     0.00, 2,     1.90, 2,    0.087, 2,    0.049, 2,    0.004, 2, -999.000, 9,   2207.1, 2,   2309.2, 2,  -999.00, 9,  -999.00, 9, -999.000, 9, -999.000, -999.0000, 9, -999.0000,  -999.00, 9,  -999.00, -999.000, 9, -999.000,   -999.0, 9,   -999.0,  -999.00, 9, -999.0000, 9, -999.0000, 9, -999.0000, 9, -999.0000, 9, -999.0000, 9, -999.0000, 9, -999, 9, -999, 9, -999, 9, -999, 9, -999, 9, -999, 9, -999, 9,  -999.00, 9,  -999.00, 9,  -999.00, 9,  -999.00, 9,   4.9167,  -999.00, 9,  225,    9.0049,  -52.5532
316N200309, A20, 66, 1, 19, 19, 2, 20031016, 0104, 8.9938, -52.5578, 4669,  1325.50,   1325.5,   4.9178,  34.9439, 2,  34.9433, 2,    199.4, 2,    197.3, 2,    19.40, 2,    24.35, 2,     0.00, 2,     1.62, 2,    0.220, 2,    0.110, 2,    0.009, 2, -999.000, 9,   2190.9, 2,   2311.1, 2,  -999.00, 9,  -999.00, 9, -999.000, 9, -999.000, -999.0000, 9, -999.0000,  -999.00, 9,  -999.00, -999.000, 9, -999.000,   -999.0, 9,   -999.0,  -999.00, 9, -999.0000, 9, -999.0000, 9, -999.0000, 9, -999.0000, 9, -999.0000, 9, -999.0000, 9, -999, 9, -999, 9, -999, 9, -999, 9, -999, 9, -999, 9, -999, 9,  -999.00, 9,  -999.00, 9,  -999.00, 9,  -999.00, 9,   4.8042,  -999.00, 9,  222,    9.0043,  -52.5533
316N200309, A20, 66, 1, 18, 18, 2, 20031016, 0104, 8.9938, -52.5578, 4669,  1451.20,   1451.2,   4.8213,  34.9994, 2,  34.9986, 2,    219.0, 2,    219.7, 2,    16.21, 2,    21.52, 2,     0.00, 2,     1.42, 2,    0.445, 2,    0.228, 2,    0.020, 2, -999.000, 9,   2178.6, 2,   2312.3, 2,  -999.00, 9,  -999.00, 9, -999.000, 9, -999.000, -999.0000, 9, -999.0000,  -999.00, 9,  -999.00, -999.000, 9, -999.000,   -999.0, 9,   -999.0,  -999.00, 9, -999.0000, 9, -999.0000, 9, -999.0000, 9, -999.0000, 9, -999.0000, 9, -999.0000, 9, -999, 9, -999, 9, -999, 9, -999, 9, -999, 9, -999, 9, -999, 9,  -999.00, 9,  -999.00, 9,  -999.00, 9,  -999.00, 9,   4.6965,  -999.00, 9,  219,    9.0037,  -52.5532
316N200309, A20, 66, 1, 17, 17, 2, 20031016, 0104, 8.9938, -52.5578, 4669,  1576.60,   1576.6,   4.5165,  35.0103, 2,  35.0096, 2,    239.7, 2,    239.3, 2,    14.04, 2,    19.58, 2,     0.00, 2,     1.28, 2,    0.722, 2,    0.368, 2,    0.029, 2, -999.000, 9,   2171.2, 2,   2312.0, 2,  -999.00, 9,  -999.00, 9, -999.000, 9, -999.000, -999.0000, 9, -999.0000,  -999.00, 9,  -999.00, -999.000, 9, -999.000,   -999.0, 9,   -999.0,  -999.00, 9, -999.0000, 9, -999.0000, 9, -999.0000, 9, -999.0000, 9, -999.0000, 9, -999.0000, 9, -999, 9, -999, 9, -999, 9, -999, 9, -999, 9, -999, 9, -999, 9,  -999.00, 9,  -999.00, 9,  -999.00, 9,  -999.00, 9,   4.3831,  -999.00, 9,  215,    9.0031,  -52.5529
316N200309, A20, 66, 1, 16, 16, 2, 20031016, 0104, 8.9938, -52.5578, 4669,  1701.60,   1701.6,   4.1058,  34.9939, 2,  34.9939, 2,    250.8, 2,    253.2, 2,    13.32, 2,    18.51, 2,     0.00, 2,     1.21, 2,    0.833, 2,    0.424, 2,    0.051, 2, -999.000, 9,   2164.6, 2,   2307.4, 2,  -999.00, 9,  -999.00, 9, -999.000, 9, -999.000, -999.0000, 9, -999.0000,  -999.00, 9,  -999.00, -999.000, 9, -999.000,   -999.0, 9,   -999.0,  -999.00, 9, -999.0000, 9, -999.0000, 9, -999.0000, 9, -999.0000, 9, -999.0000, 9, -999.0000, 9, -999, 9, -999, 9, -999, 9, -999, 9, -999, 9, -999, 9, -999, 9,  -999.00, 9,  -999.00, 9,  -999.00, 9,  -999.00, 9,   3.9655,  -999.00, 9,  212,    9.0026,  -52.5530
316N200309, A20, 66, 1, 15, 15, 2, 20031016, 0104, 8.9938, -52.5578, 4669,  1850.70,   1850.7,   3.8476,  34.9816, 2,  34.9815, 2,    257.3, 2,    258.7, 2,    13.62, 2,    18.23, 2,     0.00, 2,     1.19, 2,    0.791, 2,    0.397, 2,    0.036, 2, -999.000, 9,   2163.1, 2,   2308.7, 2,  -999.00, 9,  -999.00, 9, -999.000, 9, -999.000, -999.0000, 9, -999.0000,  -999.00, 9,  -999.00, -999.000, 9, -999.000,   -999.0, 9,   -999.0,  -999.00, 9, -999.0000, 9, -999.0000, 9, -999.0000, 9, -999.0000, 9, -999.0000, 9, -999.0000, 9, -999, 9, -999, 9, -999, 9, -999, 9, -999, 9, -999, 9, -999, 9,  -999.00, 9,  -999.00, 9,  -999.00, 9,  -999.00, 9,   3.6966,  -999.00, 9,  208,    9.0021,  -52.5533
316N200309, A20, 66, 1, 14, 14, 2, 20031016, 0104, 8.9938, -52.5578, 4669,  1999.80,   1999.8,   3.6694,  34.9757, 2,  34.9768, 2,    258.9, 2,    259.8, 2,    14.84, 2,    18.27, 2,     0.00, 2,     1.19, 2,    0.682, 2,    0.340, 2,    0.030, 2, -999.000, 9,   2162.4, 2,   2309.5, 2,  -999.00, 9,  -999.00, 9, -999.000, 9, -999.000, -999.0000, 9, -999.0000,  -999.00, 9,  -999.00, -999.000, 9, -999.000,   -999.0, 9,   -999.0,  -999.00, 9, -999.0000, 9, -999.0000, 9, -999.0000, 9, -999.0000, 9, -999.0000, 9, -999.0000, 9, -999, 9, -999, 9, -999, 9, -999, 9, -999, 9, -999, 9, -999, 9,  -999.00, 9,  -999.00, 9,  -999.00, 9,  -999.00, 9,   3.5067,  -999.00, 9,  205,    9.0017,  -52.5536
316N200309, A20, 66, 1, 13, 13, 2, 20031016, 0104, 8.9938, -52.5578, 4669,  2250.40,   2250.4,   3.3610,  34.9657, 2,  34.9658, 2,    259.5, 2,    259.8, 2,    17.51, 2,    18.36, 2,     0.00, 2,     1.21, 2,    0.428, 2,    0.216, 2,    0.028, 2, -999.000, 9,   2164.1, 2,   2312.7, 2,  -999.00, 9,  -999.00, 9, -999.000, 9, -999.000, -999.0000, 9, -999.0000,  -999.00, 9,  -999.00, -999.000, 9, -999.000,   -999.0, 9,   -999.0,  -999.00, 9, -999.0000, 9, -999.0000, 9, -999.0000, 9, -999.0000, 9, -999.0000, 9, -999.0000, 9, -999, 9, -999, 9, -999, 9, -999, 9, -999, 9, -999, 9, -999, 9,  -999.00, 9,  -999.00, 9,  -999.00, 9,  -999.00, 9,   3.1791,  -999.00, 9,  200,    9.0010,  -52.5541
316N200309, A20, 66, 1, 12, 12, 2, 20031016, 0104, 8.9938, -52.5578, 4669,  2500.50,   2500.5,   3.0988,  34.9524, 2,  34.9522, 2,    259.9, 2,    259.9, 2,    20.18, 2,    18.49, 2,     0.00, 2,     1.22, 2,    0.338, 2,    0.170, 2,    0.022, 2, -999.000, 9,   2165.7, 2,   2315.2, 2,  -999.00, 9,  -999.00, 9, -999.000, 9, -999.000, -999.0000, 9, -999.0000,  -999.00, 9,  -999.00, -999.000, 9, -999.000,   -999.0, 9,   -999.0,  -999.00, 9, -999.0000, 9, -999.0000, 9, -999.0000, 9, -999.0000, 9, -999.0000, 9, -999.0000, 9, -999, 9, -999, 9, -999, 9, -999, 9, -999, 9, -999, 9, -999, 9,  -999.00, 9,  -999.00, 9,  -999.00, 9,  -999.00, 9,   2.8969,  -999.00, 9,  154,    9.0000,  -52.5547
316N200309, A20, 66, 1, 11, 11, 2, 20031016, 0104, 8.9938, -52.5578, 4669,  2750.50,   2750.5,   2.8614,  34.9379, 2,  34.9380, 2,    259.6, 2,    260.2, 2,    23.37, 2,    18.76, 2,     0.00, 2,     1.25, 2,    0.280, 2,    0.136, 2,    0.016, 2, -999.000, 9,   2169.3, 2,   2318.3, 2,  -999.00, 9,  -999.00, 9, -999.000, 9, -999.000, -999.0000, 9, -999.0000,  -999.00, 9,  -999.00, -999.000, 9, -999.000,   -999.0, 9,   -999.0,  -999.00, 9, -999.0000, 9, -999.0000, 9, -999.0000, 9, -999.0000, 9, -999.0000, 9, -999.0000, 9, -999, 9, -999, 9, -999, 9, -999, 9, -999, 9, -999, 9, -999, 9,  -999.00, 9,  -999.00, 9,  -999.00, 9,  -999.00, 9,   2.6392,  -999.00, 9,  149,    8.9991,  -52.5550
316N200309, A20, 66, 1, 10, 10, 2, 20031016, 0104, 8.9938, -52.5578, 4669,  2999.50,   2999.5,   2.7460,  34.9295, 2,  34.9294, 2,    259.6, 2,    258.8, 2,    25.94, 2,    19.12, 2,     0.00, 2,     1.27, 2,    0.256, 2,    0.132, 2,    0.009, 2, -999.000, 9,   2172.8, 2,   2320.1, 2,  -999.00, 9,  -999.00, 9, -999.000, 9, -999.000, -999.0000, 9, -999.0000,  -999.00, 9,  -999.00, -999.000, 9, -999.000,   -999.0, 9,   -999.0,  -999.00, 9, -999.0000, 9, -999.0000, 9, -999.0000, 9, -999.0000, 9, -999.0000, 9, -999.0000, 9, -999, 9, -999, 9, -999, 9, -999, 9, -999, 9, -999, 9, -999, 9,  -999.00, 9,  -999.00, 9,  -999.00, 9,  -999.00, 9,   2.5008,  -999.00, 9,  144,    8.9984,  -52.5552
316N200309, A20, 66, 1, 9, 9, 2, 20031016, 0104, 8.9938, -52.5578, 4669,  3199.90,   3199.9,   2.6592,  34.9232, 2,  34.9227, 2,    259.8, 2,    260.1, 2,    26.76, 2,    19.02, 2,     0.00, 2,     1.27, 2,    0.300, 2,    0.145, 2,    0.013, 2, -999.000, 9,   2173.3, 2,   2319.7, 2,  -999.00, 9,  -999.00, 9, -999.000, 9, -999.000, -999.0000, 9, -999.0000,  -999.00, 9,  -999.00, -999.000, 9, -999.000,   -999.0, 9,   -999.0,  -999.00, 9, -999.0000, 9, -999.0000, 9, -999.0000, 9, -999.0000, 9, -999.0000, 9, -999.0000, 9, -999, 9, -999, 9, -999, 9, -999, 9, -999, 9, -999, 9, -999, 9,  -999.00, 9,  -999.00, 9,  -999.00, 9,  -999.00, 9,   2.3950,  -999.00, 9,  140,    8.9978,  -52.5555
316N200309, A20, 66, 1, 8, 8, 2, 20031016, 0104, 8.9938, -52.5578, 4669,  3399.90,   3399.9,   2.5858,  34.9176, 2,  34.9178, 2,    261.1, 2,    261.9, 2,    26.97, 2,    18.93, 2,     0.00, 2,     1.27, 2,    0.332, 2,    0.161, 2,    0.020, 2, -999.000, 9,   2172.3, 2,   2320.6, 2,  -999.00, 9,  -999.00, 9, -999.000, 9, -999.000, -999.0000, 9, -999.0000,  -999.00, 9,  -999.00, -999.000, 9, -999.000,   -999.0, 9,   -999.0,  -999.00, 9, -999.0000, 9, -999.0000, 9, -999.0000, 9, -999.0000, 9, -999.0000, 9, -999.0000, 9, -999, 9, -999, 9, -999, 9, -999, 9, -999, 9, -999, 9, -999, 9,  -999.00, 9,  -999.00, 9,  -999.00, 9,  -999.00, 9,   2.3020,  -999.00, 9,  136,    8.9973,  -52.5558
316N200309, A20, 66, 1, 7, 7, 2, 20031016, 0104, 8.9938, -52.5578, 4669,  3600.30,   3600.3,   2.5135,  34.9122, 2,  34.9115, 2,    262.4, 2,    262.3, 2,    27.27, 2,    18.87, 2,     0.00, 2,     1.26, 2,    0.369, 2,    0.199, 2,    0.015, 2, -999.000, 9,   2173.6, 2,   2319.4, 2,  -999.00, 9,  -999.00, 9, -999.000, 9, -999.000, -999.0000, 9, -999.0000,  -999.00, 9,  -999.00, -999.000, 9, -999.000,   -999.0, 9,   -999.0,  -999.00, 9, -999.0000, 9, -999.0000, 9, -999.0000, 9, -999.0000, 9, -999.0000, 9, -999.0000, 9, -999, 9, -999, 9, -999, 9, -999, 9, -999, 9, -999, 9, -999, 9,  -999.00, 9,  -999.00, 9,  -999.00, 9,  -999.00, 9,   2.2097,  -999.00, 9,  131,    8.9968,  -52.5562
316N200309, A20, 66, 1, 6, 6, 2, 20031016, 0104, 8.9938, -52.5578, 4669,  3799.50,   3799.5,   2.4483,  34.9073, 2,  34.9073, 2,    263.8, 2,    264.9, 2,    27.37, 2,    18.68, 2,     0.00, 2,     1.26, 2,    0.433, 2,    0.212, 2,    0.025, 2, -999.000, 9,   2173.8, 2,   2320.3, 2,  -999.00, 9,  -999.00, 9, -999.000, 9, -999.000, -999.0000, 9, -999.0000,  -999.00, 9,  -999.00, -999.000, 9, -999.000,   -999.0, 9,   -999.0,  -999.00, 9, -999.0000, 9, -999.0000, 9, -999.0000, 9, -999.0000, 9, -999.0000, 9, -999.0000, 9, -999, 9, -999, 9, -999, 9, -999, 9, -999, 9, -999, 9, -999, 9,  -999.00, 9,  -999.00, 9,  -999.00, 9,  -999.00, 9,   2.1242,  -999.00, 9,  127,    8.9962,  -52.5565
316N200309, A20, 66, 1, 5, 5, 2, 20031016, 0104, 8.9938, -52.5578, 4669,  4000.10,   4000.1,   2.4097,  34.9035, 2,  34.9034, 2,    264.3, 2,    264.5, 2,    27.88, 2,    18.67, 2,     0.00, 2,     1.25, 2,    0.440, 2,    0.219, 2,    0.024, 2,    0.435, 2,   2173.9, 2,   2320.4, 2,  -999.00, 9,  -999.00, 9, -999.000, 9, -999.000, -999.0000, 9, -999.0000,  -999.00, 9,  -999.00, -999.000, 9, -999.000,   -999.0, 9,   -999.0,  -999.00, 9, -999.0000, 9, -999.0000, 9, -999.0000, 9, -999.0000, 9, -999.0000, 9, -999.0000, 9, -999, 9, -999, 9, -999, 9, -999, 9, -999, 9, -999, 9, -999, 9,  -999.00, 9,  -999.00, 9,  -999.00, 9,  -999.00, 9,   2.0639,  -999.00, 9,  123,    8.9956,  -52.5567
316N200309, A20, 66, 1, 4, 4, 2, 20031016, 0104, 8.9938, -52.5578, 4669,  4201.00,   4201.0,   2.3589,  34.8989, 2,  34.8997, 2,    263.7, 2,    263.9, 2,    29.53, 2,    18.90, 2,     0.00, 2,     1.26, 2,    0.392, 2,    0.197, 2,    0.020, 2, -999.000, 9,   2174.6, 2,   2321.5, 2,  -999.00, 9,  -999.00, 9, -999.000, 9, -999.000, -999.0000, 9, -999.0000,  -999.00, 9,  -999.00, -999.000, 9, -999.000,   -999.0, 9,   -999.0,  -999.00, 9, -999.0000, 9, -999.0000, 9, -999.0000, 9, -999.0000, 9, -999.0000, 9, -999.0000, 9, -999, 9, -999, 9, -999, 9, -999, 9, -999, 9, -999, 9, -999, 9,  -999.00, 9,  -999.00, 9,  -999.00, 9,  -999.00, 9,   1.9913,  -999.00, 9,  118,    8.9951,  -52.5570
316N200309, A20, 66, 1, 3, 3, 2, 20031016, 0104, 8.9938, -52.5578, 4669,  4400.70,   4400.7,   2.3056,  34.8930, 2,  34.8922, 2,    262.5, 2,    261.4, 2,    32.11, 2,    19.21, 2,     0.00, 2,     1.30, 2,    0.325, 2,    0.162, 2,    0.016, 2, -999.000, 9,   2178.4, 2,   2325.2, 2,  -999.00, 9,  -999.00, 9, -999.000, 9, -999.000, -999.0000, 9, -999.0000,  -999.00, 9,  -999.00, -999.000, 9, -999.000,   -999.0, 9,   -999.0,  -999.00, 9, -999.0000, 9, -999.0000, 9, -999.0000, 9, -999.0000, 9, -999.0000, 9, -999.0000, 9, -999, 9, -999, 9, -999, 9, -999, 9, -999, 9, -999, 9, -999, 9,  -999.00, 9,  -999.00, 9,  -999.00, 9,  -999.00, 9,   1.9162,  -999.00, 9,  114,    8.9946,  -52.5573
316N200309, A20, 66, 1, 2, 2, 2, 20031016, 0104, 8.9938, -52.5578, 4669,  4500.40,   4500.4,   2.2784,  34.8892, 2,  34.8890, 2,    261.7, 2,    260.2, 2,    33.97, 2,    19.48, 2,     0.00, 2,     1.31, 2,    0.300, 2,    0.145, 2,    0.010, 2, -999.000, 9,   2180.0, 2,   2327.2, 2,  -999.00, 9,  -999.00, 9, -999.000, 9, -999.000, -999.0000, 9, -999.0000,  -999.00, 9,  -999.00, -999.000, 9, -999.000,   -999.0, 9,   -999.0,  -999.00, 9, -999.0000, 9, -999.0000, 9, -999.0000, 9, -999.0000, 9, -999.0000, 9, -999.0000, 9, -999, 9, -999, 9, -999, 9, -999, 9, -999, 9, -999, 9, -999, 9,  -999.00, 9,  -999.00, 9,  -999.00, 9,  -999.00, 9,   1.8779,  -999.00, 9,  111,    8.9944,  -52.5574
316N200309, A20, 66, 1, 1, 1, 2, 20031016, 0104, 8.9938, -52.5578, 4669,  4714.60,   4714.6,   2.0166,  34.8551, 2,  34.8566, 2,    252.7, 2,   -999.0, 5,    51.06, 2,    22.01, 2,     0.00, 2,     1.50, 2,    0.151, 2,    0.085, 2,    0.007, 2, -999.000, 9,   2200.9, 2,   2341.3, 2,  -999.00, 9,  -999.00, 9, -999.000, 9, -999.000, -999.0000, 9, -999.0000,  -999.00, 9,  -999.00, -999.000, 9, -999.000,   -999.0, 9,   -999.0,  -999.00, 9, -999.0000, 9, -999.0000, 9, -999.0000, 9, -999.0000, 9, -999.0000, 9, -999.0000, 9, -999, 9, -999, 9, -999, 9, -999, 9, -999, 9, -999, 9, -999, 9,  -999.00, 9,  -999.00, 9,  -999.00, 9,  -999.00, 9,   1.5987,  -999.00, 9,  105,    8.9938,  -52.5577