BOTTLE,20220816CCHSIOAMB
EXPOCODE,SECT_ID,STNNBR,CASTNO,SAMPNO,BTLNBR,BTLNBR_FLAG_W,DATE,TIME,LATITUDE,LONGITUDE,DEPTH,CTDRAW,CTDPRS,CTDTMP,CTDSAL,CTDSAL_FLAG_W,SALNTY,SALNTY_FLAG_W,CTDOXY,CTDOXY_FLAG_W,OXYGEN,OXYGEN_FLAG_W,SILCAT,SILCAT_FLAG_W,NITRAT,NITRAT_FLAG_W,NITRIT,NITRIT_FLAG_W,PHSPHT,PHSPHT_FLAG_W,CFC-11,CFC-11_FLAG_W,CFC-12,CFC-12_FLAG_W,CFC113,CFC113_FLAG_W,CCL4,CCL4_FLAG_W,TCARBN,TCARBN_FLAG_W,ALKALI,ALKALI_FLAG_W,DOC,DOC_FLAG_W,TDN,TDN_FLAG_W,TRITUM,TRITUM_FLAG_W,TRITER,HELIUM,HELIUM_FLAG_W,HELIER,DELHE3,DELHE3_FLAG_W,DELHER,NEON,NEON_FLAG_W,NEONER,DELC14,DELC14_FLAG_W,C14ERR,DELC13,DELC13_FLAG_W,CDOM325,CDOM325_FLAG_W,CDOM340,CDOM340_FLAG_W,CDOM380,CDOM380_FLAG_W,CDOM412,CDOM412_FLAG_W,CDOMSL,CDOMSL_FLAG_W,CDOMSN,CDOMSN_FLAG_W,DCNS,DCNS_FLAG_W,ARABI,ARABI_FLAG_W,FUCO,FUCO_FLAG_W,GALA,GALA_FLAG_W,GLUC,GLUC_FLAG_W,MAN,MAN_FLAG_W,RHAM,RHAM_FLAG_W,BRDU,BRDU_FLAG_W,PEUK,PEUK_FLAG_W,PROC,PROC_FLAG_W,SYN,SYN_FLAG_W,THETA,BACT,BACT_FLAG_W,BTL_TIME,BTL_LAT,BTL_LON
,,,,,,,,,,,METERS,DBAR,DBAR,ITS-90,PSS-78,,PSS-78,,UMOL/KG,,UMOL/KG,,UMOL/KG,,UMOL/KG,,UMOL/KG,,UMOL/KG,,PMOL/KG,,PMOL/KG,,PMOL/KG,,PMOL/KG,,UMOL/KG,,UMOL/KG,,UMOL/KG,,UMOL/KG,,TU,,TU,NMOL/KG,,NMOL/KG,PERCNT,,PERCNT,NMOL/KG,,NMOL/KG,/MILLE,,/MILLE,/MILLE,,1/M,,1/M,,1/M,,1/M,,1/NM,,1/NM,,NMOL/KG,,NMOL/KG,,NMOL/KG,,NMOL/KG,,NMOL/KG,,NMOL/KG,,NMOL/KG,,PMOL/L/H,,E6/L,,E7/L,,E6/L,,DEG C,E8/L,,,,
316N200309, A20, 27, 1, 36, 36, 2, 20031001, 1625, 34.9062, -52.3640, 5534,    15.70,     15.7,  25.7947,  36.7829, 2,  36.7835, 2,    200.4, 2,    206.5, 2,     0.61, 2,     0.21, 2,     0.00, 2,     0.02, 2,    1.717, 2,    1.089, 2,    0.105, 2,    1.911, 2,   2054.5, 2,   2402.1, 2,    67.40, 2,     4.60, 2, -999.000, 9, -999.000, -999.0000, 9, -999.0000,  -999.00, 9,  -999.00, -999.000, 9, -999.000,   -999.0, 9,   -999.0,  -999.00, 9,    0.0750, 2,    0.0490, 2,    0.0210, 2,    0.0190, 2,    0.0260, 2,    0.0280, 2, 1954, 4, 45, 2, 318, 2, 494, 2, 242, 2, 660, 2, 196, 2,     0.06, 2,     0.99, 2,     6.57, 2,     2.11, 2,  25.7912,     1.99, 2, 1835,   34.9296,  -52.3543
316N200309, A20, 27, 1, 35, 35, 2, 20031001, 1625, 34.9062, -52.3640, 5534,    25.80,     25.8,  25.7535,  36.7975, 2,  36.7944, 2,    200.0, 2,    206.3, 2,     0.59, 2,     0.21, 2,     0.00, 2,     0.01, 2,    1.729, 2,    1.090, 2,    0.110, 2,    2.626, 2,   2055.4, 2,   2402.5, 2,    69.00, 2,     5.70, 2, -999.000, 9, -999.000, -999.0000, 9, -999.0000,  -999.00, 9,  -999.00, -999.000, 9, -999.000,   -999.0, 9,   -999.0,  -999.00, 9,    0.0790, 2,    0.0510, 2,    0.0210, 2,    0.0170, 2,    0.0270, 2,    0.0290, 2, 2629, 4, 160, 2, 355, 2, 651, 2, 361, 2, 877, 2, 226, 2,     0.03, 2,     0.40, 2,     6.03, 2,     2.29, 2,  25.7478,     1.89, 2, 1834,   34.9293,  -52.3545
316N200309, A20, 27, 1, 34, 34, 2, 20031001, 1625, 34.9062, -52.3640, 5534,    75.10,     75.1,  20.3072,  36.5653, 2,  36.5668, 2,    239.1, 2,    234.5, 2,     0.66, 2,     0.20, 2,     0.00, 2,     0.01, 2,    2.242, 2,    1.364, 2,    0.119, 2,    1.300, 2,   2067.5, 2,   2388.6, 2,    61.50, 2,     4.50, 2, -999.000, 9, -999.000, -999.0000, 9, -999.0000,  -999.00, 9,  -999.00, -999.000, 9, -999.000,   -999.0, 9,   -999.0,  -999.00, 9,    0.2130, 2,    0.1510, 2,    0.0700, 2,    0.0500, 2,    0.0150, 2,    0.0180, 2, 1817, 4, 77, 2, 217, 2, 380, 2, 341, 2, 648, 2, 154, 2,     0.11, 2,     0.83, 2,    11.12, 2,     3.32, 2,  20.2931,     2.43, 2, 1832,   34.9289,  -52.3548
316N200309, A20, 27, 1, 33, 33, 2, 20031001, 1625, 34.9062, -52.3640, 5534,    98.80,     98.8,  19.1298,  36.5511, 2,  36.5519, 2,    221.9, 2,    229.5, 2,     0.75, 2,     0.19, 2,     0.02, 2,     0.02, 2,    2.292, 2,    1.372, 2,    0.115, 2,    1.179, 2,   2079.1, 2,   2380.4, 2,    58.70, 2,     4.50, 2, -999.000, 9, -999.000, -999.0000, 9, -999.0000,  -999.00, 9,  -999.00, -999.000, 9, -999.000,   -999.0, 9,   -999.0,  -999.00, 9,    0.1730, 2,    0.1260, 2,    0.0590, 2,    0.0450, 2,    0.0150, 2,    0.0170, 2, 1318, 4, 71, 2, 171, 2, 258, 2, 257, 2, 425, 2, 135, 2,     0.04, 2,     1.91, 2,     4.66, 2,     0.19, 2,  19.1119,     1.64, 2, 1831,   34.9286,  -52.3549
316N200309, A20, 27, 1, 32, 32, 2, 20031001, 1625, 34.9062, -52.3640, 5534,   125.60,    125.6,  18.6627,  36.5525, 2,  36.5533, 2,    207.9, 2,    211.6, 2,     1.03, 2,     1.27, 2,     0.08, 2,     0.05, 2,    2.305, 2,    1.391, 2,    0.113, 2,    1.053, 2,   2093.6, 2,   2386.3, 2,    57.10, 2,     5.30, 2, -999.000, 9, -999.000, -999.0000, 9, -999.0000,  -999.00, 9,  -999.00, -999.000, 9, -999.000,   -999.0, 9,   -999.0,  -999.00, 9,    0.1270, 2,    0.0940, 2,    0.0440, 2,    0.0350, 2,    0.0150, 2,    0.0170, 2, -999, 9, -999, 9, -999, 9, -999, 9, -999, 9, -999, 9, -999, 9,     0.03, 2,     1.36, 2,     2.36, 2,     0.00, 2,  18.6404,     0.99, 2, 1829,   34.9283,  -52.3551
316N200309, A20, 27, 1, 31, 31, 2, 20031001, 1625, 34.9062, -52.3640, 5534,   176.20,    176.2,  18.2071,  36.5288, 2,  36.5295, 2,    200.5, 2,    203.6, 2,     1.49, 2,     3.80, 2,     0.01, 2,     0.18, 2,    2.300, 2,    1.365, 2,    0.072, 2,    0.815, 2,   2100.5, 2,   2383.3, 2,    57.50, 2,     7.00, 2, -999.000, 9, -999.000, -999.0000, 9, -999.0000,  -999.00, 9,  -999.00, -999.000, 9, -999.000,   -999.0, 9,   -999.0,  -999.00, 9, -999.0000, 9, -999.0000, 9, -999.0000, 9, -999.0000, 9, -999.0000, 9, -999.0000, 9, -999, 9, -999, 9, -999, 9, -999, 9, -999, 9, -999, 9, -999, 9,     0.01, 2,     0.14, 2,     0.10, 2,     0.00, 2,  18.1763,     0.74, 2, 1828,   34.9280,  -52.3552
316N200309, A20, 27, 1, 30, 30, 2, 20031001, 1625, 34.9062, -52.3640, 5534,   226.20,    226.2,  17.7544,  36.4798, 2,  36.4798, 2,    200.5, 2,    204.1, 2,     1.67, 2,     4.63, 2,     0.01, 2,     0.22, 2,    2.324, 2,    1.354, 2,    0.059, 2,    0.791, 2,   2104.3, 2,   2381.3, 2,    50.50, 2,     8.30, 2, -999.000, 9, -999.000, -999.0000, 9, -999.0000,  -999.00, 9,  -999.00, -999.000, 9, -999.000,   -999.0, 9,   -999.0,  -999.00, 9,    0.0840, 2,    0.0580, 2,    0.0250, 2,    0.0180, 2,    0.0230, 2,    0.0240, 2, 558, 4, 34, 2, 67, 2, 89, 2, 237, 2, 90, 2, 42, 2,     0.06, 2,  -999.00, 9,  -999.00, 9,  -999.00, 9,  17.7155,  -999.00, 9, 1826,   34.9277,  -52.3554
316N200309, A20, 27, 1, 29, 29, 2, 20031001, 1625, 34.9062, -52.3640, 5534,   276.40,    276.4,  17.2802,  36.4044, 2,  36.4051, 2,    197.3, 2,    199.3, 2,     2.04, 2,     5.74, 2,     0.01, 2,     0.29, 2,    2.347, 2,    1.372, 2,    0.048, 2,    0.726, 2,   2110.1, 2,   2377.3, 2,    51.60, 2,     9.40, 2, -999.000, 9, -999.000, -999.0000, 9, -999.0000,  -999.00, 9,  -999.00, -999.000, 9, -999.000,   -999.0, 9,   -999.0,  -999.00, 9,    0.1000, 2,    0.0700, 2,    0.0310, 2,    0.0220, 2,    0.0210, 2,    0.0220, 2, -999, 9, -999, 9, -999, 9, -999, 9, -999, 9, -999, 9, -999, 9,     0.08, 2,  -999.00, 9,  -999.00, 9,  -999.00, 9,  17.2335,  -999.00, 9, 1824,   34.9274,  -52.3557
316N200309, A20, 27, 1, 28, 28, 2, 20031001, 1625, 34.9062, -52.3640, 5534,   351.30,    351.3,  16.4855,  36.2730, 2,  36.2736, 2,    198.4, 2,    199.2, 2,     2.61, 2,     7.15, 2,     0.01, 2,     0.39, 2,    2.322, 2,    1.369, 2,    0.065, 2,    0.830, 2,   2117.7, 2,   2370.0, 2,    49.80, 2,  -999.00, 9, -999.000, 9, -999.000, -999.0000, 9, -999.0000,  -999.00, 9,  -999.00, -999.000, 9, -999.000,   -999.0, 9,   -999.0,  -999.00, 9,    0.1020, 2,    0.0710, 2,    0.0300, 2,    0.0220, 2,    0.0220, 2,    0.0230, 2, 624, 4, 35, 2, 62, 2, 76, 2, 308, 4, 93, 2, 50, 2,  -999.00, 9,  -999.00, 9,  -999.00, 9,  -999.00, 9,  16.4280,  -999.00, 9, 1822,   34.9269,  -52.3559
316N200309, A20, 27, 1, 27, 27, 2, 20031001, 1625, 34.9062, -52.3640, 5534,   450.00,    450.0,  15.4806,  36.1126, 2,  36.1114, 2,    196.1, 2,    198.1, 2,     3.17, 2,     8.75, 2,     0.00, 2,     0.50, 2,    2.370, 2,    1.328, 2,    0.053, 2,    0.658, 2,   2123.9, 2,   2362.4, 2,    49.40, 2,  -999.00, 9, -999.000, 9, -999.000, -999.0000, 9, -999.0000,  -999.00, 9,  -999.00, -999.000, 9, -999.000,   -999.0, 9,   -999.0,  -999.00, 9,    0.1120, 2,    0.0780, 2,    0.0350, 2,    0.0240, 2,    0.0210, 2,    0.0220, 2, 349, 4, 32, 2, 61, 2, 71, 2, 69, 2, 75, 2, 41, 2,  -999.00, 9,  -999.00, 9,  -999.00, 9,  -999.00, 9,  15.4098,  -999.00, 9, 1820,   34.9265,  -52.3563
316N200309, A20, 27, 1, 26, 26, 2, 20031001, 1625, 34.9062, -52.3640, 5534,   551.50,    551.5,  13.5378,  35.7627, 2,  35.7629, 2,    182.2, 2,    182.4, 2,     5.60, 2,    13.28, 2,     0.00, 2,     0.80, 2, -999.000, 9, -999.000, 9, -999.000, 9, -999.000, 9,   2142.9, 2,   2345.4, 2,    50.80, 2,  -999.00, 9, -999.000, 9, -999.000, -999.0000, 9, -999.0000,  -999.00, 9,  -999.00, -999.000, 9, -999.000,   -999.0, 9,   -999.0,  -999.00, 9,    0.1260, 2,    0.0900, 2,    0.0410, 2,    0.0290, 2,    0.0180, 2,    0.0200, 2, -999, 9, -999, 9, -999, 9, -999, 9, -999, 9, -999, 9, -999, 9,  -999.00, 9,  -999.00, 9,  -999.00, 9,  -999.00, 9,  13.4584,  -999.00, 9, 1817,   34.9260,  -52.3566
316N200309, A20, 27, 1, 25, 25, 2, 20031001, 1625, 34.9062, -52.3640, 5534,   679.60,    679.6,  11.4429,  35.4962, 2,  35.4973, 2,    162.1, 2,    161.5, 2,     9.01, 2,    18.59, 2,     0.00, 2,     1.14, 2,    1.611, 2,    0.853, 2,    0.019, 2,    0.366, 2,   2166.9, 2,   2329.8, 2,    46.80, 2,  -999.00, 9, -999.000, 9, -999.000, -999.0000, 9, -999.0000,  -999.00, 9,  -999.00, -999.000, 9, -999.000,   -999.0, 9,   -999.0,  -999.00, 9,    0.1300, 2,    0.0900, 2,    0.0400, 2,    0.0310, 2,    0.0170, 2,    0.0200, 2, -999, 9, -999, 9, -999, 9, -999, 9, -999, 9, -999, 9, -999, 9,  -999.00, 9,  -999.00, 9,  -999.00, 9,  -999.00, 9,  11.3546,  -999.00, 9, 1814,   34.9254,  -52.3568
316N200309, A20, 27, 1, 24, 24, 2, 20031001, 1625, 34.9062, -52.3640, 5534,   902.90,    902.9,   8.1276,  35.2962, 2,  35.2944, 2,    186.7, 2,    185.6, 2,    12.03, 2,    20.11, 2,     0.00, 2,     1.29, 2,    1.292, 2,    0.673, 2,    0.027, 2,    0.704, 2,   2179.8, 2,   2324.9, 2,    44.10, 2,  -999.00, 9, -999.000, 9, -999.000, -999.0000, 9, -999.0000,  -999.00, 9,  -999.00, -999.000, 9, -999.000,   -999.0, 9,   -999.0,  -999.00, 9,    0.1300, 2,    0.0930, 2,    0.0440, 2,    0.0410, 3,    0.0120, 3,    0.0150, 3, -999, 9, -999, 9, -999, 9, -999, 9, -999, 9, -999, 9, -999, 9,  -999.00, 9,  -999.00, 9,  -999.00, 9,  -999.00, 9,   8.0309,  -999.00, 9, 1809,   34.9245,  -52.3571
316N200309, A20, 27, 1, 23, 23, 2, 20031001, 1625, 34.9062, -52.3640, 5534,  1125.40,   1125.4,   5.7564,  35.0971, 2,  35.0984, 2,    229.8, 2,    223.0, 4,    12.41, 2,    19.28, 2,     0.00, 2,     1.25, 2,    1.791, 2,    0.926, 2,    0.089, 2,    1.702, 2,   2173.0, 2,   2314.3, 2,    45.20, 2,  -999.00, 9, -999.000, 9, -999.000, -999.0000, 9, -999.0000,  -999.00, 9,  -999.00, -999.000, 9, -999.000,   -999.0, 9,   -999.0,  -999.00, 9, -999.0000, 9, -999.0000, 9, -999.0000, 9, -999.0000, 9, -999.0000, 9, -999.0000, 9, 328, 4, 50, 2, 31, 2, 66, 2, 76, 2, 68, 2, 37, 2,  -999.00, 9,  -999.00, 9,  -999.00, 9,  -999.00, 9,   5.6541,  -999.00, 9, 1805,   34.9235,  -52.3575
316N200309, A20, 27, 1, 22, 22, 2, 20031001, 1625, 34.9062, -52.3640, 5534,  1274.70,   1274.7,   4.8331,  35.0247, 2,  35.0238, 2,    240.8, 2,    257.4, 4,    12.00, 2,    18.44, 2,     0.00, 2,     1.20, 2,    2.105, 2,    1.085, 2,    0.103, 2,    2.228, 2,   2167.7, 2,   2309.3, 2,    44.10, 2,  -999.00, 9, -999.000, 9, -999.000, -999.0000, 9, -999.0000,  -999.00, 9,  -999.00, -999.000, 9, -999.000,   -999.0, 9,   -999.0,  -999.00, 9, -999.0000, 9, -999.0000, 9, -999.0000, 9, -999.0000, 9, -999.0000, 9, -999.0000, 9, -999, 9, -999, 9, -999, 9, -999, 9, -999, 9, -999, 9, -999, 9,  -999.00, 9,  -999.00, 9,  -999.00, 9,  -999.00, 9,   4.7249,  -999.00, 9, 1801,   34.9227,  -52.3578
316N200309, A20, 27, 1, 21, 21, 2, 20031001, 1625, 34.9062, -52.3640, 5534,  1400.70,   1400.7,   4.5571,  35.0175, 2,  35.0169, 2,    249.9, 2,    256.8, 4,    12.18, 2,    18.24, 2,     0.00, 2,     1.19, 2,    1.934, 2,    1.011, 2,    0.118, 2,    2.264, 2,   2164.6, 2,   2308.5, 2,    45.20, 2,  -999.00, 9, -999.000, 9, -999.000, -999.0000, 9, -999.0000,  -999.00, 9,  -999.00, -999.000, 9, -999.000,   -999.0, 9,   -999.0,  -999.00, 9,    0.1410, 2,    0.1020, 2,    0.0500, 2,    0.0420, 2,    0.0130, 2,    0.0160, 2, -999, 9, -999, 9, -999, 9, -999, 9, -999, 9, -999, 9, -999, 9,  -999.00, 9,  -999.00, 9,  -999.00, 9,  -999.00, 9,   4.4398,  -999.00, 9, 1758,   34.9220,  -52.3581
316N200309, A20, 27, 1, 19, 19, 2, 20031001, 1625, 34.9062, -52.3640, 5534,  1499.80,   1499.8,   4.4362,  35.0172, 2,  35.0167, 2,    253.7, 2,    256.1, 4,    12.44, 2,    18.18, 2,     0.00, 2,     1.19, 2,    1.733, 2,    0.886, 2,    0.093, 2,    2.111, 2,   2163.8, 2,   2309.1, 2,  -999.00, 9,  -999.00, 9, -999.000, 9, -999.000, -999.0000, 9, -999.0000,  -999.00, 9,  -999.00, -999.000, 9, -999.000,   -999.0, 9,   -999.0,  -999.00, 9, -999.0000, 9, -999.0000, 9, -999.0000, 9, -999.0000, 9, -999.0000, 9, -999.0000, 9, -999, 9, -999, 9, -999, 9, -999, 9, -999, 9, -999, 9, -999, 9,  -999.00, 9,  -999.00, 9,  -999.00, 9,  -999.00, 9,   4.3110,  -999.00, 9, 1755,   34.9215,  -52.3583
316N200309, A20, 27, 1, 20, 20, 2, 20031001, 1625, 34.9062, -52.3640, 5534,  1500.10,   1500.1,   4.4359,  35.0172, 2,  35.0163, 2,    253.7, 2,    256.8, 4,    12.45, 2,    18.18, 2,     0.00, 2,     1.19, 2,    1.755, 6,    0.885, 6,    0.097, 2,    2.108, 2,   2165.9, 2,   2309.0, 2,    45.60, 2,  -999.00, 9, -999.000, 9, -999.000, -999.0000, 9, -999.0000,  -999.00, 9,  -999.00, -999.000, 9, -999.000,   -999.0, 9,   -999.0,  -999.00, 9,    0.1230, 2,    0.0890, 2,    0.0440, 2,    0.0400, 2,    0.0120, 2,    0.0150, 2, -999, 9, -999, 9, -999, 9, -999, 9, -999, 9, -999, 9, -999, 9,  -999.00, 9,  -999.00, 9,  -999.00, 9,  -999.00, 9,   4.3107,  -999.00, 9, 1755,   34.9215,  -52.3583
316N200309, A20, 27, 1, 18, 18, 2, 20031001, 1625, 34.9062, -52.3640, 5534,  1624.80,   1624.8,   4.1670,  34.9939, 2,  34.9937, 2,    258.3, 2,    260.5, 2,    12.72, 2,    18.03, 2,     0.00, 2,     1.18, 2,    1.684, 2,    0.870, 2,    0.095, 2,    2.161, 2,   2164.2, 2,   2307.8, 2,    44.30, 2,  -999.00, 9, -999.000, 9, -999.000, -999.0000, 9, -999.0000,  -999.00, 9,  -999.00, -999.000, 9, -999.000,   -999.0, 9,   -999.0,  -999.00, 9,    0.1470, 2,    0.1060, 2,    0.0550, 2,    0.0460, 2,    0.0120, 3,    0.0150, 3, -999, 9, -999, 9, -999, 9, -999, 9, -999, 9, -999, 9, -999, 9,  -999.00, 9,  -999.00, 9,  -999.00, 9,  -999.00, 9,   4.0332,  -999.00, 9, 1752,   34.9208,  -52.3584
316N200309, A20, 27, 1, 17, 17, 2, 20031001, 1625, 34.9062, -52.3640, 5534,  1774.20,   1774.2,   3.9790,  34.9828, 2,  34.9823, 2,    262.1, 2,    262.2, 2,    13.20, 2,    18.03, 2,     0.00, 2,     1.18, 2,    1.520, 2,    0.763, 2,    0.049, 2,    2.050, 2,   2161.5, 2,   2307.7, 2,  -999.00, 9,  -999.00, 9, -999.000, 9, -999.000, -999.0000, 9, -999.0000,  -999.00, 9,  -999.00, -999.000, 9, -999.000,   -999.0, 9,   -999.0,  -999.00, 9, -999.0000, 9, -999.0000, 9, -999.0000, 9, -999.0000, 9, -999.0000, 9, -999.0000, 9, -999, 9, -999, 9, -999, 9, -999, 9, -999, 9, -999, 9, -999, 9,  -999.00, 9,  -999.00, 9,  -999.00, 9,  -999.00, 9,   3.8335,  -999.00, 9, 1749,   34.9201,  -52.3585
316N200309, A20, 27, 1, 16, 16, 2, 20031001, 1625, 34.9062, -52.3640, 5534,  1899.50,   1899.5,   3.7972,  34.9690, 2,  34.9689, 2,    264.4, 2,    264.8, 2,    13.57, 2,    17.88, 2,     0.00, 2,     1.18, 2,    1.469, 2,    0.730, 2,    0.096, 2,    2.041, 2,   2161.4, 2,   2306.3, 2,  -999.00, 9,  -999.00, 9, -999.000, 9, -999.000, -999.0000, 9, -999.0000,  -999.00, 9,  -999.00, -999.000, 9, -999.000,   -999.0, 9,   -999.0,  -999.00, 9, -999.0000, 9, -999.0000, 9, -999.0000, 9, -999.0000, 9, -999.0000, 9, -999.0000, 9, -999, 9, -999, 9, -999, 9, -999, 9, -999, 9, -999, 9, -999, 9,  -999.00, 9,  -999.00, 9,  -999.00, 9,  -999.00, 9,   3.6423,  -999.00, 9, 1746,   34.9195,  -52.3587
316N200309, A20, 27, 1, 15, 15, 2, 20031001, 1625, 34.9062, -52.3640, 5534,  2116.10,   2116.1,   3.5429,  34.9481, 2,  34.9480, 2,    267.5, 2,    268.6, 2,    14.24, 2,    17.72, 2,     0.00, 2,     1.17, 2,    1.518, 2,    0.778, 2,    0.080, 2,    2.093, 2,   2159.4, 2,   2306.2, 2,    44.20, 2,  -999.00, 9, -999.000, 9, -999.000, -999.0000, 9, -999.0000,  -999.00, 9,  -999.00, -999.000, 9, -999.000,   -999.0, 9,   -999.0,  -999.00, 9,    0.1240, 2,    0.0920, 2,    0.0500, 2,    0.0430, 2,    0.0110, 2,    0.0130, 2, -999, 9, -999, 9, -999, 9, -999, 9, -999, 9, -999, 9, -999, 9,  -999.00, 9,  -999.00, 9,  -999.00, 9,  -999.00, 9,   3.3710,  -999.00, 9, 1742,   34.9185,  -52.3589
316N200309, A20, 27, 1, 14, 14, 2, 20031001, 1625, 34.9062, -52.3640, 5534,  2376.30,   2376.3,   3.4245,  34.9603, 2,  34.9599, 2,    264.9, 2,    264.5, 2,    16.98, 2,    18.02, 2,     0.00, 2,     1.20, 2,    0.879, 2,    0.462, 2,    0.038, 2,    1.433, 2,   2162.4, 2,   2310.2, 2,  -999.00, 9,  -999.00, 9, -999.000, 9, -999.000, -999.0000, 9, -999.0000,  -999.00, 9,  -999.00, -999.000, 9, -999.000,   -999.0, 9,   -999.0,  -999.00, 9, -999.0000, 9, -999.0000, 9, -999.0000, 9, -999.0000, 9, -999.0000, 9, -999.0000, 9, -999, 9, -999, 9, -999, 9, -999, 9, -999, 9, -999, 9, -999, 9,  -999.00, 9,  -999.00, 9,  -999.00, 9,  -999.00, 9,   3.2292,  -999.00, 9, 1737,   34.9175,  -52.3594
316N200309, A20, 27, 1, 13, 13, 2, 20031001, 1625, 34.9062, -52.3640, 5534,  2624.60,   2624.6,   3.2528,  34.9559, 2,  34.9549, 2,    262.7, 2,    263.4, 2,    19.03, 2,    18.21, 2,     0.00, 2,     1.22, 2,    0.647, 2,    0.357, 2,    0.024, 2,    1.149, 2,   2162.7, 2,   2311.2, 2,    43.00, 2,  -999.00, 9, -999.000, 9, -999.000, -999.0000, 9, -999.0000,  -999.00, 9,  -999.00, -999.000, 9, -999.000,   -999.0, 9,   -999.0,  -999.00, 9,    0.1110, 2,    0.0840, 2,    0.0460, 2,    0.0440, 3,    0.0090, 3,    0.0120, 3, -999, 9, -999, 9, -999, 9, -999, 9, -999, 9, -999, 9, -999, 9,  -999.00, 9,  -999.00, 9,  -999.00, 9,  -999.00, 9,   3.0357,  -999.00, 9, 1731,   34.9165,  -52.3598
316N200309, A20, 27, 1, 12, 12, 2, 20031001, 1625, 34.9062, -52.3640, 5534,  2875.60,   2875.6,   3.0535,  34.9477, 2,  34.9469, 2,    262.6, 2,    263.0, 2,    21.29, 2,    18.46, 2,     0.00, 2,     1.23, 2,    0.513, 2,    0.260, 2,    0.017, 2,    0.940, 2,   2166.0, 2,   2314.3, 2,  -999.00, 9,  -999.00, 9, -999.000, 9, -999.000, -999.0000, 9, -999.0000,  -999.00, 9,  -999.00, -999.000, 9, -999.000,   -999.0, 9,   -999.0,  -999.00, 9, -999.0000, 9, -999.0000, 9, -999.0000, 9, -999.0000, 9, -999.0000, 9, -999.0000, 9, -999, 9, -999, 9, -999, 9, -999, 9, -999, 9, -999, 9, -999, 9,  -999.00, 9,  -999.00, 9,  -999.00, 9,  -999.00, 9,   2.8146,  -999.00, 9, 1726,   34.9155,  -52.3601
316N200309, A20, 27, 1, 11, 11, 2, 20031001, 1625, 34.9062, -52.3640, 5534,  3124.10,   3124.1,   2.8041,  34.9336, 2,  34.9329, 2,    263.9, 2,    263.8, 2,    23.65, 2,    18.56, 2,     0.00, 2,     1.24, 2,    0.433, 2,    0.230, 2,    0.019, 2,    0.853, 2,   2165.9, 2,   2318.0, 2,  -999.00, 9,  -999.00, 9, -999.000, 9, -999.000, -999.0000, 9, -999.0000,  -999.00, 9,  -999.00, -999.000, 9, -999.000,   -999.0, 9,   -999.0,  -999.00, 9, -999.0000, 9, -999.0000, 9, -999.0000, 9, -999.0000, 9, -999.0000, 9, -999.0000, 9, -999, 9, -999, 9, -999, 9, -999, 9, -999, 9, -999, 9, -999, 9,  -999.00, 9,  -999.00, 9,  -999.00, 9,  -999.00, 9,   2.5446,  -999.00, 9, 1721,   34.9145,  -52.3603