BOTTLE,20220816CCHSIOAMB
EXPOCODE,SECT_ID,STNNBR,CASTNO,SAMPNO,BTLNBR,BTLNBR_FLAG_W,DATE,TIME,LATITUDE,LONGITUDE,DEPTH,CTDRAW,CTDPRS,CTDTMP,CTDSAL,CTDSAL_FLAG_W,SALNTY,SALNTY_FLAG_W,CTDOXY,CTDOXY_FLAG_W,OXYGEN,OXYGEN_FLAG_W,SILCAT,SILCAT_FLAG_W,NITRAT,NITRAT_FLAG_W,NITRIT,NITRIT_FLAG_W,PHSPHT,PHSPHT_FLAG_W,CFC-11,CFC-11_FLAG_W,CFC-12,CFC-12_FLAG_W,CFC113,CFC113_FLAG_W,CCL4,CCL4_FLAG_W,TCARBN,TCARBN_FLAG_W,ALKALI,ALKALI_FLAG_W,DOC,DOC_FLAG_W,TDN,TDN_FLAG_W,TRITUM,TRITUM_FLAG_W,TRITER,HELIUM,HELIUM_FLAG_W,HELIER,DELHE3,DELHE3_FLAG_W,DELHER,NEON,NEON_FLAG_W,NEONER,DELC14,DELC14_FLAG_W,C14ERR,DELC13,DELC13_FLAG_W,CDOM325,CDOM325_FLAG_W,CDOM340,CDOM340_FLAG_W,CDOM380,CDOM380_FLAG_W,CDOM412,CDOM412_FLAG_W,CDOMSL,CDOMSL_FLAG_W,CDOMSN,CDOMSN_FLAG_W,DCNS,DCNS_FLAG_W,ARABI,ARABI_FLAG_W,FUCO,FUCO_FLAG_W,GALA,GALA_FLAG_W,GLUC,GLUC_FLAG_W,MAN,MAN_FLAG_W,RHAM,RHAM_FLAG_W,BRDU,BRDU_FLAG_W,PEUK,PEUK_FLAG_W,PROC,PROC_FLAG_W,SYN,SYN_FLAG_W,THETA,BACT,BACT_FLAG_W,BTL_TIME,BTL_LAT,BTL_LON
,,,,,,,,,,,METERS,DBAR,DBAR,ITS-90,PSS-78,,PSS-78,,UMOL/KG,,UMOL/KG,,UMOL/KG,,UMOL/KG,,UMOL/KG,,UMOL/KG,,PMOL/KG,,PMOL/KG,,PMOL/KG,,PMOL/KG,,UMOL/KG,,UMOL/KG,,UMOL/KG,,UMOL/KG,,TU,,TU,NMOL/KG,,NMOL/KG,PERCNT,,PERCNT,NMOL/KG,,NMOL/KG,/MILLE,,/MILLE,/MILLE,,1/M,,1/M,,1/M,,1/M,,1/NM,,1/NM,,NMOL/KG,,NMOL/KG,,NMOL/KG,,NMOL/KG,,NMOL/KG,,NMOL/KG,,NMOL/KG,,PMOL/L/H,,E6/L,,E7/L,,E6/L,,DEG C,E8/L,,,,
316N200309, A20, 47, 1, 10, 10, 2, 20031010, 1522, 19.5177, -52.3433, 5156,  2999.60,   2999.6,   2.7351,  34.9293, 2,  34.9286, 2,    250.4, 2,    251.5, 4,    33.28, 2,    20.47, 2,     0.00, 2,     1.38, 2,    0.024, 2,    0.007, 2,    0.005, 2,    0.172, 2,   -999.0, 9,   -999.0, 9,  -999.00, 9,  -999.00, 9, -999.000, 9, -999.000, -999.0000, 9, -999.0000,  -999.00, 9,  -999.00, -999.000, 9, -999.000,   -999.0, 9,   -999.0,  -999.00, 9, -999.0000, 9, -999.0000, 9, -999.0000, 9, -999.0000, 9, -999.0000, 9, -999.0000, 9, -999, 9, -999, 9, -999, 9, -999, 9, -999, 9, -999, 9, -999, 9,  -999.00, 9,  -999.00, 9,  -999.00, 9,  -999.00, 9,   2.4902,  -999.00, 9, 1615,   19.5238,  -52.3382
316N200309, A20, 47, 1, 9, 9, 2, 20031010, 1522, 19.5177, -52.3433, 5156,  3250.20,   3250.2,   2.6149,  34.9185, 2,  34.9183, 2,    251.0, 2,    251.7, 4,    35.57, 2,    20.47, 2,     0.00, 2,     1.39, 2,    0.027, 2,    0.015, 2,    0.005, 2,    0.160, 2,   -999.0, 9,   -999.0, 9,  -999.00, 9,  -999.00, 9, -999.000, 9, -999.000, -999.0000, 9, -999.0000,  -999.00, 9,  -999.00, -999.000, 9, -999.000,   -999.0, 9,   -999.0,  -999.00, 9, -999.0000, 9, -999.0000, 9, -999.0000, 9, -999.0000, 9, -999.0000, 9, -999.0000, 9, -999, 9, -999, 9, -999, 9, -999, 9, -999, 9, -999, 9, -999, 9,  -999.00, 9,  -999.00, 9,  -999.00, 9,  -999.00, 9,   2.3465,  -999.00, 9, 1610,   19.5230,  -52.3388
316N200309, A20, 47, 1, 8, 8, 2, 20031010, 1522, 19.5177, -52.3433, 5156,  3499.40,   3499.4,   2.4777,  34.9059, 2,  34.9079, 2,    251.4, 2,    252.1, 4,    38.70, 2,    20.89, 2,     0.00, 2,     1.42, 2,    0.029, 2,    0.019, 2,    0.001, 2,    0.186, 2,   -999.0, 9,   -999.0, 9,  -999.00, 9,  -999.00, 9, -999.000, 9, -999.000, -999.0000, 9, -999.0000,  -999.00, 9,  -999.00, -999.000, 9, -999.000,   -999.0, 9,   -999.0,  -999.00, 9, -999.0000, 9, -999.0000, 9, -999.0000, 9, -999.0000, 9, -999.0000, 9, -999.0000, 9, -999, 9, -999, 9, -999, 9, -999, 9, -999, 9, -999, 9, -999, 9,  -999.00, 9,  -999.00, 9,  -999.00, 9,  -999.00, 9,   2.1859,  -999.00, 9, 1605,   19.5223,  -52.3395
316N200309, A20, 47, 1, 7, 7, 2, 20031010, 1522, 19.5177, -52.3433, 5156,  3773.60,   3773.6,   2.3633,  34.8944, 2,  34.8943, 2,    251.5, 2,    252.0, 4,    41.84, 2,    21.13, 2,     0.00, 2,     1.44, 2,    0.025, 2,    0.021, 2,    0.003, 2,    0.172, 2,   -999.0, 9,   -999.0, 9,  -999.00, 9,  -999.00, 9, -999.000, 9, -999.000, -999.0000, 9, -999.0000,  -999.00, 9,  -999.00, -999.000, 9, -999.000,   -999.0, 9,   -999.0,  -999.00, 9, -999.0000, 9, -999.0000, 9, -999.0000, 9, -999.0000, 9, -999.0000, 9, -999.0000, 9, -999, 9, -999, 9, -999, 9, -999, 9, -999, 9, -999, 9, -999, 9,  -999.00, 9,  -999.00, 9,  -999.00, 9,  -999.00, 9,   2.0444,  -999.00, 9, 1600,   19.5217,  -52.3401
316N200309, A20, 47, 1, 6, 6, 2, 20031010, 1522, 19.5177, -52.3433, 5156,  3999.60,   3999.6,   2.2677,  34.8847, 2,  34.8829, 2,    251.5, 2,    252.4, 4,    44.34, 2,    21.40, 2,     0.00, 2,     1.46, 2,    0.024, 2,    0.020, 2,    0.002, 2,    0.225, 2,   -999.0, 9,   -999.0, 9,  -999.00, 9,  -999.00, 9, -999.000, 9, -999.000, -999.0000, 9, -999.0000,  -999.00, 9,  -999.00, -999.000, 9, -999.000,   -999.0, 9,   -999.0,  -999.00, 9, -999.0000, 9, -999.0000, 9, -999.0000, 9, -999.0000, 9, -999.0000, 9, -999.0000, 9, -999, 9, -999, 9, -999, 9, -999, 9, -999, 9, -999, 9, -999, 9,  -999.00, 9,  -999.00, 9,  -999.00, 9,  -999.00, 9,   1.9261,  -999.00, 9, 1555,   19.5210,  -52.3406
316N200309, A20, 47, 1, 5, 5, 2, 20031010, 1522, 19.5177, -52.3433, 5156,  4250.40,   4250.4,   2.1525,  34.8725, 2,  34.8713, 2,    251.4, 2,    251.4, 2,    47.58, 2,    21.73, 2,     0.00, 2,     1.49, 2,    0.038, 2,    0.023, 2,    0.004, 2,    0.213, 2,   -999.0, 9,   -999.0, 9,  -999.00, 9,  -999.00, 9, -999.000, 9, -999.000, -999.0000, 9, -999.0000,  -999.00, 9,  -999.00, -999.000, 9, -999.000,   -999.0, 9,   -999.0,  -999.00, 9, -999.0000, 9, -999.0000, 9, -999.0000, 9, -999.0000, 9, -999.0000, 9, -999.0000, 9, -999, 9, -999, 9, -999, 9, -999, 9, -999, 9, -999, 9, -999, 9,  -999.00, 9,  -999.00, 9,  -999.00, 9,  -999.00, 9,   1.7855,  -999.00, 9, 1550,   19.5204,  -52.3412
316N200309, A20, 47, 1, 4, 4, 2, 20031010, 1522, 19.5177, -52.3433, 5156,  4525.60,   4525.6,   2.0878,  34.8632, 2,  34.8631, 2,    250.4, 2,    250.7, 2,    50.41, 2,    22.06, 2,     0.00, 2,     1.51, 2,    0.254, 4,    0.500, 4,    0.058, 4,    0.277, 4,   -999.0, 9,   -999.0, 9,  -999.00, 9,  -999.00, 9, -999.000, 9, -999.000, -999.0000, 9, -999.0000,  -999.00, 9,  -999.00, -999.000, 9, -999.000,   -999.0, 9,   -999.0,  -999.00, 9, -999.0000, 9, -999.0000, 9, -999.0000, 9, -999.0000, 9, -999.0000, 9, -999.0000, 9, -999, 9, -999, 9, -999, 9, -999, 9, -999, 9, -999, 9, -999, 9,  -999.00, 9,  -999.00, 9,  -999.00, 9,  -999.00, 9,   1.6903,  -999.00, 9, 1544,   19.5198,  -52.3420
316N200309, A20, 47, 1, 3, 3, 2, 20031010, 1522, 19.5177, -52.3433, 5156,  4775.90,   4775.9,   2.0794,  34.8594, 2,  34.8574, 2,    249.5, 2,    250.2, 2,    51.77, 2,    22.29, 2,     0.00, 2,     1.52, 2,    0.043, 2,    0.032, 2,    0.011, 2,   -0.021, 4,   -999.0, 9,   -999.0, 9,  -999.00, 9,  -999.00, 9, -999.000, 9, -999.000, -999.0000, 9, -999.0000,  -999.00, 9,  -999.00, -999.000, 9, -999.000,   -999.0, 9,   -999.0,  -999.00, 9, -999.0000, 9, -999.0000, 9, -999.0000, 9, -999.0000, 9, -999.0000, 9, -999.0000, 9, -999, 9, -999, 9, -999, 9, -999, 9, -999, 9, -999, 9, -999, 9,  -999.00, 9,  -999.00, 9,  -999.00, 9,  -999.00, 9,   1.6521,  -999.00, 9, 1538,   19.5192,  -52.3429
316N200309, A20, 47, 1, 2, 2, 2, 20031010, 1522, 19.5177, -52.3433, 5156,  5077.10,   5077.1,   2.0697,  34.8546, 2,  34.8546, 2,    249.1, 2,    249.9, 2,    53.12, 2,    22.38, 2,     0.00, 2,     1.53, 2,    0.051, 2,    0.034, 2,    0.005, 2,    0.258, 2,   -999.0, 9,   -999.0, 9,  -999.00, 9,  -999.00, 9, -999.000, 9, -999.000, -999.0000, 9, -999.0000,  -999.00, 9,  -999.00, -999.000, 9, -999.000,   -999.0, 9,   -999.0,  -999.00, 9, -999.0000, 9, -999.0000, 9, -999.0000, 9, -999.0000, 9, -999.0000, 9, -999.0000, 9, -999, 9, -999, 9, -999, 9, -999, 9, -999, 9, -999, 9, -999, 9,  -999.00, 9,  -999.00, 9,  -999.00, 9,  -999.00, 9,   1.6053,  -999.00, 9, 1531,   19.5187,  -52.3437
316N200309, A20, 47, 1, 1, 1, 2, 20031010, 1522, 19.5177, -52.3433, 5156,  5388.00,   5388.0,   2.0917,  34.8521, 2,  34.8511, 2,    249.6, 2,    249.6, 2,    53.84, 2,    22.48, 2,     0.00, 2,     1.53, 2,    0.054, 2,    0.038, 2,    0.003, 2,    0.327, 2,   -999.0, 9,   -999.0, 9,  -999.00, 9,  -999.00, 9, -999.000, 9, -999.000, -999.0000, 9, -999.0000,  -999.00, 9,  -999.00, -999.000, 9, -999.000,   -999.0, 9,   -999.0,  -999.00, 9, -999.0000, 9, -999.0000, 9, -999.0000, 9, -999.0000, 9, -999.0000, 9, -999.0000, 9, -999, 9, -999, 9, -999, 9, -999, 9, -999, 9, -999, 9, -999, 9,  -999.00, 9,  -999.00, 9,  -999.00, 9,  -999.00, 9,   1.5869,  -999.00, 9, 1523,   19.5178,  -52.3434