BOTTLE,20220816CCHSIOAMB
EXPOCODE,SECT_ID,STNNBR,CASTNO,SAMPNO,BTLNBR,BTLNBR_FLAG_W,DATE,TIME,LATITUDE,LONGITUDE,DEPTH,CTDRAW,CTDPRS,CTDTMP,CTDSAL,CTDSAL_FLAG_W,SALNTY,SALNTY_FLAG_W,CTDOXY,CTDOXY_FLAG_W,OXYGEN,OXYGEN_FLAG_W,SILCAT,SILCAT_FLAG_W,NITRAT,NITRAT_FLAG_W,NITRIT,NITRIT_FLAG_W,PHSPHT,PHSPHT_FLAG_W,CFC-11,CFC-11_FLAG_W,CFC-12,CFC-12_FLAG_W,CFC113,CFC113_FLAG_W,CCL4,CCL4_FLAG_W,TCARBN,TCARBN_FLAG_W,ALKALI,ALKALI_FLAG_W,DOC,DOC_FLAG_W,TDN,TDN_FLAG_W,TRITUM,TRITUM_FLAG_W,TRITER,HELIUM,HELIUM_FLAG_W,HELIER,DELHE3,DELHE3_FLAG_W,DELHER,NEON,NEON_FLAG_W,NEONER,DELC14,DELC14_FLAG_W,C14ERR,DELC13,DELC13_FLAG_W,CDOM325,CDOM325_FLAG_W,CDOM340,CDOM340_FLAG_W,CDOM380,CDOM380_FLAG_W,CDOM412,CDOM412_FLAG_W,CDOMSL,CDOMSL_FLAG_W,CDOMSN,CDOMSN_FLAG_W,DCNS,DCNS_FLAG_W,ARABI,ARABI_FLAG_W,FUCO,FUCO_FLAG_W,GALA,GALA_FLAG_W,GLUC,GLUC_FLAG_W,MAN,MAN_FLAG_W,RHAM,RHAM_FLAG_W,BRDU,BRDU_FLAG_W,PEUK,PEUK_FLAG_W,PROC,PROC_FLAG_W,SYN,SYN_FLAG_W,THETA,BACT,BACT_FLAG_W,BTL_TIME,BTL_LAT,BTL_LON
,,,,,,,,,,,METERS,DBAR,DBAR,ITS-90,PSS-78,,PSS-78,,UMOL/KG,,UMOL/KG,,UMOL/KG,,UMOL/KG,,UMOL/KG,,UMOL/KG,,PMOL/KG,,PMOL/KG,,PMOL/KG,,PMOL/KG,,UMOL/KG,,UMOL/KG,,UMOL/KG,,UMOL/KG,,TU,,TU,NMOL/KG,,NMOL/KG,PERCNT,,PERCNT,NMOL/KG,,NMOL/KG,/MILLE,,/MILLE,/MILLE,,1/M,,1/M,,1/M,,1/M,,1/NM,,1/NM,,NMOL/KG,,NMOL/KG,,NMOL/KG,,NMOL/KG,,NMOL/KG,,NMOL/KG,,NMOL/KG,,PMOL/L/H,,E6/L,,E7/L,,E6/L,,DEG C,E8/L,,,,
316N200309, A20, 42, 1, 36, 36, 2, 20031009, 0237, 22.8463, -52.3580, 5319,    13.70,     13.7,  28.1251,  37.3804, 2,  37.3823, 2,    194.1, 2,    198.8, 2,     0.30, 2,     0.00, 2,     0.00, 2,     0.01, 2,    1.683, 2,    1.038, 2,    0.146, 2, -999.000, 9,   2061.3, 2,   2441.2, 2,    77.80, 2,     4.90, 2, -999.000, 9, -999.000, -999.0000, 9, -999.0000,  -999.00, 9,  -999.00, -999.000, 9, -999.000,   -999.0, 9,   -999.0,  -999.00, 9, -999.0000, 9, -999.0000, 9, -999.0000, 9, -999.0000, 9, -999.0000, 9, -999.0000, 9, -999, 9, -999, 9, -999, 9, -999, 9, -999, 9, -999, 9, -999, 9,  -999.00, 9,  -999.00, 9,  -999.00, 9,  -999.00, 9,  28.1218,  -999.00, 9,  446,   22.8624,  -52.3623
316N200309, A20, 42, 1, 35, 35, 2, 20031009, 0237, 22.8463, -52.3580, 5319,    27.90,     27.9,  28.1365,  37.3853, 2,  37.3851, 2,    194.6, 2,    198.3, 2,     0.27, 2,     0.00, 2,     0.00, 2,     0.01, 2,    1.621, 2,    1.013, 2,    0.140, 2, -999.000, 9,   2062.8, 2,   2442.9, 2,  -999.00, 9,  -999.00, 9, -999.000, 9, -999.000, -999.0000, 9, -999.0000,  -999.00, 9,  -999.00, -999.000, 9, -999.000,   -999.0, 9,   -999.0,  -999.00, 9, -999.0000, 9, -999.0000, 9, -999.0000, 9, -999.0000, 9, -999.0000, 9, -999.0000, 9, -999, 9, -999, 9, -999, 9, -999, 9, -999, 9, -999, 9, -999, 9,  -999.00, 9,  -999.00, 9,  -999.00, 9,  -999.00, 9,  28.1298,  -999.00, 9,  445,   22.8621,  -52.3624
316N200309, A20, 42, 1, 34, 34, 2, 20031009, 0237, 22.8463, -52.3580, 5319,    53.10,     53.1,  27.5074,  37.3460, 2,  37.3465, 2,    199.9, 2,    205.4, 2,     0.24, 2,     0.00, 2,     0.00, 2,     0.01, 2,    1.713, 2,    1.048, 2,    0.144, 2, -999.000, 9,   2063.9, 2,   2440.9, 2,    74.80, 2,     5.20, 2, -999.000, 9, -999.000, -999.0000, 9, -999.0000,  -999.00, 9,  -999.00, -999.000, 9, -999.000,   -999.0, 9,   -999.0,  -999.00, 9, -999.0000, 9, -999.0000, 9, -999.0000, 9, -999.0000, 9, -999.0000, 9, -999.0000, 9, -999, 9, -999, 9, -999, 9, -999, 9, -999, 9, -999, 9, -999, 9,  -999.00, 9,  -999.00, 9,  -999.00, 9,  -999.00, 9,  27.4950,  -999.00, 9,  443,   22.8616,  -52.3625
316N200309, A20, 42, 1, 33, 33, 2, 20031009, 0237, 22.8463, -52.3580, 5319,    78.00,     78.0,  25.8764,  37.2173, 2,  37.2183, 2,    211.3, 2,    215.3, 2,     0.11, 2,     0.00, 2,     0.00, 2,     0.01, 2,    1.839, 2,    1.119, 2,    0.152, 2, -999.000, 9,   2061.6, 2,   2430.4, 2,  -999.00, 9,  -999.00, 9, -999.000, 9, -999.000, -999.0000, 9, -999.0000,  -999.00, 9,  -999.00, -999.000, 9, -999.000,   -999.0, 9,   -999.0,  -999.00, 9, -999.0000, 9, -999.0000, 9, -999.0000, 9, -999.0000, 9, -999.0000, 9, -999.0000, 9, -999, 9, -999, 9, -999, 9, -999, 9, -999, 9, -999, 9, -999, 9,  -999.00, 9,  -999.00, 9,  -999.00, 9,  -999.00, 9,  25.8589,  -999.00, 9,  442,   22.8612,  -52.3627
316N200309, A20, 42, 1, 32, 32, 2, 20031009, 0237, 22.8463, -52.3580, 5319,   102.60,    102.6,  24.6481,  37.2918, 2,  37.2984, 2,    208.4, 2,    212.8, 2,     0.08, 2,     0.00, 2,     0.00, 2,     0.01, 2,    1.958, 2,    1.183, 2,    0.178, 2, -999.000, 9,   2075.5, 2,   2435.1, 2,    69.40, 2,     4.00, 2, -999.000, 9, -999.000, -999.0000, 9, -999.0000,  -999.00, 9,  -999.00, -999.000, 9, -999.000,   -999.0, 9,   -999.0,  -999.00, 9, -999.0000, 9, -999.0000, 9, -999.0000, 9, -999.0000, 9, -999.0000, 9, -999.0000, 9, -999, 9, -999, 9, -999, 9, -999, 9, -999, 9, -999, 9, -999, 9,  -999.00, 9,  -999.00, 9,  -999.00, 9,  -999.00, 9,  24.6259,  -999.00, 9,  440,   22.8608,  -52.3629
316N200309, A20, 42, 1, 31, 31, 2, 20031009, 0237, 22.8463, -52.3580, 5319,   127.90,    127.9,  23.0454,  37.1141, 2,  37.1157, 2,    203.8, 2,    207.4, 2,     0.04, 2,    -0.04, 2,     0.04, 2,     0.02, 2,    2.082, 2,    1.266, 2,    0.163, 2, -999.000, 9,   2082.8, 2,   2422.5, 2,  -999.00, 9,  -999.00, 9, -999.000, 9, -999.000, -999.0000, 9, -999.0000,  -999.00, 9,  -999.00, -999.000, 9, -999.000,   -999.0, 9,   -999.0,  -999.00, 9, -999.0000, 9, -999.0000, 9, -999.0000, 9, -999.0000, 9, -999.0000, 9, -999.0000, 9, -999, 9, -999, 9, -999, 9, -999, 9, -999, 9, -999, 9, -999, 9,  -999.00, 9,  -999.00, 9,  -999.00, 9,  -999.00, 9,  23.0190,  -999.00, 9,  439,   22.8604,  -52.3630
316N200309, A20, 42, 1, 30, 30, 2, 20031009, 0237, 22.8463, -52.3580, 5319,   152.90,    152.9,  22.0294,  37.0208, 2,  37.0202, 2,    192.6, 2,    196.3, 2,     0.01, 2,     0.20, 2,     0.04, 2,     0.02, 2,    2.138, 2,    1.291, 2,    0.159, 2, -999.000, 9,   2095.9, 2,   2414.1, 2,    59.60, 2,     4.30, 2, -999.000, 9, -999.000, -999.0000, 9, -999.0000,  -999.00, 9,  -999.00, -999.000, 9, -999.000,   -999.0, 9,   -999.0,  -999.00, 9, -999.0000, 9, -999.0000, 9, -999.0000, 9, -999.0000, 9, -999.0000, 9, -999.0000, 9, -999, 9, -999, 9, -999, 9, -999, 9, -999, 9, -999, 9, -999, 9,  -999.00, 9,  -999.00, 9,  -999.00, 9,  -999.00, 9,  21.9988,  -999.00, 9,  437,   22.8601,  -52.3630
316N200309, A20, 42, 1, 29, 29, 2, 20031009, 0237, 22.8463, -52.3580, 5319,   202.50,    202.5,  19.8968,  36.7474, 2,  36.7514, 2,    184.4, 2,    190.3, 4,     0.29, 2,     1.02, 2,     0.02, 2,     0.04, 2,    2.340, 2,    1.370, 2,    0.091, 2, -999.000, 9,   2106.4, 2,   2397.8, 2,    52.70, 2,     4.90, 2, -999.000, 9, -999.000, -999.0000, 9, -999.0000,  -999.00, 9,  -999.00, -999.000, 9, -999.000,   -999.0, 9,   -999.0,  -999.00, 9, -999.0000, 9, -999.0000, 9, -999.0000, 9, -999.0000, 9, -999.0000, 9, -999.0000, 9, -999, 9, -999, 9, -999, 9, -999, 9, -999, 9, -999, 9, -999, 9,  -999.00, 9,  -999.00, 9,  -999.00, 9,  -999.00, 9,  19.8591,  -999.00, 9,  435,   22.8597,  -52.3631
316N200309, A20, 42, 1, 28, 28, 2, 20031009, 0237, 22.8463, -52.3580, 5319,   252.50,    252.5,  18.7834,  36.6122, 2,  36.6116, 2,    185.2, 2,    191.8, 4,     0.58, 2,     3.07, 2,     0.01, 2,     0.13, 2,    2.370, 2,    1.391, 2,    0.025, 2, -999.000, 9,   2107.2, 2,   2387.8, 2,    49.20, 2,     6.40, 2, -999.000, 9, -999.000, -999.0000, 9, -999.0000,  -999.00, 9,  -999.00, -999.000, 9, -999.000,   -999.0, 9,   -999.0,  -999.00, 9, -999.0000, 9, -999.0000, 9, -999.0000, 9, -999.0000, 9, -999.0000, 9, -999.0000, 9, -999, 9, -999, 9, -999, 9, -999, 9, -999, 9, -999, 9, -999, 9,  -999.00, 9,  -999.00, 9,  -999.00, 9,  -999.00, 9,  18.7382,  -999.00, 9,  433,   22.8594,  -52.3633
316N200309, A20, 42, 1, 27, 27, 2, 20031009, 0237, 22.8463, -52.3580, 5319,   299.90,    299.9,  18.2755,  36.5485, 2,  36.5486, 2,    187.2, 2,    194.3, 4,     0.75, 2,     4.10, 2,     0.01, 2,     0.20, 2,    2.378, 2,    1.363, 2,    0.025, 2, -999.000, 9,   2105.7, 2,   2384.0, 2,    47.10, 2,     8.20, 2, -999.000, 9, -999.000, -999.0000, 9, -999.0000,  -999.00, 9,  -999.00, -999.000, 9, -999.000,   -999.0, 9,   -999.0,  -999.00, 9, -999.0000, 9, -999.0000, 9, -999.0000, 9, -999.0000, 9, -999.0000, 9, -999.0000, 9, -999, 9, -999, 9, -999, 9, -999, 9, -999, 9, -999, 9, -999, 9,  -999.00, 9,  -999.00, 9,  -999.00, 9,  -999.00, 9,  18.2228,  -999.00, 9,  431,   22.8593,  -52.3634
316N200309, A20, 42, 1, 26, 26, 2, 20031009, 0237, 22.8463, -52.3580, 5319,   400.60,    400.6,  16.7470,  36.3215, 2,  36.3239, 2,    184.3, 2,    180.8, 2,     1.98, 2,     8.04, 2,     0.01, 2,     0.45, 2,    2.398, 2,    1.331, 2,    0.038, 2, -999.000, 9,   2129.5, 2,   2370.6, 2,    45.40, 2,  -999.00, 9, -999.000, 9, -999.000, -999.0000, 9, -999.0000,  -999.00, 9,  -999.00, -999.000, 9, -999.000,   -999.0, 9,   -999.0,  -999.00, 9, -999.0000, 9, -999.0000, 9, -999.0000, 9, -999.0000, 9, -999.0000, 9, -999.0000, 9, -999, 9, -999, 9, -999, 9, -999, 9, -999, 9, -999, 9, -999, 9,  -999.00, 9,  -999.00, 9,  -999.00, 9,  -999.00, 9,  16.6806,  -999.00, 9,  429,   22.8593,  -52.3637
316N200309, A20, 42, 1, 25, 25, 2, 20031009, 0237, 22.8463, -52.3580, 5319,   500.20,    500.2,  14.7483,  36.0039, 2,  36.0048, 2,    162.4, 2,    166.3, 2,     3.72, 2,    12.49, 2,     0.01, 2,     0.72, 2,    2.295, 2,    1.233, 2,    0.030, 2, -999.000, 9,   2149.1, 2,   2353.0, 2,    46.80, 2,  -999.00, 9, -999.000, 9, -999.000, -999.0000, 9, -999.0000,  -999.00, 9,  -999.00, -999.000, 9, -999.000,   -999.0, 9,   -999.0,  -999.00, 9, -999.0000, 9, -999.0000, 9, -999.0000, 9, -999.0000, 9, -999.0000, 9, -999.0000, 9, -999, 9, -999, 9, -999, 9, -999, 9, -999, 9, -999, 9, -999, 9,  -999.00, 9,  -999.00, 9,  -999.00, 9,  -999.00, 9,  14.6721,  -999.00, 9,  426,   22.8589,  -52.3639
316N200309, A20, 42, 1, 24, 24, 2, 20031009, 0237, 22.8463, -52.3580, 5319,   625.20,    625.2,  12.3909,  35.6776, 2,  35.6778, 2,    157.3, 2,    158.2, 2,     6.42, 2,    17.10, 2,     0.00, 2,     1.03, 2,    1.778, 2,    0.912, 2,    0.026, 2, -999.000, 9,   2166.1, 2,   2335.7, 2,    45.00, 2,  -999.00, 9, -999.000, 9, -999.000, -999.0000, 9, -999.0000,  -999.00, 9,  -999.00, -999.000, 9, -999.000,   -999.0, 9,   -999.0,  -999.00, 9, -999.0000, 9, -999.0000, 9, -999.0000, 9, -999.0000, 9, -999.0000, 9, -999.0000, 9, -999, 9, -999, 9, -999, 9, -999, 9, -999, 9, -999, 9, -999, 9,  -999.00, 9,  -999.00, 9,  -999.00, 9,  -999.00, 9,  12.3057,  -999.00, 9,  423,   22.8582,  -52.3640
316N200309, A20, 42, 1, 23, 23, 2, 20031009, 0237, 22.8463, -52.3580, 5319,   750.30,    750.3,  10.4072,  35.4272, 2,  35.4277, 2,    148.8, 2,    146.5, 2,    10.47, 2,    21.79, 2,     0.00, 2,     1.34, 2,    0.961, 2,    0.487, 2,    0.020, 2, -999.000, 9,   2184.4, 2,   2326.4, 2,    45.10, 2,  -999.00, 9, -999.000, 9, -999.000, -999.0000, 9, -999.0000,  -999.00, 9,  -999.00, -999.000, 9, -999.000,   -999.0, 9,   -999.0,  -999.00, 9, -999.0000, 9, -999.0000, 9, -999.0000, 9, -999.0000, 9, -999.0000, 9, -999.0000, 9, -999, 9, -999, 9, -999, 9, -999, 9, -999, 9, -999, 9, -999, 9,  -999.00, 9,  -999.00, 9,  -999.00, 9,  -999.00, 9,  10.3150,  -999.00, 9,  420,   22.8575,  -52.3642
316N200309, A20, 42, 1, 22, 22, 2, 20031009, 0237, 22.8463, -52.3580, 5319,   895.40,    895.4,   8.3270,  35.1938, 2,  35.1951, 2,    144.6, 2,    143.1, 2,    15.67, 2,    25.63, 2,     0.00, 2,     1.64, 2,    0.320, 2,    0.171, 2,    0.006, 2, -999.000, 9,   2197.4, 2,   2320.2, 2,    41.50, 2,  -999.00, 9, -999.000, 9, -999.000, -999.0000, 9, -999.0000,  -999.00, 9,  -999.00, -999.000, 9, -999.000,   -999.0, 9,   -999.0,  -999.00, 9, -999.0000, 9, -999.0000, 9, -999.0000, 9, -999.0000, 9, -999.0000, 9, -999.0000, 9, -999, 9, -999, 9, -999, 9, -999, 9, -999, 9, -999, 9, -999, 9,  -999.00, 9,  -999.00, 9,  -999.00, 9,  -999.00, 9,   8.2299,  -999.00, 9,  416,   22.8569,  -52.3643
316N200309, A20, 42, 1, 21, 21, 2, 20031009, 0237, 22.8463, -52.3580, 5319,  1050.50,   1050.5,   6.4016,  34.9968, 2,  34.9978, 2,    157.9, 2,    158.4, 2,    19.63, 2,    27.08, 2,     0.00, 2,     1.78, 2,    0.119, 2,    0.069, 2,    0.003, 2, -999.000, 9,   2202.7, 2,   2315.1, 2,    38.10, 2,  -999.00, 9, -999.000, 9, -999.000, -999.0000, 9, -999.0000,  -999.00, 9,  -999.00, -999.000, 9, -999.000,   -999.0, 9,   -999.0,  -999.00, 9, -999.0000, 9, -999.0000, 9, -999.0000, 9, -999.0000, 9, -999.0000, 9, -999.0000, 9, -999, 9, -999, 9, -999, 9, -999, 9, -999, 9, -999, 9, -999, 9,  -999.00, 9,  -999.00, 9,  -999.00, 9,  -999.00, 9,   6.3018,  -999.00, 9,  413,   22.8562,  -52.3643
316N200309, A20, 42, 1, 20, 20, 2, 20031009, 0237, 22.8463, -52.3580, 5319,  1200.60,   1200.6,   5.6754,  34.9942, 2,  34.9939, 2,    182.8, 2,    184.3, 2,    18.66, 2,    24.76, 2,     0.00, 2,     1.63, 2,    0.175, 2,    0.085, 2,    0.004, 2, -999.000, 9,   2193.5, 2,   2314.8, 2,    40.20, 2,  -999.00, 9, -999.000, 9, -999.000, -999.0000, 9, -999.0000,  -999.00, 9,  -999.00, -999.000, 9, -999.000,   -999.0, 9,   -999.0,  -999.00, 9, -999.0000, 9, -999.0000, 9, -999.0000, 9, -999.0000, 9, -999.0000, 9, -999.0000, 9, -999, 9, -999, 9, -999, 9, -999, 9, -999, 9, -999, 9, -999, 9,  -999.00, 9,  -999.00, 9,  -999.00, 9,  -999.00, 9,   5.5667,  -999.00, 9,  409,   22.8556,  -52.3644
316N200309, A20, 42, 1, 19, 19, 2, 20031009, 0237, 22.8463, -52.3580, 5319,  1324.90,   1324.9,   5.3158,  35.0372, 2,  35.0378, 2,    208.0, 2,    210.9, 2,    15.90, 2,    21.82, 2,     0.00, 2,     1.44, 2,    0.317, 2,    0.163, 2,    0.009, 2, -999.000, 9,   2181.4, 2,   2315.4, 2,  -999.00, 9,  -999.00, 9, -999.000, 9, -999.000, -999.0000, 9, -999.0000,  -999.00, 9,  -999.00, -999.000, 9, -999.000,   -999.0, 9,   -999.0,  -999.00, 9, -999.0000, 9, -999.0000, 9, -999.0000, 9, -999.0000, 9, -999.0000, 9, -999.0000, 9, -999, 9, -999, 9, -999, 9, -999, 9, -999, 9, -999, 9, -999, 9,  -999.00, 9,  -999.00, 9,  -999.00, 9,  -999.00, 9,   5.1981,  -999.00, 9,  406,   22.8552,  -52.3643
316N200309, A20, 42, 1, 18, 18, 2, 20031009, 0237, 22.8463, -52.3580, 5319,  1451.20,   1451.2,   4.9528,  35.0481, 2,  35.0484, 2,    228.0, 2,    230.2, 2,    14.20, 2,    19.99, 2,     0.00, 2,     1.32, 2,    0.435, 2,    0.229, 2,    0.011, 2, -999.000, 9,   2172.2, 2,   2314.1, 2,    43.90, 2,  -999.00, 9, -999.000, 9, -999.000, -999.0000, 9, -999.0000,  -999.00, 9,  -999.00, -999.000, 9, -999.000,   -999.0, 9,   -999.0,  -999.00, 9, -999.0000, 9, -999.0000, 9, -999.0000, 9, -999.0000, 9, -999.0000, 9, -999.0000, 9, -999, 9, -999, 9, -999, 9, -999, 9, -999, 9, -999, 9, -999, 9,  -999.00, 9,  -999.00, 9,  -999.00, 9,  -999.00, 9,   4.8265,  -999.00, 9,  403,   22.8547,  -52.3643
316N200309, A20, 42, 1, 17, 17, 2, 20031009, 0237, 22.8463, -52.3580, 5319,  1575.40,   1575.4,   4.6103,  35.0461, 2,  35.0465, 2,    238.1, 2,    239.8, 4,    14.48, 2,    19.51, 2,     0.00, 2,     1.29, 2,    0.357, 2,    0.165, 2,    0.020, 2, -999.000, 9,   2169.2, 2,   2314.3, 2,  -999.00, 9,  -999.00, 9, -999.000, 9, -999.000, -999.0000, 9, -999.0000,  -999.00, 9,  -999.00, -999.000, 9, -999.000,   -999.0, 9,   -999.0,  -999.00, 9, -999.0000, 9, -999.0000, 9, -999.0000, 9, -999.0000, 9, -999.0000, 9, -999.0000, 9, -999, 9, -999, 9, -999, 9, -999, 9, -999, 9, -999, 9, -999, 9,  -999.00, 9,  -999.00, 9,  -999.00, 9,  -999.00, 9,   4.4758,  -999.00, 9,  400,   22.8543,  -52.3642
316N200309, A20, 42, 1, 16, 16, 2, 20031009, 0237, 22.8463, -52.3580, 5319,  1700.20,   1700.2,   4.3584,  35.0418, 2,  35.0429, 2,    242.8, 2,    243.8, 4,    15.61, 2,    19.31, 2,     0.00, 2,     1.28, 2,    0.202, 2,    0.111, 2,    0.004, 2, -999.000, 9,   2168.5, 2,   2316.7, 2,    40.00, 2,  -999.00, 9, -999.000, 9, -999.000, -999.0000, 9, -999.0000,  -999.00, 9,  -999.00, -999.000, 9, -999.000,   -999.0, 9,   -999.0,  -999.00, 9, -999.0000, 9, -999.0000, 9, -999.0000, 9, -999.0000, 9, -999.0000, 9, -999.0000, 9, -999, 9, -999, 9, -999, 9, -999, 9, -999, 9, -999, 9, -999, 9,  -999.00, 9,  -999.00, 9,  -999.00, 9,  -999.00, 9,   4.2150,  -999.00, 9,  357,   22.8539,  -52.3642
316N200309, A20, 42, 1, 15, 15, 3, 20031009, 0237, 22.8463, -52.3580, 5319,  1849.80,   1849.8,   4.0891,  35.0322, 2,  35.0102, 3,    245.5, 2,    248.2, 4,    21.24, 4,    19.59, 4,     0.00, 4,     1.31, 4,    0.069, 6,    0.041, 6,    0.006, 6, -999.000, 9,   2173.0, 2,   2321.1, 2,  -999.00, 9,  -999.00, 9, -999.000, 9, -999.000, -999.0000, 9, -999.0000,  -999.00, 9,  -999.00, -999.000, 9, -999.000,   -999.0, 9,   -999.0,  -999.00, 9, -999.0000, 9, -999.0000, 9, -999.0000, 9, -999.0000, 9, -999.0000, 9, -999.0000, 9, -999, 9, -999, 9, -999, 9, -999, 9, -999, 9, -999, 9, -999, 9,  -999.00, 9,  -999.00, 9,  -999.00, 9,  -999.00, 9,   3.9348,  -999.00, 9,  353,   22.8535,  -52.3641
316N200309, A20, 42, 1, 14, 14, 2, 20031009, 0237, 22.8463, -52.3580, 5319,  2000.40,   2000.4,   3.7936,  35.0167, 2,  35.0173, 2,    247.6, 2,    248.7, 4,    20.37, 2,    19.55, 2,     0.00, 2,     1.30, 2,    0.064, 2,    0.032, 2,    0.001, 2, -999.000, 9,   2171.7, 2,   2319.9, 2,    41.20, 2,  -999.00, 9, -999.000, 9, -999.000, -999.0000, 9, -999.0000,  -999.00, 9,  -999.00, -999.000, 9, -999.000,   -999.0, 9,   -999.0,  -999.00, 9, -999.0000, 9, -999.0000, 9, -999.0000, 9, -999.0000, 9, -999.0000, 9, -999.0000, 9, -999, 9, -999, 9, -999, 9, -999, 9, -999, 9, -999, 9, -999, 9,  -999.00, 9,  -999.00, 9,  -999.00, 9,  -999.00, 9,   3.6290,  -999.00, 9,  350,   22.8531,  -52.3640
316N200309, A20, 42, 1, 13, 13, 2, 20031009, 0237, 22.8463, -52.3580, 5319,  2249.90,   2249.9,   3.3879,  34.9869, 2,  34.9868, 2,    250.2, 2,    252.7, 4,    24.53, 2,    19.82, 2,     0.00, 2,     1.33, 2,    0.046, 2,    0.029, 2,    0.006, 2, -999.000, 9,   2175.6, 2,   2323.8, 2,    41.30, 2,  -999.00, 9, -999.000, 9, -999.000, -999.0000, 9, -999.0000,  -999.00, 9,  -999.00, -999.000, 9, -999.000,   -999.0, 9,   -999.0,  -999.00, 9, -999.0000, 9, -999.0000, 9, -999.0000, 9, -999.0000, 9, -999.0000, 9, -999.0000, 9, -999, 9, -999, 9, -999, 9, -999, 9, -999, 9, -999, 9, -999, 9,  -999.00, 9,  -999.00, 9,  -999.00, 9,  -999.00, 9,   3.2055,  -999.00, 9,  344,   22.8523,  -52.3638
316N200309, A20, 42, 1, 12, 12, 2, 20031009, 0237, 22.8463, -52.3580, 5319,  2500.80,   2500.8,   3.1268,  34.9659, 2,  34.9662, 2,    251.6, 2,    255.9, 4,    27.76, 2,    20.10, 2,     0.00, 2,     1.35, 2,    0.039, 2,    0.026, 2,    0.006, 2, -999.000, 9,   2178.3, 2,   2327.0, 2,  -999.00, 9,  -999.00, 9, -999.000, 9, -999.000, -999.0000, 9, -999.0000,  -999.00, 9,  -999.00, -999.000, 9, -999.000,   -999.0, 9,   -999.0,  -999.00, 9, -999.0000, 9, -999.0000, 9, -999.0000, 9, -999.0000, 9, -999.0000, 9, -999.0000, 9, -999, 9, -999, 9, -999, 9, -999, 9, -999, 9, -999, 9, -999, 9,  -999.00, 9,  -999.00, 9,  -999.00, 9,  -999.00, 9,   2.9244,  -999.00, 9,  339,   22.8514,  -52.3636
316N200309, A20, 42, 1, 11, 11, 2, 20031009, 0237, 22.8463, -52.3580, 5319,  2749.60,   2749.6,   2.9395,  34.9498, 2,  34.9496, 2,    252.2, 2,    249.8, 2,    30.34, 2,    20.29, 2,     0.00, 2,     1.37, 2,    0.026, 2,    0.026, 2,    0.005, 2, -999.000, 9,   2179.8, 2,   2328.9, 2,    39.50, 2,  -999.00, 9, -999.000, 9, -999.000, -999.0000, 9, -999.0000,  -999.00, 9,  -999.00, -999.000, 9, -999.000,   -999.0, 9,   -999.0,  -999.00, 9, -999.0000, 9, -999.0000, 9, -999.0000, 9, -999.0000, 9, -999.0000, 9, -999.0000, 9, -999, 9, -999, 9, -999, 9, -999, 9, -999, 9, -999, 9, -999, 9,  -999.00, 9,  -999.00, 9,  -999.00, 9,  -999.00, 9,   2.7158,  -999.00, 9,  334,   22.8506,  -52.3635