BOTTLE,20220816CCHSIOAMB
EXPOCODE,SECT_ID,STNNBR,CASTNO,SAMPNO,BTLNBR,BTLNBR_FLAG_W,DATE,TIME,LATITUDE,LONGITUDE,DEPTH,CTDRAW,CTDPRS,CTDTMP,CTDSAL,CTDSAL_FLAG_W,SALNTY,SALNTY_FLAG_W,CTDOXY,CTDOXY_FLAG_W,OXYGEN,OXYGEN_FLAG_W,SILCAT,SILCAT_FLAG_W,NITRAT,NITRAT_FLAG_W,NITRIT,NITRIT_FLAG_W,PHSPHT,PHSPHT_FLAG_W,CFC-11,CFC-11_FLAG_W,CFC-12,CFC-12_FLAG_W,CFC113,CFC113_FLAG_W,CCL4,CCL4_FLAG_W,TCARBN,TCARBN_FLAG_W,ALKALI,ALKALI_FLAG_W,DOC,DOC_FLAG_W,TDN,TDN_FLAG_W,TRITUM,TRITUM_FLAG_W,TRITER,HELIUM,HELIUM_FLAG_W,HELIER,DELHE3,DELHE3_FLAG_W,DELHER,NEON,NEON_FLAG_W,NEONER,DELC14,DELC14_FLAG_W,C14ERR,DELC13,DELC13_FLAG_W,CDOM325,CDOM325_FLAG_W,CDOM340,CDOM340_FLAG_W,CDOM380,CDOM380_FLAG_W,CDOM412,CDOM412_FLAG_W,CDOMSL,CDOMSL_FLAG_W,CDOMSN,CDOMSN_FLAG_W,DCNS,DCNS_FLAG_W,ARABI,ARABI_FLAG_W,FUCO,FUCO_FLAG_W,GALA,GALA_FLAG_W,GLUC,GLUC_FLAG_W,MAN,MAN_FLAG_W,RHAM,RHAM_FLAG_W,BRDU,BRDU_FLAG_W,PEUK,PEUK_FLAG_W,PROC,PROC_FLAG_W,SYN,SYN_FLAG_W,THETA,BACT,BACT_FLAG_W,BTL_TIME,BTL_LAT,BTL_LON
,,,,,,,,,,,METERS,DBAR,DBAR,ITS-90,PSS-78,,PSS-78,,UMOL/KG,,UMOL/KG,,UMOL/KG,,UMOL/KG,,UMOL/KG,,UMOL/KG,,PMOL/KG,,PMOL/KG,,PMOL/KG,,PMOL/KG,,UMOL/KG,,UMOL/KG,,UMOL/KG,,UMOL/KG,,TU,,TU,NMOL/KG,,NMOL/KG,PERCNT,,PERCNT,NMOL/KG,,NMOL/KG,/MILLE,,/MILLE,/MILLE,,1/M,,1/M,,1/M,,1/M,,1/NM,,1/NM,,NMOL/KG,,NMOL/KG,,NMOL/KG,,NMOL/KG,,NMOL/KG,,NMOL/KG,,NMOL/KG,,PMOL/L/H,,E6/L,,E7/L,,E6/L,,DEG C,E8/L,,,,
316N200309, A20, 35, 1, 10, 10, 2, 20031005, 1754, 29.5643, -52.3253, 5574,  3623.10,   3623.1,   2.4754,  34.9124, 2,  34.9109, 2,    262.0, 2,    262.0, 2,    30.94, 2,    19.32, 2,     0.00, 2,     1.31, 2,    0.060, 2,    0.028, 2,    0.002, 2,    0.350, 2,   2169.5, 2,   2325.0, 2,  -999.00, 9,  -999.00, 9, -999.000, 9, -999.000, -999.0000, 9, -999.0000,  -999.00, 9,  -999.00, -999.000, 9, -999.000,   -999.0, 9,   -999.0,  -999.00, 9, -999.0000, 9, -999.0000, 9, -999.0000, 9, -999.0000, 9, -999.0000, 9, -999.0000, 9, -999, 9, -999, 9, -999, 9, -999, 9, -999, 9, -999, 9, -999, 9,  -999.00, 9,  -999.00, 9,  -999.00, 9,  -999.00, 9,   2.1701,  -999.00, 9, 1840,   29.5799,  -52.3194
316N200309, A20, 35, 1, 9, 9, 2, 20031005, 1754, 29.5643, -52.3253, 5574,  3827.70,   3827.7,   2.3809,  34.9038, 2,  34.9022, 2,    262.5, 2,    261.9, 2,    32.72, 2,    19.47, 2,     0.00, 2,     1.32, 2,    0.080, 2,    0.050, 2,    0.005, 2,    0.355, 2,   2172.6, 2,   2324.0, 2,  -999.00, 9,  -999.00, 9, -999.000, 9, -999.000, -999.0000, 9, -999.0000,  -999.00, 9,  -999.00, -999.000, 9, -999.000,   -999.0, 9,   -999.0,  -999.00, 9, -999.0000, 9, -999.0000, 9, -999.0000, 9, -999.0000, 9, -999.0000, 9, -999.0000, 9, -999, 9, -999, 9, -999, 9, -999, 9, -999, 9, -999, 9, -999, 9,  -999.00, 9,  -999.00, 9,  -999.00, 9,  -999.00, 9,   2.0555,  -999.00, 9, 1836,   29.5785,  -52.3199
316N200309, A20, 35, 1, 8, 8, 2, 20031005, 1754, 29.5643, -52.3253, 5574,  4026.00,   4026.0,   2.3062,  34.8957, 2,  34.8934, 2,    261.8, 2,    261.1, 2,    35.29, 2,    19.84, 2,     0.00, 2,     1.35, 2,    0.086, 2,    0.049, 2,    0.006, 2,    0.419, 2,   2175.4, 2,   2317.0, 4,  -999.00, 9,  -999.00, 9, -999.000, 9, -999.000, -999.0000, 9, -999.0000,  -999.00, 9,  -999.00, -999.000, 9, -999.000,   -999.0, 9,   -999.0,  -999.00, 9, -999.0000, 9, -999.0000, 9, -999.0000, 9, -999.0000, 9, -999.0000, 9, -999.0000, 9, -999, 9, -999, 9, -999, 9, -999, 9, -999, 9, -999, 9, -999, 9,  -999.00, 9,  -999.00, 9,  -999.00, 9,  -999.00, 9,   1.9604,  -999.00, 9, 1832,   29.5768,  -52.3203
316N200309, A20, 35, 1, 7, 7, 2, 20031005, 1754, 29.5643, -52.3253, 5574,  4226.00,   4226.0,   2.2489,  34.8880, 2,  34.8863, 2,    260.1, 2,    259.6, 2,    38.36, 2,    20.20, 2,     0.00, 2,     1.38, 2,    0.085, 6,    0.063, 6,    0.009, 6,    0.346, 6,   2179.0, 2,   2320.0, 4,    41.30, 2,  -999.00, 9, -999.000, 9, -999.000, -999.0000, 9, -999.0000,  -999.00, 9,  -999.00, -999.000, 9, -999.000,   -999.0, 9,   -999.0,  -999.00, 9,    0.1270, 2,    0.0870, 2,    0.0370, 2,    0.0260, 2,    0.0220, 2,    0.0230, 2, -999, 9, -999, 9, -999, 9, -999, 9, -999, 9, -999, 9, -999, 9,  -999.00, 9,  -999.00, 9,  -999.00, 9,  -999.00, 9,   1.8818,  -999.00, 9, 1827,   29.5754,  -52.3210
316N200309, A20, 35, 1, 6, 6, 2, 20031005, 1754, 29.5643, -52.3253, 5574,  4423.60,   4423.6,   2.1876,  34.8789, 2,  34.8762, 2,    257.7, 2,    266.1, 4,    42.64, 2,    20.81, 2,     0.00, 2,     1.42, 2,    0.063, 2,    0.058, 2,    0.029, 4,    0.283, 2,   2184.3, 2,   2333.3, 2,  -999.00, 9,  -999.00, 9, -999.000, 9, -999.000, -999.0000, 9, -999.0000,  -999.00, 9,  -999.00, -999.000, 9, -999.000,   -999.0, 9,   -999.0,  -999.00, 9, -999.0000, 9, -999.0000, 9, -999.0000, 9, -999.0000, 9, -999.0000, 9, -999.0000, 9, -999, 9, -999, 9, -999, 9, -999, 9, -999, 9, -999, 9, -999, 9,  -999.00, 9,  -999.00, 9,  -999.00, 9,  -999.00, 9,   1.7991,  -999.00, 9, 1823,   29.5740,  -52.3219
316N200309, A20, 35, 1, 5, 5, 2, 20031005, 1754, 29.5643, -52.3253, 5574,  4624.50,   4624.5,   2.1451,  34.8714, 2,  34.8696, 2,    255.1, 2,    256.3, 2,    45.92, 2,    21.33, 2,     0.00, 2,     1.46, 2,    0.053, 2,    0.038, 2,    0.006, 2,    0.278, 2,   2188.6, 2,   2335.2, 2,  -999.00, 9,  -999.00, 9, -999.000, 9, -999.000, -999.0000, 9, -999.0000,  -999.00, 9,  -999.00, -999.000, 9, -999.000,   -999.0, 9,   -999.0,  -999.00, 9, -999.0000, 9, -999.0000, 9, -999.0000, 9, -999.0000, 9, -999.0000, 9, -999.0000, 9, -999, 9, -999, 9, -999, 9, -999, 9, -999, 9, -999, 9, -999, 9,  -999.00, 9,  -999.00, 9,  -999.00, 9,  -999.00, 9,   1.7340,  -999.00, 9, 1819,   29.5725,  -52.3227
316N200309, A20, 35, 1, 4, 4, 2, 20031005, 1754, 29.5643, -52.3253, 5574,  4870.10,   4870.1,   2.1076,  34.8635, 2,  34.8621, 2,    252.5, 2,    252.6, 2,    49.60, 2,    21.84, 2,     0.00, 2,     1.49, 2,    0.034, 2,    0.020, 2,    0.012, 2,    0.227, 2,   2193.3, 2,   2339.2, 2,    40.90, 2,  -999.00, 9, -999.000, 9, -999.000, -999.0000, 9, -999.0000,  -999.00, 9,  -999.00, -999.000, 9, -999.000,   -999.0, 9,   -999.0,  -999.00, 9,    0.1360, 2,    0.0920, 2,    0.0390, 2,    0.0240, 2,    0.0220, 2,    0.0230, 2, -999, 9, -999, 9, -999, 9, -999, 9, -999, 9, -999, 9, -999, 9,  -999.00, 9,  -999.00, 9,  -999.00, 9,  -999.00, 9,   1.6677,  -999.00, 9, 1814,   29.5708,  -52.3231
316N200309, A20, 35, 1, 3, 3, 2, 20031005, 1754, 29.5643, -52.3253, 5574,  5141.10,   5141.1,   2.1177,  34.8603, 2,  34.8583, 2,    251.0, 2,    252.0, 2,    50.70, 2,    22.00, 2,     0.00, 2,     1.50, 2,    0.036, 2,    0.023, 2,    0.000, 2,    0.225, 2,   2194.9, 2,   2339.0, 2,  -999.00, 9,  -999.00, 9, -999.000, 9, -999.000, -999.0000, 9, -999.0000,  -999.00, 9,  -999.00, -999.000, 9, -999.000,   -999.0, 9,   -999.0,  -999.00, 9, -999.0000, 9, -999.0000, 9, -999.0000, 9, -999.0000, 9, -999.0000, 9, -999.0000, 9, -999, 9, -999, 9, -999, 9, -999, 9, -999, 9, -999, 9, -999, 9,  -999.00, 9,  -999.00, 9,  -999.00, 9,  -999.00, 9,   1.6436,  -999.00, 9, 1808,   29.5689,  -52.3237
316N200309, A20, 35, 1, 2, 2, 2, 20031005, 1754, 29.5643, -52.3253, 5574,  5444.00,   5444.0,   2.1489,  34.8589, 2,  34.8572, 2,    250.6, 2,    251.8, 2,    51.19, 2,    22.15, 2,     0.00, 2,     1.50, 2,    0.038, 2,    0.025, 2,   -0.005, 2,    0.228, 2,   2195.2, 2,   2339.4, 2,    40.60, 2,  -999.00, 9, -999.000, 9, -999.000, -999.0000, 9, -999.0000,  -999.00, 9,  -999.00, -999.000, 9, -999.000,   -999.0, 9,   -999.0,  -999.00, 9,    0.1280, 2,    0.0870, 2,    0.0370, 2,    0.0220, 2,    0.0220, 2,    0.0230, 2, -999, 9, -999, 9, -999, 9, -999, 9, -999, 9, -999, 9, -999, 9,  -999.00, 9,  -999.00, 9,  -999.00, 9,  -999.00, 9,   1.6347,  -999.00, 9, 1802,   29.5668,  -52.3244
316N200309, A20, 35, 1, 1, 1, 2, 20031005, 1754, 29.5643, -52.3253, 5574,  5748.40,   5748.4,   2.1844,  34.8578, 2,  34.8574, 2,    251.8, 2,    251.8, 2,    51.48, 2,    22.15, 2,     0.00, 2,     1.50, 2,    0.036, 2,    0.020, 2,    0.001, 2,    0.230, 2,   2195.6, 2,   2339.1, 2,    42.10, 2,  -999.00, 9, -999.000, 9, -999.000, -999.0000, 9, -999.0000,  -999.00, 9,  -999.00, -999.000, 9, -999.000,   -999.0, 9,   -999.0,  -999.00, 9,    0.1330, 2,    0.0920, 2,    0.0400, 2,    0.0300, 3,    0.0180, 3,    0.0210, 3, -999, 9, -999, 9, -999, 9, -999, 9, -999, 9, -999, 9, -999, 9,  -999.00, 9,  -999.00, 9,  -999.00, 9,  -999.00, 9,   1.6287,  -999.00, 9, 1756,   29.5647,  -52.3251