BOTTLE,20220816CCHSIOAMB
EXPOCODE,SECT_ID,STNNBR,CASTNO,SAMPNO,BTLNBR,BTLNBR_FLAG_W,DATE,TIME,LATITUDE,LONGITUDE,DEPTH,CTDRAW,CTDPRS,CTDTMP,CTDSAL,CTDSAL_FLAG_W,SALNTY,SALNTY_FLAG_W,CTDOXY,CTDOXY_FLAG_W,OXYGEN,OXYGEN_FLAG_W,SILCAT,SILCAT_FLAG_W,NITRAT,NITRAT_FLAG_W,NITRIT,NITRIT_FLAG_W,PHSPHT,PHSPHT_FLAG_W,CFC-11,CFC-11_FLAG_W,CFC-12,CFC-12_FLAG_W,CFC113,CFC113_FLAG_W,CCL4,CCL4_FLAG_W,TCARBN,TCARBN_FLAG_W,ALKALI,ALKALI_FLAG_W,DOC,DOC_FLAG_W,TDN,TDN_FLAG_W,TRITUM,TRITUM_FLAG_W,TRITER,HELIUM,HELIUM_FLAG_W,HELIER,DELHE3,DELHE3_FLAG_W,DELHER,NEON,NEON_FLAG_W,NEONER,DELC14,DELC14_FLAG_W,C14ERR,DELC13,DELC13_FLAG_W,CDOM325,CDOM325_FLAG_W,CDOM340,CDOM340_FLAG_W,CDOM380,CDOM380_FLAG_W,CDOM412,CDOM412_FLAG_W,CDOMSL,CDOMSL_FLAG_W,CDOMSN,CDOMSN_FLAG_W,DCNS,DCNS_FLAG_W,ARABI,ARABI_FLAG_W,FUCO,FUCO_FLAG_W,GALA,GALA_FLAG_W,GLUC,GLUC_FLAG_W,MAN,MAN_FLAG_W,RHAM,RHAM_FLAG_W,BRDU,BRDU_FLAG_W,PEUK,PEUK_FLAG_W,PROC,PROC_FLAG_W,SYN,SYN_FLAG_W,THETA,BACT,BACT_FLAG_W,BTL_TIME,BTL_LAT,BTL_LON
,,,,,,,,,,,METERS,DBAR,DBAR,ITS-90,PSS-78,,PSS-78,,UMOL/KG,,UMOL/KG,,UMOL/KG,,UMOL/KG,,UMOL/KG,,UMOL/KG,,PMOL/KG,,PMOL/KG,,PMOL/KG,,PMOL/KG,,UMOL/KG,,UMOL/KG,,UMOL/KG,,UMOL/KG,,TU,,TU,NMOL/KG,,NMOL/KG,PERCNT,,PERCNT,NMOL/KG,,NMOL/KG,/MILLE,,/MILLE,/MILLE,,1/M,,1/M,,1/M,,1/M,,1/NM,,1/NM,,NMOL/KG,,NMOL/KG,,NMOL/KG,,NMOL/KG,,NMOL/KG,,NMOL/KG,,NMOL/KG,,PMOL/L/H,,E6/L,,E7/L,,E6/L,,DEG C,E8/L,,,,
316N200309, A20, 46, 1, 36, 36, 2, 20031010, 0810, 20.1735, -52.3287, 4845,     3.40,      3.4,  28.3800,  36.9009, 2,  36.9020, 2,    191.4, 2,    196.0, 2,     0.52, 2,     0.04, 2,     0.00, 2,     0.02, 2,    1.625, 2,    1.037, 2,    0.145, 2, -999.000, 9,   2041.5, 2,   2412.2, 2,    78.80, 2,     5.40, 2, -999.000, 9, -999.000, -999.0000, 9, -999.0000,  -999.00, 9,  -999.00, -999.000, 9, -999.000,   -999.0, 9,   -999.0,  -999.00, 9,    0.0430, 2,    0.0260, 2,    0.0060, 2,    0.0040, 2,    0.0360, 2,    0.0360, 2, 3105, 4, 141, 2, 503, 2, 709, 2, 506, 2, 966, 2, 280, 2,     0.13, 2,  -999.00, 9,  -999.00, 9,  -999.00, 9,  28.3792,  -999.00, 9, 1006,   20.1659,  -52.3261
316N200309, A20, 46, 1, 35, 35, 2, 20031010, 0810, 20.1735, -52.3287, 4845,    24.90,     24.9,  28.3099,  36.9634, 2,  36.9709, 2,    192.1, 2,    198.6, 2,     0.42, 2,     0.03, 2,     0.00, 2,     0.01, 2,    1.598, 2,    0.992, 2,    0.135, 2, -999.000, 9,   2044.2, 2,   2417.4, 2,    79.40, 2,     5.10, 2, -999.000, 9, -999.000, -999.0000, 9, -999.0000,  -999.00, 9,  -999.00, -999.000, 9, -999.000,   -999.0, 9,   -999.0,  -999.00, 9,    0.0420, 2,    0.0250, 2,    0.0060, 2,    0.0030, 2,    0.0370, 2,    0.0370, 2, -999, 9, -999, 9, -999, 9, -999, 9, -999, 9, -999, 9, -999, 9,     0.29, 2,  -999.00, 9,  -999.00, 9,  -999.00, 9,  28.3039,  -999.00, 9, 1005,   20.1661,  -52.3261
316N200309, A20, 46, 1, 34, 34, 2, 20031010, 0810, 20.1735, -52.3287, 4845,    49.70,     49.7,  27.7635,  37.1438, 2,  37.1427, 2,    196.6, 2,    204.6, 2,     0.42, 2,     0.03, 2,     0.00, 2,     0.01, 2,    1.731, 2,    1.062, 2,    0.139, 2, -999.000, 9,   2053.0, 2,   2426.8, 2,    77.40, 2,     4.90, 2, -999.000, 9, -999.000, -999.0000, 9, -999.0000,  -999.00, 9,  -999.00, -999.000, 9, -999.000,   -999.0, 9,   -999.0,  -999.00, 9,    0.0660, 2,    0.0410, 2,    0.0120, 2,    0.0080, 2,    0.0320, 2,    0.0330, 2, 3516, 4, 211, 2, 472, 2, 855, 2, 527, 2, 1150, 2, 300, 2,     0.36, 2,  -999.00, 9,  -999.00, 9,  -999.00, 9,  27.7518,  -999.00, 9, 1003,   20.1662,  -52.3260
316N200309, A20, 46, 1, 33, 33, 2, 20031010, 0810, 20.1735, -52.3287, 4845,    75.40,     75.4,  26.6776,  37.3622, 2,  37.3672, 2,    205.6, 2,    212.5, 2,     0.31, 2,     0.00, 2,     0.00, 2,     0.01, 2,    1.774, 2,    1.075, 2,    0.160, 2, -999.000, 9,   2068.8, 2,   2439.8, 2,    75.60, 2,     4.80, 2, -999.000, 9, -999.000, -999.0000, 9, -999.0000,  -999.00, 9,  -999.00, -999.000, 9, -999.000,   -999.0, 9,   -999.0,  -999.00, 9,    0.0860, 2,    0.0550, 2,    0.0180, 2,    0.0120, 2,    0.0300, 2,    0.0300, 2, 3512, 4, 180, 2, 475, 2, 788, 2, 737, 2, 1034, 2, 299, 2,     0.26, 2,  -999.00, 9,  -999.00, 9,  -999.00, 9,  26.6603,  -999.00, 9, 1002,   20.1664,  -52.3259
316N200309, A20, 46, 1, 32, 32, 2, 20031010, 0810, 20.1735, -52.3287, 4845,   100.00,    100.0,  25.1762,  37.3960, 2,  37.3945, 2,    210.1, 2,    215.2, 2,     0.20, 2,     0.00, 2,     0.00, 2,     0.02, 2,    1.898, 2,    1.144, 2,    0.158, 2, -999.000, 9,   2076.4, 2,   2441.5, 2,    74.40, 2,     4.60, 2, -999.000, 9, -999.000, -999.0000, 9, -999.0000,  -999.00, 9,  -999.00, -999.000, 9, -999.000,   -999.0, 9,   -999.0,  -999.00, 9,    0.1190, 2,    0.0780, 2,    0.0300, 2,    0.0200, 2,    0.0250, 2,    0.0260, 2, 2551, 4, 86, 2, 405, 2, 667, 2, 364, 2, 757, 2, 273, 2,     0.40, 2,  -999.00, 9,  -999.00, 9,  -999.00, 9,  25.1542,  -999.00, 9, 1001,   20.1665,  -52.3259
316N200309, A20, 46, 1, 31, 31, 2, 20031010, 0810, 20.1735, -52.3287, 4845,   124.20,    124.2,  24.3845,  37.4077, 2,  37.4058, 2,    204.0, 2,    208.8, 2,     0.20, 2,     0.01, 2,     0.00, 2,     0.02, 2,    1.882, 2,    1.149, 2,    0.154, 2, -999.000, 9,   2088.4, 2,   2440.9, 2,    69.30, 2,     4.50, 2, -999.000, 9, -999.000, -999.0000, 9, -999.0000,  -999.00, 9,  -999.00, -999.000, 9, -999.000,   -999.0, 9,   -999.0,  -999.00, 9,    0.1100, 2,    0.0740, 2,    0.0290, 2,    0.0200, 2,    0.0250, 2,    0.0260, 2, -999, 9, -999, 9, -999, 9, -999, 9, -999, 9, -999, 9, -999, 9,     0.36, 2,  -999.00, 9,  -999.00, 9,  -999.00, 9,  24.3578,  -999.00, 9, 1000,   20.1666,  -52.3258
316N200309, A20, 46, 1, 30, 30, 2, 20031010, 0810, 20.1735, -52.3287, 4845,   149.90,    149.9,  22.8309,  37.2253, 2,  37.2250, 2,    194.8, 2,    197.4, 2,     0.10, 2,     0.07, 2,     0.08, 2,     0.02, 2,    2.090, 2,    1.252, 2,    0.153, 2, -999.000, 9,   2102.7, 2,   2429.9, 2,    66.90, 2,     4.80, 2, -999.000, 9, -999.000, -999.0000, 9, -999.0000,  -999.00, 9,  -999.00, -999.000, 9, -999.000,   -999.0, 9,   -999.0,  -999.00, 9,    0.1250, 2,    0.0890, 2,    0.0400, 2,    0.0290, 2,    0.0180, 2,    0.0200, 2, -999, 9, -999, 9, -999, 9, -999, 9, -999, 9, -999, 9, -999, 9,     0.78, 2,  -999.00, 9,  -999.00, 9,  -999.00, 9,  22.8001,  -999.00, 9,  958,   20.1668,  -52.3258
316N200309, A20, 46, 1, 29, 29, 2, 20031010, 0810, 20.1735, -52.3287, 4845,   200.00,    200.0,  20.1074,  36.8515, 2,  36.8601, 2,    181.2, 2,    184.9, 2,     0.42, 2,     1.91, 2,     0.00, 2,     0.08, 2,    2.321, 2,    1.347, 2,    0.063, 2, -999.000, 9,   2118.0, 2,   2405.0, 2,    54.00, 2,     5.20, 2, -999.000, 9, -999.000, -999.0000, 9, -999.0000,  -999.00, 9,  -999.00, -999.000, 9, -999.000,   -999.0, 9,   -999.0,  -999.00, 9,    0.1140, 2,    0.0820, 2,    0.0370, 2,    0.0290, 2,    0.0170, 2,    0.0200, 2, 588, 4, 77, 2, 84, 2, 130, 2, 93, 2, 134, 2, 70, 2,     0.31, 2,  -999.00, 9,  -999.00, 9,  -999.00, 9,  20.0699,  -999.00, 9,  957,   20.1669,  -52.3257
316N200309, A20, 46, 1, 28, 28, 2, 20031010, 0810, 20.1735, -52.3287, 4845,   299.50,    299.5,  17.5758,  36.4543, 2,  36.4535, 2,    183.9, 2,    182.9, 2,     1.46, 2,     6.59, 2,     0.00, 2,     0.35, 2,    2.407, 2,    1.347, 2,    0.025, 2, -999.000, 9,   2123.1, 2,   2378.7, 2,    47.70, 2,    10.20, 2, -999.000, 9, -999.000, -999.0000, 9, -999.0000,  -999.00, 9,  -999.00, -999.000, 9, -999.000,   -999.0, 9,   -999.0,  -999.00, 9,    0.0920, 2,    0.0650, 2,    0.0280, 2,    0.0210, 2,    0.0220, 2,    0.0230, 2, 456, 4, 21, 2, 54, 2, 75, 2, 79, 2, 182, 2, 45, 2,  -999.00, 9,  -999.00, 9,  -999.00, 9,  -999.00, 9,  17.5246,  -999.00, 9,  954,   20.1672,  -52.3256
316N200309, A20, 46, 1, 27, 27, 2, 20031010, 0810, 20.1735, -52.3287, 4845,   349.50,    349.5,  16.3615,  36.2560, 2,  36.2562, 2,    159.7, 2,    164.9, 2,     2.63, 2,    10.15, 2,     0.00, 2,     0.58, 2,    2.377, 2,    1.329, 2,    0.030, 2, -999.000, 9,   2144.0, 2,   2368.0, 2,    47.60, 2,  -999.00, 9, -999.000, 9, -999.000, -999.0000, 9, -999.0000,  -999.00, 9,  -999.00, -999.000, 9, -999.000,   -999.0, 9,   -999.0,  -999.00, 9,    0.1070, 2,    0.0750, 2,    0.0350, 2,    0.0260, 2,    0.0200, 2,    0.0210, 2, -999, 9, -999, 9, -999, 9, -999, 9, -999, 9, -999, 9, -999, 9,  -999.00, 9,  -999.00, 9,  -999.00, 9,  -999.00, 9,  16.3045,  -999.00, 9,  952,   20.1675,  -52.3255
316N200309, A20, 46, 1, 26, 26, 2, 20031010, 0810, 20.1735, -52.3287, 4845,   400.90,    400.9,  15.3576,  36.0874, 2,  36.0879, 2,    162.2, 2,    230.9, 4,     3.67, 2,    12.91, 2,     0.00, 2,     0.74, 2,    2.270, 2,    1.256, 2,    0.031, 2, -999.000, 9,   2155.5, 2,   2357.9, 2,    48.70, 2,  -999.00, 9, -999.000, 9, -999.000, -999.0000, 9, -999.0000,  -999.00, 9,  -999.00, -999.000, 9, -999.000,   -999.0, 9,   -999.0,  -999.00, 9,    0.1140, 2,    0.0810, 2,    0.0380, 2,    0.0280, 2,    0.0180, 2,    0.0200, 2, -999, 9, -999, 9, -999, 9, -999, 9, -999, 9, -999, 9, -999, 9,  -999.00, 9,  -999.00, 9,  -999.00, 9,  -999.00, 9,  15.2951,  -999.00, 9,  950,   20.1677,  -52.3255
316N200309, A20, 46, 1, 25, 25, 2, 20031010, 0810, 20.1735, -52.3287, 4845,   524.60,    524.6,  12.9271,  35.7497, 2,  35.7503, 2,    154.7, 2,    156.8, 2,     5.77, 2,    16.44, 2,     0.00, 2,     0.97, 2,    1.963, 2,    1.019, 2,    0.026, 2, -999.000, 9,   2165.3, 2,   2340.5, 2,    46.20, 2,  -999.00, 9, -999.000, 9, -999.000, -999.0000, 9, -999.0000,  -999.00, 9,  -999.00, -999.000, 9, -999.000,   -999.0, 9,   -999.0,  -999.00, 9,    0.1120, 2,    0.0780, 2,    0.0360, 2,    0.0260, 2,    0.0200, 2,    0.0210, 2, 252, 4, 26, 2, 39, 2, 57, 2, 47, 2, 57, 2, 26, 2,  -999.00, 9,  -999.00, 9,  -999.00, 9,  -999.00, 9,  12.8538,  -999.00, 9,  947,   20.1680,  -52.3254
316N200309, A20, 46, 1, 24, 24, 2, 20031010, 0810, 20.1735, -52.3287, 4845,   624.50,    624.5,  11.5362,  35.5574, 2,  35.5575, 2,    142.2, 2,    147.0, 2,     8.30, 2,    19.98, 2,     0.00, 2,     1.20, 2,    1.387, 2,    0.716, 2,    0.015, 2, -999.000, 9,   2176.0, 2,   2331.8, 2,    42.70, 2,  -999.00, 9, -999.000, 9, -999.000, -999.0000, 9, -999.0000,  -999.00, 9,  -999.00, -999.000, 9, -999.000,   -999.0, 9,   -999.0,  -999.00, 9,    0.1270, 2,    0.0890, 2,    0.0430, 2,    0.0330, 2,    0.0160, 2,    0.0180, 2, -999, 9, -999, 9, -999, 9, -999, 9, -999, 9, -999, 9, -999, 9,  -999.00, 9,  -999.00, 9,  -999.00, 9,  -999.00, 9,  11.4548,  -999.00, 9,  945,   20.1683,  -52.3254
316N200309, A20, 46, 1, 23, 23, 2, 20031010, 0810, 20.1735, -52.3287, 4845,   729.80,    729.8,   9.0190,  35.1732, 2,  35.1733, 2,    129.9, 2,    129.7, 2,    15.23, 2,    26.74, 2,     0.00, 2,     1.68, 2,    0.504, 2,    0.246, 2,    0.009, 2, -999.000, 9,   2201.3, 2,   2313.0, 2,    42.20, 2,  -999.00, 9, -999.000, 9, -999.000, -999.0000, 9, -999.0000,  -999.00, 9,  -999.00, -999.000, 9, -999.000,   -999.0, 9,   -999.0,  -999.00, 9,    0.1280, 2,    0.0890, 2,    0.0440, 2,    0.0330, 2,    0.0150, 2,    0.0180, 2, -999, 9, -999, 9, -999, 9, -999, 9, -999, 9, -999, 9, -999, 9,  -999.00, 9,  -999.00, 9,  -999.00, 9,  -999.00, 9,   8.9370,  -999.00, 9,  942,   20.1686,  -52.3253
316N200309, A20, 46, 1, 22, 22, 2, 20031010, 0810, 20.1735, -52.3287, 4845,   849.50,    849.5,   7.2800,  34.9864, 2,  34.9874, 2,    133.9, 2,    133.8, 2,    19.75, 2,    29.18, 2,     0.00, 2,     1.90, 2,    0.191, 2,    0.098, 2,    0.013, 2, -999.000, 9,   2208.1, 2,   2312.2, 2,    39.40, 2,  -999.00, 9, -999.000, 9, -999.000, -999.0000, 9, -999.0000,  -999.00, 9,  -999.00, -999.000, 9, -999.000,   -999.0, 9,   -999.0,  -999.00, 9,    0.1200, 2,    0.0830, 2,    0.0420, 2,    0.0330, 2,    0.0150, 2,    0.0170, 2, -999, 9, -999, 9, -999, 9, -999, 9, -999, 9, -999, 9, -999, 9,  -999.00, 9,  -999.00, 9,  -999.00, 9,  -999.00, 9,   7.1949,  -999.00, 9,  939,   20.1689,  -52.3252
316N200309, A20, 46, 1, 21, 21, 2, 20031010, 0810, 20.1735, -52.3287, 4845,  1001.30,   1001.3,   6.0769,  34.9125, 2,  34.9140, 2,    146.7, 2,    149.7, 2,    21.96, 2,    29.09, 2,     0.00, 2,     1.92, 2,    0.077, 2,    0.054, 2,    0.005, 2, -999.000, 9,   2208.6, 2,   2312.8, 2,    41.40, 2,  -999.00, 9, -999.000, 9, -999.000, -999.0000, 9, -999.0000,  -999.00, 9,  -999.00, -999.000, 9, -999.000,   -999.0, 9,   -999.0,  -999.00, 9,    0.1300, 2,    0.0900, 2,    0.0450, 2,    0.0340, 2,    0.0150, 2,    0.0180, 2, 222, 4, 11, 2, 29, 2, 42, 2, 60, 2, 52, 2, 29, 2,  -999.00, 9,  -999.00, 9,  -999.00, 9,  -999.00, 9,   5.9847,  -999.00, 9,  935,   20.1691,  -52.3251
316N200309, A20, 46, 1, 20, 20, 2, 20031010, 0810, 20.1735, -52.3287, 4845,  1150.10,   1150.1,   5.5339,  34.9570, 2,  34.9563, 2,    174.9, 2,    178.8, 2,    20.28, 2,    25.93, 2,     0.00, 2,     1.71, 2,    0.107, 2,    0.066, 6,    0.007, 2,   -0.005, 4,   2198.6, 2,   2313.0, 2,    43.90, 2,  -999.00, 9, -999.000, 9, -999.000, -999.0000, 9, -999.0000,  -999.00, 9,  -999.00, -999.000, 9, -999.000,   -999.0, 9,   -999.0,  -999.00, 9,    0.1300, 2,    0.0900, 2,    0.0450, 2,    0.0340, 2,    0.0150, 2,    0.0180, 2, -999, 9, -999, 9, -999, 9, -999, 9, -999, 9, -999, 9, -999, 9,  -999.00, 9,  -999.00, 9,  -999.00, 9,  -999.00, 9,   5.4314,  -999.00, 9,  932,   20.1693,  -52.3250
316N200309, A20, 46, 1, 19, 19, 2, 20031010, 0810, 20.1735, -52.3287, 4845,  1326.10,   1326.1,   5.1032,  35.0133, 2,  35.0128, 2,    201.8, 2,    209.1, 2,    17.22, 2,    22.44, 2,     0.00, 2,     1.49, 2,    0.229, 2,    0.116, 2,    0.013, 2, -999.000, 9,   2181.7, 2,   2315.1, 2,    42.20, 2,  -999.00, 9, -999.000, 9, -999.000, -999.0000, 9, -999.0000,  -999.00, 9,  -999.00, -999.000, 9, -999.000,   -999.0, 9,   -999.0,  -999.00, 9,    0.1280, 2,    0.0890, 2,    0.0440, 2,    0.0350, 2,    0.0140, 2,    0.0170, 2, -999, 9, -999, 9, -999, 9, -999, 9, -999, 9, -999, 9, -999, 9,  -999.00, 9,  -999.00, 9,  -999.00, 9,  -999.00, 9,   4.9875,  -999.00, 9,  928,   20.1695,  -52.3250
316N200309, A20, 46, 1, 18, 18, 2, 20031010, 0810, 20.1735, -52.3287, 4845,  1451.00,   1451.0,   4.6897,  35.0189, 2,  35.0201, 2,    217.8, 2,    225.7, 2,    16.49, 2,    20.98, 2,     0.00, 2,     1.39, 2,    0.215, 2,    0.112, 2,    0.015, 2, -999.000, 9,   2171.1, 2,   2314.4, 2,  -999.00, 9,  -999.00, 9, -999.000, 9, -999.000, -999.0000, 9, -999.0000,  -999.00, 9,  -999.00, -999.000, 9, -999.000,   -999.0, 9,   -999.0,  -999.00, 9, -999.0000, 9, -999.0000, 9, -999.0000, 9, -999.0000, 9, -999.0000, 9, -999.0000, 9, -999, 9, -999, 9, -999, 9, -999, 9, -999, 9, -999, 9, -999, 9,  -999.00, 9,  -999.00, 9,  -999.00, 9,  -999.00, 9,   4.5663,  -999.00, 9,  925,   20.1697,  -52.3248
316N200309, A20, 46, 1, 17, 17, 2, 20031010, 0810, 20.1735, -52.3287, 4845,  1577.40,   1577.4,   4.3926,  35.0187, 2,  35.0193, 2,    232.1, 2,    236.8, 2,    16.29, 2,    20.12, 2,     0.00, 2,     1.34, 2,    0.175, 2,    0.093, 2,    0.013, 2, -999.000, 9,   2168.9, 2,   2313.8, 2,    40.80, 2,  -999.00, 9, -999.000, 9, -999.000, -999.0000, 9, -999.0000,  -999.00, 9,  -999.00, -999.000, 9, -999.000,   -999.0, 9,   -999.0,  -999.00, 9,    0.1300, 2,    0.0910, 2,    0.0440, 2,    0.0350, 2,    0.0140, 2,    0.0170, 2, -999, 9, -999, 9, -999, 9, -999, 9, -999, 9, -999, 9, -999, 9,  -999.00, 9,  -999.00, 9,  -999.00, 9,  -999.00, 9,   4.2606,  -999.00, 9,  922,   20.1699,  -52.3247
316N200309, A20, 46, 1, 16, 16, 2, 20031010, 0810, 20.1735, -52.3287, 4845,  1701.00,   1701.0,   4.1653,  35.0155, 2,  35.0165, 2,    238.1, 2,    239.9, 2,    17.65, 2,    20.02, 2,     0.00, 2,     1.33, 2,    0.081, 2,    0.046, 2,    0.005, 2, -999.000, 9,   2169.3, 2,   2316.4, 2,  -999.00, 9,  -999.00, 9, -999.000, 9, -999.000, -999.0000, 9, -999.0000,  -999.00, 9,  -999.00, -999.000, 9, -999.000,   -999.0, 9,   -999.0,  -999.00, 9, -999.0000, 9, -999.0000, 9, -999.0000, 9, -999.0000, 9, -999.0000, 9, -999.0000, 9, -999, 9, -999, 9, -999, 9, -999, 9, -999, 9, -999, 9, -999, 9,  -999.00, 9,  -999.00, 9,  -999.00, 9,  -999.00, 9,   4.0243,  -999.00, 9,  919,   20.1702,  -52.3246
316N200309, A20, 46, 1, 15, 15, 2, 20031010, 0810, 20.1735, -52.3287, 4845,  1851.70,   1851.7,   3.8925,  35.0073, 2,  35.0071, 2,    241.4, 2,    242.9, 2,    19.75, 2,    19.97, 2,     0.00, 2,     1.33, 2,    0.053, 2,    0.032, 2,    0.003, 2, -999.000, 9,   2171.0, 2,   2317.3, 2,  -999.00, 9,  -999.00, 9, -999.000, 9, -999.000, -999.0000, 9, -999.0000,  -999.00, 9,  -999.00, -999.000, 9, -999.000,   -999.0, 9,   -999.0,  -999.00, 9, -999.0000, 9, -999.0000, 9, -999.0000, 9, -999.0000, 9, -999.0000, 9, -999.0000, 9, -999, 9, -999, 9, -999, 9, -999, 9, -999, 9, -999, 9, -999, 9,  -999.00, 9,  -999.00, 9,  -999.00, 9,  -999.00, 9,   3.7408,  -999.00, 9,  915,   20.1705,  -52.3245
316N200309, A20, 46, 1, 14, 14, 2, 20031010, 0810, 20.1735, -52.3287, 4845,  1999.10,   1999.1,   3.6849,  34.9990, 2,  35.0012, 2,    243.2, 2,    245.1, 2,    21.63, 2,    19.97, 2,     0.00, 2,     1.33, 2,    0.029, 2,    0.017, 2,    0.010, 2, -999.000, 9,   2172.1, 2,   2321.0, 2,    40.20, 2,  -999.00, 9, -999.000, 9, -999.000, -999.0000, 9, -999.0000,  -999.00, 9,  -999.00, -999.000, 9, -999.000,   -999.0, 9,   -999.0,  -999.00, 9,    0.1340, 2,    0.0920, 2,    0.0420, 2,    0.0290, 2,    0.0190, 2,    0.0210, 2, -999, 9, -999, 9, -999, 9, -999, 9, -999, 9, -999, 9, -999, 9,  -999.00, 9,  -999.00, 9,  -999.00, 9,  -999.00, 9,   3.5220,  -999.00, 9,  912,   20.1709,  -52.3244
316N200309, A20, 46, 1, 13, 13, 2, 20031010, 0810, 20.1735, -52.3287, 4845,  2249.70,   2249.7,   3.3300,  34.9774, 2,  34.9764, 2,    246.1, 2,    247.8, 2,    25.42, 2,    20.01, 2,     0.00, 2,     1.35, 2,    0.011, 2,    0.009, 2,    0.002, 2, -999.000, 9,   2175.7, 2,   2323.2, 2,  -999.00, 9,  -999.00, 9, -999.000, 9, -999.000, -999.0000, 9, -999.0000,  -999.00, 9,  -999.00, -999.000, 9, -999.000,   -999.0, 9,   -999.0,  -999.00, 9, -999.0000, 9, -999.0000, 9, -999.0000, 9, -999.0000, 9, -999.0000, 9, -999.0000, 9, -999, 9, -999, 9, -999, 9, -999, 9, -999, 9, -999, 9, -999, 9,  -999.00, 9,  -999.00, 9,  -999.00, 9,  -999.00, 9,   3.1486,  -999.00, 9,  907,   20.1720,  -52.3241
316N200309, A20, 46, 1, 12, 12, 2, 20031010, 0810, 20.1735, -52.3287, 4845,  2499.60,   2499.6,   3.0410,  34.9551, 2,  34.9555, 2,    246.9, 2,    248.6, 2,    29.52, 2,    20.35, 2,     0.00, 2,     1.37, 2,    0.019, 2,    0.009, 2,    0.001, 2, -999.000, 9,   2179.5, 2,   2327.5, 2,    39.80, 2,  -999.00, 9, -999.000, 9, -999.000, -999.0000, 9, -999.0000,  -999.00, 9,  -999.00, -999.000, 9, -999.000,   -999.0, 9,   -999.0,  -999.00, 9,    0.1240, 2,    0.0870, 2,    0.0410, 2,    0.0290, 2,    0.0180, 2,    0.0200, 2, -999, 9, -999, 9, -999, 9, -999, 9, -999, 9, -999, 9, -999, 9,  -999.00, 9,  -999.00, 9,  -999.00, 9,  -999.00, 9,   2.8403,  -999.00, 9,  902,   20.1732,  -52.3241
316N200309, A20, 46, 1, 11, 11, 2, 20031010, 0810, 20.1735, -52.3287, 4845,  2750.00,   2750.0,   2.8664,  34.9408, 2,  34.9398, 2,    247.9, 2,    249.8, 2,    32.04, 2,    20.53, 2,     0.00, 2,     1.38, 2,    0.003, 2,    0.005, 2,    0.004, 2, -999.000, 9,   2181.5, 2,   2328.4, 2,  -999.00, 9,  -999.00, 9, -999.000, 9, -999.000, -999.0000, 9, -999.0000,  -999.00, 9,  -999.00, -999.000, 9, -999.000,   -999.0, 9,   -999.0,  -999.00, 9, -999.0000, 9, -999.0000, 9, -999.0000, 9, -999.0000, 9, -999.0000, 9, -999.0000, 9, -999, 9, -999, 9, -999, 9, -999, 9, -999, 9, -999, 9, -999, 9,  -999.00, 9,  -999.00, 9,  -999.00, 9,  -999.00, 9,   2.6441,  -999.00, 9,  857,   20.1745,  -52.3242