BOTTLE,20220816CCHSIOAMB
EXPOCODE,SECT_ID,STNNBR,CASTNO,SAMPNO,BTLNBR,BTLNBR_FLAG_W,DATE,TIME,LATITUDE,LONGITUDE,DEPTH,CTDRAW,CTDPRS,CTDTMP,CTDSAL,CTDSAL_FLAG_W,SALNTY,SALNTY_FLAG_W,CTDOXY,CTDOXY_FLAG_W,OXYGEN,OXYGEN_FLAG_W,SILCAT,SILCAT_FLAG_W,NITRAT,NITRAT_FLAG_W,NITRIT,NITRIT_FLAG_W,PHSPHT,PHSPHT_FLAG_W,CFC-11,CFC-11_FLAG_W,CFC-12,CFC-12_FLAG_W,CFC113,CFC113_FLAG_W,CCL4,CCL4_FLAG_W,TCARBN,TCARBN_FLAG_W,ALKALI,ALKALI_FLAG_W,DOC,DOC_FLAG_W,TDN,TDN_FLAG_W,TRITUM,TRITUM_FLAG_W,TRITER,HELIUM,HELIUM_FLAG_W,HELIER,DELHE3,DELHE3_FLAG_W,DELHER,NEON,NEON_FLAG_W,NEONER,DELC14,DELC14_FLAG_W,C14ERR,DELC13,DELC13_FLAG_W,CDOM325,CDOM325_FLAG_W,CDOM340,CDOM340_FLAG_W,CDOM380,CDOM380_FLAG_W,CDOM412,CDOM412_FLAG_W,CDOMSL,CDOMSL_FLAG_W,CDOMSN,CDOMSN_FLAG_W,DCNS,DCNS_FLAG_W,ARABI,ARABI_FLAG_W,FUCO,FUCO_FLAG_W,GALA,GALA_FLAG_W,GLUC,GLUC_FLAG_W,MAN,MAN_FLAG_W,RHAM,RHAM_FLAG_W,BRDU,BRDU_FLAG_W,PEUK,PEUK_FLAG_W,PROC,PROC_FLAG_W,SYN,SYN_FLAG_W,THETA,BACT,BACT_FLAG_W,BTL_TIME,BTL_LAT,BTL_LON
,,,,,,,,,,,METERS,DBAR,DBAR,ITS-90,PSS-78,,PSS-78,,UMOL/KG,,UMOL/KG,,UMOL/KG,,UMOL/KG,,UMOL/KG,,UMOL/KG,,PMOL/KG,,PMOL/KG,,PMOL/KG,,PMOL/KG,,UMOL/KG,,UMOL/KG,,UMOL/KG,,UMOL/KG,,TU,,TU,NMOL/KG,,NMOL/KG,PERCNT,,PERCNT,NMOL/KG,,NMOL/KG,/MILLE,,/MILLE,/MILLE,,1/M,,1/M,,1/M,,1/M,,1/NM,,1/NM,,NMOL/KG,,NMOL/KG,,NMOL/KG,,NMOL/KG,,NMOL/KG,,NMOL/KG,,NMOL/KG,,PMOL/L/H,,E6/L,,E7/L,,E6/L,,DEG C,E8/L,,,,
316N200309, A20, 58, 1, 10, 10, 2, 20031014, 0042, 12.2112, -52.3422, 5049,  3000.90,   3000.9,   2.7306,  34.9276, 2,  34.9292, 2,    254.1, 2,    255.2, 2,    29.79, 2,    19.94, 2,     0.00, 2,     1.34, 2,    0.119, 2,    0.074, 2,    0.015, 2, -999.000, 9,   2177.1, 2,   2326.7, 2,    41.90, 2,  -999.00, 9, -999.000, 9, -999.000, -999.0000, 9, -999.0000,  -999.00, 9,  -999.00, -999.000, 9, -999.000,   -999.0, 9,   -999.0,  -999.00, 9,    0.1200, 2,    0.0850, 2,    0.0400, 2,    0.0280, 2,    0.0180, 2,    0.0200, 2, -999, 9, -999, 9, -999, 9, -999, 9, -999, 9, -999, 9, -999, 9,  -999.00, 9,  -999.00, 9,  -999.00, 9,  -999.00, 9,   2.4856,  -999.00, 9,  129,   12.2139,  -52.3445
316N200309, A20, 58, 1, 9, 9, 2, 20031014, 0042, 12.2112, -52.3422, 5049,  3199.60,   3199.6,   2.6450,  34.9205, 2,  34.9209, 2,    253.8, 2,    252.4, 2,    31.86, 2,    20.18, 2,     0.00, 2,     1.35, 2,    0.113, 2,    0.056, 2,    0.013, 2, -999.000, 9,   2179.5, 2,   2328.6, 2,  -999.00, 9,  -999.00, 9, -999.000, 9, -999.000, -999.0000, 9, -999.0000,  -999.00, 9,  -999.00, -999.000, 9, -999.000,   -999.0, 9,   -999.0,  -999.00, 9, -999.0000, 9, -999.0000, 9, -999.0000, 9, -999.0000, 9, -999.0000, 9, -999.0000, 9, -999, 9, -999, 9, -999, 9, -999, 9, -999, 9, -999, 9, -999, 9,  -999.00, 9,  -999.00, 9,  -999.00, 9,  -999.00, 9,   2.3812,  -999.00, 9,  125,   12.2137,  -52.3444
316N200309, A20, 58, 1, 8, 8, 2, 20031014, 0042, 12.2112, -52.3422, 5049,  3400.60,   3400.6,   2.5601,  34.9138, 2,  34.9158, 2,    255.9, 2,    256.5, 2,    32.48, 2,    19.99, 2,     0.00, 2,     1.35, 2,    0.150, 2,    0.076, 2,    0.013, 2, -999.000, 9,   2179.1, 2,   2326.5, 2,  -999.00, 9,  -999.00, 9, -999.000, 9, -999.000, -999.0000, 9, -999.0000,  -999.00, 9,  -999.00, -999.000, 9, -999.000,   -999.0, 9,   -999.0,  -999.00, 9, -999.0000, 9, -999.0000, 9, -999.0000, 9, -999.0000, 9, -999.0000, 9, -999.0000, 9, -999, 9, -999, 9, -999, 9, -999, 9, -999, 9, -999, 9, -999, 9,  -999.00, 9,  -999.00, 9,  -999.00, 9,  -999.00, 9,   2.2769,  -999.00, 9,  120,   12.2134,  -52.3441
316N200309, A20, 58, 1, 7, 7, 2, 20031014, 0042, 12.2112, -52.3422, 5049,  3600.60,   3600.6,   2.4734,  34.9074, 2,  34.9089, 2,    258.3, 2,    259.0, 2,    32.56, 2,    19.84, 2,     0.00, 2,     1.34, 2,    0.169, 2,    0.093, 2,    0.021, 2, -999.000, 9,   2178.7, 2,   2325.9, 2,    41.30, 2,  -999.00, 9, -999.000, 9, -999.000, -999.0000, 9, -999.0000,  -999.00, 9,  -999.00, -999.000, 9, -999.000,   -999.0, 9,   -999.0,  -999.00, 9,    0.1260, 2,    0.0900, 2,    0.0430, 2,    0.0330, 2,    0.0160, 2,    0.0180, 2, -999, 9, -999, 9, -999, 9, -999, 9, -999, 9, -999, 9, -999, 9,  -999.00, 9,  -999.00, 9,  -999.00, 9,  -999.00, 9,   2.1707,  -999.00, 9,  116,   12.2132,  -52.3439
316N200309, A20, 58, 1, 6, 6, 2, 20031014, 0042, 12.2112, -52.3422, 5049,  3850.60,   3850.6,   2.3909,  34.9017, 2,  34.9026, 2,    261.8, 2,    262.1, 2,    31.51, 2,    19.36, 2,     0.00, 2,     1.31, 2,    0.228, 2,    0.164, 2,    0.017, 2, -999.000, 9,   2176.2, 2,   2323.5, 2,  -999.00, 9,  -999.00, 9, -999.000, 9, -999.000, -999.0000, 9, -999.0000,  -999.00, 9,  -999.00, -999.000, 9, -999.000,   -999.0, 9,   -999.0,  -999.00, 9, -999.0000, 9, -999.0000, 9, -999.0000, 9, -999.0000, 9, -999.0000, 9, -999.0000, 9, -999, 9, -999, 9, -999, 9, -999, 9, -999, 9, -999, 9, -999, 9,  -999.00, 9,  -999.00, 9,  -999.00, 9,  -999.00, 9,   2.0626,  -999.00, 9,  111,   12.2129,  -52.3437
316N200309, A20, 58, 1, 5, 5, 2, 20031014, 0042, 12.2112, -52.3422, 5049,  4100.50,   4100.5,   2.3208,  34.8954, 2,  34.8961, 2,    262.5, 2,    262.6, 2,    32.74, 2,    19.40, 2,     0.00, 2,     1.31, 2,    0.243, 2,    0.136, 2,    0.027, 2, -999.000, 9,   2177.7, 2,   2326.1, 2,  -999.00, 9,  -999.00, 9, -999.000, 9, -999.000, -999.0000, 9, -999.0000,  -999.00, 9,  -999.00, -999.000, 9, -999.000,   -999.0, 9,   -999.0,  -999.00, 9, -999.0000, 9, -999.0000, 9, -999.0000, 9, -999.0000, 9, -999.0000, 9, -999.0000, 9, -999, 9, -999, 9, -999, 9, -999, 9, -999, 9, -999, 9, -999, 9,  -999.00, 9,  -999.00, 9,  -999.00, 9,  -999.00, 9,   1.9660,  -999.00, 9,  106,   12.2126,  -52.3434
316N200309, A20, 58, 1, 4, 4, 2, 20031014, 0042, 12.2112, -52.3422, 5049,  4349.80,   4349.8,   2.2707,  34.8891, 2,  34.8918, 2,    261.4, 2,    261.6, 2,    35.01, 2,    19.68, 2,     0.00, 2,     1.34, 2,    0.229, 2,    0.128, 2,    0.028, 2, -999.000, 9,   2177.2, 2,   2327.5, 2,  -999.00, 9,  -999.00, 9, -999.000, 9, -999.000, -999.0000, 9, -999.0000,  -999.00, 9,  -999.00, -999.000, 9, -999.000,   -999.0, 9,   -999.0,  -999.00, 9, -999.0000, 9, -999.0000, 9, -999.0000, 9, -999.0000, 9, -999.0000, 9, -999.0000, 9, -999, 9, -999, 9, -999, 9, -999, 9, -999, 9, -999, 9, -999, 9,  -999.00, 9,  -999.00, 9,  -999.00, 9,  -999.00, 9,   1.8883,  -999.00, 9,  100,   12.2123,  -52.3431
316N200309, A20, 58, 1, 3, 3, 2, 20031014, 0042, 12.2112, -52.3422, 5049,  4599.60,   4599.6,   2.2018,  34.8778, 2,  34.8784, 2,    257.8, 2,    257.6, 2,    40.81, 2,    20.54, 2,     0.00, 2,     1.40, 2,    0.000, 4,    0.000, 4,    0.000, 4, -999.000, 9,   2185.9, 2,   2331.6, 2,  -999.00, 9,  -999.00, 9, -999.000, 9, -999.000, -999.0000, 9, -999.0000,  -999.00, 9,  -999.00, -999.000, 9, -999.000,   -999.0, 9,   -999.0,  -999.00, 9, -999.0000, 9, -999.0000, 9, -999.0000, 9, -999.0000, 9, -999.0000, 9, -999.0000, 9, -999, 9, -999, 9, -999, 9, -999, 9, -999, 9, -999, 9, -999, 9,  -999.00, 9,  -999.00, 9,  -999.00, 9,  -999.00, 9,   1.7918,  -999.00, 9,   55,   12.2120,  -52.3428
316N200309, A20, 58, 1, 2, 2, 2, 20031014, 0042, 12.2112, -52.3422, 5049,  4850.70,   4850.7,   1.9473,  34.8445, 2,  34.8458, 2,    248.6, 2,    247.4, 2,    56.32, 2,    22.92, 2,     0.00, 2,     1.56, 2,    0.103, 2,    0.068, 2,    0.010, 2, -999.000, 9,   2203.6, 2,   2342.2, 2,  -999.00, 9,  -999.00, 9, -999.000, 9, -999.000, -999.0000, 9, -999.0000,  -999.00, 9,  -999.00, -999.000, 9, -999.000,   -999.0, 9,   -999.0,  -999.00, 9, -999.0000, 9, -999.0000, 9, -999.0000, 9, -999.0000, 9, -999.0000, 9, -999.0000, 9, -999, 9, -999, 9, -999, 9, -999, 9, -999, 9, -999, 9, -999, 9,  -999.00, 9,  -999.00, 9,  -999.00, 9,  -999.00, 9,   1.5152,  -999.00, 9,   49,   12.2115,  -52.3424
316N200309, A20, 58, 1, 1, 1, 2, 20031014, 0042, 12.2112, -52.3422, 5049,  5115.20,   5115.2,   1.7151,  34.8131, 2,  34.8161, 3,    240.7, 2,    241.2, 2,    69.81, 2,    24.92, 2,     0.00, 2,     1.70, 2,    0.073, 2,    0.049, 2,    0.008, 2, -999.000, 9,   2217.8, 2,   2348.4, 2,    41.00, 2,  -999.00, 9, -999.000, 9, -999.000, -999.0000, 9, -999.0000,  -999.00, 9,  -999.00, -999.000, 9, -999.000,   -999.0, 9,   -999.0,  -999.00, 9,    0.1260, 2,    0.0900, 2,    0.0450, 2,    0.0330, 2,    0.0150, 2,    0.0180, 2, -999, 9, -999, 9, -999, 9, -999, 9, -999, 9, -999, 9, -999, 9,  -999.00, 9,  -999.00, 9,  -999.00, 9,  -999.00, 9,   1.2584,  -999.00, 9,   42,   12.2111,  -52.3422
316N200309, A20, 58, 2, 4, 4, 9, 20031013, 2241, 12.2012, -52.3342, 5050,     2.90,      2.9,  29.2375,  35.9760, 2, -999.0000, 9,    185.8, 2,   -999.0, 9,  -999.00, 9,  -999.00, 9,  -999.00, 9,  -999.00, 9, -999.000, 9, -999.000, 9, -999.000, 9, -999.000, 9,   -999.0, 9,   -999.0, 9,  -999.00, 9,  -999.00, 9, -999.000, 9, -999.000, -999.0000, 9, -999.0000,  -999.00, 9,  -999.00, -999.000, 9, -999.000,   -999.0, 9,   -999.0,  -999.00, 9, -999.0000, 9, -999.0000, 9, -999.0000, 9, -999.0000, 9, -999.0000, 9, -999.0000, 9, -999.0, 9, -999.0, 9, -999.0, 9, -999.0, 9, -999.0, 9, -999.0, 9, -999.0, 9,  -999.00, 9,  -999.00, 9,  -999.00, 9,  -999.00, 9,  29.2368,  -999.00, 9, 2246,   12.2018,  -52.3343
316N200309, A20, 58, 2, 5, 5, 9, 20031013, 2241, 12.2012, -52.3342, 5050,     3.00,      3.0,  29.2336,  35.9755, 2, -999.0000, 9,    185.8, 2,   -999.0, 9,  -999.00, 9,  -999.00, 9,  -999.00, 9,  -999.00, 9, -999.000, 9, -999.000, 9, -999.000, 9, -999.000, 9,   -999.0, 9,   -999.0, 9,  -999.00, 9,  -999.00, 9, -999.000, 9, -999.000, -999.0000, 9, -999.0000,  -999.00, 9,  -999.00, -999.000, 9, -999.000,   -999.0, 9,   -999.0,  -999.00, 9, -999.0000, 9, -999.0000, 9, -999.0000, 9, -999.0000, 9, -999.0000, 9, -999.0000, 9, -999.0, 9, -999.0, 9, -999.0, 9, -999.0, 9, -999.0, 9, -999.0, 9, -999.0, 9,  -999.00, 9,  -999.00, 9,  -999.00, 9,  -999.00, 9,  29.2329,  -999.00, 9, 2247,   12.2018,  -52.3343
316N200309, A20, 58, 2, 3, 3, 9, 20031013, 2241, 12.2012, -52.3342, 5050,     3.10,      3.1,  29.2474,  35.9759, 2, -999.0000, 9,    185.8, 2,   -999.0, 9,  -999.00, 9,  -999.00, 9,  -999.00, 9,  -999.00, 9, -999.000, 9, -999.000, 9, -999.000, 9, -999.000, 9,   -999.0, 9,   -999.0, 9,  -999.00, 9,  -999.00, 9, -999.000, 9, -999.000, -999.0000, 9, -999.0000,  -999.00, 9,  -999.00, -999.000, 9, -999.000,   -999.0, 9,   -999.0,  -999.00, 9, -999.0000, 9, -999.0000, 9, -999.0000, 9, -999.0000, 9, -999.0000, 9, -999.0000, 9, -999.0, 9, -999.0, 9, -999.0, 9, -999.0, 9, -999.0, 9, -999.0, 9, -999.0, 9,  -999.00, 9,  -999.00, 9,  -999.00, 9,  -999.00, 9,  29.2467,  -999.00, 9, 2246,   12.2018,  -52.3343
316N200309, A20, 58, 2, 2, 2, 9, 20031013, 2241, 12.2012, -52.3342, 5050,   199.30,    199.3,  15.8250,  36.1445, 2, -999.0000, 9,    140.2, 2,   -999.0, 9,  -999.00, 9,  -999.00, 9,  -999.00, 9,  -999.00, 9, -999.000, 9, -999.000, 9, -999.000, 9, -999.000, 9,   -999.0, 9,   -999.0, 9,  -999.00, 9,  -999.00, 9, -999.000, 9, -999.000, -999.0000, 9, -999.0000,  -999.00, 9,  -999.00, -999.000, 9, -999.000,   -999.0, 9,   -999.0,  -999.00, 9, -999.0000, 9, -999.0000, 9, -999.0000, 9, -999.0000, 9, -999.0000, 9, -999.0000, 9, -999.0, 9, -999.0, 9, -999.0, 9, -999.0, 9, -999.0, 9, -999.0, 9, -999.0, 9,  -999.00, 9,  -999.00, 9,  -999.00, 9,  -999.00, 9,  15.7934,  -999.00, 9, 2242,   12.2012,  -52.3342
316N200309, A20, 58, 2, 1, 1, 9, 20031013, 2241, 12.2012, -52.3342, 5050,   199.40,    199.4,  15.8303,  36.1454, 2, -999.0000, 9,    140.2, 2,   -999.0, 9,  -999.00, 9,  -999.00, 9,  -999.00, 9,  -999.00, 9, -999.000, 9, -999.000, 9, -999.000, 9, -999.000, 9,   -999.0, 9,   -999.0, 9,  -999.00, 9,  -999.00, 9, -999.000, 9, -999.000, -999.0000, 9, -999.0000,  -999.00, 9,  -999.00, -999.000, 9, -999.000,   -999.0, 9,   -999.0,  -999.00, 9, -999.0000, 9, -999.0000, 9, -999.0000, 9, -999.0000, 9, -999.0000, 9, -999.0000, 9, -999.0, 9, -999.0, 9, -999.0, 9, -999.0, 9, -999.0, 9, -999.0, 9, -999.0, 9,  -999.00, 9,  -999.00, 9,  -999.00, 9,  -999.00, 9,  15.7987,  -999.00, 9, 2242,   12.2012,  -52.3342