BOTTLE,20220816CCHSIOAMB
EXPOCODE,SECT_ID,STNNBR,CASTNO,SAMPNO,BTLNBR,BTLNBR_FLAG_W,DATE,TIME,LATITUDE,LONGITUDE,DEPTH,CTDRAW,CTDPRS,CTDTMP,CTDSAL,CTDSAL_FLAG_W,SALNTY,SALNTY_FLAG_W,CTDOXY,CTDOXY_FLAG_W,OXYGEN,OXYGEN_FLAG_W,SILCAT,SILCAT_FLAG_W,NITRAT,NITRAT_FLAG_W,NITRIT,NITRIT_FLAG_W,PHSPHT,PHSPHT_FLAG_W,CFC-11,CFC-11_FLAG_W,CFC-12,CFC-12_FLAG_W,CFC113,CFC113_FLAG_W,CCL4,CCL4_FLAG_W,TCARBN,TCARBN_FLAG_W,ALKALI,ALKALI_FLAG_W,DOC,DOC_FLAG_W,TDN,TDN_FLAG_W,TRITUM,TRITUM_FLAG_W,TRITER,HELIUM,HELIUM_FLAG_W,HELIER,DELHE3,DELHE3_FLAG_W,DELHER,NEON,NEON_FLAG_W,NEONER,DELC14,DELC14_FLAG_W,C14ERR,DELC13,DELC13_FLAG_W,CDOM325,CDOM325_FLAG_W,CDOM340,CDOM340_FLAG_W,CDOM380,CDOM380_FLAG_W,CDOM412,CDOM412_FLAG_W,CDOMSL,CDOMSL_FLAG_W,CDOMSN,CDOMSN_FLAG_W,DCNS,DCNS_FLAG_W,ARABI,ARABI_FLAG_W,FUCO,FUCO_FLAG_W,GALA,GALA_FLAG_W,GLUC,GLUC_FLAG_W,MAN,MAN_FLAG_W,RHAM,RHAM_FLAG_W,BRDU,BRDU_FLAG_W,PEUK,PEUK_FLAG_W,PROC,PROC_FLAG_W,SYN,SYN_FLAG_W,THETA,BACT,BACT_FLAG_W,BTL_TIME,BTL_LAT,BTL_LON
,,,,,,,,,,,METERS,DBAR,DBAR,ITS-90,PSS-78,,PSS-78,,UMOL/KG,,UMOL/KG,,UMOL/KG,,UMOL/KG,,UMOL/KG,,UMOL/KG,,PMOL/KG,,PMOL/KG,,PMOL/KG,,PMOL/KG,,UMOL/KG,,UMOL/KG,,UMOL/KG,,UMOL/KG,,TU,,TU,NMOL/KG,,NMOL/KG,PERCNT,,PERCNT,NMOL/KG,,NMOL/KG,/MILLE,,/MILLE,/MILLE,,1/M,,1/M,,1/M,,1/M,,1/NM,,1/NM,,NMOL/KG,,NMOL/KG,,NMOL/KG,,NMOL/KG,,NMOL/KG,,NMOL/KG,,NMOL/KG,,PMOL/L/H,,E6/L,,E7/L,,E6/L,,DEG C,E8/L,,,,
316N200309, A20, 56, 1, 10, 10, 2, 20031013, 0930, 13.5710, -52.3382, 5243,  3124.20,   3124.2,   2.6529,  34.9221, 2,  34.9207, 2,    252.0, 2,    252.0, 2,    33.74, 2,    20.53, 2,     0.00, 2,     1.38, 2,    0.058, 2,    0.028, 2,    0.002, 2, -999.000, 9,   2181.1, 2,   2330.1, 2,  -999.00, 9,  -999.00, 9, -999.000, 9, -999.000, -999.0000, 9, -999.0000,  -999.00, 9,  -999.00, -999.000, 9, -999.000,   -999.0, 9,   -999.0,  -999.00, 9, -999.0000, 9, -999.0000, 9, -999.0000, 9, -999.0000, 9, -999.0000, 9, -999.0000, 9, -999, 9, -999, 9, -999, 9, -999, 9, -999, 9, -999, 9, -999, 9,  -999.00, 9,  -999.00, 9,  -999.00, 9,  -999.00, 9,   2.3969,  -999.00, 9, 1018,   13.5751,  -52.3419
316N200309, A20, 56, 1, 9, 9, 2, 20031013, 0930, 13.5710, -52.3382, 5243,  3375.00,   3375.0,   2.5570,  34.9139, 2,  34.9134, 2,    253.1, 2,    253.4, 2,    34.99, 2,    20.52, 2,     0.00, 2,     1.38, 2,    0.062, 2,    0.031, 2,    0.005, 2, -999.000, 9,   2182.9, 2,   2331.3, 2,  -999.00, 9,  -999.00, 9, -999.000, 9, -999.000, -999.0000, 9, -999.0000,  -999.00, 9,  -999.00, -999.000, 9, -999.000,   -999.0, 9,   -999.0,  -999.00, 9, -999.0000, 9, -999.0000, 9, -999.0000, 9, -999.0000, 9, -999.0000, 9, -999.0000, 9, -999, 9, -999, 9, -999, 9, -999, 9, -999, 9, -999, 9, -999, 9,  -999.00, 9,  -999.00, 9,  -999.00, 9,  -999.00, 9,   2.2766,  -999.00, 9, 1013,   13.5746,  -52.3417
316N200309, A20, 56, 1, 8, 8, 2, 20031013, 0930, 13.5710, -52.3382, 5243,  3624.90,   3624.9,   2.4421,  34.9050, 2,  34.9054, 2,    256.4, 2,    256.4, 2,    34.88, 2,    20.14, 2,     0.00, 2,     1.36, 2,    0.113, 2,    0.067, 2,    0.010, 2, -999.000, 9,   2180.8, 2,   2329.3, 2,  -999.00, 9,  -999.00, 9, -999.000, 9, -999.000, -999.0000, 9, -999.0000,  -999.00, 9,  -999.00, -999.000, 9, -999.000,   -999.0, 9,   -999.0,  -999.00, 9, -999.0000, 9, -999.0000, 9, -999.0000, 9, -999.0000, 9, -999.0000, 9, -999.0000, 9, -999, 9, -999, 9, -999, 9, -999, 9, -999, 9, -999, 9, -999, 9,  -999.00, 9,  -999.00, 9,  -999.00, 9,  -999.00, 9,   2.1376,  -999.00, 9, 1008,   13.5741,  -52.3414
316N200309, A20, 56, 1, 7, 7, 2, 20031013, 0930, 13.5710, -52.3382, 5243,  3875.00,   3875.0,   2.3454,  34.8981, 2,  34.9004, 2,    258.9, 2,    259.7, 2,    34.46, 2,    19.81, 2,     0.00, 2,     1.34, 2,    0.154, 2,    0.082, 2,    0.012, 2, -999.000, 9,   2179.0, 2,   2329.0, 2,    39.60, 2,  -999.00, 9, -999.000, 9, -999.000, -999.0000, 9, -999.0000,  -999.00, 9,  -999.00, -999.000, 9, -999.000,   -999.0, 9,   -999.0,  -999.00, 9, -999.0000, 9, -999.0000, 9, -999.0000, 9, -999.0000, 9, -999.0000, 9, -999.0000, 9, -999, 9, -999, 9, -999, 9, -999, 9, -999, 9, -999, 9, -999, 9,  -999.00, 9,  -999.00, 9,  -999.00, 9,  -999.00, 9,   2.0156,  -999.00, 9, 1003,   13.5737,  -52.3411
316N200309, A20, 56, 1, 6, 6, 2, 20031013, 0930, 13.5710, -52.3382, 5243,  4125.40,   4125.4,   2.2664,  34.8909, 2,  34.8900, 2,    259.8, 2,    260.9, 2,    35.51, 2,    19.85, 2,     0.00, 2,     1.35, 2,    0.183, 2,    0.095, 2,    0.014, 2, -999.000, 9,   2180.6, 2,   2328.1, 2,  -999.00, 9,  -999.00, 9, -999.000, 9, -999.000, -999.0000, 9, -999.0000,  -999.00, 9,  -999.00, -999.000, 9, -999.000,   -999.0, 9,   -999.0,  -999.00, 9, -999.0000, 9, -999.0000, 9, -999.0000, 9, -999.0000, 9, -999.0000, 9, -999.0000, 9, -999, 9, -999, 9, -999, 9, -999, 9, -999, 9, -999, 9, -999, 9,  -999.00, 9,  -999.00, 9,  -999.00, 9,  -999.00, 9,   1.9104,  -999.00, 9,  958,   13.5732,  -52.3407
316N200309, A20, 56, 1, 5, 5, 2, 20031013, 0930, 13.5710, -52.3382, 5243,  4373.00,   4373.0,   2.2005,  34.8815, 2,  34.8810, 2,    258.6, 2,    258.8, 2,    39.35, 2,    20.36, 2,     0.00, 2,     1.39, 2,    0.172, 2,    0.093, 2,    0.011, 2, -999.000, 9,   2184.7, 2,   2331.6, 2,  -999.00, 9,  -999.00, 9, -999.000, 9, -999.000, -999.0000, 9, -999.0000,  -999.00, 9,  -999.00, -999.000, 9, -999.000,   -999.0, 9,   -999.0,  -999.00, 9, -999.0000, 9, -999.0000, 9, -999.0000, 9, -999.0000, 9, -999.0000, 9, -999.0000, 9, -999, 9, -999, 9, -999, 9, -999, 9, -999, 9, -999, 9, -999, 9,  -999.00, 9,  -999.00, 9,  -999.00, 9,  -999.00, 9,   1.8176,  -999.00, 9,  953,   13.5728,  -52.3402
316N200309, A20, 56, 1, 4, 4, 2, 20031013, 0930, 13.5710, -52.3382, 5243,  4624.40,   4624.4,   2.0652,  34.8623, 2,  34.8635, 2,    253.4, 2,    252.9, 2,    48.32, 2,    21.69, 2,     0.00, 2,     1.48, 2,    0.125, 2,    0.067, 2,    0.010, 2, -999.000, 9,   2195.6, 2,   2337.8, 2,    39.60, 2,  -999.00, 9, -999.000, 9, -999.000, -999.0000, 9, -999.0000,  -999.00, 9,  -999.00, -999.000, 9, -999.000,   -999.0, 9,   -999.0,  -999.00, 9, -999.0000, 9, -999.0000, 9, -999.0000, 9, -999.0000, 9, -999.0000, 9, -999.0000, 9, -999, 9, -999, 9, -999, 9, -999, 9, -999, 9, -999, 9, -999, 9,  -999.00, 9,  -999.00, 9,  -999.00, 9,  -999.00, 9,   1.6566,  -999.00, 9,  947,   13.5724,  -52.3396
316N200309, A20, 56, 1, 3, 3, 2, 20031013, 0930, 13.5710, -52.3382, 5243,  4874.60,   4874.6,   1.8688,  34.8353, 2,  34.8348, 2,    246.2, 2,    245.6, 2,    60.44, 2,    23.60, 2,     0.00, 2,     1.61, 2,    0.091, 2,    0.050, 2,    0.011, 2, -999.000, 9,   2207.1, 2,   2345.4, 2,  -999.00, 9,  -999.00, 9, -999.000, 9, -999.000, -999.0000, 9, -999.0000,  -999.00, 9,  -999.00, -999.000, 9, -999.000,   -999.0, 9,   -999.0,  -999.00, 9, -999.0000, 9, -999.0000, 9, -999.0000, 9, -999.0000, 9, -999.0000, 9, -999.0000, 9, -999, 9, -999, 9, -999, 9, -999, 9, -999, 9, -999, 9, -999, 9,  -999.00, 9,  -999.00, 9,  -999.00, 9,  -999.00, 9,   1.4365,  -999.00, 9,  942,   13.5720,  -52.3390
316N200309, A20, 56, 1, 2, 2, 2, 20031013, 0930, 13.5710, -52.3382, 5243,  5125.50,   5125.5,   1.7808,  34.8209, 2,  34.8216, 2,    242.0, 2,    242.5, 2,    66.63, 2,    24.50, 2,     0.00, 2,     1.68, 2,    0.074, 2,    0.039, 2,    0.006, 2, -999.000, 9,   2213.4, 2,   2347.7, 2,  -999.00, 9,  -999.00, 9, -999.000, 9, -999.000, -999.0000, 9, -999.0000,  -999.00, 9,  -999.00, -999.000, 9, -999.000,   -999.0, 9,   -999.0,  -999.00, 9, -999.0000, 9, -999.0000, 9, -999.0000, 9, -999.0000, 9, -999.0000, 9, -999.0000, 9, -999, 9, -999, 9, -999, 9, -999, 9, -999, 9, -999, 9, -999, 9,  -999.00, 9,  -999.00, 9,  -999.00, 9,  -999.00, 9,   1.3205,  -999.00, 9,  936,   13.5715,  -52.3384
316N200309, A20, 56, 1, 1, 1, 2, 20031013, 0930, 13.5710, -52.3382, 5243,  5292.90,   5292.9,   1.7479,  34.8141, 2,  34.8153, 2,    240.5, 2,    241.5, 2,    69.25, 2,    24.93, 2,     0.00, 2,     1.71, 2,    0.075, 2,    0.040, 2,    0.001, 2, -999.000, 9,   2216.0, 2,   2349.9, 2,    39.30, 2,  -999.00, 9, -999.000, 9, -999.000, -999.0000, 9, -999.0000,  -999.00, 9,  -999.00, -999.000, 9, -999.000,   -999.0, 9,   -999.0,  -999.00, 9, -999.0000, 9, -999.0000, 9, -999.0000, 9, -999.0000, 9, -999.0000, 9, -999.0000, 9, -999, 9, -999, 9, -999, 9, -999, 9, -999, 9, -999, 9, -999, 9,  -999.00, 9,  -999.00, 9,  -999.00, 9,  -999.00, 9,   1.2677,  -999.00, 9,  931,   13.5711,  -52.3382