BOTTLE,20220816CCHSIOAMB
EXPOCODE,SECT_ID,STNNBR,CASTNO,SAMPNO,BTLNBR,BTLNBR_FLAG_W,DATE,TIME,LATITUDE,LONGITUDE,DEPTH,CTDRAW,CTDPRS,CTDTMP,CTDSAL,CTDSAL_FLAG_W,SALNTY,SALNTY_FLAG_W,CTDOXY,CTDOXY_FLAG_W,OXYGEN,OXYGEN_FLAG_W,SILCAT,SILCAT_FLAG_W,NITRAT,NITRAT_FLAG_W,NITRIT,NITRIT_FLAG_W,PHSPHT,PHSPHT_FLAG_W,CFC-11,CFC-11_FLAG_W,CFC-12,CFC-12_FLAG_W,CFC113,CFC113_FLAG_W,CCL4,CCL4_FLAG_W,TCARBN,TCARBN_FLAG_W,ALKALI,ALKALI_FLAG_W,DOC,DOC_FLAG_W,TDN,TDN_FLAG_W,TRITUM,TRITUM_FLAG_W,TRITER,HELIUM,HELIUM_FLAG_W,HELIER,DELHE3,DELHE3_FLAG_W,DELHER,NEON,NEON_FLAG_W,NEONER,DELC14,DELC14_FLAG_W,C14ERR,DELC13,DELC13_FLAG_W,CDOM325,CDOM325_FLAG_W,CDOM340,CDOM340_FLAG_W,CDOM380,CDOM380_FLAG_W,CDOM412,CDOM412_FLAG_W,CDOMSL,CDOMSL_FLAG_W,CDOMSN,CDOMSN_FLAG_W,DCNS,DCNS_FLAG_W,ARABI,ARABI_FLAG_W,FUCO,FUCO_FLAG_W,GALA,GALA_FLAG_W,GLUC,GLUC_FLAG_W,MAN,MAN_FLAG_W,RHAM,RHAM_FLAG_W,BRDU,BRDU_FLAG_W,PEUK,PEUK_FLAG_W,PROC,PROC_FLAG_W,SYN,SYN_FLAG_W,THETA,BACT,BACT_FLAG_W,BTL_TIME,BTL_LAT,BTL_LON
,,,,,,,,,,,METERS,DBAR,DBAR,ITS-90,PSS-78,,PSS-78,,UMOL/KG,,UMOL/KG,,UMOL/KG,,UMOL/KG,,UMOL/KG,,UMOL/KG,,PMOL/KG,,PMOL/KG,,PMOL/KG,,PMOL/KG,,UMOL/KG,,UMOL/KG,,UMOL/KG,,UMOL/KG,,TU,,TU,NMOL/KG,,NMOL/KG,PERCNT,,PERCNT,NMOL/KG,,NMOL/KG,/MILLE,,/MILLE,/MILLE,,1/M,,1/M,,1/M,,1/M,,1/NM,,1/NM,,NMOL/KG,,NMOL/KG,,NMOL/KG,,NMOL/KG,,NMOL/KG,,NMOL/KG,,NMOL/KG,,PMOL/L/H,,E6/L,,E7/L,,E6/L,,DEG C,E8/L,,,,
316N200309, A20, 6, 1, 19, 19, 2, 20030926, 0736, 42.8173, -50.9732, 1366,     8.40,      8.4,  13.6003,  32.3188, 2,  32.3226, 2,    267.7, 2,    271.3, 2,     0.00, 2,     0.17, 2,     0.00, 2,     0.17, 2,    3.509, 2,    1.955, 2,    0.319, 2, -999.000, 9,   1976.6, 2,   2179.4, 2,  -999.00, 9,  -999.00, 9, -999.000, 9, -999.000, -999.0000, 9, -999.0000,  -999.00, 9,  -999.00, -999.000, 9, -999.000,   -999.0, 9,   -999.0,  -999.00, 9, -999.0000, 9, -999.0000, 9, -999.0000, 9, -999.0000, 9, -999.0000, 9, -999.0000, 9, -999, 9, -999, 9, -999, 9, -999, 9, -999, 9, -999, 9, -999, 9,  -999.00, 9,  -999.00, 9,  -999.00, 9,  -999.00, 9,  13.5992,  -999.00, 9,  816,   42.8171,  -50.9806
316N200309, A20, 6, 1, 18, 18, 2, 20030926, 0736, 42.8173, -50.9732, 1366,    28.30,     28.3,  10.9239,  33.1721, 2,  33.1755, 2,    315.3, 2,    323.2, 2,     0.07, 2,     0.11, 2,     0.00, 2,     0.23, 2,    4.523, 6,    2.474, 6,    0.419, 2,    4.106, 2,   -999.0, 9,   -999.0, 9,  -999.00, 9,  -999.00, 9, -999.000, 9, -999.000, -999.0000, 9, -999.0000,  -999.00, 9,  -999.00, -999.000, 9, -999.000,   -999.0, 9,   -999.0,  -999.00, 9, -999.0000, 9, -999.0000, 9, -999.0000, 9, -999.0000, 9, -999.0000, 9, -999.0000, 9, -999, 9, -999, 9, -999, 9, -999, 9, -999, 9, -999, 9, -999, 9,  -999.00, 9,  -999.00, 9,  -999.00, 9,  -999.00, 9,  10.9205,  -999.00, 9,  815,   42.8172,  -50.9804
316N200309, A20, 6, 1, 17, 17, 2, 20030926, 0736, 42.8173, -50.9732, 1366,    52.90,     52.9,   2.4815,  33.3603, 2,  33.4080, 2,    293.6, 2,    300.9, 2,     4.35, 2,     8.37, 2,     0.03, 2,     0.88, 2,    5.927, 2,    3.110, 2,    0.535, 2, -999.000, 9,   -999.0, 9,   -999.0, 9,  -999.00, 9,  -999.00, 9, -999.000, 9, -999.000, -999.0000, 9, -999.0000,  -999.00, 9,  -999.00, -999.000, 9, -999.000,   -999.0, 9,   -999.0,  -999.00, 9, -999.0000, 9, -999.0000, 9, -999.0000, 9, -999.0000, 9, -999.0000, 9, -999.0000, 9, -999, 9, -999, 9, -999, 9, -999, 9, -999, 9, -999, 9, -999, 9,  -999.00, 9,  -999.00, 9,  -999.00, 9,  -999.00, 9,   2.4787,  -999.00, 9,  814,   42.8172,  -50.9801
316N200309, A20, 6, 1, 16, 16, 2, 20030926, 0736, 42.8173, -50.9732, 1366,    78.20,     78.2,   5.1104,  33.9372, 2,  33.9279, 2,    271.9, 2,    274.4, 2,     5.06, 2,     9.49, 2,     0.01, 2,     0.86, 2,    5.117, 2,    2.682, 2,    0.443, 2, -999.000, 9,   -999.0, 9,   -999.0, 9,  -999.00, 9,  -999.00, 9, -999.000, 9, -999.000, -999.0000, 9, -999.0000,  -999.00, 9,  -999.00, -999.000, 9, -999.000,   -999.0, 9,   -999.0,  -999.00, 9, -999.0000, 9, -999.0000, 9, -999.0000, 9, -999.0000, 9, -999.0000, 9, -999.0000, 9, -999, 9, -999, 9, -999, 9, -999, 9, -999, 9, -999, 9, -999, 9,  -999.00, 9,  -999.00, 9,  -999.00, 9,  -999.00, 9,   5.1044,  -999.00, 9,  812,   42.8172,  -50.9798
316N200309, A20, 6, 1, 15, 15, 2, 20030926, 0736, 42.8173, -50.9732, 1366,   102.70,    102.7,   7.8730,  34.5787, 2,  34.5802, 2,    231.5, 2,    239.8, 2,     5.45, 2,    11.49, 2,     0.01, 2,     0.88, 2,    4.017, 2,    2.137, 2,    0.311, 2, -999.000, 9,   -999.0, 9,   -999.0, 9,  -999.00, 9,  -999.00, 9, -999.000, 9, -999.000, -999.0000, 9, -999.0000,  -999.00, 9,  -999.00, -999.000, 9, -999.000,   -999.0, 9,   -999.0,  -999.00, 9, -999.0000, 9, -999.0000, 9, -999.0000, 9, -999.0000, 9, -999.0000, 9, -999.0000, 9, -999, 9, -999, 9, -999, 9, -999, 9, -999, 9, -999, 9, -999, 9,  -999.00, 9,  -999.00, 9,  -999.00, 9,  -999.00, 9,   7.8628,  -999.00, 9,  811,   42.8173,  -50.9796
316N200309, A20, 6, 1, 14, 14, 2, 20030926, 0736, 42.8173, -50.9732, 1366,   127.60,    127.6,   8.0570,  34.6632, 2,  34.6618, 2,    230.6, 2,    230.1, 2,     6.26, 2,    12.80, 2,     0.01, 2,     0.94, 2,    3.766, 2,    2.015, 2,    0.285, 2, -999.000, 9,   -999.0, 9,   -999.0, 9,  -999.00, 9,  -999.00, 9, -999.000, 9, -999.000, -999.0000, 9, -999.0000,  -999.00, 9,  -999.00, -999.000, 9, -999.000,   -999.0, 9,   -999.0,  -999.00, 9, -999.0000, 9, -999.0000, 9, -999.0000, 9, -999.0000, 9, -999.0000, 9, -999.0000, 9, -999, 9, -999, 9, -999, 9, -999, 9, -999, 9, -999, 9, -999, 9,  -999.00, 9,  -999.00, 9,  -999.00, 9,  -999.00, 9,   8.0442,  -999.00, 9,  810,   42.8173,  -50.9793
316N200309, A20, 6, 1, 13, 13, 2, 20030926, 0736, 42.8173, -50.9732, 1366,   151.70,    151.7,   9.1556,  34.9201, 2,  34.9217, 2,    202.7, 2,    208.0, 2,     7.07, 2,    14.61, 2,     0.01, 2,     1.01, 2,    3.126, 2,    1.698, 2,    0.212, 2, -999.000, 9,   -999.0, 9,   -999.0, 9,  -999.00, 9,  -999.00, 9, -999.000, 9, -999.000, -999.0000, 9, -999.0000,  -999.00, 9,  -999.00, -999.000, 9, -999.000,   -999.0, 9,   -999.0,  -999.00, 9, -999.0000, 9, -999.0000, 9, -999.0000, 9, -999.0000, 9, -999.0000, 9, -999.0000, 9, -999, 9, -999, 9, -999, 9, -999, 9, -999, 9, -999, 9, -999, 9,  -999.00, 9,  -999.00, 9,  -999.00, 9,  -999.00, 9,   9.1390,  -999.00, 9,  808,   42.8172,  -50.9791
316N200309, A20, 6, 1, 12, 12, 2, 20030926, 0736, 42.8173, -50.9732, 1366,   202.20,    202.2,   8.4637,  34.8675, 2,  34.8890, 2,    212.0, 2,    198.2, 2,     8.72, 2,    16.58, 2,     0.01, 2,     1.12, 2,    2.942, 2,    1.572, 2,    0.195, 2, -999.000, 9,   -999.0, 9,   -999.0, 9,  -999.00, 9,  -999.00, 9, -999.000, 9, -999.000, -999.0000, 9, -999.0000,  -999.00, 9,  -999.00, -999.000, 9, -999.000,   -999.0, 9,   -999.0,  -999.00, 9, -999.0000, 9, -999.0000, 9, -999.0000, 9, -999.0000, 9, -999.0000, 9, -999.0000, 9, -999, 9, -999, 9, -999, 9, -999, 9, -999, 9, -999, 9, -999, 9,  -999.00, 9,  -999.00, 9,  -999.00, 9,  -999.00, 9,   8.4426,  -999.00, 9,  807,   42.8172,  -50.9787
316N200309, A20, 6, 1, 11, 11, 2, 20030926, 0736, 42.8173, -50.9732, 1366,   252.10,    252.1,   8.4130,  35.0108, 2,  35.0049, 2,    169.2, 2,    166.3, 2,    11.99, 2,    21.34, 2,     0.01, 2,     1.41, 2,    1.991, 2,    1.051, 2,    0.111, 2, -999.000, 9,   -999.0, 9,   -999.0, 9,  -999.00, 9,  -999.00, 9, -999.000, 9, -999.000, -999.0000, 9, -999.0000,  -999.00, 9,  -999.00, -999.000, 9, -999.000,   -999.0, 9,   -999.0,  -999.00, 9, -999.0000, 9, -999.0000, 9, -999.0000, 9, -999.0000, 9, -999.0000, 9, -999.0000, 9, -999, 9, -999, 9, -999, 9, -999, 9, -999, 9, -999, 9, -999, 9,  -999.00, 9,  -999.00, 9,  -999.00, 9,  -999.00, 9,   8.3866,  -999.00, 9,  805,   42.8171,  -50.9784
316N200309, A20, 6, 1, 10, 10, 2, 20030926, 0736, 42.8173, -50.9732, 1366,   301.40,    301.4,   8.0753,  35.0247, 2,  35.0246, 2,    160.0, 2,    164.7, 2,    12.91, 2,    22.41, 2,     0.01, 2,     1.47, 2,    1.722, 2,    0.912, 2,    0.095, 2, -999.000, 9,   -999.0, 9,   -999.0, 9,  -999.00, 9,  -999.00, 9, -999.000, 9, -999.000, -999.0000, 9, -999.0000,  -999.00, 9,  -999.00, -999.000, 9, -999.000,   -999.0, 9,   -999.0,  -999.00, 9, -999.0000, 9, -999.0000, 9, -999.0000, 9, -999.0000, 9, -999.0000, 9, -999.0000, 9, -999, 9, -999, 9, -999, 9, -999, 9, -999, 9, -999, 9, -999, 9,  -999.00, 9,  -999.00, 9,  -999.00, 9,  -999.00, 9,   8.0444,  -999.00, 9,  803,   42.8172,  -50.9781
316N200309, A20, 6, 1, 9, 9, 2, 20030926, 0736, 42.8173, -50.9732, 1366,   400.60,    400.6,   6.8817,  35.0299, 2,  35.0321, 2,    181.5, 2,    185.0, 2,    13.21, 2,    21.95, 2,     0.01, 2,     1.44, 2,    1.640, 2,    0.860, 2,    0.084, 2, -999.000, 9,   -999.0, 9,   -999.0, 9,  -999.00, 9,  -999.00, 9, -999.000, 9, -999.000, -999.0000, 9, -999.0000,  -999.00, 9,  -999.00, -999.000, 9, -999.000,   -999.0, 9,   -999.0,  -999.00, 9, -999.0000, 9, -999.0000, 9, -999.0000, 9, -999.0000, 9, -999.0000, 9, -999.0000, 9, -999, 9, -999, 9, -999, 9, -999, 9, -999, 9, -999, 9, -999, 9,  -999.00, 9,  -999.00, 9,  -999.00, 9,  -999.00, 9,   6.8439,  -999.00, 9,  801,   42.8172,  -50.9775
316N200309, A20, 6, 1, 8, 8, 2, 20030926, 0736, 42.8173, -50.9732, 1366,   501.30,    501.3,   5.2052,  34.9087, 2,  34.9077, 2,    222.6, 2,    229.6, 2,    11.76, 2,    19.22, 2,     0.01, 2,     1.28, 2,    2.761, 2,    1.442, 2,    0.189, 2, -999.000, 9,   -999.0, 9,   -999.0, 9,  -999.00, 9,  -999.00, 9, -999.000, 9, -999.000, -999.0000, 9, -999.0000,  -999.00, 9,  -999.00, -999.000, 9, -999.000,   -999.0, 9,   -999.0,  -999.00, 9, -999.0000, 9, -999.0000, 9, -999.0000, 9, -999.0000, 9, -999.0000, 9, -999.0000, 9, -999, 9, -999, 9, -999, 9, -999, 9, -999, 9, -999, 9, -999, 9,  -999.00, 9,  -999.00, 9,  -999.00, 9,  -999.00, 9,   5.1641,  -999.00, 9,  758,   42.8173,  -50.9769
316N200309, A20, 6, 1, 7, 7, 2, 20030926, 0736, 42.8173, -50.9732, 1366,   626.40,    626.4,   4.2189,  34.8398, 2,  34.8426, 2,    257.1, 2,    261.2, 2,    10.42, 2,    17.44, 2,     0.01, 2,     1.17, 2,    3.667, 2,    1.898, 2,    0.285, 2, -999.000, 9,   -999.0, 9,   -999.0, 9,  -999.00, 9,  -999.00, 9, -999.000, 9, -999.000, -999.0000, 9, -999.0000,  -999.00, 9,  -999.00, -999.000, 9, -999.000,   -999.0, 9,   -999.0,  -999.00, 9, -999.0000, 9, -999.0000, 9, -999.0000, 9, -999.0000, 9, -999.0000, 9, -999.0000, 9, -999, 9, -999, 9, -999, 9, -999, 9, -999, 9, -999, 9, -999, 9,  -999.00, 9,  -999.00, 9,  -999.00, 9,  -999.00, 9,   4.1718,  -999.00, 9,  755,   42.8175,  -50.9762
316N200309, A20, 6, 1, 6, 6, 2, 20030926, 0736, 42.8173, -50.9732, 1366,   752.40,    752.4,   3.9302,  34.8474, 2,  34.8483, 2,    272.1, 2,    275.2, 2,     9.59, 2,    16.84, 2,     0.01, 2,     1.13, 2,    4.007, 2,    2.098, 2,    0.305, 2, -999.000, 9,   -999.0, 9,   -999.0, 9,  -999.00, 9,  -999.00, 9, -999.000, 9, -999.000, -999.0000, 9, -999.0000,  -999.00, 9,  -999.00, -999.000, 9, -999.000,   -999.0, 9,   -999.0,  -999.00, 9, -999.0000, 9, -999.0000, 9, -999.0000, 9, -999.0000, 9, -999.0000, 9, -999.0000, 9, -999, 9, -999, 9, -999, 9, -999, 9, -999, 9, -999, 9, -999, 9,  -999.00, 9,  -999.00, 9,  -999.00, 9,  -999.00, 9,   3.8747,  -999.00, 9,  752,   42.8176,  -50.9756
316N200309, A20, 6, 1, 5, 5, 2, 20030926, 0736, 42.8173, -50.9732, 1366,   902.30,    902.3,   3.9117,  34.8754, 2,  34.8759, 2,    278.2, 2,    276.3, 2,     9.58, 2,    16.89, 2,     0.00, 2,     1.12, 2,    3.919, 2,    2.047, 2,    0.298, 2, -999.000, 9,   -999.0, 9,   -999.0, 9,  -999.00, 9,  -999.00, 9, -999.000, 9, -999.000, -999.0000, 9, -999.0000,  -999.00, 9,  -999.00, -999.000, 9, -999.000,   -999.0, 9,   -999.0,  -999.00, 9, -999.0000, 9, -999.0000, 9, -999.0000, 9, -999.0000, 9, -999.0000, 9, -999.0000, 9, -999, 9, -999, 9, -999, 9, -999, 9, -999, 9, -999, 9, -999, 9,  -999.00, 9,  -999.00, 9,  -999.00, 9,  -999.00, 9,   3.8441,  -999.00, 9,  748,   42.8176,  -50.9750
316N200309, A20, 6, 1, 4, 4, 2, 20030926, 0736, 42.8173, -50.9732, 1366,  1053.40,   1053.4,   3.5769,  34.8384, 2,  34.8393, 2,    288.4, 2,    287.7, 2,     9.06, 2,    16.28, 2,     0.00, 2,     1.09, 2,    4.433, 2,    2.334, 2,    0.350, 2, -999.000, 9,   -999.0, 9,   -999.0, 9,  -999.00, 9,  -999.00, 9, -999.000, 9, -999.000, -999.0000, 9, -999.0000,  -999.00, 9,  -999.00, -999.000, 9, -999.000,   -999.0, 9,   -999.0,  -999.00, 9, -999.0000, 9, -999.0000, 9, -999.0000, 9, -999.0000, 9, -999.0000, 9, -999.0000, 9, -999, 9, -999, 9, -999, 9, -999, 9, -999, 9, -999, 9, -999, 9,  -999.00, 9,  -999.00, 9,  -999.00, 9,  -999.00, 9,   3.4996,  -999.00, 9,  745,   42.8176,  -50.9745
316N200309, A20, 6, 1, 3, 3, 2, 20030926, 0736, 42.8173, -50.9732, 1366,  1203.50,   1203.5,   3.5902,  34.8633, 2,  34.8652, 2,    287.0, 2,    283.5, 2,     9.76, 2,    16.59, 2,     0.00, 2,     1.11, 2,    4.106, 2,    2.137, 2,    0.309, 2, -999.000, 9,   -999.0, 9,   -999.0, 9,  -999.00, 9,  -999.00, 9, -999.000, 9, -999.000, -999.0000, 9, -999.0000,  -999.00, 9,  -999.00, -999.000, 9, -999.000,   -999.0, 9,   -999.0,  -999.00, 9, -999.0000, 9, -999.0000, 9, -999.0000, 9, -999.0000, 9, -999.0000, 9, -999.0000, 9, -999, 9, -999, 9, -999, 9, -999, 9, -999, 9, -999, 9, -999, 9,  -999.00, 9,  -999.00, 9,  -999.00, 9,  -999.00, 9,   3.5003,  -999.00, 9,  742,   42.8175,  -50.9741
316N200309, A20, 6, 1, 2, 2, 2, 20030926, 0736, 42.8173, -50.9732, 1366,  1303.00,   1303.0,   3.5963,  34.8732, 2,  34.8721, 2,    287.6, 2,    288.4, 2,     9.86, 2,    16.69, 2,     0.00, 2,     1.11, 2,    3.985, 2,    2.069, 2,    0.300, 2, -999.000, 9,   -999.0, 9,   -999.0, 9,  -999.00, 9,  -999.00, 9, -999.000, 9, -999.000, -999.0000, 9, -999.0000,  -999.00, 9,  -999.00, -999.000, 9, -999.000,   -999.0, 9,   -999.0,  -999.00, 9, -999.0000, 9, -999.0000, 9, -999.0000, 9, -999.0000, 9, -999.0000, 9, -999.0000, 9, -999, 9, -999, 9, -999, 9, -999, 9, -999, 9, -999, 9, -999, 9,  -999.00, 9,  -999.00, 9,  -999.00, 9,  -999.00, 9,   3.4980,  -999.00, 9,  739,   42.8175,  -50.9737
316N200309, A20, 6, 1, 1, 1, 2, 20030926, 0736, 42.8173, -50.9732, 1366,  1371.80,   1371.8,   3.5994,  34.8739, 2,  34.8735, 2,    291.1, 2,    287.6, 2,     9.85, 2,    16.69, 2,     0.01, 2,     1.11, 2,    3.979, 2,    2.060, 2,    0.298, 2, -999.000, 9,   -999.0, 9,   -999.0, 9,  -999.00, 9,  -999.00, 9, -999.000, 9, -999.000, -999.0000, 9, -999.0000,  -999.00, 9,  -999.00, -999.000, 9, -999.000,   -999.0, 9,   -999.0,  -999.00, 9, -999.0000, 9, -999.0000, 9, -999.0000, 9, -999.0000, 9, -999.0000, 9, -999.0000, 9, -999, 9, -999, 9, -999, 9, -999, 9, -999, 9, -999, 9, -999, 9,  -999.00, 9,  -999.00, 9,  -999.00, 9,  -999.00, 9,   3.4952,  -999.00, 9,  737,   42.8174,  -50.9733