BOTTLE,20220816CCHSIOAMB
EXPOCODE,SECT_ID,STNNBR,CASTNO,SAMPNO,BTLNBR,BTLNBR_FLAG_W,DATE,TIME,LATITUDE,LONGITUDE,DEPTH,CTDRAW,CTDPRS,CTDTMP,CTDSAL,CTDSAL_FLAG_W,SALNTY,SALNTY_FLAG_W,CTDOXY,CTDOXY_FLAG_W,OXYGEN,OXYGEN_FLAG_W,SILCAT,SILCAT_FLAG_W,NITRAT,NITRAT_FLAG_W,NITRIT,NITRIT_FLAG_W,PHSPHT,PHSPHT_FLAG_W,CFC-11,CFC-11_FLAG_W,CFC-12,CFC-12_FLAG_W,CFC113,CFC113_FLAG_W,CCL4,CCL4_FLAG_W,TCARBN,TCARBN_FLAG_W,ALKALI,ALKALI_FLAG_W,DOC,DOC_FLAG_W,TDN,TDN_FLAG_W,TRITUM,TRITUM_FLAG_W,TRITER,HELIUM,HELIUM_FLAG_W,HELIER,DELHE3,DELHE3_FLAG_W,DELHER,NEON,NEON_FLAG_W,NEONER,DELC14,DELC14_FLAG_W,C14ERR,DELC13,DELC13_FLAG_W,CDOM325,CDOM325_FLAG_W,CDOM340,CDOM340_FLAG_W,CDOM380,CDOM380_FLAG_W,CDOM412,CDOM412_FLAG_W,CDOMSL,CDOMSL_FLAG_W,CDOMSN,CDOMSN_FLAG_W,DCNS,DCNS_FLAG_W,ARABI,ARABI_FLAG_W,FUCO,FUCO_FLAG_W,GALA,GALA_FLAG_W,GLUC,GLUC_FLAG_W,MAN,MAN_FLAG_W,RHAM,RHAM_FLAG_W,BRDU,BRDU_FLAG_W,PEUK,PEUK_FLAG_W,PROC,PROC_FLAG_W,SYN,SYN_FLAG_W,THETA,BACT,BACT_FLAG_W,BTL_TIME,BTL_LAT,BTL_LON
,,,,,,,,,,,METERS,DBAR,DBAR,ITS-90,PSS-78,,PSS-78,,UMOL/KG,,UMOL/KG,,UMOL/KG,,UMOL/KG,,UMOL/KG,,UMOL/KG,,PMOL/KG,,PMOL/KG,,PMOL/KG,,PMOL/KG,,UMOL/KG,,UMOL/KG,,UMOL/KG,,UMOL/KG,,TU,,TU,NMOL/KG,,NMOL/KG,PERCNT,,PERCNT,NMOL/KG,,NMOL/KG,/MILLE,,/MILLE,/MILLE,,1/M,,1/M,,1/M,,1/M,,1/NM,,1/NM,,NMOL/KG,,NMOL/KG,,NMOL/KG,,NMOL/KG,,NMOL/KG,,NMOL/KG,,NMOL/KG,,PMOL/L/H,,E6/L,,E7/L,,E6/L,,DEG C,E8/L,,,,
316N200309, A20, 73, 1, 18, 18, 2, 20031017, 0632, 7.9407, -53.0772, 1219,     2.80,      2.8,  29.3477,  33.6709, 2,  33.6713, 2,    191.3, 2,    193.9, 2,     5.04, 2,     0.20, 2,     0.00, 2,     0.01, 2,    1.512, 2,    0.964, 2,    0.113, 2,    1.607, 2,   1890.4, 2,   2227.2, 2,  -999.00, 9,  -999.00, 9, -999.000, 9, -999.000, -999.0000, 9, -999.0000,  -999.00, 9,  -999.00, -999.000, 9, -999.000,   -999.0, 9,   -999.0,  -999.00, 9, -999.0000, 9, -999.0000, 9, -999.0000, 9, -999.0000, 9, -999.0000, 9, -999.0000, 9, -999, 9, -999, 9, -999, 9, -999, 9, -999, 9, -999, 9, -999, 9,  -999.00, 9,  -999.00, 9,  -999.00, 9,  -999.00, 9,  29.3470,  -999.00, 9,  711,    7.9473,  -53.0707
316N200309, A20, 73, 1, 17, 17, 2, 20031017, 0632, 7.9407, -53.0772, 1219,    24.60,     24.6,  28.7192,  35.6111, 2,  35.5912, 2,    195.4, 2,    198.9, 2,     1.64, 2,     0.20, 2,     0.00, 2,     0.05, 2, -999.000, 9, -999.000, 9, -999.000, 9, -999.000, 9,   -999.0, 9,   -999.0, 9,  -999.00, 9,  -999.00, 9, -999.000, 9, -999.000, -999.0000, 9, -999.0000,  -999.00, 9,  -999.00, -999.000, 9, -999.000,   -999.0, 9,   -999.0,  -999.00, 9, -999.0000, 9, -999.0000, 9, -999.0000, 9, -999.0000, 9, -999.0000, 9, -999.0000, 9, -999, 9, -999, 9, -999, 9, -999, 9, -999, 9, -999, 9, -999, 9,  -999.00, 9,  -999.00, 9,  -999.00, 9,  -999.00, 9,  28.7133,  -999.00, 9,  709,    7.9471,  -53.0709
316N200309, A20, 73, 1, 16, 16, 2, 20031017, 0632, 7.9407, -53.0772, 1219,    49.10,     49.1,  27.7637,  36.2313, 2,  36.2281, 2,    191.6, 2,    195.1, 2,     0.52, 2,     0.15, 2,     0.00, 2,     0.07, 2,    1.609, 2,    1.030, 2,    0.116, 2,    1.189, 2,   -999.0, 9,   -999.0, 9,  -999.00, 9,  -999.00, 9, -999.000, 9, -999.000, -999.0000, 9, -999.0000,  -999.00, 9,  -999.00, -999.000, 9, -999.000,   -999.0, 9,   -999.0,  -999.00, 9, -999.0000, 9, -999.0000, 9, -999.0000, 9, -999.0000, 9, -999.0000, 9, -999.0000, 9, -999, 9, -999, 9, -999, 9, -999, 9, -999, 9, -999, 9, -999, 9,  -999.00, 9,  -999.00, 9,  -999.00, 9,  -999.00, 9,  27.7521,  -999.00, 9,  708,    7.9469,  -53.0711
316N200309, A20, 73, 1, 15, 15, 2, 20031017, 0632, 7.9407, -53.0772, 1219,    73.80,     73.8,  27.2217,  36.2588, 2,  36.2558, 2,    180.6, 2,    184.6, 2,     0.51, 2,     0.50, 2,     0.03, 2,     0.13, 2, -999.000, 9, -999.000, 9, -999.000, 9, -999.000, 9,   -999.0, 9,   -999.0, 9,  -999.00, 9,  -999.00, 9, -999.000, 9, -999.000, -999.0000, 9, -999.0000,  -999.00, 9,  -999.00, -999.000, 9, -999.000,   -999.0, 9,   -999.0,  -999.00, 9, -999.0000, 9, -999.0000, 9, -999.0000, 9, -999.0000, 9, -999.0000, 9, -999.0000, 9, -999, 9, -999, 9, -999, 9, -999, 9, -999, 9, -999, 9, -999, 9,  -999.00, 9,  -999.00, 9,  -999.00, 9,  -999.00, 9,  27.2046,  -999.00, 9,  706,    7.9466,  -53.0714
316N200309, A20, 73, 1, 14, 14, 2, 20031017, 0632, 7.9407, -53.0772, 1219,    98.70,     98.7,  26.8936,  36.2924, 2,  36.2917, 2,    181.1, 2,    185.8, 2,     0.61, 2,     0.94, 2,     0.01, 2,     0.15, 2,    1.657, 2,    1.021, 2,    0.116, 2,    1.220, 2,   -999.0, 9,   -999.0, 9,  -999.00, 9,  -999.00, 9, -999.000, 9, -999.000, -999.0000, 9, -999.0000,  -999.00, 9,  -999.00, -999.000, 9, -999.000,   -999.0, 9,   -999.0,  -999.00, 9, -999.0000, 9, -999.0000, 9, -999.0000, 9, -999.0000, 9, -999.0000, 9, -999.0000, 9, -999, 9, -999, 9, -999, 9, -999, 9, -999, 9, -999, 9, -999, 9,  -999.00, 9,  -999.00, 9,  -999.00, 9,  -999.00, 9,  26.8709,  -999.00, 9,  705,    7.9464,  -53.0716
316N200309, A20, 73, 1, 13, 13, 2, 20031017, 0632, 7.9407, -53.0772, 1219,   123.90,    123.9,  24.9147,  36.3368, 2,  36.3334, 2,    173.7, 2,    177.3, 2,     1.21, 2,     2.95, 2,     0.01, 2,     0.28, 2, -999.000, 9, -999.000, 9, -999.000, 9, -999.000, 9,   -999.0, 9,   -999.0, 9,  -999.00, 9,  -999.00, 9, -999.000, 9, -999.000, -999.0000, 9, -999.0000,  -999.00, 9,  -999.00, -999.000, 9, -999.000,   -999.0, 9,   -999.0,  -999.00, 9, -999.0000, 9, -999.0000, 9, -999.0000, 9, -999.0000, 9, -999.0000, 9, -999.0000, 9, -999, 9, -999, 9, -999, 9, -999, 9, -999, 9, -999, 9, -999, 9,  -999.00, 9,  -999.00, 9,  -999.00, 9,  -999.00, 9,  24.8878,  -999.00, 9,  704,    7.9461,  -53.0718
316N200309, A20, 73, 1, 12, 12, 2, 20031017, 0632, 7.9407, -53.0772, 1219,   148.90,    148.9,  20.7304,  36.5667, 2,  36.5662, 2,    145.3, 2,    146.8, 2,     2.33, 2,     7.60, 2,     0.02, 2,     0.48, 2,    1.963, 2,    1.174, 2,    0.047, 2,    0.354, 2,   -999.0, 9,   -999.0, 9,  -999.00, 9,  -999.00, 9, -999.000, 9, -999.000, -999.0000, 9, -999.0000,  -999.00, 9,  -999.00, -999.000, 9, -999.000,   -999.0, 9,   -999.0,  -999.00, 9, -999.0000, 9, -999.0000, 9, -999.0000, 9, -999.0000, 9, -999.0000, 9, -999.0000, 9, -999, 9, -999, 9, -999, 9, -999, 9, -999, 9, -999, 9, -999, 9,  -999.00, 9,  -999.00, 9,  -999.00, 9,  -999.00, 9,  20.7019,  -999.00, 9,  702,    7.9459,  -53.0720
316N200309, A20, 73, 1, 11, 11, 2, 20031017, 0632, 7.9407, -53.0772, 1219,   177.60,    177.6,  14.7797,  35.7734, 2,  35.7588, 2,    120.8, 2,    124.3, 2,     6.31, 2,    18.17, 2,     0.00, 2,     1.11, 2, -999.000, 9, -999.000, 9, -999.000, 9, -999.000, 9,   -999.0, 9,   -999.0, 9,  -999.00, 9,  -999.00, 9, -999.000, 9, -999.000, -999.0000, 9, -999.0000,  -999.00, 9,  -999.00, -999.000, 9, -999.000,   -999.0, 9,   -999.0,  -999.00, 9, -999.0000, 9, -999.0000, 9, -999.0000, 9, -999.0000, 9, -999.0000, 9, -999.0000, 9, -999, 9, -999, 9, -999, 9, -999, 9, -999, 9, -999, 9, -999, 9,  -999.00, 9,  -999.00, 9,  -999.00, 9,  -999.00, 9,  14.7529,  -999.00, 9,  701,    7.9457,  -53.0723
316N200309, A20, 73, 1, 10, 10, 2, 20031017, 0632, 7.9407, -53.0772, 1219,   225.90,    225.9,  12.0238,  35.3150, 2,  35.3135, 2,    124.9, 2,    128.5, 2,     9.18, 2,    22.06, 2,     0.00, 2,     1.40, 2,    1.620, 2,    0.884, 2,    0.019, 2,    0.442, 2,   -999.0, 9,   -999.0, 9,  -999.00, 9,  -999.00, 9, -999.000, 9, -999.000, -999.0000, 9, -999.0000,  -999.00, 9,  -999.00, -999.000, 9, -999.000,   -999.0, 9,   -999.0,  -999.00, 9, -999.0000, 9, -999.0000, 9, -999.0000, 9, -999.0000, 9, -999.0000, 9, -999.0000, 9, -999, 9, -999, 9, -999, 9, -999, 9, -999, 9, -999, 9, -999, 9,  -999.00, 9,  -999.00, 9,  -999.00, 9,  -999.00, 9,  11.9942,  -999.00, 9,  659,    7.9455,  -53.0727
316N200309, A20, 73, 1, 9, 9, 2, 20031017, 0632, 7.9407, -53.0772, 1219,   274.40,    274.4,  10.4852,  35.0706, 2,  35.0675, 2,    118.4, 2,    129.0, 2,    11.43, 2,    24.78, 2,     0.00, 2,     1.59, 2,    1.424, 2,    0.756, 2,    0.008, 2,    0.540, 2,   -999.0, 9,   -999.0, 9,  -999.00, 9,  -999.00, 9, -999.000, 9, -999.000, -999.0000, 9, -999.0000,  -999.00, 9,  -999.00, -999.000, 9, -999.000,   -999.0, 9,   -999.0,  -999.00, 9, -999.0000, 9, -999.0000, 9, -999.0000, 9, -999.0000, 9, -999.0000, 9, -999.0000, 9, -999, 9, -999, 9, -999, 9, -999, 9, -999, 9, -999, 9, -999, 9,  -999.00, 9,  -999.00, 9,  -999.00, 9,  -999.00, 9,  10.4522,  -999.00, 9,  657,    7.9452,  -53.0730
316N200309, A20, 73, 1, 8, 8, 2, 20031017, 0632, 7.9407, -53.0772, 1219,   350.40,    350.4,   9.3234,  34.9212, 2,  34.9209, 2,    130.7, 2,    127.0, 2,    13.58, 2,    27.28, 2,     0.00, 2,     1.75, 2,    1.184, 2,    0.637, 2,    0.019, 2,    0.522, 2,   -999.0, 9,   -999.0, 9,  -999.00, 9,  -999.00, 9, -999.000, 9, -999.000, -999.0000, 9, -999.0000,  -999.00, 9,  -999.00, -999.000, 9, -999.000,   -999.0, 9,   -999.0,  -999.00, 9, -999.0000, 9, -999.0000, 9, -999.0000, 9, -999.0000, 9, -999.0000, 9, -999.0000, 9, -999, 9, -999, 9, -999, 9, -999, 9, -999, 9, -999, 9, -999, 9,  -999.00, 9,  -999.00, 9,  -999.00, 9,  -999.00, 9,   9.2842,  -999.00, 9,  655,    7.9448,  -53.0734
316N200309, A20, 73, 1, 7, 7, 2, 20031017, 0632, 7.9407, -53.0772, 1219,   450.30,    450.3,   8.4999,  34.8906, 2,  34.8969, 2,    102.8, 2,     94.6, 2,    16.67, 2,    32.36, 2,     0.00, 2,     2.02, 2,    0.475, 2,    0.270, 2,    0.004, 2,    0.278, 2,   -999.0, 9,   -999.0, 9,  -999.00, 9,  -999.00, 9, -999.000, 9, -999.000, -999.0000, 9, -999.0000,  -999.00, 9,  -999.00, -999.000, 9, -999.000,   -999.0, 9,   -999.0,  -999.00, 9, -999.0000, 9, -999.0000, 9, -999.0000, 9, -999.0000, 9, -999.0000, 9, -999.0000, 9, -999, 9, -999, 9, -999, 9, -999, 9, -999, 9, -999, 9, -999, 9,  -999.00, 9,  -999.00, 9,  -999.00, 9,  -999.00, 9,   8.4520,  -999.00, 9,  652,    7.9444,  -53.0738
316N200309, A20, 73, 1, 6, 6, 2, 20031017, 0632, 7.9407, -53.0772, 1219,   551.40,    551.4,   6.6664,  34.6156, 2,  34.6158, 2,    122.3, 2,    129.0, 2,    21.11, 2,    32.98, 2,     0.00, 2,     2.15, 2,    0.511, 2,    0.279, 2,    0.001, 2,    0.520, 2,   -999.0, 9,   -999.0, 9,  -999.00, 9,  -999.00, 9, -999.000, 9, -999.000, -999.0000, 9, -999.0000,  -999.00, 9,  -999.00, -999.000, 9, -999.000,   -999.0, 9,   -999.0,  -999.00, 9, -999.0000, 9, -999.0000, 9, -999.0000, 9, -999.0000, 9, -999.0000, 9, -999.0000, 9, -999, 9, -999, 9, -999, 9, -999, 9, -999, 9, -999, 9, -999, 9,  -999.00, 9,  -999.00, 9,  -999.00, 9,  -999.00, 9,   6.6151,  -999.00, 9,  650,    7.9439,  -53.0742
316N200309, A20, 73, 1, 5, 5, 2, 20031017, 0632, 7.9407, -53.0772, 1219,   677.40,    677.4,   5.9258,  34.5959, 2,  34.5969, 2,    122.9, 2,    128.7, 2,    24.52, 2,    34.32, 2,     0.00, 2,     2.26, 2,    0.240, 2,    0.145, 2,   -0.002, 2,    0.356, 2,   -999.0, 9,   -999.0, 9,  -999.00, 9,  -999.00, 9, -999.000, 9, -999.000, -999.0000, 9, -999.0000,  -999.00, 9,  -999.00, -999.000, 9, -999.000,   -999.0, 9,   -999.0,  -999.00, 9, -999.0000, 9, -999.0000, 9, -999.0000, 9, -999.0000, 9, -999.0000, 9, -999.0000, 9, -999, 9, -999, 9, -999, 9, -999, 9, -999, 9, -999, 9, -999, 9,  -999.00, 9,  -999.00, 9,  -999.00, 9,  -999.00, 9,   5.8661,  -999.00, 9,  646,    7.9433,  -53.0746
316N200309, A20, 73, 1, 4, 4, 2, 20031017, 0632, 7.9407, -53.0772, 1219,   826.80,    826.8,   5.1850,  34.6097, 2,  34.6097, 2,    135.7, 2,    136.7, 2,    27.82, 2,    34.36, 2,     0.00, 2,     2.29, 2,    0.073, 2,    0.046, 2,   -0.001, 2,    0.225, 2,   -999.0, 9,   -999.0, 9,  -999.00, 9,  -999.00, 9, -999.000, 9, -999.000, -999.0000, 9, -999.0000,  -999.00, 9,  -999.00, -999.000, 9, -999.000,   -999.0, 9,   -999.0,  -999.00, 9, -999.0000, 9, -999.0000, 9, -999.0000, 9, -999.0000, 9, -999.0000, 9, -999.0000, 9, -999, 9, -999, 9, -999, 9, -999, 9, -999, 9, -999, 9, -999, 9,  -999.00, 9,  -999.00, 9,  -999.00, 9,  -999.00, 9,   5.1158,  -999.00, 9,  643,    7.9426,  -53.0751
316N200309, A20, 73, 1, 3, 3, 2, 20031017, 0632, 7.9407, -53.0772, 1219,   974.60,    974.6,   4.9960,  34.6948, 2,  34.6950, 2,    148.6, 2,    146.6, 2,    27.50, 2,    32.53, 2,     0.00, 2,     2.18, 2,    0.035, 2,    0.028, 2,   -0.001, 2,    0.130, 2,   -999.0, 9,   -999.0, 9,  -999.00, 9,  -999.00, 9, -999.000, 9, -999.000, -999.0000, 9, -999.0000,  -999.00, 9,  -999.00, -999.000, 9, -999.000,   -999.0, 9,   -999.0,  -999.00, 9, -999.0000, 9, -999.0000, 9, -999.0000, 9, -999.0000, 9, -999.0000, 9, -999.0000, 9, -999, 9, -999, 9, -999, 9, -999, 9, -999, 9, -999, 9, -999, 9,  -999.00, 9,  -999.00, 9,  -999.00, 9,  -999.00, 9,   4.9147,  -999.00, 9,  639,    7.9419,  -53.0758
316N200309, A20, 73, 1, 2, 2, 2, 20031017, 0632, 7.9407, -53.0772, 1219,  1099.00,   1099.0,   4.8935,  34.8037, 2,  34.8058, 2,    168.5, 2,    166.6, 2,    24.90, 2,    29.33, 2,     0.00, 2,     1.95, 2,    0.057, 2,    0.042, 2,   -0.001, 2,    0.195, 2,   -999.0, 9,   -999.0, 9,  -999.00, 9,  -999.00, 9, -999.000, 9, -999.000, -999.0000, 9, -999.0000,  -999.00, 9,  -999.00, -999.000, 9, -999.000,   -999.0, 9,   -999.0,  -999.00, 9, -999.0000, 9, -999.0000, 9, -999.0000, 9, -999.0000, 9, -999.0000, 9, -999.0000, 9, -999, 9, -999, 9, -999, 9, -999, 9, -999, 9, -999, 9, -999, 9,  -999.00, 9,  -999.00, 9,  -999.00, 9,  -999.00, 9,   4.8015,  -999.00, 9,  636,    7.9413,  -53.0765
316N200309, A20, 73, 1, 1, 1, 2, 20031017, 0632, 7.9407, -53.0772, 1219,  1213.00,   1213.0,   4.7982,  34.9918, 2,  34.9913, 2,    216.5, 2,    217.7, 2,    17.23, 2,    21.80, 2,     0.00, 2,     1.44, 2,    0.489, 2,    0.260, 2,    0.006, 2,    0.815, 2,   -999.0, 9,   -999.0, 9,  -999.00, 9,  -999.00, 9, -999.000, 9, -999.000, -999.0000, 9, -999.0000,  -999.00, 9,  -999.00, -999.000, 9, -999.000,   -999.0, 9,   -999.0,  -999.00, 9, -999.0000, 9, -999.0000, 9, -999.0000, 9, -999.0000, 9, -999.0000, 9, -999.0000, 9, -999, 9, -999, 9, -999, 9, -999, 9, -999, 9, -999, 9, -999, 9,  -999.00, 9,  -999.00, 9,  -999.00, 9,  -999.00, 9,   4.6962,  -999.00, 9,  633,    7.9408,  -53.0771