BOTTLE,20220816CCHSIOAMB
EXPOCODE,SECT_ID,STNNBR,CASTNO,SAMPNO,BTLNBR,BTLNBR_FLAG_W,DATE,TIME,LATITUDE,LONGITUDE,DEPTH,CTDRAW,CTDPRS,CTDTMP,CTDSAL,CTDSAL_FLAG_W,SALNTY,SALNTY_FLAG_W,CTDOXY,CTDOXY_FLAG_W,OXYGEN,OXYGEN_FLAG_W,SILCAT,SILCAT_FLAG_W,NITRAT,NITRAT_FLAG_W,NITRIT,NITRIT_FLAG_W,PHSPHT,PHSPHT_FLAG_W,CFC-11,CFC-11_FLAG_W,CFC-12,CFC-12_FLAG_W,CFC113,CFC113_FLAG_W,CCL4,CCL4_FLAG_W,TCARBN,TCARBN_FLAG_W,ALKALI,ALKALI_FLAG_W,DOC,DOC_FLAG_W,TDN,TDN_FLAG_W,TRITUM,TRITUM_FLAG_W,TRITER,HELIUM,HELIUM_FLAG_W,HELIER,DELHE3,DELHE3_FLAG_W,DELHER,NEON,NEON_FLAG_W,NEONER,DELC14,DELC14_FLAG_W,C14ERR,DELC13,DELC13_FLAG_W,CDOM325,CDOM325_FLAG_W,CDOM340,CDOM340_FLAG_W,CDOM380,CDOM380_FLAG_W,CDOM412,CDOM412_FLAG_W,CDOMSL,CDOMSL_FLAG_W,CDOMSN,CDOMSN_FLAG_W,DCNS,DCNS_FLAG_W,ARABI,ARABI_FLAG_W,FUCO,FUCO_FLAG_W,GALA,GALA_FLAG_W,GLUC,GLUC_FLAG_W,MAN,MAN_FLAG_W,RHAM,RHAM_FLAG_W,BRDU,BRDU_FLAG_W,PEUK,PEUK_FLAG_W,PROC,PROC_FLAG_W,SYN,SYN_FLAG_W,THETA,BACT,BACT_FLAG_W,BTL_TIME,BTL_LAT,BTL_LON
,,,,,,,,,,,METERS,DBAR,DBAR,ITS-90,PSS-78,,PSS-78,,UMOL/KG,,UMOL/KG,,UMOL/KG,,UMOL/KG,,UMOL/KG,,UMOL/KG,,PMOL/KG,,PMOL/KG,,PMOL/KG,,PMOL/KG,,UMOL/KG,,UMOL/KG,,UMOL/KG,,UMOL/KG,,TU,,TU,NMOL/KG,,NMOL/KG,PERCNT,,PERCNT,NMOL/KG,,NMOL/KG,/MILLE,,/MILLE,/MILLE,,1/M,,1/M,,1/M,,1/M,,1/NM,,1/NM,,NMOL/KG,,NMOL/KG,,NMOL/KG,,NMOL/KG,,NMOL/KG,,NMOL/KG,,NMOL/KG,,PMOL/L/H,,E6/L,,E7/L,,E6/L,,DEG C,E8/L,,,,
316N200309, A20, 86, 1, 4, 4, 2, 20031018, 0107, 7.0637, -53.5103, 94,     2.30,      2.3,  29.1387,  32.1345, 2,  32.1363, 2,    197.7, 2,    203.2, 2,    10.19, 2,     0.00, 2,     0.00, 2,     0.05, 2,    1.650, 2,    1.047, 2,    0.130, 2, -999.000, 9,   -999.0, 9,   -999.0, 1,    79.30, 2,     5.20, 2, -999.000, 9, -999.000, -999.0000, 9, -999.0000,  -999.00, 9,  -999.00, -999.000, 9, -999.000,     73.2, 2,      4.0,     1.28, 2, -999.0000, 9, -999.0000, 9, -999.0000, 9, -999.0000, 9, -999.0000, 9, -999.0000, 9, -999, 9, -999, 9, -999, 9, -999, 9, -999, 9, -999, 9, -999, 9,  -999.00, 9,  -999.00, 9,  -999.00, 9,  -999.00, 9,  29.1381,  -999.00, 9,  114,    7.0660,  -53.5116
316N200309, A20, 86, 1, 5, 5, 2, 20031018, 0107, 7.0637, -53.5103, 94,     2.30,      2.3,  29.1359,  32.1304, 2, -999.0000, 9,    197.7, 2,   -999.0, 9,  -999.00, 9,  -999.00, 9,  -999.00, 9,  -999.00, 9, -999.000, 9, -999.000, 9, -999.000, 9, -999.000, 9,   1819.0, 2,   2133.7, 2,  -999.00, 9,  -999.00, 9, -999.000, 9, -999.000, -999.0000, 9, -999.0000,  -999.00, 9,  -999.00, -999.000, 9, -999.000,   -999.0, 9,   -999.0,  -999.00, 9, -999.0000, 9, -999.0000, 9, -999.0000, 9, -999.0000, 9, -999.0000, 9, -999.0000, 9, -999, 9, -999, 9, -999, 9, -999, 9, -999, 9, -999, 9, -999, 9,  -999.00, 9,  -999.00, 9,  -999.00, 9,  -999.00, 9,  29.1353,  -999.00, 9,  114,    7.0661,  -53.5116
316N200309, A20, 86, 1, 3, 3, 2, 20031018, 0107, 7.0637, -53.5103, 94,    27.10,     27.1,  28.3790,  35.7083, 2,  35.7750, 2,    188.2, 2,    194.1, 2,     1.95, 2,     0.09, 2,     0.01, 2,     0.07, 2,    1.676, 2,    1.044, 2,    0.145, 2, -999.000, 9,   2008.9, 2,   2345.5, 2,    68.60, 2,     4.80, 2, -999.000, 9, -999.000, -999.0000, 9, -999.0000,  -999.00, 9,  -999.00, -999.000, 9, -999.000,   -999.0, 9,   -999.0,  -999.00, 9, -999.0000, 9, -999.0000, 9, -999.0000, 9, -999.0000, 9, -999.0000, 9, -999.0000, 9, -999, 9, -999, 9, -999, 9, -999, 9, -999, 9, -999, 9, -999, 9,  -999.00, 9,  -999.00, 9,  -999.00, 9,  -999.00, 9,  28.3726,  -999.00, 9,  112,    7.0653,  -53.5113
316N200309, A20, 86, 1, 2, 2, 2, 20031018, 0107, 7.0637, -53.5103, 94,    51.90,     51.9,  27.4755,  36.1871, 2,  36.1848, 2,    184.4, 2,    189.6, 2,     1.33, 2,     0.26, 2,     0.06, 2,     0.10, 2,    1.697, 2,    1.064, 2,    0.142, 2, -999.000, 9,   2035.8, 2,   2370.4, 2,    65.40, 2,     4.70, 2, -999.000, 9, -999.000, -999.0000, 9, -999.0000,  -999.00, 9,  -999.00, -999.000, 9, -999.000,   -999.0, 9,   -999.0,  -999.00, 9, -999.0000, 9, -999.0000, 9, -999.0000, 9, -999.0000, 9, -999.0000, 9, -999.0000, 9, -999, 9, -999, 9, -999, 9, -999, 9, -999, 9, -999, 9, -999, 9,  -999.00, 9,  -999.00, 9,  -999.00, 9,  -999.00, 9,  27.4634,  -999.00, 9,  111,    7.0646,  -53.5110
316N200309, A20, 86, 1, 1, 1, 2, 20031018, 0107, 7.0637, -53.5103, 94,    79.90,     79.9,  22.1534,  36.5239, 2,  36.5278, 2,    146.7, 2,    150.0, 2,     3.12, 2,     6.50, 2,     0.08, 2,     0.43, 2,    1.984, 2,    1.177, 2,    0.082, 2, -999.000, 9,   2124.7, 2,   2387.6, 2,    54.00, 2,    11.20, 2, -999.000, 9, -999.000, -999.0000, 9, -999.0000,  -999.00, 9,  -999.00, -999.000, 9, -999.000,   -999.0, 9,   -999.0,  -999.00, 9, -999.0000, 9, -999.0000, 9, -999.0000, 9, -999.0000, 9, -999.0000, 9, -999.0000, 9, -999, 9, -999, 9, -999, 9, -999, 9, -999, 9, -999, 9, -999, 9,  -999.00, 9,  -999.00, 9,  -999.00, 9,  -999.00, 9,  22.1374,  -999.00, 9,  108,    7.0639,  -53.5105
316N200309, A20, 87, 1, 5, 5, 2, 20031018, 0156, 7.0200, -53.5322, 86,     2.50,      2.5,  28.9660,  32.6645, 2, -999.0000, 9,    197.3, 2,   -999.0, 9,  -999.00, 9,  -999.00, 9,  -999.00, 9,  -999.00, 9, -999.000, 9, -999.000, 9, -999.000, 9, -999.000, 9,   1844.8, 2,   2163.9, 2,  -999.00, 9,  -999.00, 9, -999.000, 9, -999.000, -999.0000, 9, -999.0000,  -999.00, 9,  -999.00, -999.000, 9, -999.000,   -999.0, 9,   -999.0,  -999.00, 9, -999.0000, 9, -999.0000, 9, -999.0000, 9, -999.0000, 9, -999.0000, 9, -999.0000, 9, -999, 9, -999, 9, -999, 9, -999, 9, -999, 9, -999, 9, -999, 9,  -999.00, 9,  -999.00, 9,  -999.00, 9,  -999.00, 9,  28.9654,  -999.00, 9,  201,    7.0221,  -53.5311
316N200309, A20, 87, 1, 4, 4, 2, 20031018, 0156, 7.0200, -53.5322, 86,     2.60,      2.6,  28.9671,  32.6684, 2,  32.6533, 2,    197.3, 2,    202.0, 2,     9.10, 2,     0.10, 2,     0.00, 2,     0.05, 2,    1.585, 2,    0.969, 2,    0.104, 2,    1.536, 2,   -999.0, 9,   -999.0, 1,  -999.00, 9,  -999.00, 9, -999.000, 9, -999.000, -999.0000, 9, -999.0000,  -999.00, 9,  -999.00, -999.000, 9, -999.000,   -999.0, 9,   -999.0,  -999.00, 9, -999.0000, 9, -999.0000, 9, -999.0000, 9, -999.0000, 9, -999.0000, 9, -999.0000, 9, -999, 9, -999, 9, -999, 9, -999, 9, -999, 9, -999, 9, -999, 9,  -999.00, 9,  -999.00, 9,  -999.00, 9,  -999.00, 9,  28.9665,  -999.00, 9,  201,    7.0221,  -53.5311
316N200309, A20, 87, 1, 3, 3, 2, 20031018, 0156, 7.0200, -53.5322, 86,    22.00,     22.0,  28.3454,  35.7731, 2,  35.7732, 2,    188.9, 2,    394.8, 3,     2.08, 2,     0.05, 2,     0.00, 2,     0.07, 2,    1.599, 2,    0.980, 2,    0.107, 2,    1.266, 2,   -999.0, 9,   2346.7, 2,  -999.00, 9,  -999.00, 9, -999.000, 9, -999.000, -999.0000, 9, -999.0000,  -999.00, 9,  -999.00, -999.000, 9, -999.000,   -999.0, 9,   -999.0,  -999.00, 9, -999.0000, 9, -999.0000, 9, -999.0000, 9, -999.0000, 9, -999.0000, 9, -999.0000, 9, -999, 9, -999, 9, -999, 9, -999, 9, -999, 9, -999, 9, -999, 9,  -999.00, 9,  -999.00, 9,  -999.00, 9,  -999.00, 9,  28.3402,  -999.00, 9,  200,    7.0215,  -53.5315
316N200309, A20, 87, 1, 2, 2, 2, 20031018, 0156, 7.0200, -53.5322, 86,    42.00,     42.0,  27.6599,  36.1556, 2,  36.1551, 2,    188.2, 2,    192.5, 2,     1.26, 2,     0.11, 2,     0.03, 2,     0.09, 2, -999.000, 1, -999.000, 1, -999.000, 1, -999.000, 9,   -999.0, 9,   2368.8, 2,  -999.00, 9,  -999.00, 9, -999.000, 9, -999.000, -999.0000, 9, -999.0000,  -999.00, 9,  -999.00, -999.000, 9, -999.000,   -999.0, 9,   -999.0,  -999.00, 9, -999.0000, 9, -999.0000, 9, -999.0000, 9, -999.0000, 9, -999.0000, 9, -999.0000, 9, -999, 9, -999, 9, -999, 9, -999, 9, -999, 9, -999, 9, -999, 9,  -999.00, 9,  -999.00, 9,  -999.00, 9,  -999.00, 9,  27.6501,  -999.00, 9,  158,    7.0208,  -53.5319
316N200309, A20, 87, 1, 1, 1, 2, 20031018, 0156, 7.0200, -53.5322, 86,    71.40,     71.4,  21.4980,  36.5244, 2,  36.4986, 2,    147.2, 2,    151.2, 2,     3.15, 2,     6.27, 2,     0.09, 2,     0.43, 2,    1.888, 2,    1.146, 2,    0.074, 2,    0.502, 2,   -999.0, 9,   2386.0, 2,  -999.00, 9,  -999.00, 9, -999.000, 9, -999.000, -999.0000, 9, -999.0000,  -999.00, 9,  -999.00, -999.000, 9, -999.000,   -999.0, 9,   -999.0,  -999.00, 9, -999.0000, 9, -999.0000, 9, -999.0000, 9, -999.0000, 9, -999.0000, 9, -999.0000, 9, -999, 9, -999, 9, -999, 9, -999, 9, -999, 9, -999, 9, -999, 9,  -999.00, 9,  -999.00, 9,  -999.00, 9,  -999.00, 9,  21.4840,  -999.00, 9,  156,    7.0200,  -53.5322
316N200309, A20, 88, 1, 3, 3, 2, 20031018, 0245, 6.9803, -53.5715, 76,     3.60,      3.6,  28.8689,  33.0351, 2,  33.0572, 2,    196.0, 2,    202.3, 2,     8.32, 2,     0.05, 2,     0.00, 2,     0.06, 2,    1.576, 2,    0.985, 2,    0.102, 2,    1.462, 2,   -999.0, 9,   -999.0, 1,  -999.00, 5,     4.90, 2, -999.000, 9, -999.000, -999.0000, 9, -999.0000,  -999.00, 9,  -999.00, -999.000, 9, -999.000,   -999.0, 9,   -999.0,  -999.00, 9,    0.7190, 2,    0.5420, 2,    0.2670, 2,    0.1550, 2,    0.0170, 2,    0.0180, 2, 2201, 4, 79, 2, 347, 2, 473, 2, 361, 2, 719, 2, 223, 2,     1.21, 2,     1.77, 2,     1.57, 2,     0.00, 2,  28.8680,    13.02, 2,  250,    6.9828,  -53.5703
316N200309, A20, 88, 1, 4, 4, 2, 20031018, 0245, 6.9803, -53.5715, 76,     3.60,      3.6,  28.8667,  33.0317, 2, -999.0000, 9,    196.0, 2,   -999.0, 9,  -999.00, 9,  -999.00, 9,  -999.00, 9,  -999.00, 9, -999.000, 9, -999.000, 9, -999.000, 9, -999.000, 9,   1865.8, 2,   2188.3, 2,  -999.00, 5,  -999.00, 9, -999.000, 9, -999.000, -999.0000, 9, -999.0000,  -999.00, 9,  -999.00, -999.000, 9, -999.000,     69.2, 2,      4.0,     1.42, 2, -999.0000, 9, -999.0000, 9, -999.0000, 9, -999.0000, 9, -999.0000, 9, -999.0000, 9, -999, 9, -999, 9, -999, 9, -999, 9, -999, 9, -999, 9, -999, 9,  -999.00, 9,  -999.00, 9,  -999.00, 9,  -999.00, 9,  28.8658,  -999.00, 9,  250,    6.9829,  -53.5703
316N200309, A20, 88, 1, 2, 2, 2, 20031018, 0245, 6.9803, -53.5715, 76,    25.40,     25.4,  28.4834,  35.2959, 2,  34.9919, 2,    189.4, 2,    196.1, 2,     4.04, 2,     0.09, 2,     0.00, 2,     0.07, 2,    1.602, 2,    0.993, 2,    0.104, 2,    1.297, 2,   1968.9, 2,   2300.3, 2,  -999.00, 5,     4.40, 2, -999.000, 9, -999.000, -999.0000, 9, -999.0000,  -999.00, 9,  -999.00, -999.000, 9, -999.000,   -999.0, 9,   -999.0,  -999.00, 9,    0.3400, 2,    0.2490, 2,    0.1160, 2,    0.0690, 2,    0.0180, 2,    0.0190, 2, -999, 9, -999, 9, -999, 9, -999, 9, -999, 9, -999, 9, -999, 9,     0.33, 2,     0.82, 2,     3.00, 2,     7.89, 2,  28.4773,     8.90, 2,  249,    6.9821,  -53.5708
316N200309, A20, 88, 1, 1, 1, 2, 20031018, 0245, 6.9803, -53.5715, 76,    61.70,     61.7,  27.4868,  36.1928, 2,  36.1891, 2,    184.6, 2,    189.5, 2,     1.48, 2,     0.21, 2,     0.07, 2,     0.10, 2,    1.647, 2,    1.011, 2,    0.105, 2,    1.254, 2,   -999.0, 9,   2368.8, 2,  -999.00, 5,     4.70, 2, -999.000, 9, -999.000, -999.0000, 9, -999.0000,  -999.00, 9,  -999.00, -999.000, 9, -999.000,   -999.0, 9,   -999.0,  -999.00, 9,    0.1340, 2,    0.0970, 2,    0.0480, 2,    0.0370, 2,    0.0140, 2,    0.0170, 2, 1522, 4, 91, 2, 167, 2, 244, 2, 167, 2, 279, 2, 106, 2,     1.25, 2,     3.40, 2,     4.13, 2,     6.38, 2,  27.4724,     3.32, 2,  247,    6.9808,  -53.5713