BOTTLE,20220816CCHSIOAMB
EXPOCODE,SECT_ID,STNNBR,CASTNO,SAMPNO,BTLNBR,BTLNBR_FLAG_W,DATE,TIME,LATITUDE,LONGITUDE,DEPTH,CTDRAW,CTDPRS,CTDTMP,CTDSAL,CTDSAL_FLAG_W,SALNTY,SALNTY_FLAG_W,CTDOXY,CTDOXY_FLAG_W,OXYGEN,OXYGEN_FLAG_W,SILCAT,SILCAT_FLAG_W,NITRAT,NITRAT_FLAG_W,NITRIT,NITRIT_FLAG_W,PHSPHT,PHSPHT_FLAG_W,CFC-11,CFC-11_FLAG_W,CFC-12,CFC-12_FLAG_W,CFC113,CFC113_FLAG_W,CCL4,CCL4_FLAG_W,TCARBN,TCARBN_FLAG_W,ALKALI,ALKALI_FLAG_W,DOC,DOC_FLAG_W,TDN,TDN_FLAG_W,TRITUM,TRITUM_FLAG_W,TRITER,HELIUM,HELIUM_FLAG_W,HELIER,DELHE3,DELHE3_FLAG_W,DELHER,NEON,NEON_FLAG_W,NEONER,DELC14,DELC14_FLAG_W,C14ERR,DELC13,DELC13_FLAG_W,CDOM325,CDOM325_FLAG_W,CDOM340,CDOM340_FLAG_W,CDOM380,CDOM380_FLAG_W,CDOM412,CDOM412_FLAG_W,CDOMSL,CDOMSL_FLAG_W,CDOMSN,CDOMSN_FLAG_W,DCNS,DCNS_FLAG_W,ARABI,ARABI_FLAG_W,FUCO,FUCO_FLAG_W,GALA,GALA_FLAG_W,GLUC,GLUC_FLAG_W,MAN,MAN_FLAG_W,RHAM,RHAM_FLAG_W,BRDU,BRDU_FLAG_W,PEUK,PEUK_FLAG_W,PROC,PROC_FLAG_W,SYN,SYN_FLAG_W,THETA,BACT,BACT_FLAG_W,BTL_TIME,BTL_LAT,BTL_LON
,,,,,,,,,,,METERS,DBAR,DBAR,ITS-90,PSS-78,,PSS-78,,UMOL/KG,,UMOL/KG,,UMOL/KG,,UMOL/KG,,UMOL/KG,,UMOL/KG,,PMOL/KG,,PMOL/KG,,PMOL/KG,,PMOL/KG,,UMOL/KG,,UMOL/KG,,UMOL/KG,,UMOL/KG,,TU,,TU,NMOL/KG,,NMOL/KG,PERCNT,,PERCNT,NMOL/KG,,NMOL/KG,/MILLE,,/MILLE,/MILLE,,1/M,,1/M,,1/M,,1/M,,1/NM,,1/NM,,NMOL/KG,,NMOL/KG,,NMOL/KG,,NMOL/KG,,NMOL/KG,,NMOL/KG,,NMOL/KG,,PMOL/L/H,,E6/L,,E7/L,,E6/L,,DEG C,E8/L,,,,
316N200309, A20, 44, 1, 36, 36, 2, 20031009, 1758, 21.5170, -52.3427, 4875,     8.80,      8.8,  28.1230,  37.2219, 2,  37.2208, 2,    192.8, 2,    198.6, 2,     0.71, 2,     0.11, 2,     0.00, 2,     0.02, 2,    1.687, 2,    1.020, 2,    0.140, 2, -999.000, 9,   2053.2, 2,   2432.7, 2,    80.10, 2,     5.70, 2, -999.000, 9, -999.000, -999.0000, 9, -999.0000,  -999.00, 9,  -999.00, -999.000, 9, -999.000,   -999.0, 9,   -999.0,  -999.00, 9,    0.0460, 2,    0.0280, 2,    0.0070, 2,    0.0060, 2,    0.0350, 2,    0.0350, 2, 3557, 4, 219, 2, 506, 2, 788, 2, 493, 2, 1273, 2, 276, 2,  -999.00, 9,     0.65, 2,     2.86, 2,     2.93, 2,  28.1209,     2.56, 2, 1957,   21.5354,  -52.3407
316N200309, A20, 44, 1, 35, 35, 2, 20031009, 1758, 21.5170, -52.3427, 4875,    24.90,     24.9,  27.8812,  37.2027, 2,  37.2026, 2,    193.4, 2,    198.8, 2,     0.69, 2,     0.11, 2,     0.00, 2,     0.02, 2,    1.523, 2,    0.960, 2,    0.118, 2, -999.000, 9,   2055.5, 2,   2431.5, 2,    78.50, 2,     5.10, 2, -999.000, 9, -999.000, -999.0000, 9, -999.0000,  -999.00, 9,  -999.00, -999.000, 9, -999.000,   -999.0, 9,   -999.0,  -999.00, 9,    0.0500, 2,    0.0310, 2,    0.0100, 2,    0.0080, 2,    0.0330, 2,    0.0340, 2, -999, 9, -999, 9, -999, 9, -999, 9, -999, 9, -999, 9, -999, 9,     0.59, 2,     0.63, 2,     3.50, 2,     3.10, 2,  27.8753,     2.74, 2, 1955,   21.5352,  -52.3408
316N200309, A20, 44, 1, 34, 34, 2, 20031009, 1758, 21.5170, -52.3427, 4875,    50.00,     50.0,  26.1546,  37.3459, 2,  37.3372, 2,    205.8, 2,    210.7, 2,     0.67, 2,     0.10, 2,     0.00, 2,     0.02, 2,    1.817, 2,    1.102, 2,    0.164, 2, -999.000, 9,   2070.9, 2,   2439.4, 2,    74.40, 2,     5.20, 2, -999.000, 9, -999.000, -999.0000, 9, -999.0000,  -999.00, 9,  -999.00, -999.000, 9, -999.000,   -999.0, 9,   -999.0,  -999.00, 9,    0.0880, 2,    0.0560, 2,    0.0200, 2,    0.0140, 2,    0.0290, 2,    0.0300, 2, 3877, 4, 1021, 2, 406, 2, 856, 2, 504, 2, 843, 2, 245, 2,     0.38, 2,     0.77, 2,     8.01, 2,     1.66, 2,  26.1433,     3.38, 2, 1954,   21.5348,  -52.3409
316N200309, A20, 44, 1, 33, 33, 2, 20031009, 1758, 21.5170, -52.3427, 4875,    74.70,     74.7,  23.9516,  37.2127, 2,  37.2145, 2,    211.2, 2,    217.3, 2,     0.55, 2,     0.10, 2,     0.00, 2,     0.02, 2,    1.971, 2,    1.192, 2,    0.164, 2, -999.000, 9,   2073.9, 2,   2429.3, 2,    72.00, 2,     4.90, 2, -999.000, 9, -999.000, -999.0000, 9, -999.0000,  -999.00, 9,  -999.00, -999.000, 9, -999.000,   -999.0, 9,   -999.0,  -999.00, 9,    0.1340, 2,    0.0930, 2,    0.0400, 2,    0.0290, 2,    0.0190, 2,    0.0210, 2, 4763, 4, 106, 2, 287, 2, 601, 2, 2411, 4, 1152, 2, 207, 2,     0.46, 2,     0.48, 2,    10.33, 2,     1.07, 2,  23.9358,     2.23, 2, 1952,   21.5345,  -52.3410
316N200309, A20, 44, 1, 32, 32, 2, 20031009, 1758, 21.5170, -52.3427, 4875,   100.10,    100.1,  23.0360,  37.2501, 2,  37.2459, 2,    199.3, 2,    200.4, 2,     0.52, 2,     0.09, 2,     0.01, 2,     0.02, 2,    2.028, 2,    1.215, 2,    0.152, 2, -999.000, 9,   2098.9, 2,   2431.8, 2,    64.60, 2,     4.30, 2, -999.000, 9, -999.000, -999.0000, 9, -999.0000,  -999.00, 9,  -999.00, -999.000, 9, -999.000,   -999.0, 9,   -999.0,  -999.00, 9,    0.1280, 2,    0.0910, 2,    0.0420, 2,    0.0330, 2,    0.0160, 2,    0.0190, 2, -999, 9, -999, 9, -999, 9, -999, 9, -999, 9, -999, 9, -999, 9,     0.13, 2,     1.80, 2,     5.88, 2,     0.00, 2,  23.0154,     2.26, 2, 1951,   21.5342,  -52.3411
316N200309, A20, 44, 1, 31, 31, 2, 20031009, 1758, 21.5170, -52.3427, 4875,   125.20,    125.2,  21.9083,  37.1122, 2,  37.1115, 2,    187.3, 2,    188.9, 2,     0.61, 2,     0.66, 2,     0.03, 2,     0.05, 2,    2.034, 2,    1.217, 2,    0.138, 2, -999.000, 9,   2112.7, 2,   2431.7, 2,    58.60, 2,     6.20, 2, -999.000, 9, -999.000, -999.0000, 9, -999.0000,  -999.00, 9,  -999.00, -999.000, 9, -999.000,   -999.0, 9,   -999.0,  -999.00, 9,    0.1220, 2,    0.0880, 2,    0.0420, 2,    0.0330, 2,    0.0150, 2,    0.0180, 2, 2095, 4, 292, 2, 148, 2, 205, 2, 863, 2, 479, 2, 110, 2,     0.18, 2,     0.79, 2,     2.71, 2,     0.00, 2,  21.8834,     1.41, 2, 1950,   21.5339,  -52.3412
316N200309, A20, 44, 1, 30, 30, 2, 20031009, 1758, 21.5170, -52.3427, 4875,   175.50,    175.5,  19.4428,  36.7295, 2,  36.7318, 2,    182.3, 2,    185.7, 2,     0.90, 2,     2.59, 2,     0.01, 2,     0.10, 2,    2.345, 2,    1.371, 2,    0.029, 2, -999.000, 9,   2113.5, 2,   2397.8, 2,    49.70, 2,     7.50, 2, -999.000, 9, -999.000, -999.0000, 9, -999.0000,  -999.00, 9,  -999.00, -999.000, 9, -999.000,   -999.0, 9,   -999.0,  -999.00, 9,    0.1280, 2,    0.0920, 2,    0.0440, 2,    0.0360, 2,    0.0140, 2,    0.0170, 2, -999, 9, -999, 9, -999, 9, -999, 9, -999, 9, -999, 9, -999, 9,     0.09, 2,     0.08, 2,     0.08, 2,     0.00, 2,  19.4106,     0.76, 2, 1948,   21.5336,  -52.3414
316N200309, A20, 44, 1, 29, 29, 2, 20031009, 1758, 21.5170, -52.3427, 4875,   224.80,    224.8,  18.4928,  36.6006, 2,  36.6021, 2,    182.5, 2,    184.4, 2,     1.29, 2,     4.77, 2,     0.01, 2,     0.23, 2,    2.417, 2,    1.396, 2,    0.031, 2, -999.000, 9,   2118.8, 2,   2389.3, 2,    49.00, 2,     9.50, 2, -999.000, 9, -999.000, -999.0000, 9, -999.0000,  -999.00, 9,  -999.00, -999.000, 9, -999.000,   -999.0, 9,   -999.0,  -999.00, 9,    0.1180, 2,    0.0850, 2,    0.0420, 2,    0.0340, 2,    0.0140, 2,    0.0170, 2, 523, 4, 81, 2, 63, 2, 144, 2, 84, 4, 95, 2, 55, 2,     0.18, 2,  -999.00, 9,  -999.00, 9,  -999.00, 9,  18.4530,  -999.00, 9, 1946,   21.5332,  -52.3415
316N200309, A20, 44, 1, 28, 28, 2, 20031009, 1758, 21.5170, -52.3427, 4875,   274.40,    274.4,  17.7855,  36.4899, 2,  36.4935, 2,    183.5, 2,    183.7, 2,     1.69, 2,     6.07, 2,     0.00, 2,     0.32, 2,    2.443, 2,    1.388, 2,    0.040, 2, -999.000, 9,   2121.8, 2,   2382.7, 2,    49.60, 2,     9.80, 2, -999.000, 9, -999.000, -999.0000, 9, -999.0000,  -999.00, 9,  -999.00, -999.000, 9, -999.000,   -999.0, 9,   -999.0,  -999.00, 9,    0.1110, 2,    0.0780, 2,    0.0360, 2,    0.0290, 2,    0.0170, 2,    0.0200, 2, -999, 9, -999, 9, -999, 9, -999, 9, -999, 9, -999, 9, -999, 9,  -999.00, 9,  -999.00, 9,  -999.00, 9,  -999.00, 9,  17.7382,  -999.00, 9, 1944,   21.5328,  -52.3416
316N200309, A20, 44, 1, 27, 27, 2, 20031009, 1758, 21.5170, -52.3427, 4875,   349.90,    349.9,  16.9613,  36.3575, 2,  36.3596, 2,    178.2, 2,    182.2, 2,     2.19, 2,     7.66, 2,     0.00, 2,     0.42, 2,    2.387, 2,    1.349, 2,    0.044, 2, -999.000, 9,   2126.8, 2,   2375.0, 2,    47.10, 2,  -999.00, 9, -999.000, 9, -999.000, -999.0000, 9, -999.0000,  -999.00, 9,  -999.00, -999.000, 9, -999.000,   -999.0, 9,   -999.0,  -999.00, 9,    0.1040, 2,    0.0740, 2,    0.0340, 2,    0.0260, 2,    0.0200, 2,    0.0210, 2, 541, 4, 37, 2, 57, 2, 76, 2, 227, 2, 100, 2, 45, 2,  -999.00, 9,  -999.00, 9,  -999.00, 9,  -999.00, 9,  16.9029,  -999.00, 9, 1942,   21.5324,  -52.3416
316N200309, A20, 44, 1, 26, 26, 2, 20031009, 1758, 21.5170, -52.3427, 4875,   450.10,    450.1,  14.9073,  36.0190, 2,  36.0208, 2,    170.3, 2,    171.9, 2,     4.05, 2,    11.80, 2,     0.00, 2,     0.67, 2,    2.272, 2,    1.223, 2,    0.034, 2, -999.000, 9,   2142.6, 2,   2356.8, 2,    47.40, 2,  -999.00, 9, -999.000, 9, -999.000, -999.0000, 9, -999.0000,  -999.00, 9,  -999.00, -999.000, 9, -999.000,   -999.0, 9,   -999.0,  -999.00, 9,    0.1110, 2,    0.0780, 2,    0.0360, 2,    0.0270, 2,    0.0190, 2,    0.0210, 2, 608, 4, 59, 2, 47, 2, 67, 2, 241, 4, 140, 2, 55, 2,  -999.00, 9,  -999.00, 9,  -999.00, 9,  -999.00, 9,  14.8383,  -999.00, 9, 1939,   21.5320,  -52.3418
316N200309, A20, 44, 1, 25, 25, 2, 20031009, 1758, 21.5170, -52.3427, 4875,   550.70,    550.7,  13.0308,  35.7528, 2,  35.7554, 2,    159.9, 2,    161.1, 2,     6.13, 2,    15.81, 2,     0.00, 2,     0.94, 2,    1.843, 2,    0.962, 2,    0.022, 2, -999.000, 9,   2158.7, 2,   2342.7, 2,    46.70, 2,  -999.00, 9, -999.000, 9, -999.000, -999.0000, 9, -999.0000,  -999.00, 9,  -999.00, -999.000, 9, -999.000,   -999.0, 9,   -999.0,  -999.00, 9,    0.1200, 2,    0.0840, 2,    0.0390, 2,    0.0300, 2,    0.0170, 2,    0.0190, 2, -999, 9, -999, 9, -999, 9, -999, 9, -999, 9, -999, 9, -999, 9,  -999.00, 9,  -999.00, 9,  -999.00, 9,  -999.00, 9,  12.9534,  -999.00, 9, 1937,   21.5316,  -52.3419
316N200309, A20, 44, 1, 24, 24, 2, 20031009, 1758, 21.5170, -52.3427, 4875,   674.80,    674.8,  10.6768,  35.4585, 2,  35.4604, 2,    142.7, 2,    142.0, 2,    10.40, 2,    21.77, 2,     0.00, 2,     1.33, 2,    1.082, 2,    0.553, 2,    0.015, 2, -999.000, 9,   2183.9, 2,   2328.1, 2,    48.20, 2,  -999.00, 9, -999.000, 9, -999.000, -999.0000, 9, -999.0000,  -999.00, 9,  -999.00, -999.000, 9, -999.000,   -999.0, 9,   -999.0,  -999.00, 9,    0.1220, 2,    0.0850, 2,    0.0410, 2,    0.0330, 2,    0.0150, 2,    0.0180, 2, -999, 9, -999, 9, -999, 9, -999, 9, -999, 9, -999, 9, -999, 9,  -999.00, 9,  -999.00, 9,  -999.00, 9,  -999.00, 9,  10.5929,  -999.00, 9, 1934,   21.5311,  -52.3420
316N200309, A20, 44, 1, 23, 23, 2, 20031009, 1758, 21.5170, -52.3427, 4875,   800.20,    800.2,   8.5527,  35.1917, 2,  35.1922, 2,    135.2, 2,    134.8, 2,    16.03, 2,    26.22, 2,     0.00, 2,     1.67, 2,    0.358, 2,    0.186, 2,    0.009, 2, -999.000, 9,   2199.7, 2,   2319.2, 2,    43.50, 2,  -999.00, 9, -999.000, 9, -999.000, -999.0000, 9, -999.0000,  -999.00, 9,  -999.00, -999.000, 9, -999.000,   -999.0, 9,   -999.0,  -999.00, 9,    0.1210, 2,    0.0840, 2,    0.0410, 2,    0.0320, 2,    0.0150, 2,    0.0180, 2, 203, 4, 7, 2, 40, 2, 48, 2, 51, 2, 45, 2, 12, 2,  -999.00, 9,  -999.00, 9,  -999.00, 9,  -999.00, 9,   8.4651,  -999.00, 9, 1930,   21.5306,  -52.3422
316N200309, A20, 44, 1, 22, 22, 2, 20031009, 1758, 21.5170, -52.3427, 4875,   950.30,    950.3,   6.5411,  34.9535, 2,  34.9528, 2,    143.7, 2,    144.6, 2,    21.14, 2,    28.65, 2,     0.00, 2,     1.88, 2,    0.097, 2,    0.053, 2,    0.004, 2, -999.000, 9,   2206.3, 2,   2312.9, 2,    40.00, 2,  -999.00, 9, -999.000, 9, -999.000, -999.0000, 9, -999.0000,  -999.00, 9,  -999.00, -999.000, 9, -999.000,   -999.0, 9,   -999.0,  -999.00, 9,    0.1250, 2,    0.0860, 2,    0.0430, 2,    0.0330, 2,    0.0150, 2,    0.0180, 2, -999, 9, -999, 9, -999, 9, -999, 9, -999, 9, -999, 9, -999, 9,  -999.00, 9,  -999.00, 9,  -999.00, 9,  -999.00, 9,   6.4506,  -999.00, 9, 1927,   21.5300,  -52.3423
316N200309, A20, 44, 1, 21, 21, 2, 20031009, 1758, 21.5170, -52.3427, 4875,  1100.10,   1100.1,   5.7522,  34.9439, 2,  34.9443, 2,    168.7, 2,    167.8, 2,    21.12, 2,    26.84, 2,     0.00, 2,     1.78, 2,    0.115, 2,    0.065, 2,    0.007, 2, -999.000, 9,   2198.4, 2,   2313.4, 2,    38.90, 2,  -999.00, 9, -999.000, 9, -999.000, -999.0000, 9, -999.0000,  -999.00, 9,  -999.00, -999.000, 9, -999.000,   -999.0, 9,   -999.0,  -999.00, 9,    0.1300, 2,    0.0900, 2,    0.0450, 2,    0.0350, 2,    0.0140, 2,    0.0170, 2, -999, 9, -999, 9, -999, 9, -999, 9, -999, 9, -999, 9, -999, 9,  -999.00, 9,  -999.00, 9,  -999.00, 9,  -999.00, 9,   5.6528,  -999.00, 9, 1924,   21.5295,  -52.3424
316N200309, A20, 44, 1, 20, 20, 2, 20031009, 1758, 21.5170, -52.3427, 4875,  1251.10,   1251.1,   5.4297,  34.9931, 2,  34.9923, 2,    195.1, 2,    192.2, 2,    18.80, 2,    24.00, 2,     0.00, 2,     1.59, 2,    0.180, 2,    0.099, 2,    0.007, 2, -999.000, 9,   2186.7, 2,   2314.3, 2,  -999.00, 9,  -999.00, 9, -999.000, 9, -999.000, -999.0000, 9, -999.0000,  -999.00, 9,  -999.00, -999.000, 9, -999.000,   -999.0, 9,   -999.0,  -999.00, 9, -999.0000, 9, -999.0000, 9, -999.0000, 9, -999.0000, 9, -999.0000, 9, -999.0000, 9, -999, 9, -999, 9, -999, 9, -999, 9, -999, 9, -999, 9, -999, 9,  -999.00, 9,  -999.00, 9,  -999.00, 9,  -999.00, 9,   5.3182,  -999.00, 9, 1920,   21.5291,  -52.3424
316N200309, A20, 44, 1, 19, 19, 2, 20031009, 1758, 21.5170, -52.3427, 4875,  1374.60,   1374.6,   5.1088,  35.0298, 2,  35.0297, 2,    209.5, 2,    211.3, 2,    17.20, 2,    22.06, 2,     0.00, 2,     1.46, 2,    0.166, 6,    0.096, 6,    0.006, 2,    0.400, 2,   2178.2, 2,   2315.6, 2,    43.00, 2,  -999.00, 9, -999.000, 9, -999.000, -999.0000, 9, -999.0000,  -999.00, 9,  -999.00, -999.000, 9, -999.000,   -999.0, 9,   -999.0,  -999.00, 9,    0.1220, 2,    0.0850, 2,    0.0410, 2,    0.0300, 2,    0.0170, 2,    0.0190, 2, -999, 9, -999, 9, -999, 9, -999, 9, -999, 9, -999, 9, -999, 9,  -999.00, 9,  -999.00, 9,  -999.00, 9,  -999.00, 9,   4.9884,  -999.00, 9, 1917,   21.5288,  -52.3424
316N200309, A20, 44, 1, 18, 18, 2, 20031009, 1758, 21.5170, -52.3427, 4875,  1501.70,   1501.7,   4.7088,  35.0351, 2,  35.0354, 2,    231.0, 2,    230.7, 2,    15.82, 2,    20.26, 2,     0.00, 2,     1.34, 2,    0.213, 2,    0.107, 2,    0.007, 2, -999.000, 9,   2169.8, 2,   2315.0, 2,  -999.00, 9,  -999.00, 9, -999.000, 9, -999.000, -999.0000, 9, -999.0000,  -999.00, 9,  -999.00, -999.000, 9, -999.000,   -999.0, 9,   -999.0,  -999.00, 9, -999.0000, 9, -999.0000, 9, -999.0000, 9, -999.0000, 9, -999.0000, 9, -999.0000, 9, -999, 9, -999, 9, -999, 9, -999, 9, -999, 9, -999, 9, -999, 9,  -999.00, 9,  -999.00, 9,  -999.00, 9,  -999.00, 9,   4.5803,  -999.00, 9, 1914,   21.5284,  -52.3424
316N200309, A20, 44, 1, 17, 17, 2, 20031009, 1758, 21.5170, -52.3427, 4875,  1625.10,   1625.1,   4.4259,  35.0357, 2,  35.0356, 2,    240.0, 2,    241.4, 2,    15.48, 2,    19.37, 2,     0.00, 2,     1.28, 2,    0.218, 2,    0.116, 2,    0.013, 2, -999.000, 9,   2164.4, 2,   2314.5, 2,    40.10, 2,  -999.00, 9, -999.000, 9, -999.000, -999.0000, 9, -999.0000,  -999.00, 9,  -999.00, -999.000, 9, -999.000,   -999.0, 9,   -999.0,  -999.00, 9,    0.1250, 2,    0.0860, 2,    0.0400, 2,    0.0280, 2,    0.0190, 2,    0.0210, 2, -999, 9, -999, 9, -999, 9, -999, 9, -999, 9, -999, 9, -999, 9,  -999.00, 9,  -999.00, 9,  -999.00, 9,  -999.00, 9,   4.2889,  -999.00, 9, 1911,   21.5280,  -52.3425
316N200309, A20, 44, 1, 16, 16, 2, 20031009, 1758, 21.5170, -52.3427, 4875,  1774.70,   1774.7,   4.1353,  35.0304, 2,  35.0327, 2,    245.0, 2,    245.5, 2,    17.13, 2,    19.23, 2,     0.00, 2,     1.27, 2,    0.111, 2,    0.066, 2,    0.012, 2, -999.000, 9,   2162.8, 2,   2316.6, 2,  -999.00, 9,  -999.00, 9, -999.000, 9, -999.000, -999.0000, 9, -999.0000,  -999.00, 9,  -999.00, -999.000, 9, -999.000,   -999.0, 9,   -999.0,  -999.00, 9, -999.0000, 9, -999.0000, 9, -999.0000, 9, -999.0000, 9, -999.0000, 9, -999.0000, 9, -999, 9, -999, 9, -999, 9, -999, 9, -999, 9, -999, 9, -999, 9,  -999.00, 9,  -999.00, 9,  -999.00, 9,  -999.00, 9,   3.9875,  -999.00, 9, 1908,   21.5275,  -52.3425
316N200309, A20, 44, 1, 15, 15, 2, 20031009, 1758, 21.5170, -52.3427, 4875,  1921.10,   1921.1,   3.8707,  35.0161, 2,  35.0177, 2,    246.2, 2,    246.1, 2,    19.53, 2,    19.51, 2,     0.00, 2,     1.29, 2,    0.032, 2,    0.022, 2,    0.006, 2, -999.000, 9,   2165.4, 2,   2318.5, 2,  -999.00, 9,  -999.00, 9, -999.000, 9, -999.000, -999.0000, 9, -999.0000,  -999.00, 9,  -999.00, -999.000, 9, -999.000,   -999.0, 9,   -999.0,  -999.00, 9, -999.0000, 9, -999.0000, 9, -999.0000, 9, -999.0000, 9, -999.0000, 9, -999.0000, 9, -999, 9, -999, 9, -999, 9, -999, 9, -999, 9, -999, 9, -999, 9,  -999.00, 9,  -999.00, 9,  -999.00, 9,  -999.00, 9,   3.7126,  -999.00, 9, 1905,   21.5271,  -52.3425
316N200309, A20, 44, 1, 14, 14, 2, 20031009, 1758, 21.5170, -52.3427, 4875,  2126.00,   2126.0,   3.5459,  34.9972, 2,  34.9974, 2,    247.3, 2,    248.0, 2,    22.65, 2,    19.61, 2,     0.00, 2,     1.31, 2,    0.017, 2,    0.016, 2,    0.003, 2, -999.000, 9,   2168.7, 2,   2320.8, 2,    40.40, 2,  -999.00, 9, -999.000, 9, -999.000, -999.0000, 9, -999.0000,  -999.00, 9,  -999.00, -999.000, 9, -999.000,   -999.0, 9,   -999.0,  -999.00, 9,    0.1220, 2,    0.0850, 2,    0.0400, 2,    0.0320, 2,    0.0160, 2,    0.0190, 2, -999, 9, -999, 9, -999, 9, -999, 9, -999, 9, -999, 9, -999, 9,  -999.00, 9,  -999.00, 9,  -999.00, 9,  -999.00, 9,   3.3729,  -999.00, 9, 1900,   21.5265,  -52.3426
316N200309, A20, 44, 1, 13, 13, 2, 20031009, 1758, 21.5170, -52.3427, 4875,  2375.20,   2375.2,   3.2554,  34.9744, 2,  34.9748, 2,    248.8, 2,    249.8, 2,    25.87, 2,    19.83, 2,     0.00, 2,     1.33, 2,    0.031, 2,    0.018, 2,    0.008, 2, -999.000, 9,   2170.6, 2,   2324.5, 2,  -999.00, 9,  -999.00, 9, -999.000, 9, -999.000, -999.0000, 9, -999.0000,  -999.00, 9,  -999.00, -999.000, 9, -999.000,   -999.0, 9,   -999.0,  -999.00, 9, -999.0000, 9, -999.0000, 9, -999.0000, 9, -999.0000, 9, -999.0000, 9, -999.0000, 9, -999, 9, -999, 9, -999, 9, -999, 9, -999, 9, -999, 9, -999, 9,  -999.00, 9,  -999.00, 9,  -999.00, 9,  -999.00, 9,   3.0630,  -999.00, 9, 1855,   21.5257,  -52.3428
316N200309, A20, 44, 1, 12, 12, 2, 20031009, 1758, 21.5170, -52.3427, 4875,  2625.40,   2625.4,   2.9710,  34.9510, 2,  34.9506, 2,    250.2, 2,    251.2, 2,    29.22, 2,    20.07, 2,     0.00, 2,     1.35, 2,    0.017, 2,    0.014, 2,    0.004, 2, -999.000, 9,   2173.6, 2,   2327.3, 2,    39.80, 2,  -999.00, 9, -999.000, 9, -999.000, -999.0000, 9, -999.0000,  -999.00, 9,  -999.00, -999.000, 9, -999.000,   -999.0, 9,   -999.0,  -999.00, 9,    0.1290, 2,    0.0910, 2,    0.0450, 2,    0.0340, 2,    0.0150, 2,    0.0180, 2, -999, 9, -999, 9, -999, 9, -999, 9, -999, 9, -999, 9, -999, 9,  -999.00, 9,  -999.00, 9,  -999.00, 9,  -999.00, 9,   2.7591,  -999.00, 9, 1850,   21.5250,  -52.3427
316N200309, A20, 44, 1, 11, 11, 2, 20031009, 1758, 21.5170, -52.3427, 4875,  2875.40,   2875.4,   2.7929,  34.9358, 2,  34.9359, 2,    250.5, 2,    251.5, 2,    31.82, 2,    20.20, 2,     0.00, 2,     1.36, 2,    0.019, 2,    0.016, 2,    0.006, 2, -999.000, 9,   2176.6, 2,   2327.8, 2,  -999.00, 9,  -999.00, 9, -999.000, 9, -999.000, -999.0000, 9, -999.0000,  -999.00, 9,  -999.00, -999.000, 9, -999.000,   -999.0, 9,   -999.0,  -999.00, 9, -999.0000, 9, -999.0000, 9, -999.0000, 9, -999.0000, 9, -999.0000, 9, -999.0000, 9, -999, 9, -999, 9, -999, 9, -999, 9, -999, 9, -999, 9, -999, 9,  -999.00, 9,  -999.00, 9,  -999.00, 9,  -999.00, 9,   2.5595,  -999.00, 9, 1845,   21.5244,  -52.3426