BOTTLE,20220816CCHSIOAMB
EXPOCODE,SECT_ID,STNNBR,CASTNO,SAMPNO,BTLNBR,BTLNBR_FLAG_W,DATE,TIME,LATITUDE,LONGITUDE,DEPTH,CTDRAW,CTDPRS,CTDTMP,CTDSAL,CTDSAL_FLAG_W,SALNTY,SALNTY_FLAG_W,CTDOXY,CTDOXY_FLAG_W,OXYGEN,OXYGEN_FLAG_W,SILCAT,SILCAT_FLAG_W,NITRAT,NITRAT_FLAG_W,NITRIT,NITRIT_FLAG_W,PHSPHT,PHSPHT_FLAG_W,CFC-11,CFC-11_FLAG_W,CFC-12,CFC-12_FLAG_W,CFC113,CFC113_FLAG_W,CCL4,CCL4_FLAG_W,TCARBN,TCARBN_FLAG_W,ALKALI,ALKALI_FLAG_W,DOC,DOC_FLAG_W,TDN,TDN_FLAG_W,TRITUM,TRITUM_FLAG_W,TRITER,HELIUM,HELIUM_FLAG_W,HELIER,DELHE3,DELHE3_FLAG_W,DELHER,NEON,NEON_FLAG_W,NEONER,DELC14,DELC14_FLAG_W,C14ERR,DELC13,DELC13_FLAG_W,CDOM325,CDOM325_FLAG_W,CDOM340,CDOM340_FLAG_W,CDOM380,CDOM380_FLAG_W,CDOM412,CDOM412_FLAG_W,CDOMSL,CDOMSL_FLAG_W,CDOMSN,CDOMSN_FLAG_W,DCNS,DCNS_FLAG_W,ARABI,ARABI_FLAG_W,FUCO,FUCO_FLAG_W,GALA,GALA_FLAG_W,GLUC,GLUC_FLAG_W,MAN,MAN_FLAG_W,RHAM,RHAM_FLAG_W,BRDU,BRDU_FLAG_W,PEUK,PEUK_FLAG_W,PROC,PROC_FLAG_W,SYN,SYN_FLAG_W,THETA,BACT,BACT_FLAG_W,BTL_TIME,BTL_LAT,BTL_LON
,,,,,,,,,,,METERS,DBAR,DBAR,ITS-90,PSS-78,,PSS-78,,UMOL/KG,,UMOL/KG,,UMOL/KG,,UMOL/KG,,UMOL/KG,,UMOL/KG,,PMOL/KG,,PMOL/KG,,PMOL/KG,,PMOL/KG,,UMOL/KG,,UMOL/KG,,UMOL/KG,,UMOL/KG,,TU,,TU,NMOL/KG,,NMOL/KG,PERCNT,,PERCNT,NMOL/KG,,NMOL/KG,/MILLE,,/MILLE,/MILLE,,1/M,,1/M,,1/M,,1/M,,1/NM,,1/NM,,NMOL/KG,,NMOL/KG,,NMOL/KG,,NMOL/KG,,NMOL/KG,,NMOL/KG,,NMOL/KG,,PMOL/L/H,,E6/L,,E7/L,,E6/L,,DEG C,E8/L,,,,
316N200309, A20, 24, 1, 36, 36, 2, 20030930, 1851, 36.9045, -52.4515, 5576,    10.70,     10.7,  25.4952,  36.3450, 2,  36.3489, 2,    200.7, 2,    205.6, 2,     0.74, 2,     0.17, 2,     0.00, 2,     0.03, 2,    1.823, 2,    1.098, 2,    0.151, 2, -999.000, 9,   2032.7, 2,   2376.0, 2,  -999.00, 9,  -999.00, 9,    0.732, 2,    0.003,   1.7461, 2,   0.0087,    -0.29, 2,     0.20,    6.788, 2,    0.034,   -999.0, 9,   -999.0,  -999.00, 9,    0.0450, 2,    0.0340, 2,    0.0120, 2,    0.0060, 2,    0.0210, 2,    0.0220, 2, -999, 9, -999, 9, -999, 9, -999, 9, -999, 9, -999, 9, -999, 9,  -999.00, 9,  -999.00, 9,  -999.00, 9,  -999.00, 9,  25.4928,  -999.00, 9, 2103,   36.8967,  -52.4432
316N200309, A20, 24, 1, 35, 35, 2, 20030930, 1851, 36.9045, -52.4515, 5576,    24.60,     24.6,  25.4906,  36.3462, 2,  36.3487, 2,    201.0, 2,    204.8, 2,     0.76, 2,     0.17, 2,     0.00, 2,     0.03, 2,    1.793, 2,    1.112, 2,    0.147, 2, -999.000, 9,   -999.0, 9,   -999.0, 9,  -999.00, 9,  -999.00, 9, -999.000, 9, -999.000, -999.0000, 9, -999.0000,  -999.00, 9,  -999.00, -999.000, 9, -999.000,   -999.0, 9,   -999.0,  -999.00, 9,    0.0470, 2,    0.0330, 2,    0.0110, 2,    0.0060, 2,    0.0240, 2,    0.0250, 2, -999, 9, -999, 9, -999, 9, -999, 9, -999, 9, -999, 9, -999, 9,  -999.00, 9,  -999.00, 9,  -999.00, 9,  -999.00, 9,  25.4851,  -999.00, 9, 2102,   36.8968,  -52.4433
316N200309, A20, 24, 1, 34, 34, 2, 20030930, 1851, 36.9045, -52.4515, 5576,    50.30,     50.3,  25.4245,  36.3421, 2,  36.3431, 2,    201.1, 2,    205.3, 2,     0.78, 2,     0.17, 2,     0.00, 2,     0.02, 2,    1.811, 2,    1.102, 2,    0.147, 2, -999.000, 9,   -999.0, 9,   -999.0, 9,  -999.00, 9,  -999.00, 9,    0.755, 2,    0.004,   1.7586, 2,   0.0088,    -0.72, 2,     0.20,    6.856, 2,    0.034,   -999.0, 9,   -999.0,  -999.00, 9,    0.0430, 2,    0.0330, 2,    0.0140, 2,    0.0070, 2,    0.0180, 2,    0.0190, 2, -999, 9, -999, 9, -999, 9, -999, 9, -999, 9, -999, 9, -999, 9,  -999.00, 9,  -999.00, 9,  -999.00, 9,  -999.00, 9,  25.4134,  -999.00, 9, 2100,   36.8969,  -52.4435
316N200309, A20, 24, 1, 33, 33, 2, 20030930, 1851, 36.9045, -52.4515, 5576,    74.30,     74.3,  25.3195,  36.3563, 2,  36.3574, 2,    200.9, 2,    205.1, 2,     0.79, 2,     0.16, 2,     0.00, 2,     0.02, 2,    1.834, 2,    1.115, 2,    0.146, 2, -999.000, 9,   -999.0, 9,   -999.0, 9,  -999.00, 9,  -999.00, 9, -999.000, 9, -999.000, -999.0000, 9, -999.0000,  -999.00, 9,  -999.00, -999.000, 9, -999.000,   -999.0, 9,   -999.0,  -999.00, 9,    0.0450, 2,    0.0350, 2,    0.0150, 2,    0.0100, 2,    0.0170, 2,    0.0170, 2, -999, 9, -999, 9, -999, 9, -999, 9, -999, 9, -999, 9, -999, 9,  -999.00, 9,  -999.00, 9,  -999.00, 9,  -999.00, 9,  25.3031,  -999.00, 9, 2058,   36.8970,  -52.4436
316N200309, A20, 24, 1, 32, 32, 2, 20030930, 1851, 36.9045, -52.4515, 5576,   125.90,    125.9,  21.1895,  36.6471, 2,  36.6477, 2,    195.5, 2,    200.2, 2,     0.71, 2,     1.23, 2,     0.05, 2,     0.06, 2,    2.182, 2,    1.306, 2,    0.120, 2, -999.000, 9,   -999.0, 9,   -999.0, 9,  -999.00, 9,  -999.00, 9, -999.000, 9, -999.000, -999.0000, 9, -999.0000,  -999.00, 9,  -999.00, -999.000, 9, -999.000,   -999.0, 9,   -999.0,  -999.00, 9,    0.1120, 2,    0.0840, 2,    0.0410, 2,    0.0290, 2,    0.0160, 2,    0.0180, 2, -999, 9, -999, 9, -999, 9, -999, 9, -999, 9, -999, 9, -999, 9,  -999.00, 9,  -999.00, 9,  -999.00, 9,  -999.00, 9,  21.1650,  -999.00, 9, 2056,   36.8971,  -52.4438
316N200309, A20, 24, 1, 31, 31, 2, 20030930, 1851, 36.9045, -52.4515, 5576,   174.90,    174.9,  19.5509,  36.6148, 2,  36.6152, 2,    199.2, 2,    201.5, 2,     0.93, 2,     1.88, 2,     0.05, 2,     0.08, 2,    2.313, 2,    1.382, 2,    0.133, 2, -999.000, 9,   -999.0, 9,   -999.0, 9,  -999.00, 9,  -999.00, 9, -999.000, 9, -999.000,   1.8228, 2,   0.0091,     0.58, 2,     0.20,    7.207, 2,    0.036,   -999.0, 9,   -999.0,  -999.00, 9,    0.1030, 2,    0.0770, 2,    0.0370, 2,    0.0280, 2,    0.0160, 2,    0.0180, 2, -999, 9, -999, 9, -999, 9, -999, 9, -999, 9, -999, 9, -999, 9,  -999.00, 9,  -999.00, 9,  -999.00, 9,  -999.00, 9,  19.5187,  -999.00, 9, 2055,   36.8972,  -52.4439
316N200309, A20, 24, 1, 30, 30, 2, 20030930, 1851, 36.9045, -52.4515, 5576,   224.50,    224.5,  19.0115,  36.6082, 2,  36.6140, 2,    200.6, 2,    204.6, 2,     1.03, 2,     2.55, 2,     0.01, 2,     0.12, 2,    2.341, 2,    1.383, 2,    0.090, 2, -999.000, 9,   -999.0, 9,   -999.0, 9,  -999.00, 9,  -999.00, 9,    0.756, 2,    0.004,   1.7835, 2,   0.0089,     0.03, 2,     0.20,    7.089, 2,    0.035,   -999.0, 9,   -999.0,  -999.00, 9,    0.0870, 2,    0.0610, 2,    0.0270, 2,    0.0190, 2,    0.0230, 2,    0.0230, 2, -999, 9, -999, 9, -999, 9, -999, 9, -999, 9, -999, 9, -999, 9,  -999.00, 9,  -999.00, 9,  -999.00, 9,  -999.00, 9,  18.9710,  -999.00, 9, 2053,   36.8972,  -52.4439
316N200309, A20, 24, 1, 29, 29, 2, 20030930, 1851, 36.9045, -52.4515, 5576,   274.90,    274.9,  18.7128,  36.5883, 2,  36.5898, 2,    204.1, 2,    207.0, 2,     1.15, 2,     2.79, 2,     0.01, 2,     0.13, 2,    2.366, 2,    1.405, 2,    0.100, 2, -999.000, 9,   -999.0, 9,   -999.0, 9,  -999.00, 9,  -999.00, 9, -999.000, 9, -999.000, -999.0000, 9, -999.0000,  -999.00, 9,  -999.00, -999.000, 9, -999.000,   -999.0, 9,   -999.0,  -999.00, 9, -999.0000, 9, -999.0000, 9, -999.0000, 9, -999.0000, 9, -999.0000, 9, -999.0000, 9, -999, 9, -999, 9, -999, 9, -999, 9, -999, 9, -999, 9, -999, 9,  -999.00, 9,  -999.00, 9,  -999.00, 9,  -999.00, 9,  18.6637,  -999.00, 9, 2051,   36.8974,  -52.4439
316N200309, A20, 24, 1, 28, 28, 2, 20030930, 1851, 36.9045, -52.4515, 5576,   349.40,    349.4,  18.4157,  36.5598, 2,  36.5599, 2,    203.6, 2,    206.8, 2,     1.27, 2,     3.43, 2,     0.01, 2,     0.17, 2,    2.390, 2,    1.410, 2,    0.082, 2, -999.000, 9,   -999.0, 9,   -999.0, 9,  -999.00, 9,  -999.00, 9,    0.764, 2,    0.003,   1.8009, 2,   0.0090,    -0.13, 2,     0.20,    7.149, 2,    0.036,   -999.0, 9,   -999.0,  -999.00, 9,    0.0830, 2,    0.0570, 2,    0.0240, 2,    0.0170, 2,    0.0240, 2,    0.0250, 2, -999, 9, -999, 9, -999, 9, -999, 9, -999, 9, -999, 9, -999, 9,  -999.00, 9,  -999.00, 9,  -999.00, 9,  -999.00, 9,  18.3540,  -999.00, 9, 2049,   36.8976,  -52.4441
316N200309, A20, 24, 1, 27, 27, 2, 20030930, 1851, 36.9045, -52.4515, 5576,   449.20,    449.2,  17.7713,  36.4843, 2,  36.4842, 2,    199.5, 2,    201.5, 2,     1.78, 2,     5.01, 2,     0.01, 2,     0.25, 2,    2.400, 2,    1.388, 2,    0.075, 2, -999.000, 9,   -999.0, 9,   -999.0, 9,  -999.00, 9,  -999.00, 9,    0.799, 2,    0.004,   1.7963, 2,   0.0090,     0.27, 2,     0.20,    7.249, 2,    0.036,   -999.0, 9,   -999.0,  -999.00, 9,    0.0870, 2,    0.0590, 2,    0.0260, 2,    0.0180, 2,    0.0230, 2,    0.0240, 2, -999, 9, -999, 9, -999, 9, -999, 9, -999, 9, -999, 9, -999, 9,  -999.00, 9,  -999.00, 9,  -999.00, 9,  -999.00, 9,  17.6936,  -999.00, 9, 2046,   36.8977,  -52.4444
316N200309, A20, 24, 1, 26, 26, 2, 20030930, 1851, 36.9045, -52.4515, 5576,   574.80,    574.8,  16.4931,  36.2636, 2,  36.2638, 2,    193.2, 2,    189.3, 2,     2.78, 2,     8.01, 2,     0.01, 2,     0.45, 2,    2.362, 2,    1.319, 2,    0.052, 2, -999.000, 9,   -999.0, 9,   -999.0, 9,  -999.00, 9,  -999.00, 9, -999.000, 9, -999.000, -999.0000, 9, -999.0000,  -999.00, 9,  -999.00, -999.000, 9, -999.000,   -999.0, 9,   -999.0,  -999.00, 9, -999.0000, 9, -999.0000, 9, -999.0000, 9, -999.0000, 9, -999.0000, 9, -999.0000, 9, -999, 9, -999, 9, -999, 9, -999, 9, -999, 9, -999, 9, -999, 9,  -999.00, 9,  -999.00, 9,  -999.00, 9,  -999.00, 9,  16.3984,  -999.00, 9, 2043,   36.8979,  -52.4447
316N200309, A20, 24, 1, 25, 25, 2, 20030930, 1851, 36.9045, -52.4515, 5576,   700.30,    700.3,  15.1559,  36.0464, 2,  36.0449, 2,    193.6, 2,    196.6, 2,     3.58, 2,     9.50, 2,     0.00, 2,     0.56, 2,    2.438, 2,    1.387, 2,    0.069, 2, -999.000, 9,   -999.0, 9,   -999.0, 9,  -999.00, 9,  -999.00, 9,    0.831, 2,    0.003,   1.7890, 2,   0.0089,     1.69, 2,     0.20,    7.273, 2,    0.036,   -999.0, 9,   -999.0,  -999.00, 9,    0.0980, 2,    0.0670, 2,    0.0300, 2,    0.0200, 2,    0.0220, 2,    0.0230, 2, -999, 9, -999, 9, -999, 9, -999, 9, -999, 9, -999, 9, -999, 9,  -999.00, 9,  -999.00, 9,  -999.00, 9,  -999.00, 9,  15.0466,  -999.00, 9, 2040,   36.8980,  -52.4449
316N200309, A20, 24, 1, 24, 24, 2, 20030930, 1851, 36.9045, -52.4515, 5576,   826.10,    826.1,  12.9356,  35.6670, 2,  35.6650, 2,    177.1, 2,    169.1, 2,     6.86, 2,    15.60, 2,     0.00, 2,     0.97, 2,    2.008, 2,    1.109, 2,    0.068, 2, -999.000, 9,   -999.0, 9,   -999.0, 9,  -999.00, 9,  -999.00, 9, -999.000, 9, -999.000, -999.0000, 9, -999.0000,  -999.00, 9,  -999.00, -999.000, 9, -999.000,   -999.0, 9,   -999.0,  -999.00, 9, -999.0000, 9, -999.0000, 9, -999.0000, 9, -999.0000, 9, -999.0000, 9, -999.0000, 9, -999, 9, -999, 9, -999, 9, -999, 9, -999, 9, -999, 9, -999, 9,  -999.00, 9,  -999.00, 9,  -999.00, 9,  -999.00, 9,  12.8190,  -999.00, 9, 2037,   36.8982,  -52.4452
316N200309, A20, 24, 1, 23, 23, 2, 20030930, 1851, 36.9045, -52.4515, 5576,   958.60,    958.6,   9.9745,  35.2741, 2,  35.2779, 3,    139.9, 2,    141.3, 2,    13.03, 2,    23.34, 2,     0.00, 2,     1.48, 2,    1.040, 2,    0.555, 2,    0.025, 2, -999.000, 9,   -999.0, 9,   -999.0, 9,  -999.00, 9,  -999.00, 9, -999.000, 9, -999.000,   1.8153, 2,   0.0091,     6.27, 2,     0.20,    7.502, 2,    0.038,   -999.0, 9,   -999.0,  -999.00, 9,    0.1270, 2,    0.0870, 2,    0.0420, 2,    0.0290, 2,    0.0170, 2,    0.0200, 2, -999, 9, -999, 9, -999, 9, -999, 9, -999, 9, -999, 9, -999, 9,  -999.00, 9,  -999.00, 9,  -999.00, 9,  -999.00, 9,   9.8588,  -999.00, 9, 2033,   36.8984,  -52.4456
316N200309, A20, 24, 1, 22, 22, 2, 20030930, 1851, 36.9045, -52.4515, 5576,  1124.40,   1124.4,   7.2095,  35.0802, 2,  35.0795, 2,    177.3, 2,    177.5, 2,    14.15, 2,    22.48, 2,     0.00, 2,     1.48, 2,    1.322, 2,    0.684, 2,    0.060, 2, -999.000, 9,   -999.0, 9,   -999.0, 9,  -999.00, 9,  -999.00, 9,    0.554, 2,    0.003,   1.8501, 2,   0.0093,     6.56, 2,     0.20,    7.608, 2,    0.038,   -999.0, 9,   -999.0,  -999.00, 9,    0.1250, 2,    0.0870, 2,    0.0420, 2,    0.0280, 2,    0.0180, 2,    0.0200, 2, -999, 9, -999, 9, -999, 9, -999, 9, -999, 9, -999, 9, -999, 9,  -999.00, 9,  -999.00, 9,  -999.00, 9,  -999.00, 9,   7.0953,  -999.00, 9, 2030,   36.8986,  -52.4460
316N200309, A20, 24, 1, 21, 21, 2, 20030930, 1851, 36.9045, -52.4515, 5576,  1274.10,   1274.1,   5.5884,  35.0163, 2,  35.0232, 3,    217.5, 2,    219.1, 2,    12.87, 2,    19.92, 2,     0.00, 2,     1.32, 2,    1.995, 2,    1.023, 2,    0.120, 2, -999.000, 9,   -999.0, 9,   -999.0, 9,  -999.00, 9,  -999.00, 9,    0.688, 2,    0.004,   1.8510, 2,   0.0093,     6.26, 2,     0.20,    7.633, 2,    0.038,   -999.0, 9,   -999.0,  -999.00, 9, -999.0000, 9, -999.0000, 9, -999.0000, 9, -999.0000, 9, -999.0000, 9, -999.0000, 9, -999, 9, -999, 9, -999, 9, -999, 9, -999, 9, -999, 9, -999, 9,  -999.00, 9,  -999.00, 9,  -999.00, 9,  -999.00, 9,   5.4731,  -999.00, 9, 2026,   36.8989,  -52.4466
316N200309, A20, 24, 1, 20, 20, 2, 20030930, 1851, 36.9045, -52.4515, 5576,  1423.90,   1423.9,   5.0452,  35.0254, 2,  35.0250, 2,    239.6, 2,    239.5, 2,    12.00, 2,    18.61, 2,     0.00, 2,     1.23, 2,    2.222, 2,    1.106, 2,    0.129, 2, -999.000, 9,   -999.0, 9,   -999.0, 9,  -999.00, 9,  -999.00, 9, -999.000, 9, -999.000, -999.0000, 9, -999.0000,  -999.00, 9,  -999.00, -999.000, 9, -999.000,   -999.0, 9,   -999.0,  -999.00, 9, -999.0000, 9, -999.0000, 9, -999.0000, 9, -999.0000, 9, -999.0000, 9, -999.0000, 9, -999, 9, -999, 9, -999, 9, -999, 9, -999, 9, -999, 9, -999, 9,  -999.00, 9,  -999.00, 9,  -999.00, 9,  -999.00, 9,   4.9206,  -999.00, 9, 2022,   36.8991,  -52.4471
316N200309, A20, 24, 1, 19, 19, 2, 20030930, 1851, 36.9045, -52.4515, 5576,  1574.40,   1574.4,   4.5707,  35.0010, 2,  35.0004, 2,    252.4, 2,    253.3, 2,    11.62, 2,    18.00, 2,     0.00, 2,     1.19, 2,    2.444, 2,    1.236, 2,    0.156, 2, -999.000, 9,   -999.0, 9,   -999.0, 9,  -999.00, 9,  -999.00, 9,    0.750, 2,    0.004,   1.8710, 2,   0.0094,     7.53, 2,     0.20,    7.752, 2,    0.039,   -999.0, 9,   -999.0,  -999.00, 9, -999.0000, 9, -999.0000, 9, -999.0000, 9, -999.0000, 9, -999.0000, 9, -999.0000, 9, -999, 9, -999, 9, -999, 9, -999, 9, -999, 9, -999, 9, -999, 9,  -999.00, 9,  -999.00, 9,  -999.00, 9,  -999.00, 9,   4.4369,  -999.00, 9, 2019,   36.8993,  -52.4476
316N200309, A20, 24, 1, 18, 18, 2, 20030930, 1851, 36.9045, -52.4515, 5576,  1728.70,   1728.7,   4.2236,  34.9743, 2,  34.9742, 2,    260.4, 2,    260.8, 2,    11.73, 2,    17.70, 2,     0.00, 2,     1.17, 2,    2.444, 2,    1.206, 2,    0.150, 2, -999.000, 9,   -999.0, 9,   -999.0, 9,  -999.00, 9,  -999.00, 9,    0.702, 2,    0.004,   1.8823, 2,   0.0094,     7.76, 2,     0.20,    7.828, 2,    0.039,   -999.0, 9,   -999.0,  -999.00, 9, -999.0000, 9, -999.0000, 9, -999.0000, 9, -999.0000, 9, -999.0000, 9, -999.0000, 9, -999, 9, -999, 9, -999, 9, -999, 9, -999, 9, -999, 9, -999, 9,  -999.00, 9,  -999.00, 9,  -999.00, 9,  -999.00, 9,   4.0793,  -999.00, 9, 2015,   36.8995,  -52.4479
316N200309, A20, 24, 1, 17, 17, 2, 20030930, 1851, 36.9045, -52.4515, 5576,  1899.70,   1899.7,   3.9402,  34.9534, 2,  34.9542, 2,    265.4, 2,    265.9, 2,    11.96, 2,    17.60, 2,     0.00, 2,     1.17, 2,    2.311, 2,    1.151, 2,    0.142, 2, -999.000, 9,   -999.0, 9,   -999.0, 9,  -999.00, 9,  -999.00, 9,    0.710, 2,    0.004,   1.8743, 2,   0.0094,     7.73, 2,     0.20,    7.940, 2,    0.040,   -999.0, 9,   -999.0,  -999.00, 9, -999.0000, 9, -999.0000, 9, -999.0000, 9, -999.0000, 9, -999.0000, 9, -999.0000, 9, -999, 9, -999, 9, -999, 9, -999, 9, -999, 9, -999, 9, -999, 9,  -999.00, 9,  -999.00, 9,  -999.00, 9,  -999.00, 9,   3.7834,  -999.00, 9, 2012,   36.8996,  -52.4482
316N200309, A20, 24, 1, 16, 16, 2, 20030930, 1851, 36.9045, -52.4515, 5576,  2124.70,   2124.7,   3.8101,  34.9595, 2,  34.9612, 2,    266.3, 2,    266.0, 2,    12.87, 2,    17.75, 2,     0.00, 2,     1.17, 2,    1.765, 2,    0.874, 2,    0.096, 2, -999.000, 9,   -999.0, 9,   -999.0, 9,  -999.00, 9,  -999.00, 9, -999.000, 9, -999.000,   1.8698, 2,   0.0093,     7.69, 2,     0.20,    7.946, 2,    0.040,   -999.0, 9,   -999.0,  -999.00, 9,    0.1230, 2,    0.0830, 2,    0.0370, 2,    0.0240, 2,    0.0210, 2,    0.0220, 2, -999, 9, -999, 9, -999, 9, -999, 9, -999, 9, -999, 9, -999, 9,  -999.00, 9,  -999.00, 9,  -999.00, 9,  -999.00, 9,   3.6332,  -999.00, 9, 2007,   36.8998,  -52.4487
316N200309, A20, 24, 1, 15, 15, 2, 20030930, 1851, 36.9045, -52.4515, 5576,  2373.80,   2373.8,   3.5809,  34.9456, 2,  34.9457, 2,    270.0, 2,    269.0, 2,    13.69, 2,    17.65, 2,     0.00, 2,     1.17, 2,    1.673, 2,    0.824, 2,    0.084, 2, -999.000, 9,   -999.0, 9,   -999.0, 9,  -999.00, 9,  -999.00, 9, -999.000, 9, -999.000, -999.0000, 9, -999.0000,  -999.00, 9,  -999.00, -999.000, 9, -999.000,   -999.0, 9,   -999.0,  -999.00, 9, -999.0000, 9, -999.0000, 9, -999.0000, 9, -999.0000, 9, -999.0000, 9, -999.0000, 9, -999, 9, -999, 9, -999, 9, -999, 9, -999, 9, -999, 9, -999, 9,  -999.00, 9,  -999.00, 9,  -999.00, 9,  -999.00, 9,   3.3831,  -999.00, 9, 2002,   36.9000,  -52.4490
316N200309, A20, 24, 1, 14, 14, 2, 20030930, 1851, 36.9045, -52.4515, 5576,  2624.70,   2624.7,   3.4160,  34.9436, 2,  34.9439, 2,    269.6, 2,    278.6, 3,    15.01, 2,    17.64, 2,     0.00, 2,     1.18, 2,    1.314, 2,    0.645, 2,    0.056, 2, -999.000, 9,   -999.0, 9,   -999.0, 9,  -999.00, 9,  -999.00, 9,    0.463, 2,    0.002,   1.8893, 2,   0.0094,     7.29, 2,     0.20,    7.985, 2,    0.040,   -999.0, 9,   -999.0,  -999.00, 9, -999.0000, 9, -999.0000, 9, -999.0000, 9, -999.0000, 9, -999.0000, 9, -999.0000, 9, -999, 9, -999, 9, -999, 9, -999, 9, -999, 9, -999, 9, -999, 9,  -999.00, 9,  -999.00, 9,  -999.00, 9,  -999.00, 9,   3.1957,  -999.00, 9, 1956,   36.9003,  -52.4493
316N200309, A20, 24, 1, 13, 13, 2, 20030930, 1851, 36.9045, -52.4515, 5576,  2873.90,   2873.9,   3.2389,  34.9396, 2,  34.9394, 2,    269.2, 2,    272.4, 2,    16.32, 2,    17.55, 2,     0.00, 2,     1.18, 2,    1.206, 2,    0.591, 2,    0.053, 2, -999.000, 9,   -999.0, 9,   -999.0, 9,  -999.00, 9,  -999.00, 9, -999.000, 9, -999.000, -999.0000, 9, -999.0000,  -999.00, 9,  -999.00, -999.000, 9, -999.000,   -999.0, 9,   -999.0,  -999.00, 9, -999.0000, 9, -999.0000, 9, -999.0000, 9, -999.0000, 9, -999.0000, 9, -999.0000, 9, -999, 9, -999, 9, -999, 9, -999, 9, -999, 9, -999, 9, -999, 9,  -999.00, 9,  -999.00, 9,  -999.00, 9,  -999.00, 9,   2.9963,  -999.00, 9, 1951,   36.9005,  -52.4491
316N200309, A20, 24, 1, 12, 12, 2, 20030930, 1851, 36.9045, -52.4515, 5576,  3117.80,   3117.8,   3.1024,  34.9438, 2,  34.9435, 2,    266.2, 2,    267.5, 2,    19.24, 2,    18.00, 2,     0.00, 2,     1.21, 2,    0.724, 2,    0.360, 2,    0.031, 2, -999.000, 9,   -999.0, 9,   -999.0, 9,  -999.00, 9,  -999.00, 9,    0.311, 2,    0.002,   1.9106, 2,   0.0096,     5.57, 2,     0.20,    8.074, 2,    0.040,   -999.0, 9,   -999.0,  -999.00, 9,    0.1210, 2,    0.0850, 2,    0.0400, 2,    0.0260, 2,    0.0190, 2,    0.0200, 2, -999, 9, -999, 9, -999, 9, -999, 9, -999, 9, -999, 9, -999, 9,  -999.00, 9,  -999.00, 9,  -999.00, 9,  -999.00, 9,   2.8369,  -999.00, 9, 1946,   36.9008,  -52.4493
316N200309, A20, 24, 1, 11, 11, 2, 20030930, 1851, 36.9045, -52.4515, 5576,  3375.40,   3375.4,   2.9124,  34.9342, 2,  34.9337, 2,    267.5, 2,    267.5, 2,    20.47, 2,    18.00, 2,     0.00, 2,     1.21, 2, -999.000, 5, -999.000, 5, -999.000, 5, -999.000, 9,   -999.0, 9,   -999.0, 9,  -999.00, 9,  -999.00, 9, -999.000, 9, -999.000, -999.0000, 9, -999.0000,  -999.00, 9,  -999.00, -999.000, 9, -999.000,   -999.0, 9,   -999.0,  -999.00, 9, -999.0000, 9, -999.0000, 9, -999.0000, 9, -999.0000, 9, -999.0000, 9, -999.0000, 9, -999, 9, -999, 9, -999, 9, -999, 9, -999, 9, -999, 9, -999, 9,  -999.00, 9,  -999.00, 9,  -999.00, 9,  -999.00, 9,   2.6234,  -999.00, 9, 1941,   36.9012,  -52.4497