BOTTLE,20220816CCHSIOAMB
EXPOCODE,SECT_ID,STNNBR,CASTNO,SAMPNO,BTLNBR,BTLNBR_FLAG_W,DATE,TIME,LATITUDE,LONGITUDE,DEPTH,CTDRAW,CTDPRS,CTDTMP,CTDSAL,CTDSAL_FLAG_W,SALNTY,SALNTY_FLAG_W,CTDOXY,CTDOXY_FLAG_W,OXYGEN,OXYGEN_FLAG_W,SILCAT,SILCAT_FLAG_W,NITRAT,NITRAT_FLAG_W,NITRIT,NITRIT_FLAG_W,PHSPHT,PHSPHT_FLAG_W,CFC-11,CFC-11_FLAG_W,CFC-12,CFC-12_FLAG_W,CFC113,CFC113_FLAG_W,CCL4,CCL4_FLAG_W,TCARBN,TCARBN_FLAG_W,ALKALI,ALKALI_FLAG_W,DOC,DOC_FLAG_W,TDN,TDN_FLAG_W,TRITUM,TRITUM_FLAG_W,TRITER,HELIUM,HELIUM_FLAG_W,HELIER,DELHE3,DELHE3_FLAG_W,DELHER,NEON,NEON_FLAG_W,NEONER,DELC14,DELC14_FLAG_W,C14ERR,DELC13,DELC13_FLAG_W,CDOM325,CDOM325_FLAG_W,CDOM340,CDOM340_FLAG_W,CDOM380,CDOM380_FLAG_W,CDOM412,CDOM412_FLAG_W,CDOMSL,CDOMSL_FLAG_W,CDOMSN,CDOMSN_FLAG_W,DCNS,DCNS_FLAG_W,ARABI,ARABI_FLAG_W,FUCO,FUCO_FLAG_W,GALA,GALA_FLAG_W,GLUC,GLUC_FLAG_W,MAN,MAN_FLAG_W,RHAM,RHAM_FLAG_W,BRDU,BRDU_FLAG_W,PEUK,PEUK_FLAG_W,PROC,PROC_FLAG_W,SYN,SYN_FLAG_W,THETA,BACT,BACT_FLAG_W,BTL_TIME,BTL_LAT,BTL_LON
,,,,,,,,,,,METERS,DBAR,DBAR,ITS-90,PSS-78,,PSS-78,,UMOL/KG,,UMOL/KG,,UMOL/KG,,UMOL/KG,,UMOL/KG,,UMOL/KG,,PMOL/KG,,PMOL/KG,,PMOL/KG,,PMOL/KG,,UMOL/KG,,UMOL/KG,,UMOL/KG,,UMOL/KG,,TU,,TU,NMOL/KG,,NMOL/KG,PERCNT,,PERCNT,NMOL/KG,,NMOL/KG,/MILLE,,/MILLE,/MILLE,,1/M,,1/M,,1/M,,1/M,,1/NM,,1/NM,,NMOL/KG,,NMOL/KG,,NMOL/KG,,NMOL/KG,,NMOL/KG,,NMOL/KG,,NMOL/KG,,PMOL/L/H,,E6/L,,E7/L,,E6/L,,DEG C,E8/L,,,,
316N200309, A20, 34, 1, 10, 10, 2, 20031005, 0927, 28.8827, -52.3137, 5790,  3698.10,   3698.1,   2.4320,  34.9084, 2,  34.9065, 2,    260.7, 2,    263.6, 4,    32.34, 2,    19.57, 2,     0.00, 2,     1.33, 2,    0.059, 2,    0.041, 2,    0.009, 2, -999.000, 9,   -999.0, 9,   -999.0, 9,  -999.00, 9,  -999.00, 9, -999.000, 9, -999.000, -999.0000, 9, -999.0000,  -999.00, 9,  -999.00, -999.000, 9, -999.000,   -999.0, 9,   -999.0,  -999.00, 9, -999.0000, 9, -999.0000, 9, -999.0000, 9, -999.0000, 9, -999.0000, 9, -999.0000, 9, -999, 9, -999, 9, -999, 9, -999, 9, -999, 9, -999, 9, -999, 9,  -999.00, 9,  -999.00, 9,  -999.00, 9,  -999.00, 9,   2.1196,  -999.00, 9, 1020,   28.8862,  -52.3059
316N200309, A20, 34, 1, 9, 9, 2, 20031005, 0927, 28.8827, -52.3137, 5790,  3872.10,   3872.1,   2.3609,  34.9014, 2,  34.8998, 2,    260.6, 2,    264.3, 4,    34.12, 2,    19.77, 2,     0.00, 2,     1.34, 2,    0.067, 2,    0.040, 2,    0.006, 2, -999.000, 9,   -999.0, 9,   -999.0, 9,  -999.00, 9,  -999.00, 9, -999.000, 9, -999.000, -999.0000, 9, -999.0000,  -999.00, 9,  -999.00, -999.000, 9, -999.000,   -999.0, 9,   -999.0,  -999.00, 9, -999.0000, 9, -999.0000, 9, -999.0000, 9, -999.0000, 9, -999.0000, 9, -999.0000, 9, -999, 9, -999, 9, -999, 9, -999, 9, -999, 9, -999, 9, -999, 9,  -999.00, 9,  -999.00, 9,  -999.00, 9,  -999.00, 9,   2.0310,  -999.00, 9, 1016,   28.8849,  -52.3064
316N200309, A20, 34, 1, 8, 8, 2, 20031005, 0927, 28.8827, -52.3137, 5790,  4123.40,   4123.4,   2.2637,  34.8903, 2,  34.8879, 2,    259.1, 2,    281.6, 3,    37.89, 2,    20.28, 2,     0.00, 2,     1.38, 2,    0.080, 2,    0.049, 2,    0.009, 2, -999.000, 9,   -999.0, 9,   -999.0, 9,  -999.00, 9,  -999.00, 9, -999.000, 9, -999.000, -999.0000, 9, -999.0000,  -999.00, 9,  -999.00, -999.000, 9, -999.000,   -999.0, 9,   -999.0,  -999.00, 9, -999.0000, 9, -999.0000, 9, -999.0000, 9, -999.0000, 9, -999.0000, 9, -999.0000, 9, -999, 9, -999, 9, -999, 9, -999, 9, -999, 9, -999, 9, -999, 9,  -999.00, 9,  -999.00, 9,  -999.00, 9,  -999.00, 9,   1.9080,  -999.00, 9, 1012,   28.8829,  -52.3072
316N200309, A20, 34, 1, 7, 7, 2, 20031005, 0927, 28.8827, -52.3137, 5790,  4373.50,   4373.5,   2.1862,  34.8790, 2,  34.8770, 2,    256.1, 2,    257.0, 2,    42.87, 2,    20.98, 2,     0.00, 2,     1.43, 2,    0.068, 2,    0.039, 2,    0.008, 2, -999.000, 9,   -999.0, 9,   -999.0, 9,  -999.00, 9,  -999.00, 9, -999.000, 9, -999.000, -999.0000, 9, -999.0000,  -999.00, 9,  -999.00, -999.000, 9, -999.000,   -999.0, 9,   -999.0,  -999.00, 9, -999.0000, 9, -999.0000, 9, -999.0000, 9, -999.0000, 9, -999.0000, 9, -999.0000, 9, -999, 9, -999, 9, -999, 9, -999, 9, -999, 9, -999, 9, -999, 9,  -999.00, 9,  -999.00, 9,  -999.00, 9,  -999.00, 9,   1.8037,  -999.00, 9, 1007,   28.8813,  -52.3085
316N200309, A20, 34, 1, 6, 6, 2, 20031005, 0927, 28.8827, -52.3137, 5790,  4627.60,   4627.6,   2.1311,  34.8695, 2,  34.8668, 2,    253.9, 2,    254.2, 2,    47.15, 2,    21.64, 2,     0.00, 2,     1.47, 2,    0.036, 2,    0.027, 2,    0.001, 2, -999.000, 9,   -999.0, 9,   -999.0, 9,  -999.00, 9,  -999.00, 9, -999.000, 9, -999.000, -999.0000, 9, -999.0000,  -999.00, 9,  -999.00, -999.000, 9, -999.000,   -999.0, 9,   -999.0,  -999.00, 9, -999.0000, 9, -999.0000, 9, -999.0000, 9, -999.0000, 9, -999.0000, 9, -999.0000, 9, -999, 9, -999, 9, -999, 9, -999, 9, -999, 9, -999, 9, -999, 9,  -999.00, 9,  -999.00, 9,  -999.00, 9,  -999.00, 9,   1.7201,  -999.00, 9, 1000,   28.8826,  -52.3097
316N200309, A20, 34, 1, 5, 5, 2, 20031005, 0927, 28.8827, -52.3137, 5790,  4878.10,   4878.1,   2.1046,  34.8628, 2,  34.8605, 2,    251.8, 2,    252.5, 2,    50.04, 2,    22.10, 2,     0.00, 2,     1.50, 2,    0.035, 2,    0.022, 2,    0.002, 2, -999.000, 9,   -999.0, 9,   -999.0, 9,  -999.00, 9,  -999.00, 9, -999.000, 9, -999.000, -999.0000, 9, -999.0000,  -999.00, 9,  -999.00, -999.000, 9, -999.000,   -999.0, 9,   -999.0,  -999.00, 9, -999.0000, 9, -999.0000, 9, -999.0000, 9, -999.0000, 9, -999.0000, 9, -999.0000, 9, -999, 9, -999, 9, -999, 9, -999, 9, -999, 9, -999, 9, -999, 9,  -999.00, 9,  -999.00, 9,  -999.00, 9,  -999.00, 9,   1.6638,  -999.00, 9,  953,   28.8844,  -52.3092
316N200309, A20, 34, 1, 4, 4, 2, 20031005, 0927, 28.8827, -52.3137, 5790,  5125.20,   5125.2,   2.1160,  34.8603, 2,  34.8583, 2,    250.9, 2,    251.8, 2,    50.93, 2,    22.19, 2,     0.00, 2,     1.51, 2,    0.035, 2,    0.029, 2,    0.010, 2, -999.000, 9,   -999.0, 9,   -999.0, 9,  -999.00, 9,  -999.00, 9, -999.000, 9, -999.000, -999.0000, 9, -999.0000,  -999.00, 9,  -999.00, -999.000, 9, -999.000,   -999.0, 9,   -999.0,  -999.00, 9, -999.0000, 9, -999.0000, 9, -999.0000, 9, -999.0000, 9, -999.0000, 9, -999.0000, 9, -999, 9, -999, 9, -999, 9, -999, 9, -999, 9, -999, 9, -999, 9,  -999.00, 9,  -999.00, 9,  -999.00, 9,  -999.00, 9,   1.6440,  -999.00, 9,  947,   28.8841,  -52.3101
316N200309, A20, 34, 1, 3, 3, 2, 20031005, 0927, 28.8827, -52.3137, 5790,  5426.70,   5426.7,   2.1459,  34.8588, 2,  34.8574, 2,    250.4, 2,    251.4, 2,    51.32, 2,    22.29, 2,     0.00, 2,     1.51, 2,    0.028, 2,    0.034, 2,    0.002, 2, -999.000, 9,   -999.0, 9,   -999.0, 9,  -999.00, 9,  -999.00, 9, -999.000, 9, -999.000, -999.0000, 9, -999.0000,  -999.00, 9,  -999.00, -999.000, 9, -999.000,   -999.0, 9,   -999.0,  -999.00, 9, -999.0000, 9, -999.0000, 9, -999.0000, 9, -999.0000, 9, -999.0000, 9, -999.0000, 9, -999, 9, -999, 9, -999, 9, -999, 9, -999, 9, -999, 9, -999, 9,  -999.00, 9,  -999.00, 9,  -999.00, 9,  -999.00, 9,   1.6341,  -999.00, 9,  939,   28.8836,  -52.3115
316N200309, A20, 34, 1, 2, 2, 2, 20031005, 0927, 28.8827, -52.3137, 5790,  5702.30,   5702.3,   2.1798,  34.8579, 2,  34.8568, 2,    250.3, 2,    251.3, 2,    51.62, 2,    22.28, 2,     0.00, 2,     1.52, 2,    0.031, 2,    0.027, 2,    0.009, 2, -999.000, 9,   -999.0, 9,   -999.0, 9,  -999.00, 9,  -999.00, 9, -999.000, 9, -999.000, -999.0000, 9, -999.0000,  -999.00, 9,  -999.00, -999.000, 9, -999.000,   -999.0, 9,   -999.0,  -999.00, 9, -999.0000, 9, -999.0000, 9, -999.0000, 9, -999.0000, 9, -999.0000, 9, -999.0000, 9, -999, 9, -999, 9, -999, 9, -999, 9, -999, 9, -999, 9, -999, 9,  -999.00, 9,  -999.00, 9,  -999.00, 9,  -999.00, 9,   1.6304,  -999.00, 9,  933,   28.8830,  -52.3126
316N200309, A20, 34, 1, 1, 1, 2, 20031005, 0927, 28.8827, -52.3137, 5790,  5871.10,   5871.1,   2.2033,  34.8575, 2,  34.8566, 2,    250.9, 2,    251.5, 2,    51.70, 2,    22.28, 2,     0.00, 2,     1.52, 2,    0.026, 2,    0.035, 2,    0.003, 2, -999.000, 9,   -999.0, 9,   -999.0, 9,  -999.00, 9,  -999.00, 9, -999.000, 9, -999.000, -999.0000, 9, -999.0000,  -999.00, 9,  -999.00, -999.000, 9, -999.000,   -999.0, 9,   -999.0,  -999.00, 9, -999.0000, 9, -999.0000, 9, -999.0000, 9, -999.0000, 9, -999.0000, 9, -999.0000, 9, -999, 9, -999, 9, -999, 9, -999, 9, -999, 9, -999, 9, -999, 9,  -999.00, 9,  -999.00, 9,  -999.00, 9,  -999.00, 9,   1.6302,  -999.00, 9,  928,   28.8828,  -52.3135