BOTTLE,20220816CCHSIOAMB
EXPOCODE,SECT_ID,STNNBR,CASTNO,SAMPNO,BTLNBR,BTLNBR_FLAG_W,DATE,TIME,LATITUDE,LONGITUDE,DEPTH,CTDRAW,CTDPRS,CTDTMP,CTDSAL,CTDSAL_FLAG_W,SALNTY,SALNTY_FLAG_W,CTDOXY,CTDOXY_FLAG_W,OXYGEN,OXYGEN_FLAG_W,SILCAT,SILCAT_FLAG_W,NITRAT,NITRAT_FLAG_W,NITRIT,NITRIT_FLAG_W,PHSPHT,PHSPHT_FLAG_W,CFC-11,CFC-11_FLAG_W,CFC-12,CFC-12_FLAG_W,CFC113,CFC113_FLAG_W,CCL4,CCL4_FLAG_W,TCARBN,TCARBN_FLAG_W,ALKALI,ALKALI_FLAG_W,DOC,DOC_FLAG_W,TDN,TDN_FLAG_W,TRITUM,TRITUM_FLAG_W,TRITER,HELIUM,HELIUM_FLAG_W,HELIER,DELHE3,DELHE3_FLAG_W,DELHER,NEON,NEON_FLAG_W,NEONER,DELC14,DELC14_FLAG_W,C14ERR,DELC13,DELC13_FLAG_W,CDOM325,CDOM325_FLAG_W,CDOM340,CDOM340_FLAG_W,CDOM380,CDOM380_FLAG_W,CDOM412,CDOM412_FLAG_W,CDOMSL,CDOMSL_FLAG_W,CDOMSN,CDOMSN_FLAG_W,DCNS,DCNS_FLAG_W,ARABI,ARABI_FLAG_W,FUCO,FUCO_FLAG_W,GALA,GALA_FLAG_W,GLUC,GLUC_FLAG_W,MAN,MAN_FLAG_W,RHAM,RHAM_FLAG_W,BRDU,BRDU_FLAG_W,PEUK,PEUK_FLAG_W,PROC,PROC_FLAG_W,SYN,SYN_FLAG_W,THETA,BACT,BACT_FLAG_W,BTL_TIME,BTL_LAT,BTL_LON
,,,,,,,,,,,METERS,DBAR,DBAR,ITS-90,PSS-78,,PSS-78,,UMOL/KG,,UMOL/KG,,UMOL/KG,,UMOL/KG,,UMOL/KG,,UMOL/KG,,PMOL/KG,,PMOL/KG,,PMOL/KG,,PMOL/KG,,UMOL/KG,,UMOL/KG,,UMOL/KG,,UMOL/KG,,TU,,TU,NMOL/KG,,NMOL/KG,PERCNT,,PERCNT,NMOL/KG,,NMOL/KG,/MILLE,,/MILLE,/MILLE,,1/M,,1/M,,1/M,,1/M,,1/NM,,1/NM,,NMOL/KG,,NMOL/KG,,NMOL/KG,,NMOL/KG,,NMOL/KG,,NMOL/KG,,NMOL/KG,,PMOL/L/H,,E6/L,,E7/L,,E6/L,,DEG C,E8/L,,,,
316N200309, A20, 34, 1, 36, 36, 2, 20031005, 0927, 28.8827, -52.3137, 5790,    14.60,     14.6,  27.1383,  37.2845, 2,  37.2821, 2,    199.7, 2,    200.9, 2,     0.81, 2,     0.20, 2,     0.00, 2,     0.02, 2,    1.709, 2,    1.053, 2,    0.134, 2, -999.000, 9,   2063.9, 2,   2435.2, 2,  -999.00, 9,  -999.00, 9, -999.000, 9, -999.000, -999.0000, 9, -999.0000,  -999.00, 9,  -999.00, -999.000, 9, -999.000,   -999.0, 9,   -999.0,  -999.00, 9, -999.0000, 9, -999.0000, 9, -999.0000, 9, -999.0000, 9, -999.0000, 9, -999.0000, 9, -999, 9, -999, 9, -999, 9, -999, 9, -999, 9, -999, 9, -999, 9,  -999.00, 9,  -999.00, 9,  -999.00, 9,  -999.00, 9,  27.1349,  -999.00, 9, 1153,   28.9011,  -52.2776
316N200309, A20, 34, 1, 35, 35, 2, 20031005, 0927, 28.8827, -52.3137, 5790,    25.00,     25.0,  27.1466,  37.2866, 2,  37.1435, 3,    199.3, 2,    208.0, 2,     0.80, 2,     0.24, 2,     0.00, 2,     0.02, 2,    1.886, 2,    1.148, 2,    0.154, 2, -999.000, 9,   -999.0, 9,   -999.0, 9,  -999.00, 9,  -999.00, 9, -999.000, 9, -999.000, -999.0000, 9, -999.0000,  -999.00, 9,  -999.00, -999.000, 9, -999.000,   -999.0, 9,   -999.0,  -999.00, 9, -999.0000, 9, -999.0000, 9, -999.0000, 9, -999.0000, 9, -999.0000, 9, -999.0000, 9, -999, 9, -999, 9, -999, 9, -999, 9, -999, 9, -999, 9, -999, 9,  -999.00, 9,  -999.00, 9,  -999.00, 9,  -999.00, 9,  27.1408,  -999.00, 9, 1151,   28.9009,  -52.2783
316N200309, A20, 34, 1, 34, 34, 2, 20031005, 0927, 28.8827, -52.3137, 5790,    75.10,     75.1,  23.9488,  36.9560, 2,  36.9524, 2,    224.9, 2,    229.3, 2,     0.69, 2,     0.20, 2,     0.00, 2,     0.03, 2,    2.048, 2,    1.209, 2,    0.170, 2, -999.000, 9,   -999.0, 9,   -999.0, 9,  -999.00, 9,  -999.00, 9, -999.000, 9, -999.000, -999.0000, 9, -999.0000,  -999.00, 9,  -999.00, -999.000, 9, -999.000,   -999.0, 9,   -999.0,  -999.00, 9, -999.0000, 9, -999.0000, 9, -999.0000, 9, -999.0000, 9, -999.0000, 9, -999.0000, 9, -999, 9, -999, 9, -999, 9, -999, 9, -999, 9, -999, 9, -999, 9,  -999.00, 9,  -999.00, 9,  -999.00, 9,  -999.00, 9,  23.9329,  -999.00, 9, 1148,   28.9004,  -52.2794
316N200309, A20, 34, 1, 33, 33, 2, 20031005, 0927, 28.8827, -52.3137, 5790,   125.00,    125.0,  21.5340,  36.9437, 2,  36.9483, 2,    207.4, 2,    212.7, 2,     0.69, 2,     0.19, 2,     0.01, 2,     0.02, 2,    2.190, 2,    1.298, 2,    0.162, 2, -999.000, 9,   2089.0, 2,   2412.1, 2,  -999.00, 9,  -999.00, 9, -999.000, 9, -999.000, -999.0000, 9, -999.0000,  -999.00, 9,  -999.00, -999.000, 9, -999.000,   -999.0, 9,   -999.0,  -999.00, 9, -999.0000, 9, -999.0000, 9, -999.0000, 9, -999.0000, 9, -999.0000, 9, -999.0000, 9, -999, 9, -999, 9, -999, 9, -999, 9, -999, 9, -999, 9, -999, 9,  -999.00, 9,  -999.00, 9,  -999.00, 9,  -999.00, 9,  21.5094,  -999.00, 9, 1145,   28.9000,  -52.2804
316N200309, A20, 34, 1, 32, 32, 2, 20031005, 0927, 28.8827, -52.3137, 5790,   174.80,    174.8,  19.6895,  36.7363, 2,  36.7391, 2,    192.1, 2,    192.3, 2,     0.88, 2,     1.26, 2,     0.02, 2,     0.04, 2,    2.327, 2,    1.359, 2,    0.080, 2, -999.000, 9,   -999.0, 9,   -999.0, 9,  -999.00, 9,  -999.00, 9, -999.000, 9, -999.000, -999.0000, 9, -999.0000,  -999.00, 9,  -999.00, -999.000, 9, -999.000,   -999.0, 9,   -999.0,  -999.00, 9, -999.0000, 9, -999.0000, 9, -999.0000, 9, -999.0000, 9, -999.0000, 9, -999.0000, 9, -999, 9, -999, 9, -999, 9, -999, 9, -999, 9, -999, 9, -999, 9,  -999.00, 9,  -999.00, 9,  -999.00, 9,  -999.00, 9,  19.6572,  -999.00, 9, 1143,   28.8993,  -52.2811
316N200309, A20, 34, 1, 31, 31, 2, 20031005, 0927, 28.8827, -52.3137, 5790,   228.40,    228.4,  18.6951,  36.6084, 2,  36.6116, 2,    188.6, 2,    193.0, 2,     1.16, 2,     3.20, 2,     0.01, 2,     0.14, 2,    2.376, 6,    1.372, 6,    0.038, 6, -999.000, 9,   -999.0, 9,   -999.0, 9,  -999.00, 9,  -999.00, 9, -999.000, 9, -999.000, -999.0000, 9, -999.0000,  -999.00, 9,  -999.00, -999.000, 9, -999.000,   -999.0, 9,   -999.0,  -999.00, 9, -999.0000, 9, -999.0000, 9, -999.0000, 9, -999.0000, 9, -999.0000, 9, -999.0000, 9, -999, 9, -999, 9, -999, 9, -999, 9, -999, 9, -999, 9, -999, 9,  -999.00, 9,  -999.00, 9,  -999.00, 9,  -999.00, 9,  18.6544,  -999.00, 9, 1140,   28.8987,  -52.2817
316N200309, A20, 34, 1, 30, 30, 2, 20031005, 0927, 28.8827, -52.3137, 5790,   275.90,    275.9,  18.0926,  36.5261, 2,  36.5248, 2,    191.6, 2,    194.9, 2,     1.36, 2,     4.49, 2,     0.01, 2,     0.22, 2,    2.432, 2,    1.393, 2,    0.029, 2, -999.000, 9,   2109.0, 2,   2383.7, 2,  -999.00, 9,  -999.00, 9, -999.000, 9, -999.000, -999.0000, 9, -999.0000,  -999.00, 9,  -999.00, -999.000, 9, -999.000,   -999.0, 9,   -999.0,  -999.00, 9, -999.0000, 9, -999.0000, 9, -999.0000, 9, -999.0000, 9, -999.0000, 9, -999.0000, 9, -999, 9, -999, 9, -999, 9, -999, 9, -999, 9, -999, 9, -999, 9,  -999.00, 9,  -999.00, 9,  -999.00, 9,  -999.00, 9,  18.0445,  -999.00, 9, 1138,   28.8983,  -52.2822
316N200309, A20, 34, 1, 29, 29, 2, 20031005, 0927, 28.8827, -52.3137, 5790,   354.00,    354.0,  17.4263,  36.4344, 2,  36.4354, 2,    196.1, 2,    197.7, 2,     1.74, 2,     5.43, 2,     0.00, 2,     0.28, 2,    2.399, 2,    1.370, 2,    0.039, 2, -999.000, 9,   -999.0, 9,   -999.0, 9,  -999.00, 9,  -999.00, 9, -999.000, 9, -999.000, -999.0000, 9, -999.0000,  -999.00, 9,  -999.00, -999.000, 9, -999.000,   -999.0, 9,   -999.0,  -999.00, 9, -999.0000, 9, -999.0000, 9, -999.0000, 9, -999.0000, 9, -999.0000, 9, -999.0000, 9, -999, 9, -999, 9, -999, 9, -999, 9, -999, 9, -999, 9, -999, 9,  -999.00, 9,  -999.00, 9,  -999.00, 9,  -999.00, 9,  17.3660,  -999.00, 9, 1136,   28.8978,  -52.2830
316N200309, A20, 34, 1, 28, 28, 2, 20031005, 0927, 28.8827, -52.3137, 5790,   450.80,    450.8,  16.2360,  36.2343, 2,  36.2374, 2,    194.2, 2,    193.1, 2,     2.61, 2,     7.77, 2,     0.00, 2,     0.44, 2,    2.430, 2,    1.355, 2,    0.037, 2, -999.000, 9,   -999.0, 9,   -999.0, 9,  -999.00, 9,  -999.00, 9, -999.000, 9, -999.000, -999.0000, 9, -999.0000,  -999.00, 9,  -999.00, -999.000, 9, -999.000,   -999.0, 9,   -999.0,  -999.00, 9, -999.0000, 9, -999.0000, 9, -999.0000, 9, -999.0000, 9, -999.0000, 9, -999.0000, 9, -999, 9, -999, 9, -999, 9, -999, 9, -999, 9, -999, 9, -999, 9,  -999.00, 9,  -999.00, 9,  -999.00, 9,  -999.00, 9,  16.1628,  -999.00, 9, 1132,   28.8971,  -52.2843
316N200309, A20, 34, 1, 27, 27, 2, 20031005, 0927, 28.8827, -52.3137, 5790,   577.50,    577.5,  14.2186,  35.9018, 2,  35.9091, 2,    179.2, 2,    178.2, 2,     4.66, 2,    12.27, 2,     0.00, 2,     0.73, 2,    2.225, 2,    1.198, 2,    0.034, 2, -999.000, 9,   -999.0, 9,   -999.0, 9,  -999.00, 9,  -999.00, 9, -999.000, 9, -999.000, -999.0000, 9, -999.0000,  -999.00, 9,  -999.00, -999.000, 9, -999.000,   -999.0, 9,   -999.0,  -999.00, 9, -999.0000, 9, -999.0000, 9, -999.0000, 9, -999.0000, 9, -999.0000, 9, -999.0000, 9, -999, 9, -999, 9, -999, 9, -999, 9, -999, 9, -999, 9, -999, 9,  -999.00, 9,  -999.00, 9,  -999.00, 9,  -999.00, 9,  14.1325,  -999.00, 9, 1128,   28.8962,  -52.2854
316N200309, A20, 34, 1, 26, 26, 2, 20031005, 0927, 28.8827, -52.3137, 5790,   704.10,    704.1,  12.1281,  35.6101, 2,  35.6088, 2,    169.3, 2,    167.5, 2,     7.49, 2,    16.68, 2,     0.00, 2,     1.03, 2,    1.774, 2,    0.945, 2,    0.030, 2, -999.000, 9,   -999.0, 9,   -999.0, 9,  -999.00, 9,  -999.00, 9, -999.000, 9, -999.000, -999.0000, 9, -999.0000,  -999.00, 9,  -999.00, -999.000, 9, -999.000,   -999.0, 9,   -999.0,  -999.00, 9, -999.0000, 9, -999.0000, 9, -999.0000, 9, -999.0000, 9, -999.0000, 9, -999.0000, 9, -999, 9, -999, 9, -999, 9, -999, 9, -999, 9, -999, 9, -999, 9,  -999.00, 9,  -999.00, 9,  -999.00, 9,  -999.00, 9,  12.0331,  -999.00, 9, 1124,   28.8954,  -52.2864
316N200309, A20, 34, 1, 25, 25, 2, 20031005, 0927, 28.8827, -52.3137, 5790,   821.30,    821.3,   9.8909,  35.3489, 2,  35.3466, 2,    163.6, 2,    166.0, 2,    11.21, 2,    20.94, 2,     0.00, 2,     1.32, 2,    1.118, 2,    0.571, 2,    0.024, 2, -999.000, 9,   -999.0, 9,   -999.0, 9,  -999.00, 9,  -999.00, 9, -999.000, 9, -999.000, -999.0000, 9, -999.0000,  -999.00, 9,  -999.00, -999.000, 9, -999.000,   -999.0, 9,   -999.0,  -999.00, 9, -999.0000, 9, -999.0000, 9, -999.0000, 9, -999.0000, 9, -999.0000, 9, -999.0000, 9, -999, 9, -999, 9, -999, 9, -999, 9, -999, 9, -999, 9, -999, 9,  -999.00, 9,  -999.00, 9,  -999.00, 9,  -999.00, 9,   9.7929,  -999.00, 9, 1121,   28.8949,  -52.2874
316N200309, A20, 34, 1, 24, 24, 2, 20031005, 0927, 28.8827, -52.3137, 5790,   979.10,    979.1,   7.7226,  35.1884, 2,  35.1863, 2,    171.1, 2,    170.8, 2,    14.75, 2,    23.03, 2,     0.00, 2,     1.48, 2,    0.590, 2,    0.296, 2,    0.012, 2, -999.000, 9,   -999.0, 9,   -999.0, 9,  -999.00, 9,  -999.00, 9, -999.000, 9, -999.000, -999.0000, 9, -999.0000,  -999.00, 9,  -999.00, -999.000, 9, -999.000,   -999.0, 9,   -999.0,  -999.00, 9, -999.0000, 9, -999.0000, 9, -999.0000, 9, -999.0000, 9, -999.0000, 9, -999.0000, 9, -999, 9, -999, 9, -999, 9, -999, 9, -999, 9, -999, 9, -999, 9,  -999.00, 9,  -999.00, 9,  -999.00, 9,  -999.00, 9,   7.6203,  -999.00, 9, 1118,   28.8943,  -52.2886
316N200309, A20, 34, 1, 23, 23, 2, 20031005, 0927, 28.8827, -52.3137, 5790,  1124.30,   1124.3,   6.6061,  35.1645, 2,  35.1638, 2,    194.9, 2,    194.8, 2,    14.74, 2,    21.65, 2,     0.00, 2,     1.42, 2,    0.602, 2,    0.303, 2,    0.012, 2, -999.000, 9,   -999.0, 9,   -999.0, 9,  -999.00, 9,  -999.00, 9, -999.000, 9, -999.000, -999.0000, 9, -999.0000,  -999.00, 9,  -999.00, -999.000, 9, -999.000,   -999.0, 9,   -999.0,  -999.00, 9, -999.0000, 9, -999.0000, 9, -999.0000, 9, -999.0000, 9, -999.0000, 9, -999.0000, 9, -999, 9, -999, 9, -999, 9, -999, 9, -999, 9, -999, 9, -999, 9,  -999.00, 9,  -999.00, 9,  -999.00, 9,  -999.00, 9,   6.4968,  -999.00, 9, 1114,   28.8939,  -52.2898
316N200309, A20, 34, 1, 22, 22, 2, 20031005, 0927, 28.8827, -52.3137, 5790,  1277.50,   1277.5,   5.7871,  35.1487, 2,  35.1475, 2,    218.2, 2,    219.6, 2,    13.64, 2,    19.91, 2,     0.00, 2,     1.30, 2,    0.892, 2,    0.451, 2,    0.035, 2, -999.000, 9,   -999.0, 9,   -999.0, 9,  -999.00, 9,  -999.00, 9, -999.000, 9, -999.000, -999.0000, 9, -999.0000,  -999.00, 9,  -999.00, -999.000, 9, -999.000,   -999.0, 9,   -999.0,  -999.00, 9, -999.0000, 9, -999.0000, 9, -999.0000, 9, -999.0000, 9, -999.0000, 9, -999.0000, 9, -999, 9, -999, 9, -999, 9, -999, 9, -999, 9, -999, 9, -999, 9,  -999.00, 9,  -999.00, 9,  -999.00, 9,  -999.00, 9,   5.6693,  -999.00, 9, 1110,   28.8934,  -52.2911
316N200309, A20, 34, 1, 21, 21, 2, 20031005, 0927, 28.8827, -52.3137, 5790,  1425.30,   1425.3,   5.2042,  35.1173, 2,  35.1165, 2,    231.7, 2,    231.0, 2,    14.03, 2,    19.40, 2,     0.00, 2,     1.27, 2,    0.683, 2,    0.349, 2,    0.031, 2, -999.000, 9,   -999.0, 9,   -999.0, 9,  -999.00, 9,  -999.00, 9, -999.000, 9, -999.000, -999.0000, 9, -999.0000,  -999.00, 9,  -999.00, -999.000, 9, -999.000,   -999.0, 9,   -999.0,  -999.00, 9, -999.0000, 9, -999.0000, 9, -999.0000, 9, -999.0000, 9, -999.0000, 9, -999.0000, 9, -999, 9, -999, 9, -999, 9, -999, 9, -999, 9, -999, 9, -999, 9,  -999.00, 9,  -999.00, 9,  -999.00, 9,  -999.00, 9,   5.0776,  -999.00, 9, 1107,   28.8929,  -52.2922
316N200309, A20, 34, 1, 20, 20, 2, 20031005, 0927, 28.8827, -52.3137, 5790,  1577.00,   1577.0,   4.7650,  35.0925, 2,  35.0909, 2,    239.1, 2,    239.6, 2,    15.01, 2,    19.15, 2,     0.00, 2,     1.26, 2,    0.552, 2,    0.278, 2,    0.027, 2, -999.000, 9,   -999.0, 9,   -999.0, 9,  -999.00, 9,  -999.00, 9, -999.000, 9, -999.000, -999.0000, 9, -999.0000,  -999.00, 9,  -999.00, -999.000, 9, -999.000,   -999.0, 9,   -999.0,  -999.00, 9, -999.0000, 9, -999.0000, 9, -999.0000, 9, -999.0000, 9, -999.0000, 9, -999.0000, 9, -999, 9, -999, 9, -999, 9, -999, 9, -999, 9, -999, 9, -999, 9,  -999.00, 9,  -999.00, 9,  -999.00, 9,  -999.00, 9,   4.6285,  -999.00, 9, 1103,   28.8925,  -52.2933
316N200309, A20, 34, 1, 19, 19, 2, 20031005, 0927, 28.8827, -52.3137, 5790,  1726.60,   1726.6,   4.4099,  35.0710, 2,  35.0736, 2,    243.2, 2,    243.2, 2,    16.77, 2,    19.20, 2,     0.00, 2,     1.27, 2,    0.327, 2,    0.166, 2,    0.013, 2, -999.000, 9,   -999.0, 9,   -999.0, 9,  -999.00, 9,  -999.00, 9, -999.000, 9, -999.000, -999.0000, 9, -999.0000,  -999.00, 9,  -999.00, -999.000, 9, -999.000,   -999.0, 9,   -999.0,  -999.00, 9, -999.0000, 9, -999.0000, 9, -999.0000, 9, -999.0000, 9, -999.0000, 9, -999.0000, 9, -999, 9, -999, 9, -999, 9, -999, 9, -999, 9, -999, 9, -999, 9,  -999.00, 9,  -999.00, 9,  -999.00, 9,  -999.00, 9,   4.2631,  -999.00, 9, 1100,   28.8921,  -52.2944
316N200309, A20, 34, 1, 18, 18, 2, 20031005, 0927, 28.8827, -52.3137, 5790,  1903.10,   1903.1,   4.0294,  35.0431, 2,  35.0415, 2,    245.7, 2,    248.7, 2,    19.13, 2,    19.35, 2,     0.00, 2,     1.28, 2,    0.189, 2,    0.102, 2,    0.003, 2, -999.000, 9,   -999.0, 9,   -999.0, 9,  -999.00, 9,  -999.00, 9, -999.000, 9, -999.000, -999.0000, 9, -999.0000,  -999.00, 9,  -999.00, -999.000, 9, -999.000,   -999.0, 9,   -999.0,  -999.00, 9, -999.0000, 9, -999.0000, 9, -999.0000, 9, -999.0000, 9, -999.0000, 9, -999.0000, 9, -999, 9, -999, 9, -999, 9, -999, 9, -999, 9, -999, 9, -999, 9,  -999.00, 9,  -999.00, 9,  -999.00, 9,  -999.00, 9,   3.8707,  -999.00, 9, 1055,   28.8917,  -52.2955
316N200309, A20, 34, 1, 17, 17, 2, 20031005, 0927, 28.8827, -52.3137, 5790,  2125.80,   2125.8,   3.6471,  35.0117, 2,  35.0091, 2,    248.1, 2,    249.9, 2,    22.09, 2,    19.45, 2,     0.00, 2,     1.30, 2,    0.117, 2,    0.069, 2,    0.006, 2, -999.000, 9,   -999.0, 9,   -999.0, 9,  -999.00, 9,  -999.00, 9, -999.000, 9, -999.000, -999.0000, 9, -999.0000,  -999.00, 9,  -999.00, -999.000, 9, -999.000,   -999.0, 9,   -999.0,  -999.00, 9, -999.0000, 9, -999.0000, 9, -999.0000, 9, -999.0000, 9, -999.0000, 9, -999.0000, 9, -999, 9, -999, 9, -999, 9, -999, 9, -999, 9, -999, 9, -999, 9,  -999.00, 9,  -999.00, 9,  -999.00, 9,  -999.00, 9,   3.4725,  -999.00, 9, 1051,   28.8911,  -52.2968
316N200309, A20, 34, 1, 16, 16, 2, 20031005, 0927, 28.8827, -52.3137, 5790,  2320.70,   2320.7,   3.4021,  34.9904, 2,  34.9884, 2,    250.0, 2,    250.8, 2,    24.46, 2,    19.59, 2,     0.00, 2,     1.31, 2,    0.104, 2,    0.060, 2,    0.017, 2, -999.000, 9,   -999.0, 9,   -999.0, 9,  -999.00, 9,  -999.00, 9, -999.000, 9, -999.000, -999.0000, 9, -999.0000,  -999.00, 9,  -999.00, -999.000, 9, -999.000,   -999.0, 9,   -999.0,  -999.00, 9, -999.0000, 9, -999.0000, 9, -999.0000, 9, -999.0000, 9, -999.0000, 9, -999.0000, 9, -999, 9, -999, 9, -999, 9, -999, 9, -999, 9, -999, 9, -999, 9,  -999.00, 9,  -999.00, 9,  -999.00, 9,  -999.00, 9,   3.2125,  -999.00, 9, 1046,   28.8905,  -52.2980
316N200309, A20, 34, 1, 15, 15, 2, 20031005, 0927, 28.8827, -52.3137, 5790,  2623.40,   2623.4,   3.1395,  34.9676, 2,  34.9683, 2,    251.1, 2,    251.1, 2,    27.62, 2,    19.89, 2,     0.00, 2,     1.33, 2,    0.057, 2,    0.034, 2,    0.004, 2, -999.000, 9,   -999.0, 9,   -999.0, 9,  -999.00, 9,  -999.00, 9, -999.000, 9, -999.000, -999.0000, 9, -999.0000,  -999.00, 9,  -999.00, -999.000, 9, -999.000,   -999.0, 9,   -999.0,  -999.00, 9, -999.0000, 9, -999.0000, 9, -999.0000, 9, -999.0000, 9, -999.0000, 9, -999.0000, 9, -999, 9, -999, 9, -999, 9, -999, 9, -999, 9, -999, 9, -999, 9,  -999.00, 9,  -999.00, 9,  -999.00, 9,  -999.00, 9,   2.9245,  -999.00, 9, 1041,   28.8896,  -52.2998
316N200309, A20, 34, 1, 14, 14, 2, 20031005, 0927, 28.8827, -52.3137, 5790,  2873.10,   2873.1,   2.9868,  34.9541, 2,  34.9536, 2,    251.8, 2,    251.9, 2,    29.59, 2,    20.09, 2,     0.00, 2,     1.35, 2,    0.021, 2,    0.020, 2,    0.010, 2, -999.000, 9,   -999.0, 9,   -999.0, 9,  -999.00, 9,  -999.00, 9, -999.000, 9, -999.000, -999.0000, 9, -999.0000,  -999.00, 9,  -999.00, -999.000, 9, -999.000,   -999.0, 9,   -999.0,  -999.00, 9, -999.0000, 9, -999.0000, 9, -999.0000, 9, -999.0000, 9, -999.0000, 9, -999.0000, 9, -999, 9, -999, 9, -999, 9, -999, 9, -999, 9, -999, 9, -999, 9,  -999.00, 9,  -999.00, 9,  -999.00, 9,  -999.00, 9,   2.7495,  -999.00, 9, 1036,   28.8889,  -52.3013
316N200309, A20, 34, 1, 13, 13, 2, 20031005, 0927, 28.8827, -52.3137, 5790,  3112.60,   3112.6,   2.8303,  34.9405, 2,  34.9382, 2,    254.5, 2,    254.0, 2,    30.58, 2,    19.93, 2,     0.00, 2,     1.35, 2,    0.022, 2,    0.020, 2,    0.005, 2, -999.000, 9,   -999.0, 9,   -999.0, 9,  -999.00, 9,  -999.00, 9, -999.000, 9, -999.000, -999.0000, 9, -999.0000,  -999.00, 9,  -999.00, -999.000, 9, -999.000,   -999.0, 9,   -999.0,  -999.00, 9, -999.0000, 9, -999.0000, 9, -999.0000, 9, -999.0000, 9, -999.0000, 9, -999.0000, 9, -999, 9, -999, 9, -999, 9, -999, 9, -999, 9, -999, 9, -999, 9,  -999.00, 9,  -999.00, 9,  -999.00, 9,  -999.00, 9,   2.5714,  -999.00, 9, 1031,   28.8887,  -52.3030
316N200309, A20, 34, 1, 12, 12, 2, 20031005, 0927, 28.8827, -52.3137, 5790,  3297.40,   3297.4,   2.7014,  34.9301, 2,  34.9284, 2,    257.1, 2,    257.1, 2,    30.57, 2,    19.78, 2,     0.00, 2,     1.34, 2,    0.026, 2,    0.023, 2,    0.009, 2, -999.000, 9,   -999.0, 9,   -999.0, 9,  -999.00, 9,  -999.00, 9, -999.000, 9, -999.000, -999.0000, 9, -999.0000,  -999.00, 9,  -999.00, -999.000, 9, -999.000,   -999.0, 9,   -999.0,  -999.00, 9, -999.0000, 9, -999.0000, 9, -999.0000, 9, -999.0000, 9, -999.0000, 9, -999.0000, 9, -999, 9, -999, 9, -999, 9, -999, 9, -999, 9, -999, 9, -999, 9,  -999.00, 9,  -999.00, 9,  -999.00, 9,  -999.00, 9,   2.4259,  -999.00, 9, 1027,   28.8885,  -52.3044
316N200309, A20, 34, 1, 11, 11, 2, 20031005, 0927, 28.8827, -52.3137, 5790,  3494.90,   3494.9,   2.5640,  34.9193, 2,  34.9168, 2,    260.1, 2,    265.4, 4,    30.56, 2,    19.57, 2,     0.00, 2,     1.32, 2,    0.046, 2,    0.033, 2,    0.005, 2, -999.000, 9,   -999.0, 9,   -999.0, 9,  -999.00, 9,  -999.00, 9, -999.000, 9, -999.000, -999.0000, 9, -999.0000,  -999.00, 9,  -999.00, -999.000, 9, -999.000,   -999.0, 9,   -999.0,  -999.00, 9, -999.0000, 9, -999.0000, 9, -999.0000, 9, -999.0000, 9, -999.0000, 9, -999.0000, 9, -999, 9, -999, 9, -999, 9, -999, 9, -999, 9, -999, 9, -999, 9,  -999.00, 9,  -999.00, 9,  -999.00, 9,  -999.00, 9,   2.2705,  -999.00, 9, 1024,   28.8875,  -52.3052