BOTTLE,20220816CCHSIOAMB
EXPOCODE,SECT_ID,STNNBR,CASTNO,SAMPNO,BTLNBR,BTLNBR_FLAG_W,DATE,TIME,LATITUDE,LONGITUDE,DEPTH,CTDRAW,CTDPRS,CTDTMP,CTDSAL,CTDSAL_FLAG_W,SALNTY,SALNTY_FLAG_W,CTDOXY,CTDOXY_FLAG_W,OXYGEN,OXYGEN_FLAG_W,SILCAT,SILCAT_FLAG_W,NITRAT,NITRAT_FLAG_W,NITRIT,NITRIT_FLAG_W,PHSPHT,PHSPHT_FLAG_W,CFC-11,CFC-11_FLAG_W,CFC-12,CFC-12_FLAG_W,CFC113,CFC113_FLAG_W,CCL4,CCL4_FLAG_W,TCARBN,TCARBN_FLAG_W,ALKALI,ALKALI_FLAG_W,DOC,DOC_FLAG_W,TDN,TDN_FLAG_W,TRITUM,TRITUM_FLAG_W,TRITER,HELIUM,HELIUM_FLAG_W,HELIER,DELHE3,DELHE3_FLAG_W,DELHER,NEON,NEON_FLAG_W,NEONER,DELC14,DELC14_FLAG_W,C14ERR,DELC13,DELC13_FLAG_W,CDOM325,CDOM325_FLAG_W,CDOM340,CDOM340_FLAG_W,CDOM380,CDOM380_FLAG_W,CDOM412,CDOM412_FLAG_W,CDOMSL,CDOMSL_FLAG_W,CDOMSN,CDOMSN_FLAG_W,DCNS,DCNS_FLAG_W,ARABI,ARABI_FLAG_W,FUCO,FUCO_FLAG_W,GALA,GALA_FLAG_W,GLUC,GLUC_FLAG_W,MAN,MAN_FLAG_W,RHAM,RHAM_FLAG_W,BRDU,BRDU_FLAG_W,PEUK,PEUK_FLAG_W,PROC,PROC_FLAG_W,SYN,SYN_FLAG_W,THETA,BACT,BACT_FLAG_W,BTL_TIME,BTL_LAT,BTL_LON
,,,,,,,,,,,METERS,DBAR,DBAR,ITS-90,PSS-78,,PSS-78,,UMOL/KG,,UMOL/KG,,UMOL/KG,,UMOL/KG,,UMOL/KG,,UMOL/KG,,PMOL/KG,,PMOL/KG,,PMOL/KG,,PMOL/KG,,UMOL/KG,,UMOL/KG,,UMOL/KG,,UMOL/KG,,TU,,TU,NMOL/KG,,NMOL/KG,PERCNT,,PERCNT,NMOL/KG,,NMOL/KG,/MILLE,,/MILLE,/MILLE,,1/M,,1/M,,1/M,,1/M,,1/NM,,1/NM,,NMOL/KG,,NMOL/KG,,NMOL/KG,,NMOL/KG,,NMOL/KG,,NMOL/KG,,NMOL/KG,,PMOL/L/H,,E6/L,,E7/L,,E6/L,,DEG C,E8/L,,,,
316N200309, A20, 25, 1, 32, 32, 2, 20031001, 0141, 36.2437, -52.3975, 3371,    10.10,     10.1,  24.7941,  36.5505, 2,  36.5537, 2,    203.5, 2,    208.1, 2,     0.00, 2,     0.20, 2,     0.00, 2,     0.02, 2,    1.797, 2,    1.126, 2,    0.124, 2,    1.850, 2,   2055.5, 2,   2388.9, 2,    67.70, 2,     4.20, 2, -999.000, 9, -999.000, -999.0000, 9, -999.0000,  -999.00, 9,  -999.00, -999.000, 9, -999.000,   -999.0, 9,   -999.0,  -999.00, 9, -999.0000, 9, -999.0000, 9, -999.0000, 9, -999.0000, 9, -999.0000, 9, -999.0000, 9, -999, 9, -999, 9, -999, 9, -999, 9, -999, 9, -999, 9, -999, 9,  -999.00, 9,  -999.00, 9,  -999.00, 9,  -999.00, 9,  24.7919,  -999.00, 9,  319,   36.2626,  -52.3894
316N200309, A20, 25, 1, 31, 31, 2, 20031001, 0141, 36.2437, -52.3975, 3371,    30.20,     30.2,  24.8005,  36.5516, 2,  36.5539, 2,    203.1, 2,    207.8, 2,     0.00, 2,     0.20, 2,     0.00, 2,     0.01, 2,    1.807, 2,    1.134, 2,    0.118, 2,    1.864, 2,   2051.2, 2,   2390.5, 2,    68.40, 2,     5.00, 2, -999.000, 9, -999.000, -999.0000, 9, -999.0000,  -999.00, 9,  -999.00, -999.000, 9, -999.000,   -999.0, 9,   -999.0,  -999.00, 9, -999.0000, 9, -999.0000, 9, -999.0000, 9, -999.0000, 9, -999.0000, 9, -999.0000, 9, -999, 9, -999, 9, -999, 9, -999, 9, -999, 9, -999, 9, -999, 9,  -999.00, 9,  -999.00, 9,  -999.00, 9,  -999.00, 9,  24.7940,  -999.00, 9,  317,   36.2623,  -52.3898
316N200309, A20, 25, 1, 30, 30, 2, 20031001, 0141, 36.2437, -52.3975, 3371,    49.90,     49.9,  24.8036,  36.5548, 2,  36.5557, 2,    203.1, 2,    208.0, 2,     0.00, 2,     0.20, 2,     0.00, 2,     0.02, 2,    1.760, 2,    1.121, 2,    0.115, 2,    1.855, 2,   2054.9, 2,   2390.3, 2,    67.80, 2,     5.40, 2, -999.000, 9, -999.000, -999.0000, 9, -999.0000,  -999.00, 9,  -999.00, -999.000, 9, -999.000,   -999.0, 9,   -999.0,  -999.00, 9, -999.0000, 9, -999.0000, 9, -999.0000, 9, -999.0000, 9, -999.0000, 9, -999.0000, 9, -999, 9, -999, 9, -999, 9, -999, 9, -999, 9, -999, 9, -999, 9,  -999.00, 9,  -999.00, 9,  -999.00, 9,  -999.00, 9,  24.7928,  -999.00, 9,  316,   36.2620,  -52.3901
316N200309, A20, 25, 1, 29, 29, 2, 20031001, 0141, 36.2437, -52.3975, 3371,    74.40,     74.4,  24.6417,  36.5687, 2,  36.5686, 2,    206.9, 2,    210.2, 2,     0.00, 2,     0.24, 2,     0.00, 2,     0.01, 2,    1.796, 2,    1.142, 2,    0.102, 2,    1.754, 2,   2053.4, 2,   2389.3, 2,    68.80, 2,     4.20, 2, -999.000, 9, -999.000, -999.0000, 9, -999.0000,  -999.00, 9,  -999.00, -999.000, 9, -999.000,   -999.0, 9,   -999.0,  -999.00, 9, -999.0000, 9, -999.0000, 9, -999.0000, 9, -999.0000, 9, -999.0000, 9, -999.0000, 9, -999, 9, -999, 9, -999, 9, -999, 9, -999, 9, -999, 9, -999, 9,  -999.00, 9,  -999.00, 9,  -999.00, 9,  -999.00, 9,  24.6256,  -999.00, 9,  314,   36.2616,  -52.3904
316N200309, A20, 25, 1, 28, 28, 2, 20031001, 0141, 36.2437, -52.3975, 3371,    99.20,     99.2,  22.0935,  36.6861, 2,  36.6861, 2,    197.6, 2,    199.6, 2,     0.01, 2,     1.07, 2,     0.08, 2,     0.05, 2,    2.022, 2,    1.268, 2,    0.103, 2,    0.877, 2,   2085.3, 2,   2395.1, 2,    58.60, 2,     4.70, 2, -999.000, 9, -999.000, -999.0000, 9, -999.0000,  -999.00, 9,  -999.00, -999.000, 9, -999.000,   -999.0, 9,   -999.0,  -999.00, 9, -999.0000, 9, -999.0000, 9, -999.0000, 9, -999.0000, 9, -999.0000, 9, -999.0000, 9, -999, 9, -999, 9, -999, 9, -999, 9, -999, 9, -999, 9, -999, 9,  -999.00, 9,  -999.00, 9,  -999.00, 9,  -999.00, 9,  22.0737,  -999.00, 9,  313,   36.2612,  -52.3907
316N200309, A20, 25, 1, 27, 27, 2, 20031001, 0141, 36.2437, -52.3975, 3371,   123.70,    123.7,  20.9150,  36.6435, 2,  36.6481, 2,    196.7, 2,    200.2, 2,     0.07, 2,     0.72, 2,     0.20, 2,     0.04, 2,    2.095, 2,    1.306, 2,    0.105, 2,    0.976, 2,   2091.4, 2,   2393.1, 2,    59.40, 2,     4.80, 2, -999.000, 9, -999.000, -999.0000, 9, -999.0000,  -999.00, 9,  -999.00, -999.000, 9, -999.000,   -999.0, 9,   -999.0,  -999.00, 9, -999.0000, 9, -999.0000, 9, -999.0000, 9, -999.0000, 9, -999.0000, 9, -999.0000, 9, -999, 9, -999, 9, -999, 9, -999, 9, -999, 9, -999, 9, -999, 9,  -999.00, 9,  -999.00, 9,  -999.00, 9,  -999.00, 9,  20.8912,  -999.00, 9,  311,   36.2609,  -52.3909
316N200309, A20, 25, 1, 26, 26, 2, 20031001, 0141, 36.2437, -52.3975, 3371,   154.50,    154.5,  19.9236,  36.6023, 2,  36.6058, 2,    202.4, 2,    204.5, 2,     0.12, 2,     1.45, 2,     0.04, 2,     0.07, 2,    2.202, 2,    1.339, 2,    0.104, 2,    0.955, 2,   2091.4, 2,   2390.3, 2,    57.60, 2,     5.40, 2, -999.000, 9, -999.000, -999.0000, 9, -999.0000,  -999.00, 9,  -999.00, -999.000, 9, -999.000,   -999.0, 9,   -999.0,  -999.00, 9, -999.0000, 9, -999.0000, 9, -999.0000, 9, -999.0000, 9, -999.0000, 9, -999.0000, 9, -999, 9, -999, 9, -999, 9, -999, 9, -999, 9, -999, 9, -999, 9,  -999.00, 9,  -999.00, 9,  -999.00, 9,  -999.00, 9,  19.8949,  -999.00, 9,  310,   36.2605,  -52.3912
316N200309, A20, 25, 1, 25, 25, 2, 20031001, 0141, 36.2437, -52.3975, 3371,   203.80,    203.8,  18.4966,  36.5487, 2,  36.5503, 2,    204.8, 2,    211.1, 2,     0.47, 2,     2.56, 2,     0.01, 2,     0.12, 2,    2.299, 2,    1.408, 2,    0.149, 2,    0.792, 2,   2097.6, 2,   2377.4, 2,    52.80, 2,     6.90, 3, -999.000, 9, -999.000, -999.0000, 9, -999.0000,  -999.00, 9,  -999.00, -999.000, 9, -999.000,   -999.0, 9,   -999.0,  -999.00, 9, -999.0000, 9, -999.0000, 9, -999.0000, 9, -999.0000, 9, -999.0000, 9, -999.0000, 9, -999, 9, -999, 9, -999, 9, -999, 9, -999, 9, -999, 9, -999, 9,  -999.00, 9,  -999.00, 9,  -999.00, 9,  -999.00, 9,  18.4606,  -999.00, 9,  308,   36.2600,  -52.3914
316N200309, A20, 25, 1, 24, 24, 2, 20031001, 0141, 36.2437, -52.3975, 3371,   253.90,    253.9,  18.2825,  36.5413, 2,  36.5430, 2,    198.7, 2,    202.3, 2,     0.72, 2,     4.01, 2,     0.01, 2,     0.19, 2,    2.284, 2,    1.377, 2,    0.062, 2,    0.684, 2,   2106.0, 2,   2383.8, 2,    53.60, 2,     7.80, 2, -999.000, 9, -999.000, -999.0000, 9, -999.0000,  -999.00, 9,  -999.00, -999.000, 9, -999.000,   -999.0, 9,   -999.0,  -999.00, 9, -999.0000, 9, -999.0000, 9, -999.0000, 9, -999.0000, 9, -999.0000, 9, -999.0000, 9, -999, 9, -999, 9, -999, 9, -999, 9, -999, 9, -999, 9, -999, 9,  -999.00, 9,  -999.00, 9,  -999.00, 9,  -999.00, 9,  18.2379,  -999.00, 9,  306,   36.2595,  -52.3917
316N200309, A20, 25, 1, 23, 23, 2, 20031001, 0141, 36.2437, -52.3975, 3371,   302.00,    302.0,  17.9809,  36.5029, 2,  36.5046, 2,    199.2, 2,    197.6, 2,     0.98, 2,     4.88, 2,     0.01, 2,     0.23, 2,    2.347, 2,    1.349, 2,    0.066, 2,    0.608, 2,   2111.0, 2,   2383.6, 2,    48.90, 2,     8.30, 2, -999.000, 9, -999.000, -999.0000, 9, -999.0000,  -999.00, 9,  -999.00, -999.000, 9, -999.000,   -999.0, 9,   -999.0,  -999.00, 9, -999.0000, 9, -999.0000, 9, -999.0000, 9, -999.0000, 9, -999.0000, 9, -999.0000, 9, -999, 9, -999, 9, -999, 9, -999, 9, -999, 9, -999, 9, -999, 9,  -999.00, 9,  -999.00, 9,  -999.00, 9,  -999.00, 9,  17.9285,  -999.00, 9,  304,   36.2590,  -52.3920
316N200309, A20, 25, 1, 22, 22, 2, 20031001, 0141, 36.2437, -52.3975, 3371,   400.00,    400.0,  17.3975,  36.4185, 2,  36.4178, 2,    193.5, 2,    196.0, 2,     1.33, 2,     6.01, 2,     0.01, 2,     0.31, 2,    2.275, 2,    1.353, 2,    0.049, 2,    0.627, 2,   2113.5, 2,   2376.9, 2,    48.30, 2,  -999.00, 9, -999.000, 9, -999.000, -999.0000, 9, -999.0000,  -999.00, 9,  -999.00, -999.000, 9, -999.000,   -999.0, 9,   -999.0,  -999.00, 9, -999.0000, 9, -999.0000, 9, -999.0000, 9, -999.0000, 9, -999.0000, 9, -999.0000, 9, -999, 9, -999, 9, -999, 9, -999, 9, -999, 9, -999, 9, -999, 9,  -999.00, 9,  -999.00, 9,  -999.00, 9,  -999.00, 9,  17.3294,  -999.00, 9,  301,   36.2582,  -52.3923
316N200309, A20, 25, 1, 21, 21, 2, 20031001, 0141, 36.2437, -52.3975, 3371,   500.10,    500.1,  16.4983,  36.2654, 2,  36.2673, 2,    191.6, 2,    191.6, 2,     2.17, 2,     7.85, 2,     0.00, 2,     0.43, 2,    2.260, 2,    1.326, 2,    0.047, 2,    0.691, 2,   2122.8, 2,   2370.5, 2,    49.70, 2,  -999.00, 9, -999.000, 9, -999.000, -999.0000, 9, -999.0000,  -999.00, 9,  -999.00, -999.000, 9, -999.000,   -999.0, 9,   -999.0,  -999.00, 9, -999.0000, 9, -999.0000, 9, -999.0000, 9, -999.0000, 9, -999.0000, 9, -999.0000, 9, -999, 9, -999, 9, -999, 9, -999, 9, -999, 9, -999, 9, -999, 9,  -999.00, 9,  -999.00, 9,  -999.00, 9,  -999.00, 9,  16.4161,  -999.00, 9,  258,   36.2575,  -52.3924
316N200309, A20, 25, 1, 20, 20, 2, 20031001, 0141, 36.2437, -52.3975, 3371,   624.50,    624.5,  15.0662,  36.0283, 2,  36.0279, 2,    195.1, 2,    194.7, 2,     3.12, 2,     9.86, 2,     0.00, 2,     0.58, 2,    2.334, 2,    1.323, 2,    0.057, 2,    0.739, 2,   2137.6, 2,   2358.0, 2,    48.50, 2,  -999.00, 9, -999.000, 9, -999.000, -999.0000, 9, -999.0000,  -999.00, 9,  -999.00, -999.000, 9, -999.000,   -999.0, 9,   -999.0,  -999.00, 9, -999.0000, 9, -999.0000, 9, -999.0000, 9, -999.0000, 9, -999.0000, 9, -999.0000, 9, -999, 9, -999, 9, -999, 9, -999, 9, -999, 9, -999, 9, -999, 9,  -999.00, 9,  -999.00, 9,  -999.00, 9,  -999.00, 9,  14.9693,  -999.00, 9,  254,   36.2568,  -52.3927
316N200309, A20, 25, 1, 19, 19, 2, 20031001, 0141, 36.2437, -52.3975, 3371,   751.40,    751.4,  12.9539,  35.6782, 2,  35.6788, 2,    183.6, 2,    184.1, 2,     5.54, 2,    14.22, 2,     0.00, 2,     0.86, 2,    2.212, 2,    1.225, 2,    0.337, 4,    1.669, 4,   2148.3, 2,   2338.6, 2,    47.90, 2,  -999.00, 9, -999.000, 9, -999.000, -999.0000, 9, -999.0000,  -999.00, 9,  -999.00, -999.000, 9, -999.000,   -999.0, 9,   -999.0,  -999.00, 9, -999.0000, 9, -999.0000, 9, -999.0000, 9, -999.0000, 9, -999.0000, 9, -999.0000, 9, -999, 9, -999, 9, -999, 9, -999, 9, -999, 9, -999, 9, -999, 9,  -999.00, 9,  -999.00, 9,  -999.00, 9,  -999.00, 9,  12.8480,  -999.00, 9,  251,   36.2560,  -52.3930
316N200309, A20, 25, 1, 18, 18, 2, 20031001, 0141, 36.2437, -52.3975, 3371,   910.40,    910.4,   9.8876,  35.2913, 2,  35.2895, 2,    155.5, 2,    155.5, 2,    11.24, 2,    21.83, 2,     0.00, 2,     1.37, 2,    1.334, 2,    0.705, 2,    0.031, 2,    0.555, 2,   2182.7, 2,   2322.0, 2,    44.90, 2,  -999.00, 9, -999.000, 9, -999.000, -999.0000, 9, -999.0000,  -999.00, 9,  -999.00, -999.000, 9, -999.000,   -999.0, 9,   -999.0,  -999.00, 9, -999.0000, 9, -999.0000, 9, -999.0000, 9, -999.0000, 9, -999.0000, 9, -999.0000, 9, -999, 9, -999, 9, -999, 9, -999, 9, -999, 9, -999, 9, -999, 9,  -999.00, 9,  -999.00, 9,  -999.00, 9,  -999.00, 9,   9.7785,  -999.00, 9,  247,   36.2551,  -52.3933
316N200309, A20, 25, 1, 17, 17, 2, 20031001, 0141, 36.2437, -52.3975, 3371,  1051.20,   1051.2,   7.2217,  35.0879, 2,  35.0862, 2,    187.9, 2,    187.1, 2,    12.50, 2,    21.40, 2,     0.00, 2,     1.38, 2,    1.542, 2,    0.798, 2,    0.068, 2,    1.196, 2,   2184.3, 2,   2314.2, 2,    43.70, 2,  -999.00, 9, -999.000, 9, -999.000, -999.0000, 9, -999.0000,  -999.00, 9,  -999.00, -999.000, 9, -999.000,   -999.0, 9,   -999.0,  -999.00, 9, -999.0000, 9, -999.0000, 9, -999.0000, 9, -999.0000, 9, -999.0000, 9, -999.0000, 9, -999, 9, -999, 9, -999, 9, -999, 9, -999, 9, -999, 9, -999, 9,  -999.00, 9,  -999.00, 9,  -999.00, 9,  -999.00, 9,   7.1154,  -999.00, 9,  244,   36.2544,  -52.3935
316N200309, A20, 25, 1, 16, 16, 2, 20031001, 0141, 36.2437, -52.3975, 3371,  1200.90,   1200.9,   5.9027,  35.0698, 2,  35.0720, 2,    220.1, 2,    218.7, 2,    11.87, 2,    19.66, 2,     0.00, 2,     1.27, 2,    1.866, 2,    0.981, 2,    0.090, 2,    1.693, 2,   2181.8, 2,   2313.1, 2,    43.30, 2,  -999.00, 9, -999.000, 9, -999.000, -999.0000, 9, -999.0000,  -999.00, 9,  -999.00, -999.000, 9, -999.000,   -999.0, 9,   -999.0,  -999.00, 9, -999.0000, 9, -999.0000, 9, -999.0000, 9, -999.0000, 9, -999.0000, 9, -999.0000, 9, -999, 9, -999, 9, -999, 9, -999, 9, -999, 9, -999, 9, -999, 9,  -999.00, 9,  -999.00, 9,  -999.00, 9,  -999.00, 9,   5.7917,  -999.00, 9,  240,   36.2536,  -52.3937
316N200309, A20, 25, 1, 15, 15, 2, 20031001, 0141, 36.2437, -52.3975, 3371,  1325.60,   1325.6,   4.9517,  35.0110, 2,  35.0152, 2,    243.9, 2,    243.8, 2,    11.13, 2,    18.52, 2,     0.00, 2,     1.21, 2,    2.375, 2,    1.257, 2,    0.131, 2,    2.404, 2,   2173.8, 2,   2306.9, 2,    45.80, 2,  -999.00, 9, -999.000, 9, -999.000, -999.0000, 9, -999.0000,  -999.00, 9,  -999.00, -999.000, 9, -999.000,   -999.0, 9,   -999.0,  -999.00, 9, -999.0000, 9, -999.0000, 9, -999.0000, 9, -999.0000, 9, -999.0000, 9, -999.0000, 9, -999, 9, -999, 9, -999, 9, -999, 9, -999, 9, -999, 9, -999, 9,  -999.00, 9,  -999.00, 9,  -999.00, 9,  -999.00, 9,   4.8376,  -999.00, 9,  237,   36.2531,  -52.3939
316N200309, A20, 25, 1, 14, 14, 2, 20031001, 0141, 36.2437, -52.3975, 3371,  1450.20,   1450.2,   4.4948,  34.9832, 2,  34.9848, 2,    255.1, 2,    256.0, 2,    10.90, 2,    18.03, 2,     0.00, 2,     1.18, 2,    2.604, 2,    1.354, 2,    0.147, 2,    2.739, 2,   2162.7, 2,   2309.5, 2,  -999.00, 9,  -999.00, 9, -999.000, 9, -999.000, -999.0000, 9, -999.0000,  -999.00, 9,  -999.00, -999.000, 9, -999.000,   -999.0, 9,   -999.0,  -999.00, 9, -999.0000, 9, -999.0000, 9, -999.0000, 9, -999.0000, 9, -999.0000, 9, -999.0000, 9, -999, 9, -999, 9, -999, 9, -999, 9, -999, 9, -999, 9, -999, 9,  -999.00, 9,  -999.00, 9,  -999.00, 9,  -999.00, 9,   4.3737,  -999.00, 9,  234,   36.2525,  -52.3941
316N200309, A20, 25, 1, 13, 13, 2, 20031001, 0141, 36.2437, -52.3975, 3371,  1552.70,   1552.7,   4.3357,  34.9737, 2,  34.9748, 2,    258.8, 2,    259.7, 2,    10.87, 2,    17.94, 2,     0.00, 2,     1.17, 2,    2.547, 2,    1.362, 2,    0.181, 2,    2.741, 2,   2168.0, 2,   2306.1, 2,  -999.00, 9,  -999.00, 9, -999.000, 9, -999.000, -999.0000, 9, -999.0000,  -999.00, 9,  -999.00, -999.000, 9, -999.000,   -999.0, 9,   -999.0,  -999.00, 9, -999.0000, 9, -999.0000, 9, -999.0000, 9, -999.0000, 9, -999.0000, 9, -999.0000, 9, -999, 9, -999, 9, -999, 9, -999, 9, -999, 9, -999, 9, -999, 9,  -999.00, 9,  -999.00, 9,  -999.00, 9,  -999.00, 9,   4.2067,  -999.00, 9,  231,   36.2520,  -52.3942
316N200309, A20, 25, 1, 12, 12, 2, 20031001, 0141, 36.2437, -52.3975, 3371,  1652.30,   1652.3,   4.1226,  34.9568, 2,  34.9585, 2,    264.0, 2,    264.3, 2,    11.03, 2,    17.80, 2,     0.00, 2,     1.16, 2,    2.512, 2,    1.323, 2,    0.145, 2,    2.768, 2,   2172.8, 2,   2302.1, 2,    44.00, 2,  -999.00, 9, -999.000, 9, -999.000, -999.0000, 9, -999.0000,  -999.00, 9,  -999.00, -999.000, 9, -999.000,   -999.0, 9,   -999.0,  -999.00, 9, -999.0000, 9, -999.0000, 9, -999.0000, 9, -999.0000, 9, -999.0000, 9, -999.0000, 9, -999, 9, -999, 9, -999, 9, -999, 9, -999, 9, -999, 9, -999, 9,  -999.00, 9,  -999.00, 9,  -999.00, 9,  -999.00, 9,   3.9868,  -999.00, 9,  228,   36.2516,  -52.3944
316N200309, A20, 25, 1, 11, 11, 2, 20031001, 0141, 36.2437, -52.3975, 3371,  1775.70,   1775.7,   3.9839,  34.9570, 2,  34.9579, 2,    264.7, 2,    264.9, 2,    11.59, 2,    17.80, 2,     0.00, 2,     1.17, 2,    2.218, 2,    1.155, 2,    0.117, 2,    2.578, 2,   2170.7, 2,   2303.1, 2,  -999.00, 9,  -999.00, 9, -999.000, 9, -999.000, -999.0000, 9, -999.0000,  -999.00, 9,  -999.00, -999.000, 9, -999.000,   -999.0, 9,   -999.0,  -999.00, 9, -999.0000, 9, -999.0000, 9, -999.0000, 9, -999.0000, 9, -999.0000, 9, -999.0000, 9, -999, 9, -999, 9, -999, 9, -999, 9, -999, 9, -999, 9, -999, 9,  -999.00, 9,  -999.00, 9,  -999.00, 9,  -999.00, 9,   3.8383,  -999.00, 9,  225,   36.2510,  -52.3947
316N200309, A20, 25, 1, 10, 10, 2, 20031001, 0141, 36.2437, -52.3975, 3371,  1900.50,   1900.5,   3.9174,  34.9629, 2,  34.9640, 2,    266.1, 2,    265.1, 2,    12.15, 2,    17.80, 2,     0.00, 2,     1.17, 2,    1.969, 2,    0.980, 2,    0.103, 2,    2.403, 2,   2161.6, 2,   2304.3, 2,  -999.00, 9,  -999.00, 9, -999.000, 9, -999.000, -999.0000, 9, -999.0000,  -999.00, 9,  -999.00, -999.000, 9, -999.000,   -999.0, 9,   -999.0,  -999.00, 9, -999.0000, 9, -999.0000, 9, -999.0000, 9, -999.0000, 9, -999.0000, 9, -999.0000, 9, -999, 9, -999, 9, -999, 9, -999, 9, -999, 9, -999, 9, -999, 9,  -999.00, 9,  -999.00, 9,  -999.00, 9,  -999.00, 9,   3.7608,  -999.00, 9,  222,   36.2504,  -52.3950
316N200309, A20, 25, 1, 9, 9, 2, 20031001, 0141, 36.2437, -52.3975, 3371,  2049.80,   2049.8,   3.6876,  34.9454, 2,  34.9463, 2,    266.8, 2,    268.5, 2,    12.62, 2,    17.75, 2,     0.00, 2,     1.17, 2,    1.803, 2,    0.954, 2,    0.092, 2,    2.330, 2,   2164.7, 2,   2302.6, 2,    44.40, 2,  -999.00, 9, -999.000, 9, -999.000, -999.0000, 9, -999.0000,  -999.00, 9,  -999.00, -999.000, 9, -999.000,   -999.0, 9,   -999.0,  -999.00, 9, -999.0000, 9, -999.0000, 9, -999.0000, 9, -999.0000, 9, -999.0000, 9, -999.0000, 9, -999, 9, -999, 9, -999, 9, -999, 9, -999, 9, -999, 9, -999, 9,  -999.00, 9,  -999.00, 9,  -999.00, 9,  -999.00, 9,   3.5200,  -999.00, 9,  218,   36.2497,  -52.3953
316N200309, A20, 25, 1, 8, 8, 2, 20031001, 0141, 36.2437, -52.3975, 3371,  2249.60,   2249.6,   3.5474,  34.9411, 2,  34.9425, 2,    267.8, 2,    269.9, 2,    13.48, 2,    17.81, 2,     0.00, 2,     1.17, 2,    1.645, 2,    0.836, 2,    0.078, 2,    2.186, 2,   2161.8, 2,   2304.1, 2,  -999.00, 9,  -999.00, 9, -999.000, 9, -999.000, -999.0000, 9, -999.0000,  -999.00, 9,  -999.00, -999.000, 9, -999.000,   -999.0, 9,   -999.0,  -999.00, 9, -999.0000, 9, -999.0000, 9, -999.0000, 9, -999.0000, 9, -999.0000, 9, -999.0000, 9, -999, 9, -999, 9, -999, 9, -999, 9, -999, 9, -999, 9, -999, 9,  -999.00, 9,  -999.00, 9,  -999.00, 9,  -999.00, 9,   3.3626,  -999.00, 9,  214,   36.2489,  -52.3960
316N200309, A20, 25, 1, 7, 7, 2, 20031001, 0141, 36.2437, -52.3975, 3371,  2499.40,   2499.4,   3.4300,  34.9439, 2,  34.9457, 2,    268.3, 2,    268.8, 2,    14.84, 2,    17.81, 2,     0.00, 2,     1.17, 2,    1.367, 6,    0.687, 6,    0.063, 6,    1.902, 6,   2163.7, 2,   2310.6, 2,    43.80, 2,  -999.00, 9, -999.000, 9, -999.000, -999.0000, 9, -999.0000,  -999.00, 9,  -999.00, -999.000, 9, -999.000,   -999.0, 9,   -999.0,  -999.00, 9, -999.0000, 9, -999.0000, 9, -999.0000, 9, -999.0000, 9, -999.0000, 9, -999.0000, 9, -999, 9, -999, 9, -999, 9, -999, 9, -999, 9, -999, 9, -999, 9,  -999.00, 9,  -999.00, 9,  -999.00, 9,  -999.00, 9,   3.2223,  -999.00, 9,  208,   36.2479,  -52.3964