BOTTLE,20220816CCHSIOAMB
EXPOCODE,SECT_ID,STNNBR,CASTNO,SAMPNO,BTLNBR,BTLNBR_FLAG_W,DATE,TIME,LATITUDE,LONGITUDE,DEPTH,CTDRAW,CTDPRS,CTDTMP,CTDSAL,CTDSAL_FLAG_W,SALNTY,SALNTY_FLAG_W,CTDOXY,CTDOXY_FLAG_W,OXYGEN,OXYGEN_FLAG_W,SILCAT,SILCAT_FLAG_W,NITRAT,NITRAT_FLAG_W,NITRIT,NITRIT_FLAG_W,PHSPHT,PHSPHT_FLAG_W,CFC-11,CFC-11_FLAG_W,CFC-12,CFC-12_FLAG_W,CFC113,CFC113_FLAG_W,CCL4,CCL4_FLAG_W,TCARBN,TCARBN_FLAG_W,ALKALI,ALKALI_FLAG_W,DOC,DOC_FLAG_W,TDN,TDN_FLAG_W,TRITUM,TRITUM_FLAG_W,TRITER,HELIUM,HELIUM_FLAG_W,HELIER,DELHE3,DELHE3_FLAG_W,DELHER,NEON,NEON_FLAG_W,NEONER,DELC14,DELC14_FLAG_W,C14ERR,DELC13,DELC13_FLAG_W,CDOM325,CDOM325_FLAG_W,CDOM340,CDOM340_FLAG_W,CDOM380,CDOM380_FLAG_W,CDOM412,CDOM412_FLAG_W,CDOMSL,CDOMSL_FLAG_W,CDOMSN,CDOMSN_FLAG_W,DCNS,DCNS_FLAG_W,ARABI,ARABI_FLAG_W,FUCO,FUCO_FLAG_W,GALA,GALA_FLAG_W,GLUC,GLUC_FLAG_W,MAN,MAN_FLAG_W,RHAM,RHAM_FLAG_W,BRDU,BRDU_FLAG_W,PEUK,PEUK_FLAG_W,PROC,PROC_FLAG_W,SYN,SYN_FLAG_W,THETA,BACT,BACT_FLAG_W,BTL_TIME,BTL_LAT,BTL_LON
,,,,,,,,,,,METERS,DBAR,DBAR,ITS-90,PSS-78,,PSS-78,,UMOL/KG,,UMOL/KG,,UMOL/KG,,UMOL/KG,,UMOL/KG,,UMOL/KG,,PMOL/KG,,PMOL/KG,,PMOL/KG,,PMOL/KG,,UMOL/KG,,UMOL/KG,,UMOL/KG,,UMOL/KG,,TU,,TU,NMOL/KG,,NMOL/KG,PERCNT,,PERCNT,NMOL/KG,,NMOL/KG,/MILLE,,/MILLE,/MILLE,,1/M,,1/M,,1/M,,1/M,,1/NM,,1/NM,,NMOL/KG,,NMOL/KG,,NMOL/KG,,NMOL/KG,,NMOL/KG,,NMOL/KG,,NMOL/KG,,PMOL/L/H,,E6/L,,E7/L,,E6/L,,DEG C,E8/L,,,,
316N200309, A20, 50, 1, 10, 10, 2, 20031011, 1351, 17.5530, -52.3368, 5673,  3501.60,   3501.6,   2.4555,  34.9055, 2,  34.9038, 2,    254.3, 2,    254.2, 2,    37.16, 2,    20.51, 2,     0.00, 2,     1.39, 2,    0.073, 2,    0.040, 2,    0.011, 2, -999.000, 9,   2183.1, 2,   2333.4, 2,  -999.00, 9,  -999.00, 9, -999.000, 9, -999.000, -999.0000, 9, -999.0000,  -999.00, 9,  -999.00, -999.000, 9, -999.000,   -999.0, 9,   -999.0,  -999.00, 9, -999.0000, 9, -999.0000, 9, -999.0000, 9, -999.0000, 9, -999.0000, 9, -999.0000, 9, -999, 9, -999, 9, -999, 9, -999, 9, -999, 9, -999, 9, -999, 9,  -999.00, 9,  -999.00, 9,  -999.00, 9,  -999.00, 9,   2.1641,  -999.00, 9, 1442,   17.5616,  -52.3392
316N200309, A20, 50, 1, 9, 9, 2, 20031011, 1351, 17.5530, -52.3368, 5673,  3751.40,   3751.4,   2.3078,  34.8906, 2,  34.8873, 2,    252.7, 2,    252.2, 2,    42.15, 2,    21.16, 2,     0.00, 2,     1.43, 2,    0.049, 2,    0.026, 2,    0.008, 2, -999.000, 9,   2187.6, 2,   2336.6, 2,    40.10, 2,  -999.00, 9, -999.000, 9, -999.000, -999.0000, 9, -999.0000,  -999.00, 9,  -999.00, -999.000, 9, -999.000,   -999.0, 9,   -999.0,  -999.00, 9,    0.1310, 2,    0.0910, 2,    0.0440, 2,    0.0350, 3,    0.0140, 3,    0.0180, 3, -999, 9, -999, 9, -999, 9, -999, 9, -999, 9, -999, 9, -999, 9,  -999.00, 9,  -999.00, 9,  -999.00, 9,  -999.00, 9,   1.9929,  -999.00, 9, 1437,   17.5606,  -52.3390
316N200309, A20, 50, 1, 8, 8, 2, 20031011, 1351, 17.5530, -52.3368, 5673,  4000.30,   4000.3,   2.1992,  34.8784, 2,  34.8778, 2,    251.8, 2,    251.1, 2,    46.31, 2,    21.63, 2,     0.00, 2,     1.47, 2,    0.039, 2,    0.023, 2,    0.008, 2, -999.000, 9,   2193.0, 2,   2339.0, 2,  -999.00, 9,  -999.00, 9, -999.000, 9, -999.000, -999.0000, 9, -999.0000,  -999.00, 9,  -999.00, -999.000, 9, -999.000,   -999.0, 9,   -999.0,  -999.00, 9, -999.0000, 9, -999.0000, 9, -999.0000, 9, -999.0000, 9, -999.0000, 9, -999.0000, 9, -999, 9, -999, 9, -999, 9, -999, 9, -999, 9, -999, 9, -999, 9,  -999.00, 9,  -999.00, 9,  -999.00, 9,  -999.00, 9,   1.8594,  -999.00, 9, 1431,   17.5598,  -52.3387
316N200309, A20, 50, 1, 7, 7, 2, 20031011, 1351, 17.5530, -52.3368, 5673,  4250.20,   4250.2,   2.1179,  34.8694, 2,  34.8686, 2,    252.2, 2,    251.7, 2,    48.18, 2,    21.72, 2,     0.00, 2,     1.49, 2,    0.062, 2,    0.045, 2,    0.008, 2, -999.000, 9,   2195.0, 2,   2338.3, 2,  -999.00, 9,  -999.00, 9, -999.000, 9, -999.000, -999.0000, 9, -999.0000,  -999.00, 9,  -999.00, -999.000, 9, -999.000,   -999.0, 9,   -999.0,  -999.00, 9, -999.0000, 9, -999.0000, 9, -999.0000, 9, -999.0000, 9, -999.0000, 9, -999.0000, 9, -999, 9, -999, 9, -999, 9, -999, 9, -999, 9, -999, 9, -999, 9,  -999.00, 9,  -999.00, 9,  -999.00, 9,  -999.00, 9,   1.7519,  -999.00, 9, 1426,   17.5588,  -52.3386
316N200309, A20, 50, 1, 6, 6, 2, 20031011, 1351, 17.5530, -52.3368, 5673,  4500.10,   4500.1,   2.0617,  34.8613, 2,  34.8585, 2,    250.7, 2,    251.3, 2,    50.98, 2,    22.08, 2,     0.00, 2,     1.51, 2,    0.069, 2,    0.036, 2,    0.006, 2, -999.000, 9,   2197.2, 2,   2341.9, 2,  -999.00, 9,  -999.00, 9, -999.000, 9, -999.000, -999.0000, 9, -999.0000,  -999.00, 9,  -999.00, -999.000, 9, -999.000,   -999.0, 9,   -999.0,  -999.00, 9, -999.0000, 9, -999.0000, 9, -999.0000, 9, -999.0000, 9, -999.0000, 9, -999.0000, 9, -999, 9, -999, 9, -999, 9, -999, 9, -999, 9, -999, 9, -999, 9,  -999.00, 9,  -999.00, 9,  -999.00, 9,  -999.00, 9,   1.6681,  -999.00, 9, 1421,   17.5579,  -52.3383
316N200309, A20, 50, 1, 5, 5, 2, 20031011, 1351, 17.5530, -52.3368, 5673,  4748.70,   4748.7,   2.0264,  34.8546, 2,  34.8536, 2,    249.2, 2,    249.7, 2,    53.17, 2,    22.37, 2,     0.00, 2,     1.53, 2,    0.075, 2,    0.042, 2,    0.008, 2, -999.000, 9,   2198.8, 2,   2341.9, 2,    39.80, 2,  -999.00, 9, -999.000, 9, -999.000, -999.0000, 9, -999.0000,  -999.00, 9,  -999.00, -999.000, 9, -999.000,   -999.0, 9,   -999.0,  -999.00, 9,    0.1240, 2,    0.0870, 2,    0.0420, 2,    0.0340, 2,    0.0150, 2,    0.0180, 2, -999, 9, -999, 9, -999, 9, -999, 9, -999, 9, -999, 9, -999, 9,  -999.00, 9,  -999.00, 9,  -999.00, 9,  -999.00, 9,   1.6041,  -999.00, 9, 1415,   17.5569,  -52.3381
316N200309, A20, 50, 1, 4, 4, 2, 20031011, 1351, 17.5530, -52.3368, 5673,  5000.50,   5000.5,   1.9934,  34.8475, 2,  34.8467, 2,    247.6, 2,    248.5, 2,    55.88, 2,    22.74, 2,     0.00, 2,     1.55, 2,    0.068, 2,    0.046, 2,    0.007, 2, -999.000, 9,   2202.1, 2,   2342.8, 2,  -999.00, 9,  -999.00, 9, -999.000, 9, -999.000, -999.0000, 9, -999.0000,  -999.00, 9,  -999.00, -999.000, 9, -999.000,   -999.0, 9,   -999.0,  -999.00, 9, -999.0000, 9, -999.0000, 9, -999.0000, 9, -999.0000, 9, -999.0000, 9, -999.0000, 9, -999, 9, -999, 9, -999, 9, -999, 9, -999, 9, -999, 9, -999, 9,  -999.00, 9,  -999.00, 9,  -999.00, 9,  -999.00, 9,   1.5413,  -999.00, 9, 1409,   17.5557,  -52.3378
316N200309, A20, 50, 1, 3, 3, 2, 20031011, 1351, 17.5530, -52.3368, 5673,  5249.70,   5249.7,   1.9960,  34.8441, 2,  34.8418, 2,    246.4, 2,    248.0, 2,    57.12, 2,    22.92, 2,     0.00, 2,     1.57, 2,    0.085, 2,    0.049, 2,    0.012, 2, -999.000, 9,   2203.3, 2,   2343.3, 2,  -999.00, 9,  -999.00, 9, -999.000, 9, -999.000, -999.0000, 9, -999.0000,  -999.00, 9,  -999.00, -999.000, 9, -999.000,   -999.0, 9,   -999.0,  -999.00, 9, -999.0000, 9, -999.0000, 9, -999.0000, 9, -999.0000, 9, -999.0000, 9, -999.0000, 9, -999, 9, -999, 9, -999, 9, -999, 9, -999, 9, -999, 9, -999, 9,  -999.00, 9,  -999.00, 9,  -999.00, 9,  -999.00, 9,   1.5125,  -999.00, 9, 1403,   17.5548,  -52.3375
316N200309, A20, 50, 1, 2, 2, 2, 20031011, 1351, 17.5530, -52.3368, 5673,  5498.60,   5498.6,   2.0190,  34.8426, 2,  34.8426, 2,    245.9, 2,    247.7, 2,    57.63, 2,    22.96, 2,     0.00, 2,     1.58, 2,    0.089, 2,    0.054, 2,    0.013, 2, -999.000, 9,   2203.9, 2,   2343.4, 2,    41.50, 2,  -999.00, 9, -999.000, 9, -999.000, -999.0000, 9, -999.0000,  -999.00, 9,  -999.00, -999.000, 9, -999.000,   -999.0, 9,   -999.0,  -999.00, 9,    0.1300, 2,    0.0910, 2,    0.0440, 2,    0.0300, 2,    0.0170, 2,    0.0190, 2, -999, 9, -999, 9, -999, 9, -999, 9, -999, 9, -999, 9, -999, 9,  -999.00, 9,  -999.00, 9,  -999.00, 9,  -999.00, 9,   1.5025,  -999.00, 9, 1358,   17.5539,  -52.3372
316N200309, A20, 50, 1, 1, 1, 2, 20031011, 1351, 17.5530, -52.3368, 5673,  5746.50,   5746.5,   2.0467,  34.8414, 2,  34.8426, 2,    246.6, 2,    247.5, 2,    58.04, 2,    23.04, 2,     0.00, 2,     1.58, 2, -999.000, 5, -999.000, 5, -999.000, 5, -999.000, 9,   2204.5, 2,   2344.6, 2,    41.10, 2,  -999.00, 9, -999.000, 9, -999.000, -999.0000, 9, -999.0000,  -999.00, 9,  -999.00, -999.000, 9, -999.000,   -999.0, 9,   -999.0,  -999.00, 9,    0.1330, 2,    0.0940, 2,    0.0440, 2,    0.0310, 2,    0.0170, 2,    0.0190, 2, -999, 9, -999, 9, -999, 9, -999, 9, -999, 9, -999, 9, -999, 9,  -999.00, 9,  -999.00, 9,  -999.00, 9,  -999.00, 9,   1.4964,  -999.00, 9, 1351,   17.5529,  -52.3369