BOTTLE,20220816CCHSIOAMB
EXPOCODE,SECT_ID,STNNBR,CASTNO,SAMPNO,BTLNBR,BTLNBR_FLAG_W,DATE,TIME,LATITUDE,LONGITUDE,DEPTH,CTDRAW,CTDPRS,CTDTMP,CTDSAL,CTDSAL_FLAG_W,SALNTY,SALNTY_FLAG_W,CTDOXY,CTDOXY_FLAG_W,OXYGEN,OXYGEN_FLAG_W,SILCAT,SILCAT_FLAG_W,NITRAT,NITRAT_FLAG_W,NITRIT,NITRIT_FLAG_W,PHSPHT,PHSPHT_FLAG_W,CFC-11,CFC-11_FLAG_W,CFC-12,CFC-12_FLAG_W,CFC113,CFC113_FLAG_W,CCL4,CCL4_FLAG_W,TCARBN,TCARBN_FLAG_W,ALKALI,ALKALI_FLAG_W,DOC,DOC_FLAG_W,TDN,TDN_FLAG_W,TRITUM,TRITUM_FLAG_W,TRITER,HELIUM,HELIUM_FLAG_W,HELIER,DELHE3,DELHE3_FLAG_W,DELHER,NEON,NEON_FLAG_W,NEONER,DELC14,DELC14_FLAG_W,C14ERR,DELC13,DELC13_FLAG_W,CDOM325,CDOM325_FLAG_W,CDOM340,CDOM340_FLAG_W,CDOM380,CDOM380_FLAG_W,CDOM412,CDOM412_FLAG_W,CDOMSL,CDOMSL_FLAG_W,CDOMSN,CDOMSN_FLAG_W,DCNS,DCNS_FLAG_W,ARABI,ARABI_FLAG_W,FUCO,FUCO_FLAG_W,GALA,GALA_FLAG_W,GLUC,GLUC_FLAG_W,MAN,MAN_FLAG_W,RHAM,RHAM_FLAG_W,BRDU,BRDU_FLAG_W,PEUK,PEUK_FLAG_W,PROC,PROC_FLAG_W,SYN,SYN_FLAG_W,THETA,BACT,BACT_FLAG_W,BTL_TIME,BTL_LAT,BTL_LON
,,,,,,,,,,,METERS,DBAR,DBAR,ITS-90,PSS-78,,PSS-78,,UMOL/KG,,UMOL/KG,,UMOL/KG,,UMOL/KG,,UMOL/KG,,UMOL/KG,,PMOL/KG,,PMOL/KG,,PMOL/KG,,PMOL/KG,,UMOL/KG,,UMOL/KG,,UMOL/KG,,UMOL/KG,,TU,,TU,NMOL/KG,,NMOL/KG,PERCNT,,PERCNT,NMOL/KG,,NMOL/KG,/MILLE,,/MILLE,/MILLE,,1/M,,1/M,,1/M,,1/M,,1/NM,,1/NM,,NMOL/KG,,NMOL/KG,,NMOL/KG,,NMOL/KG,,NMOL/KG,,NMOL/KG,,NMOL/KG,,PMOL/L/H,,E6/L,,E7/L,,E6/L,,DEG C,E8/L,,,,
316N200309, A20, 60, 1, 9, 9, 2, 20031014, 1502, 10.8493, -52.3363, 4928,  3299.80,   3299.8,   2.6707,  34.9221, 2,  34.9207, 2,    256.0, 2,    256.0, 2,    30.78, 2,    19.78, 2,     0.00, 2,     1.33, 2, -999.000, 5, -999.000, 5, -999.000, 5, -999.000, 9,   2175.4, 2,   2327.5, 2,  -999.00, 9,  -999.00, 9, -999.000, 9, -999.000, -999.0000, 9, -999.0000,  -999.00, 9,  -999.00, -999.000, 9, -999.000,   -999.0, 9,   -999.0,  -999.00, 9, -999.0000, 9, -999.0000, 9, -999.0000, 9, -999.0000, 9, -999.0000, 9, -999.0000, 9, -999, 9, -999, 9, -999, 9, -999, 9, -999, 9, -999, 9, -999, 9,  -999.00, 9,  -999.00, 9,  -999.00, 9,  -999.00, 9,   2.3957,  -999.00, 9, 1541,   10.8535,  -52.3353
316N200309, A20, 60, 1, 8, 8, 2, 20031014, 1502, 10.8493, -52.3363, 4928,  3499.50,   3499.5,   2.5842,  34.9153, 2,  34.9166, 2,    256.4, 2,    257.2, 2,    31.51, 2,    19.72, 2,     0.00, 2,     1.33, 2,    0.171, 2,    0.086, 2,    0.017, 2, -999.000, 9,   2175.0, 2,   2327.4, 2,  -999.00, 9,  -999.00, 9,    0.120, 2,    0.002,   1.8797, 2,   0.0094,     3.71, 2,     0.20,    8.074, 2,    0.040,   -999.0, 9,   -999.0,  -999.00, 9, -999.0000, 9, -999.0000, 9, -999.0000, 9, -999.0000, 9, -999.0000, 9, -999.0000, 9, -999, 9, -999, 9, -999, 9, -999, 9, -999, 9, -999, 9, -999, 9,  -999.00, 9,  -999.00, 9,  -999.00, 9,  -999.00, 9,   2.2897,  -999.00, 9, 1537,   10.8529,  -52.3354
316N200309, A20, 60, 1, 7, 7, 2, 20031014, 1502, 10.8493, -52.3363, 4928,  3700.50,   3700.5,   2.4850,  34.9084, 2,  34.9075, 2,    260.2, 2,    259.9, 2,    31.08, 2,    19.44, 2,     0.00, 2,     1.31, 2,    0.223, 2,    0.119, 2,    0.018, 2, -999.000, 9,   2174.4, 2,   2325.8, 2,  -999.00, 9,  -999.00, 9, -999.000, 9, -999.000, -999.0000, 9, -999.0000,  -999.00, 9,  -999.00, -999.000, 9, -999.000,   -999.0, 9,   -999.0,  -999.00, 9, -999.0000, 9, -999.0000, 9, -999.0000, 9, -999.0000, 9, -999.0000, 9, -999.0000, 9, -999, 9, -999, 9, -999, 9, -999, 9, -999, 9, -999, 9, -999, 9,  -999.00, 9,  -999.00, 9,  -999.00, 9,  -999.00, 9,   2.1710,  -999.00, 9, 1533,   10.8524,  -52.3353
316N200309, A20, 60, 1, 6, 6, 2, 20031014, 1502, 10.8493, -52.3363, 4928,  3900.90,   3900.9,   2.3992,  34.9027, 2,  34.9000, 2,    262.8, 2,    263.1, 2,    30.66, 2,    19.09, 2,     0.00, 2,     1.29, 2,    0.288, 2,    0.144, 2,    0.017, 2, -999.000, 9,   2172.4, 2,   2324.6, 2,    44.50, 2,  -999.00, 9,    0.160, 2,    0.002,   1.8709, 2,   0.0094,     3.97, 2,     0.20,    8.036, 2,    0.040,   -999.0, 9,   -999.0,  -999.00, 9,    0.1330, 2,    0.0940, 2,    0.0460, 2,    0.0370, 3,    0.0140, 3,    0.0170, 3, -999, 9, -999, 9, -999, 9, -999, 9, -999, 9, -999, 9, -999, 9,  -999.00, 9,  -999.00, 9,  -999.00, 9,  -999.00, 9,   2.0650,  -999.00, 9, 1528,   10.8520,  -52.3353
316N200309, A20, 60, 1, 5, 5, 2, 20031014, 1502, 10.8493, -52.3363, 4928,  4125.90,   4125.9,   2.3267,  34.8966, 2,  34.8963, 2,    263.0, 2,    263.4, 2,    31.79, 2,    19.09, 2,     0.00, 2,     1.29, 2,    0.305, 2,    0.152, 2,    0.028, 2, -999.000, 9,   2173.4, 2,   2326.0, 2,  -999.00, 9,  -999.00, 9, -999.000, 9, -999.000, -999.0000, 9, -999.0000,  -999.00, 9,  -999.00, -999.000, 9, -999.000,   -999.0, 9,   -999.0,  -999.00, 9, -999.0000, 9, -999.0000, 9, -999.0000, 9, -999.0000, 9, -999.0000, 9, -999.0000, 9, -999, 9, -999, 9, -999, 9, -999, 9, -999, 9, -999, 9, -999, 9,  -999.00, 9,  -999.00, 9,  -999.00, 9,  -999.00, 9,   1.9688,  -999.00, 9, 1524,   10.8515,  -52.3354
316N200309, A20, 60, 1, 4, 4, 2, 20031014, 1502, 10.8493, -52.3363, 4928,  4360.30,   4360.3,   2.2849,  34.8915, 2,  34.8851, 3,    262.6, 2,    263.0, 2,    33.02, 2,    19.26, 2,     0.00, 2,     1.30, 2,    0.329, 2,    0.164, 2,    0.027, 2, -999.000, 9,   2175.8, 2,   2326.9, 2,  -999.00, 9,  -999.00, 9, -999.000, 9, -999.000,   1.8817, 2,   0.0094,     4.57, 2,     0.20,    8.074, 2,    0.040,   -999.0, 9,   -999.0,  -999.00, 9, -999.0000, 9, -999.0000, 9, -999.0000, 9, -999.0000, 9, -999.0000, 9, -999.0000, 9, -999, 9, -999, 9, -999, 9, -999, 9, -999, 9, -999, 9, -999, 9,  -999.00, 9,  -999.00, 9,  -999.00, 9,  -999.00, 9,   1.9009,  -999.00, 9, 1518,   10.8510,  -52.3355
316N200309, A20, 60, 1, 3, 3, 2, 20031014, 1502, 10.8493, -52.3363, 4928,  4627.10,   4627.1,   2.2025,  34.8789, 2,  34.8770, 2,    258.2, 2,    258.5, 2,    39.75, 2,    20.31, 2,     0.00, 2,     1.38, 2,    0.219, 2,    0.121, 2,    0.016, 2, -999.000, 9,   2183.8, 2,   2332.8, 2,  -999.00, 9,  -999.00, 9,    0.142, 2,    0.002,   1.8821, 2,   0.0094,     3.92, 2,     0.20,    8.023, 2,    0.040,   -999.0, 9,   -999.0,  -999.00, 9, -999.0000, 9, -999.0000, 9, -999.0000, 9, -999.0000, 9, -999.0000, 9, -999.0000, 9, -999, 9, -999, 9, -999, 9, -999, 9, -999, 9, -999, 9, -999, 9,  -999.00, 9,  -999.00, 9,  -999.00, 9,  -999.00, 9,   1.7892,  -999.00, 9, 1512,   10.8504,  -52.3357
316N200309, A20, 60, 1, 2, 2, 2, 20031014, 1502, 10.8493, -52.3363, 4928,  4825.20,   4825.2,   2.0952,  34.8627, 2,  34.8607, 2,    253.4, 2,    252.4, 2,    48.16, 2,    21.63, 2,     0.00, 2,     1.47, 2,    0.138, 2,    0.085, 2,    0.013, 2, -999.000, 9,   2192.5, 2,   2338.4, 2,  -999.00, 9,  -999.00, 9, -999.000, 9, -999.000, -999.0000, 9, -999.0000,  -999.00, 9,  -999.00, -999.000, 9, -999.000,   -999.0, 9,   -999.0,  -999.00, 9, -999.0000, 9, -999.0000, 9, -999.0000, 9, -999.0000, 9, -999.0000, 9, -999.0000, 9, -999, 9, -999, 9, -999, 9, -999, 9, -999, 9, -999, 9, -999, 9,  -999.00, 9,  -999.00, 9,  -999.00, 9,  -999.00, 9,   1.6613,  -999.00, 9, 1507,   10.8500,  -52.3359
316N200309, A20, 60, 1, 1, 1, 2, 20031014, 1502, 10.8493, -52.3363, 4928,  4994.20,   4994.2,   1.8748,  34.8333, 2,  34.8269, 3,    245.6, 2,    244.4, 2,    62.33, 2,    23.75, 2,     0.00, 2,     1.62, 2,    0.086, 2,    0.038, 2,    0.008, 2, -999.000, 9,   2208.8, 2,   2345.8, 2,    42.60, 2,  -999.00, 9,    0.065, 2,    0.001,   1.8865, 2,   0.0094,     4.32, 2,     0.20,    8.059, 2,    0.040,   -999.0, 9,   -999.0,  -999.00, 9,    0.1340, 2,    0.0950, 2,    0.0460, 2,    0.0320, 2,    0.0170, 2,    0.0190, 2, -999, 9, -999, 9, -999, 9, -999, 9, -999, 9, -999, 9, -999, 9,  -999.00, 9,  -999.00, 9,  -999.00, 9,  -999.00, 9,   1.4276,  -999.00, 9, 1503,   10.8494,  -52.3362