BOTTLE,20220816CCHSIOAMB
EXPOCODE,SECT_ID,STNNBR,CASTNO,SAMPNO,BTLNBR,BTLNBR_FLAG_W,DATE,TIME,LATITUDE,LONGITUDE,DEPTH,CTDRAW,CTDPRS,CTDTMP,CTDSAL,CTDSAL_FLAG_W,SALNTY,SALNTY_FLAG_W,CTDOXY,CTDOXY_FLAG_W,OXYGEN,OXYGEN_FLAG_W,SILCAT,SILCAT_FLAG_W,NITRAT,NITRAT_FLAG_W,NITRIT,NITRIT_FLAG_W,PHSPHT,PHSPHT_FLAG_W,CFC-11,CFC-11_FLAG_W,CFC-12,CFC-12_FLAG_W,CFC113,CFC113_FLAG_W,CCL4,CCL4_FLAG_W,TCARBN,TCARBN_FLAG_W,ALKALI,ALKALI_FLAG_W,DOC,DOC_FLAG_W,TDN,TDN_FLAG_W,TRITUM,TRITUM_FLAG_W,TRITER,HELIUM,HELIUM_FLAG_W,HELIER,DELHE3,DELHE3_FLAG_W,DELHER,NEON,NEON_FLAG_W,NEONER,DELC14,DELC14_FLAG_W,C14ERR,DELC13,DELC13_FLAG_W,CDOM325,CDOM325_FLAG_W,CDOM340,CDOM340_FLAG_W,CDOM380,CDOM380_FLAG_W,CDOM412,CDOM412_FLAG_W,CDOMSL,CDOMSL_FLAG_W,CDOMSN,CDOMSN_FLAG_W,DCNS,DCNS_FLAG_W,ARABI,ARABI_FLAG_W,FUCO,FUCO_FLAG_W,GALA,GALA_FLAG_W,GLUC,GLUC_FLAG_W,MAN,MAN_FLAG_W,RHAM,RHAM_FLAG_W,BRDU,BRDU_FLAG_W,PEUK,PEUK_FLAG_W,PROC,PROC_FLAG_W,SYN,SYN_FLAG_W,THETA,BACT,BACT_FLAG_W,BTL_TIME,BTL_LAT,BTL_LON
,,,,,,,,,,,METERS,DBAR,DBAR,ITS-90,PSS-78,,PSS-78,,UMOL/KG,,UMOL/KG,,UMOL/KG,,UMOL/KG,,UMOL/KG,,UMOL/KG,,PMOL/KG,,PMOL/KG,,PMOL/KG,,PMOL/KG,,UMOL/KG,,UMOL/KG,,UMOL/KG,,UMOL/KG,,TU,,TU,NMOL/KG,,NMOL/KG,PERCNT,,PERCNT,NMOL/KG,,NMOL/KG,/MILLE,,/MILLE,/MILLE,,1/M,,1/M,,1/M,,1/M,,1/NM,,1/NM,,NMOL/KG,,NMOL/KG,,NMOL/KG,,NMOL/KG,,NMOL/KG,,NMOL/KG,,NMOL/KG,,PMOL/L/H,,E6/L,,E7/L,,E6/L,,DEG C,E8/L,,,,
316N200309, A20, 14, 1, 10, 10, 2, 20030927, 2103, 41.0243, -51.7923, 5110,  3004.40,   3004.4,   2.9565,  34.9375, 2,  34.9390, 2,    269.0, 2,    266.7, 2,    19.18, 2,    17.93, 2,     0.01, 2,     1.19, 2,    0.749, 2,    0.367, 2,    0.033, 2, -999.000, 9,   -999.0, 9,   -999.0, 9,  -999.00, 9,  -999.00, 9,    0.323, 2,    0.002,   1.8596, 2,   0.0093,     5.44, 2,     0.20,    7.972, 2,    0.040,   -999.0, 9,   -999.0,  -999.00, 9,    0.0900, 2,    0.0630, 2,    0.0280, 2,    0.0180, 2,    0.0220, 2,    0.0230, 2, -999, 9, -999, 9, -999, 9, -999, 9, -999, 9, -999, 9, -999, 9,  -999.00, 9,  -999.00, 9,  -999.00, 9,  -999.00, 9,   2.7062,  -999.00, 9, 2156,   41.0350,  -51.7891
316N200309, A20, 14, 1, 9, 9, 2, 20030927, 2103, 41.0243, -51.7923, 5110,  3202.20,   3202.2,   2.7934,  34.9286, 2,  34.9301, 2,    267.2, 2,    268.1, 2,    20.20, 2,    17.88, 2,     0.00, 2,     1.19, 2,    0.773, 2,    0.390, 2,    0.041, 2, -999.000, 9,   -999.0, 9,   -999.0, 9,  -999.00, 9,  -999.00, 9, -999.000, 9, -999.000, -999.0000, 9, -999.0000,  -999.00, 9,  -999.00, -999.000, 9, -999.000,   -999.0, 9,   -999.0,  -999.00, 9, -999.0000, 9, -999.0000, 9, -999.0000, 9, -999.0000, 9, -999.0000, 9, -999.0000, 9, -999, 9, -999, 9, -999, 9, -999, 9, -999, 9, -999, 9, -999, 9,  -999.00, 9,  -999.00, 9,  -999.00, 9,  -999.00, 9,   2.5259,  -999.00, 9, 2152,   41.0342,  -51.7898
316N200309, A20, 14, 1, 8, 8, 2, 20030927, 2103, 41.0243, -51.7923, 5110,  3401.20,   3401.2,   2.6387,  34.9201, 2,  34.9207, 2,    269.1, 2,    269.1, 2,    21.22, 2,    17.78, 2,     0.00, 2,     1.19, 2,    0.782, 2,    0.387, 2,    0.040, 2, -999.000, 9,   -999.0, 9,   -999.0, 9,  -999.00, 9,  -999.00, 9,    0.316, 2,    0.002,   1.8703, 2,   0.0094,     4.78, 2,     0.20,    8.012, 2,    0.040,   -999.0, 9,   -999.0,  -999.00, 9,    0.1110, 2,    0.0770, 2,    0.0350, 2,    0.0210, 2,    0.0210, 2,    0.0220, 2, -999, 9, -999, 9, -999, 9, -999, 9, -999, 9, -999, 9, -999, 9,  -999.00, 9,  -999.00, 9,  -999.00, 9,  -999.00, 9,   2.3535,  -999.00, 9, 2147,   41.0333,  -51.7898
316N200309, A20, 14, 1, 7, 7, 2, 20030927, 2103, 41.0243, -51.7923, 5110,  3601.50,   3601.5,   2.4969,  34.9105, 2,  34.9105, 2,    270.0, 2,    270.7, 2,    22.13, 2,    17.63, 2,     0.00, 2,     1.19, 2,    0.956, 2,    0.475, 2,    0.058, 2, -999.000, 9,   -999.0, 9,   -999.0, 9,  -999.00, 9,  -999.00, 9, -999.000, 9, -999.000, -999.0000, 9, -999.0000,  -999.00, 9,  -999.00, -999.000, 9, -999.000,   -999.0, 9,   -999.0,  -999.00, 9, -999.0000, 9, -999.0000, 9, -999.0000, 9, -999.0000, 9, -999.0000, 9, -999.0000, 9, -999, 9, -999, 9, -999, 9, -999, 9, -999, 9, -999, 9, -999, 9,  -999.00, 9,  -999.00, 9,  -999.00, 9,  -999.00, 9,   2.1935,  -999.00, 9, 2143,   41.0324,  -51.7899
316N200309, A20, 14, 1, 6, 6, 2, 20030927, 2103, 41.0243, -51.7923, 5110,  3800.80,   3800.8,   2.4007,  34.9043, 2,  34.9056, 2,    271.0, 2,    269.8, 2,    24.49, 2,    17.97, 2,     0.00, 2,     1.21, 2,    0.884, 2,    0.443, 2,    0.062, 2, -999.000, 9,   -999.0, 9,   -999.0, 9,  -999.00, 9,  -999.00, 9,    0.333, 2,    0.002,   1.8629, 2,   0.0093,     4.69, 2,     0.20,    8.027, 2,    0.040,   -999.0, 9,   -999.0,  -999.00, 9, -999.0000, 9, -999.0000, 9, -999.0000, 9, -999.0000, 9, -999.0000, 9, -999.0000, 9, -999, 9, -999, 9, -999, 9, -999, 9, -999, 9, -999, 9, -999, 9,  -999.00, 9,  -999.00, 9,  -999.00, 9,  -999.00, 9,   2.0777,  -999.00, 9, 2139,   41.0315,  -51.7903
316N200309, A20, 14, 1, 5, 5, 2, 20030927, 2103, 41.0243, -51.7923, 5110,  4002.10,   4002.1,   2.3449,  34.8998, 2,  34.8997, 2,    270.4, 2,    268.0, 2,    27.17, 2,    18.41, 2,     0.00, 2,     1.24, 2,    0.738, 2,    0.366, 2,    0.042, 2, -999.000, 9,   -999.0, 9,   -999.0, 9,  -999.00, 9,  -999.00, 9, -999.000, 9, -999.000, -999.0000, 9, -999.0000,  -999.00, 9,  -999.00, -999.000, 9, -999.000,   -999.0, 9,   -999.0,  -999.00, 9, -999.0000, 9, -999.0000, 9, -999.0000, 9, -999.0000, 9, -999.0000, 9, -999.0000, 9, -999, 9, -999, 9, -999, 9, -999, 9, -999, 9, -999, 9, -999, 9,  -999.00, 9,  -999.00, 9,  -999.00, 9,  -999.00, 9,   2.0007,  -999.00, 9, 2134,   41.0307,  -51.7906
316N200309, A20, 14, 1, 4, 4, 2, 20030927, 2103, 41.0243, -51.7923, 5110,  4249.10,   4249.1,   2.3025,  34.8945, 2,  34.8959, 2,    269.3, 2,    267.2, 2,    28.92, 2,    18.61, 2,     0.00, 2,     1.25, 2,    0.755, 2,    0.381, 2,    0.049, 2, -999.000, 9,   -999.0, 9,   -999.0, 9,  -999.00, 9,  -999.00, 9,    0.307, 2,    0.002,   1.9250, 2,   0.0096,     4.83, 2,     0.20,    8.171, 2,    0.041,   -999.0, 9,   -999.0,  -999.00, 9,    0.1140, 2,    0.0800, 2,    0.0370, 2,    0.0230, 2,    0.0200, 2,    0.0210, 2, -999, 9, -999, 9, -999, 9, -999, 9, -999, 9, -999, 9, -999, 9,  -999.00, 9,  -999.00, 9,  -999.00, 9,  -999.00, 9,   1.9311,  -999.00, 9, 2129,   41.0296,  -51.7909
316N200309, A20, 14, 1, 3, 3, 2, 20030927, 2103, 41.0243, -51.7923, 5110,  4499.50,   4499.5,   2.2797,  34.8901, 2,  34.8904, 2,    268.8, 2,    266.2, 2,    30.77, 2,    18.85, 2,     0.00, 2,     1.27, 2,    0.762, 2,    0.386, 2,    0.038, 2, -999.000, 9,   -999.0, 9,   -999.0, 9,  -999.00, 9,  -999.00, 9, -999.000, 9, -999.000, -999.0000, 9, -999.0000,  -999.00, 9,  -999.00, -999.000, 9, -999.000,   -999.0, 9,   -999.0,  -999.00, 9, -999.0000, 9, -999.0000, 9, -999.0000, 9, -999.0000, 9, -999.0000, 9, -999.0000, 9, -999, 9, -999, 9, -999, 9, -999, 9, -999, 9, -999, 9, -999, 9,  -999.00, 9,  -999.00, 9,  -999.00, 9,  -999.00, 9,   1.8793,  -999.00, 9, 2123,   41.0287,  -51.7919
316N200309, A20, 14, 1, 2, 2, 2, 20030927, 2103, 41.0243, -51.7923, 5110,  4799.40,   4799.4,   2.2698,  34.8864, 2,  34.8873, 2,    268.7, 2,    268.9, 2,    29.20, 2,    18.35, 2,     0.00, 2,     1.25, 2,    1.120, 6,    0.574, 6,    0.071, 2,    1.533, 2,   -999.0, 9,   -999.0, 9,  -999.00, 9,  -999.00, 9,    0.362, 2,    0.002,   1.8288, 2,   0.0091,     4.93, 2,     0.20,    7.839, 2,    0.039,   -999.0, 9,   -999.0,  -999.00, 9, -999.0000, 9, -999.0000, 9, -999.0000, 9, -999.0000, 9, -999.0000, 9, -999.0000, 9, -999, 9, -999, 9, -999, 9, -999, 9, -999, 9, -999, 9, -999, 9,  -999.00, 9,  -999.00, 9,  -999.00, 9,  -999.00, 9,   1.8332,  -999.00, 9, 2116,   41.0273,  -51.7916
316N200309, A20, 14, 1, 1, 1, 2, 20030927, 2103, 41.0243, -51.7923, 5110,  5210.90,   5210.9,   2.2437,  34.8764, 2,  34.8772, 2,    263.8, 2,    267.7, 2,    37.48, 2,    19.83, 2,     0.00, 2,     1.35, 2,    0.715, 2,    0.365, 2,    0.048, 2, -999.000, 9,   -999.0, 9,   -999.0, 9,  -999.00, 9,  -999.00, 9,    0.252, 2,    0.001,   1.8730, 2,   0.0094,     4.43, 2,     0.20,    8.019, 2,    0.040,   -999.0, 9,   -999.0,  -999.00, 9,    0.1230, 2,    0.0870, 2,    0.0420, 2,    0.0260, 2,    0.0180, 2,    0.0200, 2, -999, 9, -999, 9, -999, 9, -999, 9, -999, 9, -999, 9, -999, 9,  -999.00, 9,  -999.00, 9,  -999.00, 9,  -999.00, 9,   1.7562,  -999.00, 9, 2108,   41.0253,  -51.7918