BOTTLE,20220816CCHSIOAMB
EXPOCODE,SECT_ID,STNNBR,CASTNO,SAMPNO,BTLNBR,BTLNBR_FLAG_W,DATE,TIME,LATITUDE,LONGITUDE,DEPTH,CTDRAW,CTDPRS,CTDTMP,CTDSAL,CTDSAL_FLAG_W,SALNTY,SALNTY_FLAG_W,CTDOXY,CTDOXY_FLAG_W,OXYGEN,OXYGEN_FLAG_W,SILCAT,SILCAT_FLAG_W,NITRAT,NITRAT_FLAG_W,NITRIT,NITRIT_FLAG_W,PHSPHT,PHSPHT_FLAG_W,CFC-11,CFC-11_FLAG_W,CFC-12,CFC-12_FLAG_W,CFC113,CFC113_FLAG_W,CCL4,CCL4_FLAG_W,TCARBN,TCARBN_FLAG_W,ALKALI,ALKALI_FLAG_W,DOC,DOC_FLAG_W,TDN,TDN_FLAG_W,TRITUM,TRITUM_FLAG_W,TRITER,HELIUM,HELIUM_FLAG_W,HELIER,DELHE3,DELHE3_FLAG_W,DELHER,NEON,NEON_FLAG_W,NEONER,DELC14,DELC14_FLAG_W,C14ERR,DELC13,DELC13_FLAG_W,CDOM325,CDOM325_FLAG_W,CDOM340,CDOM340_FLAG_W,CDOM380,CDOM380_FLAG_W,CDOM412,CDOM412_FLAG_W,CDOMSL,CDOMSL_FLAG_W,CDOMSN,CDOMSN_FLAG_W,DCNS,DCNS_FLAG_W,ARABI,ARABI_FLAG_W,FUCO,FUCO_FLAG_W,GALA,GALA_FLAG_W,GLUC,GLUC_FLAG_W,MAN,MAN_FLAG_W,RHAM,RHAM_FLAG_W,BRDU,BRDU_FLAG_W,PEUK,PEUK_FLAG_W,PROC,PROC_FLAG_W,SYN,SYN_FLAG_W,THETA,BACT,BACT_FLAG_W,BTL_TIME,BTL_LAT,BTL_LON
,,,,,,,,,,,METERS,DBAR,DBAR,ITS-90,PSS-78,,PSS-78,,UMOL/KG,,UMOL/KG,,UMOL/KG,,UMOL/KG,,UMOL/KG,,UMOL/KG,,PMOL/KG,,PMOL/KG,,PMOL/KG,,PMOL/KG,,UMOL/KG,,UMOL/KG,,UMOL/KG,,UMOL/KG,,TU,,TU,NMOL/KG,,NMOL/KG,PERCNT,,PERCNT,NMOL/KG,,NMOL/KG,/MILLE,,/MILLE,/MILLE,,1/M,,1/M,,1/M,,1/M,,1/NM,,1/NM,,NMOL/KG,,NMOL/KG,,NMOL/KG,,NMOL/KG,,NMOL/KG,,NMOL/KG,,NMOL/KG,,PMOL/L/H,,E6/L,,E7/L,,E6/L,,DEG C,E8/L,,,,
316N200309, A20, 60, 1, 36, 36, 2, 20031014, 1502, 10.8493, -52.3363, 4928,     9.20,      9.2,  29.1553,  35.3372, 2,  35.3376, 2,    187.0, 2,    194.3, 2,     2.31, 2,     0.17, 2,     0.00, 2,     0.02, 2,    1.570, 2,    0.991, 2,    0.164, 2, -999.000, 9,   1960.9, 2,   2316.1, 2,    73.00, 2,     4.40, 2,    0.564, 2,    0.003,   1.7189, 2,   0.0086,    -1.32, 2,     0.20,    6.655, 2,    0.033,   -999.0, 9,   -999.0,  -999.00, 9,    0.0900, 2,    0.0610, 2,    0.0250, 2,    0.0190, 2,    0.0240, 2,    0.0250, 2, 3091, 4, 204, 2, 469, 2, 772, 2, 325, 2, 996, 2, 326, 2,     0.80, 2,     0.68, 2,    16.63, 2,     7.99, 2,  29.1530,     5.99, 2, 1703,   10.8671,  -52.3276
316N200309, A20, 60, 1, 35, 35, 2, 20031014, 1502, 10.8493, -52.3363, 4928,    24.40,     24.4,  29.4028,  35.8229, 2,  35.8860, 2,    188.7, 2,    196.9, 2,     1.37, 2,     0.06, 2,     0.00, 2,     0.01, 2,    1.580, 2,    1.006, 2, -999.000, 9, -999.000, 9,   1987.5, 2,   2353.8, 2,    60.80, 4,     3.80, 2, -999.000, 9, -999.000, -999.0000, 9, -999.0000,  -999.00, 9,  -999.00, -999.000, 9, -999.000,   -999.0, 9,   -999.0,  -999.00, 9,    0.1480, 2,    0.1090, 2,    0.0540, 2,    0.0370, 2,    0.0150, 2,    0.0170, 2, -999, 9, -999, 9, -999, 9, -999, 9, -999, 9, -999, 9, -999, 9,     1.31, 2,     0.88, 2,    16.65, 2,     4.26, 2,  29.3968,     5.04, 2, 1702,   10.8668,  -52.3277
316N200309, A20, 60, 1, 34, 34, 2, 20031014, 1502, 10.8493, -52.3363, 4928,    50.30,     50.3,  27.2175,  36.6381, 2, -999.0000, 9,    203.1, 2,    210.0, 2,     1.15, 2,     0.10, 2,     0.00, 2,     0.02, 2,    1.727, 2,    1.079, 2,    0.146, 2, -999.000, 9,   2028.4, 2,   2399.0, 2,    80.70, 3,     5.10, 2,    0.575, 2,    0.004,   1.7157, 2,   0.0086,    -1.00, 2,     0.20,    6.767, 2,    0.034,   -999.0, 9,   -999.0,  -999.00, 9,    0.1320, 2,    0.0900, 2,    0.0410, 2,    0.0300, 2,    0.0180, 2,    0.0200, 2, 2291, 4, 100, 2, 317, 2, 494, 2, 575, 2, 604, 2, 200, 2,     0.94, 2,     0.79, 2,    17.95, 2,     2.61, 2,  27.2058,     4.61, 2, 1701,   10.8666,  -52.3279
316N200309, A20, 60, 1, 33, 33, 2, 20031014, 1502, 10.8493, -52.3363, 4928,    74.90,     74.9,  25.5195,  36.8797, 2,  36.8800, 2,    190.0, 2,    193.6, 2,     0.62, 2,     0.09, 2,     0.01, 2,     0.02, 2,    1.827, 2,    1.125, 2,    0.143, 2, -999.000, 9,   2067.9, 2,   2412.3, 2,    66.20, 2,     4.70, 2, -999.000, 9, -999.000, -999.0000, 9, -999.0000,  -999.00, 9,  -999.00, -999.000, 9, -999.000,   -999.0, 9,   -999.0,  -999.00, 9,    0.1780, 2,    0.1260, 2,    0.0630, 2,    0.0460, 2,    0.0150, 2,    0.0170, 2, 1069, 4, 65, 2, 164, 2, 251, 2, 224, 2, 277, 2, 90, 2,     0.41, 2,     2.14, 2,    12.65, 2,     1.58, 2,  25.5029,     2.92, 2, 1659,   10.8664,  -52.3281
316N200309, A20, 60, 1, 32, 32, 2, 20031014, 1502, 10.8493, -52.3363, 4928,    99.50,     99.5,  21.9478,  36.8356, 2,  36.8191, 2,    158.6, 2,    154.6, 2,     1.34, 2,     4.48, 2,     0.04, 2,     0.26, 2,    1.962, 2,    1.182, 2,    0.119, 2, -999.000, 9,   2135.8, 2,   2405.3, 2,    59.10, 2,     8.30, 2,    0.708, 2,    0.004,   1.7265, 2,   0.0086,    -0.33, 2,     0.20,    6.930, 2,    0.035,   -999.0, 9,   -999.0,  -999.00, 9,    0.1840, 2,    0.1370, 2,    0.0750, 2,    0.0610, 2,    0.0120, 2,    0.0140, 2, 831, 4, 53, 2, 128, 2, 168, 2, 213, 2, 182, 2, 89, 2,     0.28, 2,     0.88, 2,     2.25, 2,     0.01, 2,  21.9280,     1.84, 2, 1658,   10.8662,  -52.3282
316N200309, A20, 60, 1, 31, 31, 2, 20031014, 1502, 10.8493, -52.3363, 4928,   124.70,    124.7,  17.8075,  36.2835, 2,  36.2873, 2,    122.1, 2,    125.0, 2,     3.72, 2,    13.34, 2,     0.02, 2,     0.78, 2,    1.979, 2,    1.128, 2,    0.038, 2, -999.000, 9,   2168.7, 2,   2370.8, 2,    46.30, 2,     8.80, 4, -999.000, 9, -999.000, -999.0000, 9, -999.0000,  -999.00, 9,  -999.00, -999.000, 9, -999.000,   -999.0, 9,   -999.0,  -999.00, 9,    0.1530, 2,    0.1120, 2,    0.0600, 2,    0.0530, 2,    0.0120, 2,    0.0140, 2, -999, 9, -999, 9, -999, 9, -999, 9, -999, 9, -999, 9, -999, 9,     0.03, 2,     0.30, 2,     0.47, 2,     0.00, 2,  17.7861,     1.38, 2, 1656,   10.8660,  -52.3284
316N200309, A20, 60, 1, 30, 30, 2, 20031014, 1502, 10.8493, -52.3363, 4928,   174.40,    174.4,  13.6470,  35.5907, 2,  35.5938, 2,    101.5, 2,    107.7, 2,     7.75, 2,    21.51, 2,     0.01, 2,     1.33, 2,    1.643, 2,    0.913, 2,    0.034, 2, -999.000, 9,   2189.6, 2,   2333.5, 2,    41.40, 2,    17.80, 4,    0.450, 2,    0.003,   1.6878, 2,   0.0084,     2.30, 2,     0.20,    7.032, 2,    0.035,   -999.0, 9,   -999.0,  -999.00, 9,    0.1910, 2,    0.1410, 2,    0.0810, 2,    0.0650, 3,    0.0120, 3,    0.0130, 3, 404, 4, 52, 2, 56, 2, 88, 2, 72, 2, 92, 2, 45, 2,     0.02, 2,     0.01, 2,     0.00, 2,     0.02, 2,  13.6221,     1.14, 2, 1654,   10.8657,  -52.3286
316N200309, A20, 60, 1, 29, 29, 2, 20031014, 1502, 10.8493, -52.3363, 4928,   225.10,    225.1,  11.5876,  35.2706, 2,  35.2702, 2,     94.9, 2,     96.2, 2,    10.34, 2,    25.96, 2,     0.01, 2,     1.62, 2,    1.331, 2,    0.742, 2,    0.019, 2, -999.000, 9,   2203.0, 2,   2318.5, 2,    42.10, 2,    31.50, 3,    0.349, 2,    0.003,   1.8525, 2,   0.0093,     2.94, 2,     0.20,    7.642, 2,    0.038,   -999.0, 9,   -999.0,  -999.00, 9,    0.1750, 2,    0.1280, 2,    0.0730, 2,    0.0600, 3,    0.0120, 3,    0.0130, 3, -999, 9, -999, 9, -999, 9, -999, 9, -999, 9, -999, 9, -999, 9,     0.05, 2,  -999.00, 9,  -999.00, 9,  -999.00, 9,  11.5587,  -999.00, 9, 1652,   10.8654,  -52.3288
316N200309, A20, 60, 1, 28, 28, 2, 20031014, 1502, 10.8493, -52.3363, 4928,   274.80,    274.8,  10.8751,  35.1603, 2,  35.1581, 2,     95.0, 2,     95.9, 2,    11.46, 2,    27.26, 2,     0.01, 2,     1.71, 2,    1.166, 2,    0.633, 2,    0.020, 2, -999.000, 9,   2206.1, 2,   2313.1, 2,    44.80, 2,    30.40, 2, -999.000, 9, -999.000,   1.8301, 2,   0.0092,     2.65, 2,     0.20,    7.552, 2,    0.038,   -999.0, 9,   -999.0,  -999.00, 9,    0.1640, 2,    0.1200, 2,    0.0690, 2,    0.0570, 3,    0.0120, 3,    0.0130, 3, 432, 4, 84, 2, 53, 2, 91, 2, 64, 2, 93, 2, 47, 2,  -999.00, 9,  -999.00, 9,  -999.00, 9,  -999.00, 9,  10.8413,  -999.00, 9, 1651,   10.8651,  -52.3290
316N200309, A20, 60, 1, 27, 27, 2, 20031014, 1502, 10.8493, -52.3363, 4928,   349.60,    349.6,   9.8113,  35.0061, 2,  35.0089, 2,     93.1, 2,     96.7, 2,    13.53, 2,    29.36, 2,     0.01, 2,     1.85, 2,    0.907, 2,    0.483, 2,    0.007, 2, -999.000, 9,   2211.5, 2,   2306.6, 2,    44.40, 2,  -999.00, 9, -999.000, 9, -999.000, -999.0000, 9, -999.0000,  -999.00, 9,  -999.00, -999.000, 9, -999.000,   -999.0, 9,   -999.0,  -999.00, 9,    0.1540, 2,    0.1130, 2,    0.0670, 2,    0.0600, 3,    0.0100, 3,    0.0120, 3, -999, 9, -999, 9, -999, 9, -999, 9, -999, 9, -999, 9, -999, 9,  -999.00, 9,  -999.00, 9,  -999.00, 9,  -999.00, 9,   9.7709,  -999.00, 9, 1648,   10.8648,  -52.3292
316N200309, A20, 60, 1, 26, 26, 2, 20031014, 1502, 10.8493, -52.3363, 4928,   430.50,    430.5,   9.0802,  34.9297, 2,  34.9282, 2,    108.4, 2,    109.5, 2,    15.08, 2,    29.49, 2,     0.01, 2,     1.88, 2,    0.857, 2,    0.453, 2,    0.010, 2, -999.000, 9,   2207.7, 2,   2305.3, 2,    46.60, 2,  -999.00, 9,    0.220, 2,    0.002,   1.8271, 2,   0.0091,     2.76, 2,     0.20,    7.603, 2,    0.038,   -999.0, 9,   -999.0,  -999.00, 9,    0.1520, 2,    0.1100, 2,    0.0640, 2,    0.0540, 3,    0.0110, 3,    0.0130, 3, -999, 9, -999, 9, -999, 9, -999, 9, -999, 9, -999, 9, -999, 9,  -999.00, 9,  -999.00, 9,  -999.00, 9,  -999.00, 9,   9.0325,  -999.00, 9, 1646,   10.8645,  -52.3295
316N200309, A20, 60, 1, 25, 25, 2, 20031014, 1502, 10.8493, -52.3363, 4928,   500.70,    500.7,   8.4094,  34.8693, 2,  34.8672, 2,     92.0, 2,     95.2, 2,    17.35, 2,    32.49, 2,     0.01, 2,     2.05, 2,    0.482, 2,    0.252, 2,    0.004, 2, -999.000, 9,   2220.2, 2,   2302.2, 2,    44.50, 2,  -999.00, 9,    0.150, 2,    0.002,   1.8283, 2,   0.0091,     2.95, 2,     0.20,    7.654, 2,    0.038,   -999.0, 9,   -999.0,  -999.00, 9,    0.1540, 2,    0.1110, 2,    0.0640, 2,    0.0530, 2,    0.0120, 2,    0.0130, 2, 542, 4, 23, 2, 40, 2, 61, 2, 329, 4, 62, 2, 27, 2,  -999.00, 9,  -999.00, 9,  -999.00, 9,  -999.00, 9,   8.3563,  -999.00, 9, 1644,   10.8642,  -52.3297
316N200309, A20, 60, 1, 24, 24, 2, 20031014, 1502, 10.8493, -52.3363, 4928,   651.60,    651.6,   6.8422,  34.7193, 2,  34.7160, 2,    117.0, 2,    114.3, 2,    22.00, 2,    33.67, 2,     0.00, 2,     2.19, 2,    0.249, 2,    0.142, 2,    0.011, 2, -999.000, 9,   2219.8, 2,   2300.8, 2,    43.20, 2,  -999.00, 9,    0.075, 2,    0.001,   1.8333, 2,   0.0092,     2.50, 2,     0.20,    7.721, 2,    0.039,   -999.0, 9,   -999.0,  -999.00, 9,    0.1450, 2,    0.1030, 2,    0.0590, 2,    0.0530, 3,    0.0110, 3,    0.0130, 3, -999, 9, -999, 9, -999, 9, -999, 9, -999, 9, -999, 9, -999, 9,  -999.00, 9,  -999.00, 9,  -999.00, 9,  -999.00, 9,   6.7802,  -999.00, 9, 1640,   10.8636,  -52.3301
316N200309, A20, 60, 1, 23, 23, 2, 20031014, 1502, 10.8493, -52.3363, 4928,   825.80,    825.8,   5.6969,  34.6831, 2,  34.6840, 2,    129.8, 2,    126.2, 2,    26.24, 2,    33.98, 2,     0.00, 2,     2.25, 2,    0.065, 2,    0.032, 2,    0.004, 2, -999.000, 9,   2223.5, 2,   2303.0, 2,    44.90, 2,  -999.00, 9,    0.029, 2,    0.001,   1.8321, 2,   0.0092,     1.42, 2,     0.20,    7.754, 2,    0.039,   -999.0, 9,   -999.0,  -999.00, 9,    0.1400, 2,    0.0980, 2,    0.0550, 2,    0.0440, 2,    0.0120, 2,    0.0140, 2, -999, 9, -999, 9, -999, 9, -999, 9, -999, 9, -999, 9, -999, 9,  -999.00, 9,  -999.00, 9,  -999.00, 9,  -999.00, 9,   5.6245,  -999.00, 9, 1636,   10.8630,  -52.3304
316N200309, A20, 60, 1, 22, 22, 2, 20031014, 1502, 10.8493, -52.3363, 4928,   978.60,    978.6,   5.4049,  34.7749, 2,  34.7744, 2,    141.8, 2,    137.9, 2,    25.82, 2,    32.12, 2,     0.00, 2,     2.13, 2,    0.021, 2,    0.009, 2,    0.001, 2, -999.000, 9,   2220.1, 2,   2308.3, 2,    45.00, 2,  -999.00, 9,    0.029, 2,    0.001,   1.8218, 2,   0.0091,     1.77, 2,     0.20,    7.733, 2,    0.039,   -999.0, 9,   -999.0,  -999.00, 9,    0.1470, 2,    0.1040, 2,    0.0570, 2,    0.0490, 2,    0.0110, 3,    0.0140, 3, 354, 4, 58, 4, 29, 2, 60, 2, 130, 2, 45, 2, 33, 2,  -999.00, 9,  -999.00, 9,  -999.00, 9,  -999.00, 9,   5.3201,  -999.00, 9, 1632,   10.8624,  -52.3306
316N200309, A20, 60, 1, 21, 21, 2, 20031014, 1502, 10.8493, -52.3363, 4928,  1126.60,   1126.6,   5.2033,  34.9048, 2,  34.9042, 2,    172.2, 2,    176.8, 2,    22.08, 2,    26.77, 2,     0.00, 2,     1.79, 2,    0.136, 2,    0.066, 2,    0.006, 2, -999.000, 9,   2200.2, 2,   2313.9, 2,    40.20, 2,  -999.00, 9,    0.110, 2,    0.002,   1.8416, 2,   0.0092,     2.50, 2,     0.20,    7.792, 2,    0.039,   -999.0, 9,   -999.0,  -999.00, 9,    0.1320, 2,    0.0920, 2,    0.0470, 2,    0.0430, 3,    0.0110, 3,    0.0150, 3, -999, 9, -999, 9, -999, 9, -999, 9, -999, 9, -999, 9, -999, 9,  -999.00, 9,  -999.00, 9,  -999.00, 9,  -999.00, 9,   5.1059,  -999.00, 9, 1628,   10.8617,  -52.3308
316N200309, A20, 60, 1, 20, 20, 2, 20031014, 1502, 10.8493, -52.3363, 4928,  1274.00,   1274.0,   4.9438,  34.9825, 2,  34.9825, 2,    206.2, 2,    206.8, 2,    18.45, 2,    22.93, 2,     0.00, 2,     1.53, 2,    0.281, 2,    0.145, 2,    0.010, 2, -999.000, 9,   2183.3, 2,   2323.4, 2,  -999.00, 9,  -999.00, 9, -999.000, 9, -999.000,   1.8393, 2,   0.0092,     4.23, 2,     0.20,    7.832, 2,    0.039,   -999.0, 9,   -999.0,  -999.00, 9, -999.0000, 9, -999.0000, 9, -999.0000, 9, -999.0000, 9, -999.0000, 9, -999.0000, 9, -999, 9, -999, 9, -999, 9, -999, 9, -999, 9, -999, 9, -999, 9,  -999.00, 9,  -999.00, 9,  -999.00, 9,  -999.00, 9,   4.8347,  -999.00, 9, 1625,   10.8610,  -52.3314
316N200309, A20, 60, 1, 19, 19, 2, 20031014, 1502, 10.8493, -52.3363, 4928,  1398.50,   1398.5,   4.6709,  35.0039, 2,  35.0033, 2,    225.4, 2,    226.3, 2,    16.26, 2,    20.89, 2,     0.00, 2,     1.38, 2,    0.423, 2,    0.210, 2,    0.013, 2, -999.000, 9,   2174.7, 2,   2314.7, 2,  -999.00, 9,  -999.00, 9, -999.000, 9, -999.000, -999.0000, 9, -999.0000,  -999.00, 9,  -999.00, -999.000, 9, -999.000,   -999.0, 9,   -999.0,  -999.00, 9, -999.0000, 9, -999.0000, 9, -999.0000, 9, -999.0000, 9, -999.0000, 9, -999.0000, 9, -999, 9, -999, 9, -999, 9, -999, 9, -999, 9, -999, 9, -999, 9,  -999.00, 9,  -999.00, 9,  -999.00, 9,  -999.00, 9,   4.5527,  -999.00, 9, 1622,   10.8603,  -52.3320
316N200309, A20, 60, 1, 18, 18, 2, 20031014, 1502, 10.8493, -52.3363, 4928,  1499.10,   1499.1,   4.4322,  35.0067, 2,  35.0024, 2,    239.1, 2,    241.3, 2,    14.60, 2,    19.41, 2,     0.00, 2,     1.28, 2,    0.659, 2,    0.336, 2,    0.020, 2, -999.000, 9,   2168.1, 2,   2312.6, 2,    69.60, 4,  -999.00, 9,    0.330, 2,    0.003,   1.8440, 2,   0.0092,     5.63, 2,     0.20,    7.871, 2,    0.039,   -999.0, 9,   -999.0,  -999.00, 9,    0.1240, 2,    0.0860, 2,    0.0410, 2,    0.0320, 2,    0.0160, 2,    0.0180, 2, -999, 9, -999, 9, -999, 9, -999, 9, -999, 9, -999, 9, -999, 9,  -999.00, 9,  -999.00, 9,  -999.00, 9,  -999.00, 9,   4.3071,  -999.00, 9, 1619,   10.8598,  -52.3325
316N200309, A20, 60, 1, 17, 17, 2, 20031014, 1502, 10.8493, -52.3363, 4928,  1625.30,   1625.3,   4.1278,  34.9948, 2,  34.9935, 2,    250.2, 2,    252.7, 2,    13.87, 2,    18.57, 2,     0.00, 2,     1.22, 2,    0.777, 6,    0.398, 6,    0.030, 2,    1.307, 2,   2164.0, 2,   -999.0, 1,  -999.00, 9,  -999.00, 9, -999.000, 9, -999.000, -999.0000, 9, -999.0000,  -999.00, 9,  -999.00, -999.000, 9, -999.000,   -999.0, 9,   -999.0,  -999.00, 9, -999.0000, 9, -999.0000, 9, -999.0000, 9, -999.0000, 9, -999.0000, 9, -999.0000, 9, -999, 9, -999, 9, -999, 9, -999, 9, -999, 9, -999, 9, -999, 9,  -999.00, 9,  -999.00, 9,  -999.00, 9,  -999.00, 9,   3.9945,  -999.00, 9, 1616,   10.8591,  -52.3329
316N200309, A20, 60, 1, 16, 16, 2, 20031014, 1502, 10.8493, -52.3363, 4928,  1775.10,   1775.1,   3.8436,  34.9823, 2,  34.9815, 2,    257.1, 2,    258.0, 2,    14.58, 2,    18.19, 2,     0.00, 2,     1.20, 2,    0.717, 6,    0.361, 6,    0.030, 2,    1.234, 2,   2161.2, 2,   2311.4, 2,    41.70, 2,  -999.00, 9,    0.347, 2,    0.003,   1.8507, 2,   0.0093,     5.55, 2,     0.20,    7.871, 2,    0.039,   -999.0, 9,   -999.0,  -999.00, 9,    0.1340, 2,    0.0930, 2,    0.0460, 2,    0.0380, 2,    0.0130, 3,    0.0170, 3, -999, 9, -999, 9, -999, 9, -999, 9, -999, 9, -999, 9, -999, 9,  -999.00, 9,  -999.00, 9,  -999.00, 9,  -999.00, 9,   3.6998,  -999.00, 9, 1613,   10.8586,  -52.3332
316N200309, A20, 60, 1, 15, 15, 2, 20031014, 1502, 10.8493, -52.3363, 4928,  1925.50,   1925.5,   3.6284,  34.9748, 2,  34.9736, 2,    259.0, 2,    259.3, 2,    16.12, 2,    18.22, 2,     0.00, 2,     1.21, 2,    0.583, 2,    0.295, 2,    0.021, 2, -999.000, 9,   2161.0, 2,   2312.8, 2,    43.30, 2,  -999.00, 9,    0.256, 2,    0.003,   1.8503, 2,   0.0093,     4.30, 2,     0.20,    7.852, 2,    0.039,   -999.0, 9,   -999.0,  -999.00, 9,    0.1250, 2,    0.0870, 2,    0.0410, 2,    0.0310, 2,    0.0160, 2,    0.0190, 2, -999, 9, -999, 9, -999, 9, -999, 9, -999, 9, -999, 9, -999, 9,  -999.00, 9,  -999.00, 9,  -999.00, 9,  -999.00, 9,   3.4735,  -999.00, 9, 1609,   10.8580,  -52.3334
316N200309, A20, 60, 1, 14, 14, 2, 20031014, 1502, 10.8493, -52.3363, 4928,  2124.90,   2124.9,   3.4344,  34.9681, 2,  34.9683, 2,    259.0, 2,    259.7, 2,    17.88, 2,    18.30, 2,     0.00, 2,     1.22, 2,    0.401, 2,    0.205, 2,    0.012, 2, -999.000, 9,   2161.3, 2,   2313.8, 2,    44.10, 2,  -999.00, 9,    0.216, 2,    0.003,   1.8597, 2,   0.0093,     3.27, 2,     0.20,    7.957, 2,    0.040,   -999.0, 9,   -999.0,  -999.00, 9,    0.1190, 2,    0.0840, 2,    0.0390, 2,    0.0320, 2,    0.0150, 2,    0.0180, 2, -999, 9, -999, 9, -999, 9, -999, 9, -999, 9, -999, 9, -999, 9,  -999.00, 9,  -999.00, 9,  -999.00, 9,  -999.00, 9,   3.2634,  -999.00, 9, 1605,   10.8574,  -52.3337
316N200309, A20, 60, 1, 13, 13, 2, 20031014, 1502, 10.8493, -52.3363, 4928,  2374.80,   2374.8,   3.2264,  34.9595, 2,  34.9589, 2,    258.1, 2,    258.7, 2,    20.56, 2,    18.71, 2,     0.00, 2,     1.25, 2,    0.216, 2,    0.114, 2,    0.014, 2, -999.000, 9,   2164.2, 2,   2317.3, 2,  -999.00, 9,  -999.00, 9, -999.000, 9, -999.000, -999.0000, 9, -999.0000,  -999.00, 9,  -999.00, -999.000, 9, -999.000,   -999.0, 9,   -999.0,  -999.00, 9, -999.0000, 9, -999.0000, 9, -999.0000, 9, -999.0000, 9, -999.0000, 9, -999.0000, 9, -999, 9, -999, 9, -999, 9, -999, 9, -999, 9, -999, 9, -999, 9,  -999.00, 9,  -999.00, 9,  -999.00, 9,  -999.00, 9,   3.0346,  -999.00, 9, 1600,   10.8567,  -52.3340
316N200309, A20, 60, 1, 12, 12, 2, 20031014, 1502, 10.8493, -52.3363, 4928,  2624.60,   2624.6,   3.0455,  34.9487, 2,  34.9467, 2,    258.5, 2,    259.6, 2,    22.42, 2,    18.84, 2,     0.00, 2,     1.26, 2,    0.232, 2,    0.119, 2,    0.008, 2, -999.000, 9,   2166.6, 2,   2319.0, 2,    42.40, 2,  -999.00, 9,    0.139, 2,    0.002,   1.8705, 2,   0.0094,     3.32, 2,     0.20,    8.010, 2,    0.040,   -999.0, 9,   -999.0,  -999.00, 9,    0.1270, 2,    0.0900, 2,    0.0440, 2,    0.0330, 2,    0.0150, 2,    0.0180, 2, -999, 9, -999, 9, -999, 9, -999, 9, -999, 9, -999, 9, -999, 9,  -999.00, 9,  -999.00, 9,  -999.00, 9,  -999.00, 9,   2.8323,  -999.00, 9, 1555,   10.8559,  -52.3343
316N200309, A20, 60, 1, 11, 11, 2, 20031014, 1502, 10.8493, -52.3363, 4928,  2875.00,   2875.0,   2.8992,  34.9390, 2,  34.9382, 2,    257.4, 2,    258.3, 2,    25.00, 2,    19.10, 2,     0.00, 2,     1.28, 2,    0.211, 2,    0.098, 2,    0.013, 2, -999.000, 9,   2169.4, 2,   2321.7, 2,  -999.00, 9,  -999.00, 9, -999.000, 9, -999.000, -999.0000, 9, -999.0000,  -999.00, 9,  -999.00, -999.000, 9, -999.000,   -999.0, 9,   -999.0,  -999.00, 9, -999.0000, 9, -999.0000, 9, -999.0000, 9, -999.0000, 9, -999.0000, 9, -999.0000, 9, -999, 9, -999, 9, -999, 9, -999, 9, -999, 9, -999, 9, -999, 9,  -999.00, 9,  -999.00, 9,  -999.00, 9,  -999.00, 9,   2.6636,  -999.00, 9, 1550,   10.8550,  -52.3347
316N200309, A20, 60, 1, 10, 10, 2, 20031014, 1502, 10.8493, -52.3363, 4928,  3099.00,   3099.0,   2.7753,  34.9302, 2,  34.9311, 2,    256.7, 2,    257.2, 2,    28.09, 2,    19.47, 2,     0.00, 2,     1.31, 2,    0.163, 2,    0.091, 2,    0.011, 2, -999.000, 9,   2172.2, 2,   2326.9, 2,    41.20, 2,  -999.00, 9,    0.104, 2,    0.002,   1.8689, 2,   0.0093,     3.44, 2,     0.20,    7.990, 2,    0.040,   -999.0, 9,   -999.0,  -999.00, 9,    0.1270, 2,    0.0890, 2,    0.0430, 2,    0.0370, 2,    0.0130, 3,    0.0160, 3, -999, 9, -999, 9, -999, 9, -999, 9, -999, 9, -999, 9, -999, 9,  -999.00, 9,  -999.00, 9,  -999.00, 9,  -999.00, 9,   2.5191,  -999.00, 9, 1546,   10.8542,  -52.3351