BOTTLE,20220816CCHSIOAMB
EXPOCODE,SECT_ID,STNNBR,CASTNO,SAMPNO,BTLNBR,BTLNBR_FLAG_W,DATE,TIME,LATITUDE,LONGITUDE,DEPTH,CTDRAW,CTDPRS,CTDTMP,CTDSAL,CTDSAL_FLAG_W,SALNTY,SALNTY_FLAG_W,CTDOXY,CTDOXY_FLAG_W,OXYGEN,OXYGEN_FLAG_W,SILCAT,SILCAT_FLAG_W,NITRAT,NITRAT_FLAG_W,NITRIT,NITRIT_FLAG_W,PHSPHT,PHSPHT_FLAG_W,CFC-11,CFC-11_FLAG_W,CFC-12,CFC-12_FLAG_W,CFC113,CFC113_FLAG_W,CCL4,CCL4_FLAG_W,TCARBN,TCARBN_FLAG_W,ALKALI,ALKALI_FLAG_W,DOC,DOC_FLAG_W,TDN,TDN_FLAG_W,TRITUM,TRITUM_FLAG_W,TRITER,HELIUM,HELIUM_FLAG_W,HELIER,DELHE3,DELHE3_FLAG_W,DELHER,NEON,NEON_FLAG_W,NEONER,DELC14,DELC14_FLAG_W,C14ERR,DELC13,DELC13_FLAG_W,CDOM325,CDOM325_FLAG_W,CDOM340,CDOM340_FLAG_W,CDOM380,CDOM380_FLAG_W,CDOM412,CDOM412_FLAG_W,CDOMSL,CDOMSL_FLAG_W,CDOMSN,CDOMSN_FLAG_W,DCNS,DCNS_FLAG_W,ARABI,ARABI_FLAG_W,FUCO,FUCO_FLAG_W,GALA,GALA_FLAG_W,GLUC,GLUC_FLAG_W,MAN,MAN_FLAG_W,RHAM,RHAM_FLAG_W,BRDU,BRDU_FLAG_W,PEUK,PEUK_FLAG_W,PROC,PROC_FLAG_W,SYN,SYN_FLAG_W,THETA,BACT,BACT_FLAG_W,BTL_TIME,BTL_LAT,BTL_LON
,,,,,,,,,,,METERS,DBAR,DBAR,ITS-90,PSS-78,,PSS-78,,UMOL/KG,,UMOL/KG,,UMOL/KG,,UMOL/KG,,UMOL/KG,,UMOL/KG,,PMOL/KG,,PMOL/KG,,PMOL/KG,,PMOL/KG,,UMOL/KG,,UMOL/KG,,UMOL/KG,,UMOL/KG,,TU,,TU,NMOL/KG,,NMOL/KG,PERCNT,,PERCNT,NMOL/KG,,NMOL/KG,/MILLE,,/MILLE,/MILLE,,1/M,,1/M,,1/M,,1/M,,1/NM,,1/NM,,NMOL/KG,,NMOL/KG,,NMOL/KG,,NMOL/KG,,NMOL/KG,,NMOL/KG,,NMOL/KG,,PMOL/L/H,,E6/L,,E7/L,,E6/L,,DEG C,E8/L,,,,
316N200309, A20, 50, 1, 36, 36, 2, 20031011, 1351, 17.5530, -52.3368, 5673,     3.20,      3.2,  28.6815,  36.8051, 2,  36.8036, 2,    191.8, 2,    196.6, 2,     0.60, 2,     0.09, 2,     0.00, 2,     0.02, 2,    1.647, 2,    1.031, 2,    0.146, 2, -999.000, 9,   2032.5, 2,   2409.2, 2,    81.40, 2,     6.50, 2, -999.000, 9, -999.000, -999.0000, 9, -999.0000,  -999.00, 9,  -999.00, -999.000, 9, -999.000,   -999.0, 9,   -999.0,  -999.00, 9,    0.0410, 2,    0.0250, 2,    0.0040, 2,    0.0030, 2,    0.0320, 2,    0.0320, 2, 4097, 4, 310, 2, 563, 2, 908, 2, 578, 2, 1330, 4, 408, 2,     0.07, 2,     0.75, 2,     6.05, 2,     3.68, 2,  28.6808,    10.05, 2, 1608,   17.5753,  -52.3397
316N200309, A20, 50, 1, 35, 35, 2, 20031011, 1351, 17.5530, -52.3368, 5673,    25.80,     25.8,  28.4976,  36.8052, 2,  36.8048, 2,    192.3, 2,    195.5, 2,     0.58, 2,     0.09, 2,     0.00, 2,     0.01, 2,    1.605, 2,    1.014, 2,    0.123, 2, -999.000, 9,   2035.4, 2,   2408.5, 2,    82.80, 2,     5.00, 2, -999.000, 9, -999.000, -999.0000, 9, -999.0000,  -999.00, 9,  -999.00, -999.000, 9, -999.000,   -999.0, 9,   -999.0,  -999.00, 9,    0.0400, 2,    0.0240, 2,    0.0040, 2,    0.0030, 2,    0.0350, 2,    0.0340, 2, 2770, 4, 140, 2, 399, 2, 682, 2, 427, 2, 865, 2, 257, 2,     0.22, 2,     0.34, 2,     4.90, 2,     1.25, 2,  28.4914,     7.80, 2, 1607,   17.5751,  -52.3397
316N200309, A20, 50, 1, 34, 34, 2, 20031011, 1351, 17.5530, -52.3368, 5673,    49.50,     49.5,  27.1433,  37.2349, 2,  37.2330, 2,    205.2, 2,    210.4, 2,     0.57, 2,     0.08, 2,     0.00, 2,     0.01, 2,    1.785, 6,    1.105, 6,    0.143, 6, -999.000, 9,   2060.4, 2,   2435.5, 2,    82.00, 2,  -999.00, 9, -999.000, 9, -999.000, -999.0000, 9, -999.0000,  -999.00, 9,  -999.00, -999.000, 9, -999.000,   -999.0, 9,   -999.0,  -999.00, 9,    0.0910, 2,    0.0580, 2,    0.0220, 2,    0.0140, 2,    0.0280, 2,    0.0290, 2, 2508, 4, 138, 2, 337, 2, 663, 2, 439, 2, 710, 2, 222, 2,     0.40, 2,     1.18, 2,     9.59, 2,     0.14, 2,  27.1318,    10.20, 2, 1606,   17.5748,  -52.3397
316N200309, A20, 50, 1, 33, 33, 2, 20031011, 1351, 17.5530, -52.3368, 5673,   100.30,    100.3,  24.3496,  37.3274, 2,  37.3242, 2,    196.9, 2,    201.3, 2,     0.35, 2,     0.07, 2,     0.00, 2,     0.01, 2,    1.974, 2,    1.222, 2,    0.170, 2, -999.000, 9,   2093.5, 2,   2439.4, 2,    66.40, 2,     5.20, 2, -999.000, 9, -999.000, -999.0000, 9, -999.0000,  -999.00, 9,  -999.00, -999.000, 9, -999.000,   -999.0, 9,   -999.0,  -999.00, 9,    0.1170, 2,    0.0810, 2,    0.0340, 2,    0.0250, 2,    0.0220, 2,    0.0230, 2, 1454, 4, 85, 2, 221, 2, 292, 2, 354, 2, 346, 2, 156, 2,     0.10, 2,     1.33, 2,     9.27, 2,     0.00, 2,  24.3281,     5.60, 2, 1604,   17.5746,  -52.3398
316N200309, A20, 50, 1, 32, 32, 2, 20031011, 1351, 17.5530, -52.3368, 5673,   150.40,    150.4,  22.0634,  37.1643, 2,  37.1658, 2,    185.3, 2,    186.3, 2,     0.33, 2,     0.78, 2,     0.04, 2,     0.04, 2,    2.145, 2,    1.279, 2,    0.119, 2, -999.000, 9,   2116.9, 2,   2426.8, 2,    60.20, 2,     5.40, 2, -999.000, 9, -999.000, -999.0000, 9, -999.0000,  -999.00, 9,  -999.00, -999.000, 9, -999.000,   -999.0, 9,   -999.0,  -999.00, 9,    0.1110, 2,    0.0790, 2,    0.0350, 2,    0.0270, 2,    0.0190, 2,    0.0210, 2, 734, 4, 95, 2, 117, 2, 168, 2, 98, 2, 163, 2, 93, 2,     0.14, 2,     0.64, 2,     1.46, 2,     0.00, 2,  22.0333,     2.76, 2, 1602,   17.5743,  -52.3398
316N200309, A20, 50, 1, 31, 31, 2, 20031011, 1351, 17.5530, -52.3368, 5673,   200.30,    200.3,  19.6318,  36.7903, 2,  36.7843, 2,    177.7, 2,    182.6, 2,     0.84, 2,     3.08, 2,     0.01, 2,     0.14, 2,    2.341, 2,    1.378, 2,    0.055, 2, -999.000, 9,   2121.9, 2,   2402.3, 2,    51.70, 2,     7.70, 2, -999.000, 9, -999.000, -999.0000, 9, -999.0000,  -999.00, 9,  -999.00, -999.000, 9, -999.000,   -999.0, 9,   -999.0,  -999.00, 9,    0.1020, 2,    0.0730, 2,    0.0330, 2,    0.0260, 2,    0.0200, 2,    0.0210, 2, -999, 9, -999, 9, -999, 9, -999, 9, -999, 9, -999, 9, -999, 9,     0.04, 2,  -999.00, 9,  -999.00, 9,  -999.00, 9,  19.5948,  -999.00, 9, 1601,   17.5740,  -52.3398
316N200309, A20, 50, 1, 30, 30, 2, 20031011, 1351, 17.5530, -52.3368, 5673,   301.10,    301.1,  16.3495,  36.2570, 2,  36.2562, 2,    168.5, 2,    171.8, 2,     2.59, 2,     9.44, 2,     0.00, 2,     0.53, 2,    2.328, 6,    1.318, 6,    0.030, 2,    0.402, 2,   2137.2, 2,   2368.9, 2,    49.00, 2,    13.60, 2, -999.000, 9, -999.000, -999.0000, 9, -999.0000,  -999.00, 9,  -999.00, -999.000, 9, -999.000,   -999.0, 9,   -999.0,  -999.00, 9,    0.1030, 2,    0.0720, 2,    0.0330, 2,    0.0240, 2,    0.0210, 2,    0.0220, 2, -999, 9, -999, 9, -999, 9, -999, 9, -999, 9, -999, 9, -999, 9,     0.07, 2,  -999.00, 9,  -999.00, 9,  -999.00, 9,  16.3005,  -999.00, 9, 1558,   17.5736,  -52.3399
316N200309, A20, 50, 1, 29, 29, 2, 20031011, 1351, 17.5530, -52.3368, 5673,   400.70,    400.7,  13.9467,  35.8807, 2,  35.8834, 2,    153.4, 2,    153.2, 2,     5.07, 2,    15.12, 2,     0.00, 2,     0.88, 2,    2.053, 2,    1.078, 2,    0.035, 2, -999.000, 9,   2161.8, 2,   2348.9, 2,    47.30, 2,  -999.00, 9, -999.000, 9, -999.000, -999.0000, 9, -999.0000,  -999.00, 9,  -999.00, -999.000, 9, -999.000,   -999.0, 9,   -999.0,  -999.00, 9,    0.1100, 2,    0.0770, 2,    0.0350, 2,    0.0260, 2,    0.0200, 2,    0.0210, 2, -999, 9, -999, 9, -999, 9, -999, 9, -999, 9, -999, 9, -999, 9,     0.05, 2,  -999.00, 9,  -999.00, 9,  -999.00, 9,  13.8881,  -999.00, 9, 1555,   17.5732,  -52.3400
316N200309, A20, 50, 1, 28, 28, 2, 20031011, 1351, 17.5530, -52.3368, 5673,   500.20,    500.2,  11.9204,  35.5789, 2,  35.5774, 2,    131.9, 2,    131.0, 2,     8.49, 2,    20.93, 2,     0.00, 2,     1.25, 2, -999.000, 5, -999.000, 5, -999.000, 5, -999.000, 9,   2183.4, 2,   2333.3, 2,    45.70, 2,  -999.00, 9, -999.000, 9, -999.000, -999.0000, 9, -999.0000,  -999.00, 9,  -999.00, -999.000, 9, -999.000,   -999.0, 9,   -999.0,  -999.00, 9,    0.1250, 2,    0.0880, 2,    0.0420, 2,    0.0310, 2,    0.0160, 2,    0.0190, 2, 447, 4, 24, 2, 39, 2, 59, 2, 230, 4, 70, 2, 26, 2,  -999.00, 9,  -999.00, 9,  -999.00, 9,  -999.00, 9,  11.8542,  -999.00, 9, 1553,   17.5728,  -52.3401
316N200309, A20, 50, 1, 27, 27, 2, 20031011, 1351, 17.5530, -52.3368, 5673,   600.80,    600.8,   9.6217,  35.2320, 2,  35.2337, 2,    124.0, 2,    124.6, 2,    13.88, 2,    25.94, 2,     0.00, 2,     1.62, 2,    0.630, 2,    0.330, 2,    0.007, 2, -999.000, 9,   2199.5, 2,   2320.1, 2,    42.20, 2,  -999.00, 9, -999.000, 9, -999.000, -999.0000, 9, -999.0000,  -999.00, 9,  -999.00, -999.000, 9, -999.000,   -999.0, 9,   -999.0,  -999.00, 9,    0.1250, 2,    0.0880, 2,    0.0440, 2,    0.0340, 2,    0.0150, 2,    0.0170, 2, -999, 9, -999, 9, -999, 9, -999, 9, -999, 9, -999, 9, -999, 9,  -999.00, 9,  -999.00, 9,  -999.00, 9,  -999.00, 9,   9.5520,  -999.00, 9, 1550,   17.5724,  -52.3401
316N200309, A20, 50, 1, 26, 26, 2, 20031011, 1351, 17.5530, -52.3368, 5673,   699.80,    699.8,   7.8308,  34.9842, 2,  34.9839, 2,    123.9, 2,    124.3, 2,    18.75, 2,    29.31, 2,     0.00, 2,     1.91, 2,    0.297, 2,    0.164, 2,    0.011, 2, -999.000, 9,   2208.3, 2,   2311.8, 2,    41.80, 2,  -999.00, 9, -999.000, 9, -999.000, -999.0000, 9, -999.0000,  -999.00, 9,  -999.00, -999.000, 9, -999.000,   -999.0, 9,   -999.0,  -999.00, 9,    0.1260, 2,    0.0870, 2,    0.0450, 2,    0.0370, 2,    0.0130, 2,    0.0160, 2, 349, 4, 22, 2, 31, 2, 57, 2, 150, 2, 58, 2, 30, 2,  -999.00, 9,  -999.00, 9,  -999.00, 9,  -999.00, 9,   7.7585,  -999.00, 9, 1547,   17.5720,  -52.3402
316N200309, A20, 50, 1, 25, 25, 2, 20031011, 1351, 17.5530, -52.3368, 5673,   800.30,    800.3,   6.7748,  34.8919, 2,  34.8910, 2,    125.8, 2,    127.0, 2,    21.75, 2,    30.74, 2,     0.00, 2,     2.02, 2,    0.111, 2,    0.059, 2,    0.003, 2, -999.000, 9,   2215.8, 2,   2311.3, 2,    43.00, 2,  -999.00, 9, -999.000, 9, -999.000, -999.0000, 9, -999.0000,  -999.00, 9,  -999.00, -999.000, 9, -999.000,   -999.0, 9,   -999.0,  -999.00, 9,    0.1230, 2,    0.0860, 2,    0.0430, 2,    0.0310, 2,    0.0160, 2,    0.0180, 2, -999, 9, -999, 9, -999, 9, -999, 9, -999, 9, -999, 9, -999, 9,  -999.00, 9,  -999.00, 9,  -999.00, 9,  -999.00, 9,   6.6980,  -999.00, 9, 1545,   17.5716,  -52.3402
316N200309, A20, 50, 1, 24, 24, 2, 20031011, 1351, 17.5530, -52.3368, 5673,   900.00,    900.0,   6.0244,  34.8336, 2,  34.8326, 2,    136.8, 2,    137.3, 2,    23.71, 2,    30.92, 2,     0.00, 2,     2.05, 2,    0.061, 2,    0.040, 2,    0.006, 2, -999.000, 9,   2215.9, 2,   2309.6, 2,    43.00, 2,  -999.00, 9, -999.000, 9, -999.000, -999.0000, 9, -999.0000,  -999.00, 9,  -999.00, -999.000, 9, -999.000,   -999.0, 9,   -999.0,  -999.00, 9,    0.1310, 2,    0.0910, 2,    0.0460, 2,    0.0350, 2,    0.0150, 2,    0.0170, 2, 399, 4, 46, 2, 34, 2, 50, 2, 169, 4, 65, 2, 34, 2,  -999.00, 9,  -999.00, 9,  -999.00, 9,  -999.00, 9,   5.9427,  -999.00, 9, 1542,   17.5712,  -52.3402
316N200309, A20, 50, 1, 23, 23, 2, 20031011, 1351, 17.5530, -52.3368, 5673,  1000.40,   1000.4,   5.6909,  34.8582, 2,  34.8566, 2,    151.4, 2,    149.2, 2,    23.49, 2,    29.62, 2,     0.00, 2,     1.98, 2,    0.054, 2,    0.030, 2,    0.001, 2, -999.000, 9,   2211.4, 2,   2302.5, 2,    41.70, 2,  -999.00, 9, -999.000, 9, -999.000, -999.0000, 9, -999.0000,  -999.00, 9,  -999.00, -999.000, 9, -999.000,   -999.0, 9,   -999.0,  -999.00, 9,    0.1290, 2,    0.0900, 2,    0.0460, 2,    0.0340, 2,    0.0150, 2,    0.0170, 2, -999, 9, -999, 9, -999, 9, -999, 9, -999, 9, -999, 9, -999, 9,  -999.00, 9,  -999.00, 9,  -999.00, 9,  -999.00, 9,   5.6017,  -999.00, 9, 1539,   17.5708,  -52.3401
316N200309, A20, 50, 1, 22, 22, 2, 20031011, 1351, 17.5530, -52.3368, 5673,  1102.60,   1102.6,   5.4503,  34.9111, 2,  34.9079, 2,    172.8, 2,    168.5, 2,    22.03, 2,    27.19, 2,     0.00, 2,     1.82, 2,    0.113, 2,    0.073, 2,    0.014, 2, -999.000, 9,   2202.8, 2,   2314.5, 2,    42.30, 2,  -999.00, 9, -999.000, 9, -999.000, -999.0000, 9, -999.0000,  -999.00, 9,  -999.00, -999.000, 9, -999.000,   -999.0, 9,   -999.0,  -999.00, 9,    0.1260, 2,    0.0880, 2,    0.0440, 2,    0.0330, 2,    0.0150, 2,    0.0180, 2, -999, 9, -999, 9, -999, 9, -999, 9, -999, 9, -999, 9, -999, 9,  -999.00, 9,  -999.00, 9,  -999.00, 9,  -999.00, 9,   5.3532,  -999.00, 9, 1536,   17.5704,  -52.3401
316N200309, A20, 50, 1, 21, 21, 2, 20031011, 1351, 17.5530, -52.3368, 5673,  1200.60,   1200.6,   5.3021,  34.9813, 2,  34.9807, 2,    191.2, 2,    193.9, 2,    19.10, 2,    23.92, 2,     0.00, 2,     1.59, 2,    0.274, 2,    0.148, 2,    0.018, 2, -999.000, 9,   2190.3, 2,   2315.6, 2,  -999.00, 9,  -999.00, 9, -999.000, 9, -999.000, -999.0000, 9, -999.0000,  -999.00, 9,  -999.00, -999.000, 9, -999.000,   -999.0, 9,   -999.0,  -999.00, 9, -999.0000, 9, -999.0000, 9, -999.0000, 9, -999.0000, 9, -999.0000, 9, -999.0000, 9, -999, 9, -999, 9, -999, 9, -999, 9, -999, 9, -999, 9, -999, 9,  -999.00, 9,  -999.00, 9,  -999.00, 9,  -999.00, 9,   5.1967,  -999.00, 9, 1533,   17.5699,  -52.3401
316N200309, A20, 50, 1, 20, 20, 2, 20031011, 1351, 17.5530, -52.3368, 5673,  1350.80,   1350.8,   4.8609,  35.0108, 2,  35.0096, 2,    214.2, 2,    218.3, 2,    16.80, 2,    21.51, 2,     0.00, 2,     1.43, 2,    0.336, 2,    0.176, 2,    0.023, 2, -999.000, 9,   2178.3, 2,   2314.9, 2,  -999.00, 9,  -999.00, 9, -999.000, 9, -999.000, -999.0000, 9, -999.0000,  -999.00, 9,  -999.00, -999.000, 9, -999.000,   -999.0, 9,   -999.0,  -999.00, 9, -999.0000, 9, -999.0000, 9, -999.0000, 9, -999.0000, 9, -999.0000, 9, -999.0000, 9, -999, 9, -999, 9, -999, 9, -999, 9, -999, 9, -999, 9, -999, 9,  -999.00, 9,  -999.00, 9,  -999.00, 9,  -999.00, 9,   4.7453,  -999.00, 9, 1529,   17.5692,  -52.3399
316N200309, A20, 50, 1, 19, 19, 2, 20031011, 1351, 17.5530, -52.3368, 5673,  1500.70,   1500.7,   4.5305,  35.0120, 2,  35.0112, 2,    231.0, 2,    234.3, 2,    15.65, 2,    20.10, 2,     0.00, 2,     1.33, 2,    0.406, 2,    0.207, 2,    0.030, 2, -999.000, 9,   2170.7, 2,   2315.4, 2,    42.50, 2,  -999.00, 9, -999.000, 9, -999.000, -999.0000, 9, -999.0000,  -999.00, 9,  -999.00, -999.000, 9, -999.000,   -999.0, 9,   -999.0,  -999.00, 9,    0.1230, 2,    0.0860, 2,    0.0420, 2,    0.0350, 2,    0.0140, 2,    0.0170, 2, -999, 9, -999, 9, -999, 9, -999, 9, -999, 9, -999, 9, -999, 9,  -999.00, 9,  -999.00, 9,  -999.00, 9,  -999.00, 9,   4.4041,  -999.00, 9, 1526,   17.5686,  -52.3399
316N200309, A20, 50, 1, 18, 18, 2, 20031011, 1351, 17.5530, -52.3368, 5673,  1650.90,   1650.9,   4.2069,  35.0053, 2,  35.0035, 2,    242.6, 2,    246.0, 2,    15.22, 2,    19.15, 2,     0.00, 2,     1.28, 2,    0.394, 2,    0.202, 2,    0.021, 2, -999.000, 9,   2164.7, 2,   2314.1, 2,  -999.00, 9,  -999.00, 9, -999.000, 9, -999.000, -999.0000, 9, -999.0000,  -999.00, 9,  -999.00, -999.000, 9, -999.000,   -999.0, 9,   -999.0,  -999.00, 9, -999.0000, 9, -999.0000, 9, -999.0000, 9, -999.0000, 9, -999.0000, 9, -999.0000, 9, -999, 9, -999, 9, -999, 9, -999, 9, -999, 9, -999, 9, -999, 9,  -999.00, 9,  -999.00, 9,  -999.00, 9,  -999.00, 9,   4.0701,  -999.00, 9, 1522,   17.5679,  -52.3397
316N200309, A20, 50, 1, 17, 17, 2, 20031011, 1351, 17.5530, -52.3368, 5673,  1800.00,   1800.0,   3.9418,  34.9974, 2,  34.9957, 2,    248.4, 2,    248.1, 2,    16.87, 2,    19.24, 2,     0.00, 2,     1.28, 2,    0.231, 2,    0.121, 2,    0.021, 2, -999.000, 9,   2164.0, 2,   2314.9, 2,    43.20, 2,  -999.00, 9, -999.000, 9, -999.000, -999.0000, 9, -999.0000,  -999.00, 9,  -999.00, -999.000, 9, -999.000,   -999.0, 9,   -999.0,  -999.00, 9,    0.1220, 2,    0.0850, 2,    0.0400, 2,    0.0310, 2,    0.0170, 2,    0.0190, 2, -999, 9, -999, 9, -999, 9, -999, 9, -999, 9, -999, 9, -999, 9,  -999.00, 9,  -999.00, 9,  -999.00, 9,  -999.00, 9,   3.7943,  -999.00, 9, 1519,   17.5673,  -52.3397
316N200309, A20, 50, 1, 16, 16, 2, 20031011, 1351, 17.5530, -52.3368, 5673,  1999.90,   1999.9,   3.6060,  34.9879, 2,  34.9896, 2,    250.9, 2,    249.9, 2,    20.08, 2,    19.28, 2,     0.00, 2,     1.30, 2,    0.076, 2,    0.044, 2,    0.009, 2, -999.000, 9,   2167.5, 2,   2318.9, 2,    42.70, 2,  -999.00, 9, -999.000, 9, -999.000, -999.0000, 9, -999.0000,  -999.00, 9,  -999.00, -999.000, 9, -999.000,   -999.0, 9,   -999.0,  -999.00, 9,    0.1160, 2,    0.0800, 2,    0.0380, 2,    0.0310, 2,    0.0160, 2,    0.0190, 2, -999, 9, -999, 9, -999, 9, -999, 9, -999, 9, -999, 9, -999, 9,  -999.00, 9,  -999.00, 9,  -999.00, 9,  -999.00, 9,   3.4442,  -999.00, 9, 1514,   17.5665,  -52.3396
316N200309, A20, 50, 1, 15, 15, 2, 20031011, 1351, 17.5530, -52.3368, 5673,  2251.10,   2251.1,   3.2645,  34.9680, 2,  34.9669, 2,    253.1, 2,    252.5, 2,    23.29, 2,    19.41, 2,     0.00, 2,     1.31, 2,    0.066, 2,    0.040, 2,    0.009, 2, -999.000, 9,   2167.9, 2,   2321.0, 2,  -999.00, 9,  -999.00, 9, -999.000, 9, -999.000, -999.0000, 9, -999.0000,  -999.00, 9,  -999.00, -999.000, 9, -999.000,   -999.0, 9,   -999.0,  -999.00, 9, -999.0000, 9, -999.0000, 9, -999.0000, 9, -999.0000, 9, -999.0000, 9, -999.0000, 9, -999, 9, -999, 9, -999, 9, -999, 9, -999, 9, -999, 9, -999, 9,  -999.00, 9,  -999.00, 9,  -999.00, 9,  -999.00, 9,   3.0841,  -999.00, 9, 1509,   17.5657,  -52.3396
316N200309, A20, 50, 1, 14, 14, 2, 20031011, 1351, 17.5530, -52.3368, 5673,  2500.60,   2500.6,   3.0227,  34.9519, 2,  34.9506, 2,    254.3, 2,    253.6, 2,    26.08, 2,    19.55, 2,     0.00, 2,     1.32, 2,    0.066, 2,    0.038, 2,    0.007, 2, -999.000, 9,   2171.6, 2,   2324.3, 2,    41.40, 2,  -999.00, 9, -999.000, 9, -999.000, -999.0000, 9, -999.0000,  -999.00, 9,  -999.00, -999.000, 9, -999.000,   -999.0, 9,   -999.0,  -999.00, 9,    0.1260, 2,    0.0880, 2,    0.0410, 2,    0.0330, 2,    0.0150, 2,    0.0180, 2, -999, 9, -999, 9, -999, 9, -999, 9, -999, 9, -999, 9, -999, 9,  -999.00, 9,  -999.00, 9,  -999.00, 9,  -999.00, 9,   2.8223,  -999.00, 9, 1503,   17.5649,  -52.3395
316N200309, A20, 50, 1, 13, 13, 2, 20031011, 1351, 17.5530, -52.3368, 5673,  2751.60,   2751.6,   2.8378,  34.9385, 2,  34.9355, 2,    254.5, 2,    254.2, 2,    28.98, 2,    19.78, 2,     0.00, 2,     1.33, 2,    0.069, 2,    0.050, 2,    0.017, 2, -999.000, 9,   2175.1, 2,   2326.5, 2,  -999.00, 9,  -999.00, 9, -999.000, 9, -999.000, -999.0000, 9, -999.0000,  -999.00, 9,  -999.00, -999.000, 9, -999.000,   -999.0, 9,   -999.0,  -999.00, 9, -999.0000, 9, -999.0000, 9, -999.0000, 9, -999.0000, 9, -999.0000, 9, -999.0000, 9, -999, 9, -999, 9, -999, 9, -999, 9, -999, 9, -999, 9, -999, 9,  -999.00, 9,  -999.00, 9,  -999.00, 9,  -999.00, 9,   2.6160,  -999.00, 9, 1458,   17.5641,  -52.3395
316N200309, A20, 50, 1, 12, 12, 2, 20031011, 1351, 17.5530, -52.3368, 5673,  3000.70,   3000.7,   2.7181,  34.9287, 2,  34.9258, 2,    254.2, 2,    254.3, 2,    31.16, 2,    19.91, 2,     0.00, 2,     1.35, 2,    0.078, 2,    0.046, 2,    0.015, 2, -999.000, 9,   2176.6, 2,   2328.3, 2,  -999.00, 9,  -999.00, 9, -999.000, 9, -999.000, -999.0000, 9, -999.0000,  -999.00, 9,  -999.00, -999.000, 9, -999.000,   -999.0, 9,   -999.0,  -999.00, 9, -999.0000, 9, -999.0000, 9, -999.0000, 9, -999.0000, 9, -999.0000, 9, -999.0000, 9, -999, 9, -999, 9, -999, 9, -999, 9, -999, 9, -999, 9, -999, 9,  -999.00, 9,  -999.00, 9,  -999.00, 9,  -999.00, 9,   2.4734,  -999.00, 9, 1453,   17.5633,  -52.3394
316N200309, A20, 50, 1, 11, 11, 2, 20031011, 1351, 17.5530, -52.3368, 5673,  3250.60,   3250.6,   2.5736,  34.9167, 2,  34.9150, 2,    254.9, 2,    254.1, 2,    34.16, 2,    20.19, 2,     0.00, 2,     1.37, 2,    0.075, 2,    0.047, 2,    0.011, 2, -999.000, 9,   2178.7, 2,   2330.4, 2,    41.80, 2,  -999.00, 9, -999.000, 9, -999.000, -999.0000, 9, -999.0000,  -999.00, 9,  -999.00, -999.000, 9, -999.000,   -999.0, 9,   -999.0,  -999.00, 9,    0.1230, 2,    0.0850, 2,    0.0420, 2,    0.0350, 3,    0.0140, 3,    0.0170, 3, -999, 9, -999, 9, -999, 9, -999, 9, -999, 9, -999, 9, -999, 9,  -999.00, 9,  -999.00, 9,  -999.00, 9,  -999.00, 9,   2.3061,  -999.00, 9, 1448,   17.5624,  -52.3393