BOTTLE,20220816CCHSIOAMB
EXPOCODE,SECT_ID,STNNBR,CASTNO,SAMPNO,BTLNBR,BTLNBR_FLAG_W,DATE,TIME,LATITUDE,LONGITUDE,DEPTH,CTDRAW,CTDPRS,CTDTMP,CTDSAL,CTDSAL_FLAG_W,SALNTY,SALNTY_FLAG_W,CTDOXY,CTDOXY_FLAG_W,OXYGEN,OXYGEN_FLAG_W,SILCAT,SILCAT_FLAG_W,NITRAT,NITRAT_FLAG_W,NITRIT,NITRIT_FLAG_W,PHSPHT,PHSPHT_FLAG_W,CFC-11,CFC-11_FLAG_W,CFC-12,CFC-12_FLAG_W,CFC113,CFC113_FLAG_W,CCL4,CCL4_FLAG_W,TCARBN,TCARBN_FLAG_W,ALKALI,ALKALI_FLAG_W,DOC,DOC_FLAG_W,TDN,TDN_FLAG_W,TRITUM,TRITUM_FLAG_W,TRITER,HELIUM,HELIUM_FLAG_W,HELIER,DELHE3,DELHE3_FLAG_W,DELHER,NEON,NEON_FLAG_W,NEONER,DELC14,DELC14_FLAG_W,C14ERR,DELC13,DELC13_FLAG_W,CDOM325,CDOM325_FLAG_W,CDOM340,CDOM340_FLAG_W,CDOM380,CDOM380_FLAG_W,CDOM412,CDOM412_FLAG_W,CDOMSL,CDOMSL_FLAG_W,CDOMSN,CDOMSN_FLAG_W,DCNS,DCNS_FLAG_W,ARABI,ARABI_FLAG_W,FUCO,FUCO_FLAG_W,GALA,GALA_FLAG_W,GLUC,GLUC_FLAG_W,MAN,MAN_FLAG_W,RHAM,RHAM_FLAG_W,BRDU,BRDU_FLAG_W,PEUK,PEUK_FLAG_W,PROC,PROC_FLAG_W,SYN,SYN_FLAG_W,THETA,BACT,BACT_FLAG_W,BTL_TIME,BTL_LAT,BTL_LON
,,,,,,,,,,,METERS,DBAR,DBAR,ITS-90,PSS-78,,PSS-78,,UMOL/KG,,UMOL/KG,,UMOL/KG,,UMOL/KG,,UMOL/KG,,UMOL/KG,,PMOL/KG,,PMOL/KG,,PMOL/KG,,PMOL/KG,,UMOL/KG,,UMOL/KG,,UMOL/KG,,UMOL/KG,,TU,,TU,NMOL/KG,,NMOL/KG,PERCNT,,PERCNT,NMOL/KG,,NMOL/KG,/MILLE,,/MILLE,/MILLE,,1/M,,1/M,,1/M,,1/M,,1/NM,,1/NM,,NMOL/KG,,NMOL/KG,,NMOL/KG,,NMOL/KG,,NMOL/KG,,NMOL/KG,,NMOL/KG,,PMOL/L/H,,E6/L,,E7/L,,E6/L,,DEG C,E8/L,,,,
316N200309, A20, 67, 1, 36, 36, 2, 20031016, 0916, 8.7825, -52.6568, 4621,    25.70,     25.7,  29.3767,  35.1332, 2,  35.0919, 2,    191.0, 2,    198.2, 2,     2.85, 2,     0.07, 2,     0.00, 2,     0.03, 2,    1.581, 2,    0.981, 2,    0.103, 2,    1.364, 2,   1963.2, 2,   2306.7, 2,  -999.00, 9,  -999.00, 9, -999.000, 9, -999.000, -999.0000, 9, -999.0000,  -999.00, 9,  -999.00, -999.000, 9, -999.000,   -999.0, 9,   -999.0,  -999.00, 9, -999.0000, 9, -999.0000, 9, -999.0000, 9, -999.0000, 9, -999.0000, 9, -999.0000, 9, -999, 9, -999, 9, -999, 9, -999, 9, -999, 9, -999, 9, -999, 9,  -999.00, 9,  -999.00, 9,  -999.00, 9,  -999.00, 9,  29.3704,  -999.00, 9, 1105,    8.7746,  -52.6602
316N200309, A20, 67, 1, 35, 35, 2, 20031016, 0916, 8.7825, -52.6568, 4621,    49.60,     49.6,  28.1765,  36.2171, 2,  36.2143, 2,    193.9, 2,    200.0, 2,     0.61, 2,     0.11, 2,     0.00, 2,     0.06, 2,    1.609, 2,    0.998, 2,    0.101, 2,    1.029, 2,   -999.0, 9,   -999.0, 9,  -999.00, 9,  -999.00, 9, -999.000, 9, -999.000, -999.0000, 9, -999.0000,  -999.00, 9,  -999.00, -999.000, 9, -999.000,   -999.0, 9,   -999.0,  -999.00, 9, -999.0000, 9, -999.0000, 9, -999.0000, 9, -999.0000, 9, -999.0000, 9, -999.0000, 9, -999, 9, -999, 9, -999, 9, -999, 9, -999, 9, -999, 9, -999, 9,  -999.00, 9,  -999.00, 9,  -999.00, 9,  -999.00, 9,  28.1647,  -999.00, 9, 1104,    8.7748,  -52.6601
316N200309, A20, 67, 1, 34, 34, 2, 20031016, 0916, 8.7825, -52.6568, 4621,    73.80,     73.8,  27.6023,  36.2488, 2,  36.2432, 2,    188.3, 2,    194.5, 2,     0.62, 2,     0.06, 2,     0.00, 2,     0.08, 2,    1.634, 2,    1.016, 2,    0.103, 2,    1.173, 2,   -999.0, 9,   -999.0, 9,  -999.00, 9,  -999.00, 9, -999.000, 9, -999.000, -999.0000, 9, -999.0000,  -999.00, 9,  -999.00, -999.000, 9, -999.000,   -999.0, 9,   -999.0,  -999.00, 9, -999.0000, 9, -999.0000, 9, -999.0000, 9, -999.0000, 9, -999.0000, 9, -999.0000, 9, -999, 9, -999, 9, -999, 9, -999, 9, -999, 9, -999, 9, -999, 9,  -999.00, 9,  -999.00, 9,  -999.00, 9,  -999.00, 9,  27.5850,  -999.00, 9, 1103,    8.7750,  -52.6601
316N200309, A20, 67, 1, 33, 33, 2, 20031016, 0916, 8.7825, -52.6568, 4621,    99.60,     99.6,  26.1800,  36.2907, 2,  36.2859, 2,    173.4, 2,    177.6, 2,     0.93, 2,     1.97, 2,     0.02, 2,     0.20, 2,    1.708, 2,    1.060, 2,    0.097, 2,    1.011, 2,   -999.0, 9,   -999.0, 9,  -999.00, 9,  -999.00, 9, -999.000, 9, -999.000, -999.0000, 9, -999.0000,  -999.00, 9,  -999.00, -999.000, 9, -999.000,   -999.0, 9,   -999.0,  -999.00, 9, -999.0000, 9, -999.0000, 9, -999.0000, 9, -999.0000, 9, -999.0000, 9, -999.0000, 9, -999, 9, -999, 9, -999, 9, -999, 9, -999, 9, -999, 9, -999, 9,  -999.00, 9,  -999.00, 9,  -999.00, 9,  -999.00, 9,  26.1576,  -999.00, 9, 1102,    8.7752,  -52.6601
316N200309, A20, 67, 1, 32, 32, 2, 20031016, 0916, 8.7825, -52.6568, 4621,   124.60,    124.6,  24.0240,  36.3473, 2,  36.3441, 2,    167.7, 2,    170.2, 2,     1.54, 2,     4.00, 2,     0.02, 2,     0.33, 2,    1.779, 2,    1.067, 2,    0.095, 2,    0.872, 2,   -999.0, 9,   -999.0, 9,  -999.00, 9,  -999.00, 9, -999.000, 9, -999.000, -999.0000, 9, -999.0000,  -999.00, 9,  -999.00, -999.000, 9, -999.000,   -999.0, 9,   -999.0,  -999.00, 9, -999.0000, 9, -999.0000, 9, -999.0000, 9, -999.0000, 9, -999.0000, 9, -999.0000, 9, -999, 9, -999, 9, -999, 9, -999, 9, -999, 9, -999, 9, -999, 9,  -999.00, 9,  -999.00, 9,  -999.00, 9,  -999.00, 9,  23.9976,  -999.00, 9, 1101,    8.7754,  -52.6600
316N200309, A20, 67, 1, 31, 31, 2, 20031016, 0916, 8.7825, -52.6568, 4621,   150.70,    150.7,  19.4915,  36.2078, 2,  36.3049, 2,    153.9, 2,    151.6, 2,     3.17, 2,     8.93, 2,     0.01, 2,     0.60, 2,    1.952, 2,    1.140, 2,    0.039, 2,    0.479, 2,   -999.0, 9,   -999.0, 9,  -999.00, 9,  -999.00, 9, -999.000, 9, -999.000, -999.0000, 9, -999.0000,  -999.00, 9,  -999.00, -999.000, 9, -999.000,   -999.0, 9,   -999.0,  -999.00, 9, -999.0000, 9, -999.0000, 9, -999.0000, 9, -999.0000, 9, -999.0000, 9, -999.0000, 9, -999, 9, -999, 9, -999, 9, -999, 9, -999, 9, -999, 9, -999, 9,  -999.00, 9,  -999.00, 9,  -999.00, 9,  -999.00, 9,  19.4640,  -999.00, 9, 1059,    8.7757,  -52.6600
316N200309, A20, 67, 1, 30, 30, 2, 20031016, 0916, 8.7825, -52.6568, 4621,   200.80,    200.8,  11.5032,  35.1962, 2,  35.1967, 2,    128.2, 2,    130.3, 2,     9.72, 2,    22.48, 2,     0.00, 2,     1.46, 2,    1.644, 2,    0.862, 2,    0.012, 2,    0.465, 2,   -999.0, 9,   -999.0, 9,  -999.00, 9,  -999.00, 9, -999.000, 9, -999.000, -999.0000, 9, -999.0000,  -999.00, 9,  -999.00, -999.000, 9, -999.000,   -999.0, 9,   -999.0,  -999.00, 9, -999.0000, 9, -999.0000, 9, -999.0000, 9, -999.0000, 9, -999.0000, 9, -999.0000, 9, -999, 9, -999, 9, -999, 9, -999, 9, -999, 9, -999, 9, -999, 9,  -999.00, 9,  -999.00, 9,  -999.00, 9,  -999.00, 9,  11.4777,  -999.00, 9, 1058,    8.7760,  -52.6600
316N200309, A20, 67, 1, 29, 29, 2, 20031016, 0916, 8.7825, -52.6568, 4621,   250.70,    250.7,   9.8991,  34.9557, 2,  34.9559, 2,    129.8, 2,    131.2, 2,    12.08, 2,    25.50, 2,     0.00, 2,     1.66, 2,    1.407, 2,    0.724, 2,    0.007, 2,    0.489, 2,   -999.0, 9,   -999.0, 9,  -999.00, 9,  -999.00, 9, -999.000, 9, -999.000, -999.0000, 9, -999.0000,  -999.00, 9,  -999.00, -999.000, 9, -999.000,   -999.0, 9,   -999.0,  -999.00, 9, -999.0000, 9, -999.0000, 9, -999.0000, 9, -999.0000, 9, -999.0000, 9, -999.0000, 9, -999, 9, -999, 9, -999, 9, -999, 9, -999, 9, -999, 9, -999, 9,  -999.00, 9,  -999.00, 9,  -999.00, 9,  -999.00, 9,   9.8701,  -999.00, 9, 1056,    8.7764,  -52.6599
316N200309, A20, 67, 1, 28, 28, 2, 20031016, 0916, 8.7825, -52.6568, 4621,   300.80,    300.8,   9.2302,  34.8785, 2,  34.8749, 2,    121.1, 2,    123.7, 2,    13.73, 2,    27.78, 2,     0.00, 2,     1.80, 2,    1.149, 2,    0.619, 2,    0.003, 2,    0.510, 2,   -999.0, 9,   -999.0, 9,  -999.00, 9,  -999.00, 9, -999.000, 9, -999.000, -999.0000, 9, -999.0000,  -999.00, 9,  -999.00, -999.000, 9, -999.000,   -999.0, 9,   -999.0,  -999.00, 9, -999.0000, 9, -999.0000, 9, -999.0000, 9, -999.0000, 9, -999.0000, 9, -999.0000, 9, -999, 9, -999, 9, -999, 9, -999, 9, -999, 9, -999, 9, -999, 9,  -999.00, 9,  -999.00, 9,  -999.00, 9,  -999.00, 9,   9.1968,  -999.00, 9, 1054,    8.7767,  -52.6598
316N200309, A20, 67, 1, 27, 27, 2, 20031016, 0916, 8.7825, -52.6568, 4621,   400.20,    400.2,   7.9385,  34.7482, 2,  34.7467, 2,    114.3, 2,    117.3, 2,    17.23, 2,    31.30, 2,     0.00, 2,     2.02, 2,    0.685, 6,    0.371, 6,    0.007, 6,    0.475, 6,   -999.0, 9,   -999.0, 9,  -999.00, 9,  -999.00, 9, -999.000, 9, -999.000, -999.0000, 9, -999.0000,  -999.00, 9,  -999.00, -999.000, 9, -999.000,   -999.0, 9,   -999.0,  -999.00, 9, -999.0000, 9, -999.0000, 9, -999.0000, 9, -999.0000, 9, -999.0000, 9, -999.0000, 9, -999, 9, -999, 9, -999, 9, -999, 9, -999, 9, -999, 9, -999, 9,  -999.00, 9,  -999.00, 9,  -999.00, 9,  -999.00, 9,   7.8978,  -999.00, 9, 1052,    8.7772,  -52.6597
316N200309, A20, 67, 1, 26, 26, 2, 20031016, 0916, 8.7825, -52.6568, 4621,   500.60,    500.6,   7.2257,  34.6870, 2,  34.6861, 2,    117.0, 2,    119.7, 2,    19.60, 2,    32.48, 2,     0.00, 2,     2.11, 2,    0.519, 2,    0.286, 2,    0.002, 2,    0.401, 2,   -999.0, 9,   -999.0, 9,  -999.00, 9,  -999.00, 9, -999.000, 9, -999.000, -999.0000, 9, -999.0000,  -999.00, 9,  -999.00, -999.000, 9, -999.000,   -999.0, 9,   -999.0,  -999.00, 9, -999.0000, 9, -999.0000, 9, -999.0000, 9, -999.0000, 9, -999.0000, 9, -999.0000, 9, -999, 9, -999, 9, -999, 9, -999, 9, -999, 9, -999, 9, -999, 9,  -999.00, 9,  -999.00, 9,  -999.00, 9,  -999.00, 9,   7.1772,  -999.00, 9, 1049,    8.7775,  -52.6597
316N200309, A20, 67, 1, 25, 25, 2, 20031016, 0916, 8.7825, -52.6568, 4621,   600.70,    600.7,   6.4195,  34.6244, 2,  34.6246, 2,    129.3, 2,    122.1, 2,    22.61, 2,    33.76, 2,     0.00, 2,     2.22, 2,    0.332, 2,    0.172, 2,    0.003, 2,    0.396, 2,   -999.0, 9,   -999.0, 9,  -999.00, 9,  -999.00, 9, -999.000, 9, -999.000, -999.0000, 9, -999.0000,  -999.00, 9,  -999.00, -999.000, 9, -999.000,   -999.0, 9,   -999.0,  -999.00, 9, -999.0000, 9, -999.0000, 9, -999.0000, 9, -999.0000, 9, -999.0000, 9, -999.0000, 9, -999, 9, -999, 9, -999, 9, -999, 9, -999, 9, -999, 9, -999, 9,  -999.00, 9,  -999.00, 9,  -999.00, 9,  -999.00, 9,   6.3645,  -999.00, 9, 1046,    8.7779,  -52.6596
316N200309, A20, 67, 1, 24, 24, 2, 20031016, 0916, 8.7825, -52.6568, 4621,   701.10,    701.1,   5.3492,  34.5684, 2,  34.5690, 2,    132.6, 2,    135.3, 2,    27.06, 2,    34.32, 2,     0.00, 2,     2.30, 2,    0.158, 2,    0.090, 2,    0.001, 2,    0.299, 2,   -999.0, 9,   -999.0, 9,  -999.00, 9,  -999.00, 9, -999.000, 9, -999.000, -999.0000, 9, -999.0000,  -999.00, 9,  -999.00, -999.000, 9, -999.000,   -999.0, 9,   -999.0,  -999.00, 9, -999.0000, 9, -999.0000, 9, -999.0000, 9, -999.0000, 9, -999.0000, 9, -999.0000, 9, -999, 9, -999, 9, -999, 9, -999, 9, -999, 9, -999, 9, -999, 9,  -999.00, 9,  -999.00, 9,  -999.00, 9,  -999.00, 9,   5.2903,  -999.00, 9, 1043,    8.7782,  -52.6596
316N200309, A20, 67, 1, 23, 23, 2, 20031016, 0916, 8.7825, -52.6568, 4621,   801.50,    801.5,   5.1626,  34.5934, 2,  34.5969, 2,    134.4, 2,    136.4, 2,    28.00, 2,    34.28, 2,     0.00, 2,     2.30, 2,    0.088, 2,    0.062, 2,   -0.002, 2,    0.229, 2,   -999.0, 9,   -999.0, 9,  -999.00, 9,  -999.00, 9, -999.000, 9, -999.000, -999.0000, 9, -999.0000,  -999.00, 9,  -999.00, -999.000, 9, -999.000,   -999.0, 9,   -999.0,  -999.00, 9, -999.0000, 9, -999.0000, 9, -999.0000, 9, -999.0000, 9, -999.0000, 9, -999.0000, 9, -999, 9, -999, 9, -999, 9, -999, 9, -999, 9, -999, 9, -999, 9,  -999.00, 9,  -999.00, 9,  -999.00, 9,  -999.00, 9,   5.0959,  -999.00, 9, 1041,    8.7785,  -52.6596
316N200309, A20, 67, 1, 22, 22, 2, 20031016, 0916, 8.7825, -52.6568, 4621,   951.50,    951.5,   4.7878,  34.6305, 2,  34.6280, 2,    147.4, 2,    147.2, 2,    29.14, 2,    33.18, 2,     0.00, 2,     2.24, 2,    0.048, 2,    0.026, 2,    0.016, 2,    0.148, 2,   -999.0, 9,   -999.0, 9,  -999.00, 9,  -999.00, 9, -999.000, 9, -999.000, -999.0000, 9, -999.0000,  -999.00, 9,  -999.00, -999.000, 9, -999.000,   -999.0, 9,   -999.0,  -999.00, 9, -999.0000, 9, -999.0000, 9, -999.0000, 9, -999.0000, 9, -999.0000, 9, -999.0000, 9, -999, 9, -999, 9, -999, 9, -999, 9, -999, 9, -999, 9, -999, 9,  -999.00, 9,  -999.00, 9,  -999.00, 9,  -999.00, 9,   4.7102,  -999.00, 9, 1037,    8.7788,  -52.6596
316N200309, A20, 67, 1, 21, 21, 2, 20031016, 0916, 8.7825, -52.6568, 4621,  1101.40,   1101.4,   4.8695,  34.7517, 2,  34.7512, 2,    157.7, 2,    159.0, 2,    26.44, 2,    30.67, 2,     0.00, 2,     2.06, 2,    0.040, 2,    0.029, 2,    0.000, 2,    0.165, 2,   -999.0, 9,   -999.0, 9,  -999.00, 9,  -999.00, 9, -999.000, 9, -999.000, -999.0000, 9, -999.0000,  -999.00, 9,  -999.00, -999.000, 9, -999.000,   -999.0, 9,   -999.0,  -999.00, 9, -999.0000, 9, -999.0000, 9, -999.0000, 9, -999.0000, 9, -999.0000, 9, -999.0000, 9, -999, 9, -999, 9, -999, 9, -999, 9, -999, 9, -999, 9, -999, 9,  -999.00, 9,  -999.00, 9,  -999.00, 9,  -999.00, 9,   4.7776,  -999.00, 9, 1034,    8.7791,  -52.6596
316N200309, A20, 67, 1, 20, 20, 2, 20031016, 0916, 8.7825, -52.6568, 4621,  1201.70,   1201.7,   4.7952,  34.8075, 2,  34.8062, 2,    171.0, 2,    171.3, 2,    24.79, 2,    28.78, 2,     0.00, 2,     1.93, 2,    0.063, 2,    0.034, 2,    0.001, 2,    0.191, 2,   -999.0, 9,   -999.0, 9,  -999.00, 9,  -999.00, 9, -999.000, 9, -999.000, -999.0000, 9, -999.0000,  -999.00, 9,  -999.00, -999.000, 9, -999.000,   -999.0, 9,   -999.0,  -999.00, 9, -999.0000, 9, -999.0000, 9, -999.0000, 9, -999.0000, 9, -999.0000, 9, -999.0000, 9, -999, 9, -999, 9, -999, 9, -999, 9, -999, 9, -999, 9, -999, 9,  -999.00, 9,  -999.00, 9,  -999.00, 9,  -999.00, 9,   4.6947,  -999.00, 9, 1031,    8.7794,  -52.6595
316N200309, A20, 67, 1, 19, 19, 2, 20031016, 0916, 8.7825, -52.6568, 4621,  1300.10,   1300.1,   4.9497,  34.9000, 2,  34.8998, 2,    185.1, 2,    184.8, 2,    21.59, 2,    26.16, 2,     0.00, 2,     1.74, 2,    0.136, 2,    0.081, 2,    0.003, 2,    0.343, 2,   -999.0, 9,   -999.0, 9,  -999.00, 9,  -999.00, 9, -999.000, 9, -999.000, -999.0000, 9, -999.0000,  -999.00, 9,  -999.00, -999.000, 9, -999.000,   -999.0, 9,   -999.0,  -999.00, 9, -999.0000, 9, -999.0000, 9, -999.0000, 9, -999.0000, 9, -999.0000, 9, -999.0000, 9, -999, 9, -999, 9, -999, 9, -999, 9, -999, 9, -999, 9, -999, 9,  -999.00, 9,  -999.00, 9,  -999.00, 9,  -999.00, 9,   4.8383,  -999.00, 9, 1029,    8.7796,  -52.6594
316N200309, A20, 67, 1, 18, 18, 2, 20031016, 0916, 8.7825, -52.6568, 4621,  1399.80,   1399.8,   4.9152,  34.9731, 2,  34.9723, 2,    208.7, 2,    202.3, 2,    18.18, 2,    23.09, 2,     0.00, 2,     1.52, 2,    0.288, 2,    0.157, 2,    0.009, 2,    0.550, 2,   -999.0, 9,   -999.0, 9,  -999.00, 9,  -999.00, 9, -999.000, 9, -999.000, -999.0000, 9, -999.0000,  -999.00, 9,  -999.00, -999.000, 9, -999.000,   -999.0, 9,   -999.0,  -999.00, 9, -999.0000, 9, -999.0000, 9, -999.0000, 9, -999.0000, 9, -999.0000, 9, -999.0000, 9, -999, 9, -999, 9, -999, 9, -999, 9, -999, 9, -999, 9, -999, 9,  -999.00, 9,  -999.00, 9,  -999.00, 9,  -999.00, 9,   4.7944,  -999.00, 9, 1026,    8.7799,  -52.6593
316N200309, A20, 67, 1, 17, 17, 2, 20031016, 0916, 8.7825, -52.6568, 4621,  1549.90,   1549.9,   4.5667,  35.0116, 2,  34.9996, 4,    236.1, 2,    237.3, 2,    14.48, 2,    19.71, 2,     0.00, 2,     1.29, 2,    0.669, 2,    0.339, 2,    0.018, 2,    1.065, 2,   -999.0, 9,   -999.0, 9,  -999.00, 9,  -999.00, 9, -999.000, 9, -999.000, -999.0000, 9, -999.0000,  -999.00, 9,  -999.00, -999.000, 9, -999.000,   -999.0, 9,   -999.0,  -999.00, 9, -999.0000, 9, -999.0000, 9, -999.0000, 9, -999.0000, 9, -999.0000, 9, -999.0000, 9, -999, 9, -999, 9, -999, 9, -999, 9, -999, 9, -999, 9, -999, 9,  -999.00, 9,  -999.00, 9,  -999.00, 9,  -999.00, 9,   4.4353,  -999.00, 9, 1023,    8.7804,  -52.6590
316N200309, A20, 67, 1, 16, 16, 2, 20031016, 0916, 8.7825, -52.6568, 4621,  1699.10,   1699.1,   4.1978,  34.9976, 2,  34.9996, 2,    249.8, 2,    250.5, 2,    13.77, 2,    18.68, 2,     0.00, 2,     1.22, 2,    0.829, 2,    0.428, 2,    0.025, 2,    1.355, 2,   -999.0, 9,   -999.0, 9,  -999.00, 9,  -999.00, 9, -999.000, 9, -999.000, -999.0000, 9, -999.0000,  -999.00, 9,  -999.00, -999.000, 9, -999.000,   -999.0, 9,   -999.0,  -999.00, 9, -999.0000, 9, -999.0000, 9, -999.0000, 9, -999.0000, 9, -999.0000, 9, -999.0000, 9, -999, 9, -999, 9, -999, 9, -999, 9, -999, 9, -999, 9, -999, 9,  -999.00, 9,  -999.00, 9,  -999.00, 9,  -999.00, 9,   4.0566,  -999.00, 9, 1019,    8.7809,  -52.6587
316N200309, A20, 67, 1, 15, 15, 2, 20031016, 0916, 8.7825, -52.6568, 4621,  1849.00,   1849.0,   3.8636,  34.9831, 2,  34.9827, 2,    257.1, 2,    258.2, 2,    14.08, 2,    18.27, 2,     0.00, 2,     1.20, 2,    0.727, 2,    0.376, 2,    0.022, 2,    1.252, 2,   -999.0, 9,   -999.0, 9,  -999.00, 9,  -999.00, 9, -999.000, 9, -999.000, -999.0000, 9, -999.0000,  -999.00, 9,  -999.00, -999.000, 9, -999.000,   -999.0, 9,   -999.0,  -999.00, 9, -999.0000, 9, -999.0000, 9, -999.0000, 9, -999.0000, 9, -999.0000, 9, -999.0000, 9, -999, 9, -999, 9, -999, 9, -999, 9, -999, 9, -999, 9, -999, 9,  -999.00, 9,  -999.00, 9,  -999.00, 9,  -999.00, 9,   3.7125,  -999.00, 9, 1016,    8.7813,  -52.6583
316N200309, A20, 67, 1, 13, 13, 2, 20031016, 0916, 8.7825, -52.6568, 4621,  1999.20,   1999.2,   3.6649,  34.9760, 2,  34.9756, 2,    259.1, 2,    260.0, 2,    15.01, 2,    18.26, 2,     0.00, 2,     1.20, 2,    0.621, 2,    0.326, 2,    0.020, 2,    1.171, 2,   -999.0, 9,   -999.0, 9,  -999.00, 9,  -999.00, 9, -999.000, 9, -999.000, -999.0000, 9, -999.0000,  -999.00, 9,  -999.00, -999.000, 9, -999.000,   -999.0, 9,   -999.0,  -999.00, 9, -999.0000, 9, -999.0000, 9, -999.0000, 9, -999.0000, 9, -999.0000, 9, -999.0000, 9, -999, 9, -999, 9, -999, 9, -999, 9, -999, 9, -999, 9, -999, 9,  -999.00, 9,  -999.00, 9,  -999.00, 9,  -999.00, 9,   3.5024,  -999.00, 9, 1013,    8.7817,  -52.6578
316N200309, A20, 67, 1, 14, 14, 2, 20031016, 0916, 8.7825, -52.6568, 4621,  1999.40,   1999.4,   3.6649,  34.9760, 2,  34.9756, 2,    259.1, 2,    260.4, 2,    15.11, 2,    18.21, 2,     0.00, 2,     1.19, 2,    0.618, 2,    0.324, 2,    0.028, 2,    1.130, 2,   -999.0, 9,   -999.0, 9,  -999.00, 9,  -999.00, 9, -999.000, 9, -999.000, -999.0000, 9, -999.0000,  -999.00, 9,  -999.00, -999.000, 9, -999.000,   -999.0, 9,   -999.0,  -999.00, 9, -999.0000, 9, -999.0000, 9, -999.0000, 9, -999.0000, 9, -999.0000, 9, -999.0000, 9, -999, 9, -999, 9, -999, 9, -999, 9, -999, 9, -999, 9, -999, 9,  -999.00, 9,  -999.00, 9,  -999.00, 9,  -999.00, 9,   3.5024,  -999.00, 9, 1013,    8.7817,  -52.6578
316N200309, A20, 67, 1, 12, 12, 2, 20031016, 0916, 8.7825, -52.6568, 4621,  2249.90,   2249.9,   3.4058,  34.9665, 2,  34.9660, 2,    259.9, 2,    261.1, 2,    17.28, 2,    18.35, 2,     0.00, 2,     1.21, 2,    0.484, 2,    0.243, 2,    0.020, 2,    0.945, 2,   -999.0, 9,   -999.0, 9,  -999.00, 9,  -999.00, 9, -999.000, 9, -999.000, -999.0000, 9, -999.0000,  -999.00, 9,  -999.00, -999.000, 9, -999.000,   -999.0, 9,   -999.0,  -999.00, 9, -999.0000, 9, -999.0000, 9, -999.0000, 9, -999.0000, 9, -999.0000, 9, -999.0000, 9, -999, 9, -999, 9, -999, 9, -999, 9, -999, 9, -999, 9, -999, 9,  -999.00, 9,  -999.00, 9,  -999.00, 9,  -999.00, 9,   3.2231,  -999.00, 9, 1008,    8.7820,  -52.6572
316N200309, A20, 67, 1, 11, 11, 2, 20031016, 0916, 8.7825, -52.6568, 4621,  2499.70,   2499.7,   3.1454,  34.9549, 2,  34.9551, 2,    259.7, 2,    261.1, 2,    19.96, 2,    18.58, 2,     0.00, 2,     1.23, 2,    0.313, 2,    0.175, 2,    0.002, 2,    0.754, 2,   -999.0, 9,   -999.0, 9,  -999.00, 9,  -999.00, 9, -999.000, 9, -999.000, -999.0000, 9, -999.0000,  -999.00, 9,  -999.00, -999.000, 9, -999.000,   -999.0, 9,   -999.0,  -999.00, 9, -999.0000, 9, -999.0000, 9, -999.0000, 9, -999.0000, 9, -999.0000, 9, -999.0000, 9, -999, 9, -999, 9, -999, 9, -999, 9, -999, 9, -999, 9, -999, 9,  -999.00, 9,  -999.00, 9,  -999.00, 9,  -999.00, 9,   2.9428,  -999.00, 9, 1003,    8.7823,  -52.6569