BOTTLE,20220816CCHSIOAMB
EXPOCODE,SECT_ID,STNNBR,CASTNO,SAMPNO,BTLNBR,BTLNBR_FLAG_W,DATE,TIME,LATITUDE,LONGITUDE,DEPTH,CTDRAW,CTDPRS,CTDTMP,CTDSAL,CTDSAL_FLAG_W,SALNTY,SALNTY_FLAG_W,CTDOXY,CTDOXY_FLAG_W,OXYGEN,OXYGEN_FLAG_W,SILCAT,SILCAT_FLAG_W,NITRAT,NITRAT_FLAG_W,NITRIT,NITRIT_FLAG_W,PHSPHT,PHSPHT_FLAG_W,CFC-11,CFC-11_FLAG_W,CFC-12,CFC-12_FLAG_W,CFC113,CFC113_FLAG_W,CCL4,CCL4_FLAG_W,TCARBN,TCARBN_FLAG_W,ALKALI,ALKALI_FLAG_W,DOC,DOC_FLAG_W,TDN,TDN_FLAG_W,TRITUM,TRITUM_FLAG_W,TRITER,HELIUM,HELIUM_FLAG_W,HELIER,DELHE3,DELHE3_FLAG_W,DELHER,NEON,NEON_FLAG_W,NEONER,DELC14,DELC14_FLAG_W,C14ERR,DELC13,DELC13_FLAG_W,CDOM325,CDOM325_FLAG_W,CDOM340,CDOM340_FLAG_W,CDOM380,CDOM380_FLAG_W,CDOM412,CDOM412_FLAG_W,CDOMSL,CDOMSL_FLAG_W,CDOMSN,CDOMSN_FLAG_W,DCNS,DCNS_FLAG_W,ARABI,ARABI_FLAG_W,FUCO,FUCO_FLAG_W,GALA,GALA_FLAG_W,GLUC,GLUC_FLAG_W,MAN,MAN_FLAG_W,RHAM,RHAM_FLAG_W,BRDU,BRDU_FLAG_W,PEUK,PEUK_FLAG_W,PROC,PROC_FLAG_W,SYN,SYN_FLAG_W,THETA,BACT,BACT_FLAG_W,BTL_TIME,BTL_LAT,BTL_LON
,,,,,,,,,,,METERS,DBAR,DBAR,ITS-90,PSS-78,,PSS-78,,UMOL/KG,,UMOL/KG,,UMOL/KG,,UMOL/KG,,UMOL/KG,,UMOL/KG,,PMOL/KG,,PMOL/KG,,PMOL/KG,,PMOL/KG,,UMOL/KG,,UMOL/KG,,UMOL/KG,,UMOL/KG,,TU,,TU,NMOL/KG,,NMOL/KG,PERCNT,,PERCNT,NMOL/KG,,NMOL/KG,/MILLE,,/MILLE,/MILLE,,1/M,,1/M,,1/M,,1/M,,1/NM,,1/NM,,NMOL/KG,,NMOL/KG,,NMOL/KG,,NMOL/KG,,NMOL/KG,,NMOL/KG,,NMOL/KG,,PMOL/L/H,,E6/L,,E7/L,,E6/L,,DEG C,E8/L,,,,
316N200309, A20, 15, 1, 36, 36, 2, 20030928, 0436, 40.5088, -51.8142, 5208,     3.80,      3.8,  21.8872,  35.4225, 2,  35.4273, 2,    214.4, 2,    219.5, 2,    -0.02, 2,     0.09, 2,     0.00, 2,     0.05, 2,    2.040, 2,    1.312, 2,    0.151, 2,    2.143, 2,   2027.1, 2,   2334.4, 2,    68.50, 2,     4.50, 2, -999.000, 9, -999.000, -999.0000, 9, -999.0000,  -999.00, 9,  -999.00, -999.000, 9, -999.000,   -999.0, 9,   -999.0,  -999.00, 9, -999.0000, 9, -999.0000, 9, -999.0000, 9, -999.0000, 9, -999.0000, 9, -999.0000, 9, -999, 9, -999, 9, -999, 9, -999, 9, -999, 9, -999, 9, -999, 9,  -999.00, 9,  -999.00, 9,  -999.00, 9,  -999.00, 9,  21.8864,  -999.00, 9,  641,   40.5178,  -51.8163
316N200309, A20, 15, 1, 35, 35, 2, 20030928, 0436, 40.5088, -51.8142, 5208,    27.30,     27.3,  21.8762,  35.4155, 2,  35.4281, 2,    214.4, 2,    219.3, 2,    -0.05, 2,     0.14, 2,     0.00, 2,     0.03, 2,    2.065, 2,    1.326, 2,    0.065, 2,    2.116, 2,   2026.8, 2,   2333.5, 2,  -999.00, 9,  -999.00, 9, -999.000, 9, -999.000, -999.0000, 9, -999.0000,  -999.00, 9,  -999.00, -999.000, 9, -999.000,   -999.0, 9,   -999.0,  -999.00, 9, -999.0000, 9, -999.0000, 9, -999.0000, 9, -999.0000, 9, -999.0000, 9, -999.0000, 9, -999, 9, -999, 9, -999, 9, -999, 9, -999, 9, -999, 9, -999, 9,  -999.00, 9,  -999.00, 9,  -999.00, 9,  -999.00, 9,  21.8708,  -999.00, 9,  639,   40.5177,  -51.8163
316N200309, A20, 15, 1, 34, 34, 2, 20030928, 0436, 40.5088, -51.8142, 5208,    51.80,     51.8,  23.0299,  36.3598, 2,  36.3570, 2,    203.6, 2,    203.3, 2,     0.54, 2,     0.12, 2,     0.07, 2,     0.03, 2,    1.959, 2,    1.270, 2,    0.099, 2,    0.959, 2,   2074.8, 2,   2374.8, 2,    68.60, 2,     6.00, 2, -999.000, 9, -999.000, -999.0000, 9, -999.0000,  -999.00, 9,  -999.00, -999.000, 9, -999.000,   -999.0, 9,   -999.0,  -999.00, 9, -999.0000, 9, -999.0000, 9, -999.0000, 9, -999.0000, 9, -999.0000, 9, -999.0000, 9, -999, 9, -999, 9, -999, 9, -999, 9, -999, 9, -999, 9, -999, 9,  -999.00, 9,  -999.00, 9,  -999.00, 9,  -999.00, 9,  23.0193,  -999.00, 9,  637,   40.5176,  -51.8163
316N200309, A20, 15, 1, 33, 33, 2, 20030928, 0436, 40.5088, -51.8142, 5208,    76.80,     76.8,  18.3890,  35.8176, 2,  35.7997, 2,    194.4, 2,    205.1, 2,     0.71, 2,     2.85, 2,     0.20, 2,     0.23, 2,    2.471, 2,    1.551, 2,    0.142, 2,    1.160, 2,   2088.6, 2,   2347.7, 2,  -999.00, 9,  -999.00, 9, -999.000, 9, -999.000, -999.0000, 9, -999.0000,  -999.00, 9,  -999.00, -999.000, 9, -999.000,   -999.0, 9,   -999.0,  -999.00, 9, -999.0000, 9, -999.0000, 9, -999.0000, 9, -999.0000, 9, -999.0000, 9, -999.0000, 9, -999, 9, -999, 9, -999, 9, -999, 9, -999, 9, -999, 9, -999, 9,  -999.00, 9,  -999.00, 9,  -999.00, 9,  -999.00, 9,  18.3755,  -999.00, 9,  636,   40.5175,  -51.8164
316N200309, A20, 15, 1, 32, 32, 2, 20030928, 0436, 40.5088, -51.8142, 5208,   101.50,    101.5,  17.4143,  36.2564, 2,  36.2556, 2,    170.9, 2,    174.1, 2,     1.99, 2,     7.43, 2,     0.02, 2,     0.43, 2,    2.267, 2,    1.396, 2,    0.055, 2,    0.543, 2,   2125.0, 2,   2368.1, 2,    50.30, 2,    10.80, 2, -999.000, 9, -999.000, -999.0000, 9, -999.0000,  -999.00, 9,  -999.00, -999.000, 9, -999.000,   -999.0, 9,   -999.0,  -999.00, 9, -999.0000, 9, -999.0000, 9, -999.0000, 9, -999.0000, 9, -999.0000, 9, -999.0000, 9, -999, 9, -999, 9, -999, 9, -999, 9, -999, 9, -999, 9, -999, 9,  -999.00, 9,  -999.00, 9,  -999.00, 9,  -999.00, 9,  17.3971,  -999.00, 9,  634,   40.5174,  -51.8164
316N200309, A20, 15, 1, 31, 31, 2, 20030928, 0436, 40.5088, -51.8142, 5208,   126.70,    126.7,  16.2599,  36.0999, 2,  36.0970, 2,    172.8, 2,    177.4, 2,     2.37, 2,     8.77, 2,     0.02, 2,     0.51, 2,    2.310, 2,    1.383, 2,    0.057, 2,    0.607, 2,   2126.9, 2,   2355.6, 2,  -999.00, 9,  -999.00, 9, -999.000, 9, -999.000, -999.0000, 9, -999.0000,  -999.00, 9,  -999.00, -999.000, 9, -999.000,   -999.0, 9,   -999.0,  -999.00, 9, -999.0000, 9, -999.0000, 9, -999.0000, 9, -999.0000, 9, -999.0000, 9, -999.0000, 9, -999, 9, -999, 9, -999, 9, -999, 9, -999, 9, -999, 9, -999, 9,  -999.00, 9,  -999.00, 9,  -999.00, 9,  -999.00, 9,  16.2395,  -999.00, 9,  633,   40.5173,  -51.8164
316N200309, A20, 15, 1, 30, 30, 2, 20030928, 0436, 40.5088, -51.8142, 5208,   177.20,    177.2,  14.2551,  35.7580, 2,  35.7586, 2,    175.5, 2,    176.2, 2,     3.77, 2,    11.79, 2,     0.01, 2,     0.72, 2,    2.321, 2,    1.414, 2,    0.189, 2,    0.762, 2,   2143.5, 2,   2343.4, 2,    53.30, 2,    15.40, 2, -999.000, 9, -999.000, -999.0000, 9, -999.0000,  -999.00, 9,  -999.00, -999.000, 9, -999.000,   -999.0, 9,   -999.0,  -999.00, 9, -999.0000, 9, -999.0000, 9, -999.0000, 9, -999.0000, 9, -999.0000, 9, -999.0000, 9, -999, 9, -999, 9, -999, 9, -999, 9, -999, 9, -999, 9, -999, 9,  -999.00, 9,  -999.00, 9,  -999.00, 9,  -999.00, 9,  14.2290,  -999.00, 9,  631,   40.5173,  -51.8165
316N200309, A20, 15, 1, 29, 29, 2, 20030928, 0436, 40.5088, -51.8142, 5208,   227.00,    227.0,  13.5456,  35.7003, 2,  35.7027, 2,    169.7, 2,    176.5, 2,     4.55, 2,    13.21, 2,     0.01, 2,     0.80, 2,    2.195, 2,    1.320, 2,    0.018, 2,    0.735, 2,   2143.3, 2,   2342.3, 2,    48.70, 2,    15.90, 2, -999.000, 9, -999.000, -999.0000, 9, -999.0000,  -999.00, 9,  -999.00, -999.000, 9, -999.000,   -999.0, 9,   -999.0,  -999.00, 9, -999.0000, 9, -999.0000, 9, -999.0000, 9, -999.0000, 9, -999.0000, 9, -999.0000, 9, -999, 9, -999, 9, -999, 9, -999, 9, -999, 9, -999, 9, -999, 9,  -999.00, 9,  -999.00, 9,  -999.00, 9,  -999.00, 9,  13.5132,  -999.00, 9,  629,   40.5172,  -51.8164
316N200309, A20, 15, 1, 28, 28, 2, 20030928, 0436, 40.5088, -51.8142, 5208,   274.80,    274.8,  12.9799,  35.6585, 2,  35.6563, 2,    166.9, 2,    163.8, 2,     6.25, 2,    16.04, 2,     0.01, 2,     0.98, 2,    1.875, 2,    1.119, 2,    0.066, 2,    0.531, 2,   2156.3, 2,   2333.0, 2,    51.50, 2,    19.70, 2, -999.000, 9, -999.000, -999.0000, 9, -999.0000,  -999.00, 9,  -999.00, -999.000, 9, -999.000,   -999.0, 9,   -999.0,  -999.00, 9, -999.0000, 9, -999.0000, 9, -999.0000, 9, -999.0000, 9, -999.0000, 9, -999.0000, 9, -999, 9, -999, 9, -999, 9, -999, 9, -999, 9, -999, 9, -999, 9,  -999.00, 9,  -999.00, 9,  -999.00, 9,  -999.00, 9,  12.9418,  -999.00, 9,  627,   40.5172,  -51.8164
316N200309, A20, 15, 1, 27, 27, 2, 20030928, 0436, 40.5088, -51.8142, 5208,   350.90,    350.9,  11.4125,  35.4288, 2,  35.4336, 2,    157.2, 2,    156.7, 2,     8.57, 2,    19.07, 2,     0.01, 2,     1.18, 2,    1.643, 2,    0.934, 2,    0.052, 2,    0.614, 2,   2169.5, 2,   2325.4, 2,    46.30, 2,  -999.00, 9, -999.000, 9, -999.000, -999.0000, 9, -999.0000,  -999.00, 9,  -999.00, -999.000, 9, -999.000,   -999.0, 9,   -999.0,  -999.00, 9, -999.0000, 9, -999.0000, 9, -999.0000, 9, -999.0000, 9, -999.0000, 9, -999.0000, 9, -999, 9, -999, 9, -999, 9, -999, 9, -999, 9, -999, 9, -999, 9,  -999.00, 9,  -999.00, 9,  -999.00, 9,  -999.00, 9,  11.3677,  -999.00, 9,  624,   40.5171,  -51.8162
316N200309, A20, 15, 1, 26, 26, 2, 20030928, 0436, 40.5088, -51.8142, 5208,   449.60,    449.6,   9.0803,  35.1586, 2,  35.1540, 2,    146.4, 2,    147.4, 2,    12.94, 2,    23.52, 2,     0.01, 2,     1.49, 2,    1.198, 2,    0.680, 2,    0.038, 2,    0.677, 2,   2188.7, 2,   2316.6, 2,    44.20, 2,  -999.00, 9, -999.000, 9, -999.000, -999.0000, 9, -999.0000,  -999.00, 9,  -999.00, -999.000, 9, -999.000,   -999.0, 9,   -999.0,  -999.00, 9, -999.0000, 9, -999.0000, 9, -999.0000, 9, -999.0000, 9, -999.0000, 9, -999.0000, 9, -999, 9, -999, 9, -999, 9, -999, 9, -999, 9, -999, 9, -999, 9,  -999.00, 9,  -999.00, 9,  -999.00, 9,  -999.00, 9,   9.0304,  -999.00, 9,  622,   40.5169,  -51.8161
316N200309, A20, 15, 1, 25, 25, 2, 20030928, 0436, 40.5088, -51.8142, 5208,   550.00,    550.0,   8.1607,  35.1127, 2,  35.1114, 2,    153.8, 2,    156.5, 2,    13.84, 2,    23.96, 2,     0.01, 2,     1.53, 2,    1.049, 2,    0.590, 2,    0.039, 2,    0.683, 2,   2191.3, 2,   2311.6, 2,    44.70, 2,  -999.00, 9, -999.000, 9, -999.000, -999.0000, 9, -999.0000,  -999.00, 9,  -999.00, -999.000, 9, -999.000,   -999.0, 9,   -999.0,  -999.00, 9, -999.0000, 9, -999.0000, 9, -999.0000, 9, -999.0000, 9, -999.0000, 9, -999.0000, 9, -999, 9, -999, 9, -999, 9, -999, 9, -999, 9, -999, 9, -999, 9,  -999.00, 9,  -999.00, 9,  -999.00, 9,  -999.00, 9,   8.1031,  -999.00, 9,  619,   40.5166,  -51.8161
316N200309, A20, 15, 1, 24, 24, 2, 20030928, 0436, 40.5088, -51.8142, 5208,   675.20,    675.2,   4.9189,  34.7932, 2,  34.7974, 2,    240.3, 2,    231.6, 2,    11.25, 2,    18.71, 2,     0.01, 2,     1.25, 2,    2.996, 2,    1.722, 2,    0.221, 2,    3.032, 2,   2167.9, 2,   2295.9, 2,    47.00, 2,  -999.00, 9, -999.000, 9, -999.000, -999.0000, 9, -999.0000,  -999.00, 9,  -999.00, -999.000, 9, -999.000,   -999.0, 9,   -999.0,  -999.00, 9, -999.0000, 9, -999.0000, 9, -999.0000, 9, -999.0000, 9, -999.0000, 9, -999.0000, 9, -999, 9, -999, 9, -999, 9, -999, 9, -999, 9, -999, 9, -999, 9,  -999.00, 9,  -999.00, 9,  -999.00, 9,  -999.00, 9,   4.8643,  -999.00, 9,  616,   40.5164,  -51.8162
316N200309, A20, 15, 1, 23, 23, 2, 20030928, 0436, 40.5088, -51.8142, 5208,   825.40,    825.4,   4.2409,  34.8680, 2,  34.8766, 2,    254.7, 2,    261.8, 2,     9.89, 2,    17.41, 2,     0.01, 2,     1.15, 2,    3.425, 2,    1.962, 2,    0.250, 2,    3.592, 2,   2163.9, 2,   2292.5, 2,    47.50, 2,  -999.00, 9, -999.000, 9, -999.000, -999.0000, 9, -999.0000,  -999.00, 9,  -999.00, -999.000, 9, -999.000,   -999.0, 9,   -999.0,  -999.00, 9, -999.0000, 9, -999.0000, 9, -999.0000, 9, -999.0000, 9, -999.0000, 9, -999.0000, 9, -999, 9, -999, 9, -999, 9, -999, 9, -999, 9, -999, 9, -999, 9,  -999.00, 9,  -999.00, 9,  -999.00, 9,  -999.00, 9,   4.1775,  -999.00, 9,  612,   40.5160,  -51.8161
316N200309, A20, 15, 1, 22, 22, 2, 20030928, 0436, 40.5088, -51.8142, 5208,   974.80,    974.8,   3.7992,  34.8559, 2,  34.8583, 2,    278.1, 2,    281.0, 2,     8.84, 2,    16.59, 2,     0.01, 2,     1.09, 2,    4.163, 2,    2.302, 2,    0.316, 2,    4.338, 2,   2159.3, 2,   2298.8, 2,    49.30, 2,  -999.00, 9, -999.000, 9, -999.000, -999.0000, 9, -999.0000,  -999.00, 9,  -999.00, -999.000, 9, -999.000,   -999.0, 9,   -999.0,  -999.00, 9, -999.0000, 9, -999.0000, 9, -999.0000, 9, -999.0000, 9, -999.0000, 9, -999.0000, 9, -999, 9, -999, 9, -999, 9, -999, 9, -999, 9, -999, 9, -999, 9,  -999.00, 9,  -999.00, 9,  -999.00, 9,  -999.00, 9,   3.7265,  -999.00, 9,  609,   40.5157,  -51.8163
316N200309, A20, 15, 1, 21, 21, 2, 20030928, 0436, 40.5088, -51.8142, 5208,  1125.00,   1125.0,   3.8114,  34.8799, 2,  34.8810, 2,    276.4, 2,    280.3, 2,     9.02, 2,    16.79, 2,     0.01, 2,     1.10, 2,    3.901, 2,    2.173, 2,    0.276, 2,    4.191, 2,   2159.8, 2,   2297.4, 2,    46.30, 2,  -999.00, 9, -999.000, 9, -999.000, -999.0000, 9, -999.0000,  -999.00, 9,  -999.00, -999.000, 9, -999.000,   -999.0, 9,   -999.0,  -999.00, 9, -999.0000, 9, -999.0000, 9, -999.0000, 9, -999.0000, 9, -999.0000, 9, -999.0000, 9, -999, 9, -999, 9, -999, 9, -999, 9, -999, 9, -999, 9, -999, 9,  -999.00, 9,  -999.00, 9,  -999.00, 9,  -999.00, 9,   3.7262,  -999.00, 9,  606,   40.5155,  -51.8166
316N200309, A20, 15, 1, 20, 20, 2, 20030928, 0436, 40.5088, -51.8142, 5208,  1274.60,   1274.6,   4.2307,  34.9749, 2,  34.9819, 3,    259.5, 2,    258.4, 2,    11.13, 2,    18.02, 2,     0.01, 2,     1.17, 2,    2.153, 2,    1.157, 2,    0.114, 2,    2.441, 2,   2163.1, 2,   2306.6, 2,    44.30, 2,  -999.00, 9, -999.000, 9, -999.000, -999.0000, 9, -999.0000,  -999.00, 9,  -999.00, -999.000, 9, -999.000,   -999.0, 9,   -999.0,  -999.00, 9, -999.0000, 9, -999.0000, 9, -999.0000, 9, -999.0000, 9, -999.0000, 9, -999.0000, 9, -999, 9, -999, 9, -999, 9, -999, 9, -999, 9, -999, 9, -999, 9,  -999.00, 9,  -999.00, 9,  -999.00, 9,  -999.00, 9,   4.1284,  -999.00, 9,  602,   40.5153,  -51.8168
316N200309, A20, 15, 1, 19, 19, 2, 20030928, 0436, 40.5088, -51.8142, 5208,  1399.60,   1399.6,   3.7959,  34.9209, 2,  34.9221, 2,    271.6, 2,    272.5, 2,    10.18, 2,    17.17, 2,     0.00, 2,     1.12, 2,    2.967, 2,    1.635, 2,    0.187, 2,    3.274, 2,   2161.3, 2,   2299.8, 2,  -999.00, 9,  -999.00, 9, -999.000, 9, -999.000, -999.0000, 9, -999.0000,  -999.00, 9,  -999.00, -999.000, 9, -999.000,   -999.0, 9,   -999.0,  -999.00, 9, -999.0000, 9, -999.0000, 9, -999.0000, 9, -999.0000, 9, -999.0000, 9, -999.0000, 9, -999, 9, -999, 9, -999, 9, -999, 9, -999, 9, -999, 9, -999, 9,  -999.00, 9,  -999.00, 9,  -999.00, 9,  -999.00, 9,   3.6871,  -999.00, 9,  559,   40.5150,  -51.8170
316N200309, A20, 15, 1, 18, 18, 2, 20030928, 0436, 40.5088, -51.8142, 5208,  1499.80,   1499.8,   3.7492,  34.9190, 2,  34.9193, 2,    273.5, 2,    273.4, 2,    10.26, 2,    17.16, 2,     0.00, 2,     1.12, 2,    2.949, 2,    1.624, 2,    0.183, 2,    3.280, 2,   2156.4, 2,   2297.4, 2,    44.80, 2,  -999.00, 9, -999.000, 9, -999.000, -999.0000, 9, -999.0000,  -999.00, 9,  -999.00, -999.000, 9, -999.000,   -999.0, 9,   -999.0,  -999.00, 9, -999.0000, 9, -999.0000, 9, -999.0000, 9, -999.0000, 9, -999.0000, 9, -999.0000, 9, -999, 9, -999, 9, -999, 9, -999, 9, -999, 9, -999, 9, -999, 9,  -999.00, 9,  -999.00, 9,  -999.00, 9,  -999.00, 9,   3.6319,  -999.00, 9,  556,   40.5149,  -51.8169
316N200309, A20, 15, 1, 17, 17, 2, 20030928, 0436, 40.5088, -51.8142, 5208,  1624.80,   1624.8,   3.6386,  34.9136, 2,  34.9146, 2,    274.8, 2,    274.6, 2,    10.44, 2,    17.20, 2,     0.00, 2,     1.12, 2,    2.884, 2,    1.560, 2,    0.194, 2,    3.201, 2,   2159.5, 2,   2304.1, 2,  -999.00, 9,  -999.00, 9, -999.000, 9, -999.000, -999.0000, 9, -999.0000,  -999.00, 9,  -999.00, -999.000, 9, -999.000,   -999.0, 9,   -999.0,  -999.00, 9, -999.0000, 9, -999.0000, 9, -999.0000, 9, -999.0000, 9, -999.0000, 9, -999.0000, 9, -999, 9, -999, 9, -999, 9, -999, 9, -999, 9, -999, 9, -999, 9,  -999.00, 9,  -999.00, 9,  -999.00, 9,  -999.00, 9,   3.5115,  -999.00, 9,  553,   40.5147,  -51.8168
316N200309, A20, 15, 1, 16, 16, 2, 20030928, 0436, 40.5088, -51.8142, 5208,  1774.50,   1774.5,   3.5734,  34.9185, 2,  34.9195, 2,    274.3, 2,    273.6, 2,    10.92, 2,    17.35, 2,     0.00, 2,     1.13, 2,    2.551, 2,    1.359, 2,    0.142, 2,    2.970, 2,   2158.2, 2,   2300.4, 2,    46.70, 2,  -999.00, 9, -999.000, 9, -999.000, -999.0000, 9, -999.0000,  -999.00, 9,  -999.00, -999.000, 9, -999.000,   -999.0, 9,   -999.0,  -999.00, 9, -999.0000, 9, -999.0000, 9, -999.0000, 9, -999.0000, 9, -999.0000, 9, -999.0000, 9, -999, 9, -999, 9, -999, 9, -999, 9, -999, 9, -999, 9, -999, 9,  -999.00, 9,  -999.00, 9,  -999.00, 9,  -999.00, 9,   3.4334,  -999.00, 9,  550,   40.5144,  -51.8167
316N200309, A20, 15, 1, 15, 15, 2, 20030928, 0436, 40.5088, -51.8142, 5208,  1925.40,   1925.4,   3.4411,  34.9101, 2,  34.9118, 2,    276.6, 2,    276.4, 2,    11.09, 2,    17.24, 2,     0.00, 2,     1.12, 2,    2.619, 6,    1.303, 6,    0.146, 2,    2.970, 2,   2158.1, 2,   2301.2, 2,    45.70, 2,  -999.00, 9, -999.000, 9, -999.000, -999.0000, 9, -999.0000,  -999.00, 9,  -999.00, -999.000, 9, -999.000,   -999.0, 9,   -999.0,  -999.00, 9, -999.0000, 9, -999.0000, 9, -999.0000, 9, -999.0000, 9, -999.0000, 9, -999.0000, 9, -999, 9, -999, 9, -999, 9, -999, 9, -999, 9, -999, 9, -999, 9,  -999.00, 9,  -999.00, 9,  -999.00, 9,  -999.00, 9,   3.2890,  -999.00, 9,  546,   40.5141,  -51.8164
316N200309, A20, 15, 1, 14, 14, 2, 20030928, 0436, 40.5088, -51.8142, 5208,  2125.70,   2125.7,   3.4098,  34.9251, 2,  34.9262, 2,    275.9, 2,    273.1, 2,    12.29, 2,    17.43, 2,     0.00, 2,     1.14, 2,    1.969, 2,    1.031, 2,    0.100, 2,    2.457, 2,   2158.6, 2,   2304.0, 2,    43.30, 2,  -999.00, 9, -999.000, 9, -999.000, -999.0000, 9, -999.0000,  -999.00, 9,  -999.00, -999.000, 9, -999.000,   -999.0, 9,   -999.0,  -999.00, 9, -999.0000, 9, -999.0000, 9, -999.0000, 9, -999.0000, 9, -999.0000, 9, -999.0000, 9, -999, 9, -999, 9, -999, 9, -999, 9, -999, 9, -999, 9, -999, 9,  -999.00, 9,  -999.00, 9,  -999.00, 9,  -999.00, 9,   3.2392,  -999.00, 9,  542,   40.5140,  -51.8160
316N200309, A20, 15, 1, 13, 13, 2, 20030928, 0436, 40.5088, -51.8142, 5208,  2375.00,   2375.0,   3.2827,  34.9255, 2,  34.9268, 2,    273.2, 2,    273.1, 2,    13.18, 2,    17.32, 2,     0.00, 2,     1.13, 2,    1.780, 2,    0.903, 2,    0.090, 2,    2.204, 2,   2158.1, 2,   2301.1, 2,  -999.00, 9,  -999.00, 9, -999.000, 9, -999.000, -999.0000, 9, -999.0000,  -999.00, 9,  -999.00, -999.000, 9, -999.000,   -999.0, 9,   -999.0,  -999.00, 9, -999.0000, 9, -999.0000, 9, -999.0000, 9, -999.0000, 9, -999.0000, 9, -999.0000, 9, -999, 9, -999, 9, -999, 9, -999, 9, -999, 9, -999, 9, -999, 9,  -999.00, 9,  -999.00, 9,  -999.00, 9,  -999.00, 9,   3.0901,  -999.00, 9,  537,   40.5137,  -51.8157
316N200309, A20, 15, 1, 12, 12, 2, 20030928, 0436, 40.5088, -51.8142, 5208,  2623.80,   2623.8,   3.1975,  34.9397, 2,  34.9402, 2,    268.5, 2,    268.7, 2,    15.62, 2,    17.61, 2,     0.00, 2,     1.16, 2,    1.153, 2,    0.594, 2,    0.048, 2,    1.597, 2,   2161.2, 2,   2309.1, 2,    42.90, 2,  -999.00, 9, -999.000, 9, -999.000, -999.0000, 9, -999.0000,  -999.00, 9,  -999.00, -999.000, 9, -999.000,   -999.0, 9,   -999.0,  -999.00, 9, -999.0000, 9, -999.0000, 9, -999.0000, 9, -999.0000, 9, -999.0000, 9, -999.0000, 9, -999, 9, -999, 9, -999, 9, -999, 9, -999, 9, -999, 9, -999, 9,  -999.00, 9,  -999.00, 9,  -999.00, 9,  -999.00, 9,   2.9816,  -999.00, 9,  532,   40.5132,  -51.8155
316N200309, A20, 15, 1, 11, 11, 2, 20030928, 0436, 40.5088, -51.8142, 5208,  2874.80,   2874.8,   3.0385,  34.9373, 2,  34.9376, 2,    267.5, 2,    268.2, 2,    17.33, 2,    17.75, 2,     0.00, 2,     1.17, 2,    0.947, 2,    0.489, 2,    0.038, 2,    1.341, 2,   2164.6, 2,   2311.0, 2,  -999.00, 9,  -999.00, 9, -999.000, 9, -999.000, -999.0000, 9, -999.0000,  -999.00, 9,  -999.00, -999.000, 9, -999.000,   -999.0, 9,   -999.0,  -999.00, 9, -999.0000, 9, -999.0000, 9, -999.0000, 9, -999.0000, 9, -999.0000, 9, -999.0000, 9, -999, 9, -999, 9, -999, 9, -999, 9, -999, 9, -999, 9, -999, 9,  -999.00, 9,  -999.00, 9,  -999.00, 9,  -999.00, 9,   2.8000,  -999.00, 9,  527,   40.5126,  -51.8155