BOTTLE,20220816CCHSIOAMB
EXPOCODE,SECT_ID,STNNBR,CASTNO,SAMPNO,BTLNBR,BTLNBR_FLAG_W,DATE,TIME,LATITUDE,LONGITUDE,DEPTH,CTDRAW,CTDPRS,CTDTMP,CTDSAL,CTDSAL_FLAG_W,SALNTY,SALNTY_FLAG_W,CTDOXY,CTDOXY_FLAG_W,OXYGEN,OXYGEN_FLAG_W,SILCAT,SILCAT_FLAG_W,NITRAT,NITRAT_FLAG_W,NITRIT,NITRIT_FLAG_W,PHSPHT,PHSPHT_FLAG_W,CFC-11,CFC-11_FLAG_W,CFC-12,CFC-12_FLAG_W,CFC113,CFC113_FLAG_W,CCL4,CCL4_FLAG_W,TCARBN,TCARBN_FLAG_W,ALKALI,ALKALI_FLAG_W,DOC,DOC_FLAG_W,TDN,TDN_FLAG_W,TRITUM,TRITUM_FLAG_W,TRITER,HELIUM,HELIUM_FLAG_W,HELIER,DELHE3,DELHE3_FLAG_W,DELHER,NEON,NEON_FLAG_W,NEONER,DELC14,DELC14_FLAG_W,C14ERR,DELC13,DELC13_FLAG_W,CDOM325,CDOM325_FLAG_W,CDOM340,CDOM340_FLAG_W,CDOM380,CDOM380_FLAG_W,CDOM412,CDOM412_FLAG_W,CDOMSL,CDOMSL_FLAG_W,CDOMSN,CDOMSN_FLAG_W,DCNS,DCNS_FLAG_W,ARABI,ARABI_FLAG_W,FUCO,FUCO_FLAG_W,GALA,GALA_FLAG_W,GLUC,GLUC_FLAG_W,MAN,MAN_FLAG_W,RHAM,RHAM_FLAG_W,BRDU,BRDU_FLAG_W,PEUK,PEUK_FLAG_W,PROC,PROC_FLAG_W,SYN,SYN_FLAG_W,THETA,BACT,BACT_FLAG_W,BTL_TIME,BTL_LAT,BTL_LON
,,,,,,,,,,,METERS,DBAR,DBAR,ITS-90,PSS-78,,PSS-78,,UMOL/KG,,UMOL/KG,,UMOL/KG,,UMOL/KG,,UMOL/KG,,UMOL/KG,,PMOL/KG,,PMOL/KG,,PMOL/KG,,PMOL/KG,,UMOL/KG,,UMOL/KG,,UMOL/KG,,UMOL/KG,,TU,,TU,NMOL/KG,,NMOL/KG,PERCNT,,PERCNT,NMOL/KG,,NMOL/KG,/MILLE,,/MILLE,/MILLE,,1/M,,1/M,,1/M,,1/M,,1/NM,,1/NM,,NMOL/KG,,NMOL/KG,,NMOL/KG,,NMOL/KG,,NMOL/KG,,NMOL/KG,,NMOL/KG,,PMOL/L/H,,E6/L,,E7/L,,E6/L,,DEG C,E8/L,,,,
316N200309, A20, 59, 1, 10, 10, 2, 20031014, 0750, 11.5210, -52.3488, 4987,  2999.80,   2999.8,   2.7682,  34.9298, 2,  34.9309, 2,    254.9, 2,    255.3, 2,    29.38, 2,    19.75, 2,     0.00, 2,     1.33, 2,    0.108, 2,    0.064, 2,    0.002, 2,    0.351, 2,   -999.0, 9,   -999.0, 9,  -999.00, 9,  -999.00, 9, -999.000, 9, -999.000, -999.0000, 9, -999.0000,  -999.00, 9,  -999.00, -999.000, 9, -999.000,   -999.0, 9,   -999.0,  -999.00, 9, -999.0000, 9, -999.0000, 9, -999.0000, 9, -999.0000, 9, -999.0000, 9, -999.0000, 9, -999, 9, -999, 9, -999, 9, -999, 9, -999, 9, -999, 9, -999, 9,  -999.00, 9,  -999.00, 9,  -999.00, 9,  -999.00, 9,   2.5225,  -999.00, 9,  835,   11.5237,  -52.3547
316N200309, A20, 59, 1, 9, 9, 2, 20031014, 0750, 11.5210, -52.3488, 4987,  3200.10,   3200.1,   2.6818,  34.9231, 2,  34.9233, 2,    255.8, 2,    255.9, 2,    31.03, 2,    19.83, 2,     0.00, 2,     1.34, 2,    0.102, 2,    0.053, 2,    0.002, 2,    0.389, 2,   -999.0, 9,   -999.0, 9,  -999.00, 9,  -999.00, 9, -999.000, 9, -999.000, -999.0000, 9, -999.0000,  -999.00, 9,  -999.00, -999.000, 9, -999.000,   -999.0, 9,   -999.0,  -999.00, 9, -999.0000, 9, -999.0000, 9, -999.0000, 9, -999.0000, 9, -999.0000, 9, -999.0000, 9, -999, 9, -999, 9, -999, 9, -999, 9, -999, 9, -999, 9, -999, 9,  -999.00, 9,  -999.00, 9,  -999.00, 9,  -999.00, 9,   2.4171,  -999.00, 9,  831,   11.5235,  -52.3541
316N200309, A20, 59, 1, 8, 8, 2, 20031014, 0750, 11.5210, -52.3488, 4987,  3399.20,   3399.2,   2.5973,  34.9166, 2,  34.9178, 2,    257.1, 2,    257.3, 2,    31.34, 2,    19.73, 2,     0.00, 2,     1.33, 2,    0.145, 2,    0.086, 2,    0.009, 2,    0.441, 2,   -999.0, 9,   -999.0, 9,  -999.00, 9,  -999.00, 9, -999.000, 9, -999.000, -999.0000, 9, -999.0000,  -999.00, 9,  -999.00, -999.000, 9, -999.000,   -999.0, 9,   -999.0,  -999.00, 9, -999.0000, 9, -999.0000, 9, -999.0000, 9, -999.0000, 9, -999.0000, 9, -999.0000, 9, -999, 9, -999, 9, -999, 9, -999, 9, -999, 9, -999, 9, -999, 9,  -999.00, 9,  -999.00, 9,  -999.00, 9,  -999.00, 9,   2.3134,  -999.00, 9,  826,   11.5231,  -52.3535
316N200309, A20, 59, 1, 7, 7, 2, 20031014, 0750, 11.5210, -52.3488, 4987,  3600.40,   3600.4,   2.5071,  34.9106, 2,  34.9111, 2,    260.2, 2,    261.9, 2,    29.79, 2,    19.10, 2,     0.00, 2,     1.29, 2,    0.263, 2,    0.146, 2,    0.005, 2,    0.637, 2,   -999.0, 9,   -999.0, 9,  -999.00, 9,  -999.00, 9, -999.000, 9, -999.000, -999.0000, 9, -999.0000,  -999.00, 9,  -999.00, -999.000, 9, -999.000,   -999.0, 9,   -999.0,  -999.00, 9, -999.0000, 9, -999.0000, 9, -999.0000, 9, -999.0000, 9, -999.0000, 9, -999.0000, 9, -999, 9, -999, 9, -999, 9, -999, 9, -999, 9, -999, 9, -999, 9,  -999.00, 9,  -999.00, 9,  -999.00, 9,  -999.00, 9,   2.2035,  -999.00, 9,  822,   11.5228,  -52.3529
316N200309, A20, 59, 1, 6, 6, 2, 20031014, 0750, 11.5210, -52.3488, 4987,  3801.10,   3801.1,   2.4244,  34.9051, 2,  34.9054, 2,    263.8, 2,    264.2, 2,    28.96, 2,    18.76, 2,     0.00, 2,     1.28, 2,    0.339, 2,    0.178, 2,    0.000, 2,    0.791, 2,   -999.0, 9,   -999.0, 9,  -999.00, 9,  -999.00, 9, -999.000, 9, -999.000, -999.0000, 9, -999.0000,  -999.00, 9,  -999.00, -999.000, 9, -999.000,   -999.0, 9,   -999.0,  -999.00, 9, -999.0000, 9, -999.0000, 9, -999.0000, 9, -999.0000, 9, -999.0000, 9, -999.0000, 9, -999, 9, -999, 9, -999, 9, -999, 9, -999, 9, -999, 9, -999, 9,  -999.00, 9,  -999.00, 9,  -999.00, 9,  -999.00, 9,   2.1007,  -999.00, 9,  818,   11.5225,  -52.3524
316N200309, A20, 59, 1, 5, 5, 2, 20031014, 0750, 11.5210, -52.3488, 4987,  4050.10,   4050.1,   2.3439,  34.8983, 2,  34.8985, 2,    264.1, 2,    265.0, 2,    30.61, 2,    18.89, 2,     0.00, 2,     1.29, 2,    0.330, 2,    0.170, 2,    0.007, 2,    0.814, 2,   -999.0, 9,   -999.0, 9,  -999.00, 9,  -999.00, 9, -999.000, 9, -999.000, -999.0000, 9, -999.0000,  -999.00, 9,  -999.00, -999.000, 9, -999.000,   -999.0, 9,   -999.0,  -999.00, 9, -999.0000, 9, -999.0000, 9, -999.0000, 9, -999.0000, 9, -999.0000, 9, -999.0000, 9, -999, 9, -999, 9, -999, 9, -999, 9, -999, 9, -999, 9, -999, 9,  -999.00, 9,  -999.00, 9,  -999.00, 9,  -999.00, 9,   1.9943,  -999.00, 9,  813,   11.5222,  -52.3516
316N200309, A20, 59, 1, 4, 4, 2, 20031014, 0750, 11.5210, -52.3488, 4987,  4295.00,   4295.0,   2.2966,  34.8929, 2,  34.8949, 2,    262.8, 2,    263.5, 2,    32.48, 2,    19.03, 2,     0.00, 2,     1.30, 2,    0.309, 2,    0.169, 2,    0.010, 2,    0.765, 2,   -999.0, 9,   -999.0, 9,  -999.00, 9,  -999.00, 9, -999.000, 9, -999.000, -999.0000, 9, -999.0000,  -999.00, 9,  -999.00, -999.000, 9, -999.000,   -999.0, 9,   -999.0,  -999.00, 9, -999.0000, 9, -999.0000, 9, -999.0000, 9, -999.0000, 9, -999.0000, 9, -999.0000, 9, -999, 9, -999, 9, -999, 9, -999, 9, -999, 9, -999, 9, -999, 9,  -999.00, 9,  -999.00, 9,  -999.00, 9,  -999.00, 9,   1.9200,  -999.00, 9,  808,   11.5219,  -52.3510
316N200309, A20, 59, 1, 3, 3, 2, 20031014, 0750, 11.5210, -52.3488, 4987,  4600.50,   4600.5,   2.2167,  34.8806, 2,  34.8806, 2,    259.0, 2,    259.0, 2,    39.00, 2,    20.02, 2,     0.00, 2,     1.37, 2,    0.204, 2,    0.118, 2,    0.007, 2,    0.583, 2,   -999.0, 9,   -999.0, 9,  -999.00, 9,  -999.00, 9, -999.000, 9, -999.000, -999.0000, 9, -999.0000,  -999.00, 9,  -999.00, -999.000, 9, -999.000,   -999.0, 9,   -999.0,  -999.00, 9, -999.0000, 9, -999.0000, 9, -999.0000, 9, -999.0000, 9, -999.0000, 9, -999.0000, 9, -999, 9, -999, 9, -999, 9, -999, 9, -999, 9, -999, 9, -999, 9,  -999.00, 9,  -999.00, 9,  -999.00, 9,  -999.00, 9,   1.8061,  -999.00, 9,  801,   11.5214,  -52.3502
316N200309, A20, 59, 1, 2, 2, 2, 20031014, 0750, 11.5210, -52.3488, 4987,  4875.00,   4875.0,   2.0420,  34.8554, 2,  34.8560, 2,    251.0, 2,    251.3, 2,    51.35, 2,    21.96, 2,     0.00, 2,     1.51, 2,    0.104, 2,    0.072, 2,    0.002, 2,    0.412, 2,   -999.0, 9,   -999.0, 9,  -999.00, 9,  -999.00, 9, -999.000, 9, -999.000, -999.0000, 9, -999.0000,  -999.00, 9,  -999.00, -999.000, 9, -999.000,   -999.0, 9,   -999.0,  -999.00, 9, -999.0000, 9, -999.0000, 9, -999.0000, 9, -999.0000, 9, -999.0000, 9, -999.0000, 9, -999, 9, -999, 9, -999, 9, -999, 9, -999, 9, -999, 9, -999, 9,  -999.00, 9,  -999.00, 9,  -999.00, 9,  -999.00, 9,   1.6037,  -999.00, 9,  755,   11.5211,  -52.3494
316N200309, A20, 59, 1, 1, 1, 2, 20031014, 0750, 11.5210, -52.3488, 4987,  5051.20,   5051.2,   1.7538,  34.8180, 2,  34.8182, 2,    240.2, 2,    240.9, 2,    68.87, 2,    24.58, 2,     0.00, 2,     1.70, 2,    0.094, 6,    0.052, 6,    0.001, 2,    0.327, 2,   -999.0, 9,   -999.0, 9,  -999.00, 9,  -999.00, 9, -999.000, 9, -999.000, -999.0000, 9, -999.0000,  -999.00, 9,  -999.00, -999.000, 9, -999.000,   -999.0, 9,   -999.0,  -999.00, 9, -999.0000, 9, -999.0000, 9, -999.0000, 9, -999.0000, 9, -999.0000, 9, -999.0000, 9, -999, 9, -999, 9, -999, 9, -999, 9, -999, 9, -999, 9, -999, 9,  -999.00, 9,  -999.00, 9,  -999.00, 9,  -999.00, 9,   1.3037,  -999.00, 9,  750,   11.5209,  -52.3488