BOTTLE,20220816CCHSIOAMB
EXPOCODE,SECT_ID,STNNBR,CASTNO,SAMPNO,BTLNBR,BTLNBR_FLAG_W,DATE,TIME,LATITUDE,LONGITUDE,DEPTH,CTDRAW,CTDPRS,CTDTMP,CTDSAL,CTDSAL_FLAG_W,SALNTY,SALNTY_FLAG_W,CTDOXY,CTDOXY_FLAG_W,OXYGEN,OXYGEN_FLAG_W,SILCAT,SILCAT_FLAG_W,NITRAT,NITRAT_FLAG_W,NITRIT,NITRIT_FLAG_W,PHSPHT,PHSPHT_FLAG_W,CFC-11,CFC-11_FLAG_W,CFC-12,CFC-12_FLAG_W,CFC113,CFC113_FLAG_W,CCL4,CCL4_FLAG_W,TCARBN,TCARBN_FLAG_W,ALKALI,ALKALI_FLAG_W,DOC,DOC_FLAG_W,TDN,TDN_FLAG_W,TRITUM,TRITUM_FLAG_W,TRITER,HELIUM,HELIUM_FLAG_W,HELIER,DELHE3,DELHE3_FLAG_W,DELHER,NEON,NEON_FLAG_W,NEONER,DELC14,DELC14_FLAG_W,C14ERR,DELC13,DELC13_FLAG_W,CDOM325,CDOM325_FLAG_W,CDOM340,CDOM340_FLAG_W,CDOM380,CDOM380_FLAG_W,CDOM412,CDOM412_FLAG_W,CDOMSL,CDOMSL_FLAG_W,CDOMSN,CDOMSN_FLAG_W,DCNS,DCNS_FLAG_W,ARABI,ARABI_FLAG_W,FUCO,FUCO_FLAG_W,GALA,GALA_FLAG_W,GLUC,GLUC_FLAG_W,MAN,MAN_FLAG_W,RHAM,RHAM_FLAG_W,BRDU,BRDU_FLAG_W,PEUK,PEUK_FLAG_W,PROC,PROC_FLAG_W,SYN,SYN_FLAG_W,THETA,BACT,BACT_FLAG_W,BTL_TIME,BTL_LAT,BTL_LON
,,,,,,,,,,,METERS,DBAR,DBAR,ITS-90,PSS-78,,PSS-78,,UMOL/KG,,UMOL/KG,,UMOL/KG,,UMOL/KG,,UMOL/KG,,UMOL/KG,,PMOL/KG,,PMOL/KG,,PMOL/KG,,PMOL/KG,,UMOL/KG,,UMOL/KG,,UMOL/KG,,UMOL/KG,,TU,,TU,NMOL/KG,,NMOL/KG,PERCNT,,PERCNT,NMOL/KG,,NMOL/KG,/MILLE,,/MILLE,/MILLE,,1/M,,1/M,,1/M,,1/M,,1/NM,,1/NM,,NMOL/KG,,NMOL/KG,,NMOL/KG,,NMOL/KG,,NMOL/KG,,NMOL/KG,,NMOL/KG,,PMOL/L/H,,E6/L,,E7/L,,E6/L,,DEG C,E8/L,,,,
316N200309, A20, 71, 1, 21, 21, 2, 20031017, 0137, 8.1972, -52.9563, 1655,     2.40,      2.4,  29.1947,  33.2614, 2,  33.2617, 2,    187.0, 2,    195.9, 2,     5.38, 2,     0.18, 2,     0.00, 2,     0.02, 2,    1.559, 2,    0.963, 2,    0.109, 2,    1.666, 2,   1865.2, 2,   2198.7, 2,  -999.00, 9,  -999.00, 9,    0.547, 2,    0.003,   1.7366, 2,   0.0087,    -1.20, 2,     0.20,    6.758, 2,    0.034,   -999.0, 9,   -999.0,  -999.00, 9,    0.3430, 2,    0.2460, 2,    0.1110, 2,    0.0650, 2,    0.0180, 2,    0.0200, 2, -999, 9, -999, 9, -999, 9, -999, 9, -999, 9, -999, 9, -999, 9,  -999.00, 9,  -999.00, 9,  -999.00, 9,  -999.00, 9,  29.1941,  -999.00, 9,  225,    8.2110,  -52.9503
316N200309, A20, 71, 1, 20, 20, 2, 20031017, 0137, 8.1972, -52.9563, 1655,    23.50,     23.5,  28.4072,  36.1018, 2,  36.1027, 2,    192.5, 2,    200.3, 2,     0.72, 2,     0.18, 2,     0.00, 2,     0.06, 2,    1.633, 2,    1.025, 2,    0.137, 2,    1.254, 2,   -999.0, 9,   -999.0, 9,  -999.00, 9,  -999.00, 9, -999.000, 9, -999.000, -999.0000, 9, -999.0000,  -999.00, 9,  -999.00, -999.000, 9, -999.000,   -999.0, 9,   -999.0,  -999.00, 9, -999.0000, 9, -999.0000, 9, -999.0000, 9, -999.0000, 9, -999.0000, 9, -999.0000, 9, -999, 9, -999, 9, -999, 9, -999, 9, -999, 9, -999, 9, -999, 9,  -999.00, 9,  -999.00, 9,  -999.00, 9,  -999.00, 9,  28.4016,  -999.00, 9,  224,    8.2104,  -52.9507
316N200309, A20, 71, 1, 19, 19, 2, 20031017, 0137, 8.1972, -52.9563, 1655,    48.10,     48.1,  27.7509,  36.2475, 2,  36.2481, 2,    186.6, 2,    193.5, 2,     0.41, 2,     0.18, 2,     0.00, 2,     0.08, 2, -999.000, 9, -999.000, 9, -999.000, 9, -999.000, 9,   -999.0, 9,   -999.0, 9,  -999.00, 9,  -999.00, 9,    0.486, 2,    0.003,   1.7206, 2,   0.0086,    -1.31, 2,     0.20,    6.739, 2,    0.034,   -999.0, 9,   -999.0,  -999.00, 9,    0.1260, 2,    0.0900, 2,    0.0420, 2,    0.0320, 2,    0.0160, 2,    0.0190, 2, -999, 9, -999, 9, -999, 9, -999, 9, -999, 9, -999, 9, -999, 9,  -999.00, 9,  -999.00, 9,  -999.00, 9,  -999.00, 9,  27.7396,  -999.00, 9,  222,    8.2099,  -52.9509
316N200309, A20, 71, 1, 18, 18, 2, 20031017, 0137, 8.1972, -52.9563, 1655,    73.10,     73.1,  27.3813,  36.2542, 2,  36.2509, 2,    182.5, 2,    188.6, 2,     0.41, 2,     0.22, 2,     0.00, 2,     0.10, 2,    1.646, 2,    1.009, 2,    0.122, 2,    1.268, 2,   -999.0, 9,   -999.0, 9,  -999.00, 9,  -999.00, 9, -999.000, 9, -999.000, -999.0000, 9, -999.0000,  -999.00, 9,  -999.00, -999.000, 9, -999.000,   -999.0, 9,   -999.0,  -999.00, 9, -999.0000, 9, -999.0000, 9, -999.0000, 9, -999.0000, 9, -999.0000, 9, -999.0000, 9, -999, 9, -999, 9, -999, 9, -999, 9, -999, 9, -999, 9, -999, 9,  -999.00, 9,  -999.00, 9,  -999.00, 9,  -999.00, 9,  27.3643,  -999.00, 9,  221,    8.2094,  -52.9512
316N200309, A20, 71, 1, 17, 17, 2, 20031017, 0137, 8.1972, -52.9563, 1655,   103.40,    103.4,  26.7630,  36.2792, 2,  36.2772, 2,    177.2, 2,    183.6, 2,     0.51, 2,     1.29, 2,     0.00, 2,     0.17, 2,    1.671, 2,    1.036, 2,    0.110, 2,    1.217, 2,   -999.0, 9,   -999.0, 9,  -999.00, 9,  -999.00, 9,    0.461, 2,    0.003,   1.7172, 2,   0.0086,    -1.28, 2,     0.20,    6.710, 2,    0.034,   -999.0, 9,   -999.0,  -999.00, 9,    0.1300, 2,    0.0980, 2,    0.0530, 2,    0.0420, 2,    0.0120, 2,    0.0140, 2, -999, 9, -999, 9, -999, 9, -999, 9, -999, 9, -999, 9, -999, 9,  -999.00, 9,  -999.00, 9,  -999.00, 9,  -999.00, 9,  26.7393,  -999.00, 9,  219,    8.2089,  -52.9515
316N200309, A20, 71, 1, 16, 16, 2, 20031017, 0137, 8.1972, -52.9563, 1655,   126.40,    126.4,  25.4608,  36.3369, 2,  36.3322, 2,    174.1, 2,    179.1, 2,     0.90, 2,     2.40, 2,     0.00, 2,     0.25, 2, -999.000, 9, -999.000, 9, -999.000, 9, -999.000, 9,   -999.0, 9,   -999.0, 9,  -999.00, 9,  -999.00, 9, -999.000, 9, -999.000, -999.0000, 9, -999.0000,  -999.00, 9,  -999.00, -999.000, 9, -999.000,   -999.0, 9,   -999.0,  -999.00, 9, -999.0000, 9, -999.0000, 9, -999.0000, 9, -999.0000, 9, -999.0000, 9, -999.0000, 9, -999, 9, -999, 9, -999, 9, -999, 9, -999, 9, -999, 9, -999, 9,  -999.00, 9,  -999.00, 9,  -999.00, 9,  -999.00, 9,  25.4329,  -999.00, 9,  218,    8.2086,  -52.9517
316N200309, A20, 71, 1, 15, 15, 2, 20031017, 0137, 8.1972, -52.9563, 1655,   152.20,    152.2,  20.5807,  36.4481, 2,  36.4420, 2,    151.2, 2,    150.8, 2,     2.51, 2,     7.80, 2,     0.01, 2,     0.52, 2,    1.966, 2,    1.160, 2,    0.049, 2,    0.533, 2,   -999.0, 9,   -999.0, 9,  -999.00, 9,  -999.00, 9,    0.584, 2,    0.004,   1.7476, 2,   0.0087,    -0.35, 2,     0.20,    7.004, 2,    0.035,   -999.0, 9,   -999.0,  -999.00, 9,    0.1300, 2,    0.0910, 2,    0.0440, 2,    0.0410, 2,    0.0110, 2,    0.0150, 2, -999, 9, -999, 9, -999, 9, -999, 9, -999, 9, -999, 9, -999, 9,  -999.00, 9,  -999.00, 9,  -999.00, 9,  -999.00, 9,  20.5517,  -999.00, 9,  217,    8.2083,  -52.9519
316N200309, A20, 71, 1, 14, 14, 2, 20031017, 0137, 8.1972, -52.9563, 1655,   176.50,    176.5,  15.7957,  35.9143, 2,  35.9415, 2,    131.3, 2,    131.6, 2,     5.03, 2,    15.46, 2,     0.00, 2,     0.96, 2, -999.000, 9, -999.000, 9, -999.000, 9, -999.000, 9,   -999.0, 9,   -999.0, 9,  -999.00, 9,  -999.00, 9,    0.563, 2,    0.005,   1.7685, 2,   0.0088,     1.50, 2,     0.20,    7.202, 2,    0.036,   -999.0, 9,   -999.0,  -999.00, 9, -999.0000, 9, -999.0000, 9, -999.0000, 9, -999.0000, 9, -999.0000, 9, -999.0000, 9, -999, 9, -999, 9, -999, 9, -999, 9, -999, 9, -999, 9, -999, 9,  -999.00, 9,  -999.00, 9,  -999.00, 9,  -999.00, 9,  15.7679,  -999.00, 9,  215,    8.2080,  -52.9522
316N200309, A20, 71, 1, 13, 13, 2, 20031017, 0137, 8.1972, -52.9563, 1655,   226.90,    226.9,  11.2305,  35.1701, 2,  35.1658, 2,    125.2, 2,    125.6, 2,     9.99, 2,    23.63, 2,     0.00, 2,     1.52, 2,    1.565, 6,    0.843, 6,    0.011, 2,    0.487, 2,   -999.0, 9,   -999.0, 9,  -999.00, 9,  -999.00, 9,    0.316, 2,    0.004,   1.7894, 2,   0.0089,     2.35, 2,     0.20,    7.438, 2,    0.037,   -999.0, 9,   -999.0,  -999.00, 9,    0.1210, 3,    0.0800, 3,    0.0370, 3,    0.0330, 3,    0.0140, 3,    0.0190, 3, -999, 9, -999, 9, -999, 9, -999, 9, -999, 9, -999, 9, -999, 9,  -999.00, 9,  -999.00, 9,  -999.00, 9,  -999.00, 9,  11.2021,  -999.00, 9,  214,    8.2077,  -52.9525
316N200309, A20, 71, 1, 12, 12, 2, 20031017, 0137, 8.1972, -52.9563, 1655,   277.10,    277.1,  10.5362,  35.1162, 2,  35.1165, 2,    117.8, 2,    108.6, 2,    11.41, 2,    26.67, 2,     0.00, 2,     1.68, 2,    1.194, 2,    0.653, 2,    0.012, 2,    0.405, 2,   -999.0, 9,   -999.0, 9,  -999.00, 9,  -999.00, 9, -999.000, 9, -999.000,   1.7932, 2,   0.0090,     2.76, 2,     0.20,    7.447, 2,    0.037,   -999.0, 9,   -999.0,  -999.00, 9, -999.0000, 9, -999.0000, 9, -999.0000, 9, -999.0000, 9, -999.0000, 9, -999.0000, 9, -999, 9, -999, 9, -999, 9, -999, 9, -999, 9, -999, 9, -999, 9,  -999.00, 9,  -999.00, 9,  -999.00, 9,  -999.00, 9,  10.5028,  -999.00, 9,  212,    8.2075,  -52.9528
316N200309, A20, 71, 1, 11, 11, 2, 20031017, 0137, 8.1972, -52.9563, 1655,   326.70,    326.7,   8.9718,  34.8662, 2,  34.8654, 2,    108.6, 2,    124.0, 2,    14.06, 2,    28.31, 2,     0.00, 2,     1.83, 2,    1.096, 2,    0.607, 2,    0.000, 2,    0.563, 2,   -999.0, 9,   -999.0, 9,  -999.00, 9,  -999.00, 9,    0.215, 2,    0.003,   1.8106, 2,   0.0091,     1.90, 2,     0.20,    7.590, 2,    0.038,   -999.0, 9,   -999.0,  -999.00, 9,    0.1510, 2,    0.1120, 2,    0.0640, 2,    0.0530, 2,    0.0110, 2,    0.0130, 2, -999, 9, -999, 9, -999, 9, -999, 9, -999, 9, -999, 9, -999, 9,  -999.00, 9,  -999.00, 9,  -999.00, 9,  -999.00, 9,   8.9362,  -999.00, 9,  210,    8.2073,  -52.9532
316N200309, A20, 71, 1, 10, 10, 2, 20031017, 0137, 8.1972, -52.9563, 1655,   451.90,    451.9,   7.0102,  34.6450, 2,  34.6494, 2,    124.5, 2,    125.9, 2,    19.57, 2,    32.43, 2,     0.00, 2,     2.12, 2,    0.594, 2,    0.324, 2,    0.004, 2,    0.511, 2,   -999.0, 9,   -999.0, 9,  -999.00, 9,  -999.00, 9, -999.000, 9, -999.000,   1.8270, 2,   0.0091,     1.83, 2,     0.20,    7.716, 2,    0.039,   -999.0, 9,   -999.0,  -999.00, 9,    0.1830, 2,    0.1370, 2,    0.0810, 2,    0.0680, 2,    0.0110, 2,    0.0120, 2, -999, 9, -999, 9, -999, 9, -999, 9, -999, 9, -999, 9, -999, 9,  -999.00, 9,  -999.00, 9,  -999.00, 9,  -999.00, 9,   6.9673,  -999.00, 9,  207,    8.2068,  -52.9538
316N200309, A20, 71, 1, 9, 9, 2, 20031017, 0137, 8.1972, -52.9563, 1655,   554.00,    554.0,   6.2304,  34.5948, 2,  34.5853, 2,    136.5, 2,    134.1, 2,    22.64, 2,    33.29, 2,     0.00, 2,     2.20, 2,    0.429, 2,    0.237, 2,   -0.003, 2,    0.511, 2,   -999.0, 9,   -999.0, 9,  -999.00, 9,  -999.00, 9,    0.075, 2,    0.002,   1.8277, 2,   0.0091,     1.61, 2,     0.20,    7.737, 2,    0.039,   -999.0, 9,   -999.0,  -999.00, 9,    0.1650, 2,    0.1210, 2,    0.0710, 2,    0.0570, 2,    0.0120, 2,    0.0130, 2, -999, 9, -999, 9, -999, 9, -999, 9, -999, 9, -999, 9, -999, 9,  -999.00, 9,  -999.00, 9,  -999.00, 9,  -999.00, 9,   6.1808,  -999.00, 9,  204,    8.2064,  -52.9542
316N200309, A20, 71, 1, 8, 8, 2, 20031017, 0137, 8.1972, -52.9563, 1655,   678.60,    678.6,   5.5616,  34.6029, 2,  34.5989, 2,    129.1, 2,    129.8, 2,    26.12, 2,    34.62, 2,     0.00, 2,     2.30, 2,    0.126, 2,    0.084, 2,   -0.001, 2,    0.209, 2,   -999.0, 9,   -999.0, 9,  -999.00, 9,  -999.00, 9,    0.049, 2,    0.001,   1.8360, 2,   0.0092,     2.05, 2,     0.20,    7.768, 2,    0.039,   -999.0, 9,   -999.0,  -999.00, 9,    0.1640, 2,    0.1200, 2,    0.0710, 2,    0.0590, 2,    0.0110, 2,    0.0120, 2, -999, 9, -999, 9, -999, 9, -999, 9, -999, 9, -999, 9, -999, 9,  -999.00, 9,  -999.00, 9,  -999.00, 9,  -999.00, 9,   5.5036,  -999.00, 9,  201,    8.2057,  -52.9547
316N200309, A20, 71, 1, 7, 7, 2, 20031017, 0137, 8.1972, -52.9563, 1655,   825.90,    825.9,   4.9596,  34.6321, 2,  34.6317, 2,    145.0, 2,    143.6, 2,    28.27, 2,    33.53, 2,     0.00, 2,     2.25, 2,    0.052, 2,    0.031, 2,    0.005, 2,    0.140, 2,   -999.0, 9,   -999.0, 9,  -999.00, 9,  -999.00, 9,    0.035, 2,    0.001,   1.8435, 2,   0.0092,     1.83, 2,     0.20,    7.840, 2,    0.039,   -999.0, 9,   -999.0,  -999.00, 9,    0.1440, 2,    0.1040, 2,    0.0590, 2,    0.0500, 2,    0.0110, 2,    0.0130, 2, -999, 9, -999, 9, -999, 9, -999, 9, -999, 9, -999, 9, -999, 9,  -999.00, 9,  -999.00, 9,  -999.00, 9,  -999.00, 9,   4.8919,  -999.00, 9,  158,    8.2045,  -52.9551
316N200309, A20, 71, 1, 6, 6, 2, 20031017, 0137, 8.1972, -52.9563, 1655,   975.30,    975.3,   4.7432,  34.7145, 2,  34.7121, 2,    157.5, 2,    156.9, 2,    27.34, 2,    31.43, 2,     0.00, 2,     2.12, 2,    0.028, 2,    0.019, 2,    0.004, 2,    0.109, 2,   -999.0, 9,   -999.0, 9,  -999.00, 9,  -999.00, 9,    0.020, 2,    0.001,   1.8429, 2,   0.0092,     1.59, 2,     0.20,    7.871, 2,    0.039,   -999.0, 9,   -999.0,  -999.00, 9,    0.1460, 2,    0.1050, 2,    0.0590, 2,    0.0510, 2,    0.0110, 3,    0.0130, 3, -999, 9, -999, 9, -999, 9, -999, 9, -999, 9, -999, 9, -999, 9,  -999.00, 9,  -999.00, 9,  -999.00, 9,  -999.00, 9,   4.6637,  -999.00, 9,  154,    8.2032,  -52.9554
316N200309, A20, 71, 1, 5, 5, 2, 20031017, 0137, 8.1972, -52.9563, 1655,  1125.60,   1125.6,   5.0510,  34.8890, 2,  34.8894, 2,    178.9, 2,    178.3, 2,    21.90, 2,    27.09, 2,     0.00, 2,     1.79, 2,    0.120, 6,    0.059, 6,   -0.001, 6,    0.264, 6,   -999.0, 9,   -999.0, 9,  -999.00, 9,  -999.00, 9,    0.085, 2,    0.002,   1.8391, 2,   0.0092,     2.60, 2,     0.20,    7.868, 2,    0.039,   -999.0, 9,   -999.0,  -999.00, 9,    0.1770, 2,    0.1320, 2,    0.0770, 2,    0.0650, 2,    0.0110, 2,    0.0120, 2, -999, 9, -999, 9, -999, 9, -999, 9, -999, 9, -999, 9, -999, 9,  -999.00, 9,  -999.00, 9,  -999.00, 9,  -999.00, 9,   4.9551,  -999.00, 9,  151,    8.2019,  -52.9557
316N200309, A20, 71, 1, 4, 4, 2, 20031017, 0137, 8.1972, -52.9563, 1655,  1274.80,   1274.8,   4.9033,  34.9377, 2,  34.9388, 2,    197.4, 2,    197.5, 2,    19.53, 2,    24.57, 2,     0.00, 2,     1.62, 2,    0.232, 2,    0.130, 2,    0.001, 2,    0.430, 2,   -999.0, 9,   -999.0, 9,  -999.00, 9,  -999.00, 9, -999.000, 9, -999.000, -999.0000, 9, -999.0000,  -999.00, 9,  -999.00, -999.000, 9, -999.000,   -999.0, 9,   -999.0,  -999.00, 9, -999.0000, 9, -999.0000, 9, -999.0000, 9, -999.0000, 9, -999.0000, 9, -999.0000, 9, -999, 9, -999, 9, -999, 9, -999, 9, -999, 9, -999, 9, -999, 9,  -999.00, 9,  -999.00, 9,  -999.00, 9,  -999.00, 9,   4.7947,  -999.00, 9,  147,    8.2007,  -52.9559
316N200309, A20, 71, 1, 3, 3, 2, 20031017, 0137, 8.1972, -52.9563, 1655,  1400.20,   1400.2,   4.8155,  35.0085, 2,  35.0079, 2,    224.0, 2,    224.1, 2,    15.64, 2,    20.98, 2,     0.00, 2,     1.38, 2,    0.582, 2,    0.308, 2,    0.088, 4,    0.867, 2,   -999.0, 9,   -999.0, 9,  -999.00, 9,  -999.00, 9,    0.333, 2,    0.004,   1.8518, 2,   0.0093,     5.37, 2,     0.20,    7.882, 2,    0.039,   -999.0, 9,   -999.0,  -999.00, 9,    0.1620, 2,    0.1180, 2,    0.0630, 2,    0.0530, 3,    0.0120, 3,    0.0140, 3, -999, 9, -999, 9, -999, 9, -999, 9, -999, 9, -999, 9, -999, 9,  -999.00, 9,  -999.00, 9,  -999.00, 9,  -999.00, 9,   4.6956,  -999.00, 9,  144,    8.1995,  -52.9560
316N200309, A20, 71, 1, 2, 2, 2, 20031017, 0137, 8.1972, -52.9563, 1655,  1498.80,   1498.8,   4.6416,  35.0116, 2,  35.0118, 2,    232.8, 2,    233.5, 2,    14.82, 2,    20.01, 2,     0.00, 2,     1.31, 2,    0.643, 2,    0.352, 2,    0.007, 2,    1.053, 2,   -999.0, 9,   -999.0, 9,  -999.00, 9,  -999.00, 9, -999.000, 9, -999.000, -999.0000, 9, -999.0000,  -999.00, 9,  -999.00, -999.000, 9, -999.000,   -999.0, 9,   -999.0,  -999.00, 9, -999.0000, 9, -999.0000, 9, -999.0000, 9, -999.0000, 9, -999.0000, 9, -999.0000, 9, -999, 9, -999, 9, -999, 9, -999, 9, -999, 9, -999, 9, -999, 9,  -999.00, 9,  -999.00, 9,  -999.00, 9,  -999.00, 9,   4.5142,  -999.00, 9,  142,    8.1986,  -52.9561
316N200309, A20, 71, 1, 1, 1, 2, 20031017, 0137, 8.1972, -52.9563, 1655,  1637.10,   1637.1,   3.9559,  34.9856, 2,  34.9858, 2,    255.6, 2,    256.5, 2,    13.79, 2,    18.39, 2,     0.00, 2,     1.20, 2,    0.825, 2,    0.436, 2,    0.031, 2,    1.461, 2,   -999.0, 9,   -999.0, 9,  -999.00, 9,  -999.00, 9,    0.392, 2,    0.004,   1.8434, 2,   0.0092,     5.91, 2,     0.20,    7.888, 2,    0.039,   -999.0, 9,   -999.0,  -999.00, 9,    0.1760, 2,    0.1330, 2,    0.0750, 2,    0.0610, 2,    0.0110, 2,    0.0130, 2, -999, 9, -999, 9, -999, 9, -999, 9, -999, 9, -999, 9, -999, 9,  -999.00, 9,  -999.00, 9,  -999.00, 9,  -999.00, 9,   3.8235,  -999.00, 9,  138,    8.1975,  -52.9562