BOTTLE,20220816CCHSIOAMB
EXPOCODE,SECT_ID,STNNBR,CASTNO,SAMPNO,BTLNBR,BTLNBR_FLAG_W,DATE,TIME,LATITUDE,LONGITUDE,DEPTH,CTDRAW,CTDPRS,CTDTMP,CTDSAL,CTDSAL_FLAG_W,SALNTY,SALNTY_FLAG_W,CTDOXY,CTDOXY_FLAG_W,OXYGEN,OXYGEN_FLAG_W,SILCAT,SILCAT_FLAG_W,NITRAT,NITRAT_FLAG_W,NITRIT,NITRIT_FLAG_W,PHSPHT,PHSPHT_FLAG_W,CFC-11,CFC-11_FLAG_W,CFC-12,CFC-12_FLAG_W,CFC113,CFC113_FLAG_W,CCL4,CCL4_FLAG_W,TCARBN,TCARBN_FLAG_W,ALKALI,ALKALI_FLAG_W,DOC,DOC_FLAG_W,TDN,TDN_FLAG_W,TRITUM,TRITUM_FLAG_W,TRITER,HELIUM,HELIUM_FLAG_W,HELIER,DELHE3,DELHE3_FLAG_W,DELHER,NEON,NEON_FLAG_W,NEONER,DELC14,DELC14_FLAG_W,C14ERR,DELC13,DELC13_FLAG_W,CDOM325,CDOM325_FLAG_W,CDOM340,CDOM340_FLAG_W,CDOM380,CDOM380_FLAG_W,CDOM412,CDOM412_FLAG_W,CDOMSL,CDOMSL_FLAG_W,CDOMSN,CDOMSN_FLAG_W,DCNS,DCNS_FLAG_W,ARABI,ARABI_FLAG_W,FUCO,FUCO_FLAG_W,GALA,GALA_FLAG_W,GLUC,GLUC_FLAG_W,MAN,MAN_FLAG_W,RHAM,RHAM_FLAG_W,BRDU,BRDU_FLAG_W,PEUK,PEUK_FLAG_W,PROC,PROC_FLAG_W,SYN,SYN_FLAG_W,THETA,BACT,BACT_FLAG_W,BTL_TIME,BTL_LAT,BTL_LON
,,,,,,,,,,,METERS,DBAR,DBAR,ITS-90,PSS-78,,PSS-78,,UMOL/KG,,UMOL/KG,,UMOL/KG,,UMOL/KG,,UMOL/KG,,UMOL/KG,,PMOL/KG,,PMOL/KG,,PMOL/KG,,PMOL/KG,,UMOL/KG,,UMOL/KG,,UMOL/KG,,UMOL/KG,,TU,,TU,NMOL/KG,,NMOL/KG,PERCNT,,PERCNT,NMOL/KG,,NMOL/KG,/MILLE,,/MILLE,/MILLE,,1/M,,1/M,,1/M,,1/M,,1/NM,,1/NM,,NMOL/KG,,NMOL/KG,,NMOL/KG,,NMOL/KG,,NMOL/KG,,NMOL/KG,,NMOL/KG,,PMOL/L/H,,E6/L,,E7/L,,E6/L,,DEG C,E8/L,,,,
316N200309, A20, 61, 1, 10, 10, 2, 20031014, 2226, 10.1630, -52.3267, 4920,  3100.20,   3100.2,   2.7326,  34.9280, 2,  34.9282, 2,    256.4, 2,    258.7, 2,    27.10, 2,    19.29, 2,     0.00, 2,     1.29, 2,    0.213, 2,    0.128, 2,    0.004, 2,    0.516, 2,   -999.0, 9,   -999.0, 9,  -999.00, 9,  -999.00, 9, -999.000, 9, -999.000, -999.0000, 9, -999.0000,  -999.00, 9,  -999.00, -999.000, 9, -999.000,   -999.0, 9,   -999.0,  -999.00, 9, -999.0000, 9, -999.0000, 9, -999.0000, 9, -999.0000, 9, -999.0000, 9, -999.0000, 9, -999, 9, -999, 9, -999, 9, -999, 9, -999, 9, -999, 9, -999, 9,  -999.00, 9,  -999.00, 9,  -999.00, 9,  -999.00, 9,   2.4772,  -999.00, 9, 2307,   10.1681,  -52.3287
316N200309, A20, 61, 1, 9, 9, 2, 20031014, 2226, 10.1630, -52.3267, 4920,  3299.90,   3299.9,   2.6133,  34.9191, 2,  34.9183, 2,    257.2, 2,    255.5, 2,    29.49, 2,    19.52, 2,     0.00, 2,     1.31, 2,    0.201, 2,    0.113, 2,    0.007, 2,    0.455, 2,   -999.0, 9,   -999.0, 9,  -999.00, 9,  -999.00, 9, -999.000, 9, -999.000, -999.0000, 9, -999.0000,  -999.00, 9,  -999.00, -999.000, 9, -999.000,   -999.0, 9,   -999.0,  -999.00, 9, -999.0000, 9, -999.0000, 9, -999.0000, 9, -999.0000, 9, -999.0000, 9, -999.0000, 9, -999, 9, -999, 9, -999, 9, -999, 9, -999, 9, -999, 9, -999, 9,  -999.00, 9,  -999.00, 9,  -999.00, 9,  -999.00, 9,   2.3397,  -999.00, 9, 2303,   10.1674,  -52.3283
316N200309, A20, 61, 1, 8, 8, 2, 20031014, 2226, 10.1630, -52.3267, 4920,  3500.00,   3500.0,   2.5004,  34.9112, 2,  34.9113, 2,    258.7, 2,    260.9, 2,    29.79, 2,    19.33, 2,     0.00, 2,     1.30, 2,    0.246, 2,    0.138, 2,    0.011, 2,    0.570, 2,   -999.0, 9,   -999.0, 9,  -999.00, 9,  -999.00, 9, -999.000, 9, -999.000, -999.0000, 9, -999.0000,  -999.00, 9,  -999.00, -999.000, 9, -999.000,   -999.0, 9,   -999.0,  -999.00, 9, -999.0000, 9, -999.0000, 9, -999.0000, 9, -999.0000, 9, -999.0000, 9, -999.0000, 9, -999, 9, -999, 9, -999, 9, -999, 9, -999, 9, -999, 9, -999, 9,  -999.00, 9,  -999.00, 9,  -999.00, 9,  -999.00, 9,   2.2080,  -999.00, 9, 2258,   10.1668,  -52.3281
316N200309, A20, 61, 1, 7, 7, 2, 20031014, 2226, 10.1630, -52.3267, 4920,  3701.10,   3701.1,   2.4160,  34.9055, 2,  34.9050, 2,    261.0, 2,    263.6, 2,    29.18, 2,    19.00, 2,     0.00, 2,     1.28, 2,    0.325, 6,    0.173, 6,    0.012, 6,    0.740, 6,   -999.0, 9,   -999.0, 9,  -999.00, 9,  -999.00, 9, -999.000, 9, -999.000, -999.0000, 9, -999.0000,  -999.00, 9,  -999.00, -999.000, 9, -999.000,   -999.0, 9,   -999.0,  -999.00, 9, -999.0000, 9, -999.0000, 9, -999.0000, 9, -999.0000, 9, -999.0000, 9, -999.0000, 9, -999, 9, -999, 9, -999, 9, -999, 9, -999, 9, -999, 9, -999, 9,  -999.00, 9,  -999.00, 9,  -999.00, 9,  -999.00, 9,   2.1037,  -999.00, 9, 2254,   10.1662,  -52.3278
316N200309, A20, 61, 1, 6, 6, 2, 20031014, 2226, 10.1630, -52.3267, 4920,  3900.40,   3900.4,   2.3556,  34.9004, 2,  34.9004, 2,    261.6, 2,    264.1, 2,    30.10, 2,    19.00, 2,     0.00, 2,     1.29, 2,    0.330, 2,    0.167, 2,    0.010, 2,    0.746, 2,   -999.0, 9,   -999.0, 9,  -999.00, 9,  -999.00, 9, -999.000, 9, -999.000, -999.0000, 9, -999.0000,  -999.00, 9,  -999.00, -999.000, 9, -999.000,   -999.0, 9,   -999.0,  -999.00, 9, -999.0000, 9, -999.0000, 9, -999.0000, 9, -999.0000, 9, -999.0000, 9, -999.0000, 9, -999, 9, -999, 9, -999, 9, -999, 9, -999, 9, -999, 9, -999, 9,  -999.00, 9,  -999.00, 9,  -999.00, 9,  -999.00, 9,   2.0226,  -999.00, 9, 2250,   10.1657,  -52.3276
316N200309, A20, 61, 1, 5, 5, 2, 20031014, 2226, 10.1630, -52.3267, 4920,  4114.50,   4114.5,   2.2822,  34.8938, 2,  34.8932, 2,    261.4, 2,    264.0, 2,    31.97, 2,    19.19, 2,     0.00, 2,     1.30, 2,    0.330, 2,    0.171, 2,    0.013, 2,    0.753, 2,   -999.0, 9,   -999.0, 9,  -999.00, 9,  -999.00, 9, -999.000, 9, -999.000, -999.0000, 9, -999.0000,  -999.00, 9,  -999.00, -999.000, 9, -999.000,   -999.0, 9,   -999.0,  -999.00, 9, -999.0000, 9, -999.0000, 9, -999.0000, 9, -999.0000, 9, -999.0000, 9, -999.0000, 9, -999, 9, -999, 9, -999, 9, -999, 9, -999, 9, -999, 9, -999, 9,  -999.00, 9,  -999.00, 9,  -999.00, 9,  -999.00, 9,   1.9270,  -999.00, 9, 2246,   10.1652,  -52.3274
316N200309, A20, 61, 1, 4, 4, 2, 20031014, 2226, 10.1630, -52.3267, 4920,  4375.40,   4375.4,   2.2236,  34.8848, 2,  34.8863, 2,    258.8, 2,    260.3, 2,    36.85, 2,    19.87, 2,     0.00, 2,     1.35, 2,    0.224, 2,    0.126, 2,    0.019, 2,    0.580, 2,   -999.0, 9,   -999.0, 9,  -999.00, 9,  -999.00, 9, -999.000, 9, -999.000, -999.0000, 9, -999.0000,  -999.00, 9,  -999.00, -999.000, 9, -999.000,   -999.0, 9,   -999.0,  -999.00, 9, -999.0000, 9, -999.0000, 9, -999.0000, 9, -999.0000, 9, -999.0000, 9, -999.0000, 9, -999, 9, -999, 9, -999, 9, -999, 9, -999, 9, -999, 9, -999, 9,  -999.00, 9,  -999.00, 9,  -999.00, 9,  -999.00, 9,   1.8397,  -999.00, 9, 2241,   10.1646,  -52.3272
316N200309, A20, 61, 1, 3, 3, 2, 20031014, 2226, 10.1630, -52.3267, 4920,  4625.20,   4625.2,   2.1566,  34.8734, 2,  34.8731, 2,    255.2, 2,    256.6, 2,    42.67, 2,    20.79, 2,     0.00, 2,     1.42, 2,    0.168, 2,    0.099, 2,    0.007, 2,    0.502, 2,   -999.0, 9,   -999.0, 9,  -999.00, 9,  -999.00, 9, -999.000, 9, -999.000, -999.0000, 9, -999.0000,  -999.00, 9,  -999.00, -999.000, 9, -999.000,   -999.0, 9,   -999.0,  -999.00, 9, -999.0000, 9, -999.0000, 9, -999.0000, 9, -999.0000, 9, -999.0000, 9, -999.0000, 9, -999, 9, -999, 9, -999, 9, -999, 9, -999, 9, -999, 9, -999, 9,  -999.00, 9,  -999.00, 9,  -999.00, 9,  -999.00, 9,   1.7450,  -999.00, 9, 2235,   10.1640,  -52.3270
316N200309, A20, 61, 1, 2, 2, 2, 20031014, 2226, 10.1630, -52.3267, 4920,  4825.10,   4825.1,   2.1167,  34.8656, 2,  34.8668, 2,    252.6, 2,    252.4, 2,    46.73, 2,    21.43, 2,     0.00, 2,     1.47, 2,    0.128, 2,    0.087, 2,    0.008, 2,    0.447, 2,   -999.0, 9,   -999.0, 9,  -999.00, 9,  -999.00, 9, -999.000, 9, -999.000, -999.0000, 9, -999.0000,  -999.00, 9,  -999.00, -999.000, 9, -999.000,   -999.0, 9,   -999.0,  -999.00, 9, -999.0000, 9, -999.0000, 9, -999.0000, 9, -999.0000, 9, -999.0000, 9, -999.0000, 9, -999, 9, -999, 9, -999, 9, -999, 9, -999, 9, -999, 9, -999, 9,  -999.00, 9,  -999.00, 9,  -999.00, 9,  -999.00, 9,   1.6820,  -999.00, 9, 2230,   10.1634,  -52.3267
316N200309, A20, 61, 1, 1, 1, 2, 20031014, 2226, 10.1630, -52.3267, 4920,  4980.00,   4980.0,   2.0061,  34.8502, 2,  34.8505, 2,    250.0, 2,    249.2, 2,    54.23, 2,    22.53, 2,     0.00, 2,     1.53, 2,    0.095, 2,    0.067, 2,    0.011, 2,    0.344, 2,   -999.0, 9,   -999.0, 9,  -999.00, 9,  -999.00, 9, -999.000, 9, -999.000, -999.0000, 9, -999.0000,  -999.00, 9,  -999.00, -999.000, 9, -999.000,   -999.0, 9,   -999.0,  -999.00, 9, -999.0000, 9, -999.0000, 9, -999.0000, 9, -999.0000, 9, -999.0000, 9, -999.0000, 9, -999, 9, -999, 9, -999, 9, -999, 9, -999, 9, -999, 9, -999, 9,  -999.00, 9,  -999.00, 9,  -999.00, 9,  -999.00, 9,   1.5561,  -999.00, 9, 2226,   10.1631,  -52.3267