BOTTLE,20220816CCHSIOAMB
EXPOCODE,SECT_ID,STNNBR,CASTNO,SAMPNO,BTLNBR,BTLNBR_FLAG_W,DATE,TIME,LATITUDE,LONGITUDE,DEPTH,CTDRAW,CTDPRS,CTDTMP,CTDSAL,CTDSAL_FLAG_W,SALNTY,SALNTY_FLAG_W,CTDOXY,CTDOXY_FLAG_W,OXYGEN,OXYGEN_FLAG_W,SILCAT,SILCAT_FLAG_W,NITRAT,NITRAT_FLAG_W,NITRIT,NITRIT_FLAG_W,PHSPHT,PHSPHT_FLAG_W,CFC-11,CFC-11_FLAG_W,CFC-12,CFC-12_FLAG_W,CFC113,CFC113_FLAG_W,CCL4,CCL4_FLAG_W,TCARBN,TCARBN_FLAG_W,ALKALI,ALKALI_FLAG_W,DOC,DOC_FLAG_W,TDN,TDN_FLAG_W,TRITUM,TRITUM_FLAG_W,TRITER,HELIUM,HELIUM_FLAG_W,HELIER,DELHE3,DELHE3_FLAG_W,DELHER,NEON,NEON_FLAG_W,NEONER,DELC14,DELC14_FLAG_W,C14ERR,DELC13,DELC13_FLAG_W,CDOM325,CDOM325_FLAG_W,CDOM340,CDOM340_FLAG_W,CDOM380,CDOM380_FLAG_W,CDOM412,CDOM412_FLAG_W,CDOMSL,CDOMSL_FLAG_W,CDOMSN,CDOMSN_FLAG_W,DCNS,DCNS_FLAG_W,ARABI,ARABI_FLAG_W,FUCO,FUCO_FLAG_W,GALA,GALA_FLAG_W,GLUC,GLUC_FLAG_W,MAN,MAN_FLAG_W,RHAM,RHAM_FLAG_W,BRDU,BRDU_FLAG_W,PEUK,PEUK_FLAG_W,PROC,PROC_FLAG_W,SYN,SYN_FLAG_W,THETA,BACT,BACT_FLAG_W,BTL_TIME,BTL_LAT,BTL_LON
,,,,,,,,,,,METERS,DBAR,DBAR,ITS-90,PSS-78,,PSS-78,,UMOL/KG,,UMOL/KG,,UMOL/KG,,UMOL/KG,,UMOL/KG,,UMOL/KG,,PMOL/KG,,PMOL/KG,,PMOL/KG,,PMOL/KG,,UMOL/KG,,UMOL/KG,,UMOL/KG,,UMOL/KG,,TU,,TU,NMOL/KG,,NMOL/KG,PERCNT,,PERCNT,NMOL/KG,,NMOL/KG,/MILLE,,/MILLE,/MILLE,,1/M,,1/M,,1/M,,1/M,,1/NM,,1/NM,,NMOL/KG,,NMOL/KG,,NMOL/KG,,NMOL/KG,,NMOL/KG,,NMOL/KG,,NMOL/KG,,PMOL/L/H,,E6/L,,E7/L,,E6/L,,DEG C,E8/L,,,,
316N200309, A20, 45, 1, 10, 10, 2, 20031010, 0108, 20.8453, -52.3412, 4267,  2700.70,   2700.7,   2.8889,  34.9428, 2,  34.9439, 2,    248.8, 2,    249.1, 2,    32.55, 2,    20.60, 2,     0.00, 2,     1.38, 2,    0.018, 2,    0.013, 2,    0.001, 2,    0.133, 2,   -999.0, 9,   -999.0, 9,  -999.00, 9,  -999.00, 9, -999.000, 9, -999.000, -999.0000, 9, -999.0000,  -999.00, 9,  -999.00, -999.000, 9, -999.000,   -999.0, 9,   -999.0,  -999.00, 9, -999.0000, 9, -999.0000, 9, -999.0000, 9, -999.0000, 9, -999.0000, 9, -999.0000, 9, -999, 9, -999, 9, -999, 9, -999, 9, -999, 9, -999, 9, -999, 9,  -999.00, 9,  -999.00, 9,  -999.00, 9,  -999.00, 9,   2.6711,  -999.00, 9,  144,   20.8479,  -52.3423
316N200309, A20, 45, 1, 9, 9, 2, 20031010, 0108, 20.8453, -52.3412, 4267,  2901.00,   2901.0,   2.7809,  34.9332, 2,  34.9337, 2,    249.3, 2,    249.3, 2,    34.55, 2,    20.68, 2,     0.00, 2,     1.39, 2,    0.017, 2,    0.018, 2,    0.005, 2,    0.136, 2,   -999.0, 9,   -999.0, 9,  -999.00, 9,  -999.00, 9, -999.000, 9, -999.000, -999.0000, 9, -999.0000,  -999.00, 9,  -999.00, -999.000, 9, -999.000,   -999.0, 9,   -999.0,  -999.00, 9, -999.0000, 9, -999.0000, 9, -999.0000, 9, -999.0000, 9, -999.0000, 9, -999.0000, 9, -999, 9, -999, 9, -999, 9, -999, 9, -999, 9, -999, 9, -999, 9,  -999.00, 9,  -999.00, 9,  -999.00, 9,  -999.00, 9,   2.5451,  -999.00, 9,  140,   20.8475,  -52.3422
316N200309, A20, 45, 1, 8, 8, 2, 20031010, 0108, 20.8453, -52.3412, 4267,  3101.10,   3101.1,   2.7121,  34.9263, 2,  34.9274, 2,    249.6, 2,    249.7, 2,    36.03, 2,    20.83, 2,     0.00, 2,     1.40, 2,    0.018, 2,    0.012, 2,    0.005, 2,    0.150, 2,   -999.0, 9,   -999.0, 9,  -999.00, 9,  -999.00, 9, -999.000, 9, -999.000, -999.0000, 9, -999.0000,  -999.00, 9,  -999.00, -999.000, 9, -999.000,   -999.0, 9,   -999.0,  -999.00, 9, -999.0000, 9, -999.0000, 9, -999.0000, 9, -999.0000, 9, -999.0000, 9, -999.0000, 9, -999, 9, -999, 9, -999, 9, -999, 9, -999, 9, -999, 9, -999, 9,  -999.00, 9,  -999.00, 9,  -999.00, 9,  -999.00, 9,   2.4571,  -999.00, 9,  136,   20.8472,  -52.3421
316N200309, A20, 45, 1, 7, 7, 2, 20031010, 0108, 20.8453, -52.3412, 4267,  3300.00,   3300.0,   2.6169,  34.9175, 2,  34.9183, 2,    250.2, 2,    250.2, 2,    37.92, 2,    20.97, 2,     0.00, 2,     1.41, 2,    0.014, 2,    0.008, 2,    0.001, 2,    0.135, 2,   -999.0, 9,   -999.0, 9,  -999.00, 9,  -999.00, 9, -999.000, 9, -999.000, -999.0000, 9, -999.0000,  -999.00, 9,  -999.00, -999.000, 9, -999.000,   -999.0, 9,   -999.0,  -999.00, 9, -999.0000, 9, -999.0000, 9, -999.0000, 9, -999.0000, 9, -999.0000, 9, -999.0000, 9, -999, 9, -999, 9, -999, 9, -999, 9, -999, 9, -999, 9, -999, 9,  -999.00, 9,  -999.00, 9,  -999.00, 9,  -999.00, 9,   2.3431,  -999.00, 9,  132,   20.8468,  -52.3419
316N200309, A20, 45, 1, 6, 6, 2, 20031010, 0108, 20.8453, -52.3412, 4267,  3500.50,   3500.5,   2.4832,  34.9053, 2,  34.9067, 2,    250.8, 2,    251.8, 3,    40.45, 2,    21.20, 2,     0.00, 2,     1.43, 2,    0.019, 2,    0.012, 2,    0.003, 2,    0.137, 2,   -999.0, 9,   -999.0, 9,  -999.00, 9,  -999.00, 9, -999.000, 9, -999.000, -999.0000, 9, -999.0000,  -999.00, 9,  -999.00, -999.000, 9, -999.000,   -999.0, 9,   -999.0,  -999.00, 9, -999.0000, 9, -999.0000, 9, -999.0000, 9, -999.0000, 9, -999.0000, 9, -999.0000, 9, -999, 9, -999, 9, -999, 9, -999, 9, -999, 9, -999, 9, -999, 9,  -999.00, 9,  -999.00, 9,  -999.00, 9,  -999.00, 9,   2.1911,  -999.00, 9,  128,   20.8465,  -52.3417
316N200309, A20, 45, 1, 5, 5, 2, 20031010, 0108, 20.8453, -52.3412, 4267,  3699.10,   3699.1,   2.4055,  34.8976, 2,  34.8983, 2,    251.2, 2,    251.1, 2,    42.24, 2,    21.35, 2,     0.00, 2,     1.44, 2,    0.017, 2,    0.017, 2,    0.005, 2,    0.140, 2,   -999.0, 9,   -999.0, 9,  -999.00, 9,  -999.00, 9, -999.000, 9, -999.000, -999.0000, 9, -999.0000,  -999.00, 9,  -999.00, -999.000, 9, -999.000,   -999.0, 9,   -999.0,  -999.00, 9, -999.0000, 9, -999.0000, 9, -999.0000, 9, -999.0000, 9, -999.0000, 9, -999.0000, 9, -999, 9, -999, 9, -999, 9, -999, 9, -999, 9, -999, 9, -999, 9,  -999.00, 9,  -999.00, 9,  -999.00, 9,  -999.00, 9,   2.0937,  -999.00, 9,  123,   20.8461,  -52.3416
316N200309, A20, 45, 1, 4, 4, 2, 20031010, 0108, 20.8453, -52.3412, 4267,  3900.40,   3900.4,   2.3182,  34.8893, 2,  34.8918, 2,    251.9, 2,    252.0, 2,    43.71, 2,    21.40, 2,     0.00, 2,     1.45, 2,    0.011, 6,    0.017, 6,    0.002, 6,    0.177, 6,   -999.0, 9,   -999.0, 9,  -999.00, 9,  -999.00, 9, -999.000, 9, -999.000, -999.0000, 9, -999.0000,  -999.00, 9,  -999.00, -999.000, 9, -999.000,   -999.0, 9,   -999.0,  -999.00, 9, -999.0000, 9, -999.0000, 9, -999.0000, 9, -999.0000, 9, -999.0000, 9, -999.0000, 9, -999, 9, -999, 9, -999, 9, -999, 9, -999, 9, -999, 9, -999, 9,  -999.00, 9,  -999.00, 9,  -999.00, 9,  -999.00, 9,   1.9864,  -999.00, 9,  119,   20.8458,  -52.3414
316N200309, A20, 45, 1, 3, 3, 2, 20031010, 0108, 20.8453, -52.3412, 4267,  4100.70,   4100.7,   2.2351,  34.8813, 2,  34.8825, 2,    252.8, 2,    253.0, 2,    45.09, 2,    21.49, 2,     0.00, 2,     1.45, 2,    0.029, 2,    0.018, 2,    0.005, 2,    0.201, 2,   -999.0, 9,   -999.0, 9,  -999.00, 9,  -999.00, 9, -999.000, 9, -999.000, -999.0000, 9, -999.0000,  -999.00, 9,  -999.00, -999.000, 9, -999.000,   -999.0, 9,   -999.0,  -999.00, 9, -999.0000, 9, -999.0000, 9, -999.0000, 9, -999.0000, 9, -999.0000, 9, -999.0000, 9, -999, 9, -999, 9, -999, 9, -999, 9, -999, 9, -999, 9, -999, 9,  -999.00, 9,  -999.00, 9,  -999.00, 9,  -999.00, 9,   1.8828,  -999.00, 9,  115,   20.8456,  -52.3413
316N200309, A20, 45, 1, 2, 2, 2, 20031010, 0108, 20.8453, -52.3412, 4267,  4251.50,   4251.5,   2.1972,  34.8757, 2,  34.8766, 2,    251.9, 2,    252.3, 2,    46.99, 2,    21.73, 2,     0.00, 2,     1.47, 2,    0.032, 2,    0.022, 2,    0.004, 2,    0.199, 2,   -999.0, 9,   -999.0, 9,  -999.00, 9,  -999.00, 9, -999.000, 9, -999.000, -999.0000, 9, -999.0000,  -999.00, 9,  -999.00, -999.000, 9, -999.000,   -999.0, 9,   -999.0,  -999.00, 9, -999.0000, 9, -999.0000, 9, -999.0000, 9, -999.0000, 9, -999.0000, 9, -999.0000, 9, -999, 9, -999, 9, -999, 9, -999, 9, -999, 9, -999, 9, -999, 9,  -999.00, 9,  -999.00, 9,  -999.00, 9,  -999.00, 9,   1.8287,  -999.00, 9,  112,   20.8455,  -52.3412
316N200309, A20, 45, 1, 1, 1, 2, 20031010, 0108, 20.8453, -52.3412, 4267,  4403.10,   4403.1,   2.1451,  34.8693, 2,  34.8715, 2,    252.4, 2,    251.7, 2,    48.79, 2,    21.92, 2,     0.00, 2,     1.49, 2,    0.037, 2,    0.019, 2,    0.005, 2,    0.229, 2,   -999.0, 9,   -999.0, 9,  -999.00, 9,  -999.00, 9, -999.000, 9, -999.000, -999.0000, 9, -999.0000,  -999.00, 9,  -999.00, -999.000, 9, -999.000,   -999.0, 9,   -999.0,  -999.00, 9, -999.0000, 9, -999.0000, 9, -999.0000, 9, -999.0000, 9, -999.0000, 9, -999.0000, 9, -999, 9, -999, 9, -999, 9, -999, 9, -999, 9, -999, 9, -999, 9,  -999.00, 9,  -999.00, 9,  -999.00, 9,  -999.00, 9,   1.7604,  -999.00, 9,  108,   20.8453,  -52.3411