BOTTLE,20220816CCHSIOAMB
EXPOCODE,SECT_ID,STNNBR,CASTNO,SAMPNO,BTLNBR,BTLNBR_FLAG_W,DATE,TIME,LATITUDE,LONGITUDE,DEPTH,CTDRAW,CTDPRS,CTDTMP,CTDSAL,CTDSAL_FLAG_W,SALNTY,SALNTY_FLAG_W,CTDOXY,CTDOXY_FLAG_W,OXYGEN,OXYGEN_FLAG_W,SILCAT,SILCAT_FLAG_W,NITRAT,NITRAT_FLAG_W,NITRIT,NITRIT_FLAG_W,PHSPHT,PHSPHT_FLAG_W,CFC-11,CFC-11_FLAG_W,CFC-12,CFC-12_FLAG_W,CFC113,CFC113_FLAG_W,CCL4,CCL4_FLAG_W,TCARBN,TCARBN_FLAG_W,ALKALI,ALKALI_FLAG_W,DOC,DOC_FLAG_W,TDN,TDN_FLAG_W,TRITUM,TRITUM_FLAG_W,TRITER,HELIUM,HELIUM_FLAG_W,HELIER,DELHE3,DELHE3_FLAG_W,DELHER,NEON,NEON_FLAG_W,NEONER,DELC14,DELC14_FLAG_W,C14ERR,DELC13,DELC13_FLAG_W,CDOM325,CDOM325_FLAG_W,CDOM340,CDOM340_FLAG_W,CDOM380,CDOM380_FLAG_W,CDOM412,CDOM412_FLAG_W,CDOMSL,CDOMSL_FLAG_W,CDOMSN,CDOMSN_FLAG_W,DCNS,DCNS_FLAG_W,ARABI,ARABI_FLAG_W,FUCO,FUCO_FLAG_W,GALA,GALA_FLAG_W,GLUC,GLUC_FLAG_W,MAN,MAN_FLAG_W,RHAM,RHAM_FLAG_W,BRDU,BRDU_FLAG_W,PEUK,PEUK_FLAG_W,PROC,PROC_FLAG_W,SYN,SYN_FLAG_W,THETA,BACT,BACT_FLAG_W,BTL_TIME,BTL_LAT,BTL_LON
,,,,,,,,,,,METERS,DBAR,DBAR,ITS-90,PSS-78,,PSS-78,,UMOL/KG,,UMOL/KG,,UMOL/KG,,UMOL/KG,,UMOL/KG,,UMOL/KG,,PMOL/KG,,PMOL/KG,,PMOL/KG,,PMOL/KG,,UMOL/KG,,UMOL/KG,,UMOL/KG,,UMOL/KG,,TU,,TU,NMOL/KG,,NMOL/KG,PERCNT,,PERCNT,NMOL/KG,,NMOL/KG,/MILLE,,/MILLE,/MILLE,,1/M,,1/M,,1/M,,1/M,,1/NM,,1/NM,,NMOL/KG,,NMOL/KG,,NMOL/KG,,NMOL/KG,,NMOL/KG,,NMOL/KG,,NMOL/KG,,PMOL/L/H,,E6/L,,E7/L,,E6/L,,DEG C,E8/L,,,,
316N200309, A20, 83, 1, 9, 9, 2, 20031017, 2226, 7.2025, -53.4453, 210,     3.00,      3.0,  29.8099,  31.7416, 2,  31.7591, 2,    191.0, 2,    196.4, 2,    11.72, 2,     0.11, 2,     0.00, 2,     0.05, 2,    1.549, 2,    0.971, 2,    0.113, 2,    1.654, 2,   -999.0, 9,   -999.0, 9,  -999.00, 9,  -999.00, 9, -999.000, 9, -999.000, -999.0000, 9, -999.0000,  -999.00, 9,  -999.00, -999.000, 9, -999.000,   -999.0, 9,   -999.0,  -999.00, 9, -999.0000, 9, -999.0000, 9, -999.0000, 9, -999.0000, 9, -999.0000, 9, -999.0000, 9, -999, 9, -999, 9, -999, 9, -999, 9, -999, 9, -999, 9, -999, 9,  -999.00, 9,  -999.00, 9,  -999.00, 9,  -999.00, 9,  29.8092,  -999.00, 9, 2237,    7.2050,  -53.4433
316N200309, A20, 83, 1, 10, 10, 2, 20031017, 2226, 7.2025, -53.4453, 210,     3.00,      3.0,  29.8101,  31.7330, 2, -999.0000, 9,    191.0, 2,   -999.0, 9,  -999.00, 9,  -999.00, 9,  -999.00, 9,  -999.00, 9, -999.000, 9, -999.000, 9, -999.000, 9, -999.000, 9,   1804.2, 2,   2111.0, 2,  -999.00, 9,  -999.00, 9, -999.000, 9, -999.000, -999.0000, 9, -999.0000,  -999.00, 9,  -999.00, -999.000, 9, -999.000,   -999.0, 9,   -999.0,  -999.00, 9, -999.0000, 9, -999.0000, 9, -999.0000, 9, -999.0000, 9, -999.0000, 9, -999.0000, 9, -999, 9, -999, 9, -999, 9, -999, 9, -999, 9, -999, 9, -999, 9,  -999.00, 9,  -999.00, 9,  -999.00, 9,  -999.00, 9,  29.8094,  -999.00, 9, 2237,    7.2050,  -53.4433
316N200309, A20, 83, 1, 8, 8, 2, 20031017, 2226, 7.2025, -53.4453, 210,    27.10,     27.1,  28.0449,  36.0047, 2,  35.8868, 2,    190.0, 2,    194.8, 2,     1.46, 2,     0.14, 2,     0.00, 2,     0.07, 2,    1.614, 2,    1.025, 2,    0.102, 2,    1.252, 2,   -999.0, 9,   -999.0, 9,  -999.00, 9,  -999.00, 9, -999.000, 9, -999.000, -999.0000, 9, -999.0000,  -999.00, 9,  -999.00, -999.000, 9, -999.000,   -999.0, 9,   -999.0,  -999.00, 9, -999.0000, 9, -999.0000, 9, -999.0000, 9, -999.0000, 9, -999.0000, 9, -999.0000, 9, -999, 9, -999, 9, -999, 9, -999, 9, -999, 9, -999, 9, -999, 9,  -999.00, 9,  -999.00, 9,  -999.00, 9,  -999.00, 9,  28.0385,  -999.00, 9, 2235,    7.2045,  -53.4435
316N200309, A20, 83, 1, 7, 7, 2, 20031017, 2226, 7.2025, -53.4453, 210,    50.40,     50.4,  27.4824,  36.2231, 2,  36.2194, 2,    185.6, 2,    190.4, 2,     1.04, 2,     0.32, 2,     0.05, 2,     0.10, 2,    1.633, 2,    1.015, 2,    0.111, 2,    1.244, 2,   -999.0, 9,   -999.0, 9,  -999.00, 9,  -999.00, 9, -999.000, 9, -999.000, -999.0000, 9, -999.0000,  -999.00, 9,  -999.00, -999.000, 9, -999.000,   -999.0, 9,   -999.0,  -999.00, 9, -999.0000, 9, -999.0000, 9, -999.0000, 9, -999.0000, 9, -999.0000, 9, -999.0000, 9, -999, 9, -999, 9, -999, 9, -999, 9, -999, 9, -999, 9, -999, 9,  -999.00, 9,  -999.00, 9,  -999.00, 9,  -999.00, 9,  27.4706,  -999.00, 9, 2234,    7.2041,  -53.4438
316N200309, A20, 83, 1, 6, 6, 2, 20031017, 2226, 7.2025, -53.4453, 210,    76.50,     76.5,  24.4693,  36.3832, 2,  36.3907, 2,    164.0, 2,    166.2, 2,     2.24, 2,     3.95, 2,     0.09, 2,     0.30, 2,    1.788, 2,    1.089, 2,    0.081, 2,    0.829, 2,   -999.0, 9,   -999.0, 9,  -999.00, 9,  -999.00, 9, -999.000, 9, -999.000, -999.0000, 9, -999.0000,  -999.00, 9,  -999.00, -999.000, 9, -999.000,   -999.0, 9,   -999.0,  -999.00, 9, -999.0000, 9, -999.0000, 9, -999.0000, 9, -999.0000, 9, -999.0000, 9, -999.0000, 9, -999, 9, -999, 9, -999, 9, -999, 9, -999, 9, -999, 9, -999, 9,  -999.00, 9,  -999.00, 9,  -999.00, 9,  -999.00, 9,  24.4529,  -999.00, 9, 2233,    7.2038,  -53.4441
316N200309, A20, 83, 1, 5, 5, 2, 20031017, 2226, 7.2025, -53.4453, 210,   101.60,    101.6,  21.3649,  36.6580, 2,  36.6554, 2,    140.7, 2,    144.3, 2,     2.63, 2,     7.15, 2,     0.05, 2,     0.44, 2,    1.937, 2,    1.166, 2,    0.050, 2,    0.331, 2,   -999.0, 9,   -999.0, 9,  -999.00, 9,  -999.00, 9, -999.000, 9, -999.000, -999.0000, 9, -999.0000,  -999.00, 9,  -999.00, -999.000, 9, -999.000,   -999.0, 9,   -999.0,  -999.00, 9, -999.0000, 9, -999.0000, 9, -999.0000, 9, -999.0000, 9, -999.0000, 9, -999.0000, 9, -999, 9, -999, 9, -999, 9, -999, 9, -999, 9, -999, 9, -999, 9,  -999.00, 9,  -999.00, 9,  -999.00, 9,  -999.00, 9,  21.3450,  -999.00, 9, 2231,    7.2036,  -53.4444
316N200309, A20, 83, 1, 4, 4, 2, 20031017, 2226, 7.2025, -53.4453, 210,   126.30,    126.3,  20.4632,  36.6226, 2,  36.6223, 2,    138.5, 2,    140.9, 2,     2.92, 2,     8.19, 2,     0.03, 2,     0.48, 2,    1.954, 2,    1.162, 2,    0.039, 2,    0.288, 2,   -999.0, 9,   -999.0, 9,  -999.00, 9,  -999.00, 9, -999.000, 9, -999.000, -999.0000, 9, -999.0000,  -999.00, 9,  -999.00, -999.000, 9, -999.000,   -999.0, 9,   -999.0,  -999.00, 9, -999.0000, 9, -999.0000, 9, -999.0000, 9, -999.0000, 9, -999.0000, 9, -999.0000, 9, -999, 9, -999, 9, -999, 9, -999, 9, -999, 9, -999, 9, -999, 9,  -999.00, 9,  -999.00, 9,  -999.00, 9,  -999.00, 9,  20.4393,  -999.00, 9, 2230,    7.2033,  -53.4446
316N200309, A20, 83, 1, 3, 3, 2, 20031017, 2226, 7.2025, -53.4453, 210,   151.00,    151.0,  19.5253,  36.5178, 2,  36.5085, 2,    135.4, 2,    138.5, 2,     3.61, 2,     9.68, 2,     0.04, 2,     0.58, 2,    1.989, 2,    1.180, 2,    0.029, 2,    0.272, 2,   -999.0, 9,   -999.0, 9,  -999.00, 9,  -999.00, 9, -999.000, 9, -999.000, -999.0000, 9, -999.0000,  -999.00, 9,  -999.00, -999.000, 9, -999.000,   -999.0, 9,   -999.0,  -999.00, 9, -999.0000, 9, -999.0000, 9, -999.0000, 9, -999.0000, 9, -999.0000, 9, -999.0000, 9, -999, 9, -999, 9, -999, 9, -999, 9, -999, 9, -999, 9, -999, 9,  -999.00, 9,  -999.00, 9,  -999.00, 9,  -999.00, 9,  19.4976,  -999.00, 9, 2229,    7.2031,  -53.4449
316N200309, A20, 83, 1, 2, 2, 2, 20031017, 2226, 7.2025, -53.4453, 210,   174.10,    174.1,  17.7883,  36.3294, 2,  36.3269, 2,    133.0, 2,    135.5, 2,     4.21, 2,    11.94, 2,     0.03, 2,     0.70, 2,    1.997, 2,    1.157, 2,    0.012, 2,    0.293, 2,   -999.0, 9,   -999.0, 9,  -999.00, 9,  -999.00, 9, -999.000, 9, -999.000, -999.0000, 9, -999.0000,  -999.00, 9,  -999.00, -999.000, 9, -999.000,   -999.0, 9,   -999.0,  -999.00, 9, -999.0000, 9, -999.0000, 9, -999.0000, 9, -999.0000, 9, -999.0000, 9, -999.0000, 9, -999, 9, -999, 9, -999, 9, -999, 9, -999, 9, -999, 9, -999, 9,  -999.00, 9,  -999.00, 9,  -999.00, 9,  -999.00, 9,  17.7584,  -999.00, 9, 2228,    7.2028,  -53.4451
316N200309, A20, 83, 1, 1, 1, 2, 20031017, 2226, 7.2025, -53.4453, 210,   194.80,    194.8,  16.7976,  36.1568, 2,  36.1618, 2,    130.5, 2,    133.0, 2,     6.24, 2,    13.54, 2,     0.06, 2,     0.85, 2,    1.928, 2,    1.131, 2,    0.007, 2,    0.309, 2,   -999.0, 9,   -999.0, 9,  -999.00, 9,  -999.00, 9, -999.000, 9, -999.000, -999.0000, 9, -999.0000,  -999.00, 9,  -999.00, -999.000, 9, -999.000,   -999.0, 9,   -999.0,  -999.00, 9, -999.0000, 9, -999.0000, 9, -999.0000, 9, -999.0000, 9, -999.0000, 9, -999.0000, 9, -999, 9, -999, 9, -999, 9, -999, 9, -999, 9, -999, 9, -999, 9,  -999.00, 9,  -999.00, 9,  -999.00, 9,  -999.00, 9,  16.7655,  -999.00, 9, 2226,    7.2024,  -53.4453
316N200309, A20, 84, 1, 8, 8, 2, 20031017, 2326, 7.1558, -53.4683, 182,     2.80,      2.8,  29.5084,  31.3293, 2, -999.0000, 9,    193.7, 2,   -999.0, 9,  -999.00, 9,  -999.00, 9,  -999.00, 9,  -999.00, 9, -999.000, 9, -999.000, 9, -999.000, 9, -999.000, 9,   1784.0, 2,   2084.7, 2,  -999.00, 9,  -999.00, 9, -999.000, 9, -999.000, -999.0000, 9, -999.0000,  -999.00, 9,  -999.00, -999.000, 9, -999.000,   -999.0, 9,   -999.0,  -999.00, 9, -999.0000, 9, -999.0000, 9, -999.0000, 9, -999.0000, 9, -999.0000, 9, -999.0000, 9, -999, 9, -999, 9, -999, 9, -999, 9, -999, 9, -999, 9, -999, 9,  -999.00, 9,  -999.00, 9,  -999.00, 9,  -999.00, 9,  29.5077,  -999.00, 9, 2335,    7.1581,  -53.4676
316N200309, A20, 84, 1, 7, 7, 2, 20031017, 2326, 7.1558, -53.4683, 182,     3.00,      3.0,  29.5075,  31.3290, 2,  31.3406, 2,    193.7, 2,    199.5, 2,    12.45, 2,     0.00, 2,     0.00, 2,     0.07, 2,    1.642, 2,    1.033, 2,    0.135, 2, -999.000, 9,   -999.0, 9,   2084.5, 2,  -999.00, 9,  -999.00, 9, -999.000, 9, -999.000, -999.0000, 9, -999.0000,  -999.00, 9,  -999.00, -999.000, 9, -999.000,   -999.0, 9,   -999.0,  -999.00, 9, -999.0000, 9, -999.0000, 9, -999.0000, 9, -999.0000, 9, -999.0000, 9, -999.0000, 9, -999, 9, -999, 9, -999, 9, -999, 9, -999, 9, -999, 9, -999, 9,  -999.00, 9,  -999.00, 9,  -999.00, 9,  -999.00, 9,  29.5068,  -999.00, 9, 2335,    7.1581,  -53.4676
316N200309, A20, 84, 1, 6, 6, 2, 20031017, 2326, 7.1558, -53.4683, 182,    27.20,     27.2,  28.3626,  35.7716, 2,  35.8054, 2,    189.2, 2,    194.4, 2,     1.88, 2,    -0.01, 2,     0.01, 2,     0.08, 2,    1.681, 2,    1.041, 2,    0.141, 2, -999.000, 9,   2010.6, 2,   2346.9, 2,  -999.00, 9,  -999.00, 9, -999.000, 9, -999.000, -999.0000, 9, -999.0000,  -999.00, 9,  -999.00, -999.000, 9, -999.000,   -999.0, 9,   -999.0,  -999.00, 9, -999.0000, 9, -999.0000, 9, -999.0000, 9, -999.0000, 9, -999.0000, 9, -999.0000, 9, -999, 9, -999, 9, -999, 9, -999, 9, -999, 9, -999, 9, -999, 9,  -999.00, 9,  -999.00, 9,  -999.00, 9,  -999.00, 9,  28.3562,  -999.00, 9, 2333,    7.1576,  -53.4676
316N200309, A20, 84, 1, 5, 5, 2, 20031017, 2326, 7.1558, -53.4683, 182,    51.60,     51.6,  27.4642,  36.2232, 2,  36.2202, 2,    184.8, 2,    189.8, 2,     1.15, 2,     0.09, 2,     0.06, 2,     0.11, 2,    1.713, 6,    1.062, 6,    0.134, 6, -999.000, 9,   -999.0, 9,   2372.4, 2,  -999.00, 9,  -999.00, 9, -999.000, 9, -999.000, -999.0000, 9, -999.0000,  -999.00, 9,  -999.00, -999.000, 9, -999.000,   -999.0, 9,   -999.0,  -999.00, 9, -999.0000, 9, -999.0000, 9, -999.0000, 9, -999.0000, 9, -999.0000, 9, -999.0000, 9, -999, 9, -999, 9, -999, 9, -999, 9, -999, 9, -999, 9, -999, 9,  -999.00, 9,  -999.00, 9,  -999.00, 9,  -999.00, 9,  27.4522,  -999.00, 9, 2332,    7.1571,  -53.4676
316N200309, A20, 84, 1, 4, 4, 2, 20031017, 2326, 7.1558, -53.4683, 182,    76.40,     76.4,  23.6460,  36.4189, 2,  36.4368, 2,    162.7, 2,    159.2, 2,     2.74, 2,     4.94, 2,     0.09, 2,     0.36, 2,    1.914, 2,    1.151, 2,    0.096, 2, -999.000, 9,   2105.4, 2,   2382.5, 2,  -999.00, 9,  -999.00, 9, -999.000, 9, -999.000, -999.0000, 9, -999.0000,  -999.00, 9,  -999.00, -999.000, 9, -999.000,   -999.0, 9,   -999.0,  -999.00, 9, -999.0000, 9, -999.0000, 9, -999.0000, 9, -999.0000, 9, -999.0000, 9, -999.0000, 9, -999, 9, -999, 9, -999, 9, -999, 9, -999, 9, -999, 9, -999, 9,  -999.00, 9,  -999.00, 9,  -999.00, 9,  -999.00, 9,  23.6300,  -999.00, 9, 2331,    7.1568,  -53.4678
316N200309, A20, 84, 1, 3, 3, 2, 20031017, 2326, 7.1558, -53.4683, 182,   101.20,    101.2,  21.0269,  36.6004, 2,  36.5957, 2,    139.2, 2,    143.8, 2,     3.03, 2,     7.54, 2,     0.05, 2,     0.48, 2,    2.043, 2,    1.198, 2,    0.060, 2, -999.000, 9,   -999.0, 9,   2391.1, 2,  -999.00, 9,  -999.00, 9, -999.000, 9, -999.000, -999.0000, 9, -999.0000,  -999.00, 9,  -999.00, -999.000, 9, -999.000,   -999.0, 9,   -999.0,  -999.00, 9, -999.0000, 9, -999.0000, 9, -999.0000, 9, -999.0000, 9, -999.0000, 9, -999.0000, 9, -999, 9, -999, 9, -999, 9, -999, 9, -999, 9, -999, 9, -999, 9,  -999.00, 9,  -999.00, 9,  -999.00, 9,  -999.00, 9,  21.0074,  -999.00, 9, 2330,    7.1565,  -53.4680
316N200309, A20, 84, 1, 2, 2, 2, 20031017, 2326, 7.1558, -53.4683, 182,   136.00,    136.0,  20.9663,  36.6256, 2,  36.6205, 2,    139.6, 2,    143.1, 2,     2.91, 2,     7.54, 2,     0.04, 2,     0.47, 2,    2.041, 2,    1.208, 2,    0.067, 2, -999.000, 9,   2142.9, 2,   2390.7, 2,  -999.00, 9,  -999.00, 9, -999.000, 9, -999.000, -999.0000, 9, -999.0000,  -999.00, 9,  -999.00, -999.000, 9, -999.000,   -999.0, 9,   -999.0,  -999.00, 9, -999.0000, 9, -999.0000, 9, -999.0000, 9, -999.0000, 9, -999.0000, 9, -999.0000, 9, -999, 9, -999, 9, -999, 9, -999, 9, -999, 9, -999, 9, -999, 9,  -999.00, 9,  -999.00, 9,  -999.00, 9,  -999.00, 9,  20.9401,  -999.00, 9, 2328,    7.1561,  -53.4682
316N200309, A20, 84, 1, 1, 1, 2, 20031017, 2326, 7.1558, -53.4683, 182,   169.80,    169.8,  19.3401,  36.4820, 2,  36.4915, 2,    134.8, 2,    137.5, 2,     4.30, 2,     9.61, 2,     0.06, 2,     0.61, 2,    2.056, 2,    1.203, 2,    0.052, 2, -999.000, 9,   2154.5, 2,   2385.2, 2,  -999.00, 9,  -999.00, 9, -999.000, 9, -999.000, -999.0000, 9, -999.0000,  -999.00, 9,  -999.00, -999.000, 9, -999.000,   -999.0, 9,   -999.0,  -999.00, 9, -999.0000, 9, -999.0000, 9, -999.0000, 9, -999.0000, 9, -999.0000, 9, -999.0000, 9, -999, 9, -999, 9, -999, 9, -999, 9, -999, 9, -999, 9, -999, 9,  -999.00, 9,  -999.00, 9,  -999.00, 9,  -999.00, 9,  19.3092,  -999.00, 9, 2327,    7.1558,  -53.4684
316N200309, A20, 85, 1, 5, 5, 2, 20031018, 0019, 7.1088, -53.4900, 133,     3.30,      3.3,  29.2810,  31.7283, 2,  31.7370, 2,    159.2, 2,    201.1, 2,    10.90, 2,     0.05, 2,     0.00, 2,     0.06, 2,    1.590, 2,    0.979, 2,    0.123, 2,    1.622, 2,   -999.0, 9,   2333.4, 3,  -999.00, 9,  -999.00, 9, -999.000, 9, -999.000, -999.0000, 9, -999.0000,  -999.00, 9,  -999.00, -999.000, 9, -999.000,   -999.0, 9,   -999.0,  -999.00, 9, -999.0000, 9, -999.0000, 9, -999.0000, 9, -999.0000, 9, -999.0000, 9, -999.0000, 9, -999, 9, -999, 9, -999, 9, -999, 9, -999, 9, -999, 9, -999, 9,  -999.00, 9,  -999.00, 9,  -999.00, 9,  -999.00, 9,  29.2802,  -999.00, 9,   28,    7.1117,  -53.4900
316N200309, A20, 85, 1, 6, 6, 2, 20031018, 0019, 7.1088, -53.4900, 133,     3.40,      3.4,  29.2833,  31.7303, 2, -999.0000, 9,    159.2, 2,   -999.0, 9,  -999.00, 9,  -999.00, 9,  -999.00, 9,  -999.00, 9, -999.000, 9, -999.000, 9, -999.000, 9, -999.000, 9,   1800.7, 2,   2106.7, 2,  -999.00, 9,  -999.00, 9, -999.000, 9, -999.000, -999.0000, 9, -999.0000,  -999.00, 9,  -999.00, -999.000, 9, -999.000,   -999.0, 9,   -999.0,  -999.00, 9, -999.0000, 9, -999.0000, 9, -999.0000, 9, -999.0000, 9, -999.0000, 9, -999.0000, 9, -999, 9, -999, 9, -999, 9, -999, 9, -999, 9, -999, 9, -999, 9,  -999.00, 9,  -999.00, 9,  -999.00, 9,  -999.00, 9,  29.2825,  -999.00, 9,   29,    7.1118,  -53.4900
316N200309, A20, 85, 1, 4, 4, 2, 20031018, 0019, 7.1088, -53.4900, 133,    27.50,     27.5,  28.6584,  35.5290, 2,  35.5687, 2,    188.1, 2,    193.5, 2,     2.35, 2,     0.05, 2,     0.00, 2,     0.06, 2,    1.638, 2,    1.022, 2,    0.105, 2,    1.259, 2,   -999.0, 9,   -999.0, 1,  -999.00, 9,  -999.00, 9, -999.000, 9, -999.000, -999.0000, 9, -999.0000,  -999.00, 9,  -999.00, -999.000, 9, -999.000,   -999.0, 9,   -999.0,  -999.00, 9, -999.0000, 9, -999.0000, 9, -999.0000, 9, -999.0000, 9, -999.0000, 9, -999.0000, 9, -999, 9, -999, 9, -999, 9, -999, 9, -999, 9, -999, 9, -999, 9,  -999.00, 9,  -999.00, 9,  -999.00, 9,  -999.00, 9,  28.6518,  -999.00, 9,   26,    7.1110,  -53.4900
316N200309, A20, 85, 1, 3, 3, 2, 20031018, 0019, 7.1088, -53.4900, 133,    52.40,     52.4,  27.4614,  36.2081, 2,  36.2054, 2,    185.0, 2,    189.7, 2,     1.12, 2,     0.18, 2,     0.06, 2,     0.10, 2,    1.650, 2,    1.007, 2,    0.134, 2,    1.222, 2,   -999.0, 9,   2371.1, 2,  -999.00, 9,  -999.00, 9, -999.000, 9, -999.000, -999.0000, 9, -999.0000,  -999.00, 9,  -999.00, -999.000, 9, -999.000,   -999.0, 9,   -999.0,  -999.00, 9, -999.0000, 9, -999.0000, 9, -999.0000, 9, -999.0000, 9, -999.0000, 9, -999.0000, 9, -999, 9, -999, 9, -999, 9, -999, 9, -999, 9, -999, 9, -999, 9,  -999.00, 9,  -999.00, 9,  -999.00, 9,  -999.00, 9,  27.4492,  -999.00, 9,   25,    7.1104,  -53.4901
316N200309, A20, 85, 1, 2, 2, 2, 20031018, 0019, 7.1088, -53.4900, 133,    76.90,     76.9,  25.6447,  36.3063, 2,  36.2523, 2,    173.3, 2,    185.5, 2,     1.41, 2,     0.80, 2,     0.07, 2,     0.14, 2,    1.675, 2,    1.031, 2,    0.115, 2,    1.174, 2,   -999.0, 9,   2374.1, 2,  -999.00, 9,  -999.00, 9, -999.000, 9, -999.000, -999.0000, 9, -999.0000,  -999.00, 9,  -999.00, -999.000, 9, -999.000,   -999.0, 9,   -999.0,  -999.00, 9, -999.0000, 9, -999.0000, 9, -999.0000, 9, -999.0000, 9, -999.0000, 9, -999.0000, 9, -999, 9, -999, 9, -999, 9, -999, 9, -999, 9, -999, 9, -999, 9,  -999.00, 9,  -999.00, 9,  -999.00, 9,  -999.00, 9,  25.6276,  -999.00, 9,   23,    7.1098,  -53.4901
316N200309, A20, 85, 1, 1, 1, 2, 20031018, 0019, 7.1088, -53.4900, 133,   120.60,    120.6,  20.6274,  36.5900, 2,  36.5882, 2,    137.8, 2,    141.9, 2,     3.20, 2,     8.03, 2,     0.05, 2,     0.50, 2,    1.978, 2,    1.159, 2,    0.037, 2,    0.327, 2,   -999.0, 9,   2389.0, 2,  -999.00, 9,  -999.00, 9, -999.000, 9, -999.000, -999.0000, 9, -999.0000,  -999.00, 9,  -999.00, -999.000, 9, -999.000,   -999.0, 9,   -999.0,  -999.00, 9, -999.0000, 9, -999.0000, 9, -999.0000, 9, -999.0000, 9, -999.0000, 9, -999.0000, 9, -999, 9, -999, 9, -999, 9, -999, 9, -999, 9, -999, 9, -999, 9,  -999.00, 9,  -999.00, 9,  -999.00, 9,  -999.00, 9,  20.6044,  -999.00, 9,   20,    7.1090,  -53.4901