BOTTLE,20220816CCHSIOAMB
EXPOCODE,SECT_ID,STNNBR,CASTNO,SAMPNO,BTLNBR,BTLNBR_FLAG_W,DATE,TIME,LATITUDE,LONGITUDE,DEPTH,CTDRAW,CTDPRS,CTDTMP,CTDSAL,CTDSAL_FLAG_W,SALNTY,SALNTY_FLAG_W,CTDOXY,CTDOXY_FLAG_W,OXYGEN,OXYGEN_FLAG_W,SILCAT,SILCAT_FLAG_W,NITRAT,NITRAT_FLAG_W,NITRIT,NITRIT_FLAG_W,PHSPHT,PHSPHT_FLAG_W,CFC-11,CFC-11_FLAG_W,CFC-12,CFC-12_FLAG_W,CFC113,CFC113_FLAG_W,CCL4,CCL4_FLAG_W,TCARBN,TCARBN_FLAG_W,ALKALI,ALKALI_FLAG_W,DOC,DOC_FLAG_W,TDN,TDN_FLAG_W,TRITUM,TRITUM_FLAG_W,TRITER,HELIUM,HELIUM_FLAG_W,HELIER,DELHE3,DELHE3_FLAG_W,DELHER,NEON,NEON_FLAG_W,NEONER,DELC14,DELC14_FLAG_W,C14ERR,DELC13,DELC13_FLAG_W,CDOM325,CDOM325_FLAG_W,CDOM340,CDOM340_FLAG_W,CDOM380,CDOM380_FLAG_W,CDOM412,CDOM412_FLAG_W,CDOMSL,CDOMSL_FLAG_W,CDOMSN,CDOMSN_FLAG_W,DCNS,DCNS_FLAG_W,ARABI,ARABI_FLAG_W,FUCO,FUCO_FLAG_W,GALA,GALA_FLAG_W,GLUC,GLUC_FLAG_W,MAN,MAN_FLAG_W,RHAM,RHAM_FLAG_W,BRDU,BRDU_FLAG_W,PEUK,PEUK_FLAG_W,PROC,PROC_FLAG_W,SYN,SYN_FLAG_W,THETA,BACT,BACT_FLAG_W,BTL_TIME,BTL_LAT,BTL_LON
,,,,,,,,,,,METERS,DBAR,DBAR,ITS-90,PSS-78,,PSS-78,,UMOL/KG,,UMOL/KG,,UMOL/KG,,UMOL/KG,,UMOL/KG,,UMOL/KG,,PMOL/KG,,PMOL/KG,,PMOL/KG,,PMOL/KG,,UMOL/KG,,UMOL/KG,,UMOL/KG,,UMOL/KG,,TU,,TU,NMOL/KG,,NMOL/KG,PERCNT,,PERCNT,NMOL/KG,,NMOL/KG,/MILLE,,/MILLE,/MILLE,,1/M,,1/M,,1/M,,1/M,,1/NM,,1/NM,,NMOL/KG,,NMOL/KG,,NMOL/KG,,NMOL/KG,,NMOL/KG,,NMOL/KG,,NMOL/KG,,PMOL/L/H,,E6/L,,E7/L,,E6/L,,DEG C,E8/L,,,,
316N200309, A20, 20, 1, 10, 10, 2, 20030929, 1421, 38.9527, -52.3038, 5349,  3300.30,   3300.3,   2.8119,  34.9296, 2,  34.9282, 2,    265.7, 2,    267.4, 2,    20.41, 2,    17.80, 2,     0.00, 2,     1.20, 2,    0.699, 2,    0.347, 2,    0.035, 2, -999.000, 9,   -999.0, 9,   -999.0, 9,  -999.00, 9,  -999.00, 9, -999.000, 9, -999.000, -999.0000, 9, -999.0000,  -999.00, 9,  -999.00, -999.000, 9, -999.000,   -999.0, 9,   -999.0,  -999.00, 9, -999.0000, 9, -999.0000, 9, -999.0000, 9, -999.0000, 9, -999.0000, 9, -999.0000, 9, -999, 9, -999, 9, -999, 9, -999, 9, -999, 9, -999, 9, -999, 9,  -999.00, 9,  -999.00, 9,  -999.00, 9,  -999.00, 9,   2.5334,  -999.00, 9, 1517,   38.9461,  -52.2931
316N200309, A20, 20, 1, 9, 9, 2, 20030929, 1421, 38.9527, -52.3038, 5349,  3500.60,   3500.6,   2.6425,  34.9200, 2,  34.9189, 2,    267.4, 2,    268.9, 2,    21.71, 2,    17.86, 2,     0.00, 2,     1.20, 2,    0.728, 2,    0.356, 2,    0.028, 2, -999.000, 9,   -999.0, 9,   -999.0, 9,  -999.00, 9,  -999.00, 9, -999.000, 9, -999.000, -999.0000, 9, -999.0000,  -999.00, 9,  -999.00, -999.000, 9, -999.000,   -999.0, 9,   -999.0,  -999.00, 9, -999.0000, 9, -999.0000, 9, -999.0000, 9, -999.0000, 9, -999.0000, 9, -999.0000, 9, -999, 9, -999, 9, -999, 9, -999, 9, -999, 9, -999, 9, -999, 9,  -999.00, 9,  -999.00, 9,  -999.00, 9,  -999.00, 9,   2.3464,  -999.00, 9, 1512,   38.9467,  -52.2945
316N200309, A20, 20, 1, 8, 8, 2, 20030929, 1421, 38.9527, -52.3038, 5349,  3701.00,   3701.0,   2.5356,  34.9130, 2,  34.9120, 2,    268.3, 2,    269.2, 2,    23.01, 2,    17.86, 2,     0.00, 2,     1.20, 2,    0.756, 2,    0.372, 2,    0.036, 2, -999.000, 9,   -999.0, 9,   -999.0, 9,  -999.00, 9,  -999.00, 9, -999.000, 9, -999.000, -999.0000, 9, -999.0000,  -999.00, 9,  -999.00, -999.000, 9, -999.000,   -999.0, 9,   -999.0,  -999.00, 9, -999.0000, 9, -999.0000, 9, -999.0000, 9, -999.0000, 9, -999.0000, 9, -999.0000, 9, -999, 9, -999, 9, -999, 9, -999, 9, -999, 9, -999, 9, -999, 9,  -999.00, 9,  -999.00, 9,  -999.00, 9,  -999.00, 9,   2.2202,  -999.00, 9, 1507,   38.9473,  -52.2957
316N200309, A20, 20, 1, 7, 7, 2, 20030929, 1421, 38.9527, -52.3038, 5349,  3900.30,   3900.3,   2.4272,  34.9056, 2,  34.9048, 2,    268.1, 2,    269.1, 2,    24.93, 2,    18.06, 2,     0.00, 2,     1.21, 2,    0.771, 2,    0.374, 2,    0.038, 2, -999.000, 9,   -999.0, 9,   -999.0, 9,  -999.00, 9,  -999.00, 9, -999.000, 9, -999.000, -999.0000, 9, -999.0000,  -999.00, 9,  -999.00, -999.000, 9, -999.000,   -999.0, 9,   -999.0,  -999.00, 9, -999.0000, 9, -999.0000, 9, -999.0000, 9, -999.0000, 9, -999.0000, 9, -999.0000, 9, -999, 9, -999, 9, -999, 9, -999, 9, -999, 9, -999, 9, -999, 9,  -999.00, 9,  -999.00, 9,  -999.00, 9,  -999.00, 9,   2.0923,  -999.00, 9, 1502,   38.9480,  -52.2970
316N200309, A20, 20, 1, 6, 6, 2, 20030929, 1421, 38.9527, -52.3038, 5349,  4100.60,   4100.6,   2.3650,  34.9002, 2,  34.8998, 2,    267.9, 2,    268.5, 2,    26.65, 2,    18.27, 2,     0.00, 2,     1.23, 2,    0.774, 2,    0.377, 2,    0.040, 2, -999.000, 9,   -999.0, 9,   -999.0, 9,  -999.00, 9,  -999.00, 9, -999.000, 9, -999.000, -999.0000, 9, -999.0000,  -999.00, 9,  -999.00, -999.000, 9, -999.000,   -999.0, 9,   -999.0,  -999.00, 9, -999.0000, 9, -999.0000, 9, -999.0000, 9, -999.0000, 9, -999.0000, 9, -999.0000, 9, -999, 9, -999, 9, -999, 9, -999, 9, -999, 9, -999, 9, -999, 9,  -999.00, 9,  -999.00, 9,  -999.00, 9,  -999.00, 9,   2.0089,  -999.00, 9, 1457,   38.9486,  -52.2982
316N200309, A20, 20, 1, 5, 5, 2, 20030929, 1421, 38.9527, -52.3038, 5349,  4351.80,   4351.8,   2.3121,  34.8942, 2,  34.8934, 2,    266.8, 2,    267.3, 2,    29.00, 2,    18.57, 2,     0.00, 2,     1.26, 2,    0.770, 2,    0.380, 2,    0.047, 2, -999.000, 9,   -999.0, 9,   -999.0, 9,  -999.00, 9,  -999.00, 9, -999.000, 9, -999.000, -999.0000, 9, -999.0000,  -999.00, 9,  -999.00, -999.000, 9, -999.000,   -999.0, 9,   -999.0,  -999.00, 9, -999.0000, 9, -999.0000, 9, -999.0000, 9, -999.0000, 9, -999.0000, 9, -999.0000, 9, -999, 9, -999, 9, -999, 9, -999, 9, -999, 9, -999, 9, -999, 9,  -999.00, 9,  -999.00, 9,  -999.00, 9,  -999.00, 9,   1.9283,  -999.00, 9, 1452,   38.9492,  -52.2996
316N200309, A20, 20, 1, 4, 4, 2, 20030929, 1421, 38.9527, -52.3038, 5349,  4651.70,   4651.7,   2.2882,  34.8890, 2,  34.8892, 2,    265.3, 2,    265.2, 2,    31.77, 2,    18.96, 2,     0.00, 2,     1.29, 2,    0.713, 2,    0.348, 2,    0.040, 2, -999.000, 9,   -999.0, 9,   -999.0, 9,  -999.00, 9,  -999.00, 9, -999.000, 9, -999.000, -999.0000, 9, -999.0000,  -999.00, 9,  -999.00, -999.000, 9, -999.000,   -999.0, 9,   -999.0,  -999.00, 9, -999.0000, 9, -999.0000, 9, -999.0000, 9, -999.0000, 9, -999.0000, 9, -999.0000, 9, -999, 9, -999, 9, -999, 9, -999, 9, -999, 9, -999, 9, -999, 9,  -999.00, 9,  -999.00, 9,  -999.00, 9,  -999.00, 9,   1.8691,  -999.00, 9, 1444,   38.9501,  -52.3011
316N200309, A20, 20, 1, 3, 3, 2, 20030929, 1421, 38.9527, -52.3038, 5349,  4903.10,   4903.1,   2.2795,  34.8847, 2,  34.8847, 2,    263.7, 2,    263.2, 2,    34.43, 2,    19.37, 2,     0.00, 2,     1.32, 2,    0.629, 2,    0.319, 2,    0.041, 2, -999.000, 9,   -999.0, 9,   -999.0, 9,  -999.00, 9,  -999.00, 9, -999.000, 9, -999.000, -999.0000, 9, -999.0000,  -999.00, 9,  -999.00, -999.000, 9, -999.000,   -999.0, 9,   -999.0,  -999.00, 9, -999.0000, 9, -999.0000, 9, -999.0000, 9, -999.0000, 9, -999.0000, 9, -999.0000, 9, -999, 9, -999, 9, -999, 9, -999, 9, -999, 9, -999, 9, -999, 9,  -999.00, 9,  -999.00, 9,  -999.00, 9,  -999.00, 9,   1.8297,  -999.00, 9, 1437,   38.9509,  -52.3021
316N200309, A20, 20, 1, 2, 2, 2, 20030929, 1421, 38.9527, -52.3038, 5349,  5152.50,   5152.5,   2.2801,  34.8816, 2,  34.8812, 2,    263.1, 2,    263.5, 2,    34.70, 2,    19.42, 2,     0.00, 2,     1.32, 2,    0.701, 2,    0.359, 2,    0.049, 2, -999.000, 9,   -999.0, 9,   -999.0, 9,  -999.00, 9,  -999.00, 9, -999.000, 9, -999.000, -999.0000, 9, -999.0000,  -999.00, 9,  -999.00, -999.000, 9, -999.000,   -999.0, 9,   -999.0,  -999.00, 9, -999.0000, 9, -999.0000, 9, -999.0000, 9, -999.0000, 9, -999.0000, 9, -999.0000, 9, -999, 9, -999, 9, -999, 9, -999, 9, -999, 9, -999, 9, -999, 9,  -999.00, 9,  -999.00, 9,  -999.00, 9,  -999.00, 9,   1.7988,  -999.00, 9, 1430,   38.9519,  -52.3026
316N200309, A20, 20, 1, 1, 1, 2, 20030929, 1421, 38.9527, -52.3038, 5349,  5456.80,   5456.8,   2.2478,  34.8714, 2,  34.8711, 2,    259.8, 2,    257.5, 2,    42.37, 2,    20.66, 2,     0.01, 2,     1.44, 2,    0.402, 2,    0.210, 2,    0.033, 2, -999.000, 9,   -999.0, 9,   -999.0, 9,  -999.00, 9,  -999.00, 9, -999.000, 9, -999.000, -999.0000, 9, -999.0000,  -999.00, 9,  -999.00, -999.000, 9, -999.000,   -999.0, 9,   -999.0,  -999.00, 9, -999.0000, 9, -999.0000, 9, -999.0000, 9, -999.0000, 9, -999.0000, 9, -999.0000, 9, -999, 9, -999, 9, -999, 9, -999, 9, -999, 9, -999, 9, -999, 9,  -999.00, 9,  -999.00, 9,  -999.00, 9,  -999.00, 9,   1.7283,  -999.00, 9, 1421,   38.9528,  -52.3038