BOTTLE,20220816CCHSIOAMB
EXPOCODE,SECT_ID,STNNBR,CASTNO,SAMPNO,BTLNBR,BTLNBR_FLAG_W,DATE,TIME,LATITUDE,LONGITUDE,DEPTH,CTDRAW,CTDPRS,CTDTMP,CTDSAL,CTDSAL_FLAG_W,SALNTY,SALNTY_FLAG_W,CTDOXY,CTDOXY_FLAG_W,OXYGEN,OXYGEN_FLAG_W,SILCAT,SILCAT_FLAG_W,NITRAT,NITRAT_FLAG_W,NITRIT,NITRIT_FLAG_W,PHSPHT,PHSPHT_FLAG_W,CFC-11,CFC-11_FLAG_W,CFC-12,CFC-12_FLAG_W,CFC113,CFC113_FLAG_W,CCL4,CCL4_FLAG_W,TCARBN,TCARBN_FLAG_W,ALKALI,ALKALI_FLAG_W,DOC,DOC_FLAG_W,TDN,TDN_FLAG_W,TRITUM,TRITUM_FLAG_W,TRITER,HELIUM,HELIUM_FLAG_W,HELIER,DELHE3,DELHE3_FLAG_W,DELHER,NEON,NEON_FLAG_W,NEONER,DELC14,DELC14_FLAG_W,C14ERR,DELC13,DELC13_FLAG_W,CDOM325,CDOM325_FLAG_W,CDOM340,CDOM340_FLAG_W,CDOM380,CDOM380_FLAG_W,CDOM412,CDOM412_FLAG_W,CDOMSL,CDOMSL_FLAG_W,CDOMSN,CDOMSN_FLAG_W,DCNS,DCNS_FLAG_W,ARABI,ARABI_FLAG_W,FUCO,FUCO_FLAG_W,GALA,GALA_FLAG_W,GLUC,GLUC_FLAG_W,MAN,MAN_FLAG_W,RHAM,RHAM_FLAG_W,BRDU,BRDU_FLAG_W,PEUK,PEUK_FLAG_W,PROC,PROC_FLAG_W,SYN,SYN_FLAG_W,THETA,BACT,BACT_FLAG_W,BTL_TIME,BTL_LAT,BTL_LON
,,,,,,,,,,,METERS,DBAR,DBAR,ITS-90,PSS-78,,PSS-78,,UMOL/KG,,UMOL/KG,,UMOL/KG,,UMOL/KG,,UMOL/KG,,UMOL/KG,,PMOL/KG,,PMOL/KG,,PMOL/KG,,PMOL/KG,,UMOL/KG,,UMOL/KG,,UMOL/KG,,UMOL/KG,,TU,,TU,NMOL/KG,,NMOL/KG,PERCNT,,PERCNT,NMOL/KG,,NMOL/KG,/MILLE,,/MILLE,/MILLE,,1/M,,1/M,,1/M,,1/M,,1/NM,,1/NM,,NMOL/KG,,NMOL/KG,,NMOL/KG,,NMOL/KG,,NMOL/KG,,NMOL/KG,,NMOL/KG,,PMOL/L/H,,E6/L,,E7/L,,E6/L,,DEG C,E8/L,,,,
316N200309, A20, 54, 1, 36, 36, 2, 20031012, 1841, 14.9587, -52.3310, 4558,     2.90,      2.9,  29.0534,  36.7574, 2,  36.7577, 2,    179.2, 2,    195.6, 2,     0.61, 2,     0.00, 2,     0.00, 2,     0.02, 2,    1.589, 2,    0.992, 2,    0.123, 2, -999.000, 9,   2036.1, 2,   2405.6, 2,    74.70, 2,     4.90, 2, -999.000, 9, -999.000, -999.0000, 9, -999.0000,  -999.00, 9,  -999.00, -999.000, 9, -999.000,     72.2, 2,      3.4,     1.68, 2,    0.0410, 2,    0.0260, 2,    0.0060, 2,    0.0050, 2,    0.0320, 2,    0.0320, 2, 2821, 4, 173, 2, 440, 2, 604, 2, 480, 2, 862, 2, 263, 2,     0.21, 2,     0.46, 2,    13.22, 2,     0.73, 2,  29.0527,    13.91, 2, 2031,   14.9695,  -52.3327
316N200309, A20, 54, 1, 35, 35, 2, 20031012, 1841, 14.9587, -52.3310, 4558,    26.00,     26.0,  28.8387,  36.7555, 2,  36.7522, 2,    190.8, 2,    195.7, 2,     0.50, 2,     0.00, 2,     0.00, 2,     0.02, 2,    1.609, 2,    1.013, 2,    0.117, 2, -999.000, 9,   2036.4, 2,   2405.5, 2,    73.00, 2,  -999.00, 9, -999.000, 9, -999.000, -999.0000, 9, -999.0000,  -999.00, 9,  -999.00, -999.000, 9, -999.000,   -999.0, 9,   -999.0,  -999.00, 9,    0.0480, 2,    0.0300, 2,    0.0100, 2,    0.0080, 2,    0.0310, 2,    0.0310, 2, -999, 9, -999, 9, -999, 9, -999, 9, -999, 9, -999, 9, -999, 9,     0.60, 2,     0.60, 2,    12.28, 2,     0.60, 2,  28.8324,    12.60, 2, 2029,   14.9693,  -52.3327
316N200309, A20, 54, 1, 34, 34, 2, 20031012, 1841, 14.9587, -52.3310, 4558,    50.80,     50.8,  26.6450,  36.8543, 2,  36.8548, 2,    210.2, 2,    216.7, 2,     0.50, 2,     0.00, 2,     0.00, 2,     0.02, 2,    1.835, 2,    1.130, 2,    0.141, 2, -999.000, 9,   2044.9, 2,   2410.8, 2,    74.90, 2,  -999.00, 9, -999.000, 9, -999.000, -999.0000, 9, -999.0000,  -999.00, 9,  -999.00, -999.000, 9, -999.000,     63.1, 2,      3.2,     1.73, 2,    0.0880, 2,    0.0560, 2,    0.0210, 2,    0.0150, 2,    0.0280, 2,    0.0290, 2, 3179, 4, 117, 2, 474, 2, 889, 2, 451, 2, 1005, 2, 242, 2,     0.27, 2,     0.61, 2,    14.24, 2,     1.04, 2,  26.6334,     9.54, 2, 2028,   14.9692,  -52.3327
316N200309, A20, 54, 1, 33, 33, 2, 20031012, 1841, 14.9587, -52.3310, 4558,    75.60,     75.6,  25.6186,  36.9298, 2,  36.9280, 2,    209.3, 2,    215.6, 2,     0.50, 2,     0.00, 2,     0.00, 2,     0.02, 2,    1.843, 2,    1.140, 2,    0.148, 2, -999.000, 9,   2055.3, 2,   2414.9, 2,    74.00, 2,     4.60, 2, -999.000, 9, -999.000, -999.0000, 9, -999.0000,  -999.00, 9,  -999.00, -999.000, 9, -999.000,   -999.0, 9,   -999.0,  -999.00, 9,    0.1200, 2,    0.0790, 2,    0.0310, 2,    0.0210, 2,    0.0250, 2,    0.0260, 2, 2560, 4, 165, 2, 396, 2, 638, 2, 340, 2, 779, 2, 243, 2,     0.33, 2,     0.58, 2,    17.09, 2,     1.70, 2,  25.6018,    12.10, 2, 2027,   14.9690,  -52.3327
316N200309, A20, 54, 1, 32, 32, 2, 20031012, 1841, 14.9587, -52.3310, 4558,   100.60,    100.6,  24.5576,  37.0140, 2,  37.0124, 2,    201.5, 2,    207.2, 2,     0.39, 2,     0.01, 2,     0.00, 2,     0.02, 2,    1.902, 2,    1.159, 2,    0.167, 2, -999.000, 9,   2072.4, 2,   2420.0, 2,    67.70, 2,     4.50, 2, -999.000, 9, -999.000, -999.0000, 9, -999.0000,  -999.00, 9,  -999.00, -999.000, 9, -999.000,   -999.0, 9,   -999.0,  -999.00, 9,    0.1410, 2,    0.0970, 2,    0.0410, 2,    0.0280, 2,    0.0200, 2,    0.0220, 2, 1846, 4, 81, 2, 305, 2, 500, 2, 275, 2, 500, 2, 184, 2,     0.13, 2,     0.58, 2,    15.33, 2,     1.46, 2,  24.5359,     9.18, 2, 2026,   14.9689,  -52.3327
316N200309, A20, 54, 1, 31, 31, 2, 20031012, 1841, 14.9587, -52.3310, 4558,   125.00,    125.0,  22.8868,  37.0330, 2,  37.0285, 2,    175.6, 2,    178.7, 2,     0.60, 2,     0.59, 2,     0.08, 2,     0.05, 2,    1.925, 2,    1.168, 2,    0.138, 2, -999.000, 9,   2118.3, 2,   2418.1, 2,    59.30, 2,     6.00, 2, -999.000, 9, -999.000, -999.0000, 9, -999.0000,  -999.00, 9,  -999.00, -999.000, 9, -999.000,   -999.0, 9,   -999.0,  -999.00, 9,    0.2320, 2,    0.1760, 2,    0.0900, 2,    0.0660, 2,    0.0140, 2,    0.0150, 2, -999, 9, -999, 9, -999, 9, -999, 9, -999, 9, -999, 9, -999, 9,     0.18, 2,     1.57, 2,     4.09, 2,     0.04, 2,  22.8611,     8.91, 2, 2025,   14.9688,  -52.3327
316N200309, A20, 54, 1, 30, 30, 2, 20031012, 1841, 14.9587, -52.3310, 4558,   150.50,    150.5,  20.0701,  36.7734, 2,  36.7728, 2,    149.6, 2,    152.2, 2,     1.53, 2,     6.46, 2,     0.03, 2,     0.37, 2,    2.136, 2,    1.263, 2,    0.075, 2, -999.000, 9,   2150.4, 2,   2400.7, 2,    50.00, 2,    10.10, 2, -999.000, 9, -999.000, -999.0000, 9, -999.0000,  -999.00, 9,  -999.00, -999.000, 9, -999.000,   -999.0, 9,   -999.0,  -999.00, 9,    0.1350, 2,    0.0980, 2,    0.0480, 2,    0.0370, 2,    0.0140, 2,    0.0170, 2, -999, 9, -999, 9, -999, 9, -999, 9, -999, 9, -999, 9, -999, 9,     0.07, 2,     0.59, 2,     1.03, 2,     0.00, 2,  20.0420,     4.37, 2, 2024,   14.9687,  -52.3328
316N200309, A20, 54, 1, 29, 29, 2, 20031012, 1841, 14.9587, -52.3310, 4558,   205.50,    205.5,  16.0049,  36.1449, 2,  36.1385, 2,    130.9, 2,    131.6, 2,     4.24, 2,    14.62, 2,     0.01, 2,     0.85, 2,    2.023, 2,    1.125, 2,    0.017, 2, -999.000, 9,   2170.1, 2,   2360.6, 2,    45.60, 2,    18.30, 2, -999.000, 9, -999.000, -999.0000, 9, -999.0000,  -999.00, 9,  -999.00, -999.000, 9, -999.000,   -999.0, 9,   -999.0,  -999.00, 9,    0.1310, 2,    0.0940, 2,    0.0470, 2,    0.0370, 2,    0.0140, 2,    0.0170, 2, 478, 4, 49, 2, 54, 2, 88, 2, 110, 2, 133, 2, 45, 2,     0.09, 2,     0.13, 2,     0.00, 2,     0.00, 2,  15.9721,     3.42, 2, 2022,   14.9685,  -52.3328
316N200309, A20, 54, 1, 28, 28, 2, 20031012, 1841, 14.9587, -52.3310, 4558,   254.90,    254.9,  13.4973,  35.7248, 2,  35.7284, 2,    116.8, 2,    114.9, 2,     7.16, 2,    20.26, 2,     0.00, 2,     1.21, 2,    1.587, 2,    0.853, 2,    0.025, 2, -999.000, 9,   2186.3, 2,   2339.8, 2,    42.80, 2,    23.10, 2, -999.000, 9, -999.000, -999.0000, 9, -999.0000,  -999.00, 9,  -999.00, -999.000, 9, -999.000,   -999.0, 9,   -999.0,  -999.00, 9,    0.1350, 2,    0.0970, 2,    0.0490, 2,    0.0380, 2,    0.0140, 2,    0.0160, 2, -999, 9, -999, 9, -999, 9, -999, 9, -999, 9, -999, 9, -999, 9,  -999.00, 9,  -999.00, 9,  -999.00, 9,  -999.00, 9,  13.4611,  -999.00, 9, 2020,   14.9683,  -52.3328
316N200309, A20, 54, 1, 27, 27, 2, 20031012, 1841, 14.9587, -52.3310, 4558,   304.80,    304.8,  11.9628,  35.4721, 2,  35.4717, 2,    107.5, 2,    106.9, 2,     9.77, 2,    23.88, 2,     0.00, 2,     1.46, 2,    1.269, 2,    0.676, 2,    0.008, 2, -999.000, 9,   2197.1, 2,   2327.6, 2,    43.10, 2,  -999.00, 9, -999.000, 9, -999.000, -999.0000, 9, -999.0000,  -999.00, 9,  -999.00, -999.000, 9, -999.000,   -999.0, 9,   -999.0,  -999.00, 9,    0.1340, 2,    0.0950, 2,    0.0490, 2,    0.0390, 2,    0.0130, 2,    0.0160, 2, 416, 4, 22, 2, 49, 2, 60, 2, 136, 2, 114, 2, 36, 2,  -999.00, 9,  -999.00, 9,  -999.00, 9,  -999.00, 9,  11.9227,  -999.00, 9, 2019,   14.9682,  -52.3329
316N200309, A20, 54, 1, 26, 26, 2, 20031012, 1841, 14.9587, -52.3310, 4558,   404.50,    404.5,   9.7842,  35.1337, 2,  35.1390, 2,    103.3, 2,    104.4, 2,  -999.00, 1,  -999.00, 1,  -999.00, 1,  -999.00, 1,    0.741, 2,    0.398, 2,    0.008, 2, -999.000, 9,   2208.4, 2,   2313.7, 2,    43.30, 2,  -999.00, 9, -999.000, 9, -999.000, -999.0000, 9, -999.0000,  -999.00, 9,  -999.00, -999.000, 9, -999.000,   -999.0, 9,   -999.0,  -999.00, 9,    0.1440, 2,    0.1030, 2,    0.0550, 2,    0.0440, 2,    0.0130, 2,    0.0150, 2, -999, 9, -999, 9, -999, 9, -999, 9, -999, 9, -999, 9, -999, 9,  -999.00, 9,  -999.00, 9,  -999.00, 9,  -999.00, 9,   9.7373,  -999.00, 9, 2016,   14.9680,  -52.3329
316N200309, A20, 54, 1, 25, 25, 2, 20031012, 1841, 14.9587, -52.3310, 4558,   454.40,    454.4,   9.1044,  35.0358, 2,  35.0356, 2,    101.7, 2,    105.4, 2,    15.62, 2,    29.50, 2,     0.00, 2,     1.86, 2,    0.583, 2,    0.314, 2,    0.003, 2, -999.000, 9,   2215.0, 2,   2310.1, 2,    44.90, 2,  -999.00, 9, -999.000, 9, -999.000, -999.0000, 9, -999.0000,  -999.00, 9,  -999.00, -999.000, 9, -999.000,   -999.0, 9,   -999.0,  -999.00, 9,    0.1750, 2,    0.1280, 2,    0.0680, 2,    0.0500, 2,    0.0140, 2,    0.0150, 2, -999, 9, -999, 9, -999, 9, -999, 9, -999, 9, -999, 9, -999, 9,  -999.00, 9,  -999.00, 9,  -999.00, 9,  -999.00, 9,   9.0540,  -999.00, 9, 2015,   14.9678,  -52.3329
316N200309, A20, 54, 1, 24, 24, 2, 20031012, 1841, 14.9587, -52.3310, 4558,   506.40,    506.4,   8.3790,  34.9385, 2,  34.9404, 2,    104.7, 2,    107.5, 2,    17.39, 2,    30.70, 2,     0.00, 2,     1.96, 2,    0.455, 2,    0.251, 2,    0.004, 2, -999.000, 9,   2213.8, 2,   2308.3, 2,    42.70, 2,  -999.00, 9, -999.000, 9, -999.000, -999.0000, 9, -999.0000,  -999.00, 9,  -999.00, -999.000, 9, -999.000,   -999.0, 9,   -999.0,  -999.00, 9,    0.1460, 2,    0.1040, 2,    0.0560, 2,    0.0440, 2,    0.0130, 2,    0.0150, 2, 292, 4, 21, 2, 36, 2, 47, 2, 88, 2, 78, 2, 22, 2,  -999.00, 9,  -999.00, 9,  -999.00, 9,  -999.00, 9,   8.3254,  -999.00, 9, 2013,   14.9677,  -52.3329
316N200309, A20, 54, 1, 23, 23, 2, 20031012, 1841, 14.9587, -52.3310, 4558,   625.20,    625.2,   7.0934,  34.7904, 2,  34.7917, 2,    110.7, 2,    111.3, 2,    21.46, 2,    33.03, 2,     0.00, 2,     2.15, 2,    0.217, 2,    0.117, 2,    0.006, 2, -999.000, 9,   2219.8, 2,   2303.0, 2,    43.50, 2,  -999.00, 9, -999.000, 9, -999.000, -999.0000, 9, -999.0000,  -999.00, 9,  -999.00, -999.000, 9, -999.000,   -999.0, 9,   -999.0,  -999.00, 9,    0.1410, 2,    0.0990, 2,    0.0540, 2,    0.0450, 2,    0.0120, 2,    0.0140, 2, -999, 9, -999, 9, -999, 9, -999, 9, -999, 9, -999, 9, -999, 9,  -999.00, 9,  -999.00, 9,  -999.00, 9,  -999.00, 9,   7.0328,  -999.00, 9, 2010,   14.9674,  -52.3329
316N200309, A20, 54, 1, 22, 22, 2, 20031012, 1841, 14.9587, -52.3310, 4558,   750.00,    750.0,   6.1989,  34.7226, 2,  34.7229, 2,    122.8, 2,    124.1, 2,    24.48, 2,    33.18, 2,     0.00, 2,     2.20, 2,    0.116, 2,    0.066, 2,    0.003, 2, -999.000, 9,   2221.1, 2,   2303.7, 2,    41.60, 2,  -999.00, 9, -999.000, 9, -999.000, -999.0000, 9, -999.0000,  -999.00, 9,  -999.00, -999.000, 9, -999.000,   -999.0, 9,   -999.0,  -999.00, 9,    0.1370, 2,    0.0960, 2,    0.0520, 2,    0.0420, 2,    0.0130, 2,    0.0150, 2, -999, 9, -999, 9, -999, 9, -999, 9, -999, 9, -999, 9, -999, 9,  -999.00, 9,  -999.00, 9,  -999.00, 9,  -999.00, 9,   6.1306,  -999.00, 9, 2007,   14.9670,  -52.3329
316N200309, A20, 54, 1, 21, 21, 2, 20031012, 1841, 14.9587, -52.3310, 4558,   900.90,    900.9,   5.5312,  34.7230, 2,  34.7256, 2,    134.0, 2,    135.5, 2,    26.36, 2,    32.69, 2,     0.00, 2,     2.19, 2,    0.047, 6,    0.037, 6,    0.002, 2,    0.087, 2,   2220.5, 2,   2304.7, 2,    41.00, 2,  -999.00, 9, -999.000, 9, -999.000, -999.0000, 9, -999.0000,  -999.00, 9,  -999.00, -999.000, 9, -999.000,   -999.0, 9,   -999.0,  -999.00, 9,    0.1430, 2,    0.1010, 2,    0.0530, 2,    0.0410, 2,    0.0130, 2,    0.0160, 2, -999, 9, -999, 9, -999, 9, -999, 9, -999, 9, -999, 9, -999, 9,  -999.00, 9,  -999.00, 9,  -999.00, 9,  -999.00, 9,   5.4528,  -999.00, 9, 2004,   14.9666,  -52.3328
316N200309, A20, 54, 1, 20, 20, 2, 20031012, 1841, 14.9587, -52.3310, 4558,  1050.40,   1050.4,   5.3681,  34.8066, 2,  34.8058, 2,    152.0, 2,    150.3, 2,    25.20, 2,    30.42, 2,     0.00, 2,     2.05, 2,    0.049, 2,    0.027, 2,    0.005, 2, -999.000, 9,   2213.0, 2,   2310.4, 2,    40.10, 2,  -999.00, 9, -999.000, 9, -999.000, -999.0000, 9, -999.0000,  -999.00, 9,  -999.00, -999.000, 9, -999.000,   -999.0, 9,   -999.0,  -999.00, 9,    0.1330, 2,    0.0940, 2,    0.0490, 2,    0.0400, 2,    0.0130, 2,    0.0150, 2, 371, 4, 32, 2, 42, 2, 63, 2, 137, 2, 73, 2, 24, 2,  -999.00, 9,  -999.00, 9,  -999.00, 9,  -999.00, 9,   5.2767,  -999.00, 9, 2000,   14.9663,  -52.3327
316N200309, A20, 54, 1, 19, 19, 2, 20031012, 1841, 14.9587, -52.3310, 4558,  1199.60,   1199.6,   5.1784,  34.9255, 2,  34.9266, 2,    180.7, 2,    180.1, 2,    21.54, 2,    26.19, 2,     0.00, 2,     1.75, 2,    0.122, 2,    0.067, 2,    0.007, 2, -999.000, 9,   2198.1, 2,   2313.0, 2,  -999.00, 9,  -999.00, 9, -999.000, 9, -999.000, -999.0000, 9, -999.0000,  -999.00, 9,  -999.00, -999.000, 9, -999.000,   -999.0, 9,   -999.0,  -999.00, 9, -999.0000, 9, -999.0000, 9, -999.0000, 9, -999.0000, 9, -999.0000, 9, -999.0000, 9, -999, 9, -999, 9, -999, 9, -999, 9, -999, 9, -999, 9, -999, 9,  -999.00, 9,  -999.00, 9,  -999.00, 9,  -999.00, 9,   5.0743,  -999.00, 9, 1956,   14.9657,  -52.3327
316N200309, A20, 54, 1, 18, 18, 2, 20031012, 1841, 14.9587, -52.3310, 4558,  1325.40,   1325.4,   5.0499,  34.9856, 2,  34.9868, 2,    203.7, 2,    204.0, 2,    18.52, 2,    23.13, 2,     0.00, 2,     1.53, 2,    0.280, 2,    0.140, 2,    0.008, 2, -999.000, 9,   2184.6, 2,   2315.8, 2,    41.70, 2,  -999.00, 9, -999.000, 9, -999.000, -999.0000, 9, -999.0000,  -999.00, 9,  -999.00, -999.000, 9, -999.000,   -999.0, 9,   -999.0,  -999.00, 9,    0.1240, 2,    0.0870, 2,    0.0430, 2,    0.0340, 2,    0.0150, 2,    0.0180, 2, -999, 9, -999, 9, -999, 9, -999, 9, -999, 9, -999, 9, -999, 9,  -999.00, 9,  -999.00, 9,  -999.00, 9,  -999.00, 9,   4.9349,  -999.00, 9, 1953,   14.9653,  -52.3325
316N200309, A20, 54, 1, 17, 17, 2, 20031012, 1841, 14.9587, -52.3310, 4558,  1450.00,   1450.0,   4.7348,  35.0100, 2,  35.0087, 2,    225.2, 2,    225.5, 2,    16.22, 2,    20.79, 2,     0.00, 2,     1.38, 2,    0.440, 2,    0.235, 2,    0.021, 2, -999.000, 9,   2174.9, 2,   2315.1, 2,  -999.00, 9,  -999.00, 9, -999.000, 9, -999.000, -999.0000, 9, -999.0000,  -999.00, 9,  -999.00, -999.000, 9, -999.000,   -999.0, 9,   -999.0,  -999.00, 9, -999.0000, 9, -999.0000, 9, -999.0000, 9, -999.0000, 9, -999.0000, 9, -999.0000, 9, -999, 9, -999, 9, -999, 9, -999, 9, -999, 9, -999, 9, -999, 9,  -999.00, 9,  -999.00, 9,  -999.00, 9,  -999.00, 9,   4.6110,  -999.00, 9, 1950,   14.9649,  -52.3325
316N200309, A20, 54, 1, 16, 16, 2, 20031012, 1841, 14.9587, -52.3310, 4558,  1574.80,   1574.8,   4.3471,  35.0060, 2,  35.0073, 2,    241.8, 2,    243.5, 2,    14.76, 2,    19.31, 2,     0.00, 2,     1.28, 2,    0.573, 2,    0.285, 2,    0.026, 2, -999.000, 9,   2166.1, 2,   2311.9, 2,    42.20, 2,  -999.00, 9, -999.000, 9, -999.000, -999.0000, 9, -999.0000,  -999.00, 9,  -999.00, -999.000, 9, -999.000,   -999.0, 9,   -999.0,  -999.00, 9,    0.1210, 2,    0.0850, 2,    0.0410, 2,    0.0330, 2,    0.0150, 2,    0.0180, 2, -999, 9, -999, 9, -999, 9, -999, 9, -999, 9, -999, 9, -999, 9,  -999.00, 9,  -999.00, 9,  -999.00, 9,  -999.00, 9,   4.2158,  -999.00, 9, 1947,   14.9646,  -52.3324
316N200309, A20, 54, 1, 15, 15, 2, 20031012, 1841, 14.9587, -52.3310, 4558,  1699.40,   1699.4,   4.0585,  34.9949, 2,  34.9955, 2,    249.1, 2,    250.4, 2,    15.07, 2,    18.94, 2,     0.00, 2,     1.25, 2,    0.496, 2,    0.251, 2,    0.022, 2, -999.000, 9,   2162.8, 2,   2312.8, 2,  -999.00, 9,  -999.00, 9, -999.000, 9, -999.000, -999.0000, 9, -999.0000,  -999.00, 9,  -999.00, -999.000, 9, -999.000,   -999.0, 9,   -999.0,  -999.00, 9, -999.0000, 9, -999.0000, 9, -999.0000, 9, -999.0000, 9, -999.0000, 9, -999.0000, 9, -999, 9, -999, 9, -999, 9, -999, 9, -999, 9, -999, 9, -999, 9,  -999.00, 9,  -999.00, 9,  -999.00, 9,  -999.00, 9,   3.9190,  -999.00, 9, 1944,   14.9643,  -52.3323
316N200309, A20, 54, 1, 14, 14, 2, 20031012, 1841, 14.9587, -52.3310, 4558,  1850.90,   1850.9,   3.7983,  34.9872, 2,  34.9884, 2,    251.8, 2,    252.1, 2,    16.95, 2,    19.03, 2,     0.00, 2,     1.26, 2,    0.286, 2,    0.146, 2,    0.007, 2, -999.000, 9,   2164.3, 2,   2313.9, 2,  -999.00, 9,  -999.00, 9, -999.000, 9, -999.000, -999.0000, 9, -999.0000,  -999.00, 9,  -999.00, -999.000, 9, -999.000,   -999.0, 9,   -999.0,  -999.00, 9, -999.0000, 9, -999.0000, 9, -999.0000, 9, -999.0000, 9, -999.0000, 9, -999.0000, 9, -999, 9, -999, 9, -999, 9, -999, 9, -999, 9, -999, 9, -999, 9,  -999.00, 9,  -999.00, 9,  -999.00, 9,  -999.00, 9,   3.6480,  -999.00, 9, 1940,   14.9640,  -52.3322
316N200309, A20, 54, 1, 13, 13, 2, 20031012, 1841, 14.9587, -52.3310, 4558,  2001.00,   2001.0,   3.5745,  34.9784, 2,  34.9789, 2,    252.1, 2,    253.6, 2,    18.82, 2,    19.03, 2,     0.00, 2,     1.27, 2,    0.186, 2,    0.100, 2,    0.004, 2, -999.000, 9,   2163.9, 2,   2316.7, 2,    44.80, 2,  -999.00, 9, -999.000, 9, -999.000, -999.0000, 9, -999.0000,  -999.00, 9,  -999.00, -999.000, 9, -999.000,   -999.0, 9,   -999.0,  -999.00, 9,    0.1250, 2,    0.0880, 2,    0.0410, 2,    0.0310, 2,    0.0170, 2,    0.0190, 2, -999, 9, -999, 9, -999, 9, -999, 9, -999, 9, -999, 9, -999, 9,  -999.00, 9,  -999.00, 9,  -999.00, 9,  -999.00, 9,   3.4132,  -999.00, 9, 1937,   14.9638,  -52.3322
316N200309, A20, 54, 1, 12, 12, 2, 20031012, 1841, 14.9587, -52.3310, 4558,  2250.00,   2250.0,   3.2528,  34.9621, 2,  34.9618, 2,    253.6, 2,    253.4, 2,    23.30, 2,    19.51, 2,     0.00, 2,     1.30, 2,    0.075, 2,    0.044, 2,    0.003, 2, -999.000, 9,   2168.7, 2,   2320.1, 2,  -999.00, 9,  -999.00, 9, -999.000, 9, -999.000, -999.0000, 9, -999.0000,  -999.00, 9,  -999.00, -999.000, 9, -999.000,   -999.0, 9,   -999.0,  -999.00, 9, -999.0000, 9, -999.0000, 9, -999.0000, 9, -999.0000, 9, -999.0000, 9, -999.0000, 9, -999, 9, -999, 9, -999, 9, -999, 9, -999, 9, -999, 9, -999, 9,  -999.00, 9,  -999.00, 9,  -999.00, 9,  -999.00, 9,   3.0727,  -999.00, 9, 1931,   14.9634,  -52.3321
316N200309, A20, 54, 1, 11, 11, 2, 20031012, 1841, 14.9587, -52.3310, 4558,  2551.00,   2551.0,   2.9570,  34.9438, 2,  34.9441, 2,    251.6, 2,    250.3, 2,    29.46, 2,    20.17, 2,     0.00, 2,     1.36, 2,    0.032, 2,    0.023, 2,    0.002, 2, -999.000, 9,   2177.8, 2,   2326.5, 2,    40.80, 2,  -999.00, 9, -999.000, 9, -999.000, -999.0000, 9, -999.0000,  -999.00, 9,  -999.00, -999.000, 9, -999.000,   -999.0, 9,   -999.0,  -999.00, 9,    0.1280, 2,    0.0890, 2,    0.0430, 2,    0.0370, 3,    0.0130, 3,    0.0170, 3, -999, 9, -999, 9, -999, 9, -999, 9, -999, 9, -999, 9, -999, 9,  -999.00, 9,  -999.00, 9,  -999.00, 9,  -999.00, 9,   2.7528,  -999.00, 9, 1925,   14.9628,  -52.3319