BOTTLE,20220816CCHSIOAMB
EXPOCODE,SECT_ID,STNNBR,CASTNO,SAMPNO,BTLNBR,BTLNBR_FLAG_W,DATE,TIME,LATITUDE,LONGITUDE,DEPTH,CTDRAW,CTDPRS,CTDTMP,CTDSAL,CTDSAL_FLAG_W,SALNTY,SALNTY_FLAG_W,CTDOXY,CTDOXY_FLAG_W,OXYGEN,OXYGEN_FLAG_W,SILCAT,SILCAT_FLAG_W,NITRAT,NITRAT_FLAG_W,NITRIT,NITRIT_FLAG_W,PHSPHT,PHSPHT_FLAG_W,CFC-11,CFC-11_FLAG_W,CFC-12,CFC-12_FLAG_W,CFC113,CFC113_FLAG_W,CCL4,CCL4_FLAG_W,TCARBN,TCARBN_FLAG_W,ALKALI,ALKALI_FLAG_W,DOC,DOC_FLAG_W,TDN,TDN_FLAG_W,TRITUM,TRITUM_FLAG_W,TRITER,HELIUM,HELIUM_FLAG_W,HELIER,DELHE3,DELHE3_FLAG_W,DELHER,NEON,NEON_FLAG_W,NEONER,DELC14,DELC14_FLAG_W,C14ERR,DELC13,DELC13_FLAG_W,CDOM325,CDOM325_FLAG_W,CDOM340,CDOM340_FLAG_W,CDOM380,CDOM380_FLAG_W,CDOM412,CDOM412_FLAG_W,CDOMSL,CDOMSL_FLAG_W,CDOMSN,CDOMSN_FLAG_W,DCNS,DCNS_FLAG_W,ARABI,ARABI_FLAG_W,FUCO,FUCO_FLAG_W,GALA,GALA_FLAG_W,GLUC,GLUC_FLAG_W,MAN,MAN_FLAG_W,RHAM,RHAM_FLAG_W,BRDU,BRDU_FLAG_W,PEUK,PEUK_FLAG_W,PROC,PROC_FLAG_W,SYN,SYN_FLAG_W,THETA,BACT,BACT_FLAG_W,BTL_TIME,BTL_LAT,BTL_LON
,,,,,,,,,,,METERS,DBAR,DBAR,ITS-90,PSS-78,,PSS-78,,UMOL/KG,,UMOL/KG,,UMOL/KG,,UMOL/KG,,UMOL/KG,,UMOL/KG,,PMOL/KG,,PMOL/KG,,PMOL/KG,,PMOL/KG,,UMOL/KG,,UMOL/KG,,UMOL/KG,,UMOL/KG,,TU,,TU,NMOL/KG,,NMOL/KG,PERCNT,,PERCNT,NMOL/KG,,NMOL/KG,/MILLE,,/MILLE,/MILLE,,1/M,,1/M,,1/M,,1/M,,1/NM,,1/NM,,NMOL/KG,,NMOL/KG,,NMOL/KG,,NMOL/KG,,NMOL/KG,,NMOL/KG,,NMOL/KG,,PMOL/L/H,,E6/L,,E7/L,,E6/L,,DEG C,E8/L,,,,
316N200309, A20, 57, 1, 10, 10, 2, 20031013, 1647, 12.8795, -52.3387, 5196,  3125.00,   3125.0,   2.6345,  34.9215, 2,  34.9219, 2,    254.6, 2,    253.6, 2,    32.93, 2,    20.10, 2,     0.00, 2,     1.36, 2, -999.000, 1, -999.000, 1, -999.000, 1, -999.000, 9,   -999.0, 9,   -999.0, 9,  -999.00, 9,  -999.00, 9,    0.068, 2,    0.001,   1.8744, 2,   0.0094,     3.54, 2,     0.20,    8.006, 2,    0.040,   -999.0, 9,   -999.0,  -999.00, 9, -999.0000, 9, -999.0000, 9, -999.0000, 9, -999.0000, 9, -999.0000, 9, -999.0000, 9, -999, 9, -999, 9, -999, 9, -999, 9, -999, 9, -999, 9, -999, 9,  -999.00, 9,  -999.00, 9,  -999.00, 9,  -999.00, 9,   2.3788,  -999.00, 9, 1737,   12.8790,  -52.3428
316N200309, A20, 57, 1, 9, 9, 2, 20031013, 1647, 12.8795, -52.3387, 5196,  3374.90,   3374.9,   2.5213,  34.9131, 2,  34.9130, 2,    257.3, 2,    257.5, 2,    32.40, 2,    19.77, 2,     0.00, 2,     1.34, 2,    0.148, 2,    0.084, 2,    0.003, 2,    0.419, 2,   -999.0, 9,   -999.0, 9,  -999.00, 9,  -999.00, 9, -999.000, 9, -999.000, -999.0000, 9, -999.0000,  -999.00, 9,  -999.00, -999.000, 9, -999.000,   -999.0, 9,   -999.0,  -999.00, 9, -999.0000, 9, -999.0000, 9, -999.0000, 9, -999.0000, 9, -999.0000, 9, -999.0000, 9, -999, 9, -999, 9, -999, 9, -999, 9, -999, 9, -999, 9, -999, 9,  -999.00, 9,  -999.00, 9,  -999.00, 9,  -999.00, 9,   2.2418,  -999.00, 9, 1731,   12.8790,  -52.3425
316N200309, A20, 57, 1, 8, 8, 2, 20031013, 1647, 12.8795, -52.3387, 5196,  3624.80,   3624.8,   2.4281,  34.9053, 2,  34.9058, 2,    259.0, 2,    258.6, 2,    33.42, 2,    19.67, 2,     0.00, 2,     1.34, 2,    0.156, 2,    0.091, 2,    0.008, 2,    0.456, 2,   -999.0, 9,   -999.0, 9,  -999.00, 9,  -999.00, 9,    0.101, 2,    0.002,   1.8794, 2,   0.0094,     3.52, 2,     0.20,    8.053, 2,    0.040,   -999.0, 9,   -999.0,  -999.00, 9, -999.0000, 9, -999.0000, 9, -999.0000, 9, -999.0000, 9, -999.0000, 9, -999.0000, 9, -999, 9, -999, 9, -999, 9, -999, 9, -999, 9, -999, 9, -999, 9,  -999.00, 9,  -999.00, 9,  -999.00, 9,  -999.00, 9,   2.1239,  -999.00, 9, 1727,   12.8791,  -52.3422
316N200309, A20, 57, 1, 7, 7, 2, 20031013, 1647, 12.8795, -52.3387, 5196,  3875.30,   3875.3,   2.3600,  34.9009, 2,  34.9004, 2,    261.7, 2,    262.3, 2,    31.85, 2,    19.19, 2,     0.00, 2,     1.30, 2,    0.223, 2,    0.119, 2,    0.005, 2,    0.627, 2,   -999.0, 9,   -999.0, 9,  -999.00, 9,  -999.00, 9, -999.000, 9, -999.000, -999.0000, 9, -999.0000,  -999.00, 9,  -999.00, -999.000, 9, -999.000,   -999.0, 9,   -999.0,  -999.00, 9, -999.0000, 9, -999.0000, 9, -999.0000, 9, -999.0000, 9, -999.0000, 9, -999.0000, 9, -999, 9, -999, 9, -999, 9, -999, 9, -999, 9, -999, 9, -999, 9,  -999.00, 9,  -999.00, 9,  -999.00, 9,  -999.00, 9,   2.0298,  -999.00, 9, 1721,   12.8791,  -52.3418
316N200309, A20, 57, 1, 6, 6, 2, 20031013, 1647, 12.8795, -52.3387, 5196,  4124.50,   4124.5,   2.3073,  34.8960, 2,  34.8953, 2,    262.4, 2,    263.0, 2,    32.46, 2,    19.19, 2,     0.00, 2,     1.30, 2,    0.255, 2,    0.144, 2,    0.005, 2,    0.628, 2,   -999.0, 9,   -999.0, 9,  -999.00, 9,  -999.00, 9,    0.171, 2,    0.002,   1.8878, 2,   0.0094,     4.03, 2,     0.20,    8.086, 2,    0.040,   -999.0, 9,   -999.0,  -999.00, 9, -999.0000, 9, -999.0000, 9, -999.0000, 9, -999.0000, 9, -999.0000, 9, -999.0000, 9, -999, 9, -999, 9, -999, 9, -999, 9, -999, 9, -999, 9, -999, 9,  -999.00, 9,  -999.00, 9,  -999.00, 9,  -999.00, 9,   1.9502,  -999.00, 9, 1716,   12.8792,  -52.3413
316N200309, A20, 57, 1, 5, 5, 2, 20031013, 1647, 12.8795, -52.3387, 5196,  4375.10,   4375.1,   2.2568,  34.8886, 2,  34.8882, 2,    260.4, 2,    261.1, 2,    35.88, 2,    19.62, 2,     0.00, 2,     1.34, 2,    0.206, 2,    0.115, 2,    0.008, 2,    0.590, 2,   -999.0, 9,   -999.0, 9,  -999.00, 9,  -999.00, 9, -999.000, 9, -999.000, -999.0000, 9, -999.0000,  -999.00, 9,  -999.00, -999.000, 9, -999.000,   -999.0, 9,   -999.0,  -999.00, 9, -999.0000, 9, -999.0000, 9, -999.0000, 9, -999.0000, 9, -999.0000, 9, -999.0000, 9, -999, 9, -999, 9, -999, 9, -999, 9, -999, 9, -999, 9, -999, 9,  -999.00, 9,  -999.00, 9,  -999.00, 9,  -999.00, 9,   1.8719,  -999.00, 9, 1711,   12.8793,  -52.3410
316N200309, A20, 57, 1, 4, 4, 2, 20031013, 1647, 12.8795, -52.3387, 5196,  4623.90,   4623.9,   2.1903,  34.8770, 2,  34.8778, 2,    256.5, 2,    256.9, 2,    41.79, 2,    20.57, 2,     0.00, 2,     1.40, 2,    0.154, 2,    0.090, 2,    0.007, 2,    0.494, 2,   -999.0, 9,   -999.0, 9,  -999.00, 9,  -999.00, 9,    0.120, 2,    0.002,   1.8914, 2,   0.0095,     3.90, 2,     0.20,    8.077, 2,    0.040,   -999.0, 9,   -999.0,  -999.00, 9, -999.0000, 9, -999.0000, 9, -999.0000, 9, -999.0000, 9, -999.0000, 9, -999.0000, 9, -999, 9, -999, 9, -999, 9, -999, 9, -999, 9, -999, 9, -999, 9,  -999.00, 9,  -999.00, 9,  -999.00, 9,  -999.00, 9,   1.7778,  -999.00, 9, 1705,   12.8793,  -52.3404
316N200309, A20, 57, 1, 3, 3, 2, 20031013, 1647, 12.8795, -52.3387, 5196,  4874.20,   4874.2,   2.0602,  34.8584, 2,  34.8589, 2,    251.0, 2,    251.5, 2,    50.53, 2,    21.91, 2,     0.00, 2,     1.50, 2,    0.104, 2,    0.064, 2,    0.008, 2,    0.386, 2,   -999.0, 9,   -999.0, 9,  -999.00, 9,  -999.00, 9, -999.000, 9, -999.000, -999.0000, 9, -999.0000,  -999.00, 9,  -999.00, -999.000, 9, -999.000,   -999.0, 9,   -999.0,  -999.00, 9, -999.0000, 9, -999.0000, 9, -999.0000, 9, -999.0000, 9, -999.0000, 9, -999.0000, 9, -999, 9, -999, 9, -999, 9, -999, 9, -999, 9, -999, 9, -999, 9,  -999.00, 9,  -999.00, 9,  -999.00, 9,  -999.00, 9,   1.6214,  -999.00, 9, 1659,   12.8794,  -52.3399
316N200309, A20, 57, 1, 2, 2, 2, 20031013, 1647, 12.8795, -52.3387, 5196,  5074.30,   5074.3,   1.7834,  34.8223, 2,  34.8214, 2,    242.5, 2,    242.5, 2,    66.42, 2,    24.32, 2,     0.00, 2,     1.66, 2,    0.078, 2,    0.048, 2,    0.007, 2,    0.308, 2,   -999.0, 9,   -999.0, 9,  -999.00, 9,  -999.00, 9,    0.055, 2,    0.001,   1.9001, 2,   0.0095,     4.28, 2,     0.20,    8.111, 2,    0.041,   -999.0, 9,   -999.0,  -999.00, 9, -999.0000, 9, -999.0000, 9, -999.0000, 9, -999.0000, 9, -999.0000, 9, -999.0000, 9, -999, 9, -999, 9, -999, 9, -999, 9, -999, 9, -999, 9, -999, 9,  -999.00, 9,  -999.00, 9,  -999.00, 9,  -999.00, 9,   1.3294,  -999.00, 9, 1654,   12.8794,  -52.3394
316N200309, A20, 57, 1, 1, 1, 2, 20031013, 1647, 12.8795, -52.3387, 5196,  5285.50,   5285.5,   1.7397,  34.8135, 2,  34.8133, 2,    240.1, 2,    240.9, 2,    69.99, 2,    24.85, 2,     0.00, 2,     1.71, 2,    0.069, 2,    0.045, 2,   -0.002, 2,    0.306, 2,   -999.0, 9,   -999.0, 9,  -999.00, 9,  -999.00, 9,    0.059, 2,    0.001,   1.8977, 2,   0.0095,     4.61, 2,     0.20,    8.113, 2,    0.041,   -999.0, 9,   -999.0,  -999.00, 9, -999.0000, 9, -999.0000, 9, -999.0000, 9, -999.0000, 9, -999.0000, 9, -999.0000, 9, -999, 9, -999, 9, -999, 9, -999, 9, -999, 9, -999, 9, -999, 9,  -999.00, 9,  -999.00, 9,  -999.00, 9,  -999.00, 9,   1.2608,  -999.00, 9, 1649,   12.8794,  -52.3388