BOTTLE,20220816CCHSIOAMB
EXPOCODE,SECT_ID,STNNBR,CASTNO,SAMPNO,BTLNBR,BTLNBR_FLAG_W,DATE,TIME,LATITUDE,LONGITUDE,DEPTH,CTDRAW,CTDPRS,CTDTMP,CTDSAL,CTDSAL_FLAG_W,SALNTY,SALNTY_FLAG_W,CTDOXY,CTDOXY_FLAG_W,OXYGEN,OXYGEN_FLAG_W,SILCAT,SILCAT_FLAG_W,NITRAT,NITRAT_FLAG_W,NITRIT,NITRIT_FLAG_W,PHSPHT,PHSPHT_FLAG_W,CFC-11,CFC-11_FLAG_W,CFC-12,CFC-12_FLAG_W,CFC113,CFC113_FLAG_W,CCL4,CCL4_FLAG_W,TCARBN,TCARBN_FLAG_W,ALKALI,ALKALI_FLAG_W,DOC,DOC_FLAG_W,TDN,TDN_FLAG_W,TRITUM,TRITUM_FLAG_W,TRITER,HELIUM,HELIUM_FLAG_W,HELIER,DELHE3,DELHE3_FLAG_W,DELHER,NEON,NEON_FLAG_W,NEONER,DELC14,DELC14_FLAG_W,C14ERR,DELC13,DELC13_FLAG_W,CDOM325,CDOM325_FLAG_W,CDOM340,CDOM340_FLAG_W,CDOM380,CDOM380_FLAG_W,CDOM412,CDOM412_FLAG_W,CDOMSL,CDOMSL_FLAG_W,CDOMSN,CDOMSN_FLAG_W,DCNS,DCNS_FLAG_W,ARABI,ARABI_FLAG_W,FUCO,FUCO_FLAG_W,GALA,GALA_FLAG_W,GLUC,GLUC_FLAG_W,MAN,MAN_FLAG_W,RHAM,RHAM_FLAG_W,BRDU,BRDU_FLAG_W,PEUK,PEUK_FLAG_W,PROC,PROC_FLAG_W,SYN,SYN_FLAG_W,THETA,BACT,BACT_FLAG_W,BTL_TIME,BTL_LAT,BTL_LON
,,,,,,,,,,,METERS,DBAR,DBAR,ITS-90,PSS-78,,PSS-78,,UMOL/KG,,UMOL/KG,,UMOL/KG,,UMOL/KG,,UMOL/KG,,UMOL/KG,,PMOL/KG,,PMOL/KG,,PMOL/KG,,PMOL/KG,,UMOL/KG,,UMOL/KG,,UMOL/KG,,UMOL/KG,,TU,,TU,NMOL/KG,,NMOL/KG,PERCNT,,PERCNT,NMOL/KG,,NMOL/KG,/MILLE,,/MILLE,/MILLE,,1/M,,1/M,,1/M,,1/M,,1/NM,,1/NM,,NMOL/KG,,NMOL/KG,,NMOL/KG,,NMOL/KG,,NMOL/KG,,NMOL/KG,,NMOL/KG,,PMOL/L/H,,E6/L,,E7/L,,E6/L,,DEG C,E8/L,,,,
316N200309, A20, 57, 1, 36, 36, 2, 20031013, 1647, 12.8795, -52.3387, 5196,     2.80,      2.8,  29.0676,  36.5632, 2,  36.5791, 2,    188.8, 2,    194.3, 2,     0.76, 2,     0.19, 2,     0.00, 2,     0.02, 2,    1.501, 2,    0.938, 2,    0.096, 2,    1.521, 2,   2021.4, 2,   2393.7, 2,  -999.00, 9,  -999.00, 9,    0.523, 2,    0.004,   1.7029, 2,   0.0085,    -1.15, 2,     0.20,    6.613, 2,    0.033,   -999.0, 9,   -999.0,  -999.00, 9, -999.0000, 9, -999.0000, 9, -999.0000, 9, -999.0000, 9, -999.0000, 9, -999.0000, 9, -999, 9, -999, 9, -999, 9, -999, 9, -999, 9, -999, 9, -999, 9,  -999.00, 9,  -999.00, 9,  -999.00, 9,  -999.00, 9,  29.0669,  -999.00, 9, 1855,   12.8806,  -52.3482
316N200309, A20, 57, 1, 35, 35, 2, 20031013, 1647, 12.8795, -52.3387, 5196,    24.80,     24.8,  28.8865,  36.5819, 2,  36.5809, 2,    189.3, 2,    194.8, 2,     0.64, 2,     0.19, 2,     0.00, 2,     0.01, 2,    1.476, 2,    0.925, 2,    0.096, 2,    1.459, 2,   2022.5, 2,   2392.9, 2,  -999.00, 9,  -999.00, 9, -999.000, 9, -999.000, -999.0000, 9, -999.0000,  -999.00, 9,  -999.00, -999.000, 9, -999.000,   -999.0, 9,   -999.0,  -999.00, 9, -999.0000, 9, -999.0000, 9, -999.0000, 9, -999.0000, 9, -999.0000, 9, -999.0000, 9, -999, 9, -999, 9, -999, 9, -999, 9, -999, 9, -999, 9, -999, 9,  -999.00, 9,  -999.00, 9,  -999.00, 9,  -999.00, 9,  28.8805,  -999.00, 9, 1853,   12.8806,  -52.3481
316N200309, A20, 57, 1, 34, 34, 2, 20031013, 1647, 12.8795, -52.3387, 5196,    49.30,     49.3,  28.0331,  36.8450, 2,  36.8556, 2,    199.0, 2,    207.3, 2,     0.73, 2,     0.18, 2,     0.00, 2,     0.01, 2,    1.612, 2,    1.025, 2,    0.108, 2,    1.228, 2,   2037.9, 2,   2411.5, 2,  -999.00, 9,  -999.00, 9, -999.000, 9, -999.000,   1.7142, 2,   0.0086,    -1.55, 2,     0.20,    6.692, 2,    0.033,   -999.0, 9,   -999.0,  -999.00, 9, -999.0000, 9, -999.0000, 9, -999.0000, 9, -999.0000, 9, -999.0000, 9, -999.0000, 9, -999, 9, -999, 9, -999, 9, -999, 9, -999, 9, -999, 9, -999, 9,  -999.00, 9,  -999.00, 9,  -999.00, 9,  -999.00, 9,  28.0214,  -999.00, 9, 1852,   12.8805,  -52.3480
316N200309, A20, 57, 1, 33, 33, 2, 20031013, 1647, 12.8795, -52.3387, 5196,    74.40,     74.4,  25.5099,  37.1349, 2,  37.1302, 2,    201.7, 2,    207.7, 2,     0.60, 2,     0.21, 2,     0.00, 2,     0.01, 2,    1.792, 2,    1.126, 2,    0.098, 2,    0.865, 2,   -999.0, 9,   -999.0, 9,  -999.00, 9,  -999.00, 9, -999.000, 9, -999.000, -999.0000, 9, -999.0000,  -999.00, 9,  -999.00, -999.000, 9, -999.000,   -999.0, 9,   -999.0,  -999.00, 9, -999.0000, 9, -999.0000, 9, -999.0000, 9, -999.0000, 9, -999.0000, 9, -999.0000, 9, -999, 9, -999, 9, -999, 9, -999, 9, -999, 9, -999, 9, -999, 9,  -999.00, 9,  -999.00, 9,  -999.00, 9,  -999.00, 9,  25.4934,  -999.00, 9, 1850,   12.8804,  -52.3479
316N200309, A20, 57, 1, 32, 32, 2, 20031013, 1647, 12.8795, -52.3387, 5196,    99.90,     99.9,  24.8445,  37.3339, 2,  37.3296, 2,    204.3, 2,    208.1, 2,     0.49, 2,     0.21, 2,     0.00, 2,     0.01, 2,    1.831, 2,    1.126, 2,    0.099, 2,    0.873, 2,   2080.1, 2,   2438.6, 2,  -999.00, 9,  -999.00, 9,    0.652, 2,    0.006,   1.7135, 2,   0.0086,    -1.51, 2,     0.20,    6.775, 2,    0.034,   -999.0, 9,   -999.0,  -999.00, 9, -999.0000, 9, -999.0000, 9, -999.0000, 9, -999.0000, 9, -999.0000, 9, -999.0000, 9, -999, 9, -999, 9, -999, 9, -999, 9, -999, 9, -999, 9, -999, 9,  -999.00, 9,  -999.00, 9,  -999.00, 9,  -999.00, 9,  24.8227,  -999.00, 9, 1848,   12.8803,  -52.3479
316N200309, A20, 57, 1, 31, 31, 2, 20031013, 1647, 12.8795, -52.3387, 5196,   125.30,    125.3,  22.2808,  37.1069, 2,  37.1153, 2,    175.2, 2,    177.3, 2,     0.58, 2,     1.11, 2,     0.09, 2,     0.06, 2,    1.985, 2,    1.224, 2,    0.085, 2,    0.608, 2,   -999.0, 9,   -999.0, 9,  -999.00, 9,  -999.00, 9, -999.000, 9, -999.000, -999.0000, 9, -999.0000,  -999.00, 9,  -999.00, -999.000, 9, -999.000,   -999.0, 9,   -999.0,  -999.00, 9, -999.0000, 9, -999.0000, 9, -999.0000, 9, -999.0000, 9, -999.0000, 9, -999.0000, 9, -999, 9, -999, 9, -999, 9, -999, 9, -999, 9, -999, 9, -999, 9,  -999.00, 9,  -999.00, 9,  -999.00, 9,  -999.00, 9,  22.2555,  -999.00, 9, 1847,   12.8802,  -52.3478
316N200309, A20, 57, 1, 30, 30, 2, 20031013, 1647, 12.8795, -52.3387, 5196,   175.60,    175.6,  18.5178,  36.5844, 2,  36.5882, 2,    147.2, 2,    147.1, 2,     2.22, 2,     8.96, 2,     0.02, 2,     0.49, 2,    2.096, 2,    1.219, 2,    0.011, 2,    0.291, 2,   2152.4, 2,   2387.7, 2,  -999.00, 9,  -999.00, 9,    0.776, 2,    0.005,   1.7514, 2,   0.0088,     0.21, 2,     0.20,    7.066, 2,    0.035,   -999.0, 9,   -999.0,  -999.00, 9, -999.0000, 9, -999.0000, 9, -999.0000, 9, -999.0000, 9, -999.0000, 9, -999.0000, 9, -999, 9, -999, 9, -999, 9, -999, 9, -999, 9, -999, 9, -999, 9,  -999.00, 9,  -999.00, 9,  -999.00, 9,  -999.00, 9,  18.4867,  -999.00, 9, 1845,   12.8802,  -52.3477
316N200309, A20, 57, 1, 29, 29, 2, 20031013, 1647, 12.8795, -52.3387, 5196,   224.50,    224.5,  15.6655,  36.1054, 2,  36.1053, 2,    130.0, 2,    131.9, 2,     4.58, 2,    14.93, 2,     0.01, 2,     0.86, 2,    1.967, 6,    1.085, 6,    0.001, 2,    0.239, 2,   -999.0, 9,   -999.0, 9,  -999.00, 9,  -999.00, 9,    0.784, 2,    0.005,   1.8055, 2,   0.0090,     2.65, 2,     0.20,    7.324, 2,    0.037,   -999.0, 9,   -999.0,  -999.00, 9, -999.0000, 9, -999.0000, 9, -999.0000, 9, -999.0000, 9, -999.0000, 9, -999.0000, 9, -999, 9, -999, 9, -999, 9, -999, 9, -999, 9, -999, 9, -999, 9,  -999.00, 9,  -999.00, 9,  -999.00, 9,  -999.00, 9,  15.6302,  -999.00, 9, 1843,   12.8801,  -52.3476
316N200309, A20, 57, 1, 28, 28, 2, 20031013, 1647, 12.8795, -52.3387, 5196,   274.50,    274.5,  12.9891,  35.5809, 2,  35.5807, 2,    116.6, 2,    117.9, 2,     8.40, 2,    21.26, 2,     0.01, 2,     1.30, 2,    1.515, 2,    0.840, 2,    0.002, 2,    0.261, 2,   -999.0, 9,   -999.0, 9,  -999.00, 9,  -999.00, 9,    0.568, 2,    0.004,   1.8000, 2,   0.0090,     3.12, 2,     0.20,    7.413, 2,    0.037,   -999.0, 9,   -999.0,  -999.00, 9, -999.0000, 9, -999.0000, 9, -999.0000, 9, -999.0000, 9, -999.0000, 9, -999.0000, 9, -999, 9, -999, 9, -999, 9, -999, 9, -999, 9, -999, 9, -999, 9,  -999.00, 9,  -999.00, 9,  -999.00, 9,  -999.00, 9,  12.9511,  -999.00, 9, 1841,   12.8800,  -52.3475
316N200309, A20, 57, 1, 27, 27, 2, 20031013, 1647, 12.8795, -52.3387, 5196,   350.10,    350.1,  10.8105,  35.2480, 2,  35.2471, 2,    116.0, 2,    115.0, 2,    11.91, 2,    25.29, 2,     0.01, 2,     1.57, 2,    1.129, 2,    0.598, 2,    0.012, 2,    0.292, 2,   -999.0, 9,   -999.0, 9,  -999.00, 9,  -999.00, 9, -999.000, 9, -999.000, -999.0000, 9, -999.0000,  -999.00, 9,  -999.00, -999.000, 9, -999.000,   -999.0, 9,   -999.0,  -999.00, 9, -999.0000, 9, -999.0000, 9, -999.0000, 9, -999.0000, 9, -999.0000, 9, -999.0000, 9, -999, 9, -999, 9, -999, 9, -999, 9, -999, 9, -999, 9, -999, 9,  -999.00, 9,  -999.00, 9,  -999.00, 9,  -999.00, 9,  10.7673,  -999.00, 9, 1839,   12.8800,  -52.3474
316N200309, A20, 57, 1, 26, 26, 2, 20031013, 1647, 12.8795, -52.3387, 5196,   440.30,    440.3,   8.8812,  34.9681, 2,  34.9699, 2,    114.8, 2,    117.4, 2,    15.63, 2,    28.71, 2,     0.01, 2,     1.84, 2,    0.764, 2,    0.414, 2,    0.005, 2,    0.320, 2,   2204.9, 2,   2306.9, 2,  -999.00, 9,  -999.00, 9,    0.262, 2,    0.002,   1.8277, 2,   0.0091,     3.58, 2,     0.20,    7.603, 2,    0.038,   -999.0, 9,   -999.0,  -999.00, 9, -999.0000, 9, -999.0000, 9, -999.0000, 9, -999.0000, 9, -999.0000, 9, -999.0000, 9, -999, 9, -999, 9, -999, 9, -999, 9, -999, 9, -999, 9, -999, 9,  -999.00, 9,  -999.00, 9,  -999.00, 9,  -999.00, 9,   8.8330,  -999.00, 9, 1837,   12.8799,  -52.3473
316N200309, A20, 57, 1, 25, 25, 2, 20031013, 1647, 12.8795, -52.3387, 5196,   550.00,    550.0,   7.5075,  34.7959, 2,  34.7984, 2,    118.8, 2,    118.7, 2,    19.76, 2,    31.63, 2,     0.01, 2,     2.04, 2,    0.418, 2,    0.223, 2,    0.001, 2,    0.354, 2,   -999.0, 9,   -999.0, 9,  -999.00, 9,  -999.00, 9,    0.144, 2,    0.002,   1.8196, 2,   0.0091,     2.89, 2,     0.20,    7.683, 2,    0.038,   -999.0, 9,   -999.0,  -999.00, 9, -999.0000, 9, -999.0000, 9, -999.0000, 9, -999.0000, 9, -999.0000, 9, -999.0000, 9, -999, 9, -999, 9, -999, 9, -999, 9, -999, 9, -999, 9, -999, 9,  -999.00, 9,  -999.00, 9,  -999.00, 9,  -999.00, 9,   7.4528,  -999.00, 9, 1834,   12.8798,  -52.3470
316N200309, A20, 57, 1, 24, 24, 2, 20031013, 1647, 12.8795, -52.3387, 5196,   675.70,    675.7,   6.0888,  34.6575, 2,  34.6586, 2,    121.8, 2,    126.8, 2,    24.62, 2,    33.58, 2,     0.01, 2,     2.22, 2,    0.183, 2,    0.106, 2,    0.001, 2,    0.230, 2,   2220.3, 2,   2301.0, 2,  -999.00, 9,  -999.00, 9, -999.000, 9, -999.000, -999.0000, 9, -999.0000,  -999.00, 9,  -999.00, -999.000, 9, -999.000,   -999.0, 9,   -999.0,  -999.00, 9, -999.0000, 9, -999.0000, 9, -999.0000, 9, -999.0000, 9, -999.0000, 9, -999.0000, 9, -999, 9, -999, 9, -999, 9, -999, 9, -999, 9, -999, 9, -999, 9,  -999.00, 9,  -999.00, 9,  -999.00, 9,  -999.00, 9,   6.0283,  -999.00, 9, 1831,   12.8796,  -52.3468
316N200309, A20, 57, 1, 23, 23, 2, 20031013, 1647, 12.8795, -52.3387, 5196,   824.50,    824.5,   5.7172,  34.7111, 2,  34.7119, 2,    131.8, 2,    129.9, 2,    26.06, 2,    33.24, 2,     0.01, 2,     2.21, 2,    0.053, 2,    0.034, 2,    0.003, 2,    0.131, 2,   -999.0, 9,   -999.0, 9,  -999.00, 9,  -999.00, 9,    0.045, 2,    0.001,   1.8388, 2,   0.0092,     1.93, 2,     0.20,    7.793, 2,    0.039,   -999.0, 9,   -999.0,  -999.00, 9, -999.0000, 9, -999.0000, 9, -999.0000, 9, -999.0000, 9, -999.0000, 9, -999.0000, 9, -999, 9, -999, 9, -999, 9, -999, 9, -999, 9, -999, 9, -999, 9,  -999.00, 9,  -999.00, 9,  -999.00, 9,  -999.00, 9,   5.6447,  -999.00, 9, 1827,   12.8796,  -52.3465
316N200309, A20, 57, 1, 22, 22, 2, 20031013, 1647, 12.8795, -52.3387, 5196,   974.90,    974.9,   5.3210,  34.7978, 2,  34.7960, 2,    153.2, 2,    150.2, 2,    25.42, 2,    30.51, 2,     0.01, 2,     2.03, 2,    0.047, 2,    0.033, 2,    0.002, 2,    0.105, 2,   2213.6, 2,   2309.0, 2,  -999.00, 9,  -999.00, 9,    0.051, 2,    0.001,   1.8381, 2,   0.0092,     1.64, 2,     0.20,    7.803, 2,    0.039,   -999.0, 9,   -999.0,  -999.00, 9, -999.0000, 9, -999.0000, 9, -999.0000, 9, -999.0000, 9, -999.0000, 9, -999.0000, 9, -999, 9, -999, 9, -999, 9, -999, 9, -999, 9, -999, 9, -999, 9,  -999.00, 9,  -999.00, 9,  -999.00, 9,  -999.00, 9,   5.2372,  -999.00, 9, 1824,   12.8795,  -52.3462
316N200309, A20, 57, 1, 21, 21, 2, 20031013, 1647, 12.8795, -52.3387, 5196,  1124.80,   1124.8,   5.1581,  34.9247, 2,  34.9252, 2,    178.3, 2,    181.2, 2,    21.57, 2,    26.16, 2,     0.01, 2,     1.74, 2,    0.115, 2,    0.066, 2,    0.004, 2,    0.223, 2,   -999.0, 9,   -999.0, 9,  -999.00, 9,  -999.00, 9,    0.096, 2,    0.002,   1.8414, 2,   0.0092,     3.04, 2,     0.20,    7.845, 2,    0.039,   -999.0, 9,   -999.0,  -999.00, 9, -999.0000, 9, -999.0000, 9, -999.0000, 9, -999.0000, 9, -999.0000, 9, -999.0000, 9, -999, 9, -999, 9, -999, 9, -999, 9, -999, 9, -999, 9, -999, 9,  -999.00, 9,  -999.00, 9,  -999.00, 9,  -999.00, 9,   5.0613,  -999.00, 9, 1821,   12.8794,  -52.3459
316N200309, A20, 57, 1, 20, 20, 2, 20031013, 1647, 12.8795, -52.3387, 5196,  1275.50,   1275.5,   4.9197,  35.0012, 2,  35.0002, 2,    212.3, 2,    214.8, 2,    17.30, 2,    21.83, 2,     0.01, 2,     1.45, 2,    0.381, 2,    0.203, 2,    0.007, 2,    0.577, 2,   -999.0, 9,   -999.0, 9,  -999.00, 9,  -999.00, 9,    0.248, 2,    0.003,   1.8539, 2,   0.0093,     4.40, 2,     0.20,    7.886, 2,    0.039,   -999.0, 9,   -999.0,  -999.00, 9, -999.0000, 9, -999.0000, 9, -999.0000, 9, -999.0000, 9, -999.0000, 9, -999.0000, 9, -999, 9, -999, 9, -999, 9, -999, 9, -999, 9, -999, 9, -999, 9,  -999.00, 9,  -999.00, 9,  -999.00, 9,  -999.00, 9,   4.8107,  -999.00, 9, 1817,   12.8794,  -52.3456
316N200309, A20, 57, 1, 19, 19, 2, 20031013, 1647, 12.8795, -52.3387, 5196,  1399.30,   1399.3,   4.6259,  35.0119, 2,  35.0118, 2,    231.2, 2,    232.1, 2,    15.52, 2,    20.11, 2,     0.01, 2,     1.33, 2,    0.537, 2,    0.282, 2,    0.004, 2,    0.914, 2,   -999.0, 9,   -999.0, 9,  -999.00, 9,  -999.00, 9, -999.000, 9, -999.000, -999.0000, 9, -999.0000,  -999.00, 9,  -999.00, -999.000, 9, -999.000,   -999.0, 9,   -999.0,  -999.00, 9, -999.0000, 9, -999.0000, 9, -999.0000, 9, -999.0000, 9, -999.0000, 9, -999.0000, 9, -999, 9, -999, 9, -999, 9, -999, 9, -999, 9, -999, 9, -999, 9,  -999.00, 9,  -999.00, 9,  -999.00, 9,  -999.00, 9,   4.5081,  -999.00, 9, 1814,   12.8794,  -52.3454
316N200309, A20, 57, 1, 18, 18, 2, 20031013, 1647, 12.8795, -52.3387, 5196,  1500.00,   1500.0,   4.3492,  35.0067, 2,  35.0065, 2,    245.9, 2,    245.5, 2,    14.26, 2,    19.02, 2,     0.01, 2,     1.25, 2,    0.706, 2,    0.367, 2,    0.011, 2,    1.129, 2,   -999.0, 9,   -999.0, 9,  -999.00, 9,  -999.00, 9,    0.420, 2,    0.002,   1.8499, 2,   0.0092,     5.96, 2,     0.20,    7.885, 2,    0.039,   -999.0, 9,   -999.0,  -999.00, 9, -999.0000, 9, -999.0000, 9, -999.0000, 9, -999.0000, 9, -999.0000, 9, -999.0000, 9, -999, 9, -999, 9, -999, 9, -999, 9, -999, 9, -999, 9, -999, 9,  -999.00, 9,  -999.00, 9,  -999.00, 9,  -999.00, 9,   4.2250,  -999.00, 9, 1811,   12.8793,  -52.3452
316N200309, A20, 57, 1, 17, 17, 2, 20031013, 1647, 12.8795, -52.3387, 5196,  1625.10,   1625.1,   4.0970,  34.9958, 2,  34.9957, 2,    251.5, 2,    251.0, 2,    14.55, 2,    18.68, 2,     0.01, 2,     1.24, 2,    0.582, 2,    0.305, 2,    0.014, 2,    1.014, 2,   -999.0, 9,   -999.0, 9,  -999.00, 9,  -999.00, 9, -999.000, 9, -999.000, -999.0000, 9, -999.0000,  -999.00, 9,  -999.00, -999.000, 9, -999.000,   -999.0, 9,   -999.0,  -999.00, 9, -999.0000, 9, -999.0000, 9, -999.0000, 9, -999.0000, 9, -999.0000, 9, -999.0000, 9, -999, 9, -999, 9, -999, 9, -999, 9, -999, 9, -999, 9, -999, 9,  -999.00, 9,  -999.00, 9,  -999.00, 9,  -999.00, 9,   3.9640,  -999.00, 9, 1808,   12.8793,  -52.3449
316N200309, A20, 57, 1, 16, 16, 2, 20031013, 1647, 12.8795, -52.3387, 5196,  1775.10,   1775.1,   3.8126,  34.9843, 2,  34.9864, 2,    258.0, 2,    256.4, 2,    15.27, 2,    18.29, 2,     0.01, 2,     1.21, 2,    0.552, 6,    0.272, 6,    0.008, 6,    0.992, 6,   -999.0, 9,   -999.0, 9,  -999.00, 9,  -999.00, 9,    0.277, 2,    0.002,   1.8554, 2,   0.0093,     3.93, 2,     0.20,    7.959, 2,    0.040,   -999.0, 9,   -999.0,  -999.00, 9, -999.0000, 9, -999.0000, 9, -999.0000, 9, -999.0000, 9, -999.0000, 9, -999.0000, 9, -999, 9, -999, 9, -999, 9, -999, 9, -999, 9, -999, 9, -999, 9,  -999.00, 9,  -999.00, 9,  -999.00, 9,  -999.00, 9,   3.6692,  -999.00, 9, 1805,   12.8793,  -52.3448
316N200309, A20, 57, 1, 15, 15, 2, 20031013, 1647, 12.8795, -52.3387, 5196,  1925.40,   1925.4,   3.5925,  34.9789, 2,  34.9791, 2,    257.9, 2,    282.1, 3,    17.33, 2,    18.53, 2,     0.01, 2,     1.22, 2,    0.306, 2,    0.161, 2,    0.004, 2,    0.664, 2,   -999.0, 9,   -999.0, 9,  -999.00, 9,  -999.00, 9,    0.176, 2,    0.002,   1.8534, 2,   0.0093,     3.36, 2,     0.20,    7.926, 2,    0.040,   -999.0, 9,   -999.0,  -999.00, 9, -999.0000, 9, -999.0000, 9, -999.0000, 9, -999.0000, 9, -999.0000, 9, -999.0000, 9, -999, 9, -999, 9, -999, 9, -999, 9, -999, 9, -999, 9, -999, 9,  -999.00, 9,  -999.00, 9,  -999.00, 9,  -999.00, 9,   3.4380,  -999.00, 9, 1801,   12.8792,  -52.3446
316N200309, A20, 57, 1, 14, 14, 2, 20031013, 1647, 12.8795, -52.3387, 5196,  2124.40,   2124.4,   3.3411,  34.9681, 2,  34.9697, 2,    257.9, 2,    257.0, 2,    20.22, 2,    18.80, 2,     0.00, 2,     1.25, 2,    0.182, 2,    0.095, 2,    0.007, 2,    0.490, 2,   -999.0, 9,   -999.0, 9,  -999.00, 9,  -999.00, 9,    0.114, 2,    0.002,   1.8567, 2,   0.0093,     2.81, 2,     0.20,    7.944, 2,    0.040,   -999.0, 9,   -999.0,  -999.00, 9, -999.0000, 9, -999.0000, 9, -999.0000, 9, -999.0000, 9, -999.0000, 9, -999.0000, 9, -999, 9, -999, 9, -999, 9, -999, 9, -999, 9, -999, 9, -999, 9,  -999.00, 9,  -999.00, 9,  -999.00, 9,  -999.00, 9,   3.1715,  -999.00, 9, 1757,   12.8792,  -52.3444
316N200309, A20, 57, 1, 13, 13, 2, 20031013, 1647, 12.8795, -52.3387, 5196,  2365.80,   2365.8,   3.0942,  34.9544, 2,  34.9547, 2,    258.0, 2,    257.1, 2,    22.70, 2,    18.87, 2,     0.00, 2,     1.27, 2,    0.141, 2,    0.073, 2,    0.004, 2,    0.435, 2,   -999.0, 9,   -999.0, 9,  -999.00, 9,  -999.00, 9,    0.102, 2,    0.001,   1.8675, 2,   0.0093,     2.98, 2,     0.20,    7.970, 2,    0.040,   -999.0, 9,   -999.0,  -999.00, 9, -999.0000, 9, -999.0000, 9, -999.0000, 9, -999.0000, 9, -999.0000, 9, -999.0000, 9, -999, 9, -999, 9, -999, 9, -999, 9, -999, 9, -999, 9, -999, 9,  -999.00, 9,  -999.00, 9,  -999.00, 9,  -999.00, 9,   2.9056,  -999.00, 9, 1752,   12.8791,  -52.3441
316N200309, A20, 57, 1, 12, 12, 2, 20031013, 1647, 12.8795, -52.3387, 5196,  2624.40,   2624.4,   2.8930,  34.9414, 2,  34.9412, 2,    256.3, 2,    256.1, 2,    26.43, 2,    19.34, 2,     0.00, 2,     1.30, 2,    0.114, 2,    0.070, 2,    0.005, 2,    0.361, 2,   -999.0, 9,   -999.0, 9,  -999.00, 9,  -999.00, 9,    0.088, 2,    0.001,   1.8747, 2,   0.0094,     3.80, 2,     0.20,    8.007, 2,    0.040,   -999.0, 9,   -999.0,  -999.00, 9, -999.0000, 9, -999.0000, 9, -999.0000, 9, -999.0000, 9, -999.0000, 9, -999.0000, 9, -999, 9, -999, 9, -999, 9, -999, 9, -999, 9, -999, 9, -999, 9,  -999.00, 9,  -999.00, 9,  -999.00, 9,  -999.00, 9,   2.6828,  -999.00, 9, 1747,   12.8791,  -52.3437
316N200309, A20, 57, 1, 11, 11, 2, 20031013, 1647, 12.8795, -52.3387, 5196,  2874.90,   2874.9,   2.7503,  34.9312, 2,  34.9311, 2,    255.2, 2,    256.9, 2,    28.59, 2,    19.49, 2,     0.00, 2,     1.31, 2,    0.152, 2,    0.090, 2,    0.006, 2,    0.413, 2,   -999.0, 9,   -999.0, 9,  -999.00, 9,  -999.00, 9, -999.000, 9, -999.000, -999.0000, 9, -999.0000,  -999.00, 9,  -999.00, -999.000, 9, -999.000,   -999.0, 9,   -999.0,  -999.00, 9, -999.0000, 9, -999.0000, 9, -999.0000, 9, -999.0000, 9, -999.0000, 9, -999.0000, 9, -999, 9, -999, 9, -999, 9, -999, 9, -999, 9, -999, 9, -999, 9,  -999.00, 9,  -999.00, 9,  -999.00, 9,  -999.00, 9,   2.5178,  -999.00, 9, 1742,   12.8790,  -52.3432