BOTTLE,20220816CCHSIOAMB
EXPOCODE,SECT_ID,STNNBR,CASTNO,SAMPNO,BTLNBR,BTLNBR_FLAG_W,DATE,TIME,LATITUDE,LONGITUDE,DEPTH,CTDRAW,CTDPRS,CTDTMP,CTDSAL,CTDSAL_FLAG_W,SALNTY,SALNTY_FLAG_W,CTDOXY,CTDOXY_FLAG_W,OXYGEN,OXYGEN_FLAG_W,SILCAT,SILCAT_FLAG_W,NITRAT,NITRAT_FLAG_W,NITRIT,NITRIT_FLAG_W,PHSPHT,PHSPHT_FLAG_W,CFC-11,CFC-11_FLAG_W,CFC-12,CFC-12_FLAG_W,CFC113,CFC113_FLAG_W,CCL4,CCL4_FLAG_W,TCARBN,TCARBN_FLAG_W,ALKALI,ALKALI_FLAG_W,DOC,DOC_FLAG_W,TDN,TDN_FLAG_W,TRITUM,TRITUM_FLAG_W,TRITER,HELIUM,HELIUM_FLAG_W,HELIER,DELHE3,DELHE3_FLAG_W,DELHER,NEON,NEON_FLAG_W,NEONER,DELC14,DELC14_FLAG_W,C14ERR,DELC13,DELC13_FLAG_W,CDOM325,CDOM325_FLAG_W,CDOM340,CDOM340_FLAG_W,CDOM380,CDOM380_FLAG_W,CDOM412,CDOM412_FLAG_W,CDOMSL,CDOMSL_FLAG_W,CDOMSN,CDOMSN_FLAG_W,DCNS,DCNS_FLAG_W,ARABI,ARABI_FLAG_W,FUCO,FUCO_FLAG_W,GALA,GALA_FLAG_W,GLUC,GLUC_FLAG_W,MAN,MAN_FLAG_W,RHAM,RHAM_FLAG_W,BRDU,BRDU_FLAG_W,PEUK,PEUK_FLAG_W,PROC,PROC_FLAG_W,SYN,SYN_FLAG_W,THETA,BACT,BACT_FLAG_W,BTL_TIME,BTL_LAT,BTL_LON
,,,,,,,,,,,METERS,DBAR,DBAR,ITS-90,PSS-78,,PSS-78,,UMOL/KG,,UMOL/KG,,UMOL/KG,,UMOL/KG,,UMOL/KG,,UMOL/KG,,PMOL/KG,,PMOL/KG,,PMOL/KG,,PMOL/KG,,UMOL/KG,,UMOL/KG,,UMOL/KG,,UMOL/KG,,TU,,TU,NMOL/KG,,NMOL/KG,PERCNT,,PERCNT,NMOL/KG,,NMOL/KG,/MILLE,,/MILLE,/MILLE,,1/M,,1/M,,1/M,,1/M,,1/NM,,1/NM,,NMOL/KG,,NMOL/KG,,NMOL/KG,,NMOL/KG,,NMOL/KG,,NMOL/KG,,NMOL/KG,,PMOL/L/H,,E6/L,,E7/L,,E6/L,,DEG C,E8/L,,,,
316N200309, A20, 10, 1, 32, 32, 2, 20030926, 2232, 42.0212, -51.6503, 3544,    10.60,     10.6,  20.3280,  34.8221, 2,  34.8222, 2,    225.5, 2,    228.0, 2,     0.04, 2,     0.17, 2,     0.00, 2,     0.07, 2,    2.293, 2,    1.369, 2,    0.205, 2, -999.000, 9,   2019.8, 2,   2299.0, 2,  -999.00, 9,  -999.00, 9, -999.000, 9, -999.000, -999.0000, 9, -999.0000,  -999.00, 9,  -999.00, -999.000, 9, -999.000,   -999.0, 9,   -999.0,  -999.00, 9, -999.0000, 9, -999.0000, 9, -999.0000, 9, -999.0000, 9, -999.0000, 9, -999.0000, 9, -999, 9, -999, 9, -999, 9, -999, 9, -999, 9, -999, 9, -999, 9,  -999.00, 9,  -999.00, 9,  -999.00, 9,  -999.00, 9,  20.3260,  -999.00, 9,   10,   42.0433,  -51.6573
316N200309, A20, 10, 1, 31, 31, 2, 20030926, 2232, 42.0212, -51.6503, 3544,    30.50,     30.5,  20.2629,  34.8147, 2,  34.8151, 2,    225.3, 2,    228.1, 2,     0.03, 2,     0.17, 2,     0.00, 2,     0.07, 2,    2.303, 2,    1.371, 2,    0.205, 2, -999.000, 9,   -999.0, 9,   -999.0, 9,  -999.00, 9,  -999.00, 9, -999.000, 9, -999.000, -999.0000, 9, -999.0000,  -999.00, 9,  -999.00, -999.000, 9, -999.000,   -999.0, 9,   -999.0,  -999.00, 9, -999.0000, 9, -999.0000, 9, -999.0000, 9, -999.0000, 9, -999.0000, 9, -999.0000, 9, -999, 9, -999, 9, -999, 9, -999, 9, -999, 9, -999, 9, -999, 9,  -999.00, 9,  -999.00, 9,  -999.00, 9,  -999.00, 9,  20.2573,  -999.00, 9,    8,   42.0428,  -51.6572
316N200309, A20, 10, 1, 30, 30, 9, 20030926, 2232, 42.0212, -51.6503, 3544,    55.30,     55.3,  14.2730,  34.2469, 2, -999.0000, 9,    264.4, 2,   -999.0, 9,  -999.00, 9,  -999.00, 9,  -999.00, 9,  -999.00, 9, -999.000, 9, -999.000, 9, -999.000, 9, -999.000, 9,   -999.0, 9,   -999.0, 9,  -999.00, 9,  -999.00, 9, -999.000, 9, -999.000, -999.0000, 9, -999.0000,  -999.00, 9,  -999.00, -999.000, 9, -999.000,   -999.0, 9,   -999.0,  -999.00, 9, -999.0000, 9, -999.0000, 9, -999.0000, 9, -999.0000, 9, -999.0000, 9, -999.0000, 9, -999, 9, -999, 9, -999, 9, -999, 9, -999, 9, -999, 9, -999, 9,  -999.00, 9,  -999.00, 9,  -999.00, 9,  -999.00, 9,  14.2650,  -999.00, 9,    6,   42.0422,  -51.6571
316N200309, A20, 10, 1, 29, 29, 2, 20030926, 2232, 42.0212, -51.6503, 3544,    80.20,     80.2,  10.1049,  34.5965, 2,  34.5730, 2,    246.2, 2,    257.8, 2,     2.06, 2,     5.90, 2,     0.04, 2,     0.56, 2,    4.215, 2,    2.304, 2,    0.342, 2, -999.000, 9,   -999.0, 9,   -999.0, 9,  -999.00, 9,  -999.00, 9, -999.000, 9, -999.000, -999.0000, 9, -999.0000,  -999.00, 9,  -999.00, -999.000, 9, -999.000,   -999.0, 9,   -999.0,  -999.00, 9, -999.0000, 9, -999.0000, 9, -999.0000, 9, -999.0000, 9, -999.0000, 9, -999.0000, 9, -999, 9, -999, 9, -999, 9, -999, 9, -999, 9, -999, 9, -999, 9,  -999.00, 9,  -999.00, 9,  -999.00, 9,  -999.00, 9,  10.0956,  -999.00, 9,    4,   42.0416,  -51.6570
316N200309, A20, 10, 1, 28, 28, 2, 20030926, 2232, 42.0212, -51.6503, 3544,   105.00,    105.0,   9.5864,  34.7454, 2,  34.7132, 2,    234.9, 2,    244.2, 2,     3.58, 2,     9.00, 2,     0.02, 2,     0.70, 2,    3.954, 2,    2.138, 2,    0.287, 2, -999.000, 9,   -999.0, 9,   -999.0, 9,  -999.00, 9,  -999.00, 9, -999.000, 9, -999.000, -999.0000, 9, -999.0000,  -999.00, 9,  -999.00, -999.000, 9, -999.000,   -999.0, 9,   -999.0,  -999.00, 9, -999.0000, 9, -999.0000, 9, -999.0000, 9, -999.0000, 9, -999.0000, 9, -999.0000, 9, -999, 9, -999, 9, -999, 9, -999, 9, -999, 9, -999, 9, -999, 9,  -999.00, 9,  -999.00, 9,  -999.00, 9,  -999.00, 9,   9.5746,  -999.00, 9,    2,   42.0411,  -51.6568
316N200309, A20, 10, 1, 27, 27, 2, 20030926, 2232, 42.0212, -51.6503, 3544,   130.20,    130.2,   8.4565,  34.7127, 2,  34.7125, 2,    223.7, 2,    224.2, 2,     6.53, 2,    13.34, 2,     0.01, 2,     0.96, 2,    3.614, 2,    1.933, 2,    0.246, 2, -999.000, 9,   -999.0, 9,   -999.0, 9,  -999.00, 9,  -999.00, 9, -999.000, 9, -999.000, -999.0000, 9, -999.0000,  -999.00, 9,  -999.00, -999.000, 9, -999.000,   -999.0, 9,   -999.0,  -999.00, 9, -999.0000, 9, -999.0000, 9, -999.0000, 9, -999.0000, 9, -999.0000, 9, -999.0000, 9, -999, 9, -999, 9, -999, 9, -999, 9, -999, 9, -999, 9, -999, 9,  -999.00, 9,  -999.00, 9,  -999.00, 9,  -999.00, 9,   8.4430,  -999.00, 9,    1,   42.0406,  -51.6566
316N200309, A20, 10, 1, 26, 26, 2, 20030926, 2232, 42.0212, -51.6503, 3544,   155.00,    155.0,   8.7960,  34.8734, 2,  34.8772, 2,    208.3, 2,    207.2, 2,     7.75, 2,    15.43, 2,     0.01, 2,     1.06, 2,    3.155, 2,    1.712, 2,    0.199, 2, -999.000, 9,   -999.0, 9,   -999.0, 9,  -999.00, 9,  -999.00, 9, -999.000, 9, -999.000, -999.0000, 9, -999.0000,  -999.00, 9,  -999.00, -999.000, 9, -999.000,   -999.0, 9,   -999.0,  -999.00, 9, -999.0000, 9, -999.0000, 9, -999.0000, 9, -999.0000, 9, -999.0000, 9, -999.0000, 9, -999, 9, -999, 9, -999, 9, -999, 9, -999, 9, -999, 9, -999, 9,  -999.00, 9,  -999.00, 9,  -999.00, 9,  -999.00, 9,   8.7794,  -999.00, 9, 2359,   42.0402,  -51.6565
316N200309, A20, 10, 1, 25, 25, 2, 20030926, 2232, 42.0212, -51.6503, 3544,   204.30,    204.3,   8.8934,  35.0337, 2,  35.0338, 2,    180.8, 2,    177.3, 2,    10.31, 2,    19.53, 2,     0.01, 2,     1.29, 2,    2.222, 2,    1.202, 2,    0.131, 2, -999.000, 9,   -999.0, 9,   -999.0, 9,  -999.00, 9,  -999.00, 9, -999.000, 9, -999.000, -999.0000, 9, -999.0000,  -999.00, 9,  -999.00, -999.000, 9, -999.000,   -999.0, 9,   -999.0,  -999.00, 9, -999.0000, 9, -999.0000, 9, -999.0000, 9, -999.0000, 9, -999.0000, 9, -999.0000, 9, -999, 9, -999, 9, -999, 9, -999, 9, -999, 9, -999, 9, -999, 9,  -999.00, 9,  -999.00, 9,  -999.00, 9,  -999.00, 9,   8.8713,  -999.00, 9, 2357,   42.0396,  -51.6564
316N200309, A20, 10, 1, 24, 24, 2, 20030926, 2232, 42.0212, -51.6503, 3544,   250.40,    250.4,   8.6405,  35.0816, 2,  35.0837, 2,    152.5, 2,    154.9, 2,    12.97, 2,    22.64, 2,     0.01, 2,     1.48, 2,    1.548, 2,    0.827, 2,    0.077, 2, -999.000, 9,   -999.0, 9,   -999.0, 9,  -999.00, 9,  -999.00, 9, -999.000, 9, -999.000, -999.0000, 9, -999.0000,  -999.00, 9,  -999.00, -999.000, 9, -999.000,   -999.0, 9,   -999.0,  -999.00, 9, -999.0000, 9, -999.0000, 9, -999.0000, 9, -999.0000, 9, -999.0000, 9, -999.0000, 9, -999, 9, -999, 9, -999, 9, -999, 9, -999, 9, -999, 9, -999, 9,  -999.00, 9,  -999.00, 9,  -999.00, 9,  -999.00, 9,   8.6139,  -999.00, 9, 2355,   42.0390,  -51.6563
316N200309, A20, 10, 1, 23, 23, 2, 20030926, 2232, 42.0212, -51.6503, 3544,   301.10,    301.1,   7.5318,  34.9887, 2,  34.9874, 2,    166.7, 2,    173.6, 2,    12.97, 2,    22.04, 2,     0.01, 2,     1.46, 2,    1.784, 2,    0.962, 2,    0.106, 2, -999.000, 9,   -999.0, 9,   -999.0, 9,  -999.00, 9,  -999.00, 9, -999.000, 9, -999.000, -999.0000, 9, -999.0000,  -999.00, 9,  -999.00, -999.000, 9, -999.000,   -999.0, 9,   -999.0,  -999.00, 9, -999.0000, 9, -999.0000, 9, -999.0000, 9, -999.0000, 9, -999.0000, 9, -999.0000, 9, -999, 9, -999, 9, -999, 9, -999, 9, -999, 9, -999, 9, -999, 9,  -999.00, 9,  -999.00, 9,  -999.00, 9,  -999.00, 9,   7.5022,  -999.00, 9, 2353,   42.0383,  -51.6562
316N200309, A20, 10, 1, 22, 22, 2, 20030926, 2232, 42.0212, -51.6503, 3544,   400.00,    400.0,   6.3865,  34.9518, 2,  34.9555, 2,    190.5, 2,    192.6, 2,    13.17, 2,    21.24, 2,     0.01, 2,     1.42, 2,    2.011, 2,    1.067, 2,    0.119, 2, -999.000, 9,   -999.0, 9,   -999.0, 9,  -999.00, 9,  -999.00, 9, -999.000, 9, -999.000, -999.0000, 9, -999.0000,  -999.00, 9,  -999.00, -999.000, 9, -999.000,   -999.0, 9,   -999.0,  -999.00, 9, -999.0000, 9, -999.0000, 9, -999.0000, 9, -999.0000, 9, -999.0000, 9, -999.0000, 9, -999, 9, -999, 9, -999, 9, -999, 9, -999, 9, -999, 9, -999, 9,  -999.00, 9,  -999.00, 9,  -999.00, 9,  -999.00, 9,   6.3504,  -999.00, 9, 2349,   42.0374,  -51.6561
316N200309, A20, 10, 1, 21, 21, 2, 20030926, 2232, 42.0212, -51.6503, 3544,   500.90,    500.9,   5.9107,  35.0301, 2,  35.0279, 2,    211.1, 2,    207.8, 2,    12.76, 2,    20.58, 2,     0.01, 2,     1.36, 2,    1.776, 2,    0.913, 2,    0.089, 2, -999.000, 9,   -999.0, 9,   -999.0, 9,  -999.00, 9,  -999.00, 9, -999.000, 9, -999.000, -999.0000, 9, -999.0000,  -999.00, 9,  -999.00, -999.000, 9, -999.000,   -999.0, 9,   -999.0,  -999.00, 9, -999.0000, 9, -999.0000, 9, -999.0000, 9, -999.0000, 9, -999.0000, 9, -999.0000, 9, -999, 9, -999, 9, -999, 9, -999, 9, -999, 9, -999, 9, -999, 9,  -999.00, 9,  -999.00, 9,  -999.00, 9,  -999.00, 9,   5.8668,  -999.00, 9, 2346,   42.0365,  -51.6559
316N200309, A20, 10, 1, 20, 20, 2, 20030926, 2232, 42.0212, -51.6503, 3544,   625.80,    625.8,   5.2574,  35.0245, 2,  35.0224, 2,    225.0, 2,    227.4, 2,    12.15, 2,    19.48, 2,     0.00, 2,     1.29, 2,    1.932, 2,    0.995, 2,    0.099, 2, -999.000, 9,   -999.0, 9,   -999.0, 9,  -999.00, 9,  -999.00, 9, -999.000, 9, -999.000, -999.0000, 9, -999.0000,  -999.00, 9,  -999.00, -999.000, 9, -999.000,   -999.0, 9,   -999.0,  -999.00, 9, -999.0000, 9, -999.0000, 9, -999.0000, 9, -999.0000, 9, -999.0000, 9, -999.0000, 9, -999, 9, -999, 9, -999, 9, -999, 9, -999, 9, -999, 9, -999, 9,  -999.00, 9,  -999.00, 9,  -999.00, 9,  -999.00, 9,   5.2052,  -999.00, 9, 2343,   42.0356,  -51.6557
316N200309, A20, 10, 1, 19, 19, 2, 20030926, 2232, 42.0212, -51.6503, 3544,   749.90,    749.9,   4.7951,  35.0043, 2,  35.0045, 2,    239.3, 2,    241.6, 2,    11.73, 2,    18.67, 2,     0.00, 2,     1.24, 2,    2.157, 2,    1.092, 2,    0.131, 2, -999.000, 9,   -999.0, 9,   -999.0, 9,  -999.00, 9,  -999.00, 9, -999.000, 9, -999.000, -999.0000, 9, -999.0000,  -999.00, 9,  -999.00, -999.000, 9, -999.000,   -999.0, 9,   -999.0,  -999.00, 9, -999.0000, 9, -999.0000, 9, -999.0000, 9, -999.0000, 9, -999.0000, 9, -999.0000, 9, -999, 9, -999, 9, -999, 9, -999, 9, -999, 9, -999, 9, -999, 9,  -999.00, 9,  -999.00, 9,  -999.00, 9,  -999.00, 9,   4.7345,  -999.00, 9, 2340,   42.0347,  -51.6555
316N200309, A20, 10, 1, 18, 18, 2, 20030926, 2232, 42.0212, -51.6503, 3544,   900.60,    900.6,   4.5150,  34.9961, 2,  34.9939, 2,    249.4, 2,    249.3, 2,    11.73, 2,    18.31, 2,     0.00, 2,     1.22, 2,    2.078, 2,    1.052, 2,    0.113, 2, -999.000, 9,   -999.0, 9,   -999.0, 9,  -999.00, 9,  -999.00, 9, -999.000, 9, -999.000, -999.0000, 9, -999.0000,  -999.00, 9,  -999.00, -999.000, 9, -999.000,   -999.0, 9,   -999.0,  -999.00, 9, -999.0000, 9, -999.0000, 9, -999.0000, 9, -999.0000, 9, -999.0000, 9, -999.0000, 9, -999, 9, -999, 9, -999, 9, -999, 9, -999, 9, -999, 9, -999, 9,  -999.00, 9,  -999.00, 9,  -999.00, 9,  -999.00, 9,   4.4432,  -999.00, 9, 2336,   42.0338,  -51.6553
316N200309, A20, 10, 1, 17, 17, 2, 20030926, 2232, 42.0212, -51.6503, 3544,  1049.70,   1049.7,   4.2846,  34.9825, 2,  34.9811, 2,    255.7, 2,    255.2, 2,    11.63, 2,    18.07, 2,     0.00, 2,     1.20, 2,    2.084, 2,    1.051, 2,    0.115, 2, -999.000, 9,   -999.0, 9,   -999.0, 9,  -999.00, 9,  -999.00, 9, -999.000, 9, -999.000, -999.0000, 9, -999.0000,  -999.00, 9,  -999.00, -999.000, 9, -999.000,   -999.0, 9,   -999.0,  -999.00, 9, -999.0000, 9, -999.0000, 9, -999.0000, 9, -999.0000, 9, -999.0000, 9, -999.0000, 9, -999, 9, -999, 9, -999, 9, -999, 9, -999, 9, -999, 9, -999, 9,  -999.00, 9,  -999.00, 9,  -999.00, 9,  -999.00, 9,   4.2016,  -999.00, 9, 2333,   42.0330,  -51.6549
316N200309, A20, 10, 1, 16, 16, 2, 20030926, 2232, 42.0212, -51.6503, 3544,  1199.70,   1199.7,   4.0579,  34.9699, 2,  34.9681, 2,    260.4, 2,    268.6, 3,    11.73, 2,    17.82, 2,     0.00, 2,     1.19, 2,    1.983, 2,    0.999, 2,    0.108, 2, -999.000, 9,   -999.0, 9,   -999.0, 9,  -999.00, 9,  -999.00, 9, -999.000, 9, -999.000, -999.0000, 9, -999.0000,  -999.00, 9,  -999.00, -999.000, 9, -999.000,   -999.0, 9,   -999.0,  -999.00, 9, -999.0000, 9, -999.0000, 9, -999.0000, 9, -999.0000, 9, -999.0000, 9, -999.0000, 9, -999, 9, -999, 9, -999, 9, -999, 9, -999, 9, -999, 9, -999, 9,  -999.00, 9,  -999.00, 9,  -999.00, 9,  -999.00, 9,   3.9639,  -999.00, 9, 2329,   42.0321,  -51.6546
316N200309, A20, 10, 1, 15, 15, 2, 20030926, 2232, 42.0212, -51.6503, 3544,  1324.80,   1324.8,   3.9016,  34.9593, 2,  34.9581, 2,    265.3, 2,    265.0, 2,    11.83, 2,    17.76, 2,     0.00, 2,     1.18, 2,    1.895, 2,    0.947, 2,    0.106, 2, -999.000, 9,   -999.0, 9,   -999.0, 9,  -999.00, 9,  -999.00, 9, -999.000, 9, -999.000, -999.0000, 9, -999.0000,  -999.00, 9,  -999.00, -999.000, 9, -999.000,   -999.0, 9,   -999.0,  -999.00, 9, -999.0000, 9, -999.0000, 9, -999.0000, 9, -999.0000, 9, -999.0000, 9, -999.0000, 9, -999, 9, -999, 9, -999, 9, -999, 9, -999, 9, -999, 9, -999, 9,  -999.00, 9,  -999.00, 9,  -999.00, 9,  -999.00, 9,   3.7982,  -999.00, 9, 2326,   42.0314,  -51.6544
316N200309, A20, 10, 1, 14, 14, 2, 20030926, 2232, 42.0212, -51.6503, 3544,  1450.20,   1450.2,   3.7691,  34.9502, 2,  34.9494, 2,    267.0, 2,    266.9, 2,    12.03, 2,    17.66, 2,     0.00, 2,     1.18, 2,    1.883, 2,    0.941, 2,    0.104, 2, -999.000, 9,   -999.0, 9,   -999.0, 9,  -999.00, 9,  -999.00, 9, -999.000, 9, -999.000, -999.0000, 9, -999.0000,  -999.00, 9,  -999.00, -999.000, 9, -999.000,   -999.0, 9,   -999.0,  -999.00, 9, -999.0000, 9, -999.0000, 9, -999.0000, 9, -999.0000, 9, -999.0000, 9, -999.0000, 9, -999, 9, -999, 9, -999, 9, -999, 9, -999, 9, -999, 9, -999, 9,  -999.00, 9,  -999.00, 9,  -999.00, 9,  -999.00, 9,   3.6560,  -999.00, 9, 2323,   42.0307,  -51.6541
316N200309, A20, 10, 1, 13, 13, 2, 20030926, 2232, 42.0212, -51.6503, 3544,  1550.30,   1550.3,   3.6811,  34.9453, 2,  34.9441, 2,    268.5, 2,    268.5, 2,    12.24, 2,    17.56, 2,     0.00, 2,     1.18, 2,    1.854, 2,    0.928, 2,    0.103, 2, -999.000, 9,   -999.0, 9,   -999.0, 9,  -999.00, 9,  -999.00, 9, -999.000, 9, -999.000, -999.0000, 9, -999.0000,  -999.00, 9,  -999.00, -999.000, 9, -999.000,   -999.0, 9,   -999.0,  -999.00, 9, -999.0000, 9, -999.0000, 9, -999.0000, 9, -999.0000, 9, -999.0000, 9, -999.0000, 9, -999, 9, -999, 9, -999, 9, -999, 9, -999, 9, -999, 9, -999, 9,  -999.00, 9,  -999.00, 9,  -999.00, 9,  -999.00, 9,   3.5601,  -999.00, 9, 2320,   42.0302,  -51.6539
316N200309, A20, 10, 1, 12, 12, 2, 20030926, 2232, 42.0212, -51.6503, 3544,  1650.20,   1650.2,   3.6070,  34.9403, 2,  34.9402, 2,    269.8, 2,    269.3, 2,    12.33, 2,    17.60, 2,     0.00, 2,     1.17, 2,    1.881, 2,    0.921, 2,    0.104, 2, -999.000, 9,   -999.0, 9,   -999.0, 9,  -999.00, 9,  -999.00, 9, -999.000, 9, -999.000, -999.0000, 9, -999.0000,  -999.00, 9,  -999.00, -999.000, 9, -999.000,   -999.0, 9,   -999.0,  -999.00, 9, -999.0000, 9, -999.0000, 9, -999.0000, 9, -999.0000, 9, -999.0000, 9, -999.0000, 9, -999, 9, -999, 9, -999, 9, -999, 9, -999, 9, -999, 9, -999, 9,  -999.00, 9,  -999.00, 9,  -999.00, 9,  -999.00, 9,   3.4779,  -999.00, 9, 2317,   42.0296,  -51.6536
316N200309, A20, 10, 1, 11, 11, 2, 20030926, 2232, 42.0212, -51.6503, 3544,  1775.90,   1775.9,   3.5216,  34.9367, 2,  34.9366, 2,    270.0, 2,    270.2, 2,    12.65, 2,    17.50, 2,     0.00, 2,     1.17, 2,    1.814, 2,    0.895, 2,    0.097, 2, -999.000, 9,   -999.0, 9,   -999.0, 9,  -999.00, 9,  -999.00, 9, -999.000, 9, -999.000, -999.0000, 9, -999.0000,  -999.00, 9,  -999.00, -999.000, 9, -999.000,   -999.0, 9,   -999.0,  -999.00, 9, -999.0000, 9, -999.0000, 9, -999.0000, 9, -999.0000, 9, -999.0000, 9, -999.0000, 9, -999, 9, -999, 9, -999, 9, -999, 9, -999, 9, -999, 9, -999, 9,  -999.00, 9,  -999.00, 9,  -999.00, 9,  -999.00, 9,   3.3822,  -999.00, 9, 2314,   42.0289,  -51.6532
316N200309, A20, 10, 1, 10, 10, 2, 20030926, 2232, 42.0212, -51.6503, 3544,  1899.80,   1899.8,   3.4709,  34.9360, 2,  34.9376, 2,    270.8, 2,    270.8, 2,    13.06, 2,    17.50, 2,     0.00, 2,     1.17, 2,    1.750, 2,    0.862, 2,    0.091, 2, -999.000, 9,   -999.0, 9,   -999.0, 9,  -999.00, 9,  -999.00, 9, -999.000, 9, -999.000, -999.0000, 9, -999.0000,  -999.00, 9,  -999.00, -999.000, 9, -999.000,   -999.0, 9,   -999.0,  -999.00, 9, -999.0000, 9, -999.0000, 9, -999.0000, 9, -999.0000, 9, -999.0000, 9, -999.0000, 9, -999, 9, -999, 9, -999, 9, -999, 9, -999, 9, -999, 9, -999, 9,  -999.00, 9,  -999.00, 9,  -999.00, 9,  -999.00, 9,   3.3207,  -999.00, 9, 2311,   42.0282,  -51.6531
316N200309, A20, 10, 1, 9, 9, 2, 20030926, 2232, 42.0212, -51.6503, 3544,  2049.60,   2049.6,   3.3643,  34.9287, 2,  34.9268, 2,    272.9, 2,    272.5, 2,    13.15, 2,    17.40, 2,     0.00, 2,     1.16, 2,    1.862, 2,    0.926, 2,    0.094, 2, -999.000, 9,   -999.0, 9,   -999.0, 9,  -999.00, 9,  -999.00, 9, -999.000, 9, -999.000, -999.0000, 9, -999.0000,  -999.00, 9,  -999.00, -999.000, 9, -999.000,   -999.0, 9,   -999.0,  -999.00, 9, -999.0000, 9, -999.0000, 9, -999.0000, 9, -999.0000, 9, -999.0000, 9, -999.0000, 9, -999, 9, -999, 9, -999, 9, -999, 9, -999, 9, -999, 9, -999, 9,  -999.00, 9,  -999.00, 9,  -999.00, 9,  -999.00, 9,   3.2017,  -999.00, 9, 2307,   42.0275,  -51.6529
316N200309, A20, 10, 1, 8, 8, 2, 20030926, 2232, 42.0212, -51.6503, 3544,  2250.30,   2250.3,   3.2757,  34.9349, 2,  34.9331, 2,    269.5, 2,    270.6, 2,    14.39, 2,    17.45, 2,     0.00, 2,     1.17, 2,    1.486, 2,    0.726, 2,    0.081, 2, -999.000, 9,   -999.0, 9,   -999.0, 9,  -999.00, 9,  -999.00, 9, -999.000, 9, -999.000, -999.0000, 9, -999.0000,  -999.00, 9,  -999.00, -999.000, 9, -999.000,   -999.0, 9,   -999.0,  -999.00, 9, -999.0000, 9, -999.0000, 9, -999.0000, 9, -999.0000, 9, -999.0000, 9, -999.0000, 9, -999, 9, -999, 9, -999, 9, -999, 9, -999, 9, -999, 9, -999, 9,  -999.00, 9,  -999.00, 9,  -999.00, 9,  -999.00, 9,   3.0953,  -999.00, 9, 2302,   42.0267,  -51.6526
316N200309, A20, 10, 1, 7, 7, 2, 20030926, 2232, 42.0212, -51.6503, 3544,  2498.40,   2498.4,   3.1661,  34.9421, 2,  34.9412, 2,    267.6, 2,    267.5, 2,    16.75, 2,    17.70, 2,     0.00, 2,     1.19, 2,    1.076, 2,    0.521, 2,    0.056, 2, -999.000, 9,   -999.0, 9,   -999.0, 9,  -999.00, 9,  -999.00, 9, -999.000, 9, -999.000, -999.0000, 9, -999.0000,  -999.00, 9,  -999.00, -999.000, 9, -999.000,   -999.0, 9,   -999.0,  -999.00, 9, -999.0000, 9, -999.0000, 9, -999.0000, 9, -999.0000, 9, -999.0000, 9, -999.0000, 9, -999, 9, -999, 9, -999, 9, -999, 9, -999, 9, -999, 9, -999, 9,  -999.00, 9,  -999.00, 9,  -999.00, 9,  -999.00, 9,   2.9633,  -999.00, 9, 2257,   42.0255,  -51.6523