BOTTLE,20220816CCHSIOAMB
EXPOCODE,SECT_ID,STNNBR,CASTNO,SAMPNO,BTLNBR,BTLNBR_FLAG_W,DATE,TIME,LATITUDE,LONGITUDE,DEPTH,CTDRAW,CTDPRS,CTDTMP,CTDSAL,CTDSAL_FLAG_W,SALNTY,SALNTY_FLAG_W,CTDOXY,CTDOXY_FLAG_W,OXYGEN,OXYGEN_FLAG_W,SILCAT,SILCAT_FLAG_W,NITRAT,NITRAT_FLAG_W,NITRIT,NITRIT_FLAG_W,PHSPHT,PHSPHT_FLAG_W,CFC-11,CFC-11_FLAG_W,CFC-12,CFC-12_FLAG_W,CFC113,CFC113_FLAG_W,CCL4,CCL4_FLAG_W,TCARBN,TCARBN_FLAG_W,ALKALI,ALKALI_FLAG_W,DOC,DOC_FLAG_W,TDN,TDN_FLAG_W,TRITUM,TRITUM_FLAG_W,TRITER,HELIUM,HELIUM_FLAG_W,HELIER,DELHE3,DELHE3_FLAG_W,DELHER,NEON,NEON_FLAG_W,NEONER,DELC14,DELC14_FLAG_W,C14ERR,DELC13,DELC13_FLAG_W,CDOM325,CDOM325_FLAG_W,CDOM340,CDOM340_FLAG_W,CDOM380,CDOM380_FLAG_W,CDOM412,CDOM412_FLAG_W,CDOMSL,CDOMSL_FLAG_W,CDOMSN,CDOMSN_FLAG_W,DCNS,DCNS_FLAG_W,ARABI,ARABI_FLAG_W,FUCO,FUCO_FLAG_W,GALA,GALA_FLAG_W,GLUC,GLUC_FLAG_W,MAN,MAN_FLAG_W,RHAM,RHAM_FLAG_W,BRDU,BRDU_FLAG_W,PEUK,PEUK_FLAG_W,PROC,PROC_FLAG_W,SYN,SYN_FLAG_W,THETA,BACT,BACT_FLAG_W,BTL_TIME,BTL_LAT,BTL_LON
,,,,,,,,,,,METERS,DBAR,DBAR,ITS-90,PSS-78,,PSS-78,,UMOL/KG,,UMOL/KG,,UMOL/KG,,UMOL/KG,,UMOL/KG,,UMOL/KG,,PMOL/KG,,PMOL/KG,,PMOL/KG,,PMOL/KG,,UMOL/KG,,UMOL/KG,,UMOL/KG,,UMOL/KG,,TU,,TU,NMOL/KG,,NMOL/KG,PERCNT,,PERCNT,NMOL/KG,,NMOL/KG,/MILLE,,/MILLE,/MILLE,,1/M,,1/M,,1/M,,1/M,,1/NM,,1/NM,,NMOL/KG,,NMOL/KG,,NMOL/KG,,NMOL/KG,,NMOL/KG,,NMOL/KG,,NMOL/KG,,PMOL/L/H,,E6/L,,E7/L,,E6/L,,DEG C,E8/L,,,,
316N200309, A20, 40, 1, 10, 10, 2, 20031008, 1055, 24.1955, -52.3390, 5429,  3375.00,   3375.0,   2.4996,  34.9121, 2,  34.9105, 2,    254.2, 2,    254.7, 2,    35.86, 2,    20.56, 2,     0.00, 2,     1.38, 2,    0.029, 2,    0.030, 2,    0.006, 2, -999.000, 9,   -999.0, 9,   -999.0, 9,    40.50, 2,  -999.00, 9, -999.000, 9, -999.000, -999.0000, 9, -999.0000,  -999.00, 9,  -999.00, -999.000, 9, -999.000,   -999.0, 9,   -999.0,  -999.00, 9,    0.1110, 2,    0.0770, 2,    0.0360, 2,    0.0270, 2,    0.0190, 2,    0.0210, 2, -999, 9, -999, 9, -999, 9, -999, 9, -999, 9, -999, 9, -999, 9,  -999.00, 9,  -999.00, 9,  -999.00, 9,  -999.00, 9,   2.2207,  -999.00, 9, 1143,   24.1989,  -52.3356
316N200309, A20, 40, 1, 9, 9, 2, 20031008, 1055, 24.1955, -52.3390, 5429,  3624.70,   3624.7,   2.3932,  34.9022, 2,  34.9018, 2,    255.6, 2,    255.4, 2,    37.64, 2,    20.60, 2,     0.00, 2,     1.40, 2,    0.029, 2,    0.016, 2,    0.002, 2, -999.000, 9,   -999.0, 9,   -999.0, 9,  -999.00, 9,  -999.00, 9, -999.000, 9, -999.000, -999.0000, 9, -999.0000,  -999.00, 9,  -999.00, -999.000, 9, -999.000,   -999.0, 9,   -999.0,  -999.00, 9, -999.0000, 9, -999.0000, 9, -999.0000, 9, -999.0000, 9, -999.0000, 9, -999.0000, 9, -999, 9, -999, 9, -999, 9, -999, 9, -999, 9, -999, 9, -999, 9,  -999.00, 9,  -999.00, 9,  -999.00, 9,  -999.00, 9,   2.0900,  -999.00, 9, 1138,   24.1984,  -52.3361
316N200309, A20, 40, 1, 8, 8, 2, 20031008, 1055, 24.1955, -52.3390, 5429,  3875.80,   3875.8,   2.2932,  34.8924, 2,  34.8926, 2,    256.3, 2,    256.2, 2,    39.42, 2,    20.73, 2,     0.00, 2,     1.40, 2,    0.033, 2,    0.024, 2,    0.005, 2, -999.000, 9,   -999.0, 9,   -999.0, 9,  -999.00, 9,  -999.00, 9, -999.000, 9, -999.000, -999.0000, 9, -999.0000,  -999.00, 9,  -999.00, -999.000, 9, -999.000,   -999.0, 9,   -999.0,  -999.00, 9, -999.0000, 9, -999.0000, 9, -999.0000, 9, -999.0000, 9, -999.0000, 9, -999.0000, 9, -999, 9, -999, 9, -999, 9, -999, 9, -999, 9, -999, 9, -999, 9,  -999.00, 9,  -999.00, 9,  -999.00, 9,  -999.00, 9,   1.9648,  -999.00, 9, 1133,   24.1980,  -52.3364
316N200309, A20, 40, 1, 7, 7, 2, 20031008, 1055, 24.1955, -52.3390, 5429,  4124.20,   4124.2,   2.2422,  34.8855, 2,  34.8857, 2,    256.0, 2,    255.6, 2,    41.52, 2,    20.96, 2,     0.00, 2,     1.42, 2,    0.033, 2,    0.028, 2,    0.003, 2, -999.000, 9,   -999.0, 9,   -999.0, 9,    39.70, 2,  -999.00, 9, -999.000, 9, -999.000, -999.0000, 9, -999.0000,  -999.00, 9,  -999.00, -999.000, 9, -999.000,   -999.0, 9,   -999.0,  -999.00, 9,    0.1250, 2,    0.0860, 2,    0.0400, 2,    0.0290, 2,    0.0180, 2,    0.0200, 2, -999, 9, -999, 9, -999, 9, -999, 9, -999, 9, -999, 9, -999, 9,  -999.00, 9,  -999.00, 9,  -999.00, 9,  -999.00, 9,   1.8870,  -999.00, 9, 1128,   24.1977,  -52.3366
316N200309, A20, 40, 1, 6, 6, 2, 20031008, 1055, 24.1955, -52.3390, 5429,  4374.90,   4374.9,   2.1783,  34.8764, 2,  34.8749, 2,    254.6, 2,    255.0, 2,    44.89, 2,    21.43, 2,     0.00, 2,     1.45, 2,    0.033, 2,    0.031, 2,    0.003, 2, -999.000, 9,   -999.0, 9,   -999.0, 9,  -999.00, 9,  -999.00, 9, -999.000, 9, -999.000, -999.0000, 9, -999.0000,  -999.00, 9,  -999.00, -999.000, 9, -999.000,   -999.0, 9,   -999.0,  -999.00, 9, -999.0000, 9, -999.0000, 9, -999.0000, 9, -999.0000, 9, -999.0000, 9, -999.0000, 9, -999, 9, -999, 9, -999, 9, -999, 9, -999, 9, -999, 9, -999, 9,  -999.00, 9,  -999.00, 9,  -999.00, 9,  -999.00, 9,   1.7959,  -999.00, 9, 1123,   24.1974,  -52.3370
316N200309, A20, 40, 1, 5, 5, 2, 20031008, 1055, 24.1955, -52.3390, 5429,  4624.50,   4624.5,   2.1175,  34.8666, 2,  34.8670, 2,    252.2, 2,    252.0, 2,    48.67, 2,    21.95, 2,     0.00, 2,     1.49, 2,    0.033, 2,    0.027, 2,    0.004, 2, -999.000, 9,   -999.0, 9,   -999.0, 9,  -999.00, 9,  -999.00, 9, -999.000, 9, -999.000, -999.0000, 9, -999.0000,  -999.00, 9,  -999.00, -999.000, 9, -999.000,   -999.0, 9,   -999.0,  -999.00, 9, -999.0000, 9, -999.0000, 9, -999.0000, 9, -999.0000, 9, -999.0000, 9, -999.0000, 9, -999, 9, -999, 9, -999, 9, -999, 9, -999, 9, -999, 9, -999, 9,  -999.00, 9,  -999.00, 9,  -999.00, 9,  -999.00, 9,   1.7073,  -999.00, 9, 1117,   24.1970,  -52.3374
316N200309, A20, 40, 1, 4, 4, 2, 20031008, 1055, 24.1955, -52.3390, 5429,  4874.30,   4874.3,   2.0825,  34.8594, 2,  34.8611, 2,    250.3, 2,    250.8, 2,    51.41, 2,    22.18, 2,     0.00, 2,     1.51, 2,    0.047, 2,    0.041, 2,    0.005, 2, -999.000, 9,   -999.0, 9,   -999.0, 9,  -999.00, 9,  -999.00, 9, -999.000, 9, -999.000, -999.0000, 9, -999.0000,  -999.00, 9,  -999.00, -999.000, 9, -999.000,   -999.0, 9,   -999.0,  -999.00, 9, -999.0000, 9, -999.0000, 9, -999.0000, 9, -999.0000, 9, -999.0000, 9, -999.0000, 9, -999, 9, -999, 9, -999, 9, -999, 9, -999, 9, -999, 9, -999, 9,  -999.00, 9,  -999.00, 9,  -999.00, 9,  -999.00, 9,   1.6429,  -999.00, 9, 1111,   24.1967,  -52.3378
316N200309, A20, 40, 1, 3, 3, 2, 20031008, 1055, 24.1955, -52.3390, 5429,  5124.30,   5124.3,   2.0542,  34.8527, 2,  34.8524, 2,    249.0, 2,    260.4, 3,    53.83, 2,    22.55, 2,     0.00, 2,     1.53, 2, -999.000, 9, -999.000, 9, -999.000, 9, -999.000, 9,   -999.0, 9,   -999.0, 9,  -999.00, 9,  -999.00, 9, -999.000, 9, -999.000, -999.0000, 9, -999.0000,  -999.00, 9,  -999.00, -999.000, 9, -999.000,   -999.0, 9,   -999.0,  -999.00, 9, -999.0000, 9, -999.0000, 9, -999.0000, 9, -999.0000, 9, -999.0000, 9, -999.0000, 9, -999, 9, -999, 9, -999, 9, -999, 9, -999, 9, -999, 9, -999, 9,  -999.00, 9,  -999.00, 9,  -999.00, 9,  -999.00, 9,   1.5844,  -999.00, 9, 1105,   24.1963,  -52.3383
316N200309, A20, 40, 1, 2, 2, 2, 20031008, 1055, 24.1955, -52.3390, 5429,  5323.90,   5323.9,   2.0727,  34.8515, 2,  34.8513, 2,    248.3, 2,    249.7, 2,    54.14, 2,    22.59, 2,     0.00, 2,     1.53, 2,    0.042, 2,    0.038, 2,    0.002, 2, -999.000, 9,   -999.0, 9,   -999.0, 9,    40.80, 2,  -999.00, 9, -999.000, 9, -999.000, -999.0000, 9, -999.0000,  -999.00, 9,  -999.00, -999.000, 9, -999.000,   -999.0, 9,   -999.0,  -999.00, 9,    0.2290, 3,    0.2050, 3,    0.1580, 3,    0.1650, 3,    0.0020, 4,    0.0020, 4, -999, 9, -999, 9, -999, 9, -999, 9, -999, 9, -999, 9, -999, 9,  -999.00, 9,  -999.00, 9,  -999.00, 9,  -999.00, 9,   1.5768,  -999.00, 9, 1100,   24.1959,  -52.3387
316N200309, A20, 40, 1, 1, 1, 2, 20031008, 1055, 24.1955, -52.3390, 5429,  5512.20,   5512.2,   2.0903,  34.8504, 2,  34.8507, 2,    249.0, 2,    249.9, 2,    54.46, 2,    22.73, 2,     0.00, 2,     1.54, 2,    0.052, 2,    0.047, 2,    0.006, 2, -999.000, 9,   -999.0, 9,   -999.0, 9,    40.50, 2,  -999.00, 9, -999.000, 9, -999.000, -999.0000, 9, -999.0000,  -999.00, 9,  -999.00, -999.000, 9, -999.000,   -999.0, 9,   -999.0,  -999.00, 9,    0.1180, 2,    0.0840, 2,    0.0400, 2,    0.0290, 2,    0.0180, 2,    0.0190, 2, -999, 9, -999, 9, -999, 9, -999, 9, -999, 9, -999, 9, -999, 9,  -999.00, 9,  -999.00, 9,  -999.00, 9,  -999.00, 9,   1.5694,  -999.00, 9, 1055,   24.1956,  -52.3391