BOTTLE,20220816CCHSIOAMB
EXPOCODE,SECT_ID,STNNBR,CASTNO,SAMPNO,BTLNBR,BTLNBR_FLAG_W,DATE,TIME,LATITUDE,LONGITUDE,DEPTH,CTDRAW,CTDPRS,CTDTMP,CTDSAL,CTDSAL_FLAG_W,SALNTY,SALNTY_FLAG_W,CTDOXY,CTDOXY_FLAG_W,OXYGEN,OXYGEN_FLAG_W,SILCAT,SILCAT_FLAG_W,NITRAT,NITRAT_FLAG_W,NITRIT,NITRIT_FLAG_W,PHSPHT,PHSPHT_FLAG_W,CFC-11,CFC-11_FLAG_W,CFC-12,CFC-12_FLAG_W,CFC113,CFC113_FLAG_W,CCL4,CCL4_FLAG_W,TCARBN,TCARBN_FLAG_W,ALKALI,ALKALI_FLAG_W,DOC,DOC_FLAG_W,TDN,TDN_FLAG_W,TRITUM,TRITUM_FLAG_W,TRITER,HELIUM,HELIUM_FLAG_W,HELIER,DELHE3,DELHE3_FLAG_W,DELHER,NEON,NEON_FLAG_W,NEONER,DELC14,DELC14_FLAG_W,C14ERR,DELC13,DELC13_FLAG_W,CDOM325,CDOM325_FLAG_W,CDOM340,CDOM340_FLAG_W,CDOM380,CDOM380_FLAG_W,CDOM412,CDOM412_FLAG_W,CDOMSL,CDOMSL_FLAG_W,CDOMSN,CDOMSN_FLAG_W,DCNS,DCNS_FLAG_W,ARABI,ARABI_FLAG_W,FUCO,FUCO_FLAG_W,GALA,GALA_FLAG_W,GLUC,GLUC_FLAG_W,MAN,MAN_FLAG_W,RHAM,RHAM_FLAG_W,BRDU,BRDU_FLAG_W,PEUK,PEUK_FLAG_W,PROC,PROC_FLAG_W,SYN,SYN_FLAG_W,THETA,BACT,BACT_FLAG_W,BTL_TIME,BTL_LAT,BTL_LON
,,,,,,,,,,,METERS,DBAR,DBAR,ITS-90,PSS-78,,PSS-78,,UMOL/KG,,UMOL/KG,,UMOL/KG,,UMOL/KG,,UMOL/KG,,UMOL/KG,,PMOL/KG,,PMOL/KG,,PMOL/KG,,PMOL/KG,,UMOL/KG,,UMOL/KG,,UMOL/KG,,UMOL/KG,,TU,,TU,NMOL/KG,,NMOL/KG,PERCNT,,PERCNT,NMOL/KG,,NMOL/KG,/MILLE,,/MILLE,/MILLE,,1/M,,1/M,,1/M,,1/M,,1/NM,,1/NM,,NMOL/KG,,NMOL/KG,,NMOL/KG,,NMOL/KG,,NMOL/KG,,NMOL/KG,,NMOL/KG,,PMOL/L/H,,E6/L,,E7/L,,E6/L,,DEG C,E8/L,,,,
316N200309, A20, 42, 1, 10, 10, 2, 20031009, 0237, 22.8463, -52.3580, 5319,  3002.00,   3002.0,   2.7623,  34.9344, 2,  34.9345, 2,    252.7, 2,    251.1, 2,    33.15, 2,    20.52, 2,     0.00, 2,     1.38, 2,    0.024, 2,    0.015, 2,    0.003, 2, -999.000, 9,   2182.1, 2,   2332.3, 2,  -999.00, 9,  -999.00, 9, -999.000, 9, -999.000, -999.0000, 9, -999.0000,  -999.00, 9,  -999.00, -999.000, 9, -999.000,   -999.0, 9,   -999.0,  -999.00, 9, -999.0000, 9, -999.0000, 9, -999.0000, 9, -999.0000, 9, -999.0000, 9, -999.0000, 9, -999, 9, -999, 9, -999, 9, -999, 9, -999, 9, -999, 9, -999, 9,  -999.00, 9,  -999.00, 9,  -999.00, 9,  -999.00, 9,   2.5165,  -999.00, 9,  329,   22.8501,  -52.3635
316N200309, A20, 42, 1, 9, 9, 2, 20031009, 0237, 22.8463, -52.3580, 5319,  3201.50,   3201.5,   2.6349,  34.9230, 2,  34.9221, 2,    253.1, 2,    251.4, 2,    35.33, 2,    20.71, 2,     0.00, 2,     1.40, 2,    0.016, 6,    0.023, 6,    0.002, 2,    0.155, 2,   2184.0, 2,   2331.7, 2,    39.30, 2,  -999.00, 9, -999.000, 9, -999.000, -999.0000, 9, -999.0000,  -999.00, 9,  -999.00, -999.000, 9, -999.000,   -999.0, 9,   -999.0,  -999.00, 9, -999.0000, 9, -999.0000, 9, -999.0000, 9, -999.0000, 9, -999.0000, 9, -999.0000, 9, -999, 9, -999, 9, -999, 9, -999, 9, -999, 9, -999, 9, -999, 9,  -999.00, 9,  -999.00, 9,  -999.00, 9,  -999.00, 9,   2.3711,  -999.00, 9,  324,   22.8495,  -52.3636
316N200309, A20, 42, 1, 8, 8, 2, 20031009, 0237, 22.8463, -52.3580, 5319,  3401.80,   3401.8,   2.5174,  34.9122, 2,  34.9128, 2,    253.2, 2,    252.4, 2,    37.51, 2,    20.85, 2,     0.00, 2,     1.41, 2,    0.016, 2,    0.015, 2,    0.008, 2, -999.000, 9,   2185.0, 2,   2334.1, 2,  -999.00, 9,  -999.00, 9, -999.000, 9, -999.000, -999.0000, 9, -999.0000,  -999.00, 9,  -999.00, -999.000, 9, -999.000,   -999.0, 9,   -999.0,  -999.00, 9, -999.0000, 9, -999.0000, 9, -999.0000, 9, -999.0000, 9, -999.0000, 9, -999.0000, 9, -999, 9, -999, 9, -999, 9, -999, 9, -999, 9, -999, 9, -999, 9,  -999.00, 9,  -999.00, 9,  -999.00, 9,  -999.00, 9,   2.2351,  -999.00, 9,  320,   22.8490,  -52.3634
316N200309, A20, 42, 1, 7, 7, 2, 20031009, 0237, 22.8463, -52.3580, 5319,  3599.80,   3599.8,   2.3952,  34.9007, 2,  34.9006, 2,    253.5, 2,    252.9, 2,    40.00, 2,    21.03, 2,     0.00, 2,     1.42, 2,    0.012, 2,    0.011, 2,    0.005, 2, -999.000, 9,   2186.3, 2,   2334.5, 2,  -999.00, 9,  -999.00, 9, -999.000, 9, -999.000, -999.0000, 9, -999.0000,  -999.00, 9,  -999.00, -999.000, 9, -999.000,   -999.0, 9,   -999.0,  -999.00, 9, -999.0000, 9, -999.0000, 9, -999.0000, 9, -999.0000, 9, -999.0000, 9, -999.0000, 9, -999, 9, -999, 9, -999, 9, -999, 9, -999, 9, -999, 9, -999, 9,  -999.00, 9,  -999.00, 9,  -999.00, 9,  -999.00, 9,   2.0946,  -999.00, 9,  315,   22.8484,  -52.3629
316N200309, A20, 42, 1, 6, 6, 2, 20031009, 0237, 22.8463, -52.3580, 5319,  3791.10,   3791.1,   2.2691,  34.8887, 2,  34.8877, 2,    253.4, 2,    253.8, 2,    42.71, 2,    21.22, 2,     0.00, 2,     1.45, 2,    0.014, 2,    0.009, 2,    0.004, 2, -999.000, 9,   2189.2, 2,   2336.2, 2,    39.80, 2,  -999.00, 9, -999.000, 9, -999.000, -999.0000, 9, -999.0000,  -999.00, 9,  -999.00, -999.000, 9, -999.000,   -999.0, 9,   -999.0,  -999.00, 9, -999.0000, 9, -999.0000, 9, -999.0000, 9, -999.0000, 9, -999.0000, 9, -999.0000, 9, -999, 9, -999, 9, -999, 9, -999, 9, -999, 9, -999, 9, -999, 9,  -999.00, 9,  -999.00, 9,  -999.00, 9,  -999.00, 9,   1.9508,  -999.00, 9,  311,   22.8480,  -52.3623
316N200309, A20, 42, 1, 5, 5, 2, 20031009, 0237, 22.8463, -52.3580, 5319,  3999.30,   3999.3,   2.2149,  34.8823, 2,  34.8821, 2,    253.3, 2,    252.8, 2,    44.37, 2,    21.40, 2,     0.00, 2,     1.45, 2,    0.021, 2,    0.021, 2,    0.008, 2, -999.000, 9,   2189.8, 2,   2335.8, 2,  -999.00, 9,  -999.00, 9, -999.000, 9, -999.000, -999.0000, 9, -999.0000,  -999.00, 9,  -999.00, -999.000, 9, -999.000,   -999.0, 9,   -999.0,  -999.00, 9, -999.0000, 9, -999.0000, 9, -999.0000, 9, -999.0000, 9, -999.0000, 9, -999.0000, 9, -999, 9, -999, 9, -999, 9, -999, 9, -999, 9, -999, 9, -999, 9,  -999.00, 9,  -999.00, 9,  -999.00, 9,  -999.00, 9,   1.8748,  -999.00, 9,  306,   22.8477,  -52.3619
316N200309, A20, 42, 1, 4, 4, 2, 20031009, 0237, 22.8463, -52.3580, 5319,  4299.80,   4299.8,   2.1388,  34.8718, 2,  34.8729, 2,    251.8, 2,    252.4, 2,    47.62, 2,    21.77, 2,     0.00, 2,     1.48, 2,    0.024, 2,    0.016, 2,    0.007, 2, -999.000, 9,   2193.6, 2,   2338.0, 2,    38.90, 2,  -999.00, 9, -999.000, 9, -999.000, -999.0000, 9, -999.0000,  -999.00, 9,  -999.00, -999.000, 9, -999.000,   -999.0, 9,   -999.0,  -999.00, 9, -999.0000, 9, -999.0000, 9, -999.0000, 9, -999.0000, 9, -999.0000, 9, -999.0000, 9, -999, 9, -999, 9, -999, 9, -999, 9, -999, 9, -999, 9, -999, 9,  -999.00, 9,  -999.00, 9,  -999.00, 9,  -999.00, 9,   1.7664,  -999.00, 9,  300,   22.8474,  -52.3611
316N200309, A20, 42, 1, 3, 3, 2, 20031009, 0237, 22.8463, -52.3580, 5319,  4599.90,   4599.9,   2.0936,  34.8637, 2,  34.8644, 2,    250.4, 2,    251.3, 2,    50.12, 2,    22.11, 2,     0.00, 2,     1.51, 2,    0.024, 2,    0.015, 2,    0.003, 2, -999.000, 9,   2196.0, 2,   2339.6, 2,  -999.00, 9,  -999.00, 9, -999.000, 9, -999.000, -999.0000, 9, -999.0000,  -999.00, 9,  -999.00, -999.000, 9, -999.000,   -999.0, 9,   -999.0,  -999.00, 9, -999.0000, 9, -999.0000, 9, -999.0000, 9, -999.0000, 9, -999.0000, 9, -999.0000, 9, -999, 9, -999, 9, -999, 9, -999, 9, -999, 9, -999, 9, -999, 9,  -999.00, 9,  -999.00, 9,  -999.00, 9,  -999.00, 9,   1.6871,  -999.00, 9,  253,   22.8470,  -52.3601
316N200309, A20, 42, 1, 2, 2, 2, 20031009, 0237, 22.8463, -52.3580, 5319,  4899.90,   4899.9,   2.0823,  34.8584, 2,  34.8593, 2,    249.0, 2,    250.4, 2,    51.99, 2,    22.29, 2,     0.00, 2,     1.51, 2,    0.040, 2,    0.019, 2,    0.002, 2, -999.000, 9,   2198.6, 2,   2340.1, 2,    40.10, 2,  -999.00, 9, -999.000, 9, -999.000, -999.0000, 9, -999.0000,  -999.00, 9,  -999.00, -999.000, 9, -999.000,   -999.0, 9,   -999.0,  -999.00, 9, -999.0000, 9, -999.0000, 9, -999.0000, 9, -999.0000, 9, -999.0000, 9, -999.0000, 9, -999, 9, -999, 9, -999, 9, -999, 9, -999, 9, -999, 9, -999, 9,  -999.00, 9,  -999.00, 9,  -999.00, 9,  -999.00, 9,   1.6396,  -999.00, 9,  246,   22.8467,  -52.3591
316N200309, A20, 42, 1, 1, 1, 3, 20031009, 0237, 22.8463, -52.3580, 5319,  5217.00,   5217.0,   2.0920,  34.8546, 2,  35.7029, 4,    248.8, 2,    223.4, 4,    19.77, 4,    14.90, 4,     0.01, 4,     0.96, 4, -999.000, 9, -999.000, 9, -999.000, 9, -999.000, 9,   -999.0, 9,   -999.0, 5,    44.70, 2,  -999.00, 9, -999.000, 9, -999.000, -999.0000, 9, -999.0000,  -999.00, 9,  -999.00, -999.000, 9, -999.000,   -999.0, 9,   -999.0,  -999.00, 9, -999.0000, 9, -999.0000, 9, -999.0000, 9, -999.0000, 9, -999.0000, 9, -999.0000, 9, -999, 9, -999, 9, -999, 9, -999, 9, -999, 9, -999, 9, -999, 9,  -999.00, 9,  -999.00, 9,  -999.00, 9,  -999.00, 9,   1.6092,  -999.00, 9,  238,   22.8463,  -52.3580