BOTTLE,20220816CCHSIOAMB
EXPOCODE,SECT_ID,STNNBR,CASTNO,SAMPNO,BTLNBR,BTLNBR_FLAG_W,DATE,TIME,LATITUDE,LONGITUDE,DEPTH,CTDRAW,CTDPRS,CTDTMP,CTDSAL,CTDSAL_FLAG_W,SALNTY,SALNTY_FLAG_W,CTDOXY,CTDOXY_FLAG_W,OXYGEN,OXYGEN_FLAG_W,SILCAT,SILCAT_FLAG_W,NITRAT,NITRAT_FLAG_W,NITRIT,NITRIT_FLAG_W,PHSPHT,PHSPHT_FLAG_W,CFC-11,CFC-11_FLAG_W,CFC-12,CFC-12_FLAG_W,CFC113,CFC113_FLAG_W,CCL4,CCL4_FLAG_W,TCARBN,TCARBN_FLAG_W,ALKALI,ALKALI_FLAG_W,DOC,DOC_FLAG_W,TDN,TDN_FLAG_W,TRITUM,TRITUM_FLAG_W,TRITER,HELIUM,HELIUM_FLAG_W,HELIER,DELHE3,DELHE3_FLAG_W,DELHER,NEON,NEON_FLAG_W,NEONER,DELC14,DELC14_FLAG_W,C14ERR,DELC13,DELC13_FLAG_W,CDOM325,CDOM325_FLAG_W,CDOM340,CDOM340_FLAG_W,CDOM380,CDOM380_FLAG_W,CDOM412,CDOM412_FLAG_W,CDOMSL,CDOMSL_FLAG_W,CDOMSN,CDOMSN_FLAG_W,DCNS,DCNS_FLAG_W,ARABI,ARABI_FLAG_W,FUCO,FUCO_FLAG_W,GALA,GALA_FLAG_W,GLUC,GLUC_FLAG_W,MAN,MAN_FLAG_W,RHAM,RHAM_FLAG_W,BRDU,BRDU_FLAG_W,PEUK,PEUK_FLAG_W,PROC,PROC_FLAG_W,SYN,SYN_FLAG_W,THETA,BACT,BACT_FLAG_W,BTL_TIME,BTL_LAT,BTL_LON
,,,,,,,,,,,METERS,DBAR,DBAR,ITS-90,PSS-78,,PSS-78,,UMOL/KG,,UMOL/KG,,UMOL/KG,,UMOL/KG,,UMOL/KG,,UMOL/KG,,PMOL/KG,,PMOL/KG,,PMOL/KG,,PMOL/KG,,UMOL/KG,,UMOL/KG,,UMOL/KG,,UMOL/KG,,TU,,TU,NMOL/KG,,NMOL/KG,PERCNT,,PERCNT,NMOL/KG,,NMOL/KG,/MILLE,,/MILLE,/MILLE,,1/M,,1/M,,1/M,,1/M,,1/NM,,1/NM,,NMOL/KG,,NMOL/KG,,NMOL/KG,,NMOL/KG,,NMOL/KG,,NMOL/KG,,NMOL/KG,,PMOL/L/H,,E6/L,,E7/L,,E6/L,,DEG C,E8/L,,,,
316N200309, A20, 33, 1, 36, 36, 2, 20031005, 0115, 28.1918, -52.3318, 4434,    15.50,     15.5,  27.5246,  37.2821, 2,  37.2517, 2,    196.8, 2,    199.8, 2,     0.94, 2,     0.07, 2,     0.00, 2,     0.02, 2,    1.620, 2,    0.973, 2,    0.082, 2,    1.730, 2,   2062.0, 2,   2433.9, 2,    73.10, 2,     4.80, 2,    0.817, 2,    0.003,   1.7081, 2,   0.0085,    -1.31, 2,     0.20,    6.674, 2,    0.033,   -999.0, 9,   -999.0,  -999.00, 9,    0.0400, 2,    0.0240, 2,    0.0050, 2,    0.0040, 2,    0.0400, 2,    0.0380, 2, -999, 9, -999, 9, -999, 9, -999, 9, -999, 9, -999, 9, -999, 9,  -999.00, 9,  -999.00, 9,  -999.00, 9,  -999.00, 9,  27.5210,  -999.00, 9,  338,   28.1945,  -52.3243
316N200309, A20, 33, 1, 35, 35, 2, 20031005, 0115, 28.1918, -52.3318, 4434,    53.00,     53.0,  27.0549,  37.2123, 2,  36.9612, 4,    210.6, 2,    215.2, 2,     0.95, 2,     0.57, 2,     0.00, 2,     0.05, 2,    2.046, 2,    1.190, 2,    0.078, 2,    1.152, 2,   2071.2, 2,   2412.4, 2,    67.50, 2,     4.80, 2,    0.684, 2,    0.004,   1.7540, 2,   0.0088,    -1.14, 2,     0.20,    6.954, 2,    0.035,   -999.0, 9,   -999.0,  -999.00, 9,    0.0880, 2,    0.0580, 2,    0.0210, 2,    0.0160, 2,    0.0270, 2,    0.0280, 2, -999, 9, -999, 9, -999, 9, -999, 9, -999, 9, -999, 9, -999, 9,  -999.00, 9,  -999.00, 9,  -999.00, 9,  -999.00, 9,  27.0427,  -999.00, 9,  336,   28.1945,  -52.3249
316N200309, A20, 33, 1, 34, 34, 2, 20031005, 0115, 28.1918, -52.3318, 4434,    73.00,     73.0,  23.9355,  36.9147, 2,  36.9167, 2,    226.1, 2,    231.9, 2,     0.77, 2,     0.12, 2,     0.00, 2,     0.02, 2,    2.013, 2,    1.162, 2,    0.124, 2,    1.302, 2,   2056.8, 2,   2407.7, 2,    69.00, 2,     3.50, 2, -999.000, 9, -999.000, -999.0000, 9, -999.0000,  -999.00, 9,  -999.00, -999.000, 9, -999.000,   -999.0, 9,   -999.0,  -999.00, 9,    0.1300, 2,    0.0870, 2,    0.0340, 2,    0.0240, 2,    0.0240, 2,    0.0250, 2, -999, 9, -999, 9, -999, 9, -999, 9, -999, 9, -999, 9, -999, 9,  -999.00, 9,  -999.00, 9,  -999.00, 9,  -999.00, 9,  23.9200,  -999.00, 9,  334,   28.1945,  -52.3253
316N200309, A20, 33, 1, 33, 33, 2, 20031005, 0115, 28.1918, -52.3318, 4434,    97.80,     97.8,  22.3428,  36.8396, 2,  36.8383, 2,    219.1, 2,    223.5, 2,     0.79, 2,     0.12, 2,     0.00, 2,     0.02, 2,    2.071, 2,    1.189, 2,    0.118, 2,    1.221, 2,   2067.7, 2,   2390.7, 2,    63.60, 2,     4.10, 2,    0.786, 2,    0.004,   1.7957, 2,   0.0090,    -1.32, 2,     0.20,    7.130, 2,    0.036,   -999.0, 9,   -999.0,  -999.00, 9,    0.1620, 2,    0.1110, 2,    0.0460, 2,    0.0320, 2,    0.0190, 2,    0.0220, 2, -999, 9, -999, 9, -999, 9, -999, 9, -999, 9, -999, 9, -999, 9,  -999.00, 9,  -999.00, 9,  -999.00, 9,  -999.00, 9,  22.3231,  -999.00, 9,  332,   28.1945,  -52.3257
316N200309, A20, 33, 1, 32, 32, 2, 20031005, 0115, 28.1918, -52.3318, 4434,   127.80,    127.8,  20.8612,  36.7488, 2,  36.7484, 2,    209.7, 2,    211.9, 2,     0.80, 2,     0.01, 2,     0.00, 2,     0.02, 2,    2.152, 2,    1.258, 2,    0.109, 2,    1.181, 2,   2084.7, 2,   2381.5, 2,    58.90, 2,     4.00, 2, -999.000, 9, -999.000, -999.0000, 9, -999.0000,  -999.00, 9,  -999.00, -999.000, 9, -999.000,   -999.0, 9,   -999.0,  -999.00, 9,    0.1320, 2,    0.0930, 2,    0.0390, 2,    0.0270, 2,    0.0200, 2,    0.0220, 2, -999, 9, -999, 9, -999, 9, -999, 9, -999, 9, -999, 9, -999, 9,  -999.00, 9,  -999.00, 9,  -999.00, 9,  -999.00, 9,  20.8366,  -999.00, 9,  330,   28.1944,  -52.3260
316N200309, A20, 33, 1, 31, 31, 2, 20031005, 0115, 28.1918, -52.3318, 4434,   152.20,    152.2,  20.1736,  36.6966, 2,  36.6973, 2,    204.1, 2,    207.8, 2,     0.92, 2,     0.08, 2,     0.08, 2,     0.02, 2,    2.205, 2,    1.283, 2,    0.117, 2,    1.162, 2,   2089.4, 2,   2377.5, 2,    57.70, 2,     3.70, 2, -999.000, 9, -999.000,   1.7823, 2,   0.0089,    -1.58, 2,     0.20,    7.144, 2,    0.036,   -999.0, 9,   -999.0,  -999.00, 9, -999.0000, 9, -999.0000, 9, -999.0000, 9, -999.0000, 9, -999.0000, 9, -999.0000, 9, -999, 9, -999, 9, -999, 9, -999, 9, -999, 9, -999, 9, -999, 9,  -999.00, 9,  -999.00, 9,  -999.00, 9,  -999.00, 9,  20.1450,  -999.00, 9,  329,   28.1944,  -52.3263
316N200309, A20, 33, 1, 30, 30, 2, 20031005, 0115, 28.1918, -52.3318, 4434,   201.50,    201.5,  19.0417,  36.6418, 2,  36.6437, 2,    190.1, 2,    192.0, 2,     1.22, 2,     2.35, 2,     0.01, 2,     0.09, 2,    2.263, 2,    1.316, 2,    0.025, 2,    0.386, 2,   2108.0, 2,   2390.0, 2,    50.80, 2,     5.60, 2, -999.000, 9, -999.000,   1.7664, 2,   0.0088,    -0.63, 2,     0.20,    7.100, 2,    0.035,   -999.0, 9,   -999.0,  -999.00, 9,    0.1190, 2,    0.0860, 2,    0.0420, 2,    0.0350, 2,    0.0130, 2,    0.0160, 2, -999, 9, -999, 9, -999, 9, -999, 9, -999, 9, -999, 9, -999, 9,  -999.00, 9,  -999.00, 9,  -999.00, 9,  -999.00, 9,  19.0054,  -999.00, 9,  326,   28.1944,  -52.3268
316N200309, A20, 33, 1, 29, 29, 2, 20031005, 0115, 28.1918, -52.3318, 4434,   250.30,    250.3,  18.4143,  36.5657, 2,  36.5674, 2,    192.4, 2,    194.4, 2,     1.53, 2,     3.85, 2,     0.00, 2,     0.19, 2,    2.355, 6,    1.312, 2,    0.049, 2,    0.409, 2,   2107.3, 2,   2381.7, 2,    48.60, 2,     7.50, 2, -999.000, 9, -999.000, -999.0000, 9, -999.0000,  -999.00, 9,  -999.00, -999.000, 9, -999.000,   -999.0, 9,   -999.0,  -999.00, 9,    0.1040, 2,    0.0750, 2,    0.0350, 2,    0.0280, 2,    0.0190, 2,    0.0200, 2, -999, 9, -999, 9, -999, 9, -999, 9, -999, 9, -999, 9, -999, 9,  -999.00, 9,  -999.00, 9,  -999.00, 9,  -999.00, 9,  18.3702,  -999.00, 9,  324,   28.1944,  -52.3272
316N200309, A20, 33, 1, 28, 28, 2, 20031005, 0115, 28.1918, -52.3318, 4434,   314.80,    314.8,  17.7958,  36.4863, 2,  36.4867, 2,    190.9, 2,    228.7, 4,     1.74, 2,     4.86, 2,     0.00, 2,     0.25, 2,    2.331, 2,    1.307, 2,    0.019, 2,    0.472, 2,   2109.7, 2,   2380.9, 2,    48.20, 2,  -999.00, 9,    0.824, 2,    0.004,   1.7938, 2,   0.0090,     0.19, 2,     0.20,    7.214, 2,    0.036,   -999.0, 9,   -999.0,  -999.00, 9,    0.0900, 2,    0.0640, 2,    0.0290, 2,    0.0220, 2,    0.0210, 2,    0.0220, 2, -999, 9, -999, 9, -999, 9, -999, 9, -999, 9, -999, 9, -999, 9,  -999.00, 9,  -999.00, 9,  -999.00, 9,  -999.00, 9,  17.7415,  -999.00, 9,  322,   28.1943,  -52.3276
316N200309, A20, 33, 1, 27, 27, 2, 20031005, 0115, 28.1918, -52.3318, 4434,   370.20,    370.2,  17.1364,  36.3893, 2,  36.3897, 2,    197.0, 2,    221.4, 4,     2.15, 2,     5.96, 2,     0.00, 2,     0.33, 2,    2.349, 2,    1.309, 2,    0.019, 2,    0.490, 2,   2115.4, 2,   2374.8, 2,    46.90, 2,  -999.00, 9,    0.862, 2,    0.004,   1.7819, 2,   0.0089,     0.60, 2,     0.20,    7.185, 2,    0.036,   -999.0, 9,   -999.0,  -999.00, 9, -999.0000, 9, -999.0000, 9, -999.0000, 9, -999.0000, 9, -999.0000, 9, -999.0000, 9, -999, 9, -999, 9, -999, 9, -999, 9, -999, 9, -999, 9, -999, 9,  -999.00, 9,  -999.00, 9,  -999.00, 9,  -999.00, 9,  17.0741,  -999.00, 9,  319,   28.1943,  -52.3281
316N200309, A20, 33, 1, 26, 26, 2, 20031005, 0115, 28.1918, -52.3318, 4434,   499.80,    499.8,  15.2653,  36.0698, 2,  36.0748, 2,    187.9, 2,    204.5, 4,     3.82, 2,     9.94, 2,     0.00, 2,     0.59, 2,    2.276, 2,    1.241, 2,    0.038, 2,    0.518, 2,   2133.1, 2,   2357.9, 2,    47.30, 2,  -999.00, 9, -999.000, 9, -999.000,   1.8242, 2,   0.0091,     2.94, 2,     0.20,    7.394, 2,    0.037,   -999.0, 9,   -999.0,  -999.00, 9,    0.1120, 2,    0.0800, 2,    0.0390, 2,    0.0290, 2,    0.0170, 2,    0.0190, 2, -999, 9, -999, 9, -999, 9, -999, 9, -999, 9, -999, 9, -999, 9,  -999.00, 9,  -999.00, 9,  -999.00, 9,  -999.00, 9,  15.1873,  -999.00, 9,  316,   28.1943,  -52.3286
316N200309, A20, 33, 1, 25, 25, 2, 20031005, 0115, 28.1918, -52.3318, 4434,   626.60,    626.6,  13.0953,  35.7463, 2,  35.7511, 2,    176.5, 2,    188.2, 4,     6.17, 2,    14.44, 2,     0.00, 2,     0.88, 2,    1.989, 2,    1.017, 2,    0.050, 2,    0.471, 2,   2153.7, 2,   2342.7, 2,    45.70, 2,  -999.00, 9,    0.870, 2,    0.003,   1.8021, 2,   0.0090,     6.22, 2,     0.20,    7.407, 2,    0.037,   -999.0, 9,   -999.0,  -999.00, 9, -999.0000, 9, -999.0000, 9, -999.0000, 9, -999.0000, 9, -999.0000, 9, -999.0000, 9, -999, 9, -999, 9, -999, 9, -999, 9, -999, 9, -999, 9, -999, 9,  -999.00, 9,  -999.00, 9,  -999.00, 9,  -999.00, 9,  13.0067,  -999.00, 9,  313,   28.1943,  -52.3290
316N200309, A20, 33, 1, 24, 24, 2, 20031005, 0115, 28.1918, -52.3318, 4434,   751.20,    751.2,  10.8441,  35.4620, 2,  35.4624, 2,    166.4, 2,    177.1, 4,     9.80, 2,    19.07, 2,     0.00, 2,     1.19, 2,    1.328, 2,    0.665, 2,    0.024, 2,    0.427, 2,   2170.1, 2,   2326.8, 2,    44.30, 2,  -999.00, 9, -999.000, 9, -999.000,   1.8062, 2,   0.0090,     8.52, 2,     0.20,    7.501, 2,    0.038,   -999.0, 9,   -999.0,  -999.00, 9,    0.1130, 2,    0.0800, 2,    0.0380, 2,    0.0320, 2,    0.0150, 2,    0.0180, 2, -999, 9, -999, 9, -999, 9, -999, 9, -999, 9, -999, 9, -999, 9,  -999.00, 9,  -999.00, 9,  -999.00, 9,  -999.00, 9,  10.7495,  -999.00, 9,  310,   28.1943,  -52.3295
316N200309, A20, 33, 1, 23, 23, 2, 20031005, 0115, 28.1918, -52.3318, 4434,   870.60,    870.6,   8.9599,  35.2622, 2,  35.2637, 2,    162.0, 2,    176.7, 4,    13.44, 2,    22.45, 2,     0.00, 2,     1.44, 2,    0.749, 2,    0.388, 2,    0.018, 2,    0.330, 2,   2184.7, 2,   2324.4, 2,  -999.00, 9,  -999.00, 9,    0.478, 2,    0.003,   1.8223, 2,   0.0091,     7.96, 2,     0.20,    7.638, 2,    0.038,   -999.0, 9,   -999.0,  -999.00, 9, -999.0000, 9, -999.0000, 9, -999.0000, 9, -999.0000, 9, -999.0000, 9, -999.0000, 9, -999, 9, -999, 9, -999, 9, -999, 9, -999, 9, -999, 9, -999, 9,  -999.00, 9,  -999.00, 9,  -999.00, 9,  -999.00, 9,   8.8616,  -999.00, 9,  307,   28.1943,  -52.3298
316N200309, A20, 33, 1, 22, 22, 2, 20031005, 0115, 28.1918, -52.3318, 4434,  1051.10,   1051.1,   6.9647,  35.1680, 2,  35.1699, 2,    183.2, 2,    205.8, 4,    15.22, 2,    22.19, 2,     0.00, 2,     1.45, 2,    0.567, 2,    0.303, 2,    0.028, 2,    0.471, 2,   2187.7, 2,   2319.3, 2,    41.70, 2,  -999.00, 9,    0.371, 2,    0.002,   1.8380, 2,   0.0092,     5.94, 2,     0.20,    7.767, 2,    0.039,   -999.0, 9,   -999.0,  -999.00, 9,    0.1160, 2,    0.0820, 2,    0.0390, 2,    0.0300, 3,    0.0160, 3,    0.0190, 3, -999, 9, -999, 9, -999, 9, -999, 9, -999, 9, -999, 9, -999, 9,  -999.00, 9,  -999.00, 9,  -999.00, 9,  -999.00, 9,   6.8602,  -999.00, 9,  303,   28.1943,  -52.3302
316N200309, A20, 33, 1, 21, 21, 2, 20031005, 0115, 28.1918, -52.3318, 4434,  1201.30,   1201.3,   6.0834,  35.1596, 2,  35.1614, 2,    207.0, 2,    223.8, 4,    14.74, 2,    20.66, 2,     0.00, 2,     1.36, 2,    0.630, 2,    0.303, 2,    0.004, 2,    0.716, 2,   2181.5, 2,   2321.1, 2,  -999.00, 9,  -999.00, 9, -999.000, 9, -999.000, -999.0000, 9, -999.0000,  -999.00, 9,  -999.00, -999.000, 9, -999.000,   -999.0, 9,   -999.0,  -999.00, 9, -999.0000, 9, -999.0000, 9, -999.0000, 9, -999.0000, 9, -999.0000, 9, -999.0000, 9, -999, 9, -999, 9, -999, 9, -999, 9, -999, 9, -999, 9, -999, 9,  -999.00, 9,  -999.00, 9,  -999.00, 9,  -999.00, 9,   5.9706,  -999.00, 9,  259,   28.1942,  -52.3305
316N200309, A20, 33, 1, 20, 20, 2, 20031005, 0115, 28.1918, -52.3318, 4434,  1325.50,   1325.5,   5.6462,  35.1665, 2,  35.1679, 2,    220.1, 2,    221.8, 2,    14.67, 2,    19.73, 2,     0.00, 2,     1.29, 2,    0.627, 2,    0.310, 2,    0.011, 2,    0.831, 2,   2176.7, 2,   2320.8, 2,    41.40, 2,  -999.00, 9,    0.371, 2,    0.003,   1.8453, 2,   0.0092,     6.57, 2,     0.20,    7.828, 2,    0.039,   -999.0, 9,   -999.0,  -999.00, 9, -999.0000, 9, -999.0000, 9, -999.0000, 9, -999.0000, 9, -999.0000, 9, -999.0000, 9, -999, 9, -999, 9, -999, 9, -999, 9, -999, 9, -999, 9, -999, 9,  -999.00, 9,  -999.00, 9,  -999.00, 9,  -999.00, 9,   5.5249,  -999.00, 9,  256,   28.1939,  -52.3308
316N200309, A20, 33, 1, 19, 19, 2, 20031005, 0115, 28.1918, -52.3318, 4434,  1451.30,   1451.3,   5.1690,  35.1397, 2,  35.1400, 2,    231.6, 2,    275.5, 4,    15.17, 2,    19.27, 2,     0.00, 2,     1.27, 2,    0.557, 2,    0.272, 2,    0.008, 2,    0.842, 2,   2173.9, 2,   2320.6, 2,  -999.00, 9,  -999.00, 9, -999.000, 9, -999.000, -999.0000, 9, -999.0000,  -999.00, 9,  -999.00, -999.000, 9, -999.000,   -999.0, 9,   -999.0,  -999.00, 9, -999.0000, 9, -999.0000, 9, -999.0000, 9, -999.0000, 9, -999.0000, 9, -999.0000, 9, -999, 9, -999, 9, -999, 9, -999, 9, -999, 9, -999, 9, -999, 9,  -999.00, 9,  -999.00, 9,  -999.00, 9,  -999.00, 9,   5.0401,  -999.00, 9,  253,   28.1938,  -52.3310
316N200309, A20, 33, 1, 18, 18, 2, 20031005, 0115, 28.1918, -52.3318, 4434,  1575.50,   1575.5,   4.8195,  35.1152, 2,  35.1144, 2,    237.4, 2,    273.6, 4,    15.88, 2,    19.07, 2,     0.00, 2,     1.26, 2,    0.437, 2,    0.235, 2,    0.006, 2,    0.789, 2,   2171.6, 2,   2318.9, 2,    42.90, 2,  -999.00, 9,    0.305, 2,    0.002,   1.8528, 2,   0.0093,     5.91, 2,     0.20,    7.855, 2,    0.039,   -999.0, 9,   -999.0,  -999.00, 9,    0.1210, 2,    0.0820, 2,    0.0360, 2,    0.0230, 2,    0.0210, 2,    0.0230, 2, -999, 9, -999, 9, -999, 9, -999, 9, -999, 9, -999, 9, -999, 9,  -999.00, 9,  -999.00, 9,  -999.00, 9,  -999.00, 9,   4.6824,  -999.00, 9,  250,   28.1939,  -52.3310
316N200309, A20, 33, 1, 17, 17, 2, 20031005, 0115, 28.1918, -52.3318, 4434,  1701.40,   1701.4,   4.4063,  35.0801, 2,  35.0807, 2,    241.8, 2,    277.2, 4,    16.97, 2,    18.86, 2,     0.00, 2,     1.25, 2,    0.415, 2,    0.235, 2,   -0.003, 2,    0.852, 2,   2170.4, 2,   2317.5, 2,  -999.00, 9,  -999.00, 9, -999.000, 9, -999.000,   1.8557, 2,   0.0093,     5.35, 2,     0.20,    7.907, 2,    0.040,   -999.0, 9,   -999.0,  -999.00, 9, -999.0000, 9, -999.0000, 9, -999.0000, 9, -999.0000, 9, -999.0000, 9, -999.0000, 9, -999, 9, -999, 9, -999, 9, -999, 9, -999, 9, -999, 9, -999, 9,  -999.00, 9,  -999.00, 9,  -999.00, 9,  -999.00, 9,   4.2620,  -999.00, 9,  246,   28.1939,  -52.3313
316N200309, A20, 33, 1, 16, 16, 2, 20031005, 0115, 28.1918, -52.3318, 4434,  1839.10,   1839.1,   4.0699,  35.0490, 2,  35.0516, 2,    249.3, 2,    250.0, 2,    18.45, 2,    18.81, 2,     0.00, 2,     1.26, 2,    0.346, 2,    0.182, 2,   -0.001, 2,    0.789, 2,   2170.4, 2,   2317.0, 2,  -999.00, 9,  -999.00, 9, -999.000, 9, -999.000, -999.0000, 9, -999.0000,  -999.00, 9,  -999.00, -999.000, 9, -999.000,   -999.0, 9,   -999.0,  -999.00, 9, -999.0000, 9, -999.0000, 9, -999.0000, 9, -999.0000, 9, -999.0000, 9, -999.0000, 9, -999, 9, -999, 9, -999, 9, -999, 9, -999, 9, -999, 9, -999, 9,  -999.00, 9,  -999.00, 9,  -999.00, 9,  -999.00, 9,   3.9168,  -999.00, 9,  243,   28.1938,  -52.3315
316N200309, A20, 33, 1, 15, 15, 2, 20031005, 0115, 28.1918, -52.3318, 4434,  1999.80,   1999.8,   3.7283,  35.0157, 2,  35.0165, 2,    251.4, 2,    251.9, 2,    20.44, 2,    18.90, 2,     0.00, 2,     1.26, 2,    0.265, 2,    0.160, 2,    0.041, 4,    0.682, 2,   2170.0, 2,   2319.1, 2,    41.60, 2,  -999.00, 9,    0.202, 2,    0.002,   1.8729, 2,   0.0094,     4.43, 2,     0.20,    7.976, 2,    0.040,   -999.0, 9,   -999.0,  -999.00, 9, -999.0000, 9, -999.0000, 9, -999.0000, 9, -999.0000, 9, -999.0000, 9, -999.0000, 9, -999, 9, -999, 9, -999, 9, -999, 9, -999, 9, -999, 9, -999, 9,  -999.00, 9,  -999.00, 9,  -999.00, 9,  -999.00, 9,   3.5647,  -999.00, 9,  240,   28.1937,  -52.3317
316N200309, A20, 33, 1, 14, 14, 2, 20031005, 0115, 28.1918, -52.3318, 4434,  2250.20,   2250.2,   3.4146,  34.9910, 2,  34.9941, 2,    251.5, 2,    251.8, 2,    24.10, 2,    19.36, 2,     0.00, 2,     1.29, 2,    0.124, 2,    0.074, 2,   -0.003, 2,    0.449, 2,   2173.4, 2,   2322.2, 2,  -999.00, 9,  -999.00, 9,    0.109, 2,    0.001,   1.8776, 2,   0.0094,     3.67, 2,     0.20,    8.091, 2,    0.040,   -999.0, 9,   -999.0,  -999.00, 9, -999.0000, 9, -999.0000, 9, -999.0000, 9, -999.0000, 9, -999.0000, 9, -999.0000, 9, -999, 9, -999, 9, -999, 9, -999, 9, -999, 9, -999, 9, -999, 9,  -999.00, 9,  -999.00, 9,  -999.00, 9,  -999.00, 9,   3.2317,  -999.00, 9,  235,   28.1930,  -52.3321
316N200309, A20, 33, 1, 13, 13, 2, 20031005, 0115, 28.1918, -52.3318, 4434,  2500.90,   2500.9,   3.1990,  34.9732, 2,  34.9736, 2,    250.9, 2,    251.1, 2,    27.37, 2,    19.72, 2,     0.00, 2,     1.33, 2,    0.059, 2,    0.043, 2,   -0.004, 2,    0.331, 2,   2176.8, 2,   2324.4, 2,    40.70, 2,  -999.00, 9,    0.061, 2,    0.001,   1.8789, 2,   0.0094,     3.41, 2,     0.20,    8.026, 2,    0.040,   -999.0, 9,   -999.0,  -999.00, 9,    0.1220, 2,    0.0870, 2,    0.0420, 2,    0.0310, 2,    0.0160, 2,    0.0180, 2, -999, 9, -999, 9, -999, 9, -999, 9, -999, 9, -999, 9, -999, 9,  -999.00, 9,  -999.00, 9,  -999.00, 9,  -999.00, 9,   2.9952,  -999.00, 9,  229,   28.1924,  -52.3323
316N200309, A20, 33, 1, 12, 12, 2, 20031005, 0115, 28.1918, -52.3318, 4434,  2750.20,   2750.2,   3.0063,  34.9565, 2,  34.9561, 2,    250.9, 2,    251.2, 2,    30.35, 2,    20.03, 2,     0.00, 2,     1.35, 2,    0.036, 2,    0.025, 2,    0.012, 2,    0.320, 2,   2179.9, 2,   2331.2, 2,  -999.00, 9,  -999.00, 9, -999.000, 9, -999.000, -999.0000, 9, -999.0000,  -999.00, 9,  -999.00, -999.000, 9, -999.000,   -999.0, 9,   -999.0,  -999.00, 9, -999.0000, 9, -999.0000, 9, -999.0000, 9, -999.0000, 9, -999.0000, 9, -999.0000, 9, -999, 9, -999, 9, -999, 9, -999, 9, -999, 9, -999, 9, -999, 9,  -999.00, 9,  -999.00, 9,  -999.00, 9,  -999.00, 9,   2.7812,  -999.00, 9,  224,   28.1921,  -52.3327
316N200309, A20, 33, 1, 11, 11, 2, 20031005, 0115, 28.1918, -52.3318, 4434,  3000.20,   3000.2,   2.8650,  34.9438, 2,  34.9445, 2,    251.9, 2,    252.4, 2,    32.15, 2,    20.17, 2,     0.00, 2,     1.37, 2,    0.020, 2,    0.032, 2,   -0.001, 2,    0.232, 2,   2179.4, 2,   2330.3, 2,    41.90, 2,  -999.00, 9,    0.018, 2,    0.000,   1.8884, 2,   0.0094,     2.48, 2,     0.20,    7.978, 2,    0.040,   -999.0, 9,   -999.0,  -999.00, 9, -999.0000, 9, -999.0000, 9, -999.0000, 9, -999.0000, 9, -999.0000, 9, -999.0000, 9, -999, 9, -999, 9, -999, 9, -999, 9, -999, 9, -999, 9, -999, 9,  -999.00, 9,  -999.00, 9,  -999.00, 9,  -999.00, 9,   2.6171,  -999.00, 9,  219,   28.1921,  -52.3329