BOTTLE,20220816CCHSIOAMB
EXPOCODE,SECT_ID,STNNBR,CASTNO,SAMPNO,BTLNBR,BTLNBR_FLAG_W,DATE,TIME,LATITUDE,LONGITUDE,DEPTH,CTDRAW,CTDPRS,CTDTMP,CTDSAL,CTDSAL_FLAG_W,SALNTY,SALNTY_FLAG_W,CTDOXY,CTDOXY_FLAG_W,OXYGEN,OXYGEN_FLAG_W,SILCAT,SILCAT_FLAG_W,NITRAT,NITRAT_FLAG_W,NITRIT,NITRIT_FLAG_W,PHSPHT,PHSPHT_FLAG_W,CFC-11,CFC-11_FLAG_W,CFC-12,CFC-12_FLAG_W,CFC113,CFC113_FLAG_W,CCL4,CCL4_FLAG_W,TCARBN,TCARBN_FLAG_W,ALKALI,ALKALI_FLAG_W,DOC,DOC_FLAG_W,TDN,TDN_FLAG_W,TRITUM,TRITUM_FLAG_W,TRITER,HELIUM,HELIUM_FLAG_W,HELIER,DELHE3,DELHE3_FLAG_W,DELHER,NEON,NEON_FLAG_W,NEONER,DELC14,DELC14_FLAG_W,C14ERR,DELC13,DELC13_FLAG_W,CDOM325,CDOM325_FLAG_W,CDOM340,CDOM340_FLAG_W,CDOM380,CDOM380_FLAG_W,CDOM412,CDOM412_FLAG_W,CDOMSL,CDOMSL_FLAG_W,CDOMSN,CDOMSN_FLAG_W,DCNS,DCNS_FLAG_W,ARABI,ARABI_FLAG_W,FUCO,FUCO_FLAG_W,GALA,GALA_FLAG_W,GLUC,GLUC_FLAG_W,MAN,MAN_FLAG_W,RHAM,RHAM_FLAG_W,BRDU,BRDU_FLAG_W,PEUK,PEUK_FLAG_W,PROC,PROC_FLAG_W,SYN,SYN_FLAG_W,THETA,BACT,BACT_FLAG_W,BTL_TIME,BTL_LAT,BTL_LON
,,,,,,,,,,,METERS,DBAR,DBAR,ITS-90,PSS-78,,PSS-78,,UMOL/KG,,UMOL/KG,,UMOL/KG,,UMOL/KG,,UMOL/KG,,UMOL/KG,,PMOL/KG,,PMOL/KG,,PMOL/KG,,PMOL/KG,,UMOL/KG,,UMOL/KG,,UMOL/KG,,UMOL/KG,,TU,,TU,NMOL/KG,,NMOL/KG,PERCNT,,PERCNT,NMOL/KG,,NMOL/KG,/MILLE,,/MILLE,/MILLE,,1/M,,1/M,,1/M,,1/M,,1/NM,,1/NM,,NMOL/KG,,NMOL/KG,,NMOL/KG,,NMOL/KG,,NMOL/KG,,NMOL/KG,,NMOL/KG,,PMOL/L/H,,E6/L,,E7/L,,E6/L,,DEG C,E8/L,,,,
316N200309, A20, 12, 1, 34, 34, 2, 20030927, 0916, 41.5727, -51.8080, 4434,     4.20,      4.2,  19.5890,  34.5544, 2,  34.5569, 2,    226.5, 2,    231.8, 2,     0.00, 2,     0.21, 2,     0.00, 2,     0.08, 2,    1.620, 2,    1.045, 2,    0.161, 2, -999.000, 9,   2011.9, 2,   2289.9, 2,  -999.00, 9,  -999.00, 9, -999.000, 9, -999.000, -999.0000, 9, -999.0000,  -999.00, 9,  -999.00, -999.000, 9, -999.000,   -999.0, 9,   -999.0,  -999.00, 9, -999.0000, 9, -999.0000, 9, -999.0000, 9, -999.0000, 9, -999.0000, 9, -999.0000, 9, -999, 9, -999, 9, -999, 9, -999, 9, -999, 9, -999, 9, -999, 9,  -999.00, 9,  -999.00, 9,  -999.00, 9,  -999.00, 9,  19.5883,  -999.00, 9, 1112,   41.5930,  -51.8000
316N200309, A20, 12, 1, 33, 33, 2, 20030927, 0916, 41.5727, -51.8080, 4434,    33.80,     33.8,  19.4566,  34.5826, 2,  34.6252, 2,    226.4, 2,    235.8, 2,    -0.01, 2,     0.16, 2,     0.00, 2,     0.09, 2,    2.548, 2,    1.500, 2,    0.218, 2, -999.000, 9,   -999.0, 9,   -999.0, 9,  -999.00, 9,  -999.00, 9, -999.000, 9, -999.000, -999.0000, 9, -999.0000,  -999.00, 9,  -999.00, -999.000, 9, -999.000,   -999.0, 9,   -999.0,  -999.00, 9, -999.0000, 9, -999.0000, 9, -999.0000, 9, -999.0000, 9, -999.0000, 9, -999.0000, 9, -999, 9, -999, 9, -999, 9, -999, 9, -999, 9, -999, 9, -999, 9,  -999.00, 9,  -999.00, 9,  -999.00, 9,  -999.00, 9,  19.4505,  -999.00, 9, 1110,   41.5926,  -51.8002
316N200309, A20, 12, 1, 32, 32, 2, 20030927, 0916, 41.5727, -51.8080, 4434,    58.30,     58.3,  13.7109,  34.8580, 2,  34.8747, 2,    262.0, 2,    256.9, 2,     0.69, 2,     1.77, 2,     0.16, 2,     0.28, 2,    3.554, 2,    1.949, 2,    0.280, 2, -999.000, 9,   2075.4, 2,   2307.5, 2,  -999.00, 9,  -999.00, 9, -999.000, 9, -999.000, -999.0000, 9, -999.0000,  -999.00, 9,  -999.00, -999.000, 9, -999.000,   -999.0, 9,   -999.0,  -999.00, 9, -999.0000, 9, -999.0000, 9, -999.0000, 9, -999.0000, 9, -999.0000, 9, -999.0000, 9, -999, 9, -999, 9, -999, 9, -999, 9, -999, 9, -999, 9, -999, 9,  -999.00, 9,  -999.00, 9,  -999.00, 9,  -999.00, 9,  13.7026,  -999.00, 9, 1109,   41.5923,  -51.8005
316N200309, A20, 12, 1, 31, 31, 2, 20030927, 0916, 41.5727, -51.8080, 4434,    82.20,     82.2,  11.2942,  34.9528, 2,  34.9486, 2,    220.2, 2,    228.6, 2,     2.51, 2,     7.94, 2,     0.03, 2,     0.63, 2,    3.684, 2,    1.980, 2,    0.269, 2, -999.000, 9,   2117.9, 2,   2308.0, 2,  -999.00, 9,  -999.00, 9, -999.000, 9, -999.000, -999.0000, 9, -999.0000,  -999.00, 9,  -999.00, -999.000, 9, -999.000,   -999.0, 9,   -999.0,  -999.00, 9, -999.0000, 9, -999.0000, 9, -999.0000, 9, -999.0000, 9, -999.0000, 9, -999.0000, 9, -999, 9, -999, 9, -999, 9, -999, 9, -999, 9, -999, 9, -999, 9,  -999.00, 9,  -999.00, 9,  -999.00, 9,  -999.00, 9,  11.2840,  -999.00, 9, 1108,   41.5919,  -51.8008
316N200309, A20, 12, 1, 30, 30, 3, 20030927, 0916, 41.5727, -51.8080, 4434,   107.50,    107.5,  11.4905,  35.1256, 2,  35.1260, 2,    200.5, 2,   -999.0, 9,     3.31, 2,     9.83, 2,     0.02, 2,     0.70, 2, -999.000, 9, -999.000, 9, -999.000, 9, -999.000, 9,   -999.0, 9,   -999.0, 9,  -999.00, 9,  -999.00, 9, -999.000, 9, -999.000, -999.0000, 9, -999.0000,  -999.00, 9,  -999.00, -999.000, 9, -999.000,   -999.0, 9,   -999.0,  -999.00, 9, -999.0000, 9, -999.0000, 9, -999.0000, 9, -999.0000, 9, -999.0000, 9, -999.0000, 9, -999, 9, -999, 9, -999, 9, -999, 9, -999, 9, -999, 9, -999, 9,  -999.00, 9,  -999.00, 9,  -999.00, 9,  -999.00, 9,  11.4769,  -999.00, 9, 1107,   41.5915,  -51.8013
316N200309, A20, 12, 1, 29, 29, 2, 20030927, 0916, 41.5727, -51.8080, 4434,   127.70,    127.7,  12.1381,  35.3341, 2,  35.3401, 2,    202.0, 2,    200.6, 2,     3.92, 2,    11.40, 2,     0.02, 2,     0.75, 2,    2.914, 2,    1.598, 2,    0.169, 2, -999.000, 9,   -999.0, 9,   -999.0, 9,  -999.00, 9,  -999.00, 9, -999.000, 9, -999.000, -999.0000, 9, -999.0000,  -999.00, 9,  -999.00, -999.000, 9, -999.000,   -999.0, 9,   -999.0,  -999.00, 9, -999.0000, 9, -999.0000, 9, -999.0000, 9, -999.0000, 9, -999.0000, 9, -999.0000, 9, -999, 9, -999, 9, -999, 9, -999, 9, -999, 9, -999, 9, -999, 9,  -999.00, 9,  -999.00, 9,  -999.00, 9,  -999.00, 9,  12.1213,  -999.00, 9, 1105,   41.5911,  -51.8017
316N200309, A20, 12, 1, 28, 28, 2, 20030927, 0916, 41.5727, -51.8080, 4434,   178.30,    178.3,  12.0054,  35.3963, 2,  35.3928, 2,    185.5, 2,    199.1, 2,     5.03, 2,    13.03, 2,     0.02, 2,     0.85, 2,    2.655, 2,    1.474, 2,    0.158, 2, -999.000, 9,   2140.8, 2,   2327.3, 2,  -999.00, 9,  -999.00, 9, -999.000, 9, -999.000, -999.0000, 9, -999.0000,  -999.00, 9,  -999.00, -999.000, 9, -999.000,   -999.0, 9,   -999.0,  -999.00, 9, -999.0000, 9, -999.0000, 9, -999.0000, 9, -999.0000, 9, -999.0000, 9, -999.0000, 9, -999, 9, -999, 9, -999, 9, -999, 9, -999, 9, -999, 9, -999, 9,  -999.00, 9,  -999.00, 9,  -999.00, 9,  -999.00, 9,  11.9820,  -999.00, 9, 1104,   41.5905,  -51.8021
316N200309, A20, 12, 1, 27, 27, 2, 20030927, 0916, 41.5727, -51.8080, 4434,   223.60,    223.6,  11.0694,  35.2879, 2,  35.2871, 2,    190.8, 2,    184.3, 2,     7.15, 2,    15.94, 2,     0.02, 2,     1.03, 2,    2.406, 2,    1.319, 2,    0.146, 2, -999.000, 9,   -999.0, 9,   -999.0, 9,  -999.00, 9,  -999.00, 9, -999.000, 9, -999.000, -999.0000, 9, -999.0000,  -999.00, 9,  -999.00, -999.000, 9, -999.000,   -999.0, 9,   -999.0,  -999.00, 9, -999.0000, 9, -999.0000, 9, -999.0000, 9, -999.0000, 9, -999.0000, 9, -999.0000, 9, -999, 9, -999, 9, -999, 9, -999, 9, -999, 9, -999, 9, -999, 9,  -999.00, 9,  -999.00, 9,  -999.00, 9,  -999.00, 9,  11.0416,  -999.00, 9, 1102,   41.5901,  -51.8023
316N200309, A20, 12, 1, 26, 26, 2, 20030927, 0916, 41.5727, -51.8080, 4434,   279.00,    279.0,   9.1628,  35.0324, 2,  35.0331, 2,    178.4, 2,    185.8, 2,     9.09, 2,    18.08, 2,     0.01, 2,     1.19, 2,    2.485, 2,    1.333, 2,    0.154, 2, -999.000, 9,   2164.3, 2,   2308.9, 2,  -999.00, 9,  -999.00, 9, -999.000, 9, -999.000, -999.0000, 9, -999.0000,  -999.00, 9,  -999.00, -999.000, 9, -999.000,   -999.0, 9,   -999.0,  -999.00, 9, -999.0000, 9, -999.0000, 9, -999.0000, 9, -999.0000, 9, -999.0000, 9, -999.0000, 9, -999, 9, -999, 9, -999, 9, -999, 9, -999, 9, -999, 9, -999, 9,  -999.00, 9,  -999.00, 9,  -999.00, 9,  -999.00, 9,   9.1320,  -999.00, 9, 1100,   41.5898,  -51.8022
316N200309, A20, 12, 1, 25, 25, 2, 20030927, 0916, 41.5727, -51.8080, 4434,   359.10,    359.1,   8.3781,  35.0537, 2,  35.0606, 2,    162.6, 2,    163.2, 2,    12.45, 2,    22.31, 2,     0.01, 2,     1.45, 2,    1.616, 6,    0.880, 6,    0.099, 2,    1.171, 2,   -999.0, 9,   -999.0, 9,  -999.00, 9,  -999.00, 9, -999.000, 9, -999.000, -999.0000, 9, -999.0000,  -999.00, 9,  -999.00, -999.000, 9, -999.000,   -999.0, 9,   -999.0,  -999.00, 9, -999.0000, 9, -999.0000, 9, -999.0000, 9, -999.0000, 9, -999.0000, 9, -999.0000, 9, -999, 9, -999, 9, -999, 9, -999, 9, -999, 9, -999, 9, -999, 9,  -999.00, 9,  -999.00, 9,  -999.00, 9,  -999.00, 9,   8.3403,  -999.00, 9, 1058,   41.5896,  -51.8022
316N200309, A20, 12, 1, 24, 24, 2, 20030927, 0916, 41.5727, -51.8080, 4434,   459.40,    459.4,   6.6113,  34.9473, 2,  34.9477, 2,    195.8, 2,    189.5, 2,    13.06, 2,    21.47, 2,     0.01, 2,     1.42, 2,    1.951, 2,    1.020, 2,    0.122, 2, -999.000, 9,   -999.0, 9,   -999.0, 9,  -999.00, 9,  -999.00, 9, -999.000, 9, -999.000, -999.0000, 9, -999.0000,  -999.00, 9,  -999.00, -999.000, 9, -999.000,   -999.0, 9,   -999.0,  -999.00, 9, -999.0000, 9, -999.0000, 9, -999.0000, 9, -999.0000, 9, -999.0000, 9, -999.0000, 9, -999, 9, -999, 9, -999, 9, -999, 9, -999, 9, -999, 9, -999, 9,  -999.00, 9,  -999.00, 9,  -999.00, 9,  -999.00, 9,   6.5689,  -999.00, 9, 1056,   41.5895,  -51.8024
316N200309, A20, 12, 1, 23, 23, 2, 20030927, 0916, 41.5727, -51.8080, 4434,   560.30,    560.3,   5.3409,  34.9171, 2,  34.9185, 2,    222.8, 2,    223.6, 2,    11.93, 2,    19.38, 2,     0.00, 2,     1.29, 2,    2.559, 2,    1.336, 2,    0.185, 2, -999.000, 9,   -999.0, 9,   -999.0, 9,  -999.00, 9,  -999.00, 9, -999.000, 9, -999.000, -999.0000, 9, -999.0000,  -999.00, 9,  -999.00, -999.000, 9, -999.000,   -999.0, 9,   -999.0,  -999.00, 9, -999.0000, 9, -999.0000, 9, -999.0000, 9, -999.0000, 9, -999.0000, 9, -999.0000, 9, -999, 9, -999, 9, -999, 9, -999, 9, -999, 9, -999, 9, -999, 9,  -999.00, 9,  -999.00, 9,  -999.00, 9,  -999.00, 9,   5.2941,  -999.00, 9, 1053,   41.5893,  -51.8025
316N200309, A20, 12, 1, 22, 22, 2, 20030927, 0916, 41.5727, -51.8080, 4434,   675.50,    675.5,   4.8258,  34.9294, 2,  34.9317, 2,    236.4, 2,    241.9, 2,    11.11, 2,    18.43, 2,     0.00, 2,     1.22, 2,    2.872, 2,    1.488, 2,    0.194, 2, -999.000, 9,   -999.0, 9,   -999.0, 9,  -999.00, 9,  -999.00, 9, -999.000, 9, -999.000, -999.0000, 9, -999.0000,  -999.00, 9,  -999.00, -999.000, 9, -999.000,   -999.0, 9,   -999.0,  -999.00, 9, -999.0000, 9, -999.0000, 9, -999.0000, 9, -999.0000, 9, -999.0000, 9, -999.0000, 9, -999, 9, -999, 9, -999, 9, -999, 9, -999, 9, -999, 9, -999, 9,  -999.00, 9,  -999.00, 9,  -999.00, 9,  -999.00, 9,   4.7716,  -999.00, 9, 1050,   41.5890,  -51.8026
316N200309, A20, 12, 1, 21, 21, 2, 20030927, 0916, 41.5727, -51.8080, 4434,   835.60,    835.6,   4.6180,  34.9827, 2,  34.9835, 2,    248.2, 2,    250.6, 2,    10.90, 2,    18.19, 2,     0.00, 2,     1.19, 2,    2.645, 2,    1.354, 2,    0.162, 2, -999.000, 9,   -999.0, 9,   -999.0, 9,  -999.00, 9,  -999.00, 9, -999.000, 9, -999.000, -999.0000, 9, -999.0000,  -999.00, 9,  -999.00, -999.000, 9, -999.000,   -999.0, 9,   -999.0,  -999.00, 9, -999.0000, 9, -999.0000, 9, -999.0000, 9, -999.0000, 9, -999.0000, 9, -999.0000, 9, -999, 9, -999, 9, -999, 9, -999, 9, -999, 9, -999, 9, -999, 9,  -999.00, 9,  -999.00, 9,  -999.00, 9,  -999.00, 9,   4.5512,  -999.00, 9, 1047,   41.5888,  -51.8027
316N200309, A20, 12, 1, 20, 20, 2, 20030927, 0916, 41.5727, -51.8080, 4434,   982.90,    982.9,   4.3674,  34.9746, 2,  34.9864, 3,    259.5, 2,    256.8, 2,    10.99, 2,    17.93, 2,     0.00, 2,     1.18, 2,    2.559, 2,    1.301, 2,    0.169, 2, -999.000, 9,   -999.0, 9,   -999.0, 9,  -999.00, 9,  -999.00, 9, -999.000, 9, -999.000, -999.0000, 9, -999.0000,  -999.00, 9,  -999.00, -999.000, 9, -999.000,   -999.0, 9,   -999.0,  -999.00, 9, -999.0000, 9, -999.0000, 9, -999.0000, 9, -999.0000, 9, -999.0000, 9, -999.0000, 9, -999, 9, -999, 9, -999, 9, -999, 9, -999, 9, -999, 9, -999, 9,  -999.00, 9,  -999.00, 9,  -999.00, 9,  -999.00, 9,   4.2896,  -999.00, 9, 1043,   41.5885,  -51.8029
316N200309, A20, 12, 1, 19, 19, 2, 20030927, 0916, 41.5727, -51.8080, 4434,  1125.20,   1125.2,   4.0905,  34.9514, 2,  34.9516, 2,    265.3, 2,    264.1, 2,    10.78, 2,    17.64, 2,     0.00, 2,     1.16, 2,    2.763, 2,    1.406, 2,    0.193, 2, -999.000, 9,   -999.0, 9,   -999.0, 9,  -999.00, 9,  -999.00, 9, -999.000, 9, -999.000, -999.0000, 9, -999.0000,  -999.00, 9,  -999.00, -999.000, 9, -999.000,   -999.0, 9,   -999.0,  -999.00, 9, -999.0000, 9, -999.0000, 9, -999.0000, 9, -999.0000, 9, -999.0000, 9, -999.0000, 9, -999, 9, -999, 9, -999, 9, -999, 9, -999, 9, -999, 9, -999, 9,  -999.00, 9,  -999.00, 9,  -999.00, 9,  -999.00, 9,   4.0027,  -999.00, 9, 1040,   41.5882,  -51.8030
316N200309, A20, 12, 1, 18, 18, 2, 20030927, 0916, 41.5727, -51.8080, 4434,  1276.00,   1276.0,   3.8829,  34.9389, 2,  34.9390, 2,    269.5, 2,    268.5, 2,    10.88, 2,    17.54, 2,     0.00, 2,     1.16, 2,    2.718, 2,    1.370, 2,    0.188, 2, -999.000, 9,   -999.0, 9,   -999.0, 9,  -999.00, 9,  -999.00, 9, -999.000, 9, -999.000, -999.0000, 9, -999.0000,  -999.00, 9,  -999.00, -999.000, 9, -999.000,   -999.0, 9,   -999.0,  -999.00, 9, -999.0000, 9, -999.0000, 9, -999.0000, 9, -999.0000, 9, -999.0000, 9, -999.0000, 9, -999, 9, -999, 9, -999, 9, -999, 9, -999, 9, -999, 9, -999, 9,  -999.00, 9,  -999.00, 9,  -999.00, 9,  -999.00, 9,   3.7839,  -999.00, 9, 1036,   41.5878,  -51.8030
316N200309, A20, 12, 1, 17, 17, 2, 20030927, 0916, 41.5727, -51.8080, 4434,  1402.00,   1402.0,   3.7641,  34.9310, 2,  34.9309, 2,    269.0, 2,    270.4, 2,    10.97, 2,    17.39, 2,     0.00, 2,     1.15, 2,    2.678, 6,    1.339, 6,    0.174, 6, -999.000, 9,   -999.0, 9,   -999.0, 9,  -999.00, 9,  -999.00, 9, -999.000, 9, -999.000, -999.0000, 9, -999.0000,  -999.00, 9,  -999.00, -999.000, 9, -999.000,   -999.0, 9,   -999.0,  -999.00, 9, -999.0000, 9, -999.0000, 9, -999.0000, 9, -999.0000, 9, -999.0000, 9, -999.0000, 9, -999, 9, -999, 9, -999, 9, -999, 9, -999, 9, -999, 9, -999, 9,  -999.00, 9,  -999.00, 9,  -999.00, 9,  -999.00, 9,   3.6554,  -999.00, 9, 1033,   41.5876,  -51.8032
316N200309, A20, 12, 1, 16, 16, 2, 20030927, 0916, 41.5727, -51.8080, 4434,  1500.50,   1500.5,   3.7599,  34.9395, 2,  34.9394, 2,    268.8, 2,    268.6, 2,    11.48, 2,    17.54, 2,     0.00, 2,     1.15, 2,    2.328, 2,    1.157, 2,    0.147, 2, -999.000, 9,   -999.0, 9,   -999.0, 9,  -999.00, 9,  -999.00, 9, -999.000, 9, -999.000, -999.0000, 9, -999.0000,  -999.00, 9,  -999.00, -999.000, 9, -999.000,   -999.0, 9,   -999.0,  -999.00, 9, -999.0000, 9, -999.0000, 9, -999.0000, 9, -999.0000, 9, -999.0000, 9, -999.0000, 9, -999, 9, -999, 9, -999, 9, -999, 9, -999, 9, -999, 9, -999, 9,  -999.00, 9,  -999.00, 9,  -999.00, 9,  -999.00, 9,   3.6424,  -999.00, 9, 1030,   41.5874,  -51.8034
316N200309, A20, 12, 1, 15, 15, 2, 20030927, 0916, 41.5727, -51.8080, 4434,  1628.80,   1628.8,   3.6836,  34.9386, 2,  34.9386, 2,    270.9, 2,    269.3, 2,    11.79, 2,    17.53, 2,     0.00, 2,     1.16, 2,    2.142, 2,    1.061, 2,    0.136, 2, -999.000, 9,   -999.0, 9,   -999.0, 9,  -999.00, 9,  -999.00, 9, -999.000, 9, -999.000, -999.0000, 9, -999.0000,  -999.00, 9,  -999.00, -999.000, 9, -999.000,   -999.0, 9,   -999.0,  -999.00, 9, -999.0000, 9, -999.0000, 9, -999.0000, 9, -999.0000, 9, -999.0000, 9, -999.0000, 9, -999, 9, -999, 9, -999, 9, -999, 9, -999, 9, -999, 9, -999, 9,  -999.00, 9,  -999.00, 9,  -999.00, 9,  -999.00, 9,   3.5555,  -999.00, 9, 1027,   41.5870,  -51.8040
316N200309, A20, 12, 1, 14, 14, 2, 20030927, 0916, 41.5727, -51.8080, 4434,  1776.60,   1776.6,   3.5191,  34.9262, 2,  34.9262, 2,    273.0, 2,    272.7, 2,    11.88, 2,    17.39, 2,     0.00, 2,     1.15, 2,    2.215, 2,    1.096, 2,    0.139, 2, -999.000, 9,   -999.0, 9,   -999.0, 9,  -999.00, 9,  -999.00, 9, -999.000, 9, -999.000, -999.0000, 9, -999.0000,  -999.00, 9,  -999.00, -999.000, 9, -999.000,   -999.0, 9,   -999.0,  -999.00, 9, -999.0000, 9, -999.0000, 9, -999.0000, 9, -999.0000, 9, -999.0000, 9, -999.0000, 9, -999, 9, -999, 9, -999, 9, -999, 9, -999, 9, -999, 9, -999, 9,  -999.00, 9,  -999.00, 9,  -999.00, 9,  -999.00, 9,   3.3797,  -999.00, 9, 1023,   41.5866,  -51.8044
316N200309, A20, 12, 1, 13, 13, 2, 20030927, 0916, 41.5727, -51.8080, 4434,  1926.30,   1926.3,   3.3603,  34.9125, 2,  34.9122, 2,    276.0, 2,    276.2, 2,    11.87, 2,    17.29, 2,     0.00, 2,     1.14, 2,    2.372, 2,    1.166, 2,    0.150, 2, -999.000, 9,   -999.0, 9,   -999.0, 9,  -999.00, 9,  -999.00, 9, -999.000, 9, -999.000, -999.0000, 9, -999.0000,  -999.00, 9,  -999.00, -999.000, 9, -999.000,   -999.0, 9,   -999.0,  -999.00, 9, -999.0000, 9, -999.0000, 9, -999.0000, 9, -999.0000, 9, -999.0000, 9, -999.0000, 9, -999, 9, -999, 9, -999, 9, -999, 9, -999, 9, -999, 9, -999, 9,  -999.00, 9,  -999.00, 9,  -999.00, 9,  -999.00, 9,   3.2094,  -999.00, 9, 1019,   41.5860,  -51.8050
316N200309, A20, 12, 1, 12, 12, 2, 20030927, 0916, 41.5727, -51.8080, 4434,  2126.00,   2126.0,   3.2248,  34.9049, 2,  34.9154, 3,    277.0, 2,    278.6, 2,    11.87, 2,    17.03, 2,     0.00, 2,     1.13, 2,    2.528, 2,    1.232, 2,    0.154, 2, -999.000, 9,   -999.0, 9,   -999.0, 9,  -999.00, 9,  -999.00, 9, -999.000, 9, -999.000, -999.0000, 9, -999.0000,  -999.00, 9,  -999.00, -999.000, 9, -999.000,   -999.0, 9,   -999.0,  -999.00, 9, -999.0000, 9, -999.0000, 9, -999.0000, 9, -999.0000, 9, -999.0000, 9, -999.0000, 9, -999, 9, -999, 9, -999, 9, -999, 9, -999, 9, -999, 9, -999, 9,  -999.00, 9,  -999.00, 9,  -999.00, 9,  -999.00, 9,   3.0572,  -999.00, 9, 1015,   41.5853,  -51.8060
316N200309, A20, 12, 1, 11, 11, 2, 20030927, 0916, 41.5727, -51.8080, 4434,  2377.50,   2377.5,   3.0952,  34.9082, 2,  34.9081, 2,    275.6, 2,    277.8, 2,    12.37, 2,    16.84, 2,     0.00, 2,     1.12, 2,    2.354, 2,    1.156, 2,    0.143, 2, -999.000, 9,   -999.0, 9,   -999.0, 9,  -999.00, 9,  -999.00, 9, -999.000, 9, -999.000, -999.0000, 9, -999.0000,  -999.00, 9,  -999.00, -999.000, 9, -999.000,   -999.0, 9,   -999.0,  -999.00, 9, -999.0000, 9, -999.0000, 9, -999.0000, 9, -999.0000, 9, -999.0000, 9, -999.0000, 9, -999, 9, -999, 9, -999, 9, -999, 9, -999, 9, -999, 9, -999, 9,  -999.00, 9,  -999.00, 9,  -999.00, 9,  -999.00, 9,   2.9056,  -999.00, 9, 1010,   41.5844,  -51.8070
316N200309, A20, 12, 1, 10, 10, 2, 20030927, 0916, 41.5727, -51.8080, 4434,  2627.50,   2627.5,   2.9887,  34.9142, 2,  34.9138, 2,    275.7, 2,    276.6, 2,    13.50, 2,    16.84, 2,     0.00, 2,     1.12, 2,    2.063, 2,    1.024, 2,    0.130, 2, -999.000, 9,   -999.0, 9,   -999.0, 9,  -999.00, 9,  -999.00, 9, -999.000, 9, -999.000, -999.0000, 9, -999.0000,  -999.00, 9,  -999.00, -999.000, 9, -999.000,   -999.0, 9,   -999.0,  -999.00, 9, -999.0000, 9, -999.0000, 9, -999.0000, 9, -999.0000, 9, -999.0000, 9, -999.0000, 9, -999, 9, -999, 9, -999, 9, -999, 9, -999, 9, -999, 9, -999, 9,  -999.00, 9,  -999.00, 9,  -999.00, 9,  -999.00, 9,   2.7765,  -999.00, 9, 1004,   41.5836,  -51.8078
316N200309, A20, 12, 1, 9, 9, 2, 20030927, 0916, 41.5727, -51.8080, 4434,  2878.00,   2878.0,   2.8077,  34.9167, 2,  34.9178, 2,    273.1, 2,    274.9, 2,    15.44, 2,    16.94, 2,     0.00, 2,     1.12, 2,    1.705, 2,    0.847, 2,    0.097, 2, -999.000, 9,   -999.0, 9,   -999.0, 9,  -999.00, 9,  -999.00, 9, -999.000, 9, -999.000, -999.0000, 9, -999.0000,  -999.00, 9,  -999.00, -999.000, 9, -999.000,   -999.0, 9,   -999.0,  -999.00, 9, -999.0000, 9, -999.0000, 9, -999.0000, 9, -999.0000, 9, -999.0000, 9, -999.0000, 9, -999, 9, -999, 9, -999, 9, -999, 9, -999, 9, -999, 9, -999, 9,  -999.00, 9,  -999.00, 9,  -999.00, 9,  -999.00, 9,   2.5737,  -999.00, 9,  959,   41.5826,  -51.8079