BOTTLE,20220816CCHSIOAMB
EXPOCODE,SECT_ID,STNNBR,CASTNO,SAMPNO,BTLNBR,BTLNBR_FLAG_W,DATE,TIME,LATITUDE,LONGITUDE,DEPTH,CTDRAW,CTDPRS,CTDTMP,CTDSAL,CTDSAL_FLAG_W,SALNTY,SALNTY_FLAG_W,CTDOXY,CTDOXY_FLAG_W,OXYGEN,OXYGEN_FLAG_W,SILCAT,SILCAT_FLAG_W,NITRAT,NITRAT_FLAG_W,NITRIT,NITRIT_FLAG_W,PHSPHT,PHSPHT_FLAG_W,CFC-11,CFC-11_FLAG_W,CFC-12,CFC-12_FLAG_W,CFC113,CFC113_FLAG_W,CCL4,CCL4_FLAG_W,TCARBN,TCARBN_FLAG_W,ALKALI,ALKALI_FLAG_W,DOC,DOC_FLAG_W,TDN,TDN_FLAG_W,TRITUM,TRITUM_FLAG_W,TRITER,HELIUM,HELIUM_FLAG_W,HELIER,DELHE3,DELHE3_FLAG_W,DELHER,NEON,NEON_FLAG_W,NEONER,DELC14,DELC14_FLAG_W,C14ERR,DELC13,DELC13_FLAG_W,CDOM325,CDOM325_FLAG_W,CDOM340,CDOM340_FLAG_W,CDOM380,CDOM380_FLAG_W,CDOM412,CDOM412_FLAG_W,CDOMSL,CDOMSL_FLAG_W,CDOMSN,CDOMSN_FLAG_W,DCNS,DCNS_FLAG_W,ARABI,ARABI_FLAG_W,FUCO,FUCO_FLAG_W,GALA,GALA_FLAG_W,GLUC,GLUC_FLAG_W,MAN,MAN_FLAG_W,RHAM,RHAM_FLAG_W,BRDU,BRDU_FLAG_W,PEUK,PEUK_FLAG_W,PROC,PROC_FLAG_W,SYN,SYN_FLAG_W,THETA,BACT,BACT_FLAG_W,BTL_TIME,BTL_LAT,BTL_LON
,,,,,,,,,,,METERS,DBAR,DBAR,ITS-90,PSS-78,,PSS-78,,UMOL/KG,,UMOL/KG,,UMOL/KG,,UMOL/KG,,UMOL/KG,,UMOL/KG,,PMOL/KG,,PMOL/KG,,PMOL/KG,,PMOL/KG,,UMOL/KG,,UMOL/KG,,UMOL/KG,,UMOL/KG,,TU,,TU,NMOL/KG,,NMOL/KG,PERCNT,,PERCNT,NMOL/KG,,NMOL/KG,/MILLE,,/MILLE,/MILLE,,1/M,,1/M,,1/M,,1/M,,1/NM,,1/NM,,NMOL/KG,,NMOL/KG,,NMOL/KG,,NMOL/KG,,NMOL/KG,,NMOL/KG,,NMOL/KG,,PMOL/L/H,,E6/L,,E7/L,,E6/L,,DEG C,E8/L,,,,
316N200309, A20, 9, 1, 30, 30, 2, 20030926, 1809, 42.2073, -51.4900, 3206,     9.10,      9.1,  20.0032,  34.6569, 2,  34.2358, 4,    227.5, 2,    229.8, 2,     0.08, 2,     0.07, 2,     0.00, 2,     0.07, 2, -999.000, 1, -999.000, 1, -999.000, 1, -999.000, 9,   2011.6, 2,   2295.8, 2,    69.10, 2,     5.20, 2, -999.000, 9, -999.000, -999.0000, 9, -999.0000,  -999.00, 9,  -999.00, -999.000, 9, -999.000,     63.2, 2,      3.0,     1.63, 2, -999.0000, 9, -999.0000, 9, -999.0000, 9, -999.0000, 9, -999.0000, 9, -999.0000, 9, -999, 9, -999, 9, -999, 9, -999, 9, -999, 9, -999, 9, -999, 9,  -999.00, 9,  -999.00, 9,  -999.00, 9,  -999.00, 9,  20.0015,  -999.00, 9, 1937,   42.2144,  -51.4954
316N200309, A20, 9, 1, 29, 29, 2, 20030926, 1809, 42.2073, -51.4900, 3206,    29.10,     29.1,  19.5285,  34.5686, 2,  34.2483, 4,    227.8, 2,    232.7, 2,     0.08, 2,     0.12, 2,     0.00, 2,     0.08, 2,    2.330, 2,    1.422, 2,    0.180, 2,    2.455, 2,   2015.4, 2,   2290.5, 2,    67.20, 2,     4.70, 2, -999.000, 9, -999.000, -999.0000, 9, -999.0000,  -999.00, 9,  -999.00, -999.000, 9, -999.000,   -999.0, 9,   -999.0,  -999.00, 9, -999.0000, 9, -999.0000, 9, -999.0000, 9, -999.0000, 9, -999.0000, 9, -999.0000, 9, -999, 9, -999, 9, -999, 9, -999, 9, -999, 9, -999, 9, -999, 9,  -999.00, 9,  -999.00, 9,  -999.00, 9,  -999.00, 9,  19.5232,  -999.00, 9, 1936,   42.2144,  -51.4953
316N200309, A20, 9, 1, 28, 28, 2, 20030926, 1809, 42.2073, -51.4900, 3206,    54.20,     54.2,  15.3601,  35.0639, 2,  35.0709, 2,    239.3, 2,    246.0, 2,     0.79, 2,     1.81, 2,     0.14, 2,     0.25, 2,    3.094, 2,    1.777, 2,    0.196, 2,    2.058, 2,   2071.1, 2,   2316.0, 2,    62.40, 2,     6.70, 2, -999.000, 9, -999.000, -999.0000, 9, -999.0000,  -999.00, 9,  -999.00, -999.000, 9, -999.000,   -999.0, 9,   -999.0,  -999.00, 9, -999.0000, 9, -999.0000, 9, -999.0000, 9, -999.0000, 9, -999.0000, 9, -999.0000, 9, -999, 9, -999, 9, -999, 9, -999, 9, -999, 9, -999, 9, -999, 9,  -999.00, 9,  -999.00, 9,  -999.00, 9,  -999.00, 9,  15.3518,  -999.00, 9, 1934,   42.2144,  -51.4952
316N200309, A20, 9, 1, 27, 27, 2, 20030926, 1809, 42.2073, -51.4900, 3206,    79.00,     79.0,   8.4471,  34.3657, 2,  34.1360, 4,    233.7, 2,    253.9, 2,     2.92, 2,     7.99, 2,     0.01, 2,     0.70, 2,    4.296, 2,    2.326, 2,    0.345, 2,    3.562, 2,   2111.3, 2,   2282.4, 2,    55.60, 2,    11.50, 2, -999.000, 9, -999.000, -999.0000, 9, -999.0000,  -999.00, 9,  -999.00, -999.000, 9, -999.000,   -999.0, 9,   -999.0,  -999.00, 9, -999.0000, 9, -999.0000, 9, -999.0000, 9, -999.0000, 9, -999.0000, 9, -999.0000, 9, -999, 9, -999, 9, -999, 9, -999, 9, -999, 9, -999, 9, -999, 9,  -999.00, 9,  -999.00, 9,  -999.00, 9,  -999.00, 9,   8.4390,  -999.00, 9, 1932,   42.2144,  -51.4950
316N200309, A20, 9, 1, 26, 26, 2, 20030926, 1809, 42.2073, -51.4900, 3206,   103.80,    103.8,  11.1082,  35.1018, 2,  34.8882, 4,    216.9, 2,    212.4, 2,     4.05, 2,    10.86, 2,     0.02, 2,     0.76, 2,    3.188, 2,    1.741, 2,    0.198, 2,    1.801, 2,   2131.5, 2,   2314.5, 2,    53.20, 2,    14.70, 2, -999.000, 9, -999.000, -999.0000, 9, -999.0000,  -999.00, 9,  -999.00, -999.000, 9, -999.000,   -999.0, 9,   -999.0,  -999.00, 9, -999.0000, 9, -999.0000, 9, -999.0000, 9, -999.0000, 9, -999.0000, 9, -999.0000, 9, -999, 9, -999, 9, -999, 9, -999, 9, -999, 9, -999, 9, -999, 9,  -999.00, 9,  -999.00, 9,  -999.00, 9,  -999.00, 9,  11.0954,  -999.00, 9, 1931,   42.2143,  -51.4949
316N200309, A20, 9, 1, 25, 25, 2, 20030926, 1809, 42.2073, -51.4900, 3206,   128.70,    128.7,  11.8201,  35.3276, 2,  35.1431, 4,    203.4, 2,    200.7, 2,     4.77, 2,    12.45, 2,     0.02, 2,     0.82, 2,    2.708, 2,    1.533, 2,    0.145, 2,    1.230, 2,   2136.5, 2,   -999.0, 1,    51.70, 2,    15.10, 3, -999.000, 9, -999.000, -999.0000, 9, -999.0000,  -999.00, 9,  -999.00, -999.000, 9, -999.000,   -999.0, 9,   -999.0,  -999.00, 9, -999.0000, 9, -999.0000, 9, -999.0000, 9, -999.0000, 9, -999.0000, 9, -999.0000, 9, -999, 9, -999, 9, -999, 9, -999, 9, -999, 9, -999, 9, -999, 9,  -999.00, 9,  -999.00, 9,  -999.00, 9,  -999.00, 9,  11.8034,  -999.00, 9, 1930,   42.2142,  -51.4947
316N200309, A20, 9, 1, 24, 24, 2, 20030926, 1809, 42.2073, -51.4900, 3206,   153.50,    153.5,  11.7285,  35.3516, 2,  35.1482, 4,    202.7, 2,    201.8, 2,     5.37, 2,    13.09, 2,     0.01, 2,     0.85, 2,    2.623, 2,    1.489, 2,    0.144, 2,    1.144, 2,   2140.0, 2,   2320.2, 2,    52.80, 2,    16.00, 3, -999.000, 9, -999.000, -999.0000, 9, -999.0000,  -999.00, 9,  -999.00, -999.000, 9, -999.000,   -999.0, 9,   -999.0,  -999.00, 9, -999.0000, 9, -999.0000, 9, -999.0000, 9, -999.0000, 9, -999.0000, 9, -999.0000, 9, -999, 9, -999, 9, -999, 9, -999, 9, -999, 9, -999, 9, -999, 9,  -999.00, 9,  -999.00, 9,  -999.00, 9,  -999.00, 9,  11.7087,  -999.00, 9, 1928,   42.2141,  -51.4946
316N200309, A20, 9, 1, 23, 23, 2, 20030926, 1809, 42.2073, -51.4900, 3206,   203.80,    203.8,  11.0209,  35.2963, 2,  35.1049, 4,    171.3, 2,    182.7, 2,     7.63, 2,    16.28, 2,     0.01, 2,     1.04, 2,    2.291, 2,    1.252, 2,    0.116, 2,    1.059, 2,   2156.8, 2,   2318.4, 2,    50.20, 2,    19.90, 2, -999.000, 9, -999.000, -999.0000, 9, -999.0000,  -999.00, 9,  -999.00, -999.000, 9, -999.000,   -999.0, 9,   -999.0,  -999.00, 9, -999.0000, 9, -999.0000, 9, -999.0000, 9, -999.0000, 9, -999.0000, 9, -999.0000, 9, -999, 9, -999, 9, -999, 9, -999, 9, -999, 9, -999, 9, -999, 9,  -999.00, 9,  -999.00, 9,  -999.00, 9,  -999.00, 9,  10.9957,  -999.00, 9, 1926,   42.2140,  -51.4945
316N200309, A20, 9, 1, 22, 22, 2, 20030926, 1809, 42.2073, -51.4900, 3206,   253.40,    253.4,  10.2493,  35.2708, 2,  35.1191, 4,    156.8, 2,    146.0, 2,    11.42, 2,    21.83, 2,     0.01, 2,     1.38, 2,    1.356, 2,    0.761, 2,    0.048, 2,    0.621, 2,   2182.4, 2,   2318.3, 2,    46.10, 2,    24.90, 2, -999.000, 9, -999.000, -999.0000, 9, -999.0000,  -999.00, 9,  -999.00, -999.000, 9, -999.000,   -999.0, 9,   -999.0,  -999.00, 9, -999.0000, 9, -999.0000, 9, -999.0000, 9, -999.0000, 9, -999.0000, 9, -999.0000, 9, -999, 9, -999, 9, -999, 9, -999, 9, -999, 9, -999, 9, -999, 9,  -999.00, 9,  -999.00, 9,  -999.00, 9,  -999.00, 9,  10.2192,  -999.00, 9, 1924,   42.2139,  -51.4944
316N200309, A20, 9, 1, 21, 21, 2, 20030926, 1809, 42.2073, -51.4900, 3206,   303.10,    303.1,   8.8586,  35.1020, 2,  34.9593, 4,    147.1, 2,    154.0, 2,    12.75, 2,    22.54, 2,     0.01, 2,     1.45, 2,    1.483, 2,    0.825, 2,    0.066, 2,    0.937, 2,   2182.2, 2,   2310.8, 2,    46.80, 2,    25.70, 2, -999.000, 9, -999.000, -999.0000, 9, -999.0000,  -999.00, 9,  -999.00, -999.000, 9, -999.000,   -999.0, 9,   -999.0,  -999.00, 9, -999.0000, 9, -999.0000, 9, -999.0000, 9, -999.0000, 9, -999.0000, 9, -999.0000, 9, -999, 9, -999, 9, -999, 9, -999, 9, -999, 9, -999, 9, -999, 9,  -999.00, 9,  -999.00, 9,  -999.00, 9,  -999.00, 9,   8.8257,  -999.00, 9, 1922,   42.2138,  -51.4943
316N200309, A20, 9, 1, 20, 20, 2, 20030926, 1809, 42.2073, -51.4900, 3206,   403.60,    403.6,   7.0191,  34.9702, 2,  34.8460, 4,    180.3, 2,    182.9, 2,    13.27, 2,    21.74, 2,     0.00, 2,     1.43, 2,    1.833, 2,    1.003, 2,    0.102, 2,    1.583, 2,   2183.9, 2,   2304.6, 2,    43.60, 2,  -999.00, 9, -999.000, 9, -999.000, -999.0000, 9, -999.0000,  -999.00, 9,  -999.00, -999.000, 9, -999.000,   -999.0, 9,   -999.0,  -999.00, 9, -999.0000, 9, -999.0000, 9, -999.0000, 9, -999.0000, 9, -999.0000, 9, -999.0000, 9, -999, 9, -999, 9, -999, 9, -999, 9, -999, 9, -999, 9, -999, 9,  -999.00, 9,  -999.00, 9,  -999.00, 9,  -999.00, 9,   6.9807,  -999.00, 9, 1920,   42.2136,  -51.4942
316N200309, A20, 9, 1, 19, 19, 2, 20030926, 1809, 42.2073, -51.4900, 3206,   503.80,    503.8,   5.6439,  34.9417, 2,  34.8001, 4,    209.6, 2,    214.1, 2,    12.45, 2,    20.03, 2,     0.00, 2,     1.33, 2,    2.215, 2,    1.154, 2,    0.143, 2,    2.082, 2,   2176.2, 2,   2302.4, 2,    45.80, 2,  -999.00, 9, -999.000, 9, -999.000, -999.0000, 9, -999.0000,  -999.00, 9,  -999.00, -999.000, 9, -999.000,   -999.0, 9,   -999.0,  -999.00, 9, -999.0000, 9, -999.0000, 9, -999.0000, 9, -999.0000, 9, -999.0000, 9, -999.0000, 9, -999, 9, -999, 9, -999, 9, -999, 9, -999, 9, -999, 9, -999, 9,  -999.00, 9,  -999.00, 9,  -999.00, 9,  -999.00, 9,   5.6009,  -999.00, 9, 1917,   42.2135,  -51.4940
316N200309, A20, 9, 1, 18, 18, 2, 20030926, 1809, 42.2073, -51.4900, 3206,   629.00,    629.0,   5.3491,  35.0090, 2,  34.9124, 4,    222.6, 2,    228.7, 2,    12.05, 2,    19.28, 2,     0.00, 2,     1.28, 2, -999.000, 5, -999.000, 5,    0.121, 2,    2.064, 2,   2174.2, 2,   2305.0, 2,    46.70, 2,  -999.00, 9, -999.000, 9, -999.000, -999.0000, 9, -999.0000,  -999.00, 9,  -999.00, -999.000, 9, -999.000,   -999.0, 9,   -999.0,  -999.00, 9, -999.0000, 9, -999.0000, 9, -999.0000, 9, -999.0000, 9, -999.0000, 9, -999.0000, 9, -999, 9, -999, 9, -999, 9, -999, 9, -999, 9, -999, 9, -999, 9,  -999.00, 9,  -999.00, 9,  -999.00, 9,  -999.00, 9,   5.2962,  -999.00, 9, 1914,   42.2132,  -51.4937
316N200309, A20, 9, 1, 17, 17, 2, 20030926, 1809, 42.2073, -51.4900, 3206,   754.20,    754.2,   4.9856,  35.0178, 2,  34.9132, 4,    238.5, 2,    236.3, 2,    11.84, 2,    18.93, 2,     0.00, 2,     1.25, 2,    1.860, 2,    0.991, 2,    0.129, 2,    1.963, 2,   2172.0, 2,   2306.8, 2,    43.70, 2,  -999.00, 9, -999.000, 9, -999.000, -999.0000, 9, -999.0000,  -999.00, 9,  -999.00, -999.000, 9, -999.000,   -999.0, 9,   -999.0,  -999.00, 9, -999.0000, 9, -999.0000, 9, -999.0000, 9, -999.0000, 9, -999.0000, 9, -999.0000, 9, -999, 9, -999, 9, -999, 9, -999, 9, -999, 9, -999, 9, -999, 9,  -999.00, 9,  -999.00, 9,  -999.00, 9,  -999.00, 9,   4.9236,  -999.00, 9, 1911,   42.2131,  -51.4934
316N200309, A20, 9, 1, 16, 16, 2, 20030926, 1809, 42.2073, -51.4900, 3206,   903.50,    903.5,   4.5228,  34.9968, 2,  34.9425, 4,    252.0, 2,    249.1, 2,    11.64, 2,    18.37, 2,     0.00, 2,     1.21, 2, -999.000, 1, -999.000, 1, -999.000, 1, -999.000, 9,   2167.5, 2,   2305.5, 2,    45.60, 2,  -999.00, 9, -999.000, 9, -999.000, -999.0000, 9, -999.0000,  -999.00, 9,  -999.00, -999.000, 9, -999.000,   -999.0, 9,   -999.0,  -999.00, 9, -999.0000, 9, -999.0000, 9, -999.0000, 9, -999.0000, 9, -999.0000, 9, -999.0000, 9, -999, 9, -999, 9, -999, 9, -999, 9, -999, 9, -999, 9, -999, 9,  -999.00, 9,  -999.00, 9,  -999.00, 9,  -999.00, 9,   4.4507,  -999.00, 9, 1907,   42.2130,  -51.4929
316N200309, A20, 9, 1, 15, 15, 2, 20030926, 1809, 42.2073, -51.4900, 3206,  1052.90,   1052.9,   4.2976,  34.9834, 2,  34.9701, 4,    258.4, 2,    264.5, 3,    11.54, 2,    18.08, 2,     0.00, 2,     1.19, 2,    2.043, 2,    1.055, 2,    0.109, 2,    2.290, 2,   2164.1, 2,   2303.5, 2,    44.00, 2,  -999.00, 9, -999.000, 9, -999.000, -999.0000, 9, -999.0000,  -999.00, 9,  -999.00, -999.000, 9, -999.000,   -999.0, 9,   -999.0,  -999.00, 9, -999.0000, 9, -999.0000, 9, -999.0000, 9, -999.0000, 9, -999.0000, 9, -999.0000, 9, -999, 9, -999, 9, -999, 9, -999, 9, -999, 9, -999, 9, -999, 9,  -999.00, 9,  -999.00, 9,  -999.00, 9,  -999.00, 9,   4.2143,  -999.00, 9, 1903,   42.2129,  -51.4928
316N200309, A20, 9, 1, 14, 14, 2, 20030926, 1809, 42.2073, -51.4900, 3206,  1204.20,   1204.2,   4.0730,  34.9691, 2,  34.9703, 2,    262.4, 2,    262.1, 2,    11.75, 2,    17.97, 2,     0.00, 2,     1.19, 2,    1.957, 2,    0.990, 2,    0.101, 2,    2.329, 2,   2163.6, 2,   2303.6, 2,    44.30, 2,  -999.00, 9, -999.000, 9, -999.000, -999.0000, 9, -999.0000,  -999.00, 9,  -999.00, -999.000, 9, -999.000,   -999.0, 9,   -999.0,  -999.00, 9, -999.0000, 9, -999.0000, 9, -999.0000, 9, -999.0000, 9, -999.0000, 9, -999.0000, 9, -999, 9, -999, 9, -999, 9, -999, 9, -999, 9, -999, 9, -999, 9,  -999.00, 9,  -999.00, 9,  -999.00, 9,  -999.00, 9,   3.9785,  -999.00, 9, 1900,   42.2126,  -51.4928
316N200309, A20, 9, 1, 13, 13, 2, 20030926, 1809, 42.2073, -51.4900, 3206,  1329.70,   1329.7,   3.9337,  34.9607, 2,  34.9758, 4,    264.7, 2,    265.0, 2,    11.86, 2,    17.73, 2,     0.00, 2,     1.18, 2,    1.847, 2,    0.944, 2,    0.097, 2,    2.285, 2,   2162.3, 2,   2304.9, 2,    44.70, 2,  -999.00, 9, -999.000, 9, -999.000, -999.0000, 9, -999.0000,  -999.00, 9,  -999.00, -999.000, 9, -999.000,   -999.0, 9,   -999.0,  -999.00, 9, -999.0000, 9, -999.0000, 9, -999.0000, 9, -999.0000, 9, -999.0000, 9, -999.0000, 9, -999, 9, -999, 9, -999, 9, -999, 9, -999, 9, -999, 9, -999, 9,  -999.00, 9,  -999.00, 9,  -999.00, 9,  -999.00, 9,   3.8295,  -999.00, 9, 1856,   42.2122,  -51.4927
316N200309, A20, 9, 1, 12, 12, 2, 20030926, 1809, 42.2073, -51.4900, 3206,  1454.30,   1454.3,   3.7636,  34.9455, 2,  34.9789, 4,    268.1, 2,    268.7, 2,    11.86, 2,    17.62, 2,     0.00, 2,     1.16, 2,    2.049, 2,    1.042, 2,    0.113, 2,    2.519, 2,   2161.3, 2,   2308.2, 2,  -999.00, 9,  -999.00, 9, -999.000, 9, -999.000, -999.0000, 9, -999.0000,  -999.00, 9,  -999.00, -999.000, 9, -999.000,   -999.0, 9,   -999.0,  -999.00, 9, -999.0000, 9, -999.0000, 9, -999.0000, 9, -999.0000, 9, -999.0000, 9, -999.0000, 9, -999, 9, -999, 9, -999, 9, -999, 9, -999, 9, -999, 9, -999, 9,  -999.00, 9,  -999.00, 9,  -999.00, 9,  -999.00, 9,   3.6502,  -999.00, 9, 1853,   42.2118,  -51.4925
316N200309, A20, 9, 1, 11, 11, 2, 20030926, 1809, 42.2073, -51.4900, 3206,  1556.60,   1556.6,   3.6944,  34.9417, 2,  34.9752, 4,    270.3, 2,    269.1, 2,    12.06, 2,    17.33, 2,     0.00, 2,     1.16, 2,    1.991, 6,    1.011, 6,    0.104, 6,    2.495, 6,   2160.2, 2,   2300.2, 2,  -999.00, 9,  -999.00, 9, -999.000, 9, -999.000, -999.0000, 9, -999.0000,  -999.00, 9,  -999.00, -999.000, 9, -999.000,   -999.0, 9,   -999.0,  -999.00, 9, -999.0000, 9, -999.0000, 9, -999.0000, 9, -999.0000, 9, -999.0000, 9, -999.0000, 9, -999, 9, -999, 9, -999, 9, -999, 9, -999, 9, -999, 9, -999, 9,  -999.00, 9,  -999.00, 9,  -999.00, 9,  -999.00, 9,   3.5726,  -999.00, 9, 1850,   42.2114,  -51.4923
316N200309, A20, 9, 1, 10, 10, 2, 20030926, 1809, 42.2073, -51.4900, 3206,  1656.60,   1656.6,   3.5992,  34.9357, 2,  34.9524, 4,    271.6, 2,    270.1, 2,    12.17, 2,    17.47, 2,     0.00, 2,     1.16, 2,    1.961, 2,    0.974, 2,    0.107, 2,    2.435, 2,   2159.5, 2,   2300.6, 2,    42.90, 2,  -999.00, 9, -999.000, 9, -999.000, -999.0000, 9, -999.0000,  -999.00, 9,  -999.00, -999.000, 9, -999.000,   -999.0, 9,   -999.0,  -999.00, 9, -999.0000, 9, -999.0000, 9, -999.0000, 9, -999.0000, 9, -999.0000, 9, -999.0000, 9, -999, 9, -999, 9, -999, 9, -999, 9, -999, 9, -999, 9, -999, 9,  -999.00, 9,  -999.00, 9,  -999.00, 9,  -999.00, 9,   3.4696,  -999.00, 9, 1847,   42.2111,  -51.4922
316N200309, A20, 9, 1, 9, 9, 2, 20030926, 1809, 42.2073, -51.4900, 3206,  1781.40,   1781.4,   3.3551,  34.9071, 2,  34.9191, 4,    274.4, 2,    276.8, 2,    11.55, 2,    17.12, 2,     0.00, 2,     1.13, 2,    2.624, 6,    1.285, 6,    0.153, 2,    3.086, 2,   2158.1, 2,   2300.8, 2,  -999.00, 9,  -999.00, 9, -999.000, 9, -999.000, -999.0000, 9, -999.0000,  -999.00, 9,  -999.00, -999.000, 9, -999.000,   -999.0, 9,   -999.0,  -999.00, 9, -999.0000, 9, -999.0000, 9, -999.0000, 9, -999.0000, 9, -999.0000, 9, -999.0000, 9, -999, 9, -999, 9, -999, 9, -999, 9, -999, 9, -999, 9, -999, 9,  -999.00, 9,  -999.00, 9,  -999.00, 9,  -999.00, 9,   3.2175,  -999.00, 9, 1843,   42.2108,  -51.4920
316N200309, A20, 9, 1, 8, 8, 2, 20030926, 1809, 42.2073, -51.4900, 3206,  1906.00,   1906.0,   3.3155,  34.9112, 2,  34.9063, 4,    277.4, 2,    276.9, 2,    12.07, 2,    17.17, 2,     0.00, 2,     1.13, 2,    2.308, 2,    1.170, 2,    0.131, 2,    2.831, 2,   2157.7, 2,   2301.4, 2,  -999.00, 9,  -999.00, 9, -999.000, 9, -999.000, -999.0000, 9, -999.0000,  -999.00, 9,  -999.00, -999.000, 9, -999.000,   -999.0, 9,   -999.0,  -999.00, 9, -999.0000, 9, -999.0000, 9, -999.0000, 9, -999.0000, 9, -999.0000, 9, -999.0000, 9, -999, 9, -999, 9, -999, 9, -999, 9, -999, 9, -999, 9, -999, 9,  -999.00, 9,  -999.00, 9,  -999.00, 9,  -999.00, 9,   3.1670,  -999.00, 9, 1840,   42.2105,  -51.4920
316N200309, A20, 9, 1, 7, 7, 2, 20030926, 1809, 42.2073, -51.4900, 3206,  2052.80,   2052.8,   3.2785,  34.9167, 2,  34.9181, 2,    276.9, 2,    275.3, 2,    12.79, 2,    17.22, 2,     0.00, 2,     1.14, 2,    2.108, 2,    1.053, 2,    0.113, 2,    2.634, 2,   2157.9, 2,   2301.6, 2,    43.60, 2,  -999.00, 9, -999.000, 9, -999.000, -999.0000, 9, -999.0000,  -999.00, 9,  -999.00, -999.000, 9, -999.000,   -999.0, 9,   -999.0,  -999.00, 9, -999.0000, 9, -999.0000, 9, -999.0000, 9, -999.0000, 9, -999.0000, 9, -999.0000, 9, -999, 9, -999, 9, -999, 9, -999, 9, -999, 9, -999, 9, -999, 9,  -999.00, 9,  -999.00, 9,  -999.00, 9,  -999.00, 9,   3.1169,  -999.00, 9, 1835,   42.2102,  -51.4918
316N200309, A20, 9, 1, 6, 6, 2, 20030926, 1809, 42.2073, -51.4900, 3206,  2255.90,   2255.9,   3.1005,  34.9046, 2,  34.9052, 2,    278.0, 2,    279.3, 2,    12.28, 2,    16.77, 2,     0.00, 2,     1.11, 2,    2.386, 2,    1.202, 2,    0.129, 2,    2.878, 2,   2157.7, 2,   2299.0, 2,  -999.00, 9,  -999.00, 9, -999.000, 9, -999.000, -999.0000, 9, -999.0000,  -999.00, 9,  -999.00, -999.000, 9, -999.000,   -999.0, 9,   -999.0,  -999.00, 9, -999.0000, 9, -999.0000, 9, -999.0000, 9, -999.0000, 9, -999.0000, 9, -999.0000, 9, -999, 9, -999, 9, -999, 9, -999, 9, -999, 9, -999, 9, -999, 9,  -999.00, 9,  -999.00, 9,  -999.00, 9,  -999.00, 9,   2.9226,  -999.00, 9, 1831,   42.2097,  -51.4916
316N200309, A20, 9, 1, 5, 5, 2, 20030926, 1809, 42.2073, -51.4900, 3206,  2508.30,   2508.3,   2.9814,  34.9108, 2,  34.9124, 2,    276.4, 2,    276.9, 2,    13.11, 2,    16.72, 2,     0.00, 2,     1.11, 2,    2.146, 2,    1.055, 2,    0.110, 2,    2.656, 2,   2158.0, 2,   2302.3, 2,    44.40, 2,  -999.00, 9, -999.000, 9, -999.000, -999.0000, 9, -999.0000,  -999.00, 9,  -999.00, -999.000, 9, -999.000,   -999.0, 9,   -999.0,  -999.00, 9, -999.0000, 9, -999.0000, 9, -999.0000, 9, -999.0000, 9, -999.0000, 9, -999.0000, 9, -999, 9, -999, 9, -999, 9, -999, 9, -999, 9, -999, 9, -999, 9,  -999.00, 9,  -999.00, 9,  -999.00, 9,  -999.00, 9,   2.7811,  -999.00, 9, 1826,   42.2090,  -51.4913