BOTTLE,20220816CCHSIOAMB
EXPOCODE,SECT_ID,STNNBR,CASTNO,SAMPNO,BTLNBR,BTLNBR_FLAG_W,DATE,TIME,LATITUDE,LONGITUDE,DEPTH,CTDRAW,CTDPRS,CTDTMP,CTDSAL,CTDSAL_FLAG_W,SALNTY,SALNTY_FLAG_W,CTDOXY,CTDOXY_FLAG_W,OXYGEN,OXYGEN_FLAG_W,SILCAT,SILCAT_FLAG_W,NITRAT,NITRAT_FLAG_W,NITRIT,NITRIT_FLAG_W,PHSPHT,PHSPHT_FLAG_W,CFC-11,CFC-11_FLAG_W,CFC-12,CFC-12_FLAG_W,CFC113,CFC113_FLAG_W,CCL4,CCL4_FLAG_W,TCARBN,TCARBN_FLAG_W,ALKALI,ALKALI_FLAG_W,DOC,DOC_FLAG_W,TDN,TDN_FLAG_W,TRITUM,TRITUM_FLAG_W,TRITER,HELIUM,HELIUM_FLAG_W,HELIER,DELHE3,DELHE3_FLAG_W,DELHER,NEON,NEON_FLAG_W,NEONER,DELC14,DELC14_FLAG_W,C14ERR,DELC13,DELC13_FLAG_W,CDOM325,CDOM325_FLAG_W,CDOM340,CDOM340_FLAG_W,CDOM380,CDOM380_FLAG_W,CDOM412,CDOM412_FLAG_W,CDOMSL,CDOMSL_FLAG_W,CDOMSN,CDOMSN_FLAG_W,DCNS,DCNS_FLAG_W,ARABI,ARABI_FLAG_W,FUCO,FUCO_FLAG_W,GALA,GALA_FLAG_W,GLUC,GLUC_FLAG_W,MAN,MAN_FLAG_W,RHAM,RHAM_FLAG_W,BRDU,BRDU_FLAG_W,PEUK,PEUK_FLAG_W,PROC,PROC_FLAG_W,SYN,SYN_FLAG_W,THETA,BACT,BACT_FLAG_W,BTL_TIME,BTL_LAT,BTL_LON
,,,,,,,,,,,METERS,DBAR,DBAR,ITS-90,PSS-78,,PSS-78,,UMOL/KG,,UMOL/KG,,UMOL/KG,,UMOL/KG,,UMOL/KG,,UMOL/KG,,PMOL/KG,,PMOL/KG,,PMOL/KG,,PMOL/KG,,UMOL/KG,,UMOL/KG,,UMOL/KG,,UMOL/KG,,TU,,TU,NMOL/KG,,NMOL/KG,PERCNT,,PERCNT,NMOL/KG,,NMOL/KG,/MILLE,,/MILLE,/MILLE,,1/M,,1/M,,1/M,,1/M,,1/NM,,1/NM,,NMOL/KG,,NMOL/KG,,NMOL/KG,,NMOL/KG,,NMOL/KG,,NMOL/KG,,NMOL/KG,,PMOL/L/H,,E6/L,,E7/L,,E6/L,,DEG C,E8/L,,,,
316N200309, A20, 49, 1, 36, 36, 2, 20031011, 0623, 18.1993, -52.3352, 5214,     3.20,      3.2,  28.2848,  36.9534, 2,  36.9526, 2,    193.0, 2,    197.6, 2,     0.61, 2,     0.07, 2,     0.00, 2,     0.01, 2,    1.596, 2,    1.001, 2,    0.087, 2,    1.698, 2,   2044.8, 2,   -999.0, 1,  -999.00, 9,  -999.00, 9, -999.000, 9, -999.000, -999.0000, 9, -999.0000,  -999.00, 9,  -999.00, -999.000, 9, -999.000,     71.0, 2,      3.0,     1.66, 2,    0.0390, 2,    0.0230, 2,    0.0040, 2,    0.0040, 2,    0.0360, 2,    0.0340, 2, -999, 9, -999, 9, -999, 9, -999, 9, -999, 9, -999, 9, -999, 9,  -999.00, 9,  -999.00, 9,  -999.00, 9,  -999.00, 9,  28.2840,  -999.00, 9,  824,   18.2216,  -52.3406
316N200309, A20, 49, 1, 35, 35, 2, 20031011, 0623, 18.1993, -52.3352, 5214,    23.30,     23.3,  28.2937,  36.9550, 2,  36.9534, 2,    193.0, 2,    197.2, 2,     0.59, 2,     0.07, 2,     0.00, 2,     0.01, 2,    1.580, 2,    0.981, 2,    0.083, 2,    1.660, 2,   -999.0, 9,   -999.0, 9,  -999.00, 9,  -999.00, 9, -999.000, 9, -999.000, -999.0000, 9, -999.0000,  -999.00, 9,  -999.00, -999.000, 9, -999.000,   -999.0, 9,   -999.0,  -999.00, 9,    0.0400, 2,    0.0230, 2,    0.0040, 2,    0.0040, 2,    0.0350, 2,    0.0330, 2, -999, 9, -999, 9, -999, 9, -999, 9, -999, 9, -999, 9, -999, 9,  -999.00, 9,  -999.00, 9,  -999.00, 9,  -999.00, 9,  28.2881,  -999.00, 9,  823,   18.2213,  -52.3405
316N200309, A20, 49, 1, 34, 34, 2, 20031011, 0623, 18.1993, -52.3352, 5214,    49.50,     49.5,  28.2578,  36.9672, 2,  36.9681, 2,    193.5, 2,    198.4, 2,     0.57, 2,     0.01, 2,     0.00, 2,     0.01, 2,    1.601, 2,    0.988, 2,    0.084, 2,    1.627, 2,   -999.0, 9,   -999.0, 9,  -999.00, 9,  -999.00, 9, -999.000, 9, -999.000, -999.0000, 9, -999.0000,  -999.00, 9,  -999.00, -999.000, 9, -999.000,     68.2, 2,      3.0,     1.64, 2,    0.0450, 2,    0.0270, 2,    0.0060, 2,    0.0040, 2,    0.0360, 2,    0.0370, 2, -999, 9, -999, 9, -999, 9, -999, 9, -999, 9, -999, 9, -999, 9,  -999.00, 9,  -999.00, 9,  -999.00, 9,  -999.00, 9,  28.2460,  -999.00, 9,  822,   18.2211,  -52.3405
316N200309, A20, 49, 1, 33, 33, 2, 20031011, 0623, 18.1993, -52.3352, 5214,    75.20,     75.2,  25.7714,  37.1415, 2,  37.1362, 2,    208.2, 2,    211.0, 2,     0.44, 2,     0.01, 2,     0.00, 2,     0.01, 2,    1.810, 2,    1.131, 2,    0.090, 2,    1.077, 2,   -999.0, 9,   -999.0, 9,  -999.00, 9,  -999.00, 9, -999.000, 9, -999.000, -999.0000, 9, -999.0000,  -999.00, 9,  -999.00, -999.000, 9, -999.000,   -999.0, 9,   -999.0,  -999.00, 9,    0.1040, 2,    0.0680, 2,    0.0250, 2,    0.0180, 2,    0.0270, 2,    0.0280, 2, -999, 9, -999, 9, -999, 9, -999, 9, -999, 9, -999, 9, -999, 9,  -999.00, 9,  -999.00, 9,  -999.00, 9,  -999.00, 9,  25.7546,  -999.00, 9,  820,   18.2208,  -52.3405
316N200309, A20, 49, 1, 32, 32, 2, 20031011, 0623, 18.1993, -52.3352, 5214,   100.00,    100.0,  24.0253,  37.2085, 2,  37.2069, 2,    196.6, 2,    202.2, 2,     0.41, 2,     0.05, 2,     0.00, 2,     0.01, 2,    1.889, 2,    1.189, 2,    0.110, 2,    0.916, 2,   -999.0, 9,   -999.0, 9,  -999.00, 9,  -999.00, 9, -999.000, 9, -999.000, -999.0000, 9, -999.0000,  -999.00, 9,  -999.00, -999.000, 9, -999.000,     75.2, 2,      3.0,     1.42, 2,    0.1310, 2,    0.0900, 2,    0.0380, 2,    0.0260, 2,    0.0210, 2,    0.0230, 2, -999, 9, -999, 9, -999, 9, -999, 9, -999, 9, -999, 9, -999, 9,  -999.00, 9,  -999.00, 9,  -999.00, 9,  -999.00, 9,  24.0041,  -999.00, 9,  819,   18.2205,  -52.3405
316N200309, A20, 49, 1, 31, 31, 2, 20031011, 0623, 18.1993, -52.3352, 5214,   124.80,    124.8,  22.0441,  37.0222, 2,  37.0210, 2,    173.8, 2,    174.1, 2,     0.70, 2,     1.17, 2,     0.08, 2,     0.08, 2,    2.004, 2,    1.240, 2,    0.087, 2,    0.662, 2,   -999.0, 9,   -999.0, 9,  -999.00, 9,  -999.00, 9, -999.000, 9, -999.000, -999.0000, 9, -999.0000,  -999.00, 9,  -999.00, -999.000, 9, -999.000,     76.1, 2,      3.0,     0.93, 2,    0.1410, 2,    0.1010, 2,    0.0470, 2,    0.0340, 2,    0.0160, 2,    0.0190, 2, -999, 9, -999, 9, -999, 9, -999, 9, -999, 9, -999, 9, -999, 9,  -999.00, 9,  -999.00, 9,  -999.00, 9,  -999.00, 9,  22.0191,  -999.00, 9,  818,   18.2203,  -52.3405
316N200309, A20, 49, 1, 30, 30, 2, 20031011, 0623, 18.1993, -52.3352, 5214,   174.40,    174.4,  19.4752,  36.7415, 2,  36.7397, 2,    156.5, 2,    159.9, 2,     1.41, 2,     6.09, 2,     0.02, 2,     0.32, 2,    2.140, 2,    1.251, 2,    0.030, 2,    0.427, 2,   -999.0, 9,   -999.0, 9,  -999.00, 9,  -999.00, 9, -999.000, 9, -999.000, -999.0000, 9, -999.0000,  -999.00, 9,  -999.00, -999.000, 9, -999.000,     87.5, 2,      3.1,     0.85, 2, -999.0000, 9, -999.0000, 9, -999.0000, 9, -999.0000, 9, -999.0000, 9, -999.0000, 9, -999, 9, -999, 9, -999, 9, -999, 9, -999, 9, -999, 9, -999, 9,  -999.00, 9,  -999.00, 9,  -999.00, 9,  -999.00, 9,  19.4433,  -999.00, 9,  816,   18.2199,  -52.3404
316N200309, A20, 49, 1, 29, 29, 2, 20031011, 0623, 18.1993, -52.3352, 5214,   225.00,    225.0,  17.6480,  36.4601, 2,  36.4602, 2,    154.3, 2,    157.8, 2,     2.23, 2,     9.08, 2,     0.01, 2,     0.51, 2,    2.223, 2,    1.310, 2,    0.021, 2,    0.367, 2,   -999.0, 9,   -999.0, 9,  -999.00, 9,  -999.00, 9, -999.000, 9, -999.000, -999.0000, 9, -999.0000,  -999.00, 9,  -999.00, -999.000, 9, -999.000,     83.0, 2,      3.1,     0.78, 2, -999.0000, 9, -999.0000, 9, -999.0000, 9, -999.0000, 9, -999.0000, 9, -999.0000, 9, -999, 9, -999, 9, -999, 9, -999, 9, -999, 9, -999, 9, -999, 9,  -999.00, 9,  -999.00, 9,  -999.00, 9,  -999.00, 9,  17.6095,  -999.00, 9,  815,   18.2196,  -52.3404
316N200309, A20, 49, 1, 28, 28, 2, 20031011, 0623, 18.1993, -52.3352, 5214,   300.40,    300.4,  15.5364,  36.1152, 2,  36.1169, 2,    140.9, 2,    146.5, 2,     3.87, 2,    13.39, 2,     0.01, 2,     0.77, 2,    2.135, 2,    1.185, 2,    0.015, 2,    0.300, 2,   -999.0, 9,   -999.0, 9,  -999.00, 9,  -999.00, 9, -999.000, 9, -999.000, -999.0000, 9, -999.0000,  -999.00, 9,  -999.00, -999.000, 9, -999.000,     68.9, 2,      3.5,     0.70, 2, -999.0000, 9, -999.0000, 9, -999.0000, 9, -999.0000, 9, -999.0000, 9, -999.0000, 9, -999, 9, -999, 9, -999, 9, -999, 9, -999, 9, -999, 9, -999, 9,  -999.00, 9,  -999.00, 9,  -999.00, 9,  -999.00, 9,  15.4893,  -999.00, 9,  813,   18.2191,  -52.3404
316N200309, A20, 49, 1, 27, 27, 2, 20031011, 0623, 18.1993, -52.3352, 5214,   400.70,    400.7,  13.2139,  35.7501, 2,  35.7507, 2,    125.7, 2,    126.9, 2,     6.87, 2,    19.22, 2,     0.00, 2,     1.13, 2,    1.660, 6,    0.895, 6,    0.012, 6,    0.285, 6,   -999.0, 9,   -999.0, 9,  -999.00, 9,  -999.00, 9, -999.000, 9, -999.000, -999.0000, 9, -999.0000,  -999.00, 9,  -999.00, -999.000, 9, -999.000,     40.9, 2,      3.0,     0.68, 2, -999.0000, 9, -999.0000, 9, -999.0000, 9, -999.0000, 9, -999.0000, 9, -999.0000, 9, -999, 9, -999, 9, -999, 9, -999, 9, -999, 9, -999, 9, -999, 9,  -999.00, 9,  -999.00, 9,  -999.00, 9,  -999.00, 9,  13.1574,  -999.00, 9,  810,   18.2186,  -52.3404
316N200309, A20, 49, 1, 26, 26, 2, 20031011, 0623, 18.1993, -52.3352, 5214,   450.70,    450.7,  12.1783,  35.6153, 2,  35.6155, 2,    137.9, 2,    136.2, 2,     7.99, 2,    20.01, 2,     0.00, 2,     1.19, 2,    1.411, 2,    0.765, 2,    0.006, 2,    0.309, 2,   -999.0, 9,   -999.0, 9,  -999.00, 9,  -999.00, 9, -999.000, 9, -999.000, -999.0000, 9, -999.0000,  -999.00, 9,  -999.00, -999.000, 9, -999.000,   -999.0, 9,   -999.0,  -999.00, 9, -999.0000, 9, -999.0000, 9, -999.0000, 9, -999.0000, 9, -999.0000, 9, -999.0000, 9, -999, 9, -999, 9, -999, 9, -999, 9, -999, 9, -999, 9, -999, 9,  -999.00, 9,  -999.00, 9,  -999.00, 9,  -999.00, 9,  12.1179,  -999.00, 9,  808,   18.2182,  -52.3403
316N200309, A20, 49, 1, 25, 25, 2, 20031011, 0623, 18.1993, -52.3352, 5214,   500.80,    500.8,  11.2073,  35.4674, 2,  35.4693, 2,    130.9, 2,    130.1, 2,    10.07, 2,    22.47, 2,     0.00, 2,     1.36, 2,    1.080, 2,    0.569, 2,    0.009, 2,    0.267, 2,   -999.0, 9,   -999.0, 9,  -999.00, 9,  -999.00, 9, -999.000, 9, -999.000, -999.0000, 9, -999.0000,  -999.00, 9,  -999.00, -999.000, 9, -999.000,      8.5, 2,      2.8,     0.68, 2, -999.0000, 9, -999.0000, 9, -999.0000, 9, -999.0000, 9, -999.0000, 9, -999.0000, 9, -999, 9, -999, 9, -999, 9, -999, 9, -999, 9, -999, 9, -999, 9,  -999.00, 9,  -999.00, 9,  -999.00, 9,  -999.00, 9,  11.1436,  -999.00, 9,  807,   18.2178,  -52.3403
316N200309, A20, 49, 1, 24, 24, 2, 20031011, 0623, 18.1993, -52.3352, 5214,   651.00,    651.0,   8.7307,  35.0988, 2,  35.0976, 2,    122.3, 2,    123.0, 2,    16.40, 2,    28.03, 2,     0.00, 2,     1.78, 2,    0.442, 6,    0.232, 6,    0.012, 2,    0.190, 2,   -999.0, 9,   -999.0, 9,  -999.00, 9,  -999.00, 9, -999.000, 9, -999.000, -999.0000, 9, -999.0000,  -999.00, 9,  -999.00, -999.000, 9, -999.000,    -50.2, 2,      3.2,     0.70, 2, -999.0000, 9, -999.0000, 9, -999.0000, 9, -999.0000, 9, -999.0000, 9, -999.0000, 9, -999, 9, -999, 9, -999, 9, -999, 9, -999, 9, -999, 9, -999, 9,  -999.00, 9,  -999.00, 9,  -999.00, 9,  -999.00, 9,   8.6593,  -999.00, 9,  803,   18.2170,  -52.3402
316N200309, A20, 49, 1, 23, 23, 2, 20031011, 0623, 18.1993, -52.3352, 5214,   826.30,    826.3,   6.4627,  34.8408, 2,  34.8422, 2,    133.4, 2,    130.8, 2,    22.86, 2,    31.24, 2,     0.00, 2,     2.05, 2,    0.103, 2,    0.071, 2,    0.001, 2,    0.140, 2,   -999.0, 9,   -999.0, 9,  -999.00, 9,  -999.00, 9, -999.000, 9, -999.000, -999.0000, 9, -999.0000,  -999.00, 9,  -999.00, -999.000, 9, -999.000,    -88.5, 2,      3.0,     0.76, 2, -999.0000, 9, -999.0000, 9, -999.0000, 9, -999.0000, 9, -999.0000, 9, -999.0000, 9, -999, 9, -999, 9, -999, 9, -999, 9, -999, 9, -999, 9, -999, 9,  -999.00, 9,  -999.00, 9,  -999.00, 9,  -999.00, 9,   6.3854,  -999.00, 9,  759,   18.2162,  -52.3400
316N200309, A20, 49, 1, 22, 22, 2, 20031011, 0623, 18.1993, -52.3352, 5214,   977.00,    977.0,   5.6886,  34.8386, 2,  34.8377, 2,    150.1, 2,    149.3, 2,    24.09, 2,    29.98, 2,     0.00, 2,     1.99, 2,    0.078, 2,    0.040, 2,    0.002, 2,    0.170, 2,   -999.0, 9,   -999.0, 9,  -999.00, 9,  -999.00, 9, -999.000, 9, -999.000, -999.0000, 9, -999.0000,  -999.00, 9,  -999.00, -999.000, 9, -999.000,   -999.0, 9,   -999.0,  -999.00, 9, -999.0000, 9, -999.0000, 9, -999.0000, 9, -999.0000, 9, -999.0000, 9, -999.0000, 9, -999, 9, -999, 9, -999, 9, -999, 9, -999, 9, -999, 9, -999, 9,  -999.00, 9,  -999.00, 9,  -999.00, 9,  -999.00, 9,   5.6017,  -999.00, 9,  755,   18.2155,  -52.3400
316N200309, A20, 49, 1, 21, 21, 2, 20031011, 0623, 18.1993, -52.3352, 5214,  1125.90,   1125.9,   5.5054,  34.9407, 2,  34.9406, 2,    171.5, 2,    176.5, 2,    20.93, 2,    26.19, 2,     0.00, 2,     1.74, 2,    0.163, 2,    0.093, 2,    0.003, 2,    0.293, 2,   -999.0, 9,   -999.0, 9,  -999.00, 9,  -999.00, 9, -999.000, 9, -999.000, -999.0000, 9, -999.0000,  -999.00, 9,  -999.00, -999.000, 9, -999.000,   -999.0, 9,   -999.0,  -999.00, 9, -999.0000, 9, -999.0000, 9, -999.0000, 9, -999.0000, 9, -999.0000, 9, -999.0000, 9, -999, 9, -999, 9, -999, 9, -999, 9, -999, 9, -999, 9, -999, 9,  -999.00, 9,  -999.00, 9,  -999.00, 9,  -999.00, 9,   5.4055,  -999.00, 9,  752,   18.2148,  -52.3398
316N200309, A20, 49, 1, 20, 20, 2, 20031011, 0623, 18.1993, -52.3352, 5214,  1275.90,   1275.9,   5.1984,  34.9900, 2,  34.9894, 2,    196.8, 2,    198.8, 2,    18.61, 2,    23.62, 2,     0.00, 2,     1.56, 2,    0.228, 2,    0.125, 2,    0.006, 2,    0.415, 2,   -999.0, 9,   -999.0, 9,  -999.00, 9,  -999.00, 9, -999.000, 9, -999.000, -999.0000, 9, -999.0000,  -999.00, 9,  -999.00, -999.000, 9, -999.000,   -999.0, 9,   -999.0,  -999.00, 9, -999.0000, 9, -999.0000, 9, -999.0000, 9, -999.0000, 9, -999.0000, 9, -999.0000, 9, -999, 9, -999, 9, -999, 9, -999, 9, -999, 9, -999, 9, -999, 9,  -999.00, 9,  -999.00, 9,  -999.00, 9,  -999.00, 9,   5.0867,  -999.00, 9,  749,   18.2141,  -52.3398
316N200309, A20, 49, 1, 19, 19, 2, 20031011, 0623, 18.1993, -52.3352, 5214,  1401.00,   1401.0,   4.7937,  35.0104, 2,  35.0104, 2,    218.0, 2,    220.6, 2,    16.82, 2,    21.48, 2,     0.00, 2,     1.42, 2,    0.283, 2,    0.151, 2,    0.032, 4,    0.585, 2,   -999.0, 9,   -999.0, 9,  -999.00, 9,  -999.00, 9, -999.000, 9, -999.000, -999.0000, 9, -999.0000,  -999.00, 9,  -999.00, -999.000, 9, -999.000,   -999.0, 9,   -999.0,  -999.00, 9, -999.0000, 9, -999.0000, 9, -999.0000, 9, -999.0000, 9, -999.0000, 9, -999.0000, 9, -999, 9, -999, 9, -999, 9, -999, 9, -999, 9, -999, 9, -999, 9,  -999.00, 9,  -999.00, 9,  -999.00, 9,  -999.00, 9,   4.6740,  -999.00, 9,  746,   18.2135,  -52.3397
316N200309, A20, 49, 1, 18, 18, 2, 20031011, 0623, 18.1993, -52.3352, 5214,  1501.20,   1501.2,   4.5454,  35.0136, 2,  35.0134, 2,    231.3, 2,    233.1, 2,    15.96, 2,    20.38, 2,     0.00, 2,     1.35, 2,    0.302, 2,    0.166, 2,    0.008, 2,    0.667, 2,   -999.0, 9,   -999.0, 9,  -999.00, 9,  -999.00, 9, -999.000, 9, -999.000, -999.0000, 9, -999.0000,  -999.00, 9,  -999.00, -999.000, 9, -999.000,   -999.0, 9,   -999.0,  -999.00, 9, -999.0000, 9, -999.0000, 9, -999.0000, 9, -999.0000, 9, -999.0000, 9, -999.0000, 9, -999, 9, -999, 9, -999, 9, -999, 9, -999, 9, -999, 9, -999, 9,  -999.00, 9,  -999.00, 9,  -999.00, 9,  -999.00, 9,   4.4189,  -999.00, 9,  743,   18.2130,  -52.3397
316N200309, A20, 49, 1, 17, 17, 2, 20031011, 0623, 18.1993, -52.3352, 5214,  1626.40,   1626.4,   4.2267,  35.0085, 2,  35.0079, 2,    240.6, 2,    240.9, 2,    16.57, 2,    19.90, 2,     0.00, 2,     1.32, 2,    0.189, 2,    0.102, 2,    0.004, 2,    0.541, 2,   -999.0, 9,   -999.0, 9,  -999.00, 9,  -999.00, 9, -999.000, 9, -999.000, -999.0000, 9, -999.0000,  -999.00, 9,  -999.00, -999.000, 9, -999.000,   -999.0, 9,   -999.0,  -999.00, 9, -999.0000, 9, -999.0000, 9, -999.0000, 9, -999.0000, 9, -999.0000, 9, -999.0000, 9, -999, 9, -999, 9, -999, 9, -999, 9, -999, 9, -999, 9, -999, 9,  -999.00, 9,  -999.00, 9,  -999.00, 9,  -999.00, 9,   4.0920,  -999.00, 9,  740,   18.2125,  -52.3396
316N200309, A20, 49, 1, 16, 16, 2, 20031011, 0623, 18.1993, -52.3352, 5214,  1776.90,   1776.9,   3.9130,  34.9995, 2,  34.9984, 2,    246.8, 2,    247.9, 2,    17.60, 2,    19.38, 2,     0.00, 2,     1.29, 2,    0.140, 2,    0.074, 2,    0.003, 2,    0.483, 2,   -999.0, 9,   -999.0, 9,  -999.00, 9,  -999.00, 9, -999.000, 9, -999.000, -999.0000, 9, -999.0000,  -999.00, 9,  -999.00, -999.000, 9, -999.000,   -999.0, 9,   -999.0,  -999.00, 9, -999.0000, 9, -999.0000, 9, -999.0000, 9, -999.0000, 9, -999.0000, 9, -999.0000, 9, -999, 9, -999, 9, -999, 9, -999, 9, -999, 9, -999, 9, -999, 9,  -999.00, 9,  -999.00, 9,  -999.00, 9,  -999.00, 9,   3.7681,  -999.00, 9,  736,   18.2120,  -52.3394
316N200309, A20, 49, 1, 15, 15, 2, 20031011, 0623, 18.1993, -52.3352, 5214,  1925.50,   1925.5,   3.7160,  34.9933, 2,  34.9919, 2,    249.8, 2,    248.6, 2,    19.66, 2,    19.60, 2,     0.00, 2,     1.30, 2,    0.069, 2,    0.040, 2,    0.001, 2,    0.332, 2,   -999.0, 9,   -999.0, 9,  -999.00, 9,  -999.00, 9, -999.000, 9, -999.000, -999.0000, 9, -999.0000,  -999.00, 9,  -999.00, -999.000, 9, -999.000,   -999.0, 9,   -999.0,  -999.00, 9, -999.0000, 9, -999.0000, 9, -999.0000, 9, -999.0000, 9, -999.0000, 9, -999.0000, 9, -999, 9, -999, 9, -999, 9, -999, 9, -999, 9, -999, 9, -999, 9,  -999.00, 9,  -999.00, 9,  -999.00, 9,  -999.00, 9,   3.5597,  -999.00, 9,  733,   18.2113,  -52.3393
316N200309, A20, 49, 1, 14, 14, 2, 20031011, 0623, 18.1993, -52.3352, 5214,  2125.80,   2125.8,   3.3803,  34.9761, 2,  34.9748, 2,    250.6, 2,    249.3, 2,    23.50, 2,    19.84, 2,     0.00, 2,     1.33, 2,    0.032, 2,    0.020, 2,    0.004, 2,    0.232, 2,   -999.0, 9,   -999.0, 9,  -999.00, 9,  -999.00, 9, -999.000, 9, -999.000, -999.0000, 9, -999.0000,  -999.00, 9,  -999.00, -999.000, 9, -999.000,   -999.0, 9,   -999.0,  -999.00, 9, -999.0000, 9, -999.0000, 9, -999.0000, 9, -999.0000, 9, -999.0000, 9, -999.0000, 9, -999, 9, -999, 9, -999, 9, -999, 9, -999, 9, -999, 9, -999, 9,  -999.00, 9,  -999.00, 9,  -999.00, 9,  -999.00, 9,   3.2100,  -999.00, 9,  728,   18.2105,  -52.3391
316N200309, A20, 49, 1, 13, 13, 2, 20031011, 0623, 18.1993, -52.3352, 5214,  2376.30,   2376.3,   3.1039,  34.9583, 2,  34.9583, 2,    252.1, 2,    251.2, 2,    26.72, 2,    19.91, 2,     0.00, 2,     1.34, 2,    0.028, 2,    0.027, 2,    0.001, 2,    0.227, 2,   -999.0, 9,   -999.0, 9,  -999.00, 9,  -999.00, 9, -999.000, 9, -999.000, -999.0000, 9, -999.0000,  -999.00, 9,  -999.00, -999.000, 9, -999.000,   -999.0, 9,   -999.0,  -999.00, 9, -999.0000, 9, -999.0000, 9, -999.0000, 9, -999.0000, 9, -999.0000, 9, -999.0000, 9, -999, 9, -999, 9, -999, 9, -999, 9, -999, 9, -999, 9, -999, 9,  -999.00, 9,  -999.00, 9,  -999.00, 9,  -999.00, 9,   2.9142,  -999.00, 9,  723,   18.2096,  -52.3388
316N200309, A20, 49, 1, 12, 12, 2, 20031011, 0623, 18.1993, -52.3352, 5214,  2625.50,   2625.5,   2.9264,  34.9451, 2,  34.9433, 2,    253.2, 2,    252.2, 2,    29.10, 2,    20.10, 2,     0.00, 2,     1.35, 2,    0.029, 2,    0.023, 2,    0.006, 2,    0.226, 2,   -999.0, 9,   -999.0, 9,  -999.00, 9,  -999.00, 9, -999.000, 9, -999.000, -999.0000, 9, -999.0000,  -999.00, 9,  -999.00, -999.000, 9, -999.000,   -999.0, 9,   -999.0,  -999.00, 9, -999.0000, 9, -999.0000, 9, -999.0000, 9, -999.0000, 9, -999.0000, 9, -999.0000, 9, -999, 9, -999, 9, -999, 9, -999, 9, -999, 9, -999, 9, -999, 9,  -999.00, 9,  -999.00, 9,  -999.00, 9,  -999.00, 9,   2.7154,  -999.00, 9,  718,   18.2088,  -52.3385
316N200309, A20, 49, 1, 11, 11, 2, 20031011, 0623, 18.1993, -52.3352, 5214,  2873.80,   2873.8,   2.7620,  34.9320, 2,  34.9339, 2,    254.1, 2,    252.9, 2,    31.38, 2,    20.14, 2,     0.00, 2,     1.36, 2,    0.041, 2,    0.025, 2,    0.000, 2,    0.225, 2,   -999.0, 9,   -999.0, 9,  -999.00, 9,  -999.00, 9, -999.000, 9, -999.000, -999.0000, 9, -999.0000,  -999.00, 9,  -999.00, -999.000, 9, -999.000,   -999.0, 9,   -999.0,  -999.00, 9, -999.0000, 9, -999.0000, 9, -999.0000, 9, -999.0000, 9, -999.0000, 9, -999.0000, 9, -999, 9, -999, 9, -999, 9, -999, 9, -999, 9, -999, 9, -999, 9,  -999.00, 9,  -999.00, 9,  -999.00, 9,  -999.00, 9,   2.5293,  -999.00, 9,  713,   18.2079,  -52.3383