BOTTLE,20220816CCHSIOAMB
EXPOCODE,SECT_ID,STNNBR,CASTNO,SAMPNO,BTLNBR,BTLNBR_FLAG_W,DATE,TIME,LATITUDE,LONGITUDE,DEPTH,CTDRAW,CTDPRS,CTDTMP,CTDSAL,CTDSAL_FLAG_W,SALNTY,SALNTY_FLAG_W,CTDOXY,CTDOXY_FLAG_W,OXYGEN,OXYGEN_FLAG_W,SILCAT,SILCAT_FLAG_W,NITRAT,NITRAT_FLAG_W,NITRIT,NITRIT_FLAG_W,PHSPHT,PHSPHT_FLAG_W,CFC-11,CFC-11_FLAG_W,CFC-12,CFC-12_FLAG_W,CFC113,CFC113_FLAG_W,CCL4,CCL4_FLAG_W,TCARBN,TCARBN_FLAG_W,ALKALI,ALKALI_FLAG_W,DOC,DOC_FLAG_W,TDN,TDN_FLAG_W,TRITUM,TRITUM_FLAG_W,TRITER,HELIUM,HELIUM_FLAG_W,HELIER,DELHE3,DELHE3_FLAG_W,DELHER,NEON,NEON_FLAG_W,NEONER,DELC14,DELC14_FLAG_W,C14ERR,DELC13,DELC13_FLAG_W,CDOM325,CDOM325_FLAG_W,CDOM340,CDOM340_FLAG_W,CDOM380,CDOM380_FLAG_W,CDOM412,CDOM412_FLAG_W,CDOMSL,CDOMSL_FLAG_W,CDOMSN,CDOMSN_FLAG_W,DCNS,DCNS_FLAG_W,ARABI,ARABI_FLAG_W,FUCO,FUCO_FLAG_W,GALA,GALA_FLAG_W,GLUC,GLUC_FLAG_W,MAN,MAN_FLAG_W,RHAM,RHAM_FLAG_W,BRDU,BRDU_FLAG_W,PEUK,PEUK_FLAG_W,PROC,PROC_FLAG_W,SYN,SYN_FLAG_W,THETA,BACT,BACT_FLAG_W,BTL_TIME,BTL_LAT,BTL_LON
,,,,,,,,,,,METERS,DBAR,DBAR,ITS-90,PSS-78,,PSS-78,,UMOL/KG,,UMOL/KG,,UMOL/KG,,UMOL/KG,,UMOL/KG,,UMOL/KG,,PMOL/KG,,PMOL/KG,,PMOL/KG,,PMOL/KG,,UMOL/KG,,UMOL/KG,,UMOL/KG,,UMOL/KG,,TU,,TU,NMOL/KG,,NMOL/KG,PERCNT,,PERCNT,NMOL/KG,,NMOL/KG,/MILLE,,/MILLE,/MILLE,,1/M,,1/M,,1/M,,1/M,,1/NM,,1/NM,,NMOL/KG,,NMOL/KG,,NMOL/KG,,NMOL/KG,,NMOL/KG,,NMOL/KG,,NMOL/KG,,PMOL/L/H,,E6/L,,E7/L,,E6/L,,DEG C,E8/L,,,,
316N200309, A20, 41, 1, 10, 10, 2, 20031008, 1917, 23.4993, -52.3750, 5445,  3374.30,   3374.3,   2.5421,  34.9147, 2,  34.9146, 2,    251.6, 2,    252.5, 2,    36.94, 2,    20.68, 2,     0.00, 2,     1.40, 2,    0.015, 2,    0.017, 2,   -0.002, 2,    0.149, 2,   2180.7, 2,   2331.6, 2,  -999.00, 9,  -999.00, 9, -999.000, 9, -999.000, -999.0000, 9, -999.0000,  -999.00, 9,  -999.00, -999.000, 9, -999.000,   -999.0, 9,   -999.0,  -999.00, 9, -999.0000, 9, -999.0000, 9, -999.0000, 9, -999.0000, 9, -999.0000, 9, -999.0000, 9, -999, 9, -999, 9, -999, 9, -999, 9, -999, 9, -999, 9, -999, 9,  -999.00, 9,  -999.00, 9,  -999.00, 9,  -999.00, 9,   2.2621,  -999.00, 9, 2006,   23.4944,  -52.3852
316N200309, A20, 41, 1, 9, 9, 2, 20031008, 1917, 23.4993, -52.3750, 5445,  3625.40,   3625.4,   2.4032,  34.9018, 2,  34.9012, 2,    252.7, 2,    253.0, 2,    39.65, 2,    20.87, 2,     0.00, 2,     1.42, 2,    0.017, 6,    0.016, 6,    0.003, 2,    0.166, 2,   2183.6, 2,   2334.2, 2,  -999.00, 9,  -999.00, 9, -999.000, 9, -999.000, -999.0000, 9, -999.0000,  -999.00, 9,  -999.00, -999.000, 9, -999.000,   -999.0, 9,   -999.0,  -999.00, 9, -999.0000, 9, -999.0000, 9, -999.0000, 9, -999.0000, 9, -999.0000, 9, -999.0000, 9, -999, 9, -999, 9, -999, 9, -999, 9, -999, 9, -999, 9, -999, 9,  -999.00, 9,  -999.00, 9,  -999.00, 9,  -999.00, 9,   2.0996,  -999.00, 9, 2000,   23.4949,  -52.3840
316N200309, A20, 41, 1, 8, 8, 2, 20031008, 1917, 23.4993, -52.3750, 5445,  3875.80,   3875.8,   2.2934,  34.8909, 2,  34.8902, 2,    253.3, 2,    253.6, 2,    41.93, 2,    21.10, 2,     0.00, 2,     1.43, 2,    0.017, 2,    0.019, 2,    0.001, 2,    0.155, 2,   2185.0, 2,   2333.9, 2,  -999.00, 9,  -999.00, 9, -999.000, 9, -999.000, -999.0000, 9, -999.0000,  -999.00, 9,  -999.00, -999.000, 9, -999.000,   -999.0, 9,   -999.0,  -999.00, 9, -999.0000, 9, -999.0000, 9, -999.0000, 9, -999.0000, 9, -999.0000, 9, -999.0000, 9, -999, 9, -999, 9, -999, 9, -999, 9, -999, 9, -999, 9, -999, 9,  -999.00, 9,  -999.00, 9,  -999.00, 9,  -999.00, 9,   1.9650,  -999.00, 9, 1955,   23.4954,  -52.3829
316N200309, A20, 41, 1, 7, 7, 2, 20031008, 1917, 23.4993, -52.3750, 5445,  4125.10,   4125.1,   2.2090,  34.8809, 2,  34.8798, 2,    253.0, 2,    253.4, 2,    44.53, 2,    21.34, 2,     0.00, 2,     1.46, 2,    0.019, 2,    0.014, 2,    0.004, 2,    0.174, 2,   2187.8, 2,   2336.3, 2,  -999.00, 9,  -999.00, 9, -999.000, 9, -999.000, -999.0000, 9, -999.0000,  -999.00, 9,  -999.00, -999.000, 9, -999.000,   -999.0, 9,   -999.0,  -999.00, 9, -999.0000, 9, -999.0000, 9, -999.0000, 9, -999.0000, 9, -999.0000, 9, -999.0000, 9, -999, 9, -999, 9, -999, 9, -999, 9, -999, 9, -999, 9, -999, 9,  -999.00, 9,  -999.00, 9,  -999.00, 9,  -999.00, 9,   1.8547,  -999.00, 9, 1950,   23.4959,  -52.3818
316N200309, A20, 41, 1, 6, 6, 2, 20031008, 1917, 23.4993, -52.3750, 5445,  4374.70,   4374.7,   2.1299,  34.8705, 2,  34.8700, 2,    251.9, 2,    252.6, 2,    47.88, 2,    21.76, 2,     0.00, 2,     1.49, 2,    0.022, 2,    0.016, 2,   -0.003, 2,    0.162, 2,   2191.6, 2,   2337.6, 2,  -999.00, 9,  -999.00, 9, -999.000, 9, -999.000, -999.0000, 9, -999.0000,  -999.00, 9,  -999.00, -999.000, 9, -999.000,   -999.0, 9,   -999.0,  -999.00, 9, -999.0000, 9, -999.0000, 9, -999.0000, 9, -999.0000, 9, -999.0000, 9, -999.0000, 9, -999, 9, -999, 9, -999, 9, -999, 9, -999, 9, -999, 9, -999, 9,  -999.00, 9,  -999.00, 9,  -999.00, 9,  -999.00, 9,   1.7490,  -999.00, 9, 1944,   23.4965,  -52.3806
316N200309, A20, 41, 1, 5, 5, 2, 20031008, 1917, 23.4993, -52.3750, 5445,  4623.40,   4623.4,   2.1093,  34.8652, 2,  34.8648, 2,    250.9, 2,    251.0, 2,    49.85, 2,    21.99, 2,     0.00, 2,     1.51, 2,    0.024, 6,    0.014, 6,   -0.001, 6,    0.196, 6,   2193.6, 2,   2339.0, 2,  -999.00, 9,  -999.00, 9, -999.000, 9, -999.000, -999.0000, 9, -999.0000,  -999.00, 9,  -999.00, -999.000, 9, -999.000,   -999.0, 9,   -999.0,  -999.00, 9, -999.0000, 9, -999.0000, 9, -999.0000, 9, -999.0000, 9, -999.0000, 9, -999.0000, 9, -999, 9, -999, 9, -999, 9, -999, 9, -999, 9, -999, 9, -999, 9,  -999.00, 9,  -999.00, 9,  -999.00, 9,  -999.00, 9,   1.6995,  -999.00, 9, 1938,   23.4971,  -52.3794
316N200309, A20, 41, 1, 4, 4, 2, 20031008, 1917, 23.4993, -52.3750, 5445,  4873.20,   4873.2,   2.1027,  34.8612, 2,  34.8619, 2,    250.1, 2,    250.7, 2,    51.21, 2,    22.18, 2,     0.00, 2,     1.52, 2,    0.027, 2,    0.021, 2,    0.001, 2,    0.188, 2,   2194.9, 2,   2340.3, 2,  -999.00, 9,  -999.00, 9, -999.000, 9, -999.000, -999.0000, 9, -999.0000,  -999.00, 9,  -999.00, -999.000, 9, -999.000,   -999.0, 9,   -999.0,  -999.00, 9, -999.0000, 9, -999.0000, 9, -999.0000, 9, -999.0000, 9, -999.0000, 9, -999.0000, 9, -999, 9, -999, 9, -999, 9, -999, 9, -999, 9, -999, 9, -999, 9,  -999.00, 9,  -999.00, 9,  -999.00, 9,  -999.00, 9,   1.6626,  -999.00, 9, 1933,   23.4978,  -52.3782
316N200309, A20, 41, 1, 3, 3, 2, 20031008, 1917, 23.4993, -52.3750, 5445,  5121.90,   5121.9,   2.0840,  34.8556, 2,  34.8552, 2,    250.4, 2,    249.8, 2,    53.08, 2,    22.28, 2,     0.00, 2,     1.53, 2,    0.030, 2,    0.026, 2,    0.000, 2,    0.206, 2,   2196.8, 2,   2342.1, 2,  -999.00, 9,  -999.00, 9, -999.000, 9, -999.000, -999.0000, 9, -999.0000,  -999.00, 9,  -999.00, -999.000, 9, -999.000,   -999.0, 9,   -999.0,  -999.00, 9, -999.0000, 9, -999.0000, 9, -999.0000, 9, -999.0000, 9, -999.0000, 9, -999.0000, 9, -999, 9, -999, 9, -999, 9, -999, 9, -999, 9, -999, 9, -999, 9,  -999.00, 9,  -999.00, 9,  -999.00, 9,  -999.00, 9,   1.6135,  -999.00, 9, 1927,   23.4984,  -52.3770
316N200309, A20, 41, 1, 2, 2, 2, 20031008, 1917, 23.4993, -52.3750, 5445,  5299.60,   5299.6,   2.0871,  34.8532, 2,  34.8530, 2,    249.9, 2,    249.5, 2,    53.80, 2,    22.51, 2,     0.00, 2,     1.53, 2,    0.035, 2,    0.022, 2,    0.001, 2,    0.222, 2,   2198.3, 2,   2341.3, 2,  -999.00, 9,  -999.00, 9, -999.000, 9, -999.000, -999.0000, 9, -999.0000,  -999.00, 9,  -999.00, -999.000, 9, -999.000,   -999.0, 9,   -999.0,  -999.00, 9, -999.0000, 9, -999.0000, 9, -999.0000, 9, -999.0000, 9, -999.0000, 9, -999.0000, 9, -999, 9, -999, 9, -999, 9, -999, 9, -999, 9, -999, 9, -999, 9,  -999.00, 9,  -999.00, 9,  -999.00, 9,  -999.00, 9,   1.5939,  -999.00, 9, 1923,   23.4989,  -52.3761
316N200309, A20, 41, 1, 1, 1, 3, 20031008, 1917, 23.4993, -52.3750, 5445,  5512.70,   5512.7,   2.1102,  34.8523, 2,  34.8757, 4,    249.6, 2,    247.4, 4,    51.16, 4,    22.27, 4,     0.00, 4,     1.52, 4,    0.070, 2,    0.047, 2,    0.005, 2,    0.249, 2,   2194.7, 3,   2340.4, 2,  -999.00, 9,  -999.00, 9, -999.000, 9, -999.000, -999.0000, 9, -999.0000,  -999.00, 9,  -999.00, -999.000, 9, -999.000,   -999.0, 9,   -999.0,  -999.00, 9, -999.0000, 9, -999.0000, 9, -999.0000, 9, -999.0000, 9, -999.0000, 9, -999.0000, 9, -999, 9, -999, 9, -999, 9, -999, 9, -999, 9, -999, 9, -999, 9,  -999.00, 9,  -999.00, 9,  -999.00, 9,  -999.00, 9,   1.5885,  -999.00, 9, 1918,   23.4993,  -52.3751