BOTTLE,20220816CCHSIOAMB
EXPOCODE,SECT_ID,STNNBR,CASTNO,SAMPNO,BTLNBR,BTLNBR_FLAG_W,DATE,TIME,LATITUDE,LONGITUDE,DEPTH,CTDRAW,CTDPRS,CTDTMP,CTDSAL,CTDSAL_FLAG_W,SALNTY,SALNTY_FLAG_W,CTDOXY,CTDOXY_FLAG_W,OXYGEN,OXYGEN_FLAG_W,SILCAT,SILCAT_FLAG_W,NITRAT,NITRAT_FLAG_W,NITRIT,NITRIT_FLAG_W,PHSPHT,PHSPHT_FLAG_W,CFC-11,CFC-11_FLAG_W,CFC-12,CFC-12_FLAG_W,CFC113,CFC113_FLAG_W,CCL4,CCL4_FLAG_W,TCARBN,TCARBN_FLAG_W,ALKALI,ALKALI_FLAG_W,DOC,DOC_FLAG_W,TDN,TDN_FLAG_W,TRITUM,TRITUM_FLAG_W,TRITER,HELIUM,HELIUM_FLAG_W,HELIER,DELHE3,DELHE3_FLAG_W,DELHER,NEON,NEON_FLAG_W,NEONER,DELC14,DELC14_FLAG_W,C14ERR,DELC13,DELC13_FLAG_W,CDOM325,CDOM325_FLAG_W,CDOM340,CDOM340_FLAG_W,CDOM380,CDOM380_FLAG_W,CDOM412,CDOM412_FLAG_W,CDOMSL,CDOMSL_FLAG_W,CDOMSN,CDOMSN_FLAG_W,DCNS,DCNS_FLAG_W,ARABI,ARABI_FLAG_W,FUCO,FUCO_FLAG_W,GALA,GALA_FLAG_W,GLUC,GLUC_FLAG_W,MAN,MAN_FLAG_W,RHAM,RHAM_FLAG_W,BRDU,BRDU_FLAG_W,PEUK,PEUK_FLAG_W,PROC,PROC_FLAG_W,SYN,SYN_FLAG_W,THETA,BACT,BACT_FLAG_W,BTL_TIME,BTL_LAT,BTL_LON
,,,,,,,,,,,METERS,DBAR,DBAR,ITS-90,PSS-78,,PSS-78,,UMOL/KG,,UMOL/KG,,UMOL/KG,,UMOL/KG,,UMOL/KG,,UMOL/KG,,PMOL/KG,,PMOL/KG,,PMOL/KG,,PMOL/KG,,UMOL/KG,,UMOL/KG,,UMOL/KG,,UMOL/KG,,TU,,TU,NMOL/KG,,NMOL/KG,PERCNT,,PERCNT,NMOL/KG,,NMOL/KG,/MILLE,,/MILLE,/MILLE,,1/M,,1/M,,1/M,,1/M,,1/NM,,1/NM,,NMOL/KG,,NMOL/KG,,NMOL/KG,,NMOL/KG,,NMOL/KG,,NMOL/KG,,NMOL/KG,,PMOL/L/H,,E6/L,,E7/L,,E6/L,,DEG C,E8/L,,,,
316N200309, A20, 47, 1, 36, 36, 2, 20031010, 1522, 19.5177, -52.3433, 5156,     4.40,      4.4,  28.3751,  36.8863, 2,  36.8883, 2,    192.9, 2,    197.8, 2,     0.48, 2,     0.17, 2,     0.00, 2,     0.03, 2,    1.603, 2,    0.972, 2,    0.097, 2,    1.671, 2,   2043.9, 2,   2413.4, 2,  -999.00, 9,  -999.00, 9, -999.000, 9, -999.000, -999.0000, 9, -999.0000,  -999.00, 9,  -999.00, -999.000, 9, -999.000,   -999.0, 9,   -999.0,  -999.00, 9,    0.0480, 2,    0.0310, 2,    0.0090, 2,    0.0060, 2,    0.0310, 2,    0.0310, 2, -999, 9, -999, 9, -999, 9, -999, 9, -999, 9, -999, 9, -999, 9,  -999.00, 9,  -999.00, 9,  -999.00, 9,  -999.00, 9,  28.3740,  -999.00, 9, 1730,   19.5365,  -52.3323
316N200309, A20, 47, 1, 35, 35, 2, 20031010, 1522, 19.5177, -52.3433, 5156,    24.70,     24.7,  28.1762,  36.8836, 2,  36.8849, 2,    192.4, 2,    197.4, 2,     0.46, 2,     0.12, 2,     0.00, 2,     0.02, 2,    1.584, 2,    1.001, 2,    0.096, 2,    1.722, 2,   2043.4, 2,   2412.0, 2,  -999.00, 9,  -999.00, 9, -999.000, 9, -999.000, -999.0000, 9, -999.0000,  -999.00, 9,  -999.00, -999.000, 9, -999.000,   -999.0, 9,   -999.0,  -999.00, 9,    0.0450, 2,    0.0280, 2,    0.0080, 2,    0.0060, 2,    0.0320, 2,    0.0320, 2, -999, 9, -999, 9, -999, 9, -999, 9, -999, 9, -999, 9, -999, 9,  -999.00, 9,  -999.00, 9,  -999.00, 9,  -999.00, 9,  28.1703,  -999.00, 9, 1729,   19.5363,  -52.3325
316N200309, A20, 47, 1, 34, 34, 2, 20031010, 1522, 19.5177, -52.3433, 5156,    49.90,     49.9,  27.8521,  36.8822, 2,  36.8822, 2,    194.4, 2,    533.2, 4,     0.45, 2,     0.07, 2,     0.00, 2,     0.02, 2,    1.630, 2,    1.005, 2,    0.099, 2,    1.530, 2,   -999.0, 9,   -999.0, 9,  -999.00, 9,  -999.00, 9, -999.000, 9, -999.000, -999.0000, 9, -999.0000,  -999.00, 9,  -999.00, -999.000, 9, -999.000,   -999.0, 9,   -999.0,  -999.00, 9,    0.0630, 2,    0.0410, 2,    0.0150, 2,    0.0100, 2,    0.0280, 2,    0.0290, 2, -999, 9, -999, 9, -999, 9, -999, 9, -999, 9, -999, 9, -999, 9,  -999.00, 9,  -999.00, 9,  -999.00, 9,  -999.00, 9,  27.8403,  -999.00, 9, 1727,   19.5361,  -52.3328
316N200309, A20, 47, 1, 33, 33, 2, 20031010, 1522, 19.5177, -52.3433, 5156,    74.40,     74.4,  26.6691,  36.9900, 2,  36.9898, 2,    201.9, 2,    207.9, 2,     0.32, 2,     0.06, 2,     0.00, 2,     0.02, 2,    1.744, 2,    1.065, 2,    0.094, 2,    1.241, 2,   2052.3, 2,   2418.4, 2,  -999.00, 9,  -999.00, 9, -999.000, 9, -999.000, -999.0000, 9, -999.0000,  -999.00, 9,  -999.00, -999.000, 9, -999.000,   -999.0, 9,   -999.0,  -999.00, 9,    0.0930, 2,    0.0620, 2,    0.0250, 2,    0.0170, 2,    0.0250, 2,    0.0250, 2, -999, 9, -999, 9, -999, 9, -999, 9, -999, 9, -999, 9, -999, 9,  -999.00, 9,  -999.00, 9,  -999.00, 9,  -999.00, 9,  26.6521,  -999.00, 9, 1726,   19.5357,  -52.3331
316N200309, A20, 47, 1, 32, 32, 2, 20031010, 1522, 19.5177, -52.3433, 5156,    99.20,     99.2,  25.8687,  37.1294, 2,  37.1203, 2,    203.0, 2,    208.0, 2,     0.31, 2,     0.06, 2,     0.00, 2,     0.02, 2,    1.786, 2,    1.110, 2,    0.104, 2,    1.122, 2,   -999.0, 9,   -999.0, 9,  -999.00, 9,  -999.00, 9, -999.000, 9, -999.000, -999.0000, 9, -999.0000,  -999.00, 9,  -999.00, -999.000, 9, -999.000,   -999.0, 9,   -999.0,  -999.00, 9,    0.1360, 2,    0.0950, 2,    0.0430, 2,    0.0300, 2,    0.0180, 2,    0.0200, 2, -999, 9, -999, 9, -999, 9, -999, 9, -999, 9, -999, 9, -999, 9,  -999.00, 9,  -999.00, 9,  -999.00, 9,  -999.00, 9,  25.8465,  -999.00, 9, 1724,   19.5355,  -52.3333
316N200309, A20, 47, 1, 31, 31, 2, 20031010, 1522, 19.5177, -52.3433, 5156,   124.90,    124.9,  24.6284,  37.2433, 2,  37.2411, 2,    199.4, 2,    202.1, 2,     0.29, 2,     0.05, 2,     0.01, 2,     0.02, 2,    1.857, 2,    1.148, 2,    0.115, 2,    0.947, 2,   2083.5, 2,   2430.7, 2,  -999.00, 9,  -999.00, 9, -999.000, 9, -999.000, -999.0000, 9, -999.0000,  -999.00, 9,  -999.00, -999.000, 9, -999.000,   -999.0, 9,   -999.0,  -999.00, 9,    0.1290, 2,    0.0900, 2,    0.0390, 2,    0.0260, 2,    0.0200, 2,    0.0220, 2, -999, 9, -999, 9, -999, 9, -999, 9, -999, 9, -999, 9, -999, 9,  -999.00, 9,  -999.00, 9,  -999.00, 9,  -999.00, 9,  24.6014,  -999.00, 9, 1723,   19.5352,  -52.3336
316N200309, A20, 47, 1, 30, 30, 2, 20031010, 1522, 19.5177, -52.3433, 5156,   149.90,    149.9,  23.7690,  37.3007, 2,  37.2994, 2,    193.4, 2,    195.9, 2,     0.28, 2,     0.16, 2,     0.13, 2,     0.03, 2,    1.884, 2,    1.155, 2,    0.120, 2,    0.890, 2,   -999.0, 9,   -999.0, 9,  -999.00, 9,  -999.00, 9, -999.000, 9, -999.000, -999.0000, 9, -999.0000,  -999.00, 9,  -999.00, -999.000, 9, -999.000,   -999.0, 9,   -999.0,  -999.00, 9, -999.0000, 9, -999.0000, 9, -999.0000, 9, -999.0000, 9, -999.0000, 9, -999.0000, 9, -999, 9, -999, 9, -999, 9, -999, 9, -999, 9, -999, 9, -999, 9,  -999.00, 9,  -999.00, 9,  -999.00, 9,  -999.00, 9,  23.7374,  -999.00, 9, 1722,   19.5350,  -52.3338
316N200309, A20, 47, 1, 29, 29, 2, 20031010, 1522, 19.5177, -52.3433, 5156,   199.80,    199.8,  20.9291,  36.9995, 2,  37.0021, 2,    177.8, 2,    179.6, 2,     0.48, 2,     2.23, 2,     0.02, 2,     0.12, 2,    2.159, 6,    1.303, 6,    0.061, 2,    0.675, 2,   2125.2, 2,   2415.4, 2,  -999.00, 9,  -999.00, 9, -999.000, 9, -999.000, -999.0000, 9, -999.0000,  -999.00, 9,  -999.00, -999.000, 9, -999.000,   -999.0, 9,   -999.0,  -999.00, 9, -999.0000, 9, -999.0000, 9, -999.0000, 9, -999.0000, 9, -999.0000, 9, -999.0000, 9, -999, 9, -999, 9, -999, 9, -999, 9, -999, 9, -999, 9, -999, 9,  -999.00, 9,  -999.00, 9,  -999.00, 9,  -999.00, 9,  20.8905,  -999.00, 9, 1720,   19.5346,  -52.3341
316N200309, A20, 47, 1, 28, 28, 2, 20031010, 1522, 19.5177, -52.3433, 5156,   250.10,    250.1,  18.7645,  36.6478, 2,  36.6493, 2,    171.1, 2,    171.9, 2,     1.19, 2,     5.83, 2,     0.01, 2,     0.32, 2,    2.233, 2,    1.345, 2,    0.024, 2,    0.395, 2,   -999.0, 9,   -999.0, 9,  -999.00, 9,  -999.00, 9, -999.000, 9, -999.000, -999.0000, 9, -999.0000,  -999.00, 9,  -999.00, -999.000, 9, -999.000,   -999.0, 9,   -999.0,  -999.00, 9, -999.0000, 9, -999.0000, 9, -999.0000, 9, -999.0000, 9, -999.0000, 9, -999.0000, 9, -999, 9, -999, 9, -999, 9, -999, 9, -999, 9, -999, 9, -999, 9,  -999.00, 9,  -999.00, 9,  -999.00, 9,  -999.00, 9,  18.7198,  -999.00, 9, 1718,   19.5343,  -52.3344
316N200309, A20, 47, 1, 27, 27, 2, 20031010, 1522, 19.5177, -52.3433, 5156,   300.70,    300.7,  17.2775,  36.3988, 2,  36.3972, 2,    160.9, 2,    163.3, 2,     2.12, 2,     9.04, 2,     0.01, 2,     0.52, 2,    2.218, 2,    1.286, 2,    0.009, 2,    0.349, 2,   2142.5, 2,   2375.6, 2,  -999.00, 9,  -999.00, 9, -999.000, 9, -999.000, -999.0000, 9, -999.0000,  -999.00, 9,  -999.00, -999.000, 9, -999.000,   -999.0, 9,   -999.0,  -999.00, 9, -999.0000, 9, -999.0000, 9, -999.0000, 9, -999.0000, 9, -999.0000, 9, -999.0000, 9, -999, 9, -999, 9, -999, 9, -999, 9, -999, 9, -999, 9, -999, 9,  -999.00, 9,  -999.00, 9,  -999.00, 9,  -999.00, 9,  17.2267,  -999.00, 9, 1717,   19.5340,  -52.3347
316N200309, A20, 47, 1, 26, 26, 2, 20031010, 1522, 19.5177, -52.3433, 5156,   400.90,    400.9,  15.0547,  36.0318, 2,  36.0307, 2,    139.7, 2,    138.7, 2,     4.41, 2,    15.01, 2,     0.00, 2,     0.88, 2,    2.004, 2,    1.133, 2,    0.012, 2,    0.290, 2,   -999.0, 9,   -999.0, 9,  -999.00, 9,  -999.00, 9, -999.000, 9, -999.000,   1.7790, 2,   0.0089,     3.48, 2,     0.20,    7.427, 2,    0.037,   -999.0, 9,   -999.0,  -999.00, 9, -999.0000, 9, -999.0000, 9, -999.0000, 9, -999.0000, 9, -999.0000, 9, -999.0000, 9, -999, 9, -999, 9, -999, 9, -999, 9, -999, 9, -999, 9, -999, 9,  -999.00, 9,  -999.00, 9,  -999.00, 9,  -999.00, 9,  14.9929,  -999.00, 9, 1714,   19.5336,  -52.3351
316N200309, A20, 47, 1, 25, 25, 2, 20031010, 1522, 19.5177, -52.3433, 5156,   500.10,    500.1,  13.0515,  35.7428, 2,  35.7410, 2,    138.3, 2,    139.7, 2,     6.49, 2,    18.07, 2,     0.00, 2,     1.07, 2,    1.698, 2,    0.890, 2,    0.013, 2,    0.268, 2,   2173.1, 2,   2339.9, 2,  -999.00, 9,  -999.00, 9, -999.000, 9, -999.000,   1.7916, 2,   0.0090,     6.77, 2,     0.20,    7.295, 2,    0.036,   -999.0, 9,   -999.0,  -999.00, 9, -999.0000, 9, -999.0000, 9, -999.0000, 9, -999.0000, 9, -999.0000, 9, -999.0000, 9, -999, 9, -999, 9, -999, 9, -999, 9, -999, 9, -999, 9, -999, 9,  -999.00, 9,  -999.00, 9,  -999.00, 9,  -999.00, 9,  12.9813,  -999.00, 9, 1711,   19.5331,  -52.3356
316N200309, A20, 47, 1, 24, 24, 2, 20031010, 1522, 19.5177, -52.3433, 5156,   625.20,    625.2,  10.6065,  35.4051, 2,  35.4044, 2,    133.4, 2,    136.6, 2,    10.88, 2,    22.68, 2,     0.00, 2,     1.41, 2,    0.888, 2,    0.475, 2,    0.004, 2,    0.200, 2,   -999.0, 9,   -999.0, 9,  -999.00, 9,  -999.00, 9, -999.000, 9, -999.000,   1.8082, 2,   0.0090,     8.81, 2,     0.20,    7.526, 2,    0.038,   -999.0, 9,   -999.0,  -999.00, 9, -999.0000, 9, -999.0000, 9, -999.0000, 9, -999.0000, 9, -999.0000, 9, -999.0000, 9, -999, 9, -999, 9, -999, 9, -999, 9, -999, 9, -999, 9, -999, 9,  -999.00, 9,  -999.00, 9,  -999.00, 9,  -999.00, 9,  10.5293,  -999.00, 9, 1708,   19.5325,  -52.3360
316N200309, A20, 47, 1, 23, 23, 2, 20031010, 1522, 19.5177, -52.3433, 5156,   749.90,    749.9,   7.5558,  34.9501, 2,  34.9506, 2,    127.6, 2,    125.5, 2,    19.55, 2,    29.88, 2,     0.00, 2,     1.95, 2,    0.233, 6,    0.137, 6,    0.001, 6,    0.146, 6,   2212.0, 2,   2309.5, 2,  -999.00, 9,  -999.00, 9, -999.000, 9, -999.000,   1.8252, 2,   0.0091,     4.16, 2,     0.20,    7.680, 2,    0.038,   -999.0, 9,   -999.0,  -999.00, 9, -999.0000, 9, -999.0000, 9, -999.0000, 9, -999.0000, 9, -999.0000, 9, -999.0000, 9, -999, 9, -999, 9, -999, 9, -999, 9, -999, 9, -999, 9, -999, 9,  -999.00, 9,  -999.00, 9,  -999.00, 9,  -999.00, 9,   7.4798,  -999.00, 9, 1705,   19.5319,  -52.3364
316N200309, A20, 47, 1, 22, 22, 2, 20031010, 1522, 19.5177, -52.3433, 5156,   900.50,    900.5,   6.0614,  34.8205, 2,  34.8198, 2,    138.7, 2,    139.2, 2,    23.62, 2,    30.74, 2,     0.00, 2,     2.05, 2,    0.097, 2,    0.050, 2,    0.002, 2,    0.127, 2,   -999.0, 9,   -999.0, 9,  -999.00, 9,  -999.00, 9, -999.000, 9, -999.000, -999.0000, 9, -999.0000,  -999.00, 9,  -999.00, -999.000, 9, -999.000,   -999.0, 9,   -999.0,  -999.00, 9, -999.0000, 9, -999.0000, 9, -999.0000, 9, -999.0000, 9, -999.0000, 9, -999.0000, 9, -999, 9, -999, 9, -999, 9, -999, 9, -999, 9, -999, 9, -999, 9,  -999.00, 9,  -999.00, 9,  -999.00, 9,  -999.00, 9,   5.9793,  -999.00, 9, 1702,   19.5312,  -52.3368
316N200309, A20, 47, 1, 21, 21, 2, 20031010, 1522, 19.5177, -52.3433, 5156,  1049.70,   1049.7,   5.6975,  34.8888, 2,  34.8888, 2,    158.1, 2,    158.9, 2,    22.46, 2,    28.33, 2,     0.00, 2,     1.90, 2,    0.100, 2,    0.052, 2,    0.005, 2,    0.169, 2,   2206.1, 2,   2313.1, 2,  -999.00, 9,  -999.00, 9, -999.000, 9, -999.000, -999.0000, 9, -999.0000,  -999.00, 9,  -999.00, -999.000, 9, -999.000,   -999.0, 9,   -999.0,  -999.00, 9, -999.0000, 9, -999.0000, 9, -999.0000, 9, -999.0000, 9, -999.0000, 9, -999.0000, 9, -999, 9, -999, 9, -999, 9, -999, 9, -999, 9, -999, 9, -999, 9,  -999.00, 9,  -999.00, 9,  -999.00, 9,  -999.00, 9,   5.6035,  -999.00, 9, 1659,   19.5307,  -52.3372
316N200309, A20, 47, 1, 20, 20, 2, 20031010, 1522, 19.5177, -52.3433, 5156,  1200.90,   1200.9,   5.4088,  34.9708, 2,  34.9689, 2,    187.8, 2,    186.9, 2,    19.50, 2,    24.70, 2,     0.00, 2,     1.65, 2,    0.198, 2,    0.105, 2,    0.001, 2,    0.326, 2,   -999.0, 9,   -999.0, 9,  -999.00, 9,  -999.00, 9, -999.000, 9, -999.000, -999.0000, 9, -999.0000,  -999.00, 9,  -999.00, -999.000, 9, -999.000,   -999.0, 9,   -999.0,  -999.00, 9, -999.0000, 9, -999.0000, 9, -999.0000, 9, -999.0000, 9, -999.0000, 9, -999.0000, 9, -999, 9, -999, 9, -999, 9, -999, 9, -999, 9, -999, 9, -999, 9,  -999.00, 9,  -999.00, 9,  -999.00, 9,  -999.00, 9,   5.3024,  -999.00, 9, 1655,   19.5301,  -52.3375
316N200309, A20, 47, 1, 19, 19, 2, 20031010, 1522, 19.5177, -52.3433, 5156,  1324.60,   1324.6,   5.0432,  34.9980, 2,  34.9967, 2,    205.6, 2,    205.5, 2,    18.13, 2,    22.83, 2,     0.00, 2,     1.53, 2,    0.221, 2,    0.122, 2,    0.005, 2,    0.401, 2,   -999.0, 9,   -999.0, 9,  -999.00, 9,  -999.00, 9, -999.000, 9, -999.000, -999.0000, 9, -999.0000,  -999.00, 9,  -999.00, -999.000, 9, -999.000,   -999.0, 9,   -999.0,  -999.00, 9, -999.0000, 9, -999.0000, 9, -999.0000, 9, -999.0000, 9, -999.0000, 9, -999.0000, 9, -999, 9, -999, 9, -999, 9, -999, 9, -999, 9, -999, 9, -999, 9,  -999.00, 9,  -999.00, 9,  -999.00, 9,  -999.00, 9,   4.9283,  -999.00, 9, 1652,   19.5296,  -52.3376
316N200309, A20, 47, 1, 18, 18, 2, 20031010, 1522, 19.5177, -52.3433, 5156,  1448.80,   1448.8,   4.7719,  35.0137, 2,  35.0136, 2,    222.8, 2,    223.5, 2,    16.34, 2,    21.05, 2,     0.00, 2,     1.40, 2,    0.310, 2,    0.167, 2,    0.009, 2,    0.618, 2,   -999.0, 9,   -999.0, 9,  -999.00, 9,  -999.00, 9, -999.000, 9, -999.000, -999.0000, 9, -999.0000,  -999.00, 9,  -999.00, -999.000, 9, -999.000,   -999.0, 9,   -999.0,  -999.00, 9, -999.0000, 9, -999.0000, 9, -999.0000, 9, -999.0000, 9, -999.0000, 9, -999.0000, 9, -999, 9, -999, 9, -999, 9, -999, 9, -999, 9, -999, 9, -999, 9,  -999.00, 9,  -999.00, 9,  -999.00, 9,  -999.00, 9,   4.6479,  -999.00, 9, 1649,   19.5291,  -52.3376
316N200309, A20, 47, 1, 17, 17, 2, 20031010, 1522, 19.5177, -52.3433, 5156,  1579.70,   1579.7,   4.5039,  35.0136, 2,  35.0120, 2,    234.0, 2,    233.6, 2,    15.90, 2,    20.30, 2,     0.00, 2,     1.35, 2,    0.257, 2,    0.134, 2,    0.004, 2,    0.610, 2,   -999.0, 9,   -999.0, 9,  -999.00, 9,  -999.00, 9, -999.000, 9, -999.000, -999.0000, 9, -999.0000,  -999.00, 9,  -999.00, -999.000, 9, -999.000,   -999.0, 9,   -999.0,  -999.00, 9, -999.0000, 9, -999.0000, 9, -999.0000, 9, -999.0000, 9, -999.0000, 9, -999.0000, 9, -999, 9, -999, 9, -999, 9, -999, 9, -999, 9, -999, 9, -999, 9,  -999.00, 9,  -999.00, 9,  -999.00, 9,  -999.00, 9,   4.3703,  -999.00, 9, 1646,   19.5286,  -52.3374
316N200309, A20, 47, 1, 16, 16, 2, 20031010, 1522, 19.5177, -52.3433, 5156,  1698.50,   1698.5,   4.2286,  35.0067, 2,  35.0063, 2,    243.1, 2,    243.7, 2,    15.68, 2,    19.41, 2,     0.00, 2,     1.29, 2,    0.286, 2,    0.153, 2,    0.007, 2,    0.689, 2,   -999.0, 9,   -999.0, 9,  -999.00, 9,  -999.00, 9, -999.000, 9, -999.000, -999.0000, 9, -999.0000,  -999.00, 9,  -999.00, -999.000, 9, -999.000,   -999.0, 9,   -999.0,  -999.00, 9, -999.0000, 9, -999.0000, 9, -999.0000, 9, -999.0000, 9, -999.0000, 9, -999.0000, 9, -999, 9, -999, 9, -999, 9, -999, 9, -999, 9, -999, 9, -999, 9,  -999.00, 9,  -999.00, 9,  -999.00, 9,  -999.00, 9,   4.0870,  -999.00, 9, 1643,   19.5282,  -52.3371
316N200309, A20, 47, 1, 15, 15, 2, 20031010, 1522, 19.5177, -52.3433, 5156,  1851.10,   1851.1,   3.9963,  35.0028, 2,  35.0014, 2,    245.3, 2,    244.9, 2,    17.65, 2,    19.69, 2,     0.00, 2,     1.31, 2,    0.122, 2,    0.064, 2,    0.001, 2,    0.429, 2,   -999.0, 9,   -999.0, 9,  -999.00, 9,  -999.00, 9, -999.000, 9, -999.000, -999.0000, 9, -999.0000,  -999.00, 9,  -999.00, -999.000, 9, -999.000,   -999.0, 9,   -999.0,  -999.00, 9, -999.0000, 9, -999.0000, 9, -999.0000, 9, -999.0000, 9, -999.0000, 9, -999.0000, 9, -999, 9, -999, 9, -999, 9, -999, 9, -999, 9, -999, 9, -999, 9,  -999.00, 9,  -999.00, 9,  -999.00, 9,  -999.00, 9,   3.8432,  -999.00, 9, 1640,   19.5277,  -52.3368
316N200309, A20, 47, 1, 14, 14, 2, 20031010, 1522, 19.5177, -52.3433, 5156,  2003.70,   2003.7,   3.7564,  34.9954, 2,  34.9947, 2,    245.7, 2,    245.9, 2,    20.04, 2,    19.78, 2,     0.00, 2,     1.32, 2,    0.052, 2,    0.031, 2,    0.003, 2,    0.254, 2,   -999.0, 9,   -999.0, 9,  -999.00, 9,  -999.00, 9, -999.000, 9, -999.000, -999.0000, 9, -999.0000,  -999.00, 9,  -999.00, -999.000, 9, -999.000,   -999.0, 9,   -999.0,  -999.00, 9, -999.0000, 9, -999.0000, 9, -999.0000, 9, -999.0000, 9, -999.0000, 9, -999.0000, 9, -999, 9, -999, 9, -999, 9, -999, 9, -999, 9, -999, 9, -999, 9,  -999.00, 9,  -999.00, 9,  -999.00, 9,  -999.00, 9,   3.5921,  -999.00, 9, 1636,   19.5273,  -52.3363
316N200309, A20, 47, 1, 13, 13, 2, 20031010, 1522, 19.5177, -52.3433, 5156,  2254.90,   2254.9,   3.2997,  34.9710, 2,  34.9703, 2,    246.6, 2,    247.6, 2,    25.47, 2,    20.11, 2,     0.00, 2,     1.34, 2,    0.021, 2,    0.010, 2,    0.001, 2,    0.132, 2,   -999.0, 9,   -999.0, 9,  -999.00, 9,  -999.00, 9, -999.000, 9, -999.000, -999.0000, 9, -999.0000,  -999.00, 9,  -999.00, -999.000, 9, -999.000,   -999.0, 9,   -999.0,  -999.00, 9, -999.0000, 9, -999.0000, 9, -999.0000, 9, -999.0000, 9, -999.0000, 9, -999.0000, 9, -999, 9, -999, 9, -999, 9, -999, 9, -999, 9, -999, 9, -999, 9,  -999.00, 9,  -999.00, 9,  -999.00, 9,  -999.00, 9,   3.1183,  -999.00, 9, 1630,   19.5266,  -52.3357
316N200309, A20, 47, 1, 12, 12, 2, 20031010, 1522, 19.5177, -52.3433, 5156,  2498.20,   2498.2,   3.0426,  34.9543, 2,  34.9536, 2,    248.4, 2,    249.7, 2,    28.50, 2,    20.15, 2,     0.00, 2,     1.35, 2,    0.042, 2,    0.019, 2,    0.013, 2,    0.153, 2,   -999.0, 9,   -999.0, 9,  -999.00, 9,  -999.00, 9, -999.000, 9, -999.000, -999.0000, 9, -999.0000,  -999.00, 9,  -999.00, -999.000, 9, -999.000,   -999.0, 9,   -999.0,  -999.00, 9, -999.0000, 9, -999.0000, 9, -999.0000, 9, -999.0000, 9, -999.0000, 9, -999.0000, 9, -999, 9, -999, 9, -999, 9, -999, 9, -999, 9, -999, 9, -999, 9,  -999.00, 9,  -999.00, 9,  -999.00, 9,  -999.00, 9,   2.8420,  -999.00, 9, 1625,   19.5258,  -52.3362
316N200309, A20, 47, 1, 11, 11, 2, 20031010, 1522, 19.5177, -52.3433, 5156,  2747.50,   2747.5,   2.8834,  34.9416, 2,  34.9412, 2,    249.7, 2,    251.0, 2,    30.68, 2,    20.25, 2,     0.00, 2,     1.37, 2,    0.020, 2,    0.012, 2,    0.003, 2,    0.141, 2,   -999.0, 9,   -999.0, 9,  -999.00, 9,  -999.00, 9, -999.000, 9, -999.000, -999.0000, 9, -999.0000,  -999.00, 9,  -999.00, -999.000, 9, -999.000,   -999.0, 9,   -999.0,  -999.00, 9, -999.0000, 9, -999.0000, 9, -999.0000, 9, -999.0000, 9, -999.0000, 9, -999.0000, 9, -999, 9, -999, 9, -999, 9, -999, 9, -999, 9, -999, 9, -999, 9,  -999.00, 9,  -999.00, 9,  -999.00, 9,  -999.00, 9,   2.6611,  -999.00, 9, 1620,   19.5248,  -52.3373