BOTTLE,20220816CCHSIOAMB
EXPOCODE,SECT_ID,STNNBR,CASTNO,SAMPNO,BTLNBR,BTLNBR_FLAG_W,DATE,TIME,LATITUDE,LONGITUDE,DEPTH,CTDRAW,CTDPRS,CTDTMP,CTDSAL,CTDSAL_FLAG_W,SALNTY,SALNTY_FLAG_W,CTDOXY,CTDOXY_FLAG_W,OXYGEN,OXYGEN_FLAG_W,SILCAT,SILCAT_FLAG_W,NITRAT,NITRAT_FLAG_W,NITRIT,NITRIT_FLAG_W,PHSPHT,PHSPHT_FLAG_W,CFC-11,CFC-11_FLAG_W,CFC-12,CFC-12_FLAG_W,CFC113,CFC113_FLAG_W,CCL4,CCL4_FLAG_W,TCARBN,TCARBN_FLAG_W,ALKALI,ALKALI_FLAG_W,DOC,DOC_FLAG_W,TDN,TDN_FLAG_W,TRITUM,TRITUM_FLAG_W,TRITER,HELIUM,HELIUM_FLAG_W,HELIER,DELHE3,DELHE3_FLAG_W,DELHER,NEON,NEON_FLAG_W,NEONER,DELC14,DELC14_FLAG_W,C14ERR,DELC13,DELC13_FLAG_W,CDOM325,CDOM325_FLAG_W,CDOM340,CDOM340_FLAG_W,CDOM380,CDOM380_FLAG_W,CDOM412,CDOM412_FLAG_W,CDOMSL,CDOMSL_FLAG_W,CDOMSN,CDOMSN_FLAG_W,DCNS,DCNS_FLAG_W,ARABI,ARABI_FLAG_W,FUCO,FUCO_FLAG_W,GALA,GALA_FLAG_W,GLUC,GLUC_FLAG_W,MAN,MAN_FLAG_W,RHAM,RHAM_FLAG_W,BRDU,BRDU_FLAG_W,PEUK,PEUK_FLAG_W,PROC,PROC_FLAG_W,SYN,SYN_FLAG_W,THETA,BACT,BACT_FLAG_W,BTL_TIME,BTL_LAT,BTL_LON
,,,,,,,,,,,METERS,DBAR,DBAR,ITS-90,PSS-78,,PSS-78,,UMOL/KG,,UMOL/KG,,UMOL/KG,,UMOL/KG,,UMOL/KG,,UMOL/KG,,PMOL/KG,,PMOL/KG,,PMOL/KG,,PMOL/KG,,UMOL/KG,,UMOL/KG,,UMOL/KG,,UMOL/KG,,TU,,TU,NMOL/KG,,NMOL/KG,PERCNT,,PERCNT,NMOL/KG,,NMOL/KG,/MILLE,,/MILLE,/MILLE,,1/M,,1/M,,1/M,,1/M,,1/NM,,1/NM,,NMOL/KG,,NMOL/KG,,NMOL/KG,,NMOL/KG,,NMOL/KG,,NMOL/KG,,NMOL/KG,,PMOL/L/H,,E6/L,,E7/L,,E6/L,,DEG C,E8/L,,,,
316N200309, A20, 20, 1, 36, 36, 2, 20030929, 1421, 38.9527, -52.3038, 5349,     3.90,      3.9,  25.8879,  36.3319, 2,  36.3354, 2,    203.5, 2,    203.1, 2,     0.53, 2,     0.04, 2,     0.00, 2,     0.03, 2, -999.000, 5, -999.000, 5, -999.000, 5, -999.000, 9,   2025.8, 2,   2375.6, 2,  -999.00, 9,  -999.00, 9, -999.000, 9, -999.000, -999.0000, 9, -999.0000,  -999.00, 9,  -999.00, -999.000, 9, -999.000,   -999.0, 9,   -999.0,  -999.00, 9, -999.0000, 9, -999.0000, 9, -999.0000, 9, -999.0000, 9, -999.0000, 9, -999.0000, 9, -999, 9, -999, 9, -999, 9, -999, 9, -999, 9, -999, 9, -999, 9,  -999.00, 9,  -999.00, 9,  -999.00, 9,  -999.00, 9,  25.8870,  -999.00, 9, 1641,   38.9419,  -52.2549
316N200309, A20, 20, 1, 35, 35, 2, 20030929, 1421, 38.9527, -52.3038, 5349,    25.00,     25.0,  25.8152,  36.3352, 2,  36.3358, 2,    203.3, 2,    203.4, 2,     0.69, 2,     0.04, 2,     0.00, 2,     0.02, 2, -999.000, 5, -999.000, 5, -999.000, 5, -999.000, 9,   -999.0, 9,   -999.0, 9,  -999.00, 9,  -999.00, 9, -999.000, 9, -999.000, -999.0000, 9, -999.0000,  -999.00, 9,  -999.00, -999.000, 9, -999.000,   -999.0, 9,   -999.0,  -999.00, 9, -999.0000, 9, -999.0000, 9, -999.0000, 9, -999.0000, 9, -999.0000, 9, -999.0000, 9, -999, 9, -999, 9, -999, 9, -999, 9, -999, 9, -999, 9, -999, 9,  -999.00, 9,  -999.00, 9,  -999.00, 9,  -999.00, 9,  25.8096,  -999.00, 9, 1640,   38.9418,  -52.2561
316N200309, A20, 20, 1, 34, 34, 2, 20030929, 1421, 38.9527, -52.3038, 5349,    49.30,     49.3,  25.6556,  36.3336, 2,  36.3328, 2,    203.9, 2,    205.8, 2,     0.55, 2,     0.04, 2,     0.00, 2,     0.02, 2,    1.782, 2,    1.099, 2,    0.146, 2, -999.000, 9,   -999.0, 9,   -999.0, 9,  -999.00, 9,  -999.00, 9, -999.000, 9, -999.000, -999.0000, 9, -999.0000,  -999.00, 9,  -999.00, -999.000, 9, -999.000,   -999.0, 9,   -999.0,  -999.00, 9, -999.0000, 9, -999.0000, 9, -999.0000, 9, -999.0000, 9, -999.0000, 9, -999.0000, 9, -999, 9, -999, 9, -999, 9, -999, 9, -999, 9, -999, 9, -999, 9,  -999.00, 9,  -999.00, 9,  -999.00, 9,  -999.00, 9,  25.6446,  -999.00, 9, 1638,   38.9417,  -52.2575
316N200309, A20, 20, 1, 33, 33, 2, 20030929, 1421, 38.9527, -52.3038, 5349,    75.00,     75.0,  25.0042,  36.4750, 2,  36.4758, 2,    203.9, 2,    203.5, 2,     0.30, 2,     0.04, 2,     0.00, 2,     0.02, 2,    1.845, 2,    1.126, 2,    0.124, 2, -999.000, 9,   -999.0, 9,   -999.0, 9,  -999.00, 9,  -999.00, 9, -999.000, 9, -999.000, -999.0000, 9, -999.0000,  -999.00, 9,  -999.00, -999.000, 9, -999.000,   -999.0, 9,   -999.0,  -999.00, 9, -999.0000, 9, -999.0000, 9, -999.0000, 9, -999.0000, 9, -999.0000, 9, -999.0000, 9, -999, 9, -999, 9, -999, 9, -999, 9, -999, 9, -999, 9, -999, 9,  -999.00, 9,  -999.00, 9,  -999.00, 9,  -999.00, 9,  24.9879,  -999.00, 9, 1637,   38.9417,  -52.2587
316N200309, A20, 20, 1, 32, 32, 2, 20030929, 1421, 38.9527, -52.3038, 5349,   100.70,    100.7,  22.6960,  36.6432, 2,  36.6433, 2,    197.2, 2,    208.9, 2,     0.25, 2,     0.38, 2,     0.16, 2,     0.04, 2,    2.116, 2,    1.270, 2,    0.146, 2, -999.000, 9,   -999.0, 9,   -999.0, 9,  -999.00, 9,  -999.00, 9, -999.000, 9, -999.000, -999.0000, 9, -999.0000,  -999.00, 9,  -999.00, -999.000, 9, -999.000,   -999.0, 9,   -999.0,  -999.00, 9, -999.0000, 9, -999.0000, 9, -999.0000, 9, -999.0000, 9, -999.0000, 9, -999.0000, 9, -999, 9, -999, 9, -999, 9, -999, 9, -999, 9, -999, 9, -999, 9,  -999.00, 9,  -999.00, 9,  -999.00, 9,  -999.00, 9,  22.6755,  -999.00, 9, 1635,   38.9415,  -52.2599
316N200309, A20, 20, 1, 31, 31, 2, 20030929, 1421, 38.9527, -52.3038, 5349,   124.90,    124.9,  21.1748,  36.6847, 2,  36.6719, 2,    178.3, 2,    199.2, 2,     0.52, 2,     1.33, 2,     0.05, 2,     0.07, 2,    2.186, 2,    1.307, 2,    0.128, 2, -999.000, 9,   -999.0, 9,   -999.0, 9,  -999.00, 9,  -999.00, 9, -999.000, 9, -999.000, -999.0000, 9, -999.0000,  -999.00, 9,  -999.00, -999.000, 9, -999.000,   -999.0, 9,   -999.0,  -999.00, 9, -999.0000, 9, -999.0000, 9, -999.0000, 9, -999.0000, 9, -999.0000, 9, -999.0000, 9, -999, 9, -999, 9, -999, 9, -999, 9, -999, 9, -999, 9, -999, 9,  -999.00, 9,  -999.00, 9,  -999.00, 9,  -999.00, 9,  21.1506,  -999.00, 9, 1634,   38.9414,  -52.2613
316N200309, A20, 20, 1, 30, 30, 2, 20030929, 1421, 38.9527, -52.3038, 5349,   198.70,    198.7,  19.2564,  36.6295, 2,  36.6308, 2,    201.9, 2,    201.1, 2,     0.67, 2,     2.30, 2,     0.01, 2,     0.11, 2,    2.298, 2,    1.362, 2,    0.078, 2, -999.000, 9,   -999.0, 9,   -999.0, 9,  -999.00, 9,  -999.00, 9, -999.000, 9, -999.000, -999.0000, 9, -999.0000,  -999.00, 9,  -999.00, -999.000, 9, -999.000,   -999.0, 9,   -999.0,  -999.00, 9, -999.0000, 9, -999.0000, 9, -999.0000, 9, -999.0000, 9, -999.0000, 9, -999.0000, 9, -999, 9, -999, 9, -999, 9, -999, 9, -999, 9, -999, 9, -999, 9,  -999.00, 9,  -999.00, 9,  -999.00, 9,  -999.00, 9,  19.2203,  -999.00, 9, 1632,   38.9413,  -52.2631
316N200309, A20, 20, 1, 29, 29, 2, 20030929, 1421, 38.9527, -52.3038, 5349,   273.80,    273.8,  18.4413,  36.5628, 2,  36.5622, 2,    197.8, 2,    193.6, 2,     1.04, 2,     4.24, 2,     0.01, 2,     0.21, 2,    2.365, 2,    1.372, 2,    0.061, 2, -999.000, 9,   -999.0, 9,   -999.0, 9,  -999.00, 9,  -999.00, 9, -999.000, 9, -999.000, -999.0000, 9, -999.0000,  -999.00, 9,  -999.00, -999.000, 9, -999.000,   -999.0, 9,   -999.0,  -999.00, 9, -999.0000, 9, -999.0000, 9, -999.0000, 9, -999.0000, 9, -999.0000, 9, -999.0000, 9, -999, 9, -999, 9, -999, 9, -999, 9, -999, 9, -999, 9, -999, 9,  -999.00, 9,  -999.00, 9,  -999.00, 9,  -999.00, 9,  18.3929,  -999.00, 9, 1629,   38.9410,  -52.2650
316N200309, A20, 20, 1, 28, 28, 2, 20030929, 1421, 38.9527, -52.3038, 5349,   353.90,    353.9,  17.4949,  36.4311, 2,  36.4333, 2,    192.6, 2,    191.8, 2,     1.60, 2,     6.08, 2,     0.01, 2,     0.32, 2,    2.390, 2,    1.362, 2,    0.058, 2, -999.000, 9,   -999.0, 9,   -999.0, 9,  -999.00, 9,  -999.00, 9, -999.000, 9, -999.000, -999.0000, 9, -999.0000,  -999.00, 9,  -999.00, -999.000, 9, -999.000,   -999.0, 9,   -999.0,  -999.00, 9, -999.0000, 9, -999.0000, 9, -999.0000, 9, -999.0000, 9, -999.0000, 9, -999.0000, 9, -999, 9, -999, 9, -999, 9, -999, 9, -999, 9, -999, 9, -999, 9,  -999.00, 9,  -999.00, 9,  -999.00, 9,  -999.00, 9,  17.4346,  -999.00, 9, 1627,   38.9409,  -52.2671
316N200309, A20, 20, 1, 27, 27, 2, 20030929, 1421, 38.9527, -52.3038, 5349,   451.60,    451.6,  15.9500,  36.1749, 2,  36.1747, 2,    189.3, 2,    188.2, 2,     2.78, 2,     8.84, 2,     0.01, 2,     0.51, 2,    2.357, 2,    1.306, 2,    0.060, 2, -999.000, 9,   -999.0, 9,   -999.0, 9,  -999.00, 9,  -999.00, 9, -999.000, 9, -999.000, -999.0000, 9, -999.0000,  -999.00, 9,  -999.00, -999.000, 9, -999.000,   -999.0, 9,   -999.0,  -999.00, 9, -999.0000, 9, -999.0000, 9, -999.0000, 9, -999.0000, 9, -999.0000, 9, -999.0000, 9, -999, 9, -999, 9, -999, 9, -999, 9, -999, 9, -999, 9, -999, 9,  -999.00, 9,  -999.00, 9,  -999.00, 9,  -999.00, 9,  15.8776,  -999.00, 9, 1624,   38.9406,  -52.2692
316N200309, A20, 20, 1, 26, 26, 2, 20030929, 1421, 38.9527, -52.3038, 5349,   551.00,    551.0,  12.6319,  35.5589, 2,  35.5553, 2,    183.8, 2,    178.3, 2,     6.20, 2,    14.89, 2,     0.01, 2,     0.93, 2,    2.224, 2,    1.235, 2,    0.097, 2, -999.000, 9,   -999.0, 9,   -999.0, 9,  -999.00, 9,  -999.00, 9, -999.000, 9, -999.000, -999.0000, 9, -999.0000,  -999.00, 9,  -999.00, -999.000, 9, -999.000,   -999.0, 9,   -999.0,  -999.00, 9, -999.0000, 9, -999.0000, 9, -999.0000, 9, -999.0000, 9, -999.0000, 9, -999.0000, 9, -999, 9, -999, 9, -999, 9, -999, 9, -999, 9, -999, 9, -999, 9,  -999.00, 9,  -999.00, 9,  -999.00, 9,  -999.00, 9,  12.5561,  -999.00, 9, 1622,   38.9403,  -52.2712
316N200309, A20, 20, 1, 25, 25, 2, 20030929, 1421, 38.9527, -52.3038, 5349,   673.00,    673.0,   9.8160,  35.2534, 2,  35.2521, 2,    143.0, 2,    138.0, 2,    12.81, 2,    23.54, 2,     0.01, 2,     1.50, 2, -999.000, 9, -999.000, 9, -999.000, 9, -999.000, 9,   -999.0, 9,   -999.0, 9,  -999.00, 9,  -999.00, 9, -999.000, 9, -999.000, -999.0000, 9, -999.0000,  -999.00, 9,  -999.00, -999.000, 9, -999.000,   -999.0, 9,   -999.0,  -999.00, 9, -999.0000, 9, -999.0000, 9, -999.0000, 9, -999.0000, 9, -999.0000, 9, -999.0000, 9, -999, 9, -999, 9, -999, 9, -999, 9, -999, 9, -999, 9, -999, 9,  -999.00, 9,  -999.00, 9,  -999.00, 9,  -999.00, 9,   9.7367,  -999.00, 9, 1619,   38.9401,  -52.2733
316N200309, A20, 20, 1, 24, 24, 2, 20030929, 1421, 38.9527, -52.3038, 5349,   825.30,    825.3,   6.6457,  35.0775, 2,  35.0744, 2,    187.7, 2,    196.2, 2,    12.88, 2,    21.14, 2,     0.00, 2,     1.38, 2,    1.585, 2,    0.810, 2,    0.076, 2, -999.000, 9,   -999.0, 9,   -999.0, 9,  -999.00, 9,  -999.00, 9, -999.000, 9, -999.000, -999.0000, 9, -999.0000,  -999.00, 9,  -999.00, -999.000, 9, -999.000,   -999.0, 9,   -999.0,  -999.00, 9, -999.0000, 9, -999.0000, 9, -999.0000, 9, -999.0000, 9, -999.0000, 9, -999.0000, 9, -999, 9, -999, 9, -999, 9, -999, 9, -999, 9, -999, 9, -999, 9,  -999.00, 9,  -999.00, 9,  -999.00, 9,  -999.00, 9,   6.5670,  -999.00, 9, 1616,   38.9391,  -52.2762
316N200309, A20, 20, 1, 23, 23, 2, 20030929, 1421, 38.9527, -52.3038, 5349,   976.20,    976.2,   4.8319,  34.9488, 2,  34.9506, 2,    240.2, 2,    246.4, 2,    10.88, 2,    17.99, 2,     0.01, 2,     1.19, 2,    3.032, 2,    1.559, 2,    0.208, 2, -999.000, 9,   -999.0, 9,   -999.0, 9,  -999.00, 9,  -999.00, 9, -999.000, 9, -999.000, -999.0000, 9, -999.0000,  -999.00, 9,  -999.00, -999.000, 9, -999.000,   -999.0, 9,   -999.0,  -999.00, 9, -999.0000, 9, -999.0000, 9, -999.0000, 9, -999.0000, 9, -999.0000, 9, -999.0000, 9, -999, 9, -999, 9, -999, 9, -999, 9, -999, 9, -999, 9, -999, 9,  -999.00, 9,  -999.00, 9,  -999.00, 9,  -999.00, 9,   4.7513,  -999.00, 9, 1612,   38.9391,  -52.2773
316N200309, A20, 20, 1, 22, 22, 2, 20030929, 1421, 38.9527, -52.3038, 5349,  1128.20,   1128.2,   4.3824,  34.9237, 2,  34.9250, 2,    255.6, 2,    259.6, 2,    10.42, 2,    17.44, 2,     0.00, 2,     1.15, 2,    3.349, 6,    1.715, 6,    0.243, 6, -999.000, 9,   -999.0, 9,   -999.0, 9,  -999.00, 9,  -999.00, 9, -999.000, 9, -999.000, -999.0000, 9, -999.0000,  -999.00, 9,  -999.00, -999.000, 9, -999.000,   -999.0, 9,   -999.0,  -999.00, 9, -999.0000, 9, -999.0000, 9, -999.0000, 9, -999.0000, 9, -999.0000, 9, -999.0000, 9, -999, 9, -999, 9, -999, 9, -999, 9, -999, 9, -999, 9, -999, 9,  -999.00, 9,  -999.00, 9,  -999.00, 9,  -999.00, 9,   4.2919,  -999.00, 9, 1608,   38.9390,  -52.2785
316N200309, A20, 20, 1, 21, 21, 2, 20030929, 1421, 38.9527, -52.3038, 5349,  1275.50,   1275.5,   4.2454,  34.9393, 2,  34.9396, 2,    261.4, 2,    265.3, 2,    10.28, 2,    17.39, 2,     0.00, 2,     1.14, 2,    3.248, 2,    1.658, 2,    0.240, 2, -999.000, 9,   -999.0, 9,   -999.0, 9,  -999.00, 9,  -999.00, 9, -999.000, 9, -999.000, -999.0000, 9, -999.0000,  -999.00, 9,  -999.00, -999.000, 9, -999.000,   -999.0, 9,   -999.0,  -999.00, 9, -999.0000, 9, -999.0000, 9, -999.0000, 9, -999.0000, 9, -999.0000, 9, -999.0000, 9, -999, 9, -999, 9, -999, 9, -999, 9, -999, 9, -999, 9, -999, 9,  -999.00, 9,  -999.00, 9,  -999.00, 9,  -999.00, 9,   4.1429,  -999.00, 9, 1604,   38.9392,  -52.2801
316N200309, A20, 20, 1, 20, 20, 2, 20030929, 1421, 38.9527, -52.3038, 5349,  1402.10,   1402.1,   4.2033,  34.9570, 2,  34.9563, 2,    265.8, 2,    262.6, 2,    10.75, 2,    17.60, 2,     0.00, 2,     1.16, 2,    2.784, 2,    1.411, 2,    0.191, 2, -999.000, 9,   -999.0, 9,   -999.0, 9,  -999.00, 9,  -999.00, 9, -999.000, 9, -999.000, -999.0000, 9, -999.0000,  -999.00, 9,  -999.00, -999.000, 9, -999.000,   -999.0, 9,   -999.0,  -999.00, 9, -999.0000, 9, -999.0000, 9, -999.0000, 9, -999.0000, 9, -999.0000, 9, -999.0000, 9, -999, 9, -999, 9, -999, 9, -999, 9, -999, 9, -999, 9, -999, 9,  -999.00, 9,  -999.00, 9,  -999.00, 9,  -999.00, 9,   4.0899,  -999.00, 9, 1600,   38.9397,  -52.2809
316N200309, A20, 20, 1, 19, 19, 2, 20030929, 1421, 38.9527, -52.3038, 5349,  1499.60,   1499.6,   4.0794,  34.9518, 2,  34.9516, 2,    267.5, 2,    264.4, 2,    10.91, 2,    17.55, 2,     0.00, 2,     1.15, 2,    2.507, 2,    1.264, 2,    0.167, 2, -999.000, 9,   -999.0, 9,   -999.0, 9,  -999.00, 9,  -999.00, 9, -999.000, 9, -999.000, -999.0000, 9, -999.0000,  -999.00, 9,  -999.00, -999.000, 9, -999.000,   -999.0, 9,   -999.0,  -999.00, 9, -999.0000, 9, -999.0000, 9, -999.0000, 9, -999.0000, 9, -999.0000, 9, -999.0000, 9, -999, 9, -999, 9, -999, 9, -999, 9, -999, 9, -999, 9, -999, 9,  -999.00, 9,  -999.00, 9,  -999.00, 9,  -999.00, 9,   3.9584,  -999.00, 9, 1558,   38.9400,  -52.2816
316N200309, A20, 20, 1, 18, 18, 2, 20030929, 1421, 38.9527, -52.3038, 5349,  1624.50,   1624.5,   3.8110,  34.9204, 2,  34.9144, 3,    269.2, 2,    270.9, 2,    16.11, 3,    17.65, 3,     0.00, 2,     1.18, 3,    2.325, 2,    1.165, 2,    0.149, 2, -999.000, 9,   -999.0, 9,   -999.0, 9,  -999.00, 9,  -999.00, 9, -999.000, 9, -999.000, -999.0000, 9, -999.0000,  -999.00, 9,  -999.00, -999.000, 9, -999.000,   -999.0, 9,   -999.0,  -999.00, 9, -999.0000, 9, -999.0000, 9, -999.0000, 9, -999.0000, 9, -999.0000, 9, -999.0000, 9, -999, 9, -999, 9, -999, 9, -999, 9, -999, 9, -999, 9, -999, 9,  -999.00, 9,  -999.00, 9,  -999.00, 9,  -999.00, 9,   3.6817,  -999.00, 9, 1555,   38.9404,  -52.2824
316N200309, A20, 20, 1, 17, 17, 2, 20030929, 1421, 38.9527, -52.3038, 5349,  1781.10,   1781.1,   3.7613,  34.9279, 2,  34.9278, 2,    281.9, 2,    271.3, 2,    11.03, 2,    17.30, 2,     0.00, 2,     1.14, 2, -999.000, 1, -999.000, 1, -999.000, 1, -999.000, 9,   -999.0, 9,   -999.0, 9,  -999.00, 9,  -999.00, 9, -999.000, 9, -999.000, -999.0000, 9, -999.0000,  -999.00, 9,  -999.00, -999.000, 9, -999.000,   -999.0, 9,   -999.0,  -999.00, 9, -999.0000, 9, -999.0000, 9, -999.0000, 9, -999.0000, 9, -999.0000, 9, -999.0000, 9, -999, 9, -999, 9, -999, 9, -999, 9, -999, 9, -999, 9, -999, 9,  -999.00, 9,  -999.00, 9,  -999.00, 9,  -999.00, 9,   3.6182,  -999.00, 9, 1552,   38.9410,  -52.2835
316N200309, A20, 20, 1, 16, 16, 2, 20030929, 1421, 38.9527, -52.3038, 5349,  1935.90,   1935.9,   3.6642,  34.9279, 2,  34.9286, 2,    282.1, 2,    271.4, 2,    11.50, 2,    17.36, 2,     0.00, 2,     1.14, 2,    2.480, 6,    1.215, 6,    0.152, 6, -999.000, 9,   -999.0, 9,   -999.0, 9,  -999.00, 9,  -999.00, 9, -999.000, 9, -999.000, -999.0000, 9, -999.0000,  -999.00, 9,  -999.00, -999.000, 9, -999.000,   -999.0, 9,   -999.0,  -999.00, 9, -999.0000, 9, -999.0000, 9, -999.0000, 9, -999.0000, 9, -999.0000, 9, -999.0000, 9, -999, 9, -999, 9, -999, 9, -999, 9, -999, 9, -999, 9, -999, 9,  -999.00, 9,  -999.00, 9,  -999.00, 9,  -999.00, 9,   3.5079,  -999.00, 9, 1548,   38.9415,  -52.2848
316N200309, A20, 20, 1, 15, 15, 2, 20030929, 1421, 38.9527, -52.3038, 5349,  2127.00,   2127.0,   3.4162,  34.9002, 2,  34.8998, 2,    267.7, 2,    278.5, 2,    10.94, 2,    17.00, 2,     0.00, 2,     1.12, 2,    2.928, 2,    1.416, 2,    0.197, 2, -999.000, 9,   -999.0, 9,   -999.0, 9,  -999.00, 9,  -999.00, 9, -999.000, 9, -999.000, -999.0000, 9, -999.0000,  -999.00, 9,  -999.00, -999.000, 9, -999.000,   -999.0, 9,   -999.0,  -999.00, 9, -999.0000, 9, -999.0000, 9, -999.0000, 9, -999.0000, 9, -999.0000, 9, -999.0000, 9, -999, 9, -999, 9, -999, 9, -999, 9, -999, 9, -999, 9, -999, 9,  -999.00, 9,  -999.00, 9,  -999.00, 9,  -999.00, 9,   3.2455,  -999.00, 9, 1544,   38.9420,  -52.2860
316N200309, A20, 20, 1, 14, 14, 2, 20030929, 1421, 38.9527, -52.3038, 5349,  2376.00,   2376.0,   3.4686,  34.9413, 2,  34.9408, 2,    268.0, 2,    269.5, 2,    13.78, 2,    17.55, 2,     0.00, 2,     1.16, 2,    1.515, 2,    0.746, 2,    0.079, 2, -999.000, 9,   -999.0, 9,   -999.0, 9,  -999.00, 9,  -999.00, 9, -999.000, 9, -999.000, -999.0000, 9, -999.0000,  -999.00, 9,  -999.00, -999.000, 9, -999.000,   -999.0, 9,   -999.0,  -999.00, 9, -999.0000, 9, -999.0000, 9, -999.0000, 9, -999.0000, 9, -999.0000, 9, -999.0000, 9, -999, 9, -999, 9, -999, 9, -999, 9, -999, 9, -999, 9, -999, 9,  -999.00, 9,  -999.00, 9,  -999.00, 9,  -999.00, 9,   3.2726,  -999.00, 9, 1538,   38.9430,  -52.2873
316N200309, A20, 20, 1, 13, 13, 2, 20030929, 1421, 38.9527, -52.3038, 5349,  2625.30,   2625.3,   3.3267,  34.9479, 2,  34.9473, 2,    265.4, 2,    266.8, 2,    15.90, 2,    17.81, 2,     0.00, 2,     1.18, 2, -999.000, 5, -999.000, 5, -999.000, 5, -999.000, 9,   -999.0, 9,   -999.0, 9,  -999.00, 9,  -999.00, 9, -999.000, 9, -999.000, -999.0000, 9, -999.0000,  -999.00, 9,  -999.00, -999.000, 9, -999.000,   -999.0, 9,   -999.0,  -999.00, 9, -999.0000, 9, -999.0000, 9, -999.0000, 9, -999.0000, 9, -999.0000, 9, -999.0000, 9, -999, 9, -999, 9, -999, 9, -999, 9, -999, 9, -999, 9, -999, 9,  -999.00, 9,  -999.00, 9,  -999.00, 9,  -999.00, 9,   3.1081,  -999.00, 9, 1533,   38.9439,  -52.2887
316N200309, A20, 20, 1, 12, 12, 2, 20030929, 1421, 38.9527, -52.3038, 5349,  2875.80,   2875.8,   3.1729,  34.9466, 2,  34.9463, 2,    264.1, 2,    265.6, 2,    17.71, 2,    17.90, 2,     0.00, 2,     1.19, 2,    0.785, 2,    0.383, 2,    0.028, 2, -999.000, 9,   -999.0, 9,   -999.0, 9,  -999.00, 9,  -999.00, 9, -999.000, 9, -999.000, -999.0000, 9, -999.0000,  -999.00, 9,  -999.00, -999.000, 9, -999.000,   -999.0, 9,   -999.0,  -999.00, 9, -999.0000, 9, -999.0000, 9, -999.0000, 9, -999.0000, 9, -999.0000, 9, -999.0000, 9, -999, 9, -999, 9, -999, 9, -999, 9, -999, 9, -999, 9, -999, 9,  -999.00, 9,  -999.00, 9,  -999.00, 9,  -999.00, 9,   2.9314,  -999.00, 9, 1527,   38.9447,  -52.2904
316N200309, A20, 20, 1, 11, 11, 2, 20030929, 1421, 38.9527, -52.3038, 5349,  3100.40,   3100.4,   2.9888,  34.9389, 2,  34.9380, 2,    264.6, 2,    266.4, 2,    19.21, 2,    17.85, 2,     0.00, 2,     1.20, 2,    0.706, 2,    0.348, 2,    0.031, 2, -999.000, 9,   -999.0, 9,   -999.0, 9,  -999.00, 9,  -999.00, 9, -999.000, 9, -999.000, -999.0000, 9, -999.0000,  -999.00, 9,  -999.00, -999.000, 9, -999.000,   -999.0, 9,   -999.0,  -999.00, 9, -999.0000, 9, -999.0000, 9, -999.0000, 9, -999.0000, 9, -999.0000, 9, -999.0000, 9, -999, 9, -999, 9, -999, 9, -999, 9, -999, 9, -999, 9, -999, 9,  -999.00, 9,  -999.00, 9,  -999.00, 9,  -999.00, 9,   2.7277,  -999.00, 9, 1522,   38.9455,  -52.2916