BOTTLE,20220816CCHSIOAMB
EXPOCODE,SECT_ID,STNNBR,CASTNO,SAMPNO,BTLNBR,BTLNBR_FLAG_W,DATE,TIME,LATITUDE,LONGITUDE,DEPTH,CTDRAW,CTDPRS,CTDTMP,CTDSAL,CTDSAL_FLAG_W,SALNTY,SALNTY_FLAG_W,CTDOXY,CTDOXY_FLAG_W,OXYGEN,OXYGEN_FLAG_W,SILCAT,SILCAT_FLAG_W,NITRAT,NITRAT_FLAG_W,NITRIT,NITRIT_FLAG_W,PHSPHT,PHSPHT_FLAG_W,CFC-11,CFC-11_FLAG_W,CFC-12,CFC-12_FLAG_W,CFC113,CFC113_FLAG_W,CCL4,CCL4_FLAG_W,TCARBN,TCARBN_FLAG_W,ALKALI,ALKALI_FLAG_W,DOC,DOC_FLAG_W,TDN,TDN_FLAG_W,TRITUM,TRITUM_FLAG_W,TRITER,HELIUM,HELIUM_FLAG_W,HELIER,DELHE3,DELHE3_FLAG_W,DELHER,NEON,NEON_FLAG_W,NEONER,DELC14,DELC14_FLAG_W,C14ERR,DELC13,DELC13_FLAG_W,CDOM325,CDOM325_FLAG_W,CDOM340,CDOM340_FLAG_W,CDOM380,CDOM380_FLAG_W,CDOM412,CDOM412_FLAG_W,CDOMSL,CDOMSL_FLAG_W,CDOMSN,CDOMSN_FLAG_W,DCNS,DCNS_FLAG_W,ARABI,ARABI_FLAG_W,FUCO,FUCO_FLAG_W,GALA,GALA_FLAG_W,GLUC,GLUC_FLAG_W,MAN,MAN_FLAG_W,RHAM,RHAM_FLAG_W,BRDU,BRDU_FLAG_W,PEUK,PEUK_FLAG_W,PROC,PROC_FLAG_W,SYN,SYN_FLAG_W,THETA,BACT,BACT_FLAG_W,BTL_TIME,BTL_LAT,BTL_LON
,,,,,,,,,,,METERS,DBAR,DBAR,ITS-90,PSS-78,,PSS-78,,UMOL/KG,,UMOL/KG,,UMOL/KG,,UMOL/KG,,UMOL/KG,,UMOL/KG,,PMOL/KG,,PMOL/KG,,PMOL/KG,,PMOL/KG,,UMOL/KG,,UMOL/KG,,UMOL/KG,,UMOL/KG,,TU,,TU,NMOL/KG,,NMOL/KG,PERCNT,,PERCNT,NMOL/KG,,NMOL/KG,/MILLE,,/MILLE,/MILLE,,1/M,,1/M,,1/M,,1/M,,1/NM,,1/NM,,NMOL/KG,,NMOL/KG,,NMOL/KG,,NMOL/KG,,NMOL/KG,,NMOL/KG,,NMOL/KG,,PMOL/L/H,,E6/L,,E7/L,,E6/L,,DEG C,E8/L,,,,
316N200309, A20, 16, 1, 36, 36, 2, 20030928, 1114, 40.0065, -51.8187, 4748,     2.90,      2.9,  21.0392,  34.9427, 2,  34.9477, 2,    220.5, 2,    225.2, 2,     0.05, 2,     0.10, 2,     0.00, 2,     0.08, 2,    2.242, 2,    1.324, 2,    0.186, 2, -999.000, 9,   2018.7, 2,   2310.7, 2,  -999.00, 9,  -999.00, 9, -999.000, 9, -999.000, -999.0000, 9, -999.0000,  -999.00, 9,  -999.00, -999.000, 9, -999.000,   -999.0, 9,   -999.0,  -999.00, 9, -999.0000, 9, -999.0000, 9, -999.0000, 9, -999.0000, 9, -999.0000, 9, -999.0000, 9, -999, 9, -999, 9, -999, 9, -999, 9, -999, 9, -999, 9, -999, 9,  -999.00, 9,  -999.00, 9,  -999.00, 9,  -999.00, 9,  21.0386,  -999.00, 9, 1316,   40.0175,  -51.8490
316N200309, A20, 16, 1, 35, 35, 2, 20030928, 1114, 40.0065, -51.8187, 4748,    30.50,     30.5,  21.4513,  35.1796, 2,  35.1768, 2,    217.7, 2,    222.6, 2,     0.11, 2,     0.09, 2,     0.00, 2,     0.04, 2,    2.181, 2,    1.300, 2,    0.179, 2, -999.000, 9,   -999.0, 9,   -999.0, 9,  -999.00, 9,  -999.00, 9, -999.000, 9, -999.000, -999.0000, 9, -999.0000,  -999.00, 9,  -999.00, -999.000, 9, -999.000,   -999.0, 9,   -999.0,  -999.00, 9, -999.0000, 9, -999.0000, 9, -999.0000, 9, -999.0000, 9, -999.0000, 9, -999.0000, 9, -999, 9, -999, 9, -999, 9, -999, 9, -999, 9, -999, 9, -999, 9,  -999.00, 9,  -999.00, 9,  -999.00, 9,  -999.00, 9,  21.4453,  -999.00, 9, 1314,   40.0173,  -51.8485
316N200309, A20, 16, 1, 34, 34, 2, 20030928, 1114, 40.0065, -51.8187, 4748,    55.40,     55.4,  18.2680,  35.6718, 2,  35.6520, 2,    205.8, 2,    210.9, 2,     0.88, 2,     2.59, 2,     0.21, 2,     0.22, 2,    2.575, 2,    1.464, 2,    0.167, 2, -999.000, 9,   -999.0, 9,   -999.0, 9,  -999.00, 9,  -999.00, 9, -999.000, 9, -999.000, -999.0000, 9, -999.0000,  -999.00, 9,  -999.00, -999.000, 9, -999.000,   -999.0, 9,   -999.0,  -999.00, 9, -999.0000, 9, -999.0000, 9, -999.0000, 9, -999.0000, 9, -999.0000, 9, -999.0000, 9, -999, 9, -999, 9, -999, 9, -999, 9, -999, 9, -999, 9, -999, 9,  -999.00, 9,  -999.00, 9,  -999.00, 9,  -999.00, 9,  18.2584,  -999.00, 9, 1312,   40.0172,  -51.8481
316N200309, A20, 16, 1, 33, 33, 2, 20030928, 1114, 40.0065, -51.8187, 4748,    80.30,     80.3,  17.4239,  36.2528, 2,  36.2554, 2,    172.6, 2,    175.2, 2,     2.16, 2,     7.34, 2,     0.04, 2,     0.42, 2,    2.360, 2,    1.342, 2,    0.065, 2, -999.000, 9,   -999.0, 9,   -999.0, 9,  -999.00, 9,  -999.00, 9, -999.000, 9, -999.000, -999.0000, 9, -999.0000,  -999.00, 9,  -999.00, -999.000, 9, -999.000,   -999.0, 9,   -999.0,  -999.00, 9, -999.0000, 9, -999.0000, 9, -999.0000, 9, -999.0000, 9, -999.0000, 9, -999.0000, 9, -999, 9, -999, 9, -999, 9, -999, 9, -999, 9, -999, 9, -999, 9,  -999.00, 9,  -999.00, 9,  -999.00, 9,  -999.00, 9,  17.4104,  -999.00, 9, 1310,   40.0170,  -51.8478
316N200309, A20, 16, 1, 32, 32, 2, 20030928, 1114, 40.0065, -51.8187, 4748,   104.80,    104.8,  16.8315,  36.2310, 2,  36.2297, 2,    170.4, 2,    174.3, 2,     2.42, 2,     8.48, 2,     0.03, 2,     0.48, 2,    2.362, 2,    1.305, 2,    0.052, 2, -999.000, 9,   -999.0, 9,   -999.0, 9,  -999.00, 9,  -999.00, 9, -999.000, 9, -999.000, -999.0000, 9, -999.0000,  -999.00, 9,  -999.00, -999.000, 9, -999.000,   -999.0, 9,   -999.0,  -999.00, 9, -999.0000, 9, -999.0000, 9, -999.0000, 9, -999.0000, 9, -999.0000, 9, -999.0000, 9, -999, 9, -999, 9, -999, 9, -999, 9, -999, 9, -999, 9, -999, 9,  -999.00, 9,  -999.00, 9,  -999.00, 9,  -999.00, 9,  16.8142,  -999.00, 9, 1309,   40.0168,  -51.8473
316N200309, A20, 16, 1, 31, 31, 2, 20030928, 1114, 40.0065, -51.8187, 4748,   175.70,    175.7,  13.0991,  35.5216, 2,  35.5225, 2,    187.8, 2,    193.0, 2,     3.81, 2,    11.45, 2,     0.02, 2,     0.73, 2,    2.694, 2,    1.483, 2,    0.140, 2, -999.000, 9,   -999.0, 9,   -999.0, 9,  -999.00, 9,  -999.00, 9, -999.000, 9, -999.000, -999.0000, 9, -999.0000,  -999.00, 9,  -999.00, -999.000, 9, -999.000,   -999.0, 9,   -999.0,  -999.00, 9, -999.0000, 9, -999.0000, 9, -999.0000, 9, -999.0000, 9, -999.0000, 9, -999.0000, 9, -999, 9, -999, 9, -999, 9, -999, 9, -999, 9, -999, 9, -999, 9,  -999.00, 9,  -999.00, 9,  -999.00, 9,  -999.00, 9,  13.0747,  -999.00, 9, 1306,   40.0166,  -51.8468
316N200309, A20, 16, 1, 29, 29, 2, 20030928, 1114, 40.0065, -51.8187, 4748,   225.40,    225.4,  12.0453,  35.4079, 2,  35.4111, 2,    197.3, 2,    203.0, 2,     5.05, 2,    12.73, 2,     0.01, 2,     0.82, 2,    2.667, 2,    1.459, 2,    0.162, 2, -999.000, 9,   -999.0, 9,   -999.0, 9,  -999.00, 9,  -999.00, 9, -999.000, 9, -999.000, -999.0000, 9, -999.0000,  -999.00, 9,  -999.00, -999.000, 9, -999.000,   -999.0, 9,   -999.0,  -999.00, 9, -999.0000, 9, -999.0000, 9, -999.0000, 9, -999.0000, 9, -999.0000, 9, -999.0000, 9, -999, 9, -999, 9, -999, 9, -999, 9, -999, 9, -999, 9, -999, 9,  -999.00, 9,  -999.00, 9,  -999.00, 9,  -999.00, 9,  12.0157,  -999.00, 9, 1304,   40.0163,  -51.8462
316N200309, A20, 16, 1, 30, 30, 2, 20030928, 1114, 40.0065, -51.8187, 4748,   225.60,    225.6,  12.0459,  35.4077, 2,  35.4076, 2,    197.3, 2,    203.4, 2,     4.89, 2,    12.63, 2,     0.01, 2,     0.81, 2,    2.740, 2,    1.501, 2,    0.177, 2, -999.000, 9,   -999.0, 9,   -999.0, 9,  -999.00, 9,  -999.00, 9, -999.000, 9, -999.000, -999.0000, 9, -999.0000,  -999.00, 9,  -999.00, -999.000, 9, -999.000,   -999.0, 9,   -999.0,  -999.00, 9, -999.0000, 9, -999.0000, 9, -999.0000, 9, -999.0000, 9, -999.0000, 9, -999.0000, 9, -999, 9, -999, 9, -999, 9, -999, 9, -999, 9, -999, 9, -999, 9,  -999.00, 9,  -999.00, 9,  -999.00, 9,  -999.00, 9,  12.0163,  -999.00, 9, 1304,   40.0163,  -51.8463
316N200309, A20, 16, 1, 28, 28, 2, 20030928, 1114, 40.0065, -51.8187, 4748,   280.70,    280.7,  11.4864,  35.3960, 2,  35.3973, 2,    176.5, 2,    172.4, 2,     7.88, 2,    17.28, 2,     0.01, 2,     1.09, 2,    2.064, 2,    1.136, 2,    0.103, 2, -999.000, 9,   -999.0, 9,   -999.0, 9,  -999.00, 9,  -999.00, 9, -999.000, 9, -999.000, -999.0000, 9, -999.0000,  -999.00, 9,  -999.00, -999.000, 9, -999.000,   -999.0, 9,   -999.0,  -999.00, 9, -999.0000, 9, -999.0000, 9, -999.0000, 9, -999.0000, 9, -999.0000, 9, -999.0000, 9, -999, 9, -999, 9, -999, 9, -999, 9, -999, 9, -999, 9, -999, 9,  -999.00, 9,  -999.00, 9,  -999.00, 9,  -999.00, 9,  11.4505,  -999.00, 9, 1302,   40.0162,  -51.8458
316N200309, A20, 16, 1, 27, 27, 2, 20030928, 1114, 40.0065, -51.8187, 4748,   356.20,    356.2,   9.9843,  35.2466, 2,  35.2475, 2,    151.2, 2,    145.5, 2,    11.74, 2,    22.45, 2,     0.01, 2,     1.43, 2,    1.341, 2,    0.717, 2,    0.044, 2, -999.000, 9,   -999.0, 9,   -999.0, 9,  -999.00, 9,  -999.00, 9, -999.000, 9, -999.000, -999.0000, 9, -999.0000,  -999.00, 9,  -999.00, -999.000, 9, -999.000,   -999.0, 9,   -999.0,  -999.00, 9, -999.0000, 9, -999.0000, 9, -999.0000, 9, -999.0000, 9, -999.0000, 9, -999.0000, 9, -999, 9, -999, 9, -999, 9, -999, 9, -999, 9, -999, 9, -999, 9,  -999.00, 9,  -999.00, 9,  -999.00, 9,  -999.00, 9,   9.9425,  -999.00, 9, 1300,   40.0160,  -51.8451
316N200309, A20, 16, 1, 26, 26, 2, 20030928, 1114, 40.0065, -51.8187, 4748,   456.10,    456.1,   8.2367,  35.1094, 2,  35.1075, 2,    148.3, 2,    155.9, 2,    13.87, 2,    23.81, 2,     0.01, 2,     1.53, 2,    1.159, 2,    0.642, 2,    0.057, 2, -999.000, 9,   -999.0, 9,   -999.0, 9,  -999.00, 9,  -999.00, 9, -999.000, 9, -999.000, -999.0000, 9, -999.0000,  -999.00, 9,  -999.00, -999.000, 9, -999.000,   -999.0, 9,   -999.0,  -999.00, 9, -999.0000, 9, -999.0000, 9, -999.0000, 9, -999.0000, 9, -999.0000, 9, -999.0000, 9, -999, 9, -999, 9, -999, 9, -999, 9, -999, 9, -999, 9, -999, 9,  -999.00, 9,  -999.00, 9,  -999.00, 9,  -999.00, 9,   8.1889,  -999.00, 9, 1257,   40.0158,  -51.8445
316N200309, A20, 16, 1, 25, 25, 2, 20030928, 1114, 40.0065, -51.8187, 4748,   555.20,    555.2,   6.7150,  35.0714, 2,  35.0703, 2,    192.2, 2,    193.6, 2,    12.69, 2,    21.16, 2,     0.01, 2,     1.38, 2,    1.621, 2,    0.841, 2,    0.077, 2, -999.000, 9,   -999.0, 9,   -999.0, 9,  -999.00, 9,  -999.00, 9, -999.000, 9, -999.000, -999.0000, 9, -999.0000,  -999.00, 9,  -999.00, -999.000, 9, -999.000,   -999.0, 9,   -999.0,  -999.00, 9, -999.0000, 9, -999.0000, 9, -999.0000, 9, -999.0000, 9, -999.0000, 9, -999.0000, 9, -999, 9, -999, 9, -999, 9, -999, 9, -999, 9, -999, 9, -999, 9,  -999.00, 9,  -999.00, 9,  -999.00, 9,  -999.00, 9,   6.6628,  -999.00, 9, 1254,   40.0156,  -51.8438
316N200309, A20, 16, 1, 24, 24, 2, 20030928, 1114, 40.0065, -51.8187, 4748,   674.40,    674.4,   5.8176,  35.0473, 2,  35.0468, 2,    217.2, 2,    215.9, 2,    12.14, 2,    19.86, 2,     0.00, 2,     1.30, 2,    1.923, 2,    0.993, 2,    0.102, 2, -999.000, 9,   -999.0, 9,   -999.0, 9,  -999.00, 9,  -999.00, 9, -999.000, 9, -999.000, -999.0000, 9, -999.0000,  -999.00, 9,  -999.00, -999.000, 9, -999.000,   -999.0, 9,   -999.0,  -999.00, 9, -999.0000, 9, -999.0000, 9, -999.0000, 9, -999.0000, 9, -999.0000, 9, -999.0000, 9, -999, 9, -999, 9, -999, 9, -999, 9, -999, 9, -999, 9, -999, 9,  -999.00, 9,  -999.00, 9,  -999.00, 9,  -999.00, 9,   5.7582,  -999.00, 9, 1251,   40.0154,  -51.8432
316N200309, A20, 16, 1, 23, 23, 2, 20030928, 1114, 40.0065, -51.8187, 4748,   823.70,    823.7,   4.9041,  35.0069, 2,  35.0067, 2,    240.2, 2,    249.7, 3,    11.69, 2,    18.80, 2,     0.00, 2,     1.24, 2,    2.117, 6,    1.108, 6,    0.119, 2,    2.132, 2,   -999.0, 9,   -999.0, 9,  -999.00, 9,  -999.00, 9, -999.000, 9, -999.000, -999.0000, 9, -999.0000,  -999.00, 9,  -999.00, -999.000, 9, -999.000,   -999.0, 9,   -999.0,  -999.00, 9, -999.0000, 9, -999.0000, 9, -999.0000, 9, -999.0000, 9, -999.0000, 9, -999.0000, 9, -999, 9, -999, 9, -999, 9, -999, 9, -999, 9, -999, 9, -999, 9,  -999.00, 9,  -999.00, 9,  -999.00, 9,  -999.00, 9,   4.8364,  -999.00, 9, 1248,   40.0150,  -51.8425
316N200309, A20, 16, 1, 22, 22, 2, 20030928, 1114, 40.0065, -51.8187, 4748,   973.30,    973.3,   4.5336,  34.9946, 2,  34.9955, 2,    251.0, 2,    256.9, 3,    11.45, 2,    18.36, 2,     0.00, 2,     1.21, 2,    2.180, 2,    1.089, 2,    0.122, 2, -999.000, 9,   -999.0, 9,   -999.0, 9,  -999.00, 9,  -999.00, 9, -999.000, 9, -999.000, -999.0000, 9, -999.0000,  -999.00, 9,  -999.00, -999.000, 9, -999.000,   -999.0, 9,   -999.0,  -999.00, 9, -999.0000, 9, -999.0000, 9, -999.0000, 9, -999.0000, 9, -999.0000, 9, -999.0000, 9, -999, 9, -999, 9, -999, 9, -999, 9, -999, 9, -999, 9, -999, 9,  -999.00, 9,  -999.00, 9,  -999.00, 9,  -999.00, 9,   4.4554,  -999.00, 9, 1244,   40.0147,  -51.8417
316N200309, A20, 16, 1, 21, 21, 2, 20030928, 1114, 40.0065, -51.8187, 4748,  1129.00,   1129.0,   4.2189,  34.9772, 2,  34.9784, 2,    256.7, 2,    257.0, 2,    11.50, 2,    18.15, 2,     0.00, 2,     1.19, 2,    2.080, 2,    1.027, 2,    0.118, 2, -999.000, 9,   -999.0, 9,   -999.0, 9,  -999.00, 9,  -999.00, 9, -999.000, 9, -999.000, -999.0000, 9, -999.0000,  -999.00, 9,  -999.00, -999.000, 9, -999.000,   -999.0, 9,   -999.0,  -999.00, 9, -999.0000, 9, -999.0000, 9, -999.0000, 9, -999.0000, 9, -999.0000, 9, -999.0000, 9, -999, 9, -999, 9, -999, 9, -999, 9, -999, 9, -999, 9, -999, 9,  -999.00, 9,  -999.00, 9,  -999.00, 9,  -999.00, 9,   4.1296,  -999.00, 9, 1241,   40.0144,  -51.8406
316N200309, A20, 16, 1, 20, 20, 2, 20030928, 1114, 40.0065, -51.8187, 4748,  1278.70,   1278.7,   3.9870,  34.9638, 2,  34.9644, 2,    262.3, 2,    262.1, 2,    11.67, 2,    17.95, 2,     0.00, 2,     1.18, 2,    1.994, 2,    0.991, 2,    0.107, 2, -999.000, 9,   -999.0, 9,   -999.0, 9,  -999.00, 9,  -999.00, 9, -999.000, 9, -999.000, -999.0000, 9, -999.0000,  -999.00, 9,  -999.00, -999.000, 9, -999.000,   -999.0, 9,   -999.0,  -999.00, 9, -999.0000, 9, -999.0000, 9, -999.0000, 9, -999.0000, 9, -999.0000, 9, -999.0000, 9, -999, 9, -999, 9, -999, 9, -999, 9, -999, 9, -999, 9, -999, 9,  -999.00, 9,  -999.00, 9,  -999.00, 9,  -999.00, 9,   3.8868,  -999.00, 9, 1237,   40.0141,  -51.8398
316N200309, A20, 16, 1, 19, 19, 2, 20030928, 1114, 40.0065, -51.8187, 4748,  1403.20,   1403.2,   3.8431,  34.9548, 2,  34.9551, 2,    264.9, 2,    265.1, 2,    11.93, 2,    17.84, 2,     0.00, 2,     1.18, 2,    1.903, 2,    0.947, 2,    0.108, 2, -999.000, 9,   -999.0, 9,   -999.0, 9,  -999.00, 9,  -999.00, 9, -999.000, 9, -999.000, -999.0000, 9, -999.0000,  -999.00, 9,  -999.00, -999.000, 9, -999.000,   -999.0, 9,   -999.0,  -999.00, 9, -999.0000, 9, -999.0000, 9, -999.0000, 9, -999.0000, 9, -999.0000, 9, -999.0000, 9, -999, 9, -999, 9, -999, 9, -999, 9, -999, 9, -999, 9, -999, 9,  -999.00, 9,  -999.00, 9,  -999.00, 9,  -999.00, 9,   3.7333,  -999.00, 9, 1234,   40.0138,  -51.8392
316N200309, A20, 16, 1, 18, 18, 2, 20030928, 1114, 40.0065, -51.8187, 4748,  1502.40,   1502.4,   3.7751,  34.9508, 2,  34.9506, 2,    267.1, 2,    275.8, 3,    12.10, 2,    17.74, 2,     0.00, 2,     1.17, 2,    1.862, 2,    0.926, 2,    0.104, 2, -999.000, 9,   -999.0, 9,   -999.0, 9,  -999.00, 9,  -999.00, 9, -999.000, 9, -999.000, -999.0000, 9, -999.0000,  -999.00, 9,  -999.00, -999.000, 9, -999.000,   -999.0, 9,   -999.0,  -999.00, 9, -999.0000, 9, -999.0000, 9, -999.0000, 9, -999.0000, 9, -999.0000, 9, -999.0000, 9, -999, 9, -999, 9, -999, 9, -999, 9, -999, 9, -999, 9, -999, 9,  -999.00, 9,  -999.00, 9,  -999.00, 9,  -999.00, 9,   3.6573,  -999.00, 9, 1231,   40.0137,  -51.8385
316N200309, A20, 16, 1, 17, 17, 2, 20030928, 1114, 40.0065, -51.8187, 4748,  1618.10,   1618.1,   3.6931,  34.9466, 2,  34.9465, 2,    268.9, 2,    270.4, 2,    12.27, 2,    17.63, 2,     0.00, 2,     1.17, 2,    1.796, 2,    0.886, 2,    0.088, 2, -999.000, 9,   -999.0, 9,   -999.0, 9,  -999.00, 9,  -999.00, 9, -999.000, 9, -999.000, -999.0000, 9, -999.0000,  -999.00, 9,  -999.00, -999.000, 9, -999.000,   -999.0, 9,   -999.0,  -999.00, 9, -999.0000, 9, -999.0000, 9, -999.0000, 9, -999.0000, 9, -999.0000, 9, -999.0000, 9, -999, 9, -999, 9, -999, 9, -999, 9, -999, 9, -999, 9, -999, 9,  -999.00, 9,  -999.00, 9,  -999.00, 9,  -999.00, 9,   3.5658,  -999.00, 9, 1228,   40.0134,  -51.8378
316N200309, A20, 16, 1, 16, 16, 2, 20030928, 1114, 40.0065, -51.8187, 4748,  1764.90,   1764.9,   3.5893,  34.9428, 2,  34.9429, 2,    269.3, 2,    271.3, 2,    12.75, 2,    17.58, 2,     0.00, 2,     1.17, 2,    1.678, 2,    0.832, 2,    0.080, 2, -999.000, 9,   -999.0, 9,   -999.0, 9,  -999.00, 9,  -999.00, 9, -999.000, 9, -999.000, -999.0000, 9, -999.0000,  -999.00, 9,  -999.00, -999.000, 9, -999.000,   -999.0, 9,   -999.0,  -999.00, 9, -999.0000, 9, -999.0000, 9, -999.0000, 9, -999.0000, 9, -999.0000, 9, -999.0000, 9, -999, 9, -999, 9, -999, 9, -999, 9, -999, 9, -999, 9, -999, 9,  -999.00, 9,  -999.00, 9,  -999.00, 9,  -999.00, 9,   3.4500,  -999.00, 9, 1225,   40.0129,  -51.8370
316N200309, A20, 16, 1, 15, 15, 2, 20030928, 1114, 40.0065, -51.8187, 4748,  1916.30,   1916.3,   3.5130,  34.9418, 2,  34.9425, 2,    269.7, 2,    271.0, 2,    13.22, 2,    17.62, 2,     0.00, 2,     1.17, 2,    1.566, 2,    0.780, 2,    0.077, 2, -999.000, 9,   -999.0, 9,   -999.0, 9,  -999.00, 9,  -999.00, 9, -999.000, 9, -999.000, -999.0000, 9, -999.0000,  -999.00, 9,  -999.00, -999.000, 9, -999.000,   -999.0, 9,   -999.0,  -999.00, 9, -999.0000, 9, -999.0000, 9, -999.0000, 9, -999.0000, 9, -999.0000, 9, -999.0000, 9, -999, 9, -999, 9, -999, 9, -999, 9, -999, 9, -999, 9, -999, 9,  -999.00, 9,  -999.00, 9,  -999.00, 9,  -999.00, 9,   3.3607,  -999.00, 9, 1221,   40.0125,  -51.8359
316N200309, A20, 16, 1, 14, 14, 2, 20030928, 1114, 40.0065, -51.8187, 4748,  2120.90,   2120.9,   3.4107,  34.9419, 2,  34.9419, 2,    269.5, 2,    269.9, 2,    14.01, 2,    17.62, 2,     0.00, 2,     1.17, 2,    1.417, 2,    0.711, 2,    0.072, 2, -999.000, 9,   -999.0, 9,   -999.0, 9,  -999.00, 9,  -999.00, 9, -999.000, 9, -999.000, -999.0000, 9, -999.0000,  -999.00, 9,  -999.00, -999.000, 9, -999.000,   -999.0, 9,   -999.0,  -999.00, 9, -999.0000, 9, -999.0000, 9, -999.0000, 9, -999.0000, 9, -999.0000, 9, -999.0000, 9, -999, 9, -999, 9, -999, 9, -999, 9, -999, 9, -999, 9, -999, 9,  -999.00, 9,  -999.00, 9,  -999.00, 9,  -999.00, 9,   3.2405,  -999.00, 9, 1216,   40.0121,  -51.8348
316N200309, A20, 16, 1, 13, 13, 2, 20030928, 1114, 40.0065, -51.8187, 4748,  2373.80,   2373.8,   3.2862,  34.9459, 2,  34.9453, 2,    267.6, 2,    267.4, 2,    15.72, 2,    17.76, 2,     0.00, 2,     1.18, 2,    1.040, 2,    0.526, 2,    0.044, 2, -999.000, 9,   -999.0, 9,   -999.0, 9,  -999.00, 9,  -999.00, 9, -999.000, 9, -999.000, -999.0000, 9, -999.0000,  -999.00, 9,  -999.00, -999.000, 9, -999.000,   -999.0, 9,   -999.0,  -999.00, 9, -999.0000, 9, -999.0000, 9, -999.0000, 9, -999.0000, 9, -999.0000, 9, -999.0000, 9, -999, 9, -999, 9, -999, 9, -999, 9, -999, 9, -999, 9, -999, 9,  -999.00, 9,  -999.00, 9,  -999.00, 9,  -999.00, 9,   3.0935,  -999.00, 9, 1211,   40.0114,  -51.8337
316N200309, A20, 16, 1, 12, 12, 2, 20030928, 1114, 40.0065, -51.8187, 4748,  2623.70,   2623.7,   3.0699,  34.9426, 2,  34.9433, 2,    267.1, 2,    266.5, 2,    18.06, 2,    17.91, 2,     0.00, 2,     1.20, 2,    0.774, 2,    0.381, 2,    0.031, 2, -999.000, 9,   -999.0, 9,   -999.0, 9,  -999.00, 9,  -999.00, 9, -999.000, 9, -999.000, -999.0000, 9, -999.0000,  -999.00, 9,  -999.00, -999.000, 9, -999.000,   -999.0, 9,   -999.0,  -999.00, 9, -999.0000, 9, -999.0000, 9, -999.0000, 9, -999.0000, 9, -999.0000, 9, -999.0000, 9, -999, 9, -999, 9, -999, 9, -999, 9, -999, 9, -999, 9, -999, 9,  -999.00, 9,  -999.00, 9,  -999.00, 9,  -999.00, 9,   2.8564,  -999.00, 9, 1205,   40.0106,  -51.8323
316N200309, A20, 16, 1, 11, 11, 2, 20030928, 1114, 40.0065, -51.8187, 4748,  2871.30,   2871.3,   2.8683,  34.9332, 2,  34.9333, 2,    267.4, 2,    267.0, 2,    19.47, 2,    17.90, 2,     0.00, 2,     1.20, 2,    0.754, 2,    0.378, 2,    0.023, 2, -999.000, 9,   -999.0, 9,   -999.0, 9,  -999.00, 9,  -999.00, 9, -999.000, 9, -999.000, -999.0000, 9, -999.0000,  -999.00, 9,  -999.00, -999.000, 9, -999.000,   -999.0, 9,   -999.0,  -999.00, 9, -999.0000, 9, -999.0000, 9, -999.0000, 9, -999.0000, 9, -999.0000, 9, -999.0000, 9, -999, 9, -999, 9, -999, 9, -999, 9, -999, 9, -999, 9, -999, 9,  -999.00, 9,  -999.00, 9,  -999.00, 9,  -999.00, 9,   2.6337,  -999.00, 9, 1159,   40.0100,  -51.8312