BOTTLE,20220816CCHSIOAMB
EXPOCODE,SECT_ID,STNNBR,CASTNO,SAMPNO,BTLNBR,BTLNBR_FLAG_W,DATE,TIME,LATITUDE,LONGITUDE,DEPTH,CTDRAW,CTDPRS,CTDTMP,CTDSAL,CTDSAL_FLAG_W,SALNTY,SALNTY_FLAG_W,CTDOXY,CTDOXY_FLAG_W,OXYGEN,OXYGEN_FLAG_W,SILCAT,SILCAT_FLAG_W,NITRAT,NITRAT_FLAG_W,NITRIT,NITRIT_FLAG_W,PHSPHT,PHSPHT_FLAG_W,CFC-11,CFC-11_FLAG_W,CFC-12,CFC-12_FLAG_W,CFC113,CFC113_FLAG_W,CCL4,CCL4_FLAG_W,TCARBN,TCARBN_FLAG_W,ALKALI,ALKALI_FLAG_W,DOC,DOC_FLAG_W,TDN,TDN_FLAG_W,TRITUM,TRITUM_FLAG_W,TRITER,HELIUM,HELIUM_FLAG_W,HELIER,DELHE3,DELHE3_FLAG_W,DELHER,NEON,NEON_FLAG_W,NEONER,DELC14,DELC14_FLAG_W,C14ERR,DELC13,DELC13_FLAG_W,CDOM325,CDOM325_FLAG_W,CDOM340,CDOM340_FLAG_W,CDOM380,CDOM380_FLAG_W,CDOM412,CDOM412_FLAG_W,CDOMSL,CDOMSL_FLAG_W,CDOMSN,CDOMSN_FLAG_W,DCNS,DCNS_FLAG_W,ARABI,ARABI_FLAG_W,FUCO,FUCO_FLAG_W,GALA,GALA_FLAG_W,GLUC,GLUC_FLAG_W,MAN,MAN_FLAG_W,RHAM,RHAM_FLAG_W,BRDU,BRDU_FLAG_W,PEUK,PEUK_FLAG_W,PROC,PROC_FLAG_W,SYN,SYN_FLAG_W,THETA,BACT,BACT_FLAG_W,BTL_TIME,BTL_LAT,BTL_LON
,,,,,,,,,,,METERS,DBAR,DBAR,ITS-90,PSS-78,,PSS-78,,UMOL/KG,,UMOL/KG,,UMOL/KG,,UMOL/KG,,UMOL/KG,,UMOL/KG,,PMOL/KG,,PMOL/KG,,PMOL/KG,,PMOL/KG,,UMOL/KG,,UMOL/KG,,UMOL/KG,,UMOL/KG,,TU,,TU,NMOL/KG,,NMOL/KG,PERCNT,,PERCNT,NMOL/KG,,NMOL/KG,/MILLE,,/MILLE,/MILLE,,1/M,,1/M,,1/M,,1/M,,1/NM,,1/NM,,NMOL/KG,,NMOL/KG,,NMOL/KG,,NMOL/KG,,NMOL/KG,,NMOL/KG,,NMOL/KG,,PMOL/L/H,,E6/L,,E7/L,,E6/L,,DEG C,E8/L,,,,
316N200309, A20, 39, 1, 10, 10, 2, 20031008, 0324, 24.8685, -52.3362, 5034,  3001.30,   3001.3,   2.7266,  34.9318, 2,  34.9315, 2,    250.7, 2,    251.5, 2,    33.41, 2,    20.33, 2,     0.00, 2,     1.39, 2,    0.020, 2,    0.016, 2,    0.004, 2,    0.207, 2,   2182.4, 2,   2331.6, 2,  -999.00, 9,  -999.00, 9, -999.000, 9, -999.000, -999.0000, 9, -999.0000,  -999.00, 9,  -999.00, -999.000, 9, -999.000,   -999.0, 9,   -999.0,  -999.00, 9, -999.0000, 9, -999.0000, 9, -999.0000, 9, -999.0000, 9, -999.0000, 9, -999.0000, 9, -999, 9, -999, 9, -999, 9, -999, 9, -999, 9, -999, 9, -999, 9,  -999.00, 9,  -999.00, 9,  -999.00, 9,  -999.00, 9,   2.4817,  -999.00, 9,  412,   24.8744,  -52.3323
316N200309, A20, 39, 1, 9, 9, 2, 20031008, 0324, 24.8685, -52.3362, 5034,  3201.80,   3201.8,   2.6160,  34.9218, 2,  34.9219, 2,    251.8, 2,    252.2, 2,    35.20, 2,    20.45, 2,     0.00, 2,     1.40, 2,    0.019, 2,    0.022, 2,    0.002, 2,    0.171, 2,   2183.6, 2,   2332.4, 2,  -999.00, 9,  -999.00, 9, -999.000, 9, -999.000, -999.0000, 9, -999.0000,  -999.00, 9,  -999.00, -999.000, 9, -999.000,   -999.0, 9,   -999.0,  -999.00, 9, -999.0000, 9, -999.0000, 9, -999.0000, 9, -999.0000, 9, -999.0000, 9, -999.0000, 9, -999, 9, -999, 9, -999, 9, -999, 9, -999, 9, -999, 9, -999, 9,  -999.00, 9,  -999.00, 9,  -999.00, 9,  -999.00, 9,   2.3527,  -999.00, 9,  407,   24.8740,  -52.3328
316N200309, A20, 39, 1, 8, 8, 2, 20031008, 0324, 24.8685, -52.3362, 5034,  3400.10,   3400.1,   2.4853,  34.9101, 2,  34.9117, 2,    252.9, 2,    253.5, 2,    37.20, 2,    20.59, 2,     0.00, 2,     1.41, 2,    0.027, 2,    0.028, 2,    0.001, 2,    0.192, 2,   2184.9, 2,   2332.9, 2,  -999.00, 9,  -999.00, 9, -999.000, 9, -999.000, -999.0000, 9, -999.0000,  -999.00, 9,  -999.00, -999.000, 9, -999.000,   -999.0, 9,   -999.0,  -999.00, 9, -999.0000, 9, -999.0000, 9, -999.0000, 9, -999.0000, 9, -999.0000, 9, -999.0000, 9, -999, 9, -999, 9, -999, 9, -999, 9, -999, 9, -999, 9, -999, 9,  -999.00, 9,  -999.00, 9,  -999.00, 9,  -999.00, 9,   2.2040,  -999.00, 9,  403,   24.8735,  -52.3332
316N200309, A20, 39, 1, 7, 7, 2, 20031008, 0324, 24.8685, -52.3362, 5034,  3600.70,   3600.7,   2.4040,  34.9023, 2,  34.9040, 2,    254.1, 2,    254.4, 2,    38.37, 2,    20.58, 2,     0.00, 2,     1.41, 2,    0.018, 2,    0.021, 2,    0.004, 2,    0.183, 2,   2184.0, 2,   2334.4, 2,  -999.00, 9,  -999.00, 9, -999.000, 9, -999.000, -999.0000, 9, -999.0000,  -999.00, 9,  -999.00, -999.000, 9, -999.000,   -999.0, 9,   -999.0,  -999.00, 9, -999.0000, 9, -999.0000, 9, -999.0000, 9, -999.0000, 9, -999.0000, 9, -999.0000, 9, -999, 9, -999, 9, -999, 9, -999, 9, -999, 9, -999, 9, -999, 9,  -999.00, 9,  -999.00, 9,  -999.00, 9,  -999.00, 9,   2.1031,  -999.00, 9,  359,   24.8730,  -52.3335
316N200309, A20, 39, 1, 6, 6, 2, 20031008, 0324, 24.8685, -52.3362, 5034,  3801.30,   3801.3,   2.3445,  34.8962, 2,  34.8961, 2,    255.1, 2,    255.9, 3,    39.21, 2,    20.67, 2,     0.00, 2,     1.42, 2,    0.024, 2,    0.010, 2,    0.008, 2,    0.209, 2,   2183.4, 2,   2323.7, 3,  -999.00, 9,  -999.00, 9, -999.000, 9, -999.000, -999.0000, 9, -999.0000,  -999.00, 9,  -999.00, -999.000, 9, -999.000,   -999.0, 9,   -999.0,  -999.00, 9, -999.0000, 9, -999.0000, 9, -999.0000, 9, -999.0000, 9, -999.0000, 9, -999.0000, 9, -999, 9, -999, 9, -999, 9, -999, 9, -999, 9, -999, 9, -999, 9,  -999.00, 9,  -999.00, 9,  -999.00, 9,  -999.00, 9,   2.0230,  -999.00, 9,  354,   24.8725,  -52.3339
316N200309, A20, 39, 1, 5, 5, 2, 20031008, 0324, 24.8685, -52.3362, 5034,  4049.70,   4049.7,   2.2691,  34.8883, 2,  34.8882, 2,    255.7, 2,    255.5, 2,    40.58, 2,    20.71, 2,     0.00, 2,     1.42, 2,    0.032, 2,    0.032, 2,    0.010, 2,    0.260, 2,   2185.8, 2,   2332.9, 2,  -999.00, 9,  -999.00, 9, -999.000, 9, -999.000, -999.0000, 9, -999.0000,  -999.00, 9,  -999.00, -999.000, 9, -999.000,   -999.0, 9,   -999.0,  -999.00, 9, -999.0000, 9, -999.0000, 9, -999.0000, 9, -999.0000, 9, -999.0000, 9, -999.0000, 9, -999, 9, -999, 9, -999, 9, -999, 9, -999, 9, -999, 9, -999, 9,  -999.00, 9,  -999.00, 9,  -999.00, 9,  -999.00, 9,   1.9217,  -999.00, 9,  349,   24.8719,  -52.3344
316N200309, A20, 39, 1, 4, 4, 2, 20031008, 0324, 24.8685, -52.3362, 5034,  4299.00,   4299.0,   2.1967,  34.8790, 2,  34.8794, 2,    254.7, 2,    254.7, 2,    43.43, 2,    21.04, 2,     0.00, 2,     1.45, 2,    0.038, 2,    0.028, 2,    0.000, 2,    0.237, 2,   2189.1, 2,   2336.6, 2,  -999.00, 9,  -999.00, 9, -999.000, 9, -999.000, -999.0000, 9, -999.0000,  -999.00, 9,  -999.00, -999.000, 9, -999.000,   -999.0, 9,   -999.0,  -999.00, 9, -999.0000, 9, -999.0000, 9, -999.0000, 9, -999.0000, 9, -999.0000, 9, -999.0000, 9, -999, 9, -999, 9, -999, 9, -999, 9, -999, 9, -999, 9, -999, 9,  -999.00, 9,  -999.00, 9,  -999.00, 9,  -999.00, 9,   1.8226,  -999.00, 9,  344,   24.8713,  -52.3348
316N200309, A20, 39, 1, 3, 3, 2, 20031008, 0324, 24.8685, -52.3362, 5034,  4550.10,   4550.1,   2.1274,  34.8682, 2,  34.8684, 2,    252.5, 2,    252.5, 2,    47.97, 2,    21.65, 2,     0.00, 2,     1.49, 2,    0.032, 2,    0.023, 2,    0.009, 2,    0.262, 2,   2193.9, 2,   2336.3, 2,  -999.00, 9,  -999.00, 9, -999.000, 9, -999.000, -999.0000, 9, -999.0000,  -999.00, 9,  -999.00, -999.000, 9, -999.000,   -999.0, 9,   -999.0,  -999.00, 9, -999.0000, 9, -999.0000, 9, -999.0000, 9, -999.0000, 9, -999.0000, 9, -999.0000, 9, -999, 9, -999, 9, -999, 9, -999, 9, -999, 9, -999, 9, -999, 9,  -999.00, 9,  -999.00, 9,  -999.00, 9,  -999.00, 9,   1.7258,  -999.00, 9,  339,   24.8706,  -52.3353
316N200309, A20, 39, 1, 2, 2, 2, 20031008, 0324, 24.8685, -52.3362, 5034,  4800.10,   4800.1,   2.0978,  34.8614, 2,  34.8631, 2,    250.6, 2,    251.0, 2,    50.84, 2,    22.02, 2,     0.00, 2,     1.51, 2,    0.030, 2,    0.027, 2,    0.004, 2,    0.194, 2,   2197.8, 2,   2340.5, 2,  -999.00, 9,  -999.00, 9, -999.000, 9, -999.000, -999.0000, 9, -999.0000,  -999.00, 9,  -999.00, -999.000, 9, -999.000,   -999.0, 9,   -999.0,  -999.00, 9, -999.0000, 9, -999.0000, 9, -999.0000, 9, -999.0000, 9, -999.0000, 9, -999.0000, 9, -999, 9, -999, 9, -999, 9, -999, 9, -999, 9, -999, 9, -999, 9,  -999.00, 9,  -999.00, 9,  -999.00, 9,  -999.00, 9,   1.6668,  -999.00, 9,  332,   24.8697,  -52.3357
316N200309, A20, 39, 1, 1, 1, 2, 20031008, 0324, 24.8685, -52.3362, 5034,  5096.00,   5096.0,   2.0920,  34.8564, 2,  34.8595, 2,    251.0, 2,    250.3, 2,    52.42, 2,    22.25, 2,     0.00, 2,     1.53, 2,    0.032, 2,    0.028, 2,    0.004, 2,    0.265, 2,   2200.1, 2,   2341.5, 2,  -999.00, 9,  -999.00, 9, -999.000, 9, -999.000, -999.0000, 9, -999.0000,  -999.00, 9,  -999.00, -999.000, 9, -999.000,   -999.0, 9,   -999.0,  -999.00, 9, -999.0000, 9, -999.0000, 9, -999.0000, 9, -999.0000, 9, -999.0000, 9, -999.0000, 9, -999, 9, -999, 9, -999, 9, -999, 9, -999, 9, -999, 9, -999, 9,  -999.00, 9,  -999.00, 9,  -999.00, 9,  -999.00, 9,   1.6245,  -999.00, 9,  325,   24.8685,  -52.3361