BOTTLE,20220816CCHSIOAMB
EXPOCODE,SECT_ID,STNNBR,CASTNO,SAMPNO,BTLNBR,BTLNBR_FLAG_W,DATE,TIME,LATITUDE,LONGITUDE,DEPTH,CTDRAW,CTDPRS,CTDTMP,CTDSAL,CTDSAL_FLAG_W,SALNTY,SALNTY_FLAG_W,CTDOXY,CTDOXY_FLAG_W,OXYGEN,OXYGEN_FLAG_W,SILCAT,SILCAT_FLAG_W,NITRAT,NITRAT_FLAG_W,NITRIT,NITRIT_FLAG_W,PHSPHT,PHSPHT_FLAG_W,CFC-11,CFC-11_FLAG_W,CFC-12,CFC-12_FLAG_W,CFC113,CFC113_FLAG_W,CCL4,CCL4_FLAG_W,TCARBN,TCARBN_FLAG_W,ALKALI,ALKALI_FLAG_W,DOC,DOC_FLAG_W,TDN,TDN_FLAG_W,TRITUM,TRITUM_FLAG_W,TRITER,HELIUM,HELIUM_FLAG_W,HELIER,DELHE3,DELHE3_FLAG_W,DELHER,NEON,NEON_FLAG_W,NEONER,DELC14,DELC14_FLAG_W,C14ERR,DELC13,DELC13_FLAG_W,CDOM325,CDOM325_FLAG_W,CDOM340,CDOM340_FLAG_W,CDOM380,CDOM380_FLAG_W,CDOM412,CDOM412_FLAG_W,CDOMSL,CDOMSL_FLAG_W,CDOMSN,CDOMSN_FLAG_W,DCNS,DCNS_FLAG_W,ARABI,ARABI_FLAG_W,FUCO,FUCO_FLAG_W,GALA,GALA_FLAG_W,GLUC,GLUC_FLAG_W,MAN,MAN_FLAG_W,RHAM,RHAM_FLAG_W,BRDU,BRDU_FLAG_W,PEUK,PEUK_FLAG_W,PROC,PROC_FLAG_W,SYN,SYN_FLAG_W,THETA,BACT,BACT_FLAG_W,BTL_TIME,BTL_LAT,BTL_LON
,,,,,,,,,,,METERS,DBAR,DBAR,ITS-90,PSS-78,,PSS-78,,UMOL/KG,,UMOL/KG,,UMOL/KG,,UMOL/KG,,UMOL/KG,,UMOL/KG,,PMOL/KG,,PMOL/KG,,PMOL/KG,,PMOL/KG,,UMOL/KG,,UMOL/KG,,UMOL/KG,,UMOL/KG,,TU,,TU,NMOL/KG,,NMOL/KG,PERCNT,,PERCNT,NMOL/KG,,NMOL/KG,/MILLE,,/MILLE,/MILLE,,1/M,,1/M,,1/M,,1/M,,1/NM,,1/NM,,NMOL/KG,,NMOL/KG,,NMOL/KG,,NMOL/KG,,NMOL/KG,,NMOL/KG,,NMOL/KG,,PMOL/L/H,,E6/L,,E7/L,,E6/L,,DEG C,E8/L,,,,
316N200309, A20, 49, 1, 10, 10, 2, 20031011, 0623, 18.1993, -52.3352, 5214,  3099.90,   3099.9,   2.6547,  34.9229, 2,  34.9225, 2,    254.1, 2,    254.1, 2,    33.04, 2,    20.22, 2,     0.00, 2,     1.37, 2,    0.053, 2,    0.035, 2,    0.002, 2,    0.261, 2,   -999.0, 9,   -999.0, 9,  -999.00, 9,  -999.00, 9, -999.000, 9, -999.000, -999.0000, 9, -999.0000,  -999.00, 9,  -999.00, -999.000, 9, -999.000,   -999.0, 9,   -999.0,  -999.00, 9, -999.0000, 9, -999.0000, 9, -999.0000, 9, -999.0000, 9, -999.0000, 9, -999.0000, 9, -999, 9, -999, 9, -999, 9, -999, 9, -999, 9, -999, 9, -999, 9,  -999.00, 9,  -999.00, 9,  -999.00, 9,  -999.00, 9,   2.4011,  -999.00, 9,  708,   18.2070,  -52.3379
316N200309, A20, 49, 1, 9, 9, 2, 20031011, 0623, 18.1993, -52.3352, 5214,  3301.20,   3301.2,   2.5462,  34.9133, 2,  34.9215, 3,    254.9, 2,    254.0, 2,    35.32, 2,    20.45, 2,     0.00, 2,     1.37, 2,    0.092, 2,    0.062, 2,    0.003, 2,    0.281, 2,   -999.0, 9,   -999.0, 9,  -999.00, 9,  -999.00, 9, -999.000, 9, -999.000, -999.0000, 9, -999.0000,  -999.00, 9,  -999.00, -999.000, 9, -999.000,   -999.0, 9,   -999.0,  -999.00, 9, -999.0000, 9, -999.0000, 9, -999.0000, 9, -999.0000, 9, -999.0000, 9, -999.0000, 9, -999, 9, -999, 9, -999, 9, -999, 9, -999, 9, -999, 9, -999, 9,  -999.00, 9,  -999.00, 9,  -999.00, 9,  -999.00, 9,   2.2740,  -999.00, 9,  704,   18.2062,  -52.3376
316N200309, A20, 49, 1, 8, 8, 2, 20031011, 0623, 18.1993, -52.3352, 5214,  3501.30,   3501.3,   2.4439,  34.9039, 2,  34.9022, 2,    254.6, 2,    254.0, 2,    37.82, 2,    20.73, 2,     0.00, 2,     1.40, 2,    0.061, 2,    0.039, 2,    0.005, 2,    0.292, 2,   -999.0, 9,   -999.0, 9,  -999.00, 9,  -999.00, 9, -999.000, 9, -999.000, -999.0000, 9, -999.0000,  -999.00, 9,  -999.00, -999.000, 9, -999.000,   -999.0, 9,   -999.0,  -999.00, 9, -999.0000, 9, -999.0000, 9, -999.0000, 9, -999.0000, 9, -999.0000, 9, -999.0000, 9, -999, 9, -999, 9, -999, 9, -999, 9, -999, 9, -999, 9, -999, 9,  -999.00, 9,  -999.00, 9,  -999.00, 9,  -999.00, 9,   2.1528,  -999.00, 9,  700,   18.2055,  -52.3373
316N200309, A20, 49, 1, 7, 7, 2, 20031011, 0623, 18.1993, -52.3352, 5214,  3700.60,   3700.6,   2.3369,  34.8932, 2,  34.9120, 3,    253.8, 2,    253.3, 2,    41.25, 2,    21.09, 2,     0.00, 2,     1.43, 2,    0.053, 2,    0.043, 2,    0.001, 2,    0.259, 2,   -999.0, 9,   -999.0, 9,  -999.00, 9,  -999.00, 9, -999.000, 9, -999.000, -999.0000, 9, -999.0000,  -999.00, 9,  -999.00, -999.000, 9, -999.000,   -999.0, 9,   -999.0,  -999.00, 9, -999.0000, 9, -999.0000, 9, -999.0000, 9, -999.0000, 9, -999.0000, 9, -999.0000, 9, -999, 9, -999, 9, -999, 9, -999, 9, -999, 9, -999, 9, -999, 9,  -999.00, 9,  -999.00, 9,  -999.00, 9,  -999.00, 9,   2.0268,  -999.00, 9,  656,   18.2048,  -52.3370
316N200309, A20, 49, 1, 6, 6, 2, 20031011, 0623, 18.1993, -52.3352, 5214,  3899.30,   3899.3,   2.2367,  34.8824, 2,  34.8806, 2,    252.5, 2,    252.6, 2,    44.90, 2,    21.61, 2,     0.00, 2,     1.47, 2,    0.036, 2,    0.027, 2,    0.005, 2,    0.230, 2,   -999.0, 9,   -999.0, 9,  -999.00, 9,  -999.00, 9, -999.000, 9, -999.000, -999.0000, 9, -999.0000,  -999.00, 9,  -999.00, -999.000, 9, -999.000,   -999.0, 9,   -999.0,  -999.00, 9, -999.0000, 9, -999.0000, 9, -999.0000, 9, -999.0000, 9, -999.0000, 9, -999.0000, 9, -999, 9, -999, 9, -999, 9, -999, 9, -999, 9, -999, 9, -999, 9,  -999.00, 9,  -999.00, 9,  -999.00, 9,  -999.00, 9,   1.9073,  -999.00, 9,  651,   18.2041,  -52.3367
316N200309, A20, 49, 1, 5, 5, 2, 20031011, 0623, 18.1993, -52.3352, 5214,  4125.70,   4125.7,   2.1793,  34.8749, 2,  34.8731, 2,    251.4, 2,    251.0, 2,    47.40, 2,    21.93, 2,     0.00, 2,     1.49, 2,    0.036, 2,    0.038, 2,    0.007, 2,    0.250, 2,   -999.0, 9,   -999.0, 9,  -999.00, 9,  -999.00, 9, -999.000, 9, -999.000, -999.0000, 9, -999.0000,  -999.00, 9,  -999.00, -999.000, 9, -999.000,   -999.0, 9,   -999.0,  -999.00, 9, -999.0000, 9, -999.0000, 9, -999.0000, 9, -999.0000, 9, -999.0000, 9, -999.0000, 9, -999, 9, -999, 9, -999, 9, -999, 9, -999, 9, -999, 9, -999, 9,  -999.00, 9,  -999.00, 9,  -999.00, 9,  -999.00, 9,   1.8259,  -999.00, 9,  647,   18.2033,  -52.3364
316N200309, A20, 49, 1, 4, 4, 2, 20031011, 0623, 18.1993, -52.3352, 5214,  4374.70,   4374.7,   2.1233,  34.8672, 2,  34.8670, 2,    250.5, 2,    250.8, 2,    49.70, 2,    22.11, 2,     0.00, 2,     1.51, 2,    0.033, 2,    0.025, 2,    0.003, 2,    0.231, 2,   -999.0, 9,   -999.0, 9,  -999.00, 9,  -999.00, 9, -999.000, 9, -999.000, -999.0000, 9, -999.0000,  -999.00, 9,  -999.00, -999.000, 9, -999.000,   -999.0, 9,   -999.0,  -999.00, 9, -999.0000, 9, -999.0000, 9, -999.0000, 9, -999.0000, 9, -999.0000, 9, -999.0000, 9, -999, 9, -999, 9, -999, 9, -999, 9, -999, 9, -999, 9, -999, 9,  -999.00, 9,  -999.00, 9,  -999.00, 9,  -999.00, 9,   1.7426,  -999.00, 9,  642,   18.2024,  -52.3361
316N200309, A20, 49, 1, 3, 3, 2, 20031011, 0623, 18.1993, -52.3352, 5214,  4624.10,   4624.1,   2.0571,  34.8583, 2,  34.8568, 2,    249.5, 2,    250.2, 2,    51.99, 2,    22.48, 2,     0.00, 2,     1.54, 2,    0.046, 2,    0.034, 2,    0.002, 2,    0.286, 2,   -999.0, 9,   -999.0, 9,  -999.00, 9,  -999.00, 9, -999.000, 9, -999.000, -999.0000, 9, -999.0000,  -999.00, 9,  -999.00, -999.000, 9, -999.000,   -999.0, 9,   -999.0,  -999.00, 9, -999.0000, 9, -999.0000, 9, -999.0000, 9, -999.0000, 9, -999.0000, 9, -999.0000, 9, -999, 9, -999, 9, -999, 9, -999, 9, -999, 9, -999, 9, -999, 9,  -999.00, 9,  -999.00, 9,  -999.00, 9,  -999.00, 9,   1.6489,  -999.00, 9,  636,   18.2015,  -52.3357
316N200309, A20, 49, 1, 2, 2, 2, 20031011, 0623, 18.1993, -52.3352, 5214,  4873.80,   4873.8,   2.0478,  34.8543, 2,  34.8530, 2,    248.5, 2,    249.9, 2,    53.23, 2,    22.57, 2,     0.00, 2,     1.54, 2,    0.051, 2,    0.032, 2,    0.001, 2,    0.294, 2,   -999.0, 9,   -999.0, 9,  -999.00, 9,  -999.00, 9, -999.000, 9, -999.000, -999.0000, 9, -999.0000,  -999.00, 9,  -999.00, -999.000, 9, -999.000,   -999.0, 9,   -999.0,  -999.00, 9, -999.0000, 9, -999.0000, 9, -999.0000, 9, -999.0000, 9, -999.0000, 9, -999.0000, 9, -999, 9, -999, 9, -999, 9, -999, 9, -999, 9, -999, 9, -999, 9,  -999.00, 9,  -999.00, 9,  -999.00, 9,  -999.00, 9,   1.6095,  -999.00, 9,  630,   18.2006,  -52.3355
316N200309, A20, 49, 1, 1, 1, 2, 20031011, 0623, 18.1993, -52.3352, 5214,  5194.00,   5194.0,   2.0804,  34.8531, 2,  34.8528, 2,    249.0, 2,    250.0, 2,    53.74, 2,    22.61, 2,     0.00, 2,     1.54, 2,    0.054, 2,    0.046, 2,    0.008, 2,    0.289, 2,   -999.0, 9,   -999.0, 9,  -999.00, 9,  -999.00, 9, -999.000, 9, -999.000, -999.0000, 9, -999.0000,  -999.00, 9,  -999.00, -999.000, 9, -999.000,   -999.0, 9,   -999.0,  -999.00, 9, -999.0000, 9, -999.0000, 9, -999.0000, 9, -999.0000, 9, -999.0000, 9, -999.0000, 9, -999, 9, -999, 9, -999, 9, -999, 9, -999, 9, -999, 9, -999, 9,  -999.00, 9,  -999.00, 9,  -999.00, 9,  -999.00, 9,   1.6010,  -999.00, 9,  624,   18.1995,  -52.3353