BOTTLE,20220816CCHSIOAMB
EXPOCODE,SECT_ID,STNNBR,CASTNO,SAMPNO,BTLNBR,BTLNBR_FLAG_W,DATE,TIME,LATITUDE,LONGITUDE,DEPTH,CTDRAW,CTDPRS,CTDTMP,CTDSAL,CTDSAL_FLAG_W,SALNTY,SALNTY_FLAG_W,CTDOXY,CTDOXY_FLAG_W,OXYGEN,OXYGEN_FLAG_W,SILCAT,SILCAT_FLAG_W,NITRAT,NITRAT_FLAG_W,NITRIT,NITRIT_FLAG_W,PHSPHT,PHSPHT_FLAG_W,CFC-11,CFC-11_FLAG_W,CFC-12,CFC-12_FLAG_W,CFC113,CFC113_FLAG_W,CCL4,CCL4_FLAG_W,TCARBN,TCARBN_FLAG_W,ALKALI,ALKALI_FLAG_W,DOC,DOC_FLAG_W,TDN,TDN_FLAG_W,TRITUM,TRITUM_FLAG_W,TRITER,HELIUM,HELIUM_FLAG_W,HELIER,DELHE3,DELHE3_FLAG_W,DELHER,NEON,NEON_FLAG_W,NEONER,DELC14,DELC14_FLAG_W,C14ERR,DELC13,DELC13_FLAG_W,CDOM325,CDOM325_FLAG_W,CDOM340,CDOM340_FLAG_W,CDOM380,CDOM380_FLAG_W,CDOM412,CDOM412_FLAG_W,CDOMSL,CDOMSL_FLAG_W,CDOMSN,CDOMSN_FLAG_W,DCNS,DCNS_FLAG_W,ARABI,ARABI_FLAG_W,FUCO,FUCO_FLAG_W,GALA,GALA_FLAG_W,GLUC,GLUC_FLAG_W,MAN,MAN_FLAG_W,RHAM,RHAM_FLAG_W,BRDU,BRDU_FLAG_W,PEUK,PEUK_FLAG_W,PROC,PROC_FLAG_W,SYN,SYN_FLAG_W,THETA,BACT,BACT_FLAG_W,BTL_TIME,BTL_LAT,BTL_LON
,,,,,,,,,,,METERS,DBAR,DBAR,ITS-90,PSS-78,,PSS-78,,UMOL/KG,,UMOL/KG,,UMOL/KG,,UMOL/KG,,UMOL/KG,,UMOL/KG,,PMOL/KG,,PMOL/KG,,PMOL/KG,,PMOL/KG,,UMOL/KG,,UMOL/KG,,UMOL/KG,,UMOL/KG,,TU,,TU,NMOL/KG,,NMOL/KG,PERCNT,,PERCNT,NMOL/KG,,NMOL/KG,/MILLE,,/MILLE,/MILLE,,1/M,,1/M,,1/M,,1/M,,1/NM,,1/NM,,NMOL/KG,,NMOL/KG,,NMOL/KG,,NMOL/KG,,NMOL/KG,,NMOL/KG,,NMOL/KG,,PMOL/L/H,,E6/L,,E7/L,,E6/L,,DEG C,E8/L,,,,
316N200309, A20, 38, 1, 36, 36, 2, 20031007, 1942, 25.5222, -52.3333, 5820,    13.10,     13.1,  28.0583,  37.3535, 2,  37.3513, 2,    194.5, 2,    199.1, 2,     0.56, 2,     0.08, 2,     0.01, 2,     0.02, 2,    0.989, 2,    0.618, 2,    0.078, 2, -999.000, 9,   2061.5, 2,   2439.2, 2,    79.10, 2,     4.70, 2, -999.000, 9, -999.000, -999.0000, 9, -999.0000,  -999.00, 9,  -999.00, -999.000, 9, -999.000,   -999.0, 9,   -999.0,  -999.00, 9,    0.0360, 2,    0.0220, 2,    0.0050, 2,    0.0040, 2,    0.0370, 2,    0.0310, 2, 2517, 4, 91, 2, 403, 2, 638, 2, 308, 2, 850, 2, 227, 2,     0.12, 2,     0.82, 2,     7.84, 2,     5.08, 2,  28.0552,     2.36, 2, 2207,   25.5239,  -52.3289
316N200309, A20, 38, 1, 35, 35, 2, 20031007, 1942, 25.5222, -52.3333, 5820,    27.90,     27.9,  27.9925,  37.3548, 2,  37.3553, 2,    195.6, 2,    198.8, 2,     0.55, 2,     0.13, 2,     0.01, 2,     0.02, 2,    0.995, 2,    0.620, 2,    0.074, 2, -999.000, 9,   2062.5, 2,   2439.3, 2,    79.40, 2,     4.80, 2, -999.000, 9, -999.000, -999.0000, 9, -999.0000,  -999.00, 9,  -999.00, -999.000, 9, -999.000,   -999.0, 9,   -999.0,  -999.00, 9,    0.0410, 2,    0.0250, 2,    0.0070, 2,    0.0050, 2,    0.0350, 2,    0.0350, 2, 3411, 4, 123, 2, 447, 2, 998, 2, 436, 2, 1141, 2, 265, 2,     0.11, 2,     0.40, 2,     0.00, 2,     5.82, 2,  27.9858,     2.32, 2, 2206,   25.5239,  -52.3289
316N200309, A20, 38, 1, 34, 34, 2, 20031007, 1942, 25.5222, -52.3333, 5820,    52.90,     52.9,  25.1789,  36.8983, 2,  36.8992, 2,    227.2, 2,    247.2, 4,     0.43, 2,     0.08, 2,     0.00, 2,     0.02, 2,    1.238, 2,    0.749, 2,    0.109, 2, -999.000, 9,   2043.7, 2,   2408.2, 2,    73.20, 2,     4.90, 2, -999.000, 9, -999.000, -999.0000, 9, -999.0000,  -999.00, 9,  -999.00, -999.000, 9, -999.000,   -999.0, 9,   -999.0,  -999.00, 9,    0.0990, 2,    0.0630, 2,    0.0230, 2,    0.0150, 2,    0.0270, 2,    0.0290, 2, 3275, 4, 201, 2, 409, 2, 912, 2, 462, 2, 1056, 2, 235, 2,     0.11, 2,     0.50, 2,     7.81, 2,     2.00, 2,  25.1673,     3.82, 2, 2204,   25.5240,  -52.3289
316N200309, A20, 38, 1, 33, 33, 2, 20031007, 1942, 25.5222, -52.3333, 5820,   102.70,    102.7,  21.9573,  36.8080, 2,  36.8081, 2,    220.9, 2,    227.4, 2,     0.32, 2,     0.12, 2,     0.00, 2,     0.02, 2,    1.322, 2,    0.788, 2,    0.106, 2, -999.000, 9,   2068.1, 2,   2402.4, 2,    62.90, 2,     4.10, 2, -999.000, 9, -999.000, -999.0000, 9, -999.0000,  -999.00, 9,  -999.00, -999.000, 9, -999.000,   -999.0, 9,   -999.0,  -999.00, 9,    0.1530, 2,    0.1050, 2,    0.0430, 2,    0.0270, 2,    0.0210, 2,    0.0230, 2, 1438, 4, 48, 2, 229, 2, 409, 2, 223, 2, 385, 2, 145, 2,     0.03, 2,     0.62, 2,     9.45, 2,     0.71, 2,  21.9369,     1.18, 2, 2203,   25.5240,  -52.3289
316N200309, A20, 38, 1, 32, 32, 2, 20031007, 1942, 25.5222, -52.3333, 5820,   152.30,    152.3,  20.2558,  36.7233, 2,  36.7294, 2,    201.8, 2,    204.0, 2,     0.53, 2,     0.19, 2,     0.07, 2,     0.03, 2,    1.403, 2,    0.824, 2,    0.081, 2, -999.000, 9,   2091.1, 2,   2397.8, 2,    59.00, 2,     4.30, 2, -999.000, 9, -999.000, -999.0000, 9, -999.0000,  -999.00, 9,  -999.00, -999.000, 9, -999.000,   -999.0, 9,   -999.0,  -999.00, 9,    0.1330, 2,    0.0970, 2,    0.0470, 2,    0.0360, 2,    0.0150, 2,    0.0170, 2, 1745, 4, 169, 2, 275, 2, 359, 2, 324, 2, 396, 2, 223, 2,     0.02, 2,     0.78, 2,     2.47, 2,     0.00, 2,  20.2271,     1.33, 2, 2201,   25.5240,  -52.3289
316N200309, A20, 38, 1, 31, 31, 2, 20031007, 1942, 25.5222, -52.3333, 5820,   200.10,    200.1,  19.0889,  36.6699, 2,  36.6719, 2,    188.2, 2,    191.8, 2,     0.83, 2,     2.51, 2,     0.02, 2,     0.09, 2,    1.442, 2,    0.853, 2,    0.018, 2, -999.000, 9,   2107.8, 2,   2394.4, 2,    51.00, 2,     6.40, 2, -999.000, 9, -999.000, -999.0000, 9, -999.0000,  -999.00, 9,  -999.00, -999.000, 9, -999.000,   -999.0, 9,   -999.0,  -999.00, 9,    0.1040, 2,    0.0750, 2,    0.0350, 2,    0.0280, 2,    0.0180, 2,    0.0190, 2, -999, 9, -999, 9, -999, 9, -999, 9, -999, 9, -999, 9, -999, 9,     0.00, 2,  -999.00, 9,  -999.00, 9,  -999.00, 9,  19.0527,  -999.00, 9, 2159,   25.5240,  -52.3288
316N200309, A20, 38, 1, 30, 30, 2, 20031007, 1942, 25.5222, -52.3333, 5820,   299.90,    299.9,  17.6185,  36.4631, 2,  36.4643, 2,    190.9, 2,    194.5, 2,     1.46, 2,     5.40, 2,     0.01, 2,     0.27, 2,    1.489, 2,    0.856, 2,    0.026, 2, -999.000, 9,   2109.9, 2,   2381.1, 2,    49.40, 2,     8.90, 2, -999.000, 9, -999.000, -999.0000, 9, -999.0000,  -999.00, 9,  -999.00, -999.000, 9, -999.000,   -999.0, 9,   -999.0,  -999.00, 9,    0.1050, 2,    0.0760, 2,    0.0380, 2,    0.0300, 2,    0.0160, 2,    0.0180, 2, 296, 4, 26, 2, 51, 2, 72, 2, 52, 2, 52, 2, 43, 2,     0.01, 2,  -999.00, 9,  -999.00, 9,  -999.00, 9,  17.5672,  -999.00, 9, 2156,   25.5240,  -52.3288
316N200309, A20, 38, 1, 29, 29, 2, 20031007, 1942, 25.5222, -52.3333, 5820,   399.60,    399.6,  16.3252,  36.2509, 2,  36.2552, 2,    189.2, 2,    187.2, 2,     2.51, 2,     8.18, 2,     0.01, 2,     0.45, 2,    1.466, 6,    0.817, 6,    0.029, 6, -999.000, 9,   2122.4, 2,   2369.5, 2,    47.70, 2,  -999.00, 9, -999.000, 9, -999.000, -999.0000, 9, -999.0000,  -999.00, 9,  -999.00, -999.000, 9, -999.000,   -999.0, 9,   -999.0,  -999.00, 9,    0.1110, 2,    0.0800, 2,    0.0380, 2,    0.0330, 2,    0.0140, 2,    0.0170, 2, -999, 9, -999, 9, -999, 9, -999, 9, -999, 9, -999, 9, -999, 9,     0.03, 2,  -999.00, 9,  -999.00, 9,  -999.00, 9,  16.2601,  -999.00, 9, 2153,   25.5240,  -52.3289
316N200309, A20, 38, 1, 28, 28, 2, 20031007, 1942, 25.5222, -52.3333, 5820,   500.10,    500.1,  14.8511,  36.0048, 2,  36.2552, 4,    178.3, 2,    178.8, 2,     3.88, 2,    11.35, 2,     0.01, 2,     0.66, 2,    1.390, 2,    0.770, 2,    0.024, 2, -999.000, 9,   2135.2, 2,   2354.9, 2,    47.10, 2,  -999.00, 9, -999.000, 9, -999.000, -999.0000, 9, -999.0000,  -999.00, 9,  -999.00, -999.000, 9, -999.000,   -999.0, 9,   -999.0,  -999.00, 9,    0.1070, 2,    0.0740, 2,    0.0330, 2,    0.0250, 2,    0.0210, 2,    0.0220, 2, 238, 4, 27, 2, 38, 2, 58, 2, 38, 2, 43, 2, 34, 2,  -999.00, 9,  -999.00, 9,  -999.00, 9,  -999.00, 9,  14.7746,  -999.00, 9, 2151,   25.5240,  -52.3288
316N200309, A20, 38, 1, 27, 27, 2, 20031007, 1942, 25.5222, -52.3333, 5820,   625.20,    625.2,  12.2072,  35.6267, 2,  35.6244, 2,    166.1, 2,    165.5, 2,     7.25, 2,    16.90, 2,     0.01, 2,     1.03, 2,    1.037, 2,    0.543, 2,    0.039, 2, -999.000, 9,   2158.8, 2,   2336.7, 2,    42.30, 2,  -999.00, 9, -999.000, 9, -999.000, -999.0000, 9, -999.0000,  -999.00, 9,  -999.00, -999.000, 9, -999.000,   -999.0, 9,   -999.0,  -999.00, 9,    0.1040, 2,    0.0720, 2,    0.0330, 2,    0.0240, 2,    0.0200, 2,    0.0220, 2, -999, 9, -999, 9, -999, 9, -999, 9, -999, 9, -999, 9, -999, 9,  -999.00, 9,  -999.00, 9,  -999.00, 9,  -999.00, 9,  12.1228,  -999.00, 9, 2148,   25.5240,  -52.3288
316N200309, A20, 38, 1, 26, 26, 2, 20031007, 1942, 25.5222, -52.3333, 5820,   749.90,    749.9,   9.8139,  35.3487, 2,  35.3476, 2,    157.6, 2,    157.2, 2,    11.68, 2,    21.51, 2,     0.00, 2,     1.35, 2,    0.558, 2,    0.289, 2,    0.014, 2, -999.000, 9,   2177.5, 2,   2326.6, 2,    42.10, 2,  -999.00, 9, -999.000, 9, -999.000, -999.0000, 9, -999.0000,  -999.00, 9,  -999.00, -999.000, 9, -999.000,   -999.0, 9,   -999.0,  -999.00, 9,    0.1230, 2,    0.0860, 2,    0.0420, 2,    0.0310, 2,    0.0160, 2,    0.0190, 2, -999, 9, -999, 9, -999, 9, -999, 9, -999, 9, -999, 9, -999, 9,  -999.00, 9,  -999.00, 9,  -999.00, 9,  -999.00, 9,   9.7250,  -999.00, 9, 2144,   25.5241,  -52.3288
316N200309, A20, 38, 1, 25, 25, 2, 20031007, 1942, 25.5222, -52.3333, 5820,   843.30,    843.3,   8.3311,  35.1972, 2,  35.2004, 2,    155.0, 2,    155.9, 2,    14.84, 2,    23.86, 2,     0.00, 2,     1.54, 2,    0.324, 2,    0.167, 2,    0.008, 2, -999.000, 9,   2188.8, 2,   2322.6, 2,    40.90, 2,  -999.00, 9, -999.000, 9, -999.000, -999.0000, 9, -999.0000,  -999.00, 9,  -999.00, -999.000, 9, -999.000,   -999.0, 9,   -999.0,  -999.00, 9,    0.1130, 2,    0.0780, 2,    0.0370, 2,    0.0260, 2,    0.0190, 2,    0.0210, 2, -999, 9, -999, 9, -999, 9, -999, 9, -999, 9, -999, 9, -999, 9,  -999.00, 9,  -999.00, 9,  -999.00, 9,  -999.00, 9,   8.2399,  -999.00, 9, 2142,   25.5241,  -52.3289
316N200309, A20, 38, 1, 24, 24, 2, 20031007, 1942, 25.5222, -52.3333, 5820,   899.70,    899.7,   7.5910,  35.1301, 2,  35.1311, 2,    158.0, 2,    158.9, 4,    16.42, 2,    24.72, 2,     0.00, 2,     1.61, 2,    0.232, 2,    0.118, 2,    0.003, 2, -999.000, 9,   2190.2, 2,   2319.6, 2,  -999.00, 9,  -999.00, 9, -999.000, 9, -999.000, -999.0000, 9, -999.0000,  -999.00, 9,  -999.00, -999.000, 9, -999.000,   -999.0, 9,   -999.0,  -999.00, 9, -999.0000, 9, -999.0000, 9, -999.0000, 9, -999.0000, 9, -999.0000, 9, -999.0000, 9, -999, 9, -999, 9, -999, 9, -999, 9, -999, 9, -999, 9, -999, 9,  -999.00, 9,  -999.00, 9,  -999.00, 9,  -999.00, 9,   7.4984,  -999.00, 9, 2140,   25.5242,  -52.3289
316N200309, A20, 38, 1, 23, 23, 2, 20031007, 1942, 25.5222, -52.3333, 5820,  1050.50,   1050.5,   6.4587,  35.0805, 2,  35.0803, 2,    178.3, 2,    197.4, 4,    17.15, 2,    24.00, 2,     0.00, 2,     1.58, 2,    0.216, 6,    0.116, 6,    0.009, 2,    0.328, 2,   2188.8, 2,   2319.0, 2,    40.70, 2,  -999.00, 9, -999.000, 9, -999.000, -999.0000, 9, -999.0000,  -999.00, 9,  -999.00, -999.000, 9, -999.000,   -999.0, 9,   -999.0,  -999.00, 9,    0.1150, 2,    0.0800, 2,    0.0380, 2,    0.0280, 2,    0.0180, 2,    0.0200, 2, 270, 4, 14, 2, 27, 2, 46, 2, 102, 2, 68, 2, 13, 2,  -999.00, 9,  -999.00, 9,  -999.00, 9,  -999.00, 9,   6.3583,  -999.00, 9, 2137,   25.5242,  -52.3289
316N200309, A20, 38, 1, 22, 22, 2, 20031007, 1942, 25.5222, -52.3333, 5820,  1200.20,   1200.2,   5.7881,  35.1054, 2,  35.1047, 2,    203.8, 2,    219.8, 4,    15.56, 2,    21.65, 2,     0.00, 2,     1.43, 2,    0.214, 2,    0.114, 2,    0.017, 2, -999.000, 9,   2178.8, 2,   2320.1, 2,    39.80, 2,  -999.00, 9, -999.000, 9, -999.000, -999.0000, 9, -999.0000,  -999.00, 9,  -999.00, -999.000, 9, -999.000,   -999.0, 9,   -999.0,  -999.00, 9,    0.1170, 2,    0.0810, 2,    0.0390, 2,    0.0270, 2,    0.0190, 2,    0.0200, 2, -999, 9, -999, 9, -999, 9, -999, 9, -999, 9, -999, 9, -999, 9,  -999.00, 9,  -999.00, 9,  -999.00, 9,  -999.00, 9,   5.6781,  -999.00, 9, 2133,   25.5242,  -52.3290
316N200309, A20, 38, 1, 21, 21, 2, 20031007, 1942, 25.5222, -52.3333, 5820,  1350.80,   1350.8,   5.2310,  35.1071, 2,  35.1081, 2,    225.1, 2,    237.0, 4,    15.03, 2,    20.18, 2,     0.00, 2,     1.33, 2,    0.240, 2,    0.116, 2,    0.023, 2,    0.641, 2,   2172.6, 2,   2320.5, 2,  -999.00, 9,  -999.00, 9, -999.000, 9, -999.000, -999.0000, 9, -999.0000,  -999.00, 9,  -999.00, -999.000, 9, -999.000,   -999.0, 9,   -999.0,  -999.00, 9, -999.0000, 9, -999.0000, 9, -999.0000, 9, -999.0000, 9, -999.0000, 9, -999.0000, 9, -999, 9, -999, 9, -999, 9, -999, 9, -999, 9, -999, 9, -999, 9,  -999.00, 9,  -999.00, 9,  -999.00, 9,  -999.00, 9,   5.1114,  -999.00, 9, 2130,   25.5242,  -52.3290
316N200309, A20, 38, 1, 20, 20, 2, 20031007, 1942, 25.5222, -52.3333, 5820,  1500.00,   1500.0,   4.7353,  35.0852, 2,  35.0852, 2,    235.1, 2,    243.1, 4,    15.44, 2,    19.43, 2,     0.00, 2,     1.30, 2,    0.239, 2,    0.116, 2,    0.022, 2, -999.000, 9,   2169.1, 2,   2319.1, 2,    42.80, 2,  -999.00, 9, -999.000, 9, -999.000, -999.0000, 9, -999.0000,  -999.00, 9,  -999.00, -999.000, 9, -999.000,   -999.0, 9,   -999.0,  -999.00, 9,    0.1260, 2,    0.0890, 2,    0.0430, 2,    0.0300, 2,    0.0170, 2,    0.0190, 2, -999, 9, -999, 9, -999, 9, -999, 9, -999, 9, -999, 9, -999, 9,  -999.00, 9,  -999.00, 9,  -999.00, 9,  -999.00, 9,   4.6065,  -999.00, 9, 2126,   25.5242,  -52.3291
316N200309, A20, 38, 1, 19, 19, 2, 20031007, 1942, 25.5222, -52.3333, 5820,  1651.70,   1651.7,   4.3685,  35.0640, 2,  35.0646, 2,    241.3, 2,    246.5, 4,    16.92, 2,    19.28, 2,     0.00, 2,     1.29, 2,    0.156, 2,    0.086, 2,    0.017, 2,    0.599, 2,   2167.7, 2,   2319.5, 2,  -999.00, 9,  -999.00, 9, -999.000, 9, -999.000, -999.0000, 9, -999.0000,  -999.00, 9,  -999.00, -999.000, 9, -999.000,   -999.0, 9,   -999.0,  -999.00, 9, -999.0000, 9, -999.0000, 9, -999.0000, 9, -999.0000, 9, -999.0000, 9, -999.0000, 9, -999, 9, -999, 9, -999, 9, -999, 9, -999, 9, -999, 9, -999, 9,  -999.00, 9,  -999.00, 9,  -999.00, 9,  -999.00, 9,   4.2295,  -999.00, 9, 2123,   25.5242,  -52.3291
316N200309, A20, 38, 1, 18, 18, 2, 20031007, 1942, 25.5222, -52.3333, 5820,  1800.90,   1800.9,   4.0651,  35.0447, 2,  35.0455, 2,    244.8, 2,    246.5, 2,    18.70, 2,    19.18, 2,     0.00, 2,     1.30, 2,    0.122, 2,    0.062, 2,    0.009, 2, -999.000, 9,   2166.7, 2,   2320.0, 2,    42.20, 2,  -999.00, 9, -999.000, 9, -999.000, -999.0000, 9, -999.0000,  -999.00, 9,  -999.00, -999.000, 9, -999.000,   -999.0, 9,   -999.0,  -999.00, 9,    0.1260, 2,    0.0870, 2,    0.0420, 2,    0.0270, 2,    0.0180, 2,    0.0200, 2, -999, 9, -999, 9, -999, 9, -999, 9, -999, 9, -999, 9, -999, 9,  -999.00, 9,  -999.00, 9,  -999.00, 9,  -999.00, 9,   3.9157,  -999.00, 9, 2119,   25.5241,  -52.3292
316N200309, A20, 38, 1, 17, 17, 2, 20031007, 1942, 25.5222, -52.3333, 5820,  1999.50,   1999.5,   3.6785,  35.0144, 2,  35.0148, 2,    248.6, 2,    248.9, 2,    21.33, 2,    19.28, 2,     0.00, 2,     1.30, 2,    0.079, 2,    0.040, 2,    0.008, 2,    0.433, 2,   2168.9, 2,   2321.7, 2,  -999.00, 9,  -999.00, 9, -999.000, 9, -999.000, -999.0000, 9, -999.0000,  -999.00, 9,  -999.00, -999.000, 9, -999.000,   -999.0, 9,   -999.0,  -999.00, 9, -999.0000, 9, -999.0000, 9, -999.0000, 9, -999.0000, 9, -999.0000, 9, -999.0000, 9, -999, 9, -999, 9, -999, 9, -999, 9, -999, 9, -999, 9, -999, 9,  -999.00, 9,  -999.00, 9,  -999.00, 9,  -999.00, 9,   3.5157,  -999.00, 9, 2114,   25.5244,  -52.3297
316N200309, A20, 38, 1, 16, 16, 2, 20031007, 1942, 25.5222, -52.3333, 5820,  2248.40,   2248.4,   3.3501,  34.9876, 2,  34.9906, 3,    250.0, 2,    249.8, 2,    24.92, 2,    19.60, 2,     0.00, 2,     1.33, 2,    0.039, 2,    0.022, 2,    0.004, 2, -999.000, 9,   2172.5, 2,   2324.9, 2,    41.30, 2,  -999.00, 9, -999.000, 9, -999.000, -999.0000, 9, -999.0000,  -999.00, 9,  -999.00, -999.000, 9, -999.000,   -999.0, 9,   -999.0,  -999.00, 9,    0.1250, 2,    0.0870, 2,    0.0410, 2,    0.0260, 2,    0.0190, 2,    0.0210, 2, -999, 9, -999, 9, -999, 9, -999, 9, -999, 9, -999, 9, -999, 9,  -999.00, 9,  -999.00, 9,  -999.00, 9,  -999.00, 9,   3.1684,  -999.00, 9, 2109,   25.5248,  -52.3304
316N200309, A20, 38, 1, 15, 15, 2, 20031007, 1942, 25.5222, -52.3333, 5820,  2499.40,   2499.4,   3.1056,  34.9664, 2,  34.9665, 2,    250.3, 2,    250.1, 2,    28.20, 2,    19.99, 2,     0.00, 2,     1.36, 2,    0.036, 6,    0.021, 6,    0.005, 2,    0.279, 2,   2175.5, 2,   2328.1, 2,  -999.00, 9,  -999.00, 9, -999.000, 9, -999.000, -999.0000, 9, -999.0000,  -999.00, 9,  -999.00, -999.000, 9, -999.000,   -999.0, 9,   -999.0,  -999.00, 9, -999.0000, 9, -999.0000, 9, -999.0000, 9, -999.0000, 9, -999.0000, 9, -999.0000, 9, -999, 9, -999, 9, -999, 9, -999, 9, -999, 9, -999, 9, -999, 9,  -999.00, 9,  -999.00, 9,  -999.00, 9,  -999.00, 9,   2.9037,  -999.00, 9, 2104,   25.5253,  -52.3310
316N200309, A20, 38, 1, 14, 14, 2, 20031007, 1942, 25.5222, -52.3333, 5820,  2749.90,   2749.9,   2.9327,  34.9509, 2,  34.9512, 2,    250.6, 2,    272.4, 4,    30.72, 2,    20.21, 2,     0.00, 2,     1.38, 2,    0.021, 2,    0.010, 2,    0.002, 2, -999.000, 9,   2176.2, 2,   2319.5, 3,    39.90, 2,  -999.00, 9, -999.000, 9, -999.000, -999.0000, 9, -999.0000,  -999.00, 9,  -999.00, -999.000, 9, -999.000,   -999.0, 9,   -999.0,  -999.00, 9,    0.1190, 2,    0.0830, 2,    0.0400, 2,    0.0260, 2,    0.0190, 2,    0.0200, 2, -999, 9, -999, 9, -999, 9, -999, 9, -999, 9, -999, 9, -999, 9,  -999.00, 9,  -999.00, 9,  -999.00, 9,  -999.00, 9,   2.7091,  -999.00, 9, 2059,   25.5258,  -52.3315
316N200309, A20, 38, 1, 13, 13, 2, 20031007, 1942, 25.5222, -52.3333, 5820,  3000.50,   3000.5,   2.7561,  34.9350, 2,  34.9345, 2,    251.4, 2,    265.5, 4,    33.46, 2,    20.45, 2,     0.00, 2,     1.40, 2,    0.019, 6,    0.010, 6,    0.005, 2,    0.218, 2,   2180.3, 2,   2330.7, 2,  -999.00, 9,  -999.00, 9, -999.000, 9, -999.000, -999.0000, 9, -999.0000,  -999.00, 9,  -999.00, -999.000, 9, -999.000,   -999.0, 9,   -999.0,  -999.00, 9, -999.0000, 9, -999.0000, 9, -999.0000, 9, -999.0000, 9, -999.0000, 9, -999.0000, 9, -999, 9, -999, 9, -999, 9, -999, 9, -999, 9, -999, 9, -999, 9,  -999.00, 9,  -999.00, 9,  -999.00, 9,  -999.00, 9,   2.5105,  -999.00, 9, 2054,   25.5263,  -52.3321
316N200309, A20, 38, 1, 12, 12, 2, 20031007, 1942, 25.5222, -52.3333, 5820,  3251.10,   3251.1,   2.5871,  34.9200, 2,  34.9193, 2,    253.1, 2,    263.4, 4,    36.00, 2,    20.59, 2,     0.00, 2,     1.41, 2,    0.007, 2,    0.005, 2,    0.007, 2, -999.000, 9,   2182.0, 2,   2331.3, 2,    39.40, 2,  -999.00, 9, -999.000, 9, -999.000, -999.0000, 9, -999.0000,  -999.00, 9,  -999.00, -999.000, 9, -999.000,   -999.0, 9,   -999.0,  -999.00, 9,    0.1240, 2,    0.0880, 2,    0.0430, 2,    0.0280, 2,    0.0180, 2,    0.0190, 2, -999, 9, -999, 9, -999, 9, -999, 9, -999, 9, -999, 9, -999, 9,  -999.00, 9,  -999.00, 9,  -999.00, 9,  -999.00, 9,   2.3192,  -999.00, 9, 2049,   25.5267,  -52.3327
316N200309, A20, 38, 1, 11, 11, 2, 20031007, 1942, 25.5222, -52.3333, 5820,  3500.40,   3500.4,   2.4658,  34.9086, 2,  34.9087, 2,    254.2, 2,    260.0, 4,    37.89, 2,    20.68, 2,     0.00, 2,     1.42, 2,    0.012, 6,    0.007, 6,    0.006, 2,    0.158, 2,   2182.2, 2,   2332.6, 2,  -999.00, 9,  -999.00, 9, -999.000, 9, -999.000, -999.0000, 9, -999.0000,  -999.00, 9,  -999.00, -999.000, 9, -999.000,   -999.0, 9,   -999.0,  -999.00, 9, -999.0000, 9, -999.0000, 9, -999.0000, 9, -999.0000, 9, -999.0000, 9, -999.0000, 9, -999, 9, -999, 9, -999, 9, -999, 9, -999, 9, -999, 9, -999, 9,  -999.00, 9,  -999.00, 9,  -999.00, 9,  -999.00, 9,   2.1742,  -999.00, 9, 2044,   25.5265,  -52.3330