BOTTLE,20220816CCHSIOAMB
EXPOCODE,SECT_ID,STNNBR,CASTNO,SAMPNO,BTLNBR,BTLNBR_FLAG_W,DATE,TIME,LATITUDE,LONGITUDE,DEPTH,CTDRAW,CTDPRS,CTDTMP,CTDSAL,CTDSAL_FLAG_W,SALNTY,SALNTY_FLAG_W,CTDOXY,CTDOXY_FLAG_W,OXYGEN,OXYGEN_FLAG_W,SILCAT,SILCAT_FLAG_W,NITRAT,NITRAT_FLAG_W,NITRIT,NITRIT_FLAG_W,PHSPHT,PHSPHT_FLAG_W,CFC-11,CFC-11_FLAG_W,CFC-12,CFC-12_FLAG_W,CFC113,CFC113_FLAG_W,CCL4,CCL4_FLAG_W,TCARBN,TCARBN_FLAG_W,ALKALI,ALKALI_FLAG_W,DOC,DOC_FLAG_W,TDN,TDN_FLAG_W,TRITUM,TRITUM_FLAG_W,TRITER,HELIUM,HELIUM_FLAG_W,HELIER,DELHE3,DELHE3_FLAG_W,DELHER,NEON,NEON_FLAG_W,NEONER,DELC14,DELC14_FLAG_W,C14ERR,DELC13,DELC13_FLAG_W,CDOM325,CDOM325_FLAG_W,CDOM340,CDOM340_FLAG_W,CDOM380,CDOM380_FLAG_W,CDOM412,CDOM412_FLAG_W,CDOMSL,CDOMSL_FLAG_W,CDOMSN,CDOMSN_FLAG_W,DCNS,DCNS_FLAG_W,ARABI,ARABI_FLAG_W,FUCO,FUCO_FLAG_W,GALA,GALA_FLAG_W,GLUC,GLUC_FLAG_W,MAN,MAN_FLAG_W,RHAM,RHAM_FLAG_W,BRDU,BRDU_FLAG_W,PEUK,PEUK_FLAG_W,PROC,PROC_FLAG_W,SYN,SYN_FLAG_W,THETA,BACT,BACT_FLAG_W,BTL_TIME,BTL_LAT,BTL_LON
,,,,,,,,,,,METERS,DBAR,DBAR,ITS-90,PSS-78,,PSS-78,,UMOL/KG,,UMOL/KG,,UMOL/KG,,UMOL/KG,,UMOL/KG,,UMOL/KG,,PMOL/KG,,PMOL/KG,,PMOL/KG,,PMOL/KG,,UMOL/KG,,UMOL/KG,,UMOL/KG,,UMOL/KG,,TU,,TU,NMOL/KG,,NMOL/KG,PERCNT,,PERCNT,NMOL/KG,,NMOL/KG,/MILLE,,/MILLE,/MILLE,,1/M,,1/M,,1/M,,1/M,,1/NM,,1/NM,,NMOL/KG,,NMOL/KG,,NMOL/KG,,NMOL/KG,,NMOL/KG,,NMOL/KG,,NMOL/KG,,PMOL/L/H,,E6/L,,E7/L,,E6/L,,DEG C,E8/L,,,,
316N200309, A20, 62, 1, 36, 36, 2, 20031015, 0351, 9.8953, -52.3432, 4910,     3.00,      3.0,  29.3451,  35.5614, 2,  35.5606, 2,    185.4, 2,    193.5, 2,     2.03, 2,     0.22, 2,     0.00, 2,     0.02, 2,    1.548, 2,    0.986, 2,    0.133, 2, -999.000, 9,   1970.9, 2,   2333.4, 2,    76.00, 2,     5.40, 2, -999.000, 9, -999.000, -999.0000, 9, -999.0000,  -999.00, 9,  -999.00, -999.000, 9, -999.000,   -999.0, 9,   -999.0,  -999.00, 9, -999.0000, 9, -999.0000, 9, -999.0000, 9, -999.0000, 9, -999.0000, 9, -999.0000, 9, -999, 9, -999, 9, -999, 9, -999, 9, -999, 9, -999, 9, -999, 9,  -999.00, 9,  -999.00, 9,  -999.00, 9,  -999.00, 9,  29.3444,  -999.00, 9,  546,    9.9133,  -52.3442
316N200309, A20, 62, 1, 35, 35, 2, 20031015, 0351, 9.8953, -52.3432, 4910,    36.10,     36.1,  27.7814,  36.4583, 2,  36.4483, 2,    201.8, 2,    209.7, 2,     1.00, 2,     0.21, 2,     0.00, 2,     0.01, 2,    1.674, 2,    1.052, 2,    0.137, 2, -999.000, 9,   2019.0, 2,   2383.9, 2,    76.20, 2,     5.40, 2, -999.000, 9, -999.000, -999.0000, 9, -999.0000,  -999.00, 9,  -999.00, -999.000, 9, -999.000,   -999.0, 9,   -999.0,  -999.00, 9, -999.0000, 9, -999.0000, 9, -999.0000, 9, -999.0000, 9, -999.0000, 9, -999.0000, 9, -999, 9, -999, 9, -999, 9, -999, 9, -999, 9, -999, 9, -999, 9,  -999.00, 9,  -999.00, 9,  -999.00, 9,  -999.00, 9,  27.7729,  -999.00, 9,  544,    9.9129,  -52.3441
316N200309, A20, 62, 1, 34, 34, 2, 20031015, 0351, 9.8953, -52.3432, 4910,    50.80,     50.8,  26.8610,  36.6678, 2,  36.6602, 2,    197.7, 2,    210.2, 2,     0.78, 2,     0.21, 2,     0.00, 2,     0.02, 2,    1.744, 2,    1.091, 2,    0.146, 2, -999.000, 9,   2037.8, 2,   2396.9, 2,    73.80, 2,     5.00, 2, -999.000, 9, -999.000, -999.0000, 9, -999.0000,  -999.00, 9,  -999.00, -999.000, 9, -999.000,   -999.0, 9,   -999.0,  -999.00, 9, -999.0000, 9, -999.0000, 9, -999.0000, 9, -999.0000, 9, -999.0000, 9, -999.0000, 9, -999, 9, -999, 9, -999, 9, -999, 9, -999, 9, -999, 9, -999, 9,  -999.00, 9,  -999.00, 9,  -999.00, 9,  -999.00, 9,  26.8493,  -999.00, 9,  543,    9.9127,  -52.3441
316N200309, A20, 62, 1, 33, 33, 2, 20031015, 0351, 9.8953, -52.3432, 4910,    80.50,     80.5,  24.0306,  36.9032, 2,  36.9014, 2,    178.1, 2,    183.3, 2,     0.78, 2,     0.26, 2,     0.27, 2,     0.05, 2,    1.885, 2,    1.153, 2,    0.139, 2, -999.000, 9,   2090.6, 2,   2409.0, 2,    61.90, 2,     4.70, 2, -999.000, 9, -999.000, -999.0000, 9, -999.0000,  -999.00, 9,  -999.00, -999.000, 9, -999.000,   -999.0, 9,   -999.0,  -999.00, 9, -999.0000, 9, -999.0000, 9, -999.0000, 9, -999.0000, 9, -999.0000, 9, -999.0000, 9, -999, 9, -999, 9, -999, 9, -999, 9, -999, 9, -999, 9, -999, 9,  -999.00, 9,  -999.00, 9,  -999.00, 9,  -999.00, 9,  24.0135,  -999.00, 9,  542,    9.9124,  -52.3440
316N200309, A20, 62, 1, 32, 32, 2, 20031015, 0351, 9.8953, -52.3432, 4910,    99.80,     99.8,  21.4085,  36.5958, 2,  36.6068, 2,    147.3, 2,    150.3, 2,     2.74, 2,     6.65, 2,     0.02, 2,     0.44, 2,    2.012, 2,    1.189, 2,    0.077, 2, -999.000, 9,   2135.3, 2,   2391.1, 2,    51.30, 2,    11.10, 2, -999.000, 9, -999.000, -999.0000, 9, -999.0000,  -999.00, 9,  -999.00, -999.000, 9, -999.000,   -999.0, 9,   -999.0,  -999.00, 9, -999.0000, 9, -999.0000, 9, -999.0000, 9, -999.0000, 9, -999.0000, 9, -999.0000, 9, -999, 9, -999, 9, -999, 9, -999, 9, -999, 9, -999, 9, -999, 9,  -999.00, 9,  -999.00, 9,  -999.00, 9,  -999.00, 9,  21.3890,  -999.00, 9,  540,    9.9121,  -52.3440
316N200309, A20, 62, 1, 31, 31, 2, 20031015, 0351, 9.8953, -52.3432, 4910,   154.10,    154.1,  14.9696,  35.7983, 2,  35.7975, 2,    129.7, 2,    127.2, 2,     6.56, 2,    17.31, 2,     0.01, 2,     1.07, 2,    1.921, 2,    1.078, 2,    0.034, 2, -999.000, 9,   2174.8, 2,   2343.3, 2,    47.70, 2,    21.50, 2, -999.000, 9, -999.000, -999.0000, 9, -999.0000,  -999.00, 9,  -999.00, -999.000, 9, -999.000,   -999.0, 9,   -999.0,  -999.00, 9, -999.0000, 9, -999.0000, 9, -999.0000, 9, -999.0000, 9, -999.0000, 9, -999.0000, 9, -999, 9, -999, 9, -999, 9, -999, 9, -999, 9, -999, 9, -999, 9,  -999.00, 9,  -999.00, 9,  -999.00, 9,  -999.00, 9,  14.9462,  -999.00, 9,  539,    9.9117,  -52.3440
316N200309, A20, 62, 1, 30, 30, 2, 20031015, 0351, 9.8953, -52.3432, 4910,   204.60,    204.6,  11.6934,  35.2581, 2,  35.2593, 2,    130.6, 2,    130.0, 2,    10.08, 2,    22.36, 2,     0.01, 2,     1.44, 2,    1.619, 2,    0.877, 2,    0.023, 2, -999.000, 9,   2180.7, 2,   2316.6, 2,    49.70, 2,    27.10, 3, -999.000, 9, -999.000, -999.0000, 9, -999.0000,  -999.00, 9,  -999.00, -999.000, 9, -999.000,   -999.0, 9,   -999.0,  -999.00, 9, -999.0000, 9, -999.0000, 9, -999.0000, 9, -999.0000, 9, -999.0000, 9, -999.0000, 9, -999, 9, -999, 9, -999, 9, -999, 9, -999, 9, -999, 9, -999, 9,  -999.00, 9,  -999.00, 9,  -999.00, 9,  -999.00, 9,  11.6671,  -999.00, 9,  537,    9.9114,  -52.3440
316N200309, A20, 62, 1, 29, 29, 2, 20031015, 0351, 9.8953, -52.3432, 4910,   253.80,    253.8,  10.1908,  35.0234, 2,  35.0209, 2,    104.9, 2,    119.6, 2,    12.47, 2,    26.23, 2,     0.00, 2,     1.69, 2,    1.339, 2,    0.717, 2,    0.040, 2, -999.000, 9,   2194.3, 2,   2305.2, 2,    45.30, 2,    30.80, 3, -999.000, 9, -999.000, -999.0000, 9, -999.0000,  -999.00, 9,  -999.00, -999.000, 9, -999.000,   -999.0, 9,   -999.0,  -999.00, 9, -999.0000, 9, -999.0000, 9, -999.0000, 9, -999.0000, 9, -999.0000, 9, -999.0000, 9, -999, 9, -999, 9, -999, 9, -999, 9, -999, 9, -999, 9, -999, 9,  -999.00, 9,  -999.00, 9,  -999.00, 9,  -999.00, 9,  10.1609,  -999.00, 9,  535,    9.9110,  -52.3439
316N200309, A20, 62, 1, 28, 28, 2, 20031015, 0351, 9.8953, -52.3432, 4910,   301.90,    301.9,   9.9533,  35.0379, 2,  35.0398, 2,     98.1, 2,     94.6, 2,    13.60, 2,    29.39, 2,     0.00, 2,     1.84, 2,    0.899, 2,    0.490, 2,    0.019, 2, -999.000, 9,   2213.1, 2,   2306.4, 2,    45.00, 2,    34.90, 3, -999.000, 9, -999.000, -999.0000, 9, -999.0000,  -999.00, 9,  -999.00, -999.000, 9, -999.000,   -999.0, 9,   -999.0,  -999.00, 9, -999.0000, 9, -999.0000, 9, -999.0000, 9, -999.0000, 9, -999.0000, 9, -999.0000, 9, -999, 9, -999, 9, -999, 9, -999, 9, -999, 9, -999, 9, -999, 9,  -999.00, 9,  -999.00, 9,  -999.00, 9,  -999.00, 9,   9.9182,  -999.00, 9,  533,    9.9107,  -52.3438
316N200309, A20, 62, 1, 27, 27, 2, 20031015, 0351, 9.8953, -52.3432, 4910,   376.70,    376.7,   9.0097,  34.9270, 2,  34.9294, 2,     95.9, 2,     97.0, 2,    15.77, 2,    31.11, 2,     0.00, 2,     1.95, 2,    0.675, 6,    0.360, 6,    0.009, 6, -999.000, 9,   2216.4, 2,   2302.0, 2,    45.40, 2,  -999.00, 9, -999.000, 9, -999.000, -999.0000, 9, -999.0000,  -999.00, 9,  -999.00, -999.000, 9, -999.000,   -999.0, 9,   -999.0,  -999.00, 9, -999.0000, 9, -999.0000, 9, -999.0000, 9, -999.0000, 9, -999.0000, 9, -999.0000, 9, -999, 9, -999, 9, -999, 9, -999, 9, -999, 9, -999, 9, -999, 9,  -999.00, 9,  -999.00, 9,  -999.00, 9,  -999.00, 9,   8.9683,  -999.00, 9,  531,    9.9103,  -52.3437
316N200309, A20, 62, 1, 26, 26, 2, 20031015, 0351, 9.8953, -52.3432, 4910,   448.90,    448.9,   8.7813,  34.9396, 2,  34.9390, 2,    119.9, 2,     88.4, 2,    16.80, 2,    32.37, 2,     0.00, 2,     2.03, 2,    0.454, 2,    0.248, 2,    0.017, 2, -999.000, 9,   2222.5, 2,   2302.7, 2,    44.10, 2,  -999.00, 9, -999.000, 9, -999.000, -999.0000, 9, -999.0000,  -999.00, 9,  -999.00, -999.000, 9, -999.000,   -999.0, 9,   -999.0,  -999.00, 9, -999.0000, 9, -999.0000, 9, -999.0000, 9, -999.0000, 9, -999.0000, 9, -999.0000, 9, -999, 9, -999, 9, -999, 9, -999, 9, -999, 9, -999, 9, -999, 9,  -999.00, 9,  -999.00, 9,  -999.00, 9,  -999.00, 9,   8.7326,  -999.00, 9,  529,    9.9099,  -52.3437
316N200309, A20, 62, 1, 25, 25, 2, 20031015, 0351, 9.8953, -52.3432, 4910,   502.60,    502.6,   8.2869,  34.8867, 2,  34.8900, 2,     93.8, 2,     86.3, 2,    18.24, 2,    33.54, 2,     0.00, 2,     2.12, 2,    0.340, 2,    0.185, 2,    0.022, 2, -999.000, 9,   2229.6, 2,   2301.5, 2,    42.30, 2,  -999.00, 9, -999.000, 9, -999.000, -999.0000, 9, -999.0000,  -999.00, 9,  -999.00, -999.000, 9, -999.000,   -999.0, 9,   -999.0,  -999.00, 9, -999.0000, 9, -999.0000, 9, -999.0000, 9, -999.0000, 9, -999.0000, 9, -999.0000, 9, -999, 9, -999, 9, -999, 9, -999, 9, -999, 9, -999, 9, -999, 9,  -999.00, 9,  -999.00, 9,  -999.00, 9,  -999.00, 9,   8.2340,  -999.00, 9,  527,    9.9096,  -52.3437
316N200309, A20, 62, 1, 24, 24, 2, 20031015, 0351, 9.8953, -52.3432, 4910,   649.70,    649.7,   6.8227,  34.7314, 2,  34.7325, 2,    124.9, 2,    111.3, 2,    22.38, 2,    33.83, 2,     0.00, 2,     2.21, 2,    0.233, 2,    0.122, 2,    0.008, 2, -999.000, 9,   2222.3, 2,   2299.4, 2,    42.20, 2,  -999.00, 9, -999.000, 9, -999.000, -999.0000, 9, -999.0000,  -999.00, 9,  -999.00, -999.000, 9, -999.000,   -999.0, 9,   -999.0,  -999.00, 9, -999.0000, 9, -999.0000, 9, -999.0000, 9, -999.0000, 9, -999.0000, 9, -999.0000, 9, -999, 9, -999, 9, -999, 9, -999, 9, -999, 9, -999, 9, -999, 9,  -999.00, 9,  -999.00, 9,  -999.00, 9,  -999.00, 9,   6.7610,  -999.00, 9,  524,    9.9091,  -52.3436
316N200309, A20, 62, 1, 23, 23, 2, 20031015, 0351, 9.8953, -52.3432, 4910,   724.40,    724.4,   6.0888,  34.6738, 2,  34.6773, 2,    110.0, 2,    121.3, 2,    24.86, 2,    34.07, 2,     0.00, 2,     2.25, 2,    0.149, 2,    0.087, 2,    0.004, 2, -999.000, 9,   2223.1, 2,   2299.3, 2,    40.30, 2,  -999.00, 9, -999.000, 9, -999.000, -999.0000, 9, -999.0000,  -999.00, 9,  -999.00, -999.000, 9, -999.000,   -999.0, 9,   -999.0,  -999.00, 9, -999.0000, 9, -999.0000, 9, -999.0000, 9, -999.0000, 9, -999.0000, 9, -999.0000, 9, -999, 9, -999, 9, -999, 9, -999, 9, -999, 9, -999, 9, -999, 9,  -999.00, 9,  -999.00, 9,  -999.00, 9,  -999.00, 9,   6.0237,  -999.00, 9,  522,    9.9088,  -52.3435
316N200309, A20, 62, 1, 22, 22, 2, 20031015, 0351, 9.8953, -52.3432, 4910,   850.20,    850.2,   5.2981,  34.6300, 2,  34.6321, 2,    138.2, 2,    135.2, 2,    28.07, 2,    33.92, 2,     0.00, 2,     2.28, 2,    0.084, 2,    0.047, 2,    0.003, 2, -999.000, 9,   2223.4, 2,   2299.6, 2,    39.80, 2,  -999.00, 9, -999.000, 9, -999.000, -999.0000, 9, -999.0000,  -999.00, 9,  -999.00, -999.000, 9, -999.000,   -999.0, 9,   -999.0,  -999.00, 9, -999.0000, 9, -999.0000, 9, -999.0000, 9, -999.0000, 9, -999.0000, 9, -999.0000, 9, -999, 9, -999, 9, -999, 9, -999, 9, -999, 9, -999, 9, -999, 9,  -999.00, 9,  -999.00, 9,  -999.00, 9,  -999.00, 9,   5.2261,  -999.00, 9,  519,    9.9083,  -52.3435
316N200309, A20, 62, 1, 21, 21, 2, 20031015, 0351, 9.8953, -52.3432, 4910,  1024.50,   1024.5,   5.1337,  34.7612, 2,  34.7620, 2,    155.2, 2,    154.3, 2,    26.51, 2,    30.92, 2,     0.00, 2,     2.07, 2,    0.074, 2,    0.043, 2,    0.002, 2, -999.000, 9,   2216.4, 2,   2306.6, 2,    40.30, 2,  -999.00, 9, -999.000, 9, -999.000, -999.0000, 9, -999.0000,  -999.00, 9,  -999.00, -999.000, 9, -999.000,   -999.0, 9,   -999.0,  -999.00, 9, -999.0000, 9, -999.0000, 9, -999.0000, 9, -999.0000, 9, -999.0000, 9, -999.0000, 9, -999, 9, -999, 9, -999, 9, -999, 9, -999, 9, -999, 9, -999, 9,  -999.00, 9,  -999.00, 9,  -999.00, 9,  -999.00, 9,   5.0467,  -999.00, 9,  515,    9.9077,  -52.3435
316N200309, A20, 62, 1, 20, 20, 2, 20031015, 0351, 9.8953, -52.3432, 4910,  1199.30,   1199.3,   5.1551,  34.9251, 2,  34.9242, 2,    180.7, 2,    183.7, 2,    21.53, 2,    25.80, 2,     0.00, 2,     1.72, 2,    0.202, 2,    0.099, 2,    0.008, 2, -999.000, 9,   2198.6, 2,   2311.9, 2,  -999.00, 9,  -999.00, 9, -999.000, 9, -999.000, -999.0000, 9, -999.0000,  -999.00, 9,  -999.00, -999.000, 9, -999.000,   -999.0, 9,   -999.0,  -999.00, 9, -999.0000, 9, -999.0000, 9, -999.0000, 9, -999.0000, 9, -999.0000, 9, -999.0000, 9, -999, 9, -999, 9, -999, 9, -999, 9, -999, 9, -999, 9, -999, 9,  -999.00, 9,  -999.00, 9,  -999.00, 9,  -999.00, 9,   5.0512,  -999.00, 9,  511,    9.9071,  -52.3434
316N200309, A20, 62, 1, 19, 19, 2, 20031015, 0351, 9.8953, -52.3432, 4910,  1324.60,   1324.6,   4.9354,  34.9956, 2,  34.9967, 2,    206.8, 2,    212.9, 2,    17.70, 2,    22.17, 2,     0.00, 2,     1.47, 2,    0.380, 2,    0.208, 2,    0.023, 2, -999.000, 9,   2183.0, 2,   2313.6, 2,    43.10, 2,  -999.00, 9, -999.000, 9, -999.000, -999.0000, 9, -999.0000,  -999.00, 9,  -999.00, -999.000, 9, -999.000,   -999.0, 9,   -999.0,  -999.00, 9, -999.0000, 9, -999.0000, 9, -999.0000, 9, -999.0000, 9, -999.0000, 9, -999.0000, 9, -999, 9, -999, 9, -999, 9, -999, 9, -999, 9, -999, 9, -999, 9,  -999.00, 9,  -999.00, 9,  -999.00, 9,  -999.00, 9,   4.8216,  -999.00, 9,  508,    9.9066,  -52.3434
316N200309, A20, 62, 1, 18, 18, 2, 20031015, 0351, 9.8953, -52.3432, 4910,  1449.40,   1449.4,   4.6989,  35.0111, 2,  35.0126, 2,    230.9, 2,    230.7, 2,    15.73, 2,    20.33, 2,     0.00, 2,     1.34, 2,    0.637, 2,    0.336, 2,    0.024, 2, -999.000, 9,   2175.3, 2,   2312.2, 2,  -999.00, 9,  -999.00, 9, -999.000, 9, -999.000, -999.0000, 9, -999.0000,  -999.00, 9,  -999.00, -999.000, 9, -999.000,   -999.0, 9,   -999.0,  -999.00, 9, -999.0000, 9, -999.0000, 9, -999.0000, 9, -999.0000, 9, -999.0000, 9, -999.0000, 9, -999, 9, -999, 9, -999, 9, -999, 9, -999, 9, -999, 9, -999, 9,  -999.00, 9,  -999.00, 9,  -999.00, 9,  -999.00, 9,   4.5756,  -999.00, 9,  505,    9.9061,  -52.3434
316N200309, A20, 62, 1, 17, 17, 2, 20031015, 0351, 9.8953, -52.3432, 4910,  1574.80,   1574.8,   4.4703,  35.0082, 2,  35.0126, 4,    241.0, 2,    240.9, 2,    14.79, 2,    19.45, 2,     0.00, 2,     1.28, 2,    0.753, 6,    0.380, 6,    0.025, 2,    1.192, 2,   2169.6, 2,   2311.1, 2,    43.80, 2,  -999.00, 9, -999.000, 9, -999.000, -999.0000, 9, -999.0000,  -999.00, 9,  -999.00, -999.000, 9, -999.000,   -999.0, 9,   -999.0,  -999.00, 9, -999.0000, 9, -999.0000, 9, -999.0000, 9, -999.0000, 9, -999.0000, 9, -999.0000, 9, -999, 9, -999, 9, -999, 9, -999, 9, -999, 9, -999, 9, -999, 9,  -999.00, 9,  -999.00, 9,  -999.00, 9,  -999.00, 9,   4.3376,  -999.00, 9,  502,    9.9056,  -52.3434
316N200309, A20, 62, 1, 16, 16, 2, 20031015, 0351, 9.8953, -52.3432, 4910,  1700.20,   1700.2,   4.1750,  34.9954, 2,  34.9974, 2,    251.4, 2,    251.5, 2,    14.27, 2,    18.63, 2,     0.00, 2,     1.22, 2,    0.875, 2,    0.449, 2,    0.036, 2, -999.000, 9,   2165.4, 2,   2311.1, 2,  -999.00, 9,  -999.00, 9, -999.000, 9, -999.000, -999.0000, 9, -999.0000,  -999.00, 9,  -999.00, -999.000, 9, -999.000,   -999.0, 9,   -999.0,  -999.00, 9, -999.0000, 9, -999.0000, 9, -999.0000, 9, -999.0000, 9, -999.0000, 9, -999.0000, 9, -999, 9, -999, 9, -999, 9, -999, 9, -999, 9, -999, 9, -999, 9,  -999.00, 9,  -999.00, 9,  -999.00, 9,  -999.00, 9,   4.0340,  -999.00, 9,  459,    9.9051,  -52.3434
316N200309, A20, 62, 1, 15, 15, 2, 20031015, 0351, 9.8953, -52.3432, 4910,  1850.60,   1850.6,   3.9789,  34.9859, 2,  34.9878, 2,    256.7, 2,    255.8, 2,    14.37, 2,    18.35, 2,     0.00, 2,     1.21, 2,    0.881, 2,    0.444, 2,    0.035, 2, -999.000, 9,   2164.2, 2,   2307.5, 2,  -999.00, 9,  -999.00, 9, -999.000, 9, -999.000, -999.0000, 9, -999.0000,  -999.00, 9,  -999.00, -999.000, 9, -999.000,   -999.0, 9,   -999.0,  -999.00, 9, -999.0000, 9, -999.0000, 9, -999.0000, 9, -999.0000, 9, -999.0000, 9, -999.0000, 9, -999, 9, -999, 9, -999, 9, -999, 9, -999, 9, -999, 9, -999, 9,  -999.00, 9,  -999.00, 9,  -999.00, 9,  -999.00, 9,   3.8261,  -999.00, 9,  456,    9.9046,  -52.3434
316N200309, A20, 62, 1, 14, 14, 2, 20031015, 0351, 9.8953, -52.3432, 4910,  2000.00,   2000.0,   3.8565,  34.9803, 2,  34.9819, 2,    258.9, 2,    258.8, 2,    14.78, 2,    18.21, 2,     0.00, 2,     1.20, 2,    0.832, 2,    0.428, 2,    0.037, 2, -999.000, 9,   2163.2, 2,   2309.3, 2,    42.10, 2,  -999.00, 9, -999.000, 9, -999.000, -999.0000, 9, -999.0000,  -999.00, 9,  -999.00, -999.000, 9, -999.000,   -999.0, 9,   -999.0,  -999.00, 9, -999.0000, 9, -999.0000, 9, -999.0000, 9, -999.0000, 9, -999.0000, 9, -999.0000, 9, -999, 9, -999, 9, -999, 9, -999, 9, -999, 9, -999, 9, -999, 9,  -999.00, 9,  -999.00, 9,  -999.00, 9,  -999.00, 9,   3.6910,  -999.00, 9,  452,    9.9042,  -52.3433
316N200309, A20, 62, 1, 13, 13, 2, 20031015, 0351, 9.8953, -52.3432, 4910,  2250.50,   2250.5,   3.4565,  34.9694, 2,  34.9703, 2,    260.3, 2,    259.9, 2,    17.68, 2,    18.35, 2,     0.00, 2,     1.21, 2,    0.448, 2,    0.231, 2,    0.019, 2, -999.000, 9,   2163.9, 2,   2311.5, 2,  -999.00, 9,  -999.00, 9, -999.000, 9, -999.000, -999.0000, 9, -999.0000,  -999.00, 9,  -999.00, -999.000, 9, -999.000,   -999.0, 9,   -999.0,  -999.00, 9, -999.0000, 9, -999.0000, 9, -999.0000, 9, -999.0000, 9, -999.0000, 9, -999.0000, 9, -999, 9, -999, 9, -999, 9, -999, 9, -999, 9, -999, 9, -999, 9,  -999.00, 9,  -999.00, 9,  -999.00, 9,  -999.00, 9,   3.2729,  -999.00, 9,  447,    9.9035,  -52.3432
316N200309, A20, 62, 1, 12, 12, 2, 20031015, 0351, 9.8953, -52.3432, 4910,  2501.30,   2501.3,   3.1682,  34.9557, 2,  34.9559, 2,    260.5, 2,    260.6, 2,    20.36, 2,    18.49, 2,     0.00, 2,     1.23, 2,    0.338, 2,    0.173, 2,    0.016, 2, -999.000, 9,   2165.9, 2,   2315.0, 2,    41.20, 2,  -999.00, 9, -999.000, 9, -999.000, -999.0000, 9, -999.0000,  -999.00, 9,  -999.00, -999.000, 9, -999.000,   -999.0, 9,   -999.0,  -999.00, 9, -999.0000, 9, -999.0000, 9, -999.0000, 9, -999.0000, 9, -999.0000, 9, -999.0000, 9, -999, 9, -999, 9, -999, 9, -999, 9, -999, 9, -999, 9, -999, 9,  -999.00, 9,  -999.00, 9,  -999.00, 9,  -999.00, 9,   2.9650,  -999.00, 9,  442,    9.9029,  -52.3431
316N200309, A20, 62, 1, 11, 11, 2, 20031015, 0351, 9.8953, -52.3432, 4910,  2750.30,   2750.3,   2.9529,  34.9431, 2,  34.9441, 2,    260.3, 2,    260.6, 2,    23.05, 2,    18.80, 2,     0.00, 2,     1.25, 2,    0.281, 2,    0.147, 2,    0.003, 2, -999.000, 9,   2167.9, 2,   2316.6, 2,  -999.00, 9,  -999.00, 9, -999.000, 9, -999.000, -999.0000, 9, -999.0000,  -999.00, 9,  -999.00, -999.000, 9, -999.000,   -999.0, 9,   -999.0,  -999.00, 9, -999.0000, 9, -999.0000, 9, -999.0000, 9, -999.0000, 9, -999.0000, 9, -999.0000, 9, -999, 9, -999, 9, -999, 9, -999, 9, -999, 9, -999, 9, -999, 9,  -999.00, 9,  -999.00, 9,  -999.00, 9,  -999.00, 9,   2.7289,  -999.00, 9,  437,    9.9022,  -52.3430