BOTTLE,20220816CCHSIOAMB
EXPOCODE,SECT_ID,STNNBR,CASTNO,SAMPNO,BTLNBR,BTLNBR_FLAG_W,DATE,TIME,LATITUDE,LONGITUDE,DEPTH,CTDRAW,CTDPRS,CTDTMP,CTDSAL,CTDSAL_FLAG_W,SALNTY,SALNTY_FLAG_W,CTDOXY,CTDOXY_FLAG_W,OXYGEN,OXYGEN_FLAG_W,SILCAT,SILCAT_FLAG_W,NITRAT,NITRAT_FLAG_W,NITRIT,NITRIT_FLAG_W,PHSPHT,PHSPHT_FLAG_W,CFC-11,CFC-11_FLAG_W,CFC-12,CFC-12_FLAG_W,CFC113,CFC113_FLAG_W,CCL4,CCL4_FLAG_W,TCARBN,TCARBN_FLAG_W,ALKALI,ALKALI_FLAG_W,DOC,DOC_FLAG_W,TDN,TDN_FLAG_W,TRITUM,TRITUM_FLAG_W,TRITER,HELIUM,HELIUM_FLAG_W,HELIER,DELHE3,DELHE3_FLAG_W,DELHER,NEON,NEON_FLAG_W,NEONER,DELC14,DELC14_FLAG_W,C14ERR,DELC13,DELC13_FLAG_W,CDOM325,CDOM325_FLAG_W,CDOM340,CDOM340_FLAG_W,CDOM380,CDOM380_FLAG_W,CDOM412,CDOM412_FLAG_W,CDOMSL,CDOMSL_FLAG_W,CDOMSN,CDOMSN_FLAG_W,DCNS,DCNS_FLAG_W,ARABI,ARABI_FLAG_W,FUCO,FUCO_FLAG_W,GALA,GALA_FLAG_W,GLUC,GLUC_FLAG_W,MAN,MAN_FLAG_W,RHAM,RHAM_FLAG_W,BRDU,BRDU_FLAG_W,PEUK,PEUK_FLAG_W,PROC,PROC_FLAG_W,SYN,SYN_FLAG_W,THETA,BACT,BACT_FLAG_W,BTL_TIME,BTL_LAT,BTL_LON
,,,,,,,,,,,METERS,DBAR,DBAR,ITS-90,PSS-78,,PSS-78,,UMOL/KG,,UMOL/KG,,UMOL/KG,,UMOL/KG,,UMOL/KG,,UMOL/KG,,PMOL/KG,,PMOL/KG,,PMOL/KG,,PMOL/KG,,UMOL/KG,,UMOL/KG,,UMOL/KG,,UMOL/KG,,TU,,TU,NMOL/KG,,NMOL/KG,PERCNT,,PERCNT,NMOL/KG,,NMOL/KG,/MILLE,,/MILLE,/MILLE,,1/M,,1/M,,1/M,,1/M,,1/NM,,1/NM,,NMOL/KG,,NMOL/KG,,NMOL/KG,,NMOL/KG,,NMOL/KG,,NMOL/KG,,NMOL/KG,,PMOL/L/H,,E6/L,,E7/L,,E6/L,,DEG C,E8/L,,,,
316N200309, A20, 55, 1, 36, 36, 2, 20031013, 0200, 14.2637, -52.3462, 5165,     2.20,      2.2,  28.8513,  36.7190, 2,  36.7203, 2,    190.4, 2,    195.7, 2,     0.22, 2,     0.05, 2,     0.00, 2,     0.01, 2,    1.565, 2,    0.942, 2,    0.128, 2,    1.677, 2,   2032.0, 2,   2399.2, 2,  -999.00, 9,  -999.00, 9, -999.000, 9, -999.000, -999.0000, 9, -999.0000,  -999.00, 9,  -999.00, -999.000, 9, -999.000,   -999.0, 9,   -999.0,  -999.00, 9,    0.0400, 2,    0.0240, 2,    0.0050, 2,    0.0040, 2,    0.0360, 2,    0.0350, 2, -999, 9, -999, 9, -999, 9, -999, 9, -999, 9, -999, 9, -999, 9,  -999.00, 9,  -999.00, 9,  -999.00, 9,  -999.00, 9,  28.8507,  -999.00, 9,  407,   14.2820,  -52.3498
316N200309, A20, 55, 1, 35, 35, 2, 20031013, 0200, 14.2637, -52.3462, 5165,    24.30,     24.3,  28.8455,  36.7176, 2,  36.7173, 2,    190.8, 2,    195.3, 2,     0.12, 2,     0.10, 2,     0.00, 2,     0.01, 2,    1.583, 6,    0.983, 6,    0.092, 2,    1.614, 2,   2031.8, 2,   2400.9, 2,  -999.00, 9,  -999.00, 9, -999.000, 9, -999.000, -999.0000, 9, -999.0000,  -999.00, 9,  -999.00, -999.000, 9, -999.000,   -999.0, 9,   -999.0,  -999.00, 9,    0.0450, 2,    0.0280, 2,    0.0080, 2,    0.0060, 2,    0.0340, 2,    0.0340, 2, -999, 9, -999, 9, -999, 9, -999, 9, -999, 9, -999, 9, -999, 9,  -999.00, 9,  -999.00, 9,  -999.00, 9,  -999.00, 9,  28.8397,  -999.00, 9,  406,   14.2818,  -52.3497
316N200309, A20, 55, 1, 34, 34, 2, 20031013, 0200, 14.2637, -52.3462, 5165,    49.50,     49.5,  28.0249,  36.7375, 2,  36.7308, 2,    199.0, 2,    205.9, 2,     0.13, 2,     0.05, 2,     0.00, 2,     0.01, 2,    1.639, 2,    1.008, 2,    0.087, 2,    1.516, 2,   2033.7, 2,   2402.4, 2,  -999.00, 9,  -999.00, 9, -999.000, 9, -999.000, -999.0000, 9, -999.0000,  -999.00, 9,  -999.00, -999.000, 9, -999.000,   -999.0, 9,   -999.0,  -999.00, 9,    0.0600, 2,    0.0380, 2,    0.0120, 2,    0.0080, 2,    0.0320, 2,    0.0320, 2, -999, 9, -999, 9, -999, 9, -999, 9, -999, 9, -999, 9, -999, 9,  -999.00, 9,  -999.00, 9,  -999.00, 9,  -999.00, 9,  28.0131,  -999.00, 9,  404,   14.2815,  -52.3496
316N200309, A20, 55, 1, 33, 33, 2, 20031013, 0200, 14.2637, -52.3462, 5165,    74.60,     74.6,  26.0848,  36.8304, 2,  36.8351, 2,    209.4, 2,    215.1, 2,     0.23, 2,     0.04, 2,     0.00, 2,     0.01, 2,    1.801, 2,    1.097, 2,    0.094, 2,    1.094, 2,   -999.0, 9,   -999.0, 9,  -999.00, 9,  -999.00, 9, -999.000, 9, -999.000, -999.0000, 9, -999.0000,  -999.00, 9,  -999.00, -999.000, 9, -999.000,   -999.0, 9,   -999.0,  -999.00, 9,    0.1150, 2,    0.0760, 2,    0.0290, 2,    0.0190, 2,    0.0250, 2,    0.0260, 2, -999, 9, -999, 9, -999, 9, -999, 9, -999, 9, -999, 9, -999, 9,  -999.00, 9,  -999.00, 9,  -999.00, 9,  -999.00, 9,  26.0680,  -999.00, 9,  403,   14.2812,  -52.3496
316N200309, A20, 55, 1, 32, 32, 2, 20031013, 0200, 14.2637, -52.3462, 5165,    99.30,     99.3,  24.5633,  37.0408, 2,  37.0345, 2,    195.6, 2,    201.1, 2,     0.13, 2,     0.09, 2,     0.00, 2,     0.01, 2,    1.878, 2,    1.138, 2,    0.122, 2,    0.945, 2,   2075.8, 2,   2420.0, 2,  -999.00, 9,  -999.00, 9, -999.000, 9, -999.000, -999.0000, 9, -999.0000,  -999.00, 9,  -999.00, -999.000, 9, -999.000,   -999.0, 9,   -999.0,  -999.00, 9,    0.1510, 2,    0.1060, 2,    0.0480, 2,    0.0350, 2,    0.0170, 2,    0.0190, 2, -999, 9, -999, 9, -999, 9, -999, 9, -999, 9, -999, 9, -999, 9,  -999.00, 9,  -999.00, 9,  -999.00, 9,  -999.00, 9,  24.5419,  -999.00, 9,  401,   14.2810,  -52.3495
316N200309, A20, 55, 1, 31, 31, 2, 20031013, 0200, 14.2637, -52.3462, 5165,   124.60,    124.6,  22.3696,  36.9879, 2,  36.9884, 2,    169.2, 2,    173.1, 2,     0.44, 2,     1.19, 2,     0.07, 2,     0.08, 2,    1.977, 2,    1.164, 2,    0.112, 2,    0.765, 2,   -999.0, 9,   -999.0, 9,  -999.00, 9,  -999.00, 9, -999.000, 9, -999.000, -999.0000, 9, -999.0000,  -999.00, 9,  -999.00, -999.000, 9, -999.000,   -999.0, 9,   -999.0,  -999.00, 9,    0.1600, 2,    0.1160, 2,    0.0570, 2,    0.0440, 2,    0.0140, 2,    0.0160, 2, -999, 9, -999, 9, -999, 9, -999, 9, -999, 9, -999, 9, -999, 9,  -999.00, 9,  -999.00, 9,  -999.00, 9,  -999.00, 9,  22.3444,  -999.00, 9,  400,   14.2807,  -52.3494
316N200309, A20, 55, 1, 30, 30, 2, 20031013, 0200, 14.2637, -52.3462, 5165,   149.60,    149.6,  20.9294,  36.8782, 2,  36.8784, 2,    157.6, 2,    159.1, 2,     0.86, 2,     4.44, 2,     0.03, 2,     0.24, 2,    2.062, 2,    1.217, 2,    0.084, 2,    0.698, 2,   2140.1, 2,   2406.1, 2,  -999.00, 9,  -999.00, 9, -999.000, 9, -999.000, -999.0000, 9, -999.0000,  -999.00, 9,  -999.00, -999.000, 9, -999.000,   -999.0, 9,   -999.0,  -999.00, 9,    0.1460, 2,    0.1060, 2,    0.0530, 2,    0.0400, 2,    0.0140, 2,    0.0170, 2, -999, 9, -999, 9, -999, 9, -999, 9, -999, 9, -999, 9, -999, 9,  -999.00, 9,  -999.00, 9,  -999.00, 9,  -999.00, 9,  20.9005,  -999.00, 9,  358,   14.2805,  -52.3494
316N200309, A20, 55, 1, 29, 29, 2, 20031013, 0200, 14.2637, -52.3462, 5165,   200.60,    200.6,  16.0208,  36.1089, 2,  36.1096, 2,    127.9, 2,    127.7, 2,     4.32, 2,    15.05, 2,     0.00, 2,     0.89, 2,    1.944, 2,    1.084, 2,    0.010, 2,    0.287, 2,   2169.4, 2,   2359.5, 2,  -999.00, 9,  -999.00, 9, -999.000, 9, -999.000, -999.0000, 9, -999.0000,  -999.00, 9,  -999.00, -999.000, 9, -999.000,   -999.0, 9,   -999.0,  -999.00, 9,    0.1440, 2,    0.1050, 2,    0.0540, 2,    0.0430, 2,    0.0130, 2,    0.0150, 2, -999, 9, -999, 9, -999, 9, -999, 9, -999, 9, -999, 9, -999, 9,  -999.00, 9,  -999.00, 9,  -999.00, 9,  -999.00, 9,  15.9887,  -999.00, 9,  357,   14.2803,  -52.3493
316N200309, A20, 55, 1, 28, 28, 2, 20031013, 0200, 14.2637, -52.3462, 5165,   300.40,    300.4,  11.7988,  35.4284, 2,  35.4312, 2,    112.0, 2,    110.6, 2,     9.65, 2,    23.73, 2,     0.00, 2,     1.46, 2,    1.273, 2,    0.692, 2,    0.003, 2,    0.296, 2,   -999.0, 9,   -999.0, 9,  -999.00, 9,  -999.00, 9, -999.000, 9, -999.000, -999.0000, 9, -999.0000,  -999.00, 9,  -999.00, -999.000, 9, -999.000,   -999.0, 9,   -999.0,  -999.00, 9,    0.1480, 2,    0.1080, 2,    0.0570, 2,    0.0440, 2,    0.0130, 2,    0.0150, 2, -999, 9, -999, 9, -999, 9, -999, 9, -999, 9, -999, 9, -999, 9,  -999.00, 9,  -999.00, 9,  -999.00, 9,  -999.00, 9,  11.7597,  -999.00, 9,  354,   14.2799,  -52.3491
316N200309, A20, 55, 1, 27, 27, 2, 20031013, 0200, 14.2637, -52.3462, 5165,   399.50,    399.5,  10.1963,  35.1960, 2,  35.1965, 2,    106.9, 2,    107.9, 2,    12.90, 2,    27.04, 2,     0.00, 2,     1.68, 2,    0.825, 2,    0.439, 2,    0.007, 2,    0.273, 2,   2203.2, 2,   2314.3, 2,  -999.00, 9,  -999.00, 9, -999.000, 9, -999.000, -999.0000, 9, -999.0000,  -999.00, 9,  -999.00, -999.000, 9, -999.000,   -999.0, 9,   -999.0,  -999.00, 9,    0.1350, 2,    0.0970, 2,    0.0520, 2,    0.0400, 2,    0.0130, 2,    0.0150, 2, -999, 9, -999, 9, -999, 9, -999, 9, -999, 9, -999, 9, -999, 9,  -999.00, 9,  -999.00, 9,  -999.00, 9,  -999.00, 9,  10.1488,  -999.00, 9,  351,   14.2795,  -52.3490
316N200309, A20, 55, 1, 26, 26, 2, 20031013, 0200, 14.2637, -52.3462, 5165,   449.10,    449.1,   9.0439,  35.0306, 2,  35.0309, 2,    106.5, 2,    108.8, 2,    15.30, 2,    29.16, 2,     0.00, 2,     1.85, 2,    0.615, 2,    0.339, 2,    0.008, 2,    0.272, 2,   -999.0, 9,   -999.0, 9,  -999.00, 9,  -999.00, 9, -999.000, 9, -999.000, -999.0000, 9, -999.0000,  -999.00, 9,  -999.00, -999.000, 9, -999.000,   -999.0, 9,   -999.0,  -999.00, 9,    0.1450, 2,    0.1050, 2,    0.0580, 2,    0.0470, 2,    0.0120, 2,    0.0140, 2, -999, 9, -999, 9, -999, 9, -999, 9, -999, 9, -999, 9, -999, 9,  -999.00, 9,  -999.00, 9,  -999.00, 9,  -999.00, 9,   8.9942,  -999.00, 9,  350,   14.2793,  -52.3489
316N200309, A20, 55, 1, 25, 25, 2, 20031013, 0200, 14.2637, -52.3462, 5165,   549.80,    549.8,   7.8601,  34.8814, 2,  34.8816, 2,    106.3, 2,    107.2, 2,    18.76, 2,    31.78, 2,     0.00, 2,     2.04, 2,    0.307, 2,    0.181, 2,    0.003, 2,    0.275, 2,   2215.9, 2,   2303.7, 2,  -999.00, 9,  -999.00, 9, -999.000, 9, -999.000, -999.0000, 9, -999.0000,  -999.00, 9,  -999.00, -999.000, 9, -999.000,   -999.0, 9,   -999.0,  -999.00, 9,    0.1380, 2,    0.0980, 2,    0.0530, 2,    0.0420, 2,    0.0130, 2,    0.0150, 2, -999, 9, -999, 9, -999, 9, -999, 9, -999, 9, -999, 9, -999, 9,  -999.00, 9,  -999.00, 9,  -999.00, 9,  -999.00, 9,   7.8038,  -999.00, 9,  347,   14.2790,  -52.3487
316N200309, A20, 55, 1, 24, 24, 2, 20031013, 0200, 14.2637, -52.3462, 5165,   649.50,    649.5,   6.8388,  34.7661, 2,  34.7677, 2,    116.2, 2,    118.8, 2,    21.79, 2,    32.65, 2,     0.00, 2,     2.13, 2,    0.202, 2,    0.117, 2,    0.008, 2,    0.237, 2,   -999.0, 9,   -999.0, 9,  -999.00, 9,  -999.00, 9, -999.000, 9, -999.000, -999.0000, 9, -999.0000,  -999.00, 9,  -999.00, -999.000, 9, -999.000,   -999.0, 9,   -999.0,  -999.00, 9,    0.1390, 2,    0.0980, 2,    0.0530, 2,    0.0420, 2,    0.0130, 2,    0.0150, 2, -999, 9, -999, 9, -999, 9, -999, 9, -999, 9, -999, 9, -999, 9,  -999.00, 9,  -999.00, 9,  -999.00, 9,  -999.00, 9,   6.7770,  -999.00, 9,  345,   14.2786,  -52.3486
316N200309, A20, 55, 1, 23, 23, 2, 20031013, 0200, 14.2637, -52.3462, 5165,   750.40,    750.4,   6.0216,  34.7045, 2,  34.7072, 2,    126.6, 2,    126.0, 2,    24.82, 2,    33.28, 2,     0.00, 2,     2.21, 2,    0.099, 2,    0.066, 2,    0.004, 2,    0.219, 2,   2219.6, 2,   2302.0, 2,  -999.00, 9,  -999.00, 9, -999.000, 9, -999.000, -999.0000, 9, -999.0000,  -999.00, 9,  -999.00, -999.000, 9, -999.000,   -999.0, 9,   -999.0,  -999.00, 9,    0.1410, 2,    0.1000, 2,    0.0540, 2,    0.0430, 2,    0.0130, 2,    0.0150, 2, -999, 9, -999, 9, -999, 9, -999, 9, -999, 9, -999, 9, -999, 9,  -999.00, 9,  -999.00, 9,  -999.00, 9,  -999.00, 9,   5.9543,  -999.00, 9,  342,   14.2782,  -52.3484
316N200309, A20, 55, 1, 22, 22, 2, 20031013, 0200, 14.2637, -52.3462, 5165,   900.10,    900.1,   5.4649,  34.7393, 2,  34.7394, 2,    139.4, 2,    139.3, 2,    26.07, 2,    32.25, 2,     0.00, 2,     2.15, 2,    0.044, 2,    0.033, 2,    0.002, 2,    0.159, 2,   -999.0, 9,   -999.0, 9,  -999.00, 9,  -999.00, 9, -999.000, 9, -999.000, -999.0000, 9, -999.0000,  -999.00, 9,  -999.00, -999.000, 9, -999.000,   -999.0, 9,   -999.0,  -999.00, 9,    0.1460, 2,    0.1040, 2,    0.0560, 2,    0.0450, 2,    0.0120, 2,    0.0150, 2, -999, 9, -999, 9, -999, 9, -999, 9, -999, 9, -999, 9, -999, 9,  -999.00, 9,  -999.00, 9,  -999.00, 9,  -999.00, 9,   5.3870,  -999.00, 9,  338,   14.2779,  -52.3482
316N200309, A20, 55, 1, 21, 21, 2, 20031013, 0200, 14.2637, -52.3462, 5165,  1050.10,   1050.1,   5.3192,  34.8512, 2,  34.8513, 2,    159.0, 2,    161.2, 2,    23.66, 2,    28.84, 2,     0.00, 2,     1.93, 2,    0.079, 2,    0.049, 2,    0.008, 2,    0.222, 2,   2206.3, 2,   2309.8, 2,  -999.00, 9,  -999.00, 9, -999.000, 9, -999.000, -999.0000, 9, -999.0000,  -999.00, 9,  -999.00, -999.000, 9, -999.000,   -999.0, 9,   -999.0,  -999.00, 9,    0.1420, 2,    0.1010, 2,    0.0520, 2,    0.0410, 2,    0.0130, 2,    0.0160, 2, -999, 9, -999, 9, -999, 9, -999, 9, -999, 9, -999, 9, -999, 9,  -999.00, 9,  -999.00, 9,  -999.00, 9,  -999.00, 9,   5.2282,  -999.00, 9,  335,   14.2774,  -52.3480
316N200309, A20, 55, 1, 20, 20, 2, 20031013, 0200, 14.2637, -52.3462, 5165,  1200.20,   1200.2,   5.1103,  34.9508, 2,  34.9504, 2,    192.1, 2,    189.6, 2,    20.11, 2,    24.99, 2,     0.00, 2,     1.66, 2,    0.159, 2,    0.102, 2,    0.002, 2,    0.306, 2,   -999.0, 9,   -999.0, 9,  -999.00, 9,  -999.00, 9, -999.000, 9, -999.000, -999.0000, 9, -999.0000,  -999.00, 9,  -999.00, -999.000, 9, -999.000,   -999.0, 9,   -999.0,  -999.00, 9, -999.0000, 9, -999.0000, 9, -999.0000, 9, -999.0000, 9, -999.0000, 9, -999.0000, 9, -999, 9, -999, 9, -999, 9, -999, 9, -999, 9, -999, 9, -999, 9,  -999.00, 9,  -999.00, 9,  -999.00, 9,  -999.00, 9,   5.0067,  -999.00, 9,  331,   14.2769,  -52.3479
316N200309, A20, 55, 1, 19, 19, 2, 20031013, 0200, 14.2637, -52.3462, 5165,  1325.90,   1325.9,   4.9253,  35.0048, 2,  35.0037, 2,    215.6, 2,    215.5, 2,    16.87, 2,    21.82, 2,     0.00, 2,     1.45, 2,    0.356, 2,    0.205, 2,    0.007, 2,    0.658, 2,   -999.0, 9,   -999.0, 9,  -999.00, 9,  -999.00, 9, -999.000, 9, -999.000, -999.0000, 9, -999.0000,  -999.00, 9,  -999.00, -999.000, 9, -999.000,   -999.0, 9,   -999.0,  -999.00, 9, -999.0000, 9, -999.0000, 9, -999.0000, 9, -999.0000, 9, -999.0000, 9, -999.0000, 9, -999, 9, -999, 9, -999, 9, -999, 9, -999, 9, -999, 9, -999, 9,  -999.00, 9,  -999.00, 9,  -999.00, 9,  -999.00, 9,   4.8115,  -999.00, 9,  328,   14.2764,  -52.3477
316N200309, A20, 55, 1, 18, 18, 2, 20031013, 0200, 14.2637, -52.3462, 5165,  1450.40,   1450.4,   4.6033,  35.0112, 2,  35.0110, 2,    231.8, 2,    232.5, 2,    15.31, 2,    20.24, 2,     0.00, 2,     1.33, 2,    0.476, 2,    0.254, 2,    0.049, 4,    0.932, 2,   -999.0, 9,   -999.0, 9,  -999.00, 9,  -999.00, 9, -999.000, 9, -999.000, -999.0000, 9, -999.0000,  -999.00, 9,  -999.00, -999.000, 9, -999.000,   -999.0, 9,   -999.0,  -999.00, 9,    0.1350, 2,    0.0950, 2,    0.0460, 2,    0.0370, 2,    0.0140, 2,    0.0170, 2, -999, 9, -999, 9, -999, 9, -999, 9, -999, 9, -999, 9, -999, 9,  -999.00, 9,  -999.00, 9,  -999.00, 9,  -999.00, 9,   4.4810,  -999.00, 9,  325,   14.2760,  -52.3475
316N200309, A20, 55, 1, 17, 17, 2, 20031013, 0200, 14.2637, -52.3462, 5165,  1600.90,   1600.9,   4.2510,  35.0027, 2,  35.0014, 2,    246.0, 2,    247.8, 2,    14.05, 2,    19.00, 2,     0.00, 2,     1.25, 2,    0.638, 2,    0.318, 2,    0.012, 2,    1.131, 2,   -999.0, 9,   -999.0, 9,  -999.00, 9,  -999.00, 9, -999.000, 9, -999.000, -999.0000, 9, -999.0000,  -999.00, 9,  -999.00, -999.000, 9, -999.000,   -999.0, 9,   -999.0,  -999.00, 9, -999.0000, 9, -999.0000, 9, -999.0000, 9, -999.0000, 9, -999.0000, 9, -999.0000, 9, -999, 9, -999, 9, -999, 9, -999, 9, -999, 9, -999, 9, -999, 9,  -999.00, 9,  -999.00, 9,  -999.00, 9,  -999.00, 9,   4.1185,  -999.00, 9,  321,   14.2755,  -52.3473
316N200309, A20, 55, 1, 16, 16, 2, 20031013, 0200, 14.2637, -52.3462, 5165,  1750.50,   1750.5,   3.9051,  34.9900, 2,  34.9907, 2,    253.6, 2,    253.7, 2,    15.21, 2,    18.76, 2,     0.00, 2,     1.24, 2,    0.440, 2,    0.219, 2,    0.009, 2,    0.852, 2,   -999.0, 9,   -999.0, 9,  -999.00, 9,  -999.00, 9, -999.000, 9, -999.000, -999.0000, 9, -999.0000,  -999.00, 9,  -999.00, -999.000, 9, -999.000,   -999.0, 9,   -999.0,  -999.00, 9, -999.0000, 9, -999.0000, 9, -999.0000, 9, -999.0000, 9, -999.0000, 9, -999.0000, 9, -999, 9, -999, 9, -999, 9, -999, 9, -999, 9, -999, 9, -999, 9,  -999.00, 9,  -999.00, 9,  -999.00, 9,  -999.00, 9,   3.7628,  -999.00, 9,  317,   14.2751,  -52.3471
316N200309, A20, 55, 1, 15, 15, 2, 20031013, 0200, 14.2637, -52.3462, 5165,  1850.40,   1850.4,   3.7308,  34.9864, 2,  34.9868, 2,    253.7, 2,    252.6, 2,    17.19, 2,    18.94, 2,     0.00, 2,     1.26, 2,    0.337, 2,    0.123, 2,    0.000, 2,    0.690, 2,   -999.0, 9,   -999.0, 9,  -999.00, 9,  -999.00, 9, -999.000, 9, -999.000, -999.0000, 9, -999.0000,  -999.00, 9,  -999.00, -999.000, 9, -999.000,   -999.0, 9,   -999.0,  -999.00, 9,    0.1380, 2,    0.0980, 2,    0.0490, 2,    0.0430, 3,    0.0120, 3,    0.0150, 3, -999, 9, -999, 9, -999, 9, -999, 9, -999, 9, -999, 9, -999, 9,  -999.00, 9,  -999.00, 9,  -999.00, 9,  -999.00, 9,   3.5814,  -999.00, 9,  315,   14.2747,  -52.3470
316N200309, A20, 55, 1, 14, 14, 2, 20031013, 0200, 14.2637, -52.3462, 5165,  2000.40,   2000.4,   3.4853,  34.9751, 2,  34.9762, 2,    255.8, 2,    255.0, 2,    18.86, 2,    18.94, 2,     0.00, 2,     1.26, 2,    0.175, 2,    0.045, 2,    0.002, 2,   -0.015, 2,   -999.0, 9,   -999.0, 9,  -999.00, 9,  -999.00, 9, -999.000, 9, -999.000, -999.0000, 9, -999.0000,  -999.00, 9,  -999.00, -999.000, 9, -999.000,   -999.0, 9,   -999.0,  -999.00, 9, -999.0000, 9, -999.0000, 9, -999.0000, 9, -999.0000, 9, -999.0000, 9, -999.0000, 9, -999, 9, -999, 9, -999, 9, -999, 9, -999, 9, -999, 9, -999, 9,  -999.00, 9,  -999.00, 9,  -999.00, 9,  -999.00, 9,   3.3254,  -999.00, 9,  311,   14.2741,  -52.3469
316N200309, A20, 55, 1, 13, 13, 2, 20031013, 0200, 14.2637, -52.3462, 5165,  2251.00,   2251.0,   3.2090,  34.9608, 2,  34.9614, 2,    255.0, 2,    257.2, 2,    21.26, 2,    18.93, 2,     0.00, 2,     1.26, 2,    0.150, 2,    0.092, 2,   -0.003, 2,    0.508, 2,   -999.0, 9,   -999.0, 9,  -999.00, 9,  -999.00, 9, -999.000, 9, -999.000, -999.0000, 9, -999.0000,  -999.00, 9,  -999.00, -999.000, 9, -999.000,   -999.0, 9,   -999.0,  -999.00, 9,    0.1240, 2,    0.0870, 2,    0.0410, 2,    0.0340, 2,    0.0140, 3,    0.0180, 3, -999, 9, -999, 9, -999, 9, -999, 9, -999, 9, -999, 9, -999, 9,  -999.00, 9,  -999.00, 9,  -999.00, 9,  -999.00, 9,   3.0295,  -999.00, 9,  306,   14.2732,  -52.3469
316N200309, A20, 55, 1, 12, 12, 2, 20031013, 0200, 14.2637, -52.3462, 5165,  2501.30,   2501.3,   2.9847,  34.9468, 2,  34.9465, 2,    254.3, 2,    254.1, 2,    26.38, 2,    19.65, 2,     0.00, 2,     1.31, 2,    0.068, 2,    0.043, 2,   -0.004, 2,    0.332, 2,   -999.0, 9,   -999.0, 9,  -999.00, 9,  -999.00, 9, -999.000, 9, -999.000, -999.0000, 9, -999.0000,  -999.00, 9,  -999.00, -999.000, 9, -999.000,   -999.0, 9,   -999.0,  -999.00, 9, -999.0000, 9, -999.0000, 9, -999.0000, 9, -999.0000, 9, -999.0000, 9, -999.0000, 9, -999, 9, -999, 9, -999, 9, -999, 9, -999, 9, -999, 9, -999, 9,  -999.00, 9,  -999.00, 9,  -999.00, 9,  -999.00, 9,   2.7849,  -999.00, 9,  301,   14.2723,  -52.3469
316N200309, A20, 55, 1, 11, 11, 2, 20031013, 0200, 14.2637, -52.3462, 5165,  2750.50,   2750.5,   2.8321,  34.9364, 2,  34.9355, 2,    253.9, 2,    251.9, 2,    29.10, 2,    19.92, 2,     0.00, 2,     1.34, 2,    0.074, 2,    0.045, 2,    0.001, 2,    0.310, 2,   -999.0, 9,   -999.0, 9,  -999.00, 9,  -999.00, 9, -999.000, 9, -999.000, -999.0000, 9, -999.0000,  -999.00, 9,  -999.00, -999.000, 9, -999.000,   -999.0, 9,   -999.0,  -999.00, 9,    0.1260, 2,    0.0880, 2,    0.0420, 2,    0.0280, 2,    0.0180, 2,    0.0200, 2, -999, 9, -999, 9, -999, 9, -999, 9, -999, 9, -999, 9, -999, 9,  -999.00, 9,  -999.00, 9,  -999.00, 9,  -999.00, 9,   2.6104,  -999.00, 9,  256,   14.2715,  -52.3469