BOTTLE,20220816CCHSIOAMB
EXPOCODE,SECT_ID,STNNBR,CASTNO,SAMPNO,BTLNBR,BTLNBR_FLAG_W,DATE,TIME,LATITUDE,LONGITUDE,DEPTH,CTDRAW,CTDPRS,CTDTMP,CTDSAL,CTDSAL_FLAG_W,SALNTY,SALNTY_FLAG_W,CTDOXY,CTDOXY_FLAG_W,OXYGEN,OXYGEN_FLAG_W,SILCAT,SILCAT_FLAG_W,NITRAT,NITRAT_FLAG_W,NITRIT,NITRIT_FLAG_W,PHSPHT,PHSPHT_FLAG_W,CFC-11,CFC-11_FLAG_W,CFC-12,CFC-12_FLAG_W,CFC113,CFC113_FLAG_W,CCL4,CCL4_FLAG_W,TCARBN,TCARBN_FLAG_W,ALKALI,ALKALI_FLAG_W,DOC,DOC_FLAG_W,TDN,TDN_FLAG_W,TRITUM,TRITUM_FLAG_W,TRITER,HELIUM,HELIUM_FLAG_W,HELIER,DELHE3,DELHE3_FLAG_W,DELHER,NEON,NEON_FLAG_W,NEONER,DELC14,DELC14_FLAG_W,C14ERR,DELC13,DELC13_FLAG_W,CDOM325,CDOM325_FLAG_W,CDOM340,CDOM340_FLAG_W,CDOM380,CDOM380_FLAG_W,CDOM412,CDOM412_FLAG_W,CDOMSL,CDOMSL_FLAG_W,CDOMSN,CDOMSN_FLAG_W,DCNS,DCNS_FLAG_W,ARABI,ARABI_FLAG_W,FUCO,FUCO_FLAG_W,GALA,GALA_FLAG_W,GLUC,GLUC_FLAG_W,MAN,MAN_FLAG_W,RHAM,RHAM_FLAG_W,BRDU,BRDU_FLAG_W,PEUK,PEUK_FLAG_W,PROC,PROC_FLAG_W,SYN,SYN_FLAG_W,THETA,BACT,BACT_FLAG_W,BTL_TIME,BTL_LAT,BTL_LON
,,,,,,,,,,,METERS,DBAR,DBAR,ITS-90,PSS-78,,PSS-78,,UMOL/KG,,UMOL/KG,,UMOL/KG,,UMOL/KG,,UMOL/KG,,UMOL/KG,,PMOL/KG,,PMOL/KG,,PMOL/KG,,PMOL/KG,,UMOL/KG,,UMOL/KG,,UMOL/KG,,UMOL/KG,,TU,,TU,NMOL/KG,,NMOL/KG,PERCNT,,PERCNT,NMOL/KG,,NMOL/KG,/MILLE,,/MILLE,/MILLE,,1/M,,1/M,,1/M,,1/M,,1/NM,,1/NM,,NMOL/KG,,NMOL/KG,,NMOL/KG,,NMOL/KG,,NMOL/KG,,NMOL/KG,,NMOL/KG,,PMOL/L/H,,E6/L,,E7/L,,E6/L,,DEG C,E8/L,,,,
316N200309, A20, 68, 1, 9, 9, 2, 20031016, 1341, 8.6253, -52.7320, 4703,  3099.80,   3099.8,   2.7878,  34.9316, 2,  34.9303, 2,    258.9, 2,    258.9, 2,    26.36, 2,    19.33, 2,     0.00, 2,     1.28, 2,    0.197, 2,    0.104, 2,    0.007, 2, -999.000, 9,   -999.0, 9,   -999.0, 1,  -999.00, 9,  -999.00, 9, -999.000, 9, -999.000, -999.0000, 9, -999.0000,  -999.00, 9,  -999.00, -999.000, 9, -999.000,   -999.0, 9,   -999.0,  -999.00, 9, -999.0000, 9, -999.0000, 9, -999.0000, 9, -999.0000, 9, -999.0000, 9, -999.0000, 9, -999, 9, -999, 9, -999, 9, -999, 9, -999, 9, -999, 9, -999, 9,  -999.00, 9,  -999.00, 9,  -999.00, 9,  -999.00, 9,   2.5313,  -999.00, 9, 1419,    8.6219,  -52.7348
316N200309, A20, 68, 1, 8, 8, 2, 20031016, 1341, 8.6253, -52.7320, 4703,  3299.40,   3299.4,   2.6597,  34.9225, 2,  34.9229, 2,    258.9, 2,    258.9, 2,    28.11, 2,    19.37, 2,     0.00, 2,     1.29, 2,    0.226, 2,    0.117, 2,    0.008, 2, -999.000, 9,   2173.6, 2,   2324.6, 2,    41.60, 2,  -999.00, 9, -999.000, 9, -999.000, -999.0000, 9, -999.0000,  -999.00, 9,  -999.00, -999.000, 9, -999.000,   -999.0, 9,   -999.0,  -999.00, 9,    0.1320, 2,    0.0920, 2,    0.0430, 2,    0.0310, 2,    0.0170, 2,    0.0190, 2, -999, 9, -999, 9, -999, 9, -999, 9, -999, 9, -999, 9, -999, 9,  -999.00, 9,  -999.00, 9,  -999.00, 9,  -999.00, 9,   2.3850,  -999.00, 9, 1415,    8.6225,  -52.7346
316N200309, A20, 68, 1, 7, 7, 2, 20031016, 1341, 8.6253, -52.7320, 4703,  3500.10,   3500.1,   2.5643,  34.9153, 2,  34.9136, 2,    260.2, 2,    260.2, 2,    29.23, 2,    19.37, 2,     0.00, 2,     1.29, 2,    0.241, 2,    0.117, 2,    0.012, 2, -999.000, 9,   -999.0, 9,   -999.0, 1,  -999.00, 9,  -999.00, 9, -999.000, 9, -999.000, -999.0000, 9, -999.0000,  -999.00, 9,  -999.00, -999.000, 9, -999.000,   -999.0, 9,   -999.0,  -999.00, 9, -999.0000, 9, -999.0000, 9, -999.0000, 9, -999.0000, 9, -999.0000, 9, -999.0000, 9, -999, 9, -999, 9, -999, 9, -999, 9, -999, 9, -999, 9, -999, 9,  -999.00, 9,  -999.00, 9,  -999.00, 9,  -999.00, 9,   2.2703,  -999.00, 9, 1411,    8.6228,  -52.7342
316N200309, A20, 68, 1, 6, 6, 2, 20031016, 1341, 8.6253, -52.7320, 4703,  3699.60,   3699.6,   2.4724,  34.9088, 2,  34.9089, 2,    261.4, 2,    262.0, 2,    29.32, 2,    19.20, 2,     0.00, 2,     1.28, 2,    0.286, 2,    0.141, 2,    0.011, 2, -999.000, 9,   2171.7, 2,   -999.0, 1,  -999.00, 9,  -999.00, 9, -999.000, 9, -999.000, -999.0000, 9, -999.0000,  -999.00, 9,  -999.00, -999.000, 9, -999.000,   -999.0, 9,   -999.0,  -999.00, 9, -999.0000, 9, -999.0000, 9, -999.0000, 9, -999.0000, 9, -999.0000, 9, -999.0000, 9, -999, 9, -999, 9, -999, 9, -999, 9, -999, 9, -999, 9, -999, 9,  -999.00, 9,  -999.00, 9,  -999.00, 9,  -999.00, 9,   2.1587,  -999.00, 9, 1406,    8.6232,  -52.7338
316N200309, A20, 68, 1, 5, 5, 2, 20031016, 1341, 8.6253, -52.7320, 4703,  3899.70,   3899.7,   2.3786,  34.9023, 2,  34.9024, 2,    263.3, 2,    264.0, 2,    29.31, 2,    18.96, 2,     0.00, 2,     1.27, 2,    0.353, 2,    0.178, 2,    0.022, 2, -999.000, 9,   2173.1, 2,   2324.3, 2,    40.60, 2,  -999.00, 9, -999.000, 9, -999.000, -999.0000, 9, -999.0000,  -999.00, 9,  -999.00, -999.000, 9, -999.000,   -999.0, 9,   -999.0,  -999.00, 9,    0.1330, 2,    0.0940, 2,    0.0440, 2,    0.0310, 2,    0.0170, 2,    0.0190, 2, -999, 9, -999, 9, -999, 9, -999, 9, -999, 9, -999, 9, -999, 9,  -999.00, 9,  -999.00, 9,  -999.00, 9,  -999.00, 9,   2.0451,  -999.00, 9, 1402,    8.6235,  -52.7335
316N200309, A20, 68, 1, 4, 4, 2, 20031016, 1341, 8.6253, -52.7320, 4703,  4124.50,   4124.5,   2.2942,  34.8943, 2,  34.8943, 2,    262.6, 2,    263.2, 2,    31.58, 2,    19.15, 2,     0.00, 2,     1.32, 2,    0.374, 2,    0.188, 2,    0.022, 2, -999.000, 9,   -999.0, 9,   -999.0, 1,  -999.00, 9,  -999.00, 9, -999.000, 9, -999.000, -999.0000, 9, -999.0000,  -999.00, 9,  -999.00, -999.000, 9, -999.000,   -999.0, 9,   -999.0,  -999.00, 9, -999.0000, 9, -999.0000, 9, -999.0000, 9, -999.0000, 9, -999.0000, 9, -999.0000, 9, -999, 9, -999, 9, -999, 9, -999, 9, -999, 9, -999, 9, -999, 9,  -999.00, 9,  -999.00, 9,  -999.00, 9,  -999.00, 9,   1.9375,  -999.00, 9, 1357,    8.6239,  -52.7331
316N200309, A20, 68, 1, 3, 3, 2, 20031016, 1341, 8.6253, -52.7320, 4703,  4374.00,   4374.0,   2.2268,  34.8857, 2,  34.8829, 2,    259.4, 2,    260.2, 2,    36.23, 2,    19.84, 2,     0.00, 2,     1.34, 2,    0.286, 2,    0.141, 2,    0.022, 2, -999.000, 9,   2180.8, 2,   2331.0, 2,    42.40, 2,  -999.00, 9, -999.000, 9, -999.000, -999.0000, 9, -999.0000,  -999.00, 9,  -999.00, -999.000, 9, -999.000,   -999.0, 9,   -999.0,  -999.00, 9,    0.1370, 2,    0.0960, 2,    0.0460, 2,    0.0320, 2,    0.0170, 2,    0.0190, 2, -999, 9, -999, 9, -999, 9, -999, 9, -999, 9, -999, 9, -999, 9,  -999.00, 9,  -999.00, 9,  -999.00, 9,  -999.00, 9,   1.8430,  -999.00, 9, 1352,    8.6242,  -52.7326
316N200309, A20, 68, 1, 2, 2, 2, 20031016, 1341, 8.6253, -52.7320, 4703,  4623.90,   4623.9,   2.1043,  34.8675, 2,  34.8670, 2,    254.3, 2,    253.3, 2,    45.48, 2,    21.22, 2,     0.00, 2,     1.44, 2,    0.188, 2,    0.105, 2,    0.014, 2, -999.000, 9,   2192.2, 2,   2338.2, 2,  -999.00, 9,  -999.00, 9, -999.000, 9, -999.000, -999.0000, 9, -999.0000,  -999.00, 9,  -999.00, -999.000, 9, -999.000,   -999.0, 9,   -999.0,  -999.00, 9, -999.0000, 9, -999.0000, 9, -999.0000, 9, -999.0000, 9, -999.0000, 9, -999.0000, 9, -999, 9, -999, 9, -999, 9, -999, 9, -999, 9, -999, 9, -999, 9,  -999.00, 9,  -999.00, 9,  -999.00, 9,  -999.00, 9,   1.6946,  -999.00, 9, 1346,    8.6248,  -52.7322
316N200309, A20, 68, 1, 1, 1, 2, 20031016, 1341, 8.6253, -52.7320, 4703,  4765.00,   4765.0,   1.9217,  34.8428, 2,  34.8405, 3,    244.4, 2,    246.1, 2,    58.11, 2,    23.07, 2,     0.00, 2,     1.57, 2,    0.103, 2,    0.057, 2,    0.012, 2, -999.000, 9,   2205.3, 2,   2346.2, 2,    40.70, 2,  -999.00, 9, -999.000, 9, -999.000, -999.0000, 9, -999.0000,  -999.00, 9,  -999.00, -999.000, 9, -999.000,   -999.0, 9,   -999.0,  -999.00, 9,    0.1450, 2,    0.1010, 2,    0.0480, 2,    0.0340, 2,    0.0170, 2,    0.0190, 2, -999, 9, -999, 9, -999, 9, -999, 9, -999, 9, -999, 9, -999, 9,  -999.00, 9,  -999.00, 9,  -999.00, 9,  -999.00, 9,   1.5009,  -999.00, 9, 1342,    8.6253,  -52.7320