BOTTLE,20220816CCHSIOAMB
EXPOCODE,SECT_ID,STNNBR,CASTNO,SAMPNO,BTLNBR,BTLNBR_FLAG_W,DATE,TIME,LATITUDE,LONGITUDE,DEPTH,CTDRAW,CTDPRS,CTDTMP,CTDSAL,CTDSAL_FLAG_W,SALNTY,SALNTY_FLAG_W,CTDOXY,CTDOXY_FLAG_W,OXYGEN,OXYGEN_FLAG_W,SILCAT,SILCAT_FLAG_W,NITRAT,NITRAT_FLAG_W,NITRIT,NITRIT_FLAG_W,PHSPHT,PHSPHT_FLAG_W,CFC-11,CFC-11_FLAG_W,CFC-12,CFC-12_FLAG_W,CFC113,CFC113_FLAG_W,CCL4,CCL4_FLAG_W,TCARBN,TCARBN_FLAG_W,ALKALI,ALKALI_FLAG_W,DOC,DOC_FLAG_W,TDN,TDN_FLAG_W,TRITUM,TRITUM_FLAG_W,TRITER,HELIUM,HELIUM_FLAG_W,HELIER,DELHE3,DELHE3_FLAG_W,DELHER,NEON,NEON_FLAG_W,NEONER,DELC14,DELC14_FLAG_W,C14ERR,DELC13,DELC13_FLAG_W,CDOM325,CDOM325_FLAG_W,CDOM340,CDOM340_FLAG_W,CDOM380,CDOM380_FLAG_W,CDOM412,CDOM412_FLAG_W,CDOMSL,CDOMSL_FLAG_W,CDOMSN,CDOMSN_FLAG_W,DCNS,DCNS_FLAG_W,ARABI,ARABI_FLAG_W,FUCO,FUCO_FLAG_W,GALA,GALA_FLAG_W,GLUC,GLUC_FLAG_W,MAN,MAN_FLAG_W,RHAM,RHAM_FLAG_W,BRDU,BRDU_FLAG_W,PEUK,PEUK_FLAG_W,PROC,PROC_FLAG_W,SYN,SYN_FLAG_W,THETA,BACT,BACT_FLAG_W,BTL_TIME,BTL_LAT,BTL_LON
,,,,,,,,,,,METERS,DBAR,DBAR,ITS-90,PSS-78,,PSS-78,,UMOL/KG,,UMOL/KG,,UMOL/KG,,UMOL/KG,,UMOL/KG,,UMOL/KG,,PMOL/KG,,PMOL/KG,,PMOL/KG,,PMOL/KG,,UMOL/KG,,UMOL/KG,,UMOL/KG,,UMOL/KG,,TU,,TU,NMOL/KG,,NMOL/KG,PERCNT,,PERCNT,NMOL/KG,,NMOL/KG,/MILLE,,/MILLE,/MILLE,,1/M,,1/M,,1/M,,1/M,,1/NM,,1/NM,,NMOL/KG,,NMOL/KG,,NMOL/KG,,NMOL/KG,,NMOL/KG,,NMOL/KG,,NMOL/KG,,PMOL/L/H,,E6/L,,E7/L,,E6/L,,DEG C,E8/L,,,,
316N200309, A20, 36, 1, 36, 36, 2, 20031006, 0125, 30.1888, -52.3387, 5656,    10.50,     10.5,  24.6659,  36.8322, 2,  36.8381, 2,    208.6, 2,    213.2, 2,     0.56, 2,     0.08, 2,     0.00, 2,     0.02, 2,    1.943, 2,    1.201, 2,    0.161, 2, -999.000, 9,   2061.1, 2,   2404.8, 2,  -999.00, 9,  -999.00, 9, -999.000, 9, -999.000, -999.0000, 9, -999.0000,  -999.00, 9,  -999.00, -999.000, 9, -999.000,   -999.0, 9,   -999.0,  -999.00, 9,    0.1270, 2,    0.0910, 2,    0.0450, 2,    0.0310, 2,    0.0160, 2,    0.0180, 2, -999, 9, -999, 9, -999, 9, -999, 9, -999, 9, -999, 9, -999, 9,  -999.00, 9,  -999.00, 9,  -999.00, 9,  -999.00, 9,  24.6636,  -999.00, 9,  351,   30.1786,  -52.3556
316N200309, A20, 36, 1, 35, 35, 2, 20031006, 0125, 30.1888, -52.3387, 5656,    27.80,     27.8,  24.4437,  36.7996, 2,  36.8004, 2,    209.6, 2,    214.9, 2,     0.55, 2,     0.08, 2,     0.00, 2,     0.02, 2,    1.934, 2,    1.198, 2,    0.151, 2, -999.000, 9,   -999.0, 9,   -999.0, 9,  -999.00, 9,  -999.00, 9, -999.000, 9, -999.000, -999.0000, 9, -999.0000,  -999.00, 9,  -999.00, -999.000, 9, -999.000,   -999.0, 9,   -999.0,  -999.00, 9,    0.0990, 2,    0.0690, 2,    0.0300, 2,    0.0200, 2,    0.0220, 2,    0.0230, 2, -999, 9, -999, 9, -999, 9, -999, 9, -999, 9, -999, 9, -999, 9,  -999.00, 9,  -999.00, 9,  -999.00, 9,  -999.00, 9,  24.4377,  -999.00, 9,  349,   30.1786,  -52.3555
316N200309, A20, 36, 1, 34, 34, 2, 20031006, 0125, 30.1888, -52.3387, 5656,    51.80,     51.8,  24.1740,  36.7964, 2,  36.7956, 2,    212.4, 2,    216.3, 2,     0.63, 2,     0.08, 2,     0.00, 2,     0.02, 2,    2.002, 2,    1.232, 2,    0.151, 2, -999.000, 9,   2060.1, 2,   2401.4, 2,  -999.00, 9,  -999.00, 9, -999.000, 9, -999.000, -999.0000, 9, -999.0000,  -999.00, 9,  -999.00, -999.000, 9, -999.000,   -999.0, 9,   -999.0,  -999.00, 9,    0.0970, 2,    0.0640, 2,    0.0250, 2,    0.0160, 2,    0.0260, 2,    0.0260, 2, -999, 9, -999, 9, -999, 9, -999, 9, -999, 9, -999, 9, -999, 9,  -999.00, 9,  -999.00, 9,  -999.00, 9,  -999.00, 9,  24.1630,  -999.00, 9,  347,   30.1786,  -52.3554
316N200309, A20, 36, 1, 33, 33, 2, 20031006, 0125, 30.1888, -52.3387, 5656,    77.50,     77.5,  22.8868,  36.7797, 2,  36.7800, 2,    215.4, 2,    219.8, 2,     0.61, 2,     0.03, 2,     0.00, 2,     0.02, 2,    2.085, 2,    1.290, 2,    0.159, 2, -999.000, 9,   -999.0, 9,   -999.0, 9,  -999.00, 9,  -999.00, 9, -999.000, 9, -999.000, -999.0000, 9, -999.0000,  -999.00, 9,  -999.00, -999.000, 9, -999.000,   -999.0, 9,   -999.0,  -999.00, 9,    0.1290, 2,    0.0900, 2,    0.0390, 2,    0.0260, 2,    0.0200, 2,    0.0220, 2, -999, 9, -999, 9, -999, 9, -999, 9, -999, 9, -999, 9, -999, 9,  -999.00, 9,  -999.00, 9,  -999.00, 9,  -999.00, 9,  22.8709,  -999.00, 9,  346,   30.1787,  -52.3551
316N200309, A20, 36, 1, 32, 32, 2, 20031006, 0125, 30.1888, -52.3387, 5656,   100.90,    100.9,  20.8612,  36.7141, 2,  36.7189, 2,    215.0, 2,    218.4, 2,     0.60, 2,     0.08, 2,     0.00, 2,     0.02, 2,    2.185, 2,    1.314, 2,    0.151, 2, -999.000, 9,   2078.1, 2,   2398.0, 2,  -999.00, 9,  -999.00, 9, -999.000, 9, -999.000, -999.0000, 9, -999.0000,  -999.00, 9,  -999.00, -999.000, 9, -999.000,   -999.0, 9,   -999.0,  -999.00, 9,    0.1510, 2,    0.1100, 2,    0.0530, 2,    0.0370, 2,    0.0160, 2,    0.0180, 2, -999, 9, -999, 9, -999, 9, -999, 9, -999, 9, -999, 9, -999, 9,  -999.00, 9,  -999.00, 9,  -999.00, 9,  -999.00, 9,  20.8419,  -999.00, 9,  344,   30.1787,  -52.3549
316N200309, A20, 36, 1, 31, 31, 2, 20031006, 0125, 30.1888, -52.3387, 5656,   124.80,    124.8,  19.3859,  36.6279, 2,  36.6269, 2,    204.0, 2,    206.5, 2,     0.79, 2,     0.58, 2,     0.05, 2,     0.03, 2,    2.358, 2,    1.405, 2,    0.127, 2, -999.000, 9,   2093.9, 2,   2390.4, 2,  -999.00, 9,  -999.00, 9, -999.000, 9, -999.000, -999.0000, 9, -999.0000,  -999.00, 9,  -999.00, -999.000, 9, -999.000,   -999.0, 9,   -999.0,  -999.00, 9,    0.1170, 2,    0.0870, 2,    0.0430, 2,    0.0330, 2,    0.0150, 2,    0.0170, 2, -999, 9, -999, 9, -999, 9, -999, 9, -999, 9, -999, 9, -999, 9,  -999.00, 9,  -999.00, 9,  -999.00, 9,  -999.00, 9,  19.3631,  -999.00, 9,  342,   30.1788,  -52.3547
316N200309, A20, 36, 1, 30, 30, 2, 20031006, 0125, 30.1888, -52.3387, 5656,   150.60,    150.6,  19.0052,  36.6028, 2,  36.6045, 2,    194.7, 2,    204.9, 2,     0.97, 2,     2.12, 2,     0.02, 2,     0.09, 2,    2.378, 2,    1.409, 2,    0.103, 2, -999.000, 9,   -999.0, 9,   -999.0, 9,  -999.00, 9,  -999.00, 9, -999.000, 9, -999.000, -999.0000, 9, -999.0000,  -999.00, 9,  -999.00, -999.000, 9, -999.000,   -999.0, 9,   -999.0,  -999.00, 9,    0.1070, 2,    0.0790, 2,    0.0390, 2,    0.0290, 2,    0.0160, 2,    0.0170, 2, -999, 9, -999, 9, -999, 9, -999, 9, -999, 9, -999, 9, -999, 9,  -999.00, 9,  -999.00, 9,  -999.00, 9,  -999.00, 9,  18.9781,  -999.00, 9,  341,   30.1787,  -52.3547
316N200309, A20, 36, 1, 29, 29, 2, 20031006, 0125, 30.1888, -52.3387, 5656,   224.80,    224.8,  18.4824,  36.5688, 2,  36.5698, 2,    203.4, 2,    198.1, 2,     1.15, 2,     3.58, 2,     0.00, 2,     0.17, 2,    2.427, 2,    1.415, 2,    0.039, 2, -999.000, 9,   -999.0, 9,   -999.0, 9,  -999.00, 9,  -999.00, 9, -999.000, 9, -999.000, -999.0000, 9, -999.0000,  -999.00, 9,  -999.00, -999.000, 9, -999.000,   -999.0, 9,   -999.0,  -999.00, 9,    0.0960, 2,    0.0700, 2,    0.0330, 2,    0.0240, 2,    0.0190, 2,    0.0200, 2, -999, 9, -999, 9, -999, 9, -999, 9, -999, 9, -999, 9, -999, 9,  -999.00, 9,  -999.00, 9,  -999.00, 9,  -999.00, 9,  18.4427,  -999.00, 9,  339,   30.1786,  -52.3544
316N200309, A20, 36, 1, 28, 28, 2, 20031006, 0125, 30.1888, -52.3387, 5656,   302.80,    302.8,  18.0083,  36.5124, 2,  36.5143, 2,    194.3, 2,    197.7, 2,     1.42, 2,     4.49, 2,     0.00, 2,     0.22, 2,    2.393, 2,    1.387, 2,    0.031, 2, -999.000, 9,   2108.7, 2,   2358.3, 4,  -999.00, 9,  -999.00, 9, -999.000, 9, -999.000, -999.0000, 9, -999.0000,  -999.00, 9,  -999.00, -999.000, 9, -999.000,   -999.0, 9,   -999.0,  -999.00, 9,    0.0900, 2,    0.0650, 2,    0.0300, 2,    0.0220, 2,    0.0200, 2,    0.0210, 2, -999, 9, -999, 9, -999, 9, -999, 9, -999, 9, -999, 9, -999, 9,  -999.00, 9,  -999.00, 9,  -999.00, 9,  -999.00, 9,  17.9556,  -999.00, 9,  337,   30.1785,  -52.3542
316N200309, A20, 36, 1, 27, 27, 2, 20031006, 0125, 30.1888, -52.3387, 5656,   404.90,    404.9,  17.1064,  36.3838, 2,  36.3839, 2,    196.3, 2,    197.6, 2,     1.90, 2,     6.10, 2,     0.00, 2,     0.32, 2,    2.399, 2,    1.384, 2,    0.026, 2, -999.000, 9,   -999.0, 9,   -999.0, 9,  -999.00, 9,  -999.00, 9, -999.000, 9, -999.000,   1.7477, 2,   0.0087,     0.60, 2,     0.20,    6.793, 2,    0.034,   -999.0, 9,   -999.0,  -999.00, 9,    0.0950, 2,    0.0690, 2,    0.0320, 2,    0.0230, 2,    0.0200, 2,    0.0200, 2, -999, 9, -999, 9, -999, 9, -999, 9, -999, 9, -999, 9, -999, 9,  -999.00, 9,  -999.00, 9,  -999.00, 9,  -999.00, 9,  17.0383,  -999.00, 9,  334,   30.1780,  -52.3541
316N200309, A20, 36, 1, 26, 26, 2, 20031006, 0125, 30.1888, -52.3387, 5656,   502.40,    502.4,  15.9551,  36.1864, 2,  36.1874, 2,    193.3, 2,    194.3, 2,     2.76, 2,     8.17, 2,     0.00, 2,     0.46, 2,    2.435, 2,    1.384, 2,    0.035, 2, -999.000, 9,   2125.8, 2,   2365.7, 2,  -999.00, 9,  -999.00, 9, -999.000, 9, -999.000,   1.7662, 2,   0.0088,     1.44, 2,     0.20,    7.216, 2,    0.036,   -999.0, 9,   -999.0,  -999.00, 9,    0.0920, 2,    0.0660, 2,    0.0300, 2,    0.0210, 2,    0.0210, 2,    0.0210, 2, -999, 9, -999, 9, -999, 9, -999, 9, -999, 9, -999, 9, -999, 9,  -999.00, 9,  -999.00, 9,  -999.00, 9,  -999.00, 9,  15.8744,  -999.00, 9,  330,   30.1778,  -52.3529
316N200309, A20, 36, 1, 25, 25, 2, 20031006, 0125, 30.1888, -52.3387, 5656,   626.60,    626.6,  13.8402,  35.8258, 2,  35.8317, 2,    175.7, 2,    175.7, 2,     5.27, 2,    13.28, 2,     0.00, 2,     0.79, 2,    2.105, 2,    1.162, 2,    0.042, 2, -999.000, 9,   -999.0, 9,   -999.0, 9,  -999.00, 9,  -999.00, 9, -999.000, 9, -999.000,   1.7914, 2,   0.0090,     4.31, 2,     0.20,    7.340, 2,    0.037,   -999.0, 9,   -999.0,  -999.00, 9,    0.1120, 2,    0.0800, 2,    0.0370, 2,    0.0250, 2,    0.0190, 2,    0.0200, 2, -999, 9, -999, 9, -999, 9, -999, 9, -999, 9, -999, 9, -999, 9,  -999.00, 9,  -999.00, 9,  -999.00, 9,  -999.00, 9,  13.7483,  -999.00, 9,  326,   30.1780,  -52.3514
316N200309, A20, 36, 1, 24, 24, 2, 20031006, 0125, 30.1888, -52.3387, 5656,   747.20,    747.2,  11.2635,  35.5003, 2,  35.5010, 2,    166.7, 2,    165.3, 2,     8.66, 2,    18.18, 2,     0.00, 2,     1.12, 2,    1.618, 2,    0.847, 2,    0.025, 2, -999.000, 9,   -999.0, 9,   -999.0, 9,  -999.00, 9,  -999.00, 9, -999.000, 9, -999.000,   1.8075, 2,   0.0090,     7.42, 2,     0.20,    7.455, 2,    0.037,   -999.0, 9,   -999.0,  -999.00, 9,    0.1090, 2,    0.0780, 2,    0.0370, 2,    0.0230, 2,    0.0190, 2,    0.0200, 2, -999, 9, -999, 9, -999, 9, -999, 9, -999, 9, -999, 9, -999, 9,  -999.00, 9,  -999.00, 9,  -999.00, 9,  -999.00, 9,  11.1671,  -999.00, 9,  323,   30.1782,  -52.3500
316N200309, A20, 36, 1, 23, 23, 2, 20031006, 0125, 30.1888, -52.3387, 5656,   876.90,    876.9,   8.9125,  35.2506, 2,  35.2530, 2,    162.8, 2,    160.7, 2,    12.94, 2,    22.24, 2,     0.00, 2,     1.42, 2,    0.892, 2,    0.466, 2,    0.012, 2, -999.000, 9,   2186.5, 2,   2311.2, 2,  -999.00, 9,  -999.00, 9, -999.000, 9, -999.000, -999.0000, 9, -999.0000,  -999.00, 9,  -999.00, -999.000, 9, -999.000,   -999.0, 9,   -999.0,  -999.00, 9, -999.0000, 9, -999.0000, 9, -999.0000, 9, -999.0000, 9, -999.0000, 9, -999.0000, 9, -999, 9, -999, 9, -999, 9, -999, 9, -999, 9, -999, 9, -999, 9,  -999.00, 9,  -999.00, 9,  -999.00, 9,  -999.00, 9,   8.8137,  -999.00, 9,  319,   30.1787,  -52.3486
316N200309, A20, 36, 1, 22, 22, 2, 20031006, 0125, 30.1888, -52.3387, 5656,  1052.40,   1052.4,   6.9523,  35.1820, 2,  35.1819, 2,    188.5, 2,    190.7, 2,    13.91, 2,    21.41, 2,     0.00, 2,     1.39, 2,    0.831, 2,    0.433, 2,    0.031, 2, -999.000, 9,   -999.0, 9,   -999.0, 9,  -999.00, 9,  -999.00, 9, -999.000, 9, -999.000, -999.0000, 9, -999.0000,  -999.00, 9,  -999.00, -999.000, 9, -999.000,   -999.0, 9,   -999.0,  -999.00, 9, -999.0000, 9, -999.0000, 9, -999.0000, 9, -999.0000, 9, -999.0000, 9, -999.0000, 9, -999, 9, -999, 9, -999, 9, -999, 9, -999, 9, -999, 9, -999, 9,  -999.00, 9,  -999.00, 9,  -999.00, 9,  -999.00, 9,   6.8478,  -999.00, 9,  315,   30.1794,  -52.3471
316N200309, A20, 36, 1, 21, 21, 2, 20031006, 0125, 30.1888, -52.3387, 5656,  1198.60,   1198.6,   6.2128,  35.1726, 2,  35.1729, 2,    202.4, 2,    205.1, 2,    14.38, 2,    20.84, 2,     0.00, 2,     1.36, 2,    0.657, 2,    0.330, 2,    0.031, 2, -999.000, 9,   -999.0, 9,   -999.0, 9,  -999.00, 9,  -999.00, 9, -999.000, 9, -999.000, -999.0000, 9, -999.0000,  -999.00, 9,  -999.00, -999.000, 9, -999.000,   -999.0, 9,   -999.0,  -999.00, 9, -999.0000, 9, -999.0000, 9, -999.0000, 9, -999.0000, 9, -999.0000, 9, -999.0000, 9, -999, 9, -999, 9, -999, 9, -999, 9, -999, 9, -999, 9, -999, 9,  -999.00, 9,  -999.00, 9,  -999.00, 9,  -999.00, 9,   6.0992,  -999.00, 9,  311,   30.1799,  -52.3458
316N200309, A20, 36, 1, 20, 20, 2, 20031006, 0125, 30.1888, -52.3387, 5656,  1323.70,   1323.7,   5.6567,  35.1485, 2,  35.1486, 2,    222.4, 2,    223.2, 2,    13.50, 2,    19.50, 2,     0.00, 2,     1.28, 2,    0.957, 2,    0.484, 2,    0.030, 2, -999.000, 9,   -999.0, 9,   -999.0, 9,  -999.00, 9,  -999.00, 9, -999.000, 9, -999.000, -999.0000, 9, -999.0000,  -999.00, 9,  -999.00, -999.000, 9, -999.000,   -999.0, 9,   -999.0,  -999.00, 9, -999.0000, 9, -999.0000, 9, -999.0000, 9, -999.0000, 9, -999.0000, 9, -999.0000, 9, -999, 9, -999, 9, -999, 9, -999, 9, -999, 9, -999, 9, -999, 9,  -999.00, 9,  -999.00, 9,  -999.00, 9,  -999.00, 9,   5.5356,  -999.00, 9,  308,   30.1804,  -52.3447
316N200309, A20, 36, 1, 19, 19, 2, 20031006, 0125, 30.1888, -52.3387, 5656,  1449.80,   1449.8,   5.2051,  35.1274, 2,  35.1286, 2,    235.9, 2,    235.1, 2,    13.38, 2,    18.83, 2,     0.00, 2,     1.23, 2,    1.050, 2,    0.537, 2,    0.042, 2, -999.000, 9,   -999.0, 9,   -999.0, 9,  -999.00, 9,  -999.00, 9, -999.000, 9, -999.000, -999.0000, 9, -999.0000,  -999.00, 9,  -999.00, -999.000, 9, -999.000,   -999.0, 9,   -999.0,  -999.00, 9, -999.0000, 9, -999.0000, 9, -999.0000, 9, -999.0000, 9, -999.0000, 9, -999.0000, 9, -999, 9, -999, 9, -999, 9, -999, 9, -999, 9, -999, 9, -999, 9,  -999.00, 9,  -999.00, 9,  -999.00, 9,  -999.00, 9,   5.0760,  -999.00, 9,  305,   30.1809,  -52.3436
316N200309, A20, 36, 1, 18, 18, 2, 20031006, 0125, 30.1888, -52.3387, 5656,  1547.00,   1547.0,   4.8043,  35.0891, 2,  35.0902, 2,    243.9, 2,    243.4, 2,    13.47, 2,    18.42, 2,     0.00, 2,     1.22, 2,    1.090, 2,    0.556, 2,    0.046, 2, -999.000, 9,   -999.0, 9,   -999.0, 9,  -999.00, 9,  -999.00, 9, -999.000, 9, -999.000, -999.0000, 9, -999.0000,  -999.00, 9,  -999.00, -999.000, 9, -999.000,   -999.0, 9,   -999.0,  -999.00, 9, -999.0000, 9, -999.0000, 9, -999.0000, 9, -999.0000, 9, -999.0000, 9, -999.0000, 9, -999, 9, -999, 9, -999, 9, -999, 9, -999, 9, -999, 9, -999, 9,  -999.00, 9,  -999.00, 9,  -999.00, 9,  -999.00, 9,   4.6702,  -999.00, 9,  302,   30.1812,  -52.3425
316N200309, A20, 36, 1, 17, 17, 2, 20031006, 0125, 30.1888, -52.3387, 5656,  1596.60,   1596.6,   4.6428,  35.0694, 2,  35.0697, 2,    248.1, 2,    247.5, 2,    13.26, 2,    18.26, 2,     0.00, 2,     1.20, 2,    1.230, 2,    0.625, 2,    0.049, 2, -999.000, 9,   -999.0, 9,   -999.0, 9,  -999.00, 9,  -999.00, 9, -999.000, 9, -999.000, -999.0000, 9, -999.0000,  -999.00, 9,  -999.00, -999.000, 9, -999.000,   -999.0, 9,   -999.0,  -999.00, 9, -999.0000, 9, -999.0000, 9, -999.0000, 9, -999.0000, 9, -999.0000, 9, -999.0000, 9, -999, 9, -999, 9, -999, 9, -999, 9, -999, 9, -999, 9, -999, 9,  -999.00, 9,  -999.00, 9,  -999.00, 9,  -999.00, 9,   4.5058,  -999.00, 9,  300,   30.1816,  -52.3418
316N200309, A20, 36, 1, 16, 16, 2, 20031006, 0125, 30.1888, -52.3387, 5656,  1849.30,   1849.3,   4.1771,  35.0446, 2,  35.0449, 2,    252.3, 2,    260.3, 3,    15.60, 2,    18.36, 2,     0.00, 2,     1.21, 2,    0.797, 2,    0.416, 2,    0.045, 2, -999.000, 9,   -999.0, 9,   -999.0, 9,  -999.00, 9,  -999.00, 9, -999.000, 9, -999.000, -999.0000, 9, -999.0000,  -999.00, 9,  -999.00, -999.000, 9, -999.000,   -999.0, 9,   -999.0,  -999.00, 9, -999.0000, 9, -999.0000, 9, -999.0000, 9, -999.0000, 9, -999.0000, 9, -999.0000, 9, -999, 9, -999, 9, -999, 9, -999, 9, -999, 9, -999, 9, -999, 9,  -999.00, 9,  -999.00, 9,  -999.00, 9,  -999.00, 9,   4.0215,  -999.00, 9,  255,   30.1823,  -52.3398
316N200309, A20, 36, 1, 15, 15, 2, 20031006, 0125, 30.1888, -52.3387, 5656,  1997.10,   1997.1,   3.9411,  35.0304, 2,  35.0305, 2,    252.8, 2,    254.4, 2,    17.64, 2,    18.51, 2,     0.00, 2,     1.23, 2,    0.553, 2,    0.278, 2,    0.042, 2, -999.000, 9,   -999.0, 9,   -999.0, 9,  -999.00, 9,  -999.00, 9, -999.000, 9, -999.000, -999.0000, 9, -999.0000,  -999.00, 9,  -999.00, -999.000, 9, -999.000,   -999.0, 9,   -999.0,  -999.00, 9, -999.0000, 9, -999.0000, 9, -999.0000, 9, -999.0000, 9, -999.0000, 9, -999.0000, 9, -999, 9, -999, 9, -999, 9, -999, 9, -999, 9, -999, 9, -999, 9,  -999.00, 9,  -999.00, 9,  -999.00, 9,  -999.00, 9,   3.7745,  -999.00, 9,  251,   30.1828,  -52.3384
316N200309, A20, 36, 1, 14, 14, 2, 20031006, 0125, 30.1888, -52.3387, 5656,  2240.30,   2240.3,   3.5826,  35.0006, 2,  34.9990, 2,    253.9, 2,    254.7, 2,    20.76, 2,    18.81, 2,     0.00, 2,     1.26, 2,    0.329, 2,    0.176, 2,    0.009, 2, -999.000, 9,   -999.0, 9,   -999.0, 9,  -999.00, 9,  -999.00, 9, -999.000, 9, -999.000, -999.0000, 9, -999.0000,  -999.00, 9,  -999.00, -999.000, 9, -999.000,   -999.0, 9,   -999.0,  -999.00, 9, -999.0000, 9, -999.0000, 9, -999.0000, 9, -999.0000, 9, -999.0000, 9, -999.0000, 9, -999, 9, -999, 9, -999, 9, -999, 9, -999, 9, -999, 9, -999, 9,  -999.00, 9,  -999.00, 9,  -999.00, 9,  -999.00, 9,   3.3979,  -999.00, 9,  246,   30.1836,  -52.3366
316N200309, A20, 36, 1, 13, 13, 2, 20031006, 0125, 30.1888, -52.3387, 5656,  2498.50,   2498.5,   3.3270,  34.9800, 2,  34.9774, 2,    253.9, 2,    254.1, 2,    23.89, 2,    19.16, 2,     0.00, 2,     1.28, 2,    0.188, 6,    0.107, 6,    0.004, 6, -999.000, 9,   -999.0, 9,   -999.0, 9,  -999.00, 9,  -999.00, 9, -999.000, 9, -999.000, -999.0000, 9, -999.0000,  -999.00, 9,  -999.00, -999.000, 9, -999.000,   -999.0, 9,   -999.0,  -999.00, 9, -999.0000, 9, -999.0000, 9, -999.0000, 9, -999.0000, 9, -999.0000, 9, -999.0000, 9, -999, 9, -999, 9, -999, 9, -999, 9, -999, 9, -999, 9, -999, 9,  -999.00, 9,  -999.00, 9,  -999.00, 9,  -999.00, 9,   3.1211,  -999.00, 9,  241,   30.1845,  -52.3339
316N200309, A20, 36, 1, 12, 12, 2, 20031006, 0125, 30.1888, -52.3387, 5656,  2847.50,   2847.5,   3.0600,  34.9586, 2,  34.9569, 2,    254.0, 2,    253.7, 2,    27.61, 2,    19.52, 2,     0.00, 2,     1.32, 2,    0.081, 2,    0.052, 2,    0.004, 2, -999.000, 9,   -999.0, 9,   -999.0, 9,  -999.00, 9,  -999.00, 9, -999.000, 9, -999.000, -999.0000, 9, -999.0000,  -999.00, 9,  -999.00, -999.000, 9, -999.000,   -999.0, 9,   -999.0,  -999.00, 9, -999.0000, 9, -999.0000, 9, -999.0000, 9, -999.0000, 9, -999.0000, 9, -999.0000, 9, -999, 9, -999, 9, -999, 9, -999, 9, -999, 9, -999, 9, -999, 9,  -999.00, 9,  -999.00, 9,  -999.00, 9,  -999.00, 9,   2.8238,  -999.00, 9,  235,   30.1865,  -52.3327
316N200309, A20, 36, 1, 11, 11, 2, 20031006, 0125, 30.1888, -52.3387, 5656,  3099.60,   3099.6,   2.8724,  34.9431, 2,  34.9423, 2,    255.8, 2,    255.0, 2,    29.18, 2,    19.62, 2,     0.00, 2,     1.33, 2,    0.076, 2,    0.042, 2,    0.003, 2, -999.000, 9,   -999.0, 9,   -999.0, 9,  -999.00, 9,  -999.00, 9, -999.000, 9, -999.000, -999.0000, 9, -999.0000,  -999.00, 9,  -999.00, -999.000, 9, -999.000,   -999.0, 9,   -999.0,  -999.00, 9, -999.0000, 9, -999.0000, 9, -999.0000, 9, -999.0000, 9, -999.0000, 9, -999.0000, 9, -999, 9, -999, 9, -999, 9, -999, 9, -999, 9, -999, 9, -999, 9,  -999.00, 9,  -999.00, 9,  -999.00, 9,  -999.00, 9,   2.6140,  -999.00, 9,  229,   30.1869,  -52.3336