BOTTLE,20220816CCHSIOAMB
EXPOCODE,SECT_ID,STNNBR,CASTNO,SAMPNO,BTLNBR,BTLNBR_FLAG_W,DATE,TIME,LATITUDE,LONGITUDE,DEPTH,CTDRAW,CTDPRS,CTDTMP,CTDSAL,CTDSAL_FLAG_W,SALNTY,SALNTY_FLAG_W,CTDOXY,CTDOXY_FLAG_W,OXYGEN,OXYGEN_FLAG_W,SILCAT,SILCAT_FLAG_W,NITRAT,NITRAT_FLAG_W,NITRIT,NITRIT_FLAG_W,PHSPHT,PHSPHT_FLAG_W,CFC-11,CFC-11_FLAG_W,CFC-12,CFC-12_FLAG_W,CFC113,CFC113_FLAG_W,CCL4,CCL4_FLAG_W,TCARBN,TCARBN_FLAG_W,ALKALI,ALKALI_FLAG_W,DOC,DOC_FLAG_W,TDN,TDN_FLAG_W,TRITUM,TRITUM_FLAG_W,TRITER,HELIUM,HELIUM_FLAG_W,HELIER,DELHE3,DELHE3_FLAG_W,DELHER,NEON,NEON_FLAG_W,NEONER,DELC14,DELC14_FLAG_W,C14ERR,DELC13,DELC13_FLAG_W,CDOM325,CDOM325_FLAG_W,CDOM340,CDOM340_FLAG_W,CDOM380,CDOM380_FLAG_W,CDOM412,CDOM412_FLAG_W,CDOMSL,CDOMSL_FLAG_W,CDOMSN,CDOMSN_FLAG_W,DCNS,DCNS_FLAG_W,ARABI,ARABI_FLAG_W,FUCO,FUCO_FLAG_W,GALA,GALA_FLAG_W,GLUC,GLUC_FLAG_W,MAN,MAN_FLAG_W,RHAM,RHAM_FLAG_W,BRDU,BRDU_FLAG_W,PEUK,PEUK_FLAG_W,PROC,PROC_FLAG_W,SYN,SYN_FLAG_W,THETA,BACT,BACT_FLAG_W,BTL_TIME,BTL_LAT,BTL_LON
,,,,,,,,,,,METERS,DBAR,DBAR,ITS-90,PSS-78,,PSS-78,,UMOL/KG,,UMOL/KG,,UMOL/KG,,UMOL/KG,,UMOL/KG,,UMOL/KG,,PMOL/KG,,PMOL/KG,,PMOL/KG,,PMOL/KG,,UMOL/KG,,UMOL/KG,,UMOL/KG,,UMOL/KG,,TU,,TU,NMOL/KG,,NMOL/KG,PERCNT,,PERCNT,NMOL/KG,,NMOL/KG,/MILLE,,/MILLE,/MILLE,,1/M,,1/M,,1/M,,1/M,,1/NM,,1/NM,,NMOL/KG,,NMOL/KG,,NMOL/KG,,NMOL/KG,,NMOL/KG,,NMOL/KG,,NMOL/KG,,PMOL/L/H,,E6/L,,E7/L,,E6/L,,DEG C,E8/L,,,,
316N200309, A20, 8, 1, 27, 27, 2, 20030926, 1400, 42.4202, -51.3073, 2619,     8.10,      8.1,  16.3046,  32.9383, 2,  32.9432, 2,    246.2, 2,    252.4, 2,     0.00, 2,     0.16, 2,     0.00, 2,     0.14, 2,    2.883, 2,    1.655, 2,    0.256, 2, -999.000, 9,   1986.7, 2,   2214.6, 2,  -999.00, 9,  -999.00, 9, -999.000, 9, -999.000, -999.0000, 9, -999.0000,  -999.00, 9,  -999.00, -999.000, 9, -999.000,   -999.0, 9,   -999.0,  -999.00, 9, -999.0000, 9, -999.0000, 9, -999.0000, 9, -999.0000, 9, -999.0000, 9, -999.0000, 9, -999, 9, -999, 9, -999, 9, -999, 9, -999, 9, -999, 9, -999, 9,  -999.00, 9,  -999.00, 9,  -999.00, 9,  -999.00, 9,  16.3033,  -999.00, 9, 1515,   42.4302,  -51.3080
316N200309, A20, 8, 1, 26, 26, 2, 20030926, 1400, 42.4202, -51.3073, 2619,    28.40,     28.4,  17.1353,  34.0298, 2,  33.7504, 2,    243.1, 2,    255.7, 2,     0.00, 2,     0.16, 2,     0.00, 2,     0.11, 2,    2.873, 2,    1.640, 2,    0.240, 2, -999.000, 9,   -999.0, 9,   -999.0, 9,  -999.00, 9,  -999.00, 9, -999.000, 9, -999.000, -999.0000, 9, -999.0000,  -999.00, 9,  -999.00, -999.000, 9, -999.000,   -999.0, 9,   -999.0,  -999.00, 9, -999.0000, 9, -999.0000, 9, -999.0000, 9, -999.0000, 9, -999.0000, 9, -999.0000, 9, -999, 9, -999, 9, -999, 9, -999, 9, -999, 9, -999, 9, -999, 9,  -999.00, 9,  -999.00, 9,  -999.00, 9,  -999.00, 9,  17.1306,  -999.00, 9, 1513,   42.4300,  -51.3080
316N200309, A20, 8, 1, 25, 25, 2, 20030926, 1400, 42.4202, -51.3073, 2619,    53.20,     53.2,  14.2811,  35.3637, 2,  35.3295, 2,    241.8, 2,    241.2, 2,     0.00, 2,     2.42, 2,     0.16, 2,     0.26, 2,    3.148, 2,    1.738, 2,    0.211, 2, -999.000, 9,   -999.0, 9,   -999.0, 9,  -999.00, 9,  -999.00, 9, -999.000, 9, -999.000, -999.0000, 9, -999.0000,  -999.00, 9,  -999.00, -999.000, 9, -999.000,   -999.0, 9,   -999.0,  -999.00, 9, -999.0000, 9, -999.0000, 9, -999.0000, 9, -999.0000, 9, -999.0000, 9, -999.0000, 9, -999, 9, -999, 9, -999, 9, -999, 9, -999, 9, -999, 9, -999, 9,  -999.00, 9,  -999.00, 9,  -999.00, 9,  -999.00, 9,  14.2733,  -999.00, 9, 1512,   42.4297,  -51.3080
316N200309, A20, 8, 1, 24, 24, 2, 20030926, 1400, 42.4202, -51.3073, 2619,    78.50,     78.5,  10.7974,  34.8745, 2,  34.8790, 2,    230.9, 2,    232.8, 2,     2.30, 2,     7.61, 2,     0.03, 2,     0.63, 2,    3.730, 2,    2.023, 2,    0.267, 2, -999.000, 9,   -999.0, 9,   -999.0, 9,  -999.00, 9,  -999.00, 9, -999.000, 9, -999.000, -999.0000, 9, -999.0000,  -999.00, 9,  -999.00, -999.000, 9, -999.000,   -999.0, 9,   -999.0,  -999.00, 9, -999.0000, 9, -999.0000, 9, -999.0000, 9, -999.0000, 9, -999.0000, 9, -999.0000, 9, -999, 9, -999, 9, -999, 9, -999, 9, -999, 9, -999, 9, -999, 9,  -999.00, 9,  -999.00, 9,  -999.00, 9,  -999.00, 9,  10.7880,  -999.00, 9, 1510,   42.4295,  -51.3080
316N200309, A20, 8, 1, 23, 23, 2, 20030926, 1400, 42.4202, -51.3073, 2619,   103.20,    103.2,  11.7309,  35.2270, 2,  35.2239, 2,    207.6, 2,    209.8, 2,     3.63, 2,    10.55, 2,     0.02, 2,     0.73, 2,    3.153, 2,    1.718, 2,    0.197, 2, -999.000, 9,   -999.0, 9,   -999.0, 9,  -999.00, 9,  -999.00, 9, -999.000, 9, -999.000, -999.0000, 9, -999.0000,  -999.00, 9,  -999.00, -999.000, 9, -999.000,   -999.0, 9,   -999.0,  -999.00, 9, -999.0000, 9, -999.0000, 9, -999.0000, 9, -999.0000, 9, -999.0000, 9, -999.0000, 9, -999, 9, -999, 9, -999, 9, -999, 9, -999, 9, -999, 9, -999, 9,  -999.00, 9,  -999.00, 9,  -999.00, 9,  -999.00, 9,  11.7177,  -999.00, 9, 1508,   42.4292,  -51.3080
316N200309, A20, 8, 1, 22, 22, 2, 20030926, 1400, 42.4202, -51.3073, 2619,   127.90,    127.9,  11.7093,  35.2883, 2,  35.2893, 2,    207.4, 2,    208.5, 2,     4.23, 2,    11.55, 2,     0.02, 2,     0.78, 2,    2.981, 2,    1.634, 2,    0.178, 2, -999.000, 9,   -999.0, 9,   -999.0, 9,  -999.00, 9,  -999.00, 9, -999.000, 9, -999.000, -999.0000, 9, -999.0000,  -999.00, 9,  -999.00, -999.000, 9, -999.000,   -999.0, 9,   -999.0,  -999.00, 9, -999.0000, 9, -999.0000, 9, -999.0000, 9, -999.0000, 9, -999.0000, 9, -999.0000, 9, -999, 9, -999, 9, -999, 9, -999, 9, -999, 9, -999, 9, -999, 9,  -999.00, 9,  -999.00, 9,  -999.00, 9,  -999.00, 9,  11.6928,  -999.00, 9, 1507,   42.4290,  -51.3081
316N200309, A20, 8, 1, 21, 21, 2, 20030926, 1400, 42.4202, -51.3073, 2619,   153.20,    153.2,  11.7603,  35.3420, 2,  35.3405, 2,    205.7, 2,    208.9, 2,     4.95, 2,    12.34, 2,     0.02, 2,     0.82, 2,    2.830, 2,    1.567, 2,    0.183, 2, -999.000, 9,   -999.0, 9,   -999.0, 9,  -999.00, 9,  -999.00, 9, -999.000, 9, -999.000, -999.0000, 9, -999.0000,  -999.00, 9,  -999.00, -999.000, 9, -999.000,   -999.0, 9,   -999.0,  -999.00, 9, -999.0000, 9, -999.0000, 9, -999.0000, 9, -999.0000, 9, -999.0000, 9, -999.0000, 9, -999, 9, -999, 9, -999, 9, -999, 9, -999, 9, -999, 9, -999, 9,  -999.00, 9,  -999.00, 9,  -999.00, 9,  -999.00, 9,  11.7405,  -999.00, 9, 1505,   42.4288,  -51.3080
316N200309, A20, 8, 1, 20, 20, 2, 20030926, 1400, 42.4202, -51.3073, 2619,   177.40,    177.4,  11.4561,  35.3090, 2,  35.3076, 2,    204.3, 2,    201.9, 2,     5.76, 2,    13.58, 2,     0.01, 2,     0.89, 2,    2.712, 2,    1.497, 2,    0.166, 2, -999.000, 9,   -999.0, 9,   -999.0, 9,  -999.00, 9,  -999.00, 9, -999.000, 9, -999.000, -999.0000, 9, -999.0000,  -999.00, 9,  -999.00, -999.000, 9, -999.000,   -999.0, 9,   -999.0,  -999.00, 9, -999.0000, 9, -999.0000, 9, -999.0000, 9, -999.0000, 9, -999.0000, 9, -999.0000, 9, -999, 9, -999, 9, -999, 9, -999, 9, -999, 9, -999, 9, -999, 9,  -999.00, 9,  -999.00, 9,  -999.00, 9,  -999.00, 9,  11.4336,  -999.00, 9, 1504,   42.4286,  -51.3080
316N200309, A20, 8, 1, 19, 19, 2, 20030926, 1400, 42.4202, -51.3073, 2619,   227.50,    227.5,  10.4512,  35.1618, 2,  35.1636, 2,    191.0, 2,    196.4, 2,     6.90, 2,    15.03, 2,     0.01, 2,     1.00, 2,    2.754, 2,    1.476, 2,    0.182, 2, -999.000, 9,   -999.0, 9,   -999.0, 9,  -999.00, 9,  -999.00, 9, -999.000, 9, -999.000, -999.0000, 9, -999.0000,  -999.00, 9,  -999.00, -999.000, 9, -999.000,   -999.0, 9,   -999.0,  -999.00, 9, -999.0000, 9, -999.0000, 9, -999.0000, 9, -999.0000, 9, -999.0000, 9, -999.0000, 9, -999, 9, -999, 9, -999, 9, -999, 9, -999, 9, -999, 9, -999, 9,  -999.00, 9,  -999.00, 9,  -999.00, 9,  -999.00, 9,  10.4240,  -999.00, 9, 1502,   42.4284,  -51.3079
316N200309, A20, 8, 1, 18, 18, 2, 20030926, 1400, 42.4202, -51.3073, 2619,   277.00,    277.0,  10.2837,  35.2205, 2,  35.2184, 2,    160.2, 2,    172.3, 2,     8.95, 2,    18.32, 2,     0.01, 2,     1.18, 2,    1.887, 2,    0.962, 2,    0.104, 2, -999.000, 9,   -999.0, 9,   -999.0, 9,  -999.00, 9,  -999.00, 9, -999.000, 9, -999.000, -999.0000, 9, -999.0000,  -999.00, 9,  -999.00, -999.000, 9, -999.000,   -999.0, 9,   -999.0,  -999.00, 9, -999.0000, 9, -999.0000, 9, -999.0000, 9, -999.0000, 9, -999.0000, 9, -999.0000, 9, -999, 9, -999, 9, -999, 9, -999, 9, -999, 9, -999, 9, -999, 9,  -999.00, 9,  -999.00, 9,  -999.00, 9,  -999.00, 9,  10.2508,  -999.00, 9, 1500,   42.4282,  -51.3079
316N200309, A20, 8, 1, 17, 17, 2, 20030926, 1400, 42.4202, -51.3073, 2619,   351.30,    351.3,   9.2461,  35.2041, 2,  35.2012, 2,    163.7, 2,    142.1, 3,    13.58, 2,    24.05, 2,     0.00, 2,     1.54, 2,    0.998, 2,    0.518, 2,    0.030, 2, -999.000, 9,   -999.0, 9,   -999.0, 9,  -999.00, 9,  -999.00, 9, -999.000, 9, -999.000, -999.0000, 9, -999.0000,  -999.00, 9,  -999.00, -999.000, 9, -999.000,   -999.0, 9,   -999.0,  -999.00, 9, -999.0000, 9, -999.0000, 9, -999.0000, 9, -999.0000, 9, -999.0000, 9, -999.0000, 9, -999, 9, -999, 9, -999, 9, -999, 9, -999, 9, -999, 9, -999, 9,  -999.00, 9,  -999.00, 9,  -999.00, 9,  -999.00, 9,   9.2069,  -999.00, 9, 1458,   42.4278,  -51.3079
316N200309, A20, 8, 1, 16, 16, 2, 20030926, 1400, 42.4202, -51.3073, 2619,   450.20,    450.2,   7.4476,  35.0545, 2,  35.0610, 2,    189.0, 2,    173.9, 2,    13.16, 2,    22.39, 2,     0.00, 2,     1.46, 2,    1.485, 2,    0.759, 2,    0.078, 2, -999.000, 9,   -999.0, 9,   -999.0, 9,  -999.00, 9,  -999.00, 9, -999.000, 9, -999.000, -999.0000, 9, -999.0000,  -999.00, 9,  -999.00, -999.000, 9, -999.000,   -999.0, 9,   -999.0,  -999.00, 9, -999.0000, 9, -999.0000, 9, -999.0000, 9, -999.0000, 9, -999.0000, 9, -999.0000, 9, -999, 9, -999, 9, -999, 9, -999, 9, -999, 9, -999, 9, -999, 9,  -999.00, 9,  -999.00, 9,  -999.00, 9,  -999.00, 9,   7.4030,  -999.00, 9, 1455,   42.4275,  -51.3077
316N200309, A20, 8, 1, 15, 15, 2, 20030926, 1400, 42.4202, -51.3073, 2619,   549.20,    549.2,   6.2869,  35.0312, 2,  35.0307, 2,    202.3, 2,    203.1, 2,    12.45, 2,    20.52, 2,     0.00, 2,     1.35, 2,    1.885, 2,    0.954, 2,    0.098, 2, -999.000, 9,   -999.0, 9,   -999.0, 9,  -999.00, 9,  -999.00, 9, -999.000, 9, -999.000, -999.0000, 9, -999.0000,  -999.00, 9,  -999.00, -999.000, 9, -999.000,   -999.0, 9,   -999.0,  -999.00, 9, -999.0000, 9, -999.0000, 9, -999.0000, 9, -999.0000, 9, -999.0000, 9, -999.0000, 9, -999, 9, -999, 9, -999, 9, -999, 9, -999, 9, -999, 9, -999, 9,  -999.00, 9,  -999.00, 9,  -999.00, 9,  -999.00, 9,   6.2371,  -999.00, 9, 1453,   42.4271,  -51.3076
316N200309, A20, 8, 1, 14, 14, 2, 20030926, 1400, 42.4202, -51.3073, 2619,   621.00,    621.0,   5.0020,  34.9240, 2,  34.9239, 2,    225.7, 2,    235.5, 2,    11.52, 2,    18.77, 2,     0.00, 2,     1.25, 2,    2.675, 6,    1.409, 6,    0.189, 2,    2.682, 2,   -999.0, 9,   -999.0, 9,  -999.00, 9,  -999.00, 9, -999.000, 9, -999.000, -999.0000, 9, -999.0000,  -999.00, 9,  -999.00, -999.000, 9, -999.000,   -999.0, 9,   -999.0,  -999.00, 9, -999.0000, 9, -999.0000, 9, -999.0000, 9, -999.0000, 9, -999.0000, 9, -999.0000, 9, -999, 9, -999, 9, -999, 9, -999, 9, -999, 9, -999, 9, -999, 9,  -999.00, 9,  -999.00, 9,  -999.00, 9,  -999.00, 9,   4.9516,  -999.00, 9, 1450,   42.4268,  -51.3075
316N200309, A20, 8, 1, 13, 13, 2, 20030926, 1400, 42.4202, -51.3073, 2619,   820.40,    820.4,   4.7515,  34.9994, 2,  34.9984, 2,    241.9, 2,    247.0, 2,    11.00, 2,    18.22, 2,     0.00, 2,     1.21, 2,    2.502, 2,    1.282, 2,    0.161, 2, -999.000, 9,   -999.0, 9,   -999.0, 9,  -999.00, 9,  -999.00, 9, -999.000, 9, -999.000, -999.0000, 9, -999.0000,  -999.00, 9,  -999.00, -999.000, 9, -999.000,   -999.0, 9,   -999.0,  -999.00, 9, -999.0000, 9, -999.0000, 9, -999.0000, 9, -999.0000, 9, -999.0000, 9, -999.0000, 9, -999, 9, -999, 9, -999, 9, -999, 9, -999, 9, -999, 9, -999, 9,  -999.00, 9,  -999.00, 9,  -999.00, 9,  -999.00, 9,   4.6852,  -999.00, 9, 1446,   42.4261,  -51.3075
316N200309, A20, 8, 1, 12, 12, 2, 20030926, 1400, 42.4202, -51.3073, 2619,   919.10,    919.1,   4.5869,  34.9987, 2,  34.9992, 2,    248.9, 2,    250.5, 2,    11.11, 2,    18.12, 2,     0.00, 2,     1.20, 2,    2.361, 2,    1.205, 2,    0.145, 2, -999.000, 9,   -999.0, 9,   -999.0, 9,  -999.00, 9,  -999.00, 9, -999.000, 9, -999.000, -999.0000, 9, -999.0000,  -999.00, 9,  -999.00, -999.000, 9, -999.000,   -999.0, 9,   -999.0,  -999.00, 9, -999.0000, 9, -999.0000, 9, -999.0000, 9, -999.0000, 9, -999.0000, 9, -999.0000, 9, -999, 9, -999, 9, -999, 9, -999, 9, -999, 9, -999, 9, -999, 9,  -999.00, 9,  -999.00, 9,  -999.00, 9,  -999.00, 9,   4.5131,  -999.00, 9, 1442,   42.4255,  -51.3074
316N200309, A20, 8, 1, 11, 11, 2, 20030926, 1400, 42.4202, -51.3073, 2619,  1116.90,   1116.9,   4.2270,  34.9783, 2,  34.9787, 2,    258.7, 2,    258.4, 2,    11.22, 2,    17.91, 2,     0.00, 2,     1.18, 2,    2.254, 2,    1.139, 2,    0.123, 2, -999.000, 9,   -999.0, 9,   -999.0, 9,  -999.00, 9,  -999.00, 9, -999.000, 9, -999.000, -999.0000, 9, -999.0000,  -999.00, 9,  -999.00, -999.000, 9, -999.000,   -999.0, 9,   -999.0,  -999.00, 9, -999.0000, 9, -999.0000, 9, -999.0000, 9, -999.0000, 9, -999.0000, 9, -999.0000, 9, -999, 9, -999, 9, -999, 9, -999, 9, -999, 9, -999, 9, -999, 9,  -999.00, 9,  -999.00, 9,  -999.00, 9,  -999.00, 9,   4.1387,  -999.00, 9, 1437,   42.4248,  -51.3073
316N200309, A20, 8, 1, 10, 10, 2, 20030926, 1400, 42.4202, -51.3073, 2619,  1267.80,   1267.8,   3.8687,  34.9343, 2,  34.9327, 2,    269.2, 2,    269.1, 2,    10.70, 2,    17.42, 2,     0.00, 2,     1.15, 2,    2.836, 2,    1.419, 2,    0.182, 2, -999.000, 9,   -999.0, 9,   -999.0, 9,  -999.00, 9,  -999.00, 9, -999.000, 9, -999.000, -999.0000, 9, -999.0000,  -999.00, 9,  -999.00, -999.000, 9, -999.000,   -999.0, 9,   -999.0,  -999.00, 9, -999.0000, 9, -999.0000, 9, -999.0000, 9, -999.0000, 9, -999.0000, 9, -999.0000, 9, -999, 9, -999, 9, -999, 9, -999, 9, -999, 9, -999, 9, -999, 9,  -999.00, 9,  -999.00, 9,  -999.00, 9,  -999.00, 9,   3.7706,  -999.00, 9, 1434,   42.4242,  -51.3072
316N200309, A20, 8, 1, 9, 9, 2, 20030926, 1400, 42.4202, -51.3073, 2619,  1392.80,   1392.8,   3.7838,  34.9328, 2,  34.9331, 2,    271.6, 2,    275.9, 3,    10.91, 2,    17.36, 2,     0.00, 2,     1.15, 2,    2.705, 2,    1.345, 2,    0.170, 2, -999.000, 9,   -999.0, 9,   -999.0, 9,  -999.00, 9,  -999.00, 9, -999.000, 9, -999.000, -999.0000, 9, -999.0000,  -999.00, 9,  -999.00, -999.000, 9, -999.000,   -999.0, 9,   -999.0,  -999.00, 9, -999.0000, 9, -999.0000, 9, -999.0000, 9, -999.0000, 9, -999.0000, 9, -999.0000, 9, -999, 9, -999, 9, -999, 9, -999, 9, -999, 9, -999, 9, -999, 9,  -999.00, 9,  -999.00, 9,  -999.00, 9,  -999.00, 9,   3.6757,  -999.00, 9, 1431,   42.4238,  -51.3071
316N200309, A20, 8, 1, 8, 8, 2, 20030926, 1400, 42.4202, -51.3073, 2619,  1492.50,   1492.5,   3.7137,  34.9319, 2,  34.9321, 2,    272.5, 2,    271.6, 2,    11.22, 2,    17.46, 2,     0.00, 2,     1.16, 2,    2.405, 2,    1.209, 2,    0.152, 2, -999.000, 9,   -999.0, 9,   -999.0, 9,  -999.00, 9,  -999.00, 9, -999.000, 9, -999.000, -999.0000, 9, -999.0000,  -999.00, 9,  -999.00, -999.000, 9, -999.000,   -999.0, 9,   -999.0,  -999.00, 9, -999.0000, 9, -999.0000, 9, -999.0000, 9, -999.0000, 9, -999.0000, 9, -999.0000, 9, -999, 9, -999, 9, -999, 9, -999, 9, -999, 9, -999, 9, -999, 9,  -999.00, 9,  -999.00, 9,  -999.00, 9,  -999.00, 9,   3.5975,  -999.00, 9, 1428,   42.4234,  -51.3069
316N200309, A20, 8, 1, 7, 7, 2, 20030926, 1400, 42.4202, -51.3073, 2619,  1590.20,   1590.2,   3.6367,  34.9277, 2,  34.9274, 2,    274.0, 2,    272.7, 2,    11.43, 2,    17.46, 2,     0.00, 2,     1.16, 2,    2.418, 2,    1.196, 2,    0.142, 2, -999.000, 9,   -999.0, 9,   -999.0, 9,  -999.00, 9,  -999.00, 9, -999.000, 9, -999.000, -999.0000, 9, -999.0000,  -999.00, 9,  -999.00, -999.000, 9, -999.000,   -999.0, 9,   -999.0,  -999.00, 9, -999.0000, 9, -999.0000, 9, -999.0000, 9, -999.0000, 9, -999.0000, 9, -999.0000, 9, -999, 9, -999, 9, -999, 9, -999, 9, -999, 9, -999, 9, -999, 9,  -999.00, 9,  -999.00, 9,  -999.00, 9,  -999.00, 9,   3.5126,  -999.00, 9, 1425,   42.4232,  -51.3069
316N200309, A20, 8, 1, 6, 6, 2, 20030926, 1400, 42.4202, -51.3073, 2619,  1688.10,   1688.1,   3.5108,  34.9173, 2,  34.9176, 2,    275.6, 2,    274.9, 2,    11.43, 2,    17.35, 2,     0.00, 2,     1.15, 2,    2.463, 2,    1.235, 2,    0.150, 2, -999.000, 9,   -999.0, 9,   -999.0, 9,  -999.00, 9,  -999.00, 9, -999.000, 9, -999.000, -999.0000, 9, -999.0000,  -999.00, 9,  -999.00, -999.000, 9, -999.000,   -999.0, 9,   -999.0,  -999.00, 9, -999.0000, 9, -999.0000, 9, -999.0000, 9, -999.0000, 9, -999.0000, 9, -999.0000, 9, -999, 9, -999, 9, -999, 9, -999, 9, -999, 9, -999, 9, -999, 9,  -999.00, 9,  -999.00, 9,  -999.00, 9,  -999.00, 9,   3.3796,  -999.00, 9, 1423,   42.4229,  -51.3068
316N200309, A20, 8, 1, 5, 5, 2, 20030926, 1400, 42.4202, -51.3073, 2619,  1813.00,   1813.0,   3.4284,  34.9152, 2,  34.9160, 2,    275.7, 2,    275.2, 2,    11.74, 2,    17.30, 2,     0.00, 2,     1.15, 2,    2.374, 2,    1.164, 2,    0.140, 2, -999.000, 9,   -999.0, 9,   -999.0, 9,  -999.00, 9,  -999.00, 9, -999.000, 9, -999.000, -999.0000, 9, -999.0000,  -999.00, 9,  -999.00, -999.000, 9, -999.000,   -999.0, 9,   -999.0,  -999.00, 9, -999.0000, 9, -999.0000, 9, -999.0000, 9, -999.0000, 9, -999.0000, 9, -999.0000, 9, -999, 9, -999, 9, -999, 9, -999, 9, -999, 9, -999, 9, -999, 9,  -999.00, 9,  -999.00, 9,  -999.00, 9,  -999.00, 9,   3.2868,  -999.00, 9, 1420,   42.4225,  -51.3068
316N200309, A20, 8, 1, 4, 4, 2, 20030926, 1400, 42.4202, -51.3073, 2619,  1962.60,   1962.6,   3.3480,  34.9147, 2,  34.9154, 2,    276.5, 2,    275.5, 2,    12.15, 2,    17.25, 2,     0.00, 2,     1.15, 2,    2.259, 2,    1.114, 2,    0.134, 2, -999.000, 9,   -999.0, 9,   -999.0, 9,  -999.00, 9,  -999.00, 9, -999.000, 9, -999.000, -999.0000, 9, -999.0000,  -999.00, 9,  -999.00, -999.000, 9, -999.000,   -999.0, 9,   -999.0,  -999.00, 9, -999.0000, 9, -999.0000, 9, -999.0000, 9, -999.0000, 9, -999.0000, 9, -999.0000, 9, -999, 9, -999, 9, -999, 9, -999, 9, -999, 9, -999, 9, -999, 9,  -999.00, 9,  -999.00, 9,  -999.00, 9,  -999.00, 9,   3.1938,  -999.00, 9, 1416,   42.4221,  -51.3070
316N200309, A20, 8, 1, 3, 3, 2, 20030926, 1400, 42.4202, -51.3073, 2619,  2136.30,   2136.3,   3.1780,  34.9024, 2,  34.9024, 2,    278.3, 2,    278.8, 2,    11.84, 2,    16.95, 2,     0.00, 2,     1.12, 2,    2.509, 2,    1.230, 2,    0.147, 2, -999.000, 9,   -999.0, 9,   -999.0, 9,  -999.00, 9,  -999.00, 9, -999.000, 9, -999.000, -999.0000, 9, -999.0000,  -999.00, 9,  -999.00, -999.000, 9, -999.000,   -999.0, 9,   -999.0,  -999.00, 9, -999.0000, 9, -999.0000, 9, -999.0000, 9, -999.0000, 9, -999.0000, 9, -999.0000, 9, -999, 9, -999, 9, -999, 9, -999, 9, -999, 9, -999, 9, -999, 9,  -999.00, 9,  -999.00, 9,  -999.00, 9,  -999.00, 9,   3.0102,  -999.00, 9, 1412,   42.4217,  -51.3073
316N200309, A20, 8, 1, 2, 2, 2, 20030926, 1400, 42.4202, -51.3073, 2619,  2359.90,   2359.9,   3.1243,  34.9224, 2,  34.9233, 2,    273.1, 2,    273.4, 2,    14.10, 2,    17.14, 2,     0.00, 2,     1.15, 2,    1.739, 2,    0.861, 2,    0.102, 2, -999.000, 9,   -999.0, 9,   -999.0, 9,  -999.00, 9,  -999.00, 9, -999.000, 9, -999.000, -999.0000, 9, -999.0000,  -999.00, 9,  -999.00, -999.000, 9, -999.000,   -999.0, 9,   -999.0,  -999.00, 9, -999.0000, 9, -999.0000, 9, -999.0000, 9, -999.0000, 9, -999.0000, 9, -999.0000, 9, -999, 9, -999, 9, -999, 9, -999, 9, -999, 9, -999, 9, -999, 9,  -999.00, 9,  -999.00, 9,  -999.00, 9,  -999.00, 9,   2.9359,  -999.00, 9, 1407,   42.4211,  -51.3075