BOTTLE,20220816CCHSIOAMB
EXPOCODE,SECT_ID,STNNBR,CASTNO,SAMPNO,BTLNBR,BTLNBR_FLAG_W,DATE,TIME,LATITUDE,LONGITUDE,DEPTH,CTDRAW,CTDPRS,CTDTMP,CTDSAL,CTDSAL_FLAG_W,SALNTY,SALNTY_FLAG_W,CTDOXY,CTDOXY_FLAG_W,OXYGEN,OXYGEN_FLAG_W,SILCAT,SILCAT_FLAG_W,NITRAT,NITRAT_FLAG_W,NITRIT,NITRIT_FLAG_W,PHSPHT,PHSPHT_FLAG_W,CFC-11,CFC-11_FLAG_W,CFC-12,CFC-12_FLAG_W,CFC113,CFC113_FLAG_W,CCL4,CCL4_FLAG_W,TCARBN,TCARBN_FLAG_W,ALKALI,ALKALI_FLAG_W,DOC,DOC_FLAG_W,TDN,TDN_FLAG_W,TRITUM,TRITUM_FLAG_W,TRITER,HELIUM,HELIUM_FLAG_W,HELIER,DELHE3,DELHE3_FLAG_W,DELHER,NEON,NEON_FLAG_W,NEONER,DELC14,DELC14_FLAG_W,C14ERR,DELC13,DELC13_FLAG_W,CDOM325,CDOM325_FLAG_W,CDOM340,CDOM340_FLAG_W,CDOM380,CDOM380_FLAG_W,CDOM412,CDOM412_FLAG_W,CDOMSL,CDOMSL_FLAG_W,CDOMSN,CDOMSN_FLAG_W,DCNS,DCNS_FLAG_W,ARABI,ARABI_FLAG_W,FUCO,FUCO_FLAG_W,GALA,GALA_FLAG_W,GLUC,GLUC_FLAG_W,MAN,MAN_FLAG_W,RHAM,RHAM_FLAG_W,BRDU,BRDU_FLAG_W,PEUK,PEUK_FLAG_W,PROC,PROC_FLAG_W,SYN,SYN_FLAG_W,THETA,BACT,BACT_FLAG_W,BTL_TIME,BTL_LAT,BTL_LON
,,,,,,,,,,,METERS,DBAR,DBAR,ITS-90,PSS-78,,PSS-78,,UMOL/KG,,UMOL/KG,,UMOL/KG,,UMOL/KG,,UMOL/KG,,UMOL/KG,,PMOL/KG,,PMOL/KG,,PMOL/KG,,PMOL/KG,,UMOL/KG,,UMOL/KG,,UMOL/KG,,UMOL/KG,,TU,,TU,NMOL/KG,,NMOL/KG,PERCNT,,PERCNT,NMOL/KG,,NMOL/KG,/MILLE,,/MILLE,/MILLE,,1/M,,1/M,,1/M,,1/M,,1/NM,,1/NM,,NMOL/KG,,NMOL/KG,,NMOL/KG,,NMOL/KG,,NMOL/KG,,NMOL/KG,,NMOL/KG,,PMOL/L/H,,E6/L,,E7/L,,E6/L,,DEG C,E8/L,,,,
316N200309, A20, 79, 1, 12, 12, 2, 20031017, 1800, 7.3760, -53.3552, 398,     3.30,      3.3,  29.4757,  32.6885, 2,  32.6885, 2,    190.3, 2,    195.8, 2,     7.89, 2,     0.00, 2,     0.00, 2,     0.02, 2,    1.538, 2,    0.948, 2,    0.140, 2,    1.662, 2,   1843.5, 2,   2166.7, 2,  -999.00, 9,  -999.00, 9, -999.000, 9, -999.000, -999.0000, 9, -999.0000,  -999.00, 9,  -999.00, -999.000, 9, -999.000,     80.3, 2,      3.6,     1.43, 2, -999.0000, 9, -999.0000, 9, -999.0000, 9, -999.0000, 9, -999.0000, 9, -999.0000, 9, -999, 9, -999, 9, -999, 9, -999, 9, -999, 9, -999, 9, -999, 9,  -999.00, 9,  -999.00, 9,  -999.00, 9,  -999.00, 9,  29.4749,  -999.00, 9, 1817,    7.3759,  -53.3539
316N200309, A20, 79, 1, 11, 11, 2, 20031017, 1800, 7.3760, -53.3552, 398,    25.50,     25.5,  29.1721,  34.5232, 2,  34.5596, 2,    191.4, 2,    196.3, 2,     3.52, 2,     0.00, 2,     0.00, 2,     0.03, 2,    1.547, 2,    0.959, 2,    0.124, 2,    1.520, 2,   -999.0, 9,   -999.0, 9,  -999.00, 9,  -999.00, 9, -999.000, 9, -999.000, -999.0000, 9, -999.0000,  -999.00, 9,  -999.00, -999.000, 9, -999.000,   -999.0, 9,   -999.0,  -999.00, 9, -999.0000, 9, -999.0000, 9, -999.0000, 9, -999.0000, 9, -999.0000, 9, -999.0000, 9, -999, 9, -999, 9, -999, 9, -999, 9, -999, 9, -999, 9, -999, 9,  -999.00, 9,  -999.00, 9,  -999.00, 9,  -999.00, 9,  29.1659,  -999.00, 9, 1815,    7.3759,  -53.3540
316N200309, A20, 79, 1, 10, 10, 2, 20031017, 1800, 7.3760, -53.3552, 398,    51.60,     51.6,  27.6633,  36.1116, 2,  36.1017, 2,    188.6, 2,    193.5, 2,     0.99, 2,    -0.02, 2,     0.02, 2,     0.09, 2,    1.628, 2,    1.012, 2,    0.126, 2,    1.231, 2,   -999.0, 9,   -999.0, 9,  -999.00, 9,  -999.00, 9, -999.000, 9, -999.000, -999.0000, 9, -999.0000,  -999.00, 9,  -999.00, -999.000, 9, -999.000,   -999.0, 9,   -999.0,  -999.00, 9, -999.0000, 9, -999.0000, 9, -999.0000, 9, -999.0000, 9, -999.0000, 9, -999.0000, 9, -999, 9, -999, 9, -999, 9, -999, 9, -999, 9, -999, 9, -999, 9,  -999.00, 9,  -999.00, 9,  -999.00, 9,  -999.00, 9,  27.6512,  -999.00, 9, 1814,    7.3759,  -53.3541
316N200309, A20, 79, 1, 9, 9, 2, 20031017, 1800, 7.3760, -53.3552, 398,    74.00,     74.0,  27.5124,  36.2216, 2,  36.2194, 2,    185.1, 2,    190.4, 2,     0.78, 2,     0.08, 2,     0.04, 2,     0.10, 2,    1.595, 2,    0.985, 2,    0.113, 2,    1.360, 2,   -999.0, 9,   -999.0, 9,  -999.00, 9,  -999.00, 9, -999.000, 9, -999.000, -999.0000, 9, -999.0000,  -999.00, 9,  -999.00, -999.000, 9, -999.000,   -999.0, 9,   -999.0,  -999.00, 9, -999.0000, 9, -999.0000, 9, -999.0000, 9, -999.0000, 9, -999.0000, 9, -999.0000, 9, -999, 9, -999, 9, -999, 9, -999, 9, -999, 9, -999, 9, -999, 9,  -999.00, 9,  -999.00, 9,  -999.00, 9,  -999.00, 9,  27.4951,  -999.00, 9, 1812,    7.3759,  -53.3542
316N200309, A20, 79, 1, 8, 8, 2, 20031017, 1800, 7.3760, -53.3552, 398,    99.40,     99.4,  22.8433,  36.5390, 2,  36.5391, 2,    154.8, 2,    156.5, 2,     2.29, 2,     5.22, 2,     0.08, 2,     0.38, 2,    1.895, 2,    1.125, 2,    0.072, 2,    0.512, 2,   -999.0, 9,   -999.0, 9,  -999.00, 9,  -999.00, 9, -999.000, 9, -999.000, -999.0000, 9, -999.0000,  -999.00, 9,  -999.00, -999.000, 9, -999.000,   -999.0, 9,   -999.0,  -999.00, 9, -999.0000, 9, -999.0000, 9, -999.0000, 9, -999.0000, 9, -999.0000, 9, -999.0000, 9, -999, 9, -999, 9, -999, 9, -999, 9, -999, 9, -999, 9, -999, 9,  -999.00, 9,  -999.00, 9,  -999.00, 9,  -999.00, 9,  22.8229,  -999.00, 9, 1811,    7.3759,  -53.3543
316N200309, A20, 79, 1, 7, 7, 2, 20031017, 1800, 7.3760, -53.3552, 398,   125.10,    125.1,  21.2429,  36.6896, 2,  36.6725, 2,    142.2, 2,    145.3, 2,     2.09, 2,     7.21, 2,     0.04, 2,     0.43, 2,    1.977, 2,    1.163, 2,    0.035, 2,    0.247, 2,   -999.0, 9,   -999.0, 9,  -999.00, 9,  -999.00, 9, -999.000, 9, -999.000, -999.0000, 9, -999.0000,  -999.00, 9,  -999.00, -999.000, 9, -999.000,   -999.0, 9,   -999.0,  -999.00, 9, -999.0000, 9, -999.0000, 9, -999.0000, 9, -999.0000, 9, -999.0000, 9, -999.0000, 9, -999, 9, -999, 9, -999, 9, -999, 9, -999, 9, -999, 9, -999, 9,  -999.00, 9,  -999.00, 9,  -999.00, 9,  -999.00, 9,  21.2186,  -999.00, 9, 1809,    7.3759,  -53.3544
316N200309, A20, 79, 1, 6, 6, 2, 20031017, 1800, 7.3760, -53.3552, 398,   150.10,    150.1,  19.1807,  36.5195, 2,  36.5087, 2,    133.8, 2,    138.6, 2,     2.79, 2,     9.78, 2,     0.02, 2,     0.57, 2,    2.018, 2,    1.169, 2,    0.020, 2,    0.289, 2,   -999.0, 9,   -999.0, 9,  -999.00, 9,  -999.00, 9, -999.000, 9, -999.000, -999.0000, 9, -999.0000,  -999.00, 9,  -999.00, -999.000, 9, -999.000,   -999.0, 9,   -999.0,  -999.00, 9, -999.0000, 9, -999.0000, 9, -999.0000, 9, -999.0000, 9, -999.0000, 9, -999.0000, 9, -999, 9, -999, 9, -999, 9, -999, 9, -999, 9, -999, 9, -999, 9,  -999.00, 9,  -999.00, 9,  -999.00, 9,  -999.00, 9,  19.1535,  -999.00, 9, 1808,    7.3759,  -53.3546
316N200309, A20, 79, 1, 5, 5, 2, 20031017, 1800, 7.3760, -53.3552, 398,   200.10,    200.1,  15.9826,  36.0440, 2,  36.0252, 2,    130.3, 2,    133.4, 2,     4.91, 2,    14.99, 2,     0.02, 2,     0.90, 2,    1.933, 2,    1.071, 2,    0.011, 2,    0.284, 2,   -999.0, 9,   -999.0, 9,  -999.00, 9,  -999.00, 9, -999.000, 9, -999.000, -999.0000, 9, -999.0000,  -999.00, 9,  -999.00, -999.000, 9, -999.000,   -999.0, 9,   -999.0,  -999.00, 9, -999.0000, 9, -999.0000, 9, -999.0000, 9, -999.0000, 9, -999.0000, 9, -999.0000, 9, -999, 9, -999, 9, -999, 9, -999, 9, -999, 9, -999, 9, -999, 9,  -999.00, 9,  -999.00, 9,  -999.00, 9,  -999.00, 9,  15.9507,  -999.00, 9, 1806,    7.3759,  -53.3547
316N200309, A20, 79, 1, 4, 4, 2, 20031017, 1800, 7.3760, -53.3552, 398,   250.20,    250.2,  13.1648,  35.5245, 2,  35.5141, 2,    126.0, 2,    127.8, 2,     8.15, 2,    20.05, 2,     0.01, 2,     1.27, 2,    1.707, 2,    0.923, 2,    0.007, 2,    0.357, 2,   -999.0, 9,   -999.0, 9,  -999.00, 9,  -999.00, 9, -999.000, 9, -999.000, -999.0000, 9, -999.0000,  -999.00, 9,  -999.00, -999.000, 9, -999.000,   -999.0, 9,   -999.0,  -999.00, 9, -999.0000, 9, -999.0000, 9, -999.0000, 9, -999.0000, 9, -999.0000, 9, -999.0000, 9, -999, 9, -999, 9, -999, 9, -999, 9, -999, 9, -999, 9, -999, 9,  -999.00, 9,  -999.00, 9,  -999.00, 9,  -999.00, 9,  13.1298,  -999.00, 9, 1805,    7.3759,  -53.3548
316N200309, A20, 79, 1, 2, 2, 2, 20031017, 1800, 7.3760, -53.3552, 398,   299.90,    299.9,  12.1560,  35.3432, 2,  35.3407, 2,    126.6, 2,    128.3, 2,     9.27, 2,    21.74, 2,     0.01, 2,     1.39, 2,    1.648, 2,    0.877, 2,    0.007, 2,    0.418, 2,   -999.0, 9,   -999.0, 9,  -999.00, 9,  -999.00, 9, -999.000, 9, -999.000, -999.0000, 9, -999.0000,  -999.00, 9,  -999.00, -999.000, 9, -999.000,   -999.0, 9,   -999.0,  -999.00, 9, -999.0000, 9, -999.0000, 9, -999.0000, 9, -999.0000, 9, -999.0000, 9, -999.0000, 9, -999, 9, -999, 9, -999, 9, -999, 9, -999, 9, -999, 9, -999, 9,  -999.00, 9,  -999.00, 9,  -999.00, 9,  -999.00, 9,  12.1163,  -999.00, 9, 1803,    7.3759,  -53.3549
316N200309, A20, 79, 1, 3, 3, 2, 20031017, 1800, 7.3760, -53.3552, 398,   300.10,    300.1,  12.1501,  35.3425, 2,  35.3403, 2,    126.6, 2,   -999.0, 9,     9.26, 2,    21.69, 2,     0.01, 2,     1.39, 2,    1.693, 2,    0.917, 2,    0.025, 2, -999.000, 9,   -999.0, 9,   -999.0, 9,  -999.00, 9,  -999.00, 9, -999.000, 9, -999.000, -999.0000, 9, -999.0000,  -999.00, 9,  -999.00, -999.000, 9, -999.000,   -999.0, 9,   -999.0,  -999.00, 9, -999.0000, 9, -999.0000, 9, -999.0000, 9, -999.0000, 9, -999.0000, 9, -999.0000, 9, -999, 9, -999, 9, -999, 9, -999, 9, -999, 9, -999, 9, -999, 9,  -999.00, 9,  -999.00, 9,  -999.00, 9,  -999.00, 9,  12.1103,  -999.00, 9, 1803,    7.3759,  -53.3549
316N200309, A20, 79, 1, 1, 1, 2, 20031017, 1800, 7.3760, -53.3552, 398,   387.80,    387.8,   8.5787,  34.8109, 2,  34.8273, 2,    124.4, 2,    125.7, 2,    15.68, 2,    28.27, 2,     0.02, 2,     1.86, 2,    1.081, 2,    0.577, 2,    0.012, 2,    0.541, 2,   -999.0, 9,   -999.0, 9,  -999.00, 9,  -999.00, 9, -999.000, 9, -999.000, -999.0000, 9, -999.0000,  -999.00, 9,  -999.00, -999.000, 9, -999.000,   -999.0, 9,   -999.0,  -999.00, 9, -999.0000, 9, -999.0000, 9, -999.0000, 9, -999.0000, 9, -999.0000, 9, -999.0000, 9, -999, 9, -999, 9, -999, 9, -999, 9, -999, 9, -999, 9, -999, 9,  -999.00, 9,  -999.00, 9,  -999.00, 9,  -999.00, 9,   8.5374,  -999.00, 9, 1801,    7.3761,  -53.3551
316N200309, A20, 80, 1, 11, 11, 2, 20031017, 1909, 7.3330, -53.3755, 338,     2.90,      2.9,  29.4665,  32.6876, 2,  32.6881, 2,    191.8, 2,    195.5, 2,     7.95, 2,     0.07, 2,     0.00, 2,     0.03, 2,    1.627, 6,    1.026, 6,    0.139, 6, -999.000, 9,   1842.5, 2,   2166.9, 2,  -999.00, 9,  -999.00, 9, -999.000, 9, -999.000, -999.0000, 9, -999.0000,  -999.00, 9,  -999.00, -999.000, 9, -999.000,   -999.0, 9,   -999.0,  -999.00, 9, -999.0000, 9, -999.0000, 9, -999.0000, 9, -999.0000, 9, -999.0000, 9, -999.0000, 9, -999, 9, -999, 9, -999, 9, -999, 9, -999, 9, -999, 9, -999, 9,  -999.00, 9,  -999.00, 9,  -999.00, 9,  -999.00, 9,  29.4658,  -999.00, 9, 1926,    7.3354,  -53.3717
316N200309, A20, 80, 1, 10, 10, 2, 20031017, 1909, 7.3330, -53.3755, 338,    24.90,     24.9,  29.4506,  34.7121, 2,  34.7394, 2,    191.7, 2,    196.7, 2,     3.58, 2,     0.06, 2,     0.00, 2,     0.05, 2,    1.702, 2,    1.062, 2,    0.144, 2, -999.000, 9,   1949.1, 2,   2285.9, 2,  -999.00, 9,  -999.00, 9, -999.000, 9, -999.000, -999.0000, 9, -999.0000,  -999.00, 9,  -999.00, -999.000, 9, -999.000,   -999.0, 9,   -999.0,  -999.00, 9, -999.0000, 9, -999.0000, 9, -999.0000, 9, -999.0000, 9, -999.0000, 9, -999.0000, 9, -999, 9, -999, 9, -999, 9, -999, 9, -999, 9, -999, 9, -999, 9,  -999.00, 9,  -999.00, 9,  -999.00, 9,  -999.00, 9,  29.4446,  -999.00, 9, 1924,    7.3348,  -53.3719
316N200309, A20, 80, 1, 9, 9, 2, 20031017, 1909, 7.3330, -53.3755, 338,    51.00,     51.0,  27.5862,  36.1662, 2,  36.1500, 2,    188.5, 2,    192.6, 2,     1.05, 2,     0.14, 2,     0.02, 2,     0.09, 2,    1.605, 2,    1.023, 2,    0.152, 2, -999.000, 9,   2030.1, 2,   2366.5, 2,  -999.00, 9,  -999.00, 9, -999.000, 9, -999.000, -999.0000, 9, -999.0000,  -999.00, 9,  -999.00, -999.000, 9, -999.000,   -999.0, 9,   -999.0,  -999.00, 9, -999.0000, 9, -999.0000, 9, -999.0000, 9, -999.0000, 9, -999.0000, 9, -999.0000, 9, -999, 9, -999, 9, -999, 9, -999, 9, -999, 9, -999, 9, -999, 9,  -999.00, 9,  -999.00, 9,  -999.00, 9,  -999.00, 9,  27.5743,  -999.00, 9, 1922,    7.3345,  -53.3722
316N200309, A20, 80, 1, 8, 8, 2, 20031017, 1909, 7.3330, -53.3755, 338,    73.60,     73.6,  27.4500,  36.2376, 2,  36.2368, 2,    184.7, 2,    189.2, 2,     0.94, 2,     0.27, 2,     0.06, 2,     0.11, 2,    1.643, 2,    1.038, 2,    0.151, 2, -999.000, 9,   -999.0, 9,   -999.0, 9,  -999.00, 9,  -999.00, 9, -999.000, 9, -999.000, -999.0000, 9, -999.0000,  -999.00, 9,  -999.00, -999.000, 9, -999.000,   -999.0, 9,   -999.0,  -999.00, 9, -999.0000, 9, -999.0000, 9, -999.0000, 9, -999.0000, 9, -999.0000, 9, -999.0000, 9, -999, 9, -999, 9, -999, 9, -999, 9, -999, 9, -999, 9, -999, 9,  -999.00, 9,  -999.00, 9,  -999.00, 9,  -999.00, 9,  27.4329,  -999.00, 9, 1921,    7.3343,  -53.3726
316N200309, A20, 80, 1, 7, 7, 2, 20031017, 1909, 7.3330, -53.3755, 338,    99.40,     99.4,  22.5515,  36.6017, 2,  36.6056, 2,    149.8, 2,    154.0, 2,     2.45, 2,     5.58, 2,     0.09, 2,     0.40, 2,    1.995, 2,    1.200, 2,    0.101, 2, -999.000, 9,   2121.4, 2,   2392.7, 2,  -999.00, 9,  -999.00, 9, -999.000, 9, -999.000, -999.0000, 9, -999.0000,  -999.00, 9,  -999.00, -999.000, 9, -999.000,   -999.0, 9,   -999.0,  -999.00, 9, -999.0000, 9, -999.0000, 9, -999.0000, 9, -999.0000, 9, -999.0000, 9, -999.0000, 9, -999, 9, -999, 9, -999, 9, -999, 9, -999, 9, -999, 9, -999, 9,  -999.00, 9,  -999.00, 9,  -999.00, 9,  -999.00, 9,  22.5314,  -999.00, 9, 1919,    7.3341,  -53.3730
316N200309, A20, 80, 1, 6, 6, 2, 20031017, 1909, 7.3330, -53.3755, 338,   124.70,    124.7,  21.5264,  36.7075, 2,  36.7028, 2,    145.2, 2,    146.9, 2,     2.15, 2,     6.70, 2,     0.04, 2,     0.41, 2,    2.040, 2,    1.215, 2,    0.078, 2, -999.000, 9,   -999.0, 9,   -999.0, 9,  -999.00, 9,  -999.00, 9, -999.000, 9, -999.000, -999.0000, 9, -999.0000,  -999.00, 9,  -999.00, -999.000, 9, -999.000,   -999.0, 9,   -999.0,  -999.00, 9, -999.0000, 9, -999.0000, 9, -999.0000, 9, -999.0000, 9, -999.0000, 9, -999.0000, 9, -999, 9, -999, 9, -999, 9, -999, 9, -999, 9, -999, 9, -999, 9,  -999.00, 9,  -999.00, 9,  -999.00, 9,  -999.00, 9,  21.5019,  -999.00, 9, 1918,    7.3339,  -53.3734
316N200309, A20, 80, 1, 5, 5, 2, 20031017, 1909, 7.3330, -53.3755, 338,   149.60,    149.6,  19.6803,  36.5459, 2,  36.5448, 2,    137.9, 2,    140.8, 2,     2.55, 2,     8.93, 2,     0.02, 2,     0.53, 2,    2.084, 2,    1.221, 2,    0.045, 2, -999.000, 9,   2149.0, 2,   2385.9, 2,  -999.00, 9,  -999.00, 9, -999.000, 9, -999.000, -999.0000, 9, -999.0000,  -999.00, 9,  -999.00, -999.000, 9, -999.000,   -999.0, 9,   -999.0,  -999.00, 9, -999.0000, 9, -999.0000, 9, -999.0000, 9, -999.0000, 9, -999.0000, 9, -999.0000, 9, -999, 9, -999, 9, -999, 9, -999, 9, -999, 9, -999, 9, -999, 9,  -999.00, 9,  -999.00, 9,  -999.00, 9,  -999.00, 9,  19.6527,  -999.00, 9, 1916,    7.3337,  -53.3737
316N200309, A20, 80, 1, 4, 4, 2, 20031017, 1909, 7.3330, -53.3755, 338,   174.80,    174.8,  18.6442,  36.4668, 2,  36.4620, 2,    133.7, 2,    137.5, 2,     3.35, 2,    10.41, 2,     0.02, 2,     0.61, 2,    2.104, 2,    1.214, 2,    0.036, 2, -999.000, 9,   -999.0, 9,   -999.0, 9,  -999.00, 9,  -999.00, 9, -999.000, 9, -999.000, -999.0000, 9, -999.0000,  -999.00, 9,  -999.00, -999.000, 9, -999.000,   -999.0, 9,   -999.0,  -999.00, 9, -999.0000, 9, -999.0000, 9, -999.0000, 9, -999.0000, 9, -999.0000, 9, -999.0000, 9, -999, 9, -999, 9, -999, 9, -999, 9, -999, 9, -999, 9, -999, 9,  -999.00, 9,  -999.00, 9,  -999.00, 9,  -999.00, 9,  18.6132,  -999.00, 9, 1915,    7.3336,  -53.3740
316N200309, A20, 80, 1, 3, 3, 2, 20031017, 1909, 7.3330, -53.3755, 338,   225.70,    225.7,  14.8178,  35.8205, 2,  35.8254, 2,    128.7, 2,    131.5, 2,     6.49, 2,    16.81, 2,     0.02, 2,     1.05, 2,    1.926, 2,    1.074, 2,    0.029, 2, -999.000, 9,   2169.3, 2,   2346.9, 2,  -999.00, 9,  -999.00, 9, -999.000, 9, -999.000, -999.0000, 9, -999.0000,  -999.00, 9,  -999.00, -999.000, 9, -999.000,   -999.0, 9,   -999.0,  -999.00, 9, -999.0000, 9, -999.0000, 9, -999.0000, 9, -999.0000, 9, -999.0000, 9, -999.0000, 9, -999, 9, -999, 9, -999, 9, -999, 9, -999, 9, -999, 9, -999, 9,  -999.00, 9,  -999.00, 9,  -999.00, 9,  -999.00, 9,  14.7836,  -999.00, 9, 1913,    7.3333,  -53.3744
316N200309, A20, 80, 1, 2, 2, 2, 20031017, 1909, 7.3330, -53.3755, 338,   275.70,    275.7,  12.4681,  35.3999, 2,  35.4016, 2,    125.5, 2,    128.0, 2,     9.53, 2,    21.03, 2,     0.01, 2,     1.34, 2,    1.731, 2,    0.936, 2,    0.030, 2, -999.000, 9,   -999.0, 9,   -999.0, 9,  -999.00, 9,  -999.00, 9, -999.000, 9, -999.000, -999.0000, 9, -999.0000,  -999.00, 9,  -999.00, -999.000, 9, -999.000,   -999.0, 9,   -999.0,  -999.00, 9, -999.0000, 9, -999.0000, 9, -999.0000, 9, -999.0000, 9, -999.0000, 9, -999.0000, 9, -999, 9, -999, 9, -999, 9, -999, 9, -999, 9, -999, 9, -999, 9,  -999.00, 9,  -999.00, 9,  -999.00, 9,  -999.00, 9,  12.4309,  -999.00, 9, 1912,    7.3332,  -53.3748
316N200309, A20, 80, 1, 1, 1, 2, 20031017, 1909, 7.3330, -53.3755, 338,   324.50,    324.5,  10.5340,  35.0765, 2,  35.0724, 2,    125.9, 2,    127.3, 2,    12.68, 2,    24.49, 2,     0.02, 2,     1.61, 2,    1.478, 6,    0.795, 6,    0.031, 2,    0.496, 2,   2188.9, 2,   2311.1, 2,  -999.00, 9,  -999.00, 9, -999.000, 9, -999.000, -999.0000, 9, -999.0000,  -999.00, 9,  -999.00, -999.000, 9, -999.000,   -999.0, 9,   -999.0,  -999.00, 9, -999.0000, 9, -999.0000, 9, -999.0000, 9, -999.0000, 9, -999.0000, 9, -999.0000, 9, -999, 9, -999, 9, -999, 9, -999, 9, -999, 9, -999, 9, -999, 9,  -999.00, 9,  -999.00, 9,  -999.00, 9,  -999.00, 9,  10.4948,  -999.00, 9, 1910,    7.3331,  -53.3754