BOTTLE,20220816CCHSIOAMB
EXPOCODE,SECT_ID,STNNBR,CASTNO,SAMPNO,BTLNBR,BTLNBR_FLAG_W,DATE,TIME,LATITUDE,LONGITUDE,DEPTH,CTDRAW,CTDPRS,CTDTMP,CTDSAL,CTDSAL_FLAG_W,SALNTY,SALNTY_FLAG_W,CTDOXY,CTDOXY_FLAG_W,OXYGEN,OXYGEN_FLAG_W,SILCAT,SILCAT_FLAG_W,NITRAT,NITRAT_FLAG_W,NITRIT,NITRIT_FLAG_W,PHSPHT,PHSPHT_FLAG_W,CFC-11,CFC-11_FLAG_W,CFC-12,CFC-12_FLAG_W,CFC113,CFC113_FLAG_W,CCL4,CCL4_FLAG_W,TCARBN,TCARBN_FLAG_W,ALKALI,ALKALI_FLAG_W,DOC,DOC_FLAG_W,TDN,TDN_FLAG_W,TRITUM,TRITUM_FLAG_W,TRITER,HELIUM,HELIUM_FLAG_W,HELIER,DELHE3,DELHE3_FLAG_W,DELHER,NEON,NEON_FLAG_W,NEONER,DELC14,DELC14_FLAG_W,C14ERR,DELC13,DELC13_FLAG_W,CDOM325,CDOM325_FLAG_W,CDOM340,CDOM340_FLAG_W,CDOM380,CDOM380_FLAG_W,CDOM412,CDOM412_FLAG_W,CDOMSL,CDOMSL_FLAG_W,CDOMSN,CDOMSN_FLAG_W,DCNS,DCNS_FLAG_W,ARABI,ARABI_FLAG_W,FUCO,FUCO_FLAG_W,GALA,GALA_FLAG_W,GLUC,GLUC_FLAG_W,MAN,MAN_FLAG_W,RHAM,RHAM_FLAG_W,BRDU,BRDU_FLAG_W,PEUK,PEUK_FLAG_W,PROC,PROC_FLAG_W,SYN,SYN_FLAG_W,THETA,BACT,BACT_FLAG_W,BTL_TIME,BTL_LAT,BTL_LON
,,,,,,,,,,,METERS,DBAR,DBAR,ITS-90,PSS-78,,PSS-78,,UMOL/KG,,UMOL/KG,,UMOL/KG,,UMOL/KG,,UMOL/KG,,UMOL/KG,,PMOL/KG,,PMOL/KG,,PMOL/KG,,PMOL/KG,,UMOL/KG,,UMOL/KG,,UMOL/KG,,UMOL/KG,,TU,,TU,NMOL/KG,,NMOL/KG,PERCNT,,PERCNT,NMOL/KG,,NMOL/KG,/MILLE,,/MILLE,/MILLE,,1/M,,1/M,,1/M,,1/M,,1/NM,,1/NM,,NMOL/KG,,NMOL/KG,,NMOL/KG,,NMOL/KG,,NMOL/KG,,NMOL/KG,,NMOL/KG,,PMOL/L/H,,E6/L,,E7/L,,E6/L,,DEG C,E8/L,,,,
316N200309, A20, 67, 1, 10, 10, 2, 20031016, 0916, 8.7825, -52.6568, 4621,  2749.70,   2749.7,   2.9615,  34.9439, 2,  34.9421, 2,    258.4, 2,    259.7, 2,    23.06, 2,    18.94, 2,     0.00, 2,     1.25, 2,    0.206, 2,    0.112, 2,    0.003, 2,    0.540, 2,   -999.0, 9,   -999.0, 9,  -999.00, 9,  -999.00, 9, -999.000, 9, -999.000, -999.0000, 9, -999.0000,  -999.00, 9,  -999.00, -999.000, 9, -999.000,   -999.0, 9,   -999.0,  -999.00, 9, -999.0000, 9, -999.0000, 9, -999.0000, 9, -999.0000, 9, -999.0000, 9, -999.0000, 9, -999, 9, -999, 9, -999, 9, -999, 9, -999, 9, -999, 9, -999, 9,  -999.00, 9,  -999.00, 9,  -999.00, 9,  -999.00, 9,   2.7374,  -999.00, 9,  958,    8.7824,  -52.6574
316N200309, A20, 67, 1, 9, 9, 2, 20031016, 0916, 8.7825, -52.6568, 4621,  2998.90,   2998.9,   2.7874,  34.9320, 2,  34.9315, 2,    258.6, 2,    258.4, 2,    27.00, 2,    19.45, 2,     0.00, 2,     1.29, 2,    0.149, 2,    0.087, 2,    0.003, 2,    0.464, 2,   -999.0, 9,   -999.0, 9,  -999.00, 9,  -999.00, 9, -999.000, 9, -999.000, -999.0000, 9, -999.0000,  -999.00, 9,  -999.00, -999.000, 9, -999.000,   -999.0, 9,   -999.0,  -999.00, 9, -999.0000, 9, -999.0000, 9, -999.0000, 9, -999.0000, 9, -999.0000, 9, -999.0000, 9, -999, 9, -999, 9, -999, 9, -999, 9, -999, 9, -999, 9, -999, 9,  -999.00, 9,  -999.00, 9,  -999.00, 9,  -999.00, 9,   2.5414,  -999.00, 9,  953,    8.7825,  -52.6578
316N200309, A20, 67, 1, 8, 8, 2, 20031016, 0916, 8.7825, -52.6568, 4621,  3200.50,   3200.5,   2.6901,  34.9252, 2,  34.9256, 2,    258.9, 2,    267.8, 3,    27.22, 2,    19.30, 2,     0.00, 2,     1.28, 2,    0.228, 2,    0.127, 2,    0.010, 2,    0.559, 2,   -999.0, 9,   -999.0, 9,  -999.00, 9,  -999.00, 9, -999.000, 9, -999.000, -999.0000, 9, -999.0000,  -999.00, 9,  -999.00, -999.000, 9, -999.000,   -999.0, 9,   -999.0,  -999.00, 9, -999.0000, 9, -999.0000, 9, -999.0000, 9, -999.0000, 9, -999.0000, 9, -999.0000, 9, -999, 9, -999, 9, -999, 9, -999, 9, -999, 9, -999, 9, -999, 9,  -999.00, 9,  -999.00, 9,  -999.00, 9,  -999.00, 9,   2.4251,  -999.00, 9,  948,    8.7827,  -52.6581
316N200309, A20, 67, 1, 7, 7, 2, 20031016, 0916, 8.7825, -52.6568, 4621,  3399.70,   3399.7,   2.5960,  34.9181, 2,  34.9168, 2,    259.1, 2,    260.5, 2,    28.46, 2,    19.35, 2,     0.00, 2,     1.28, 2,    0.242, 2,    0.128, 2,    0.004, 2,    0.597, 2,   -999.0, 9,   -999.0, 9,  -999.00, 9,  -999.00, 9, -999.000, 9, -999.000, -999.0000, 9, -999.0000,  -999.00, 9,  -999.00, -999.000, 9, -999.000,   -999.0, 9,   -999.0,  -999.00, 9, -999.0000, 9, -999.0000, 9, -999.0000, 9, -999.0000, 9, -999.0000, 9, -999.0000, 9, -999, 9, -999, 9, -999, 9, -999, 9, -999, 9, -999, 9, -999, 9,  -999.00, 9,  -999.00, 9,  -999.00, 9,  -999.00, 9,   2.3120,  -999.00, 9,  944,    8.7828,  -52.6583
316N200309, A20, 67, 1, 6, 6, 2, 20031016, 0916, 8.7825, -52.6568, 4621,  3599.40,   3599.4,   2.4812,  34.9097, 2,  34.9111, 2,    259.8, 2,    260.9, 2,    30.23, 2,    19.48, 2,     0.00, 2,     1.30, 2,    0.219, 2,    0.123, 2,    0.006, 2,    0.601, 2,   -999.0, 9,   -999.0, 9,  -999.00, 9,  -999.00, 9, -999.000, 9, -999.000, -999.0000, 9, -999.0000,  -999.00, 9,  -999.00, -999.000, 9, -999.000,   -999.0, 9,   -999.0,  -999.00, 9, -999.0000, 9, -999.0000, 9, -999.0000, 9, -999.0000, 9, -999.0000, 9, -999.0000, 9, -999, 9, -999, 9, -999, 9, -999, 9, -999, 9, -999, 9, -999, 9,  -999.00, 9,  -999.00, 9,  -999.00, 9,  -999.00, 9,   2.1784,  -999.00, 9,  940,    8.7830,  -52.6579
316N200309, A20, 67, 1, 5, 5, 2, 20031016, 0916, 8.7825, -52.6568, 4621,  3799.70,   3799.7,   2.4027,  34.9034, 2,  34.9042, 2,    262.2, 2,    261.7, 2,    31.26, 2,    19.38, 2,     0.00, 2,     1.29, 2,    0.227, 2,    0.129, 2,    0.001, 2,    0.627, 2,   -999.0, 9,   -999.0, 9,  -999.00, 9,  -999.00, 9, -999.000, 9, -999.000, -999.0000, 9, -999.0000,  -999.00, 9,  -999.00, -999.000, 9, -999.000,   -999.0, 9,   -999.0,  -999.00, 9, -999.0000, 9, -999.0000, 9, -999.0000, 9, -999.0000, 9, -999.0000, 9, -999.0000, 9, -999, 9, -999, 9, -999, 9, -999, 9, -999, 9, -999, 9, -999, 9,  -999.00, 9,  -999.00, 9,  -999.00, 9,  -999.00, 9,   2.0798,  -999.00, 9,  936,    8.7833,  -52.6571
316N200309, A20, 67, 1, 4, 4, 2, 20031016, 0916, 8.7825, -52.6568, 4621,  4000.30,   4000.3,   2.3541,  34.8999, 2,  34.8983, 2,    263.4, 2,    263.5, 2,    30.54, 2,    19.19, 2,     0.00, 2,     1.28, 2,    0.290, 2,    0.160, 2,    0.014, 2,    0.727, 2,   -999.0, 9,   -999.0, 9,  -999.00, 9,  -999.00, 9, -999.000, 9, -999.000, -999.0000, 9, -999.0000,  -999.00, 9,  -999.00, -999.000, 9, -999.000,   -999.0, 9,   -999.0,  -999.00, 9, -999.0000, 9, -999.0000, 9, -999.0000, 9, -999.0000, 9, -999.0000, 9, -999.0000, 9, -999, 9, -999, 9, -999, 9, -999, 9, -999, 9, -999, 9, -999, 9,  -999.00, 9,  -999.00, 9,  -999.00, 9,  -999.00, 9,   2.0099,  -999.00, 9,  931,    8.7836,  -52.6566
316N200309, A20, 67, 1, 3, 3, 2, 20031016, 0916, 8.7825, -52.6568, 4621,  4249.40,   4249.4,   2.3036,  34.8944, 2,  34.8936, 2,    263.2, 2,    263.4, 2,    31.90, 2,    19.19, 2,     0.00, 2,     1.28, 2,    0.326, 6,    0.170, 6,    0.012, 2,    0.766, 2,   -999.0, 9,   -999.0, 9,  -999.00, 9,  -999.00, 9, -999.000, 9, -999.000, -999.0000, 9, -999.0000,  -999.00, 9,  -999.00, -999.000, 9, -999.000,   -999.0, 9,   -999.0,  -999.00, 9, -999.0000, 9, -999.0000, 9, -999.0000, 9, -999.0000, 9, -999.0000, 9, -999.0000, 9, -999, 9, -999, 9, -999, 9, -999, 9, -999, 9, -999, 9, -999, 9,  -999.00, 9,  -999.00, 9,  -999.00, 9,  -999.00, 9,   1.9320,  -999.00, 9,  926,    8.7833,  -52.6565
316N200309, A20, 67, 1, 2, 2, 2, 20031016, 0916, 8.7825, -52.6568, 4621,  4499.90,   4499.9,   2.2501,  34.8864, 2,  34.8845, 2,    260.8, 2,    260.6, 2,    35.96, 2,    19.83, 2,     0.00, 2,     1.33, 2,    0.248, 2,    0.146, 2,    0.009, 2,    0.652, 2,   -999.0, 9,   -999.0, 9,  -999.00, 9,  -999.00, 9, -999.000, 9, -999.000, -999.0000, 9, -999.0000,  -999.00, 9,  -999.00, -999.000, 9, -999.000,   -999.0, 9,   -999.0,  -999.00, 9, -999.0000, 9, -999.0000, 9, -999.0000, 9, -999.0000, 9, -999.0000, 9, -999.0000, 9, -999, 9, -999, 9, -999, 9, -999, 9, -999, 9, -999, 9, -999, 9,  -999.00, 9,  -999.00, 9,  -999.00, 9,  -999.00, 9,   1.8506,  -999.00, 9,  921,    8.7830,  -52.6566
316N200309, A20, 67, 1, 1, 1, 2, 20031016, 0916, 8.7825, -52.6568, 4621,  4674.80,   4674.8,   1.9774,  34.8512, 2,  34.8532, 3,    252.2, 2,    249.6, 2,    53.29, 2,    22.47, 2,     0.00, 2,     1.51, 2,    0.117, 2,    0.076, 2,    0.006, 2,    0.390, 2,   -999.0, 9,   -999.0, 9,  -999.00, 9,  -999.00, 9, -999.000, 9, -999.000, -999.0000, 9, -999.0000,  -999.00, 9,  -999.00, -999.000, 9, -999.000,   -999.0, 9,   -999.0,  -999.00, 9, -999.0000, 9, -999.0000, 9, -999.0000, 9, -999.0000, 9, -999.0000, 9, -999.0000, 9, -999, 9, -999, 9, -999, 9, -999, 9, -999, 9, -999, 9, -999, 9,  -999.00, 9,  -999.00, 9,  -999.00, 9,  -999.00, 9,   1.5656,  -999.00, 9,  916,    8.7826,  -52.6568