BOTTLE,20220816CCHSIOAMB
EXPOCODE,SECT_ID,STNNBR,CASTNO,SAMPNO,BTLNBR,BTLNBR_FLAG_W,DATE,TIME,LATITUDE,LONGITUDE,DEPTH,CTDRAW,CTDPRS,CTDTMP,CTDSAL,CTDSAL_FLAG_W,SALNTY,SALNTY_FLAG_W,CTDOXY,CTDOXY_FLAG_W,OXYGEN,OXYGEN_FLAG_W,SILCAT,SILCAT_FLAG_W,NITRAT,NITRAT_FLAG_W,NITRIT,NITRIT_FLAG_W,PHSPHT,PHSPHT_FLAG_W,CFC-11,CFC-11_FLAG_W,CFC-12,CFC-12_FLAG_W,CFC113,CFC113_FLAG_W,CCL4,CCL4_FLAG_W,TCARBN,TCARBN_FLAG_W,ALKALI,ALKALI_FLAG_W,DOC,DOC_FLAG_W,TDN,TDN_FLAG_W,TRITUM,TRITUM_FLAG_W,TRITER,HELIUM,HELIUM_FLAG_W,HELIER,DELHE3,DELHE3_FLAG_W,DELHER,NEON,NEON_FLAG_W,NEONER,DELC14,DELC14_FLAG_W,C14ERR,DELC13,DELC13_FLAG_W,CDOM325,CDOM325_FLAG_W,CDOM340,CDOM340_FLAG_W,CDOM380,CDOM380_FLAG_W,CDOM412,CDOM412_FLAG_W,CDOMSL,CDOMSL_FLAG_W,CDOMSN,CDOMSN_FLAG_W,DCNS,DCNS_FLAG_W,ARABI,ARABI_FLAG_W,FUCO,FUCO_FLAG_W,GALA,GALA_FLAG_W,GLUC,GLUC_FLAG_W,MAN,MAN_FLAG_W,RHAM,RHAM_FLAG_W,BRDU,BRDU_FLAG_W,PEUK,PEUK_FLAG_W,PROC,PROC_FLAG_W,SYN,SYN_FLAG_W,THETA,BACT,BACT_FLAG_W,BTL_TIME,BTL_LAT,BTL_LON
,,,,,,,,,,,METERS,DBAR,DBAR,ITS-90,PSS-78,,PSS-78,,UMOL/KG,,UMOL/KG,,UMOL/KG,,UMOL/KG,,UMOL/KG,,UMOL/KG,,PMOL/KG,,PMOL/KG,,PMOL/KG,,PMOL/KG,,UMOL/KG,,UMOL/KG,,UMOL/KG,,UMOL/KG,,TU,,TU,NMOL/KG,,NMOL/KG,PERCNT,,PERCNT,NMOL/KG,,NMOL/KG,/MILLE,,/MILLE,/MILLE,,1/M,,1/M,,1/M,,1/M,,1/NM,,1/NM,,NMOL/KG,,NMOL/KG,,NMOL/KG,,NMOL/KG,,NMOL/KG,,NMOL/KG,,NMOL/KG,,PMOL/L/H,,E6/L,,E7/L,,E6/L,,DEG C,E8/L,,,,
316N200309, A20, 26, 1, 10, 10, 2, 20031001, 0856, 35.5680, -52.3617, 4887,  2999.70,   2999.7,   3.0639,  34.9421, 2,  34.9427, 2,    264.9, 2,    265.9, 2,    19.44, 2,    17.99, 2,     0.00, 2,     1.21, 2,    0.754, 2,    0.368, 2,    0.027, 2, -999.000, 9,   -999.0, 9,   -999.0, 9,  -999.00, 9,  -999.00, 9, -999.000, 9, -999.000, -999.0000, 9, -999.0000,  -999.00, 9,  -999.00, -999.000, 9, -999.000,   -999.0, 9,   -999.0,  -999.00, 9, -999.0000, 9, -999.0000, 9, -999.0000, 9, -999.0000, 9, -999.0000, 9, -999.0000, 9, -999, 9, -999, 9, -999, 9, -999, 9, -999, 9, -999, 9, -999, 9,  -999.00, 9,  -999.00, 9,  -999.00, 9,  -999.00, 9,   2.8117,  -999.00, 9,  941,   35.5725,  -52.3614
316N200309, A20, 26, 1, 9, 9, 2, 20031001, 0856, 35.5680, -52.3617, 4887,  3198.30,   3198.3,   2.9410,  34.9372, 2,  34.9384, 2,    264.5, 2,    265.2, 2,    21.19, 2,    18.19, 2,     0.00, 2,     1.22, 2,    0.623, 2,    0.315, 2,    0.027, 2, -999.000, 9,   -999.0, 9,   -999.0, 9,  -999.00, 9,  -999.00, 9, -999.000, 9, -999.000, -999.0000, 9, -999.0000,  -999.00, 9,  -999.00, -999.000, 9, -999.000,   -999.0, 9,   -999.0,  -999.00, 9, -999.0000, 9, -999.0000, 9, -999.0000, 9, -999.0000, 9, -999.0000, 9, -999.0000, 9, -999, 9, -999, 9, -999, 9, -999, 9, -999, 9, -999, 9, -999, 9,  -999.00, 9,  -999.00, 9,  -999.00, 9,  -999.00, 9,   2.6705,  -999.00, 9,  937,   35.5719,  -52.3615
316N200309, A20, 26, 1, 8, 8, 2, 20031001, 0856, 35.5680, -52.3617, 4887,  3399.60,   3399.6,   2.7960,  34.9291, 2,  34.9301, 2,    265.2, 2,    266.1, 2,    22.44, 2,    18.24, 2,     0.00, 2,     1.22, 2,    0.585, 2,    0.281, 2,    0.029, 2, -999.000, 9,   -999.0, 9,   -999.0, 9,  -999.00, 9,  -999.00, 9, -999.000, 9, -999.000, -999.0000, 9, -999.0000,  -999.00, 9,  -999.00, -999.000, 9, -999.000,   -999.0, 9,   -999.0,  -999.00, 9, -999.0000, 9, -999.0000, 9, -999.0000, 9, -999.0000, 9, -999.0000, 9, -999.0000, 9, -999, 9, -999, 9, -999, 9, -999, 9, -999, 9, -999, 9, -999, 9,  -999.00, 9,  -999.00, 9,  -999.00, 9,  -999.00, 9,   2.5072,  -999.00, 9,  933,   35.5715,  -52.3616
316N200309, A20, 26, 1, 7, 7, 2, 20031001, 0856, 35.5680, -52.3617, 4887,  3599.00,   3599.0,   2.6268,  34.9188, 2,  34.9205, 2,    265.9, 2,    266.9, 2,    24.29, 2,    18.35, 2,     0.00, 2,     1.23, 2,    0.574, 2,    0.287, 2,    0.035, 2, -999.000, 9,   -999.0, 9,   -999.0, 9,  -999.00, 9,  -999.00, 9, -999.000, 9, -999.000, -999.0000, 9, -999.0000,  -999.00, 9,  -999.00, -999.000, 9, -999.000,   -999.0, 9,   -999.0,  -999.00, 9, -999.0000, 9, -999.0000, 9, -999.0000, 9, -999.0000, 9, -999.0000, 9, -999.0000, 9, -999, 9, -999, 9, -999, 9, -999, 9, -999, 9, -999, 9, -999, 9,  -999.00, 9,  -999.00, 9,  -999.00, 9,  -999.00, 9,   2.3203,  -999.00, 9,  929,   35.5710,  -52.3615
316N200309, A20, 26, 1, 6, 6, 2, 20031001, 0856, 35.5680, -52.3617, 4887,  3798.70,   3798.7,   2.4715,  34.9084, 2,  34.9095, 2,    266.3, 2,    281.0, 4,    26.74, 2,    18.44, 2,     0.00, 2,     1.25, 2,    0.565, 2,    0.281, 2,    0.029, 2, -999.000, 9,   -999.0, 9,   -999.0, 9,  -999.00, 9,  -999.00, 9, -999.000, 9, -999.000, -999.0000, 9, -999.0000,  -999.00, 9,  -999.00, -999.000, 9, -999.000,   -999.0, 9,   -999.0,  -999.00, 9, -999.0000, 9, -999.0000, 9, -999.0000, 9, -999.0000, 9, -999.0000, 9, -999.0000, 9, -999, 9, -999, 9, -999, 9, -999, 9, -999, 9, -999, 9, -999, 9,  -999.00, 9,  -999.00, 9,  -999.00, 9,  -999.00, 9,   2.1468,  -999.00, 9,  925,   35.5705,  -52.3613
316N200309, A20, 26, 1, 5, 5, 2, 20031001, 0856, 35.5680, -52.3617, 4887,  3998.50,   3998.5,   2.3626,  34.8993, 2,  34.9002, 2,    265.0, 2,    270.2, 4,    29.79, 2,    18.85, 2,     0.00, 2,     1.28, 2,    0.545, 2,    0.270, 2,    0.017, 2, -999.000, 9,   -999.0, 9,   -999.0, 9,  -999.00, 9,  -999.00, 9, -999.000, 9, -999.000, -999.0000, 9, -999.0000,  -999.00, 9,  -999.00, -999.000, 9, -999.000,   -999.0, 9,   -999.0,  -999.00, 9, -999.0000, 9, -999.0000, 9, -999.0000, 9, -999.0000, 9, -999.0000, 9, -999.0000, 9, -999, 9, -999, 9, -999, 9, -999, 9, -999, 9, -999, 9, -999, 9,  -999.00, 9,  -999.00, 9,  -999.00, 9,  -999.00, 9,   2.0184,  -999.00, 9,  920,   35.5700,  -52.3615
316N200309, A20, 26, 1, 4, 4, 2, 20031001, 0856, 35.5680, -52.3617, 4887,  4249.40,   4249.4,   2.2567,  34.8886, 2,  34.8906, 2,    261.6, 2,    266.7, 4,    34.15, 2,    19.39, 2,     0.00, 2,     1.32, 2,    0.487, 2,    0.246, 2,    0.021, 2, -999.000, 9,   -999.0, 9,   -999.0, 9,  -999.00, 9,  -999.00, 9, -999.000, 9, -999.000, -999.0000, 9, -999.0000,  -999.00, 9,  -999.00, -999.000, 9, -999.000,   -999.0, 9,   -999.0,  -999.00, 9, -999.0000, 9, -999.0000, 9, -999.0000, 9, -999.0000, 9, -999.0000, 9, -999.0000, 9, -999, 9, -999, 9, -999, 9, -999, 9, -999, 9, -999, 9, -999, 9,  -999.00, 9,  -999.00, 9,  -999.00, 9,  -999.00, 9,   1.8865,  -999.00, 9,  915,   35.5696,  -52.3616
316N200309, A20, 26, 1, 3, 3, 2, 20031001, 0856, 35.5680, -52.3617, 4887,  4498.80,   4498.8,   2.2061,  34.8809, 2,  34.8823, 2,    259.6, 2,    262.3, 4,    38.03, 2,    20.05, 2,     0.00, 2,     1.36, 2,    0.428, 2,    0.221, 2,    0.011, 2, -999.000, 9,   -999.0, 9,   -999.0, 9,  -999.00, 9,  -999.00, 9, -999.000, 9, -999.000, -999.0000, 9, -999.0000,  -999.00, 9,  -999.00, -999.000, 9, -999.000,   -999.0, 9,   -999.0,  -999.00, 9, -999.0000, 9, -999.0000, 9, -999.0000, 9, -999.0000, 9, -999.0000, 9, -999.0000, 9, -999, 9, -999, 9, -999, 9, -999, 9, -999, 9, -999, 9, -999, 9,  -999.00, 9,  -999.00, 9,  -999.00, 9,  -999.00, 9,   1.8081,  -999.00, 9,  910,   35.5692,  -52.3617
316N200309, A20, 26, 1, 2, 2, 2, 20031001, 0856, 35.5680, -52.3617, 4887,  4760.90,   4760.9,   2.1715,  34.8731, 2,  34.8743, 2,    255.8, 2,    257.6, 2,    42.60, 2,    20.74, 2,     0.00, 2,     1.41, 2,    0.297, 2,    0.163, 2,    0.011, 2, -999.000, 9,   -999.0, 9,   -999.0, 9,  -999.00, 9,  -999.00, 9, -999.000, 9, -999.000, -999.0000, 9, -999.0000,  -999.00, 9,  -999.00, -999.000, 9, -999.000,   -999.0, 9,   -999.0,  -999.00, 9, -999.0000, 9, -999.0000, 9, -999.0000, 9, -999.0000, 9, -999.0000, 9, -999.0000, 9, -999, 9, -999, 9, -999, 9, -999, 9, -999, 9, -999, 9, -999, 9,  -999.00, 9,  -999.00, 9,  -999.00, 9,  -999.00, 9,   1.7429,  -999.00, 9,  904,   35.5687,  -52.3617
316N200309, A20, 26, 1, 1, 1, 2, 20031001, 0856, 35.5680, -52.3617, 4887,  5081.40,   5081.4,   2.1485,  34.8648, 2,  34.8682, 2,    251.9, 2,    250.1, 2,    47.28, 2,    21.50, 2,     0.00, 2,     1.47, 2,    0.157, 2,    0.094, 2,    0.008, 2, -999.000, 9,   -999.0, 9,   -999.0, 9,  -999.00, 9,  -999.00, 9, -999.000, 9, -999.000, -999.0000, 9, -999.0000,  -999.00, 9,  -999.00, -999.000, 9, -999.000,   -999.0, 9,   -999.0,  -999.00, 9, -999.0000, 9, -999.0000, 9, -999.0000, 9, -999.0000, 9, -999.0000, 9, -999.0000, 9, -999, 9, -999, 9, -999, 9, -999, 9, -999, 9, -999, 9, -999, 9,  -999.00, 9,  -999.00, 9,  -999.00, 9,  -999.00, 9,   1.6808,  -999.00, 9,  857,   35.5681,  -52.3617