BOTTLE,20220816CCHSIOAMB
EXPOCODE,SECT_ID,STNNBR,CASTNO,SAMPNO,BTLNBR,BTLNBR_FLAG_W,DATE,TIME,LATITUDE,LONGITUDE,DEPTH,CTDRAW,CTDPRS,CTDTMP,CTDSAL,CTDSAL_FLAG_W,SALNTY,SALNTY_FLAG_W,CTDOXY,CTDOXY_FLAG_W,OXYGEN,OXYGEN_FLAG_W,SILCAT,SILCAT_FLAG_W,NITRAT,NITRAT_FLAG_W,NITRIT,NITRIT_FLAG_W,PHSPHT,PHSPHT_FLAG_W,CFC-11,CFC-11_FLAG_W,CFC-12,CFC-12_FLAG_W,CFC113,CFC113_FLAG_W,CCL4,CCL4_FLAG_W,TCARBN,TCARBN_FLAG_W,ALKALI,ALKALI_FLAG_W,DOC,DOC_FLAG_W,TDN,TDN_FLAG_W,TRITUM,TRITUM_FLAG_W,TRITER,HELIUM,HELIUM_FLAG_W,HELIER,DELHE3,DELHE3_FLAG_W,DELHER,NEON,NEON_FLAG_W,NEONER,DELC14,DELC14_FLAG_W,C14ERR,DELC13,DELC13_FLAG_W,CDOM325,CDOM325_FLAG_W,CDOM340,CDOM340_FLAG_W,CDOM380,CDOM380_FLAG_W,CDOM412,CDOM412_FLAG_W,CDOMSL,CDOMSL_FLAG_W,CDOMSN,CDOMSN_FLAG_W,DCNS,DCNS_FLAG_W,ARABI,ARABI_FLAG_W,FUCO,FUCO_FLAG_W,GALA,GALA_FLAG_W,GLUC,GLUC_FLAG_W,MAN,MAN_FLAG_W,RHAM,RHAM_FLAG_W,BRDU,BRDU_FLAG_W,PEUK,PEUK_FLAG_W,PROC,PROC_FLAG_W,SYN,SYN_FLAG_W,THETA,BACT,BACT_FLAG_W,BTL_TIME,BTL_LAT,BTL_LON
,,,,,,,,,,,METERS,DBAR,DBAR,ITS-90,PSS-78,,PSS-78,,UMOL/KG,,UMOL/KG,,UMOL/KG,,UMOL/KG,,UMOL/KG,,UMOL/KG,,PMOL/KG,,PMOL/KG,,PMOL/KG,,PMOL/KG,,UMOL/KG,,UMOL/KG,,UMOL/KG,,UMOL/KG,,TU,,TU,NMOL/KG,,NMOL/KG,PERCNT,,PERCNT,NMOL/KG,,NMOL/KG,/MILLE,,/MILLE,/MILLE,,1/M,,1/M,,1/M,,1/M,,1/NM,,1/NM,,NMOL/KG,,NMOL/KG,,NMOL/KG,,NMOL/KG,,NMOL/KG,,NMOL/KG,,NMOL/KG,,PMOL/L/H,,E6/L,,E7/L,,E6/L,,DEG C,E8/L,,,,
316N200309, A20, 38, 1, 10, 10, 2, 20031007, 1942, 25.5222, -52.3333, 5820,  3749.60,   3749.6,   2.3443,  34.8969, 2,  34.8967, 2,    255.1, 2,    259.2, 4,    40.22, 2,    20.87, 2,     0.00, 2,     1.44, 2,    0.012, 2,    0.010, 2,    0.005, 2, -999.000, 9,   2184.9, 2,   2333.4, 2,    39.50, 2,  -999.00, 9, -999.000, 9, -999.000, -999.0000, 9, -999.0000,  -999.00, 9,  -999.00, -999.000, 9, -999.000,   -999.0, 9,   -999.0,  -999.00, 9,    0.1230, 2,    0.0870, 2,    0.0420, 2,    0.0270, 2,    0.0180, 2,    0.0190, 2, -999, 9, -999, 9, -999, 9, -999, 9, -999, 9, -999, 9, -999, 9,  -999.00, 9,  -999.00, 9,  -999.00, 9,  -999.00, 9,   2.0286,  -999.00, 9, 2039,   25.5260,  -52.3329
316N200309, A20, 38, 1, 9, 9, 2, 20031007, 1942, 25.5222, -52.3333, 5820,  4000.00,   4000.0,   2.2467,  34.8862, 2,  34.8841, 2,    254.9, 2,    255.7, 2,    42.96, 2,    21.10, 2,     0.00, 2,     1.45, 2,    0.015, 6,    0.012, 6,    0.007, 2,    0.175, 2,   2186.6, 2,   2335.4, 2,  -999.00, 9,  -999.00, 9, -999.000, 9, -999.000, -999.0000, 9, -999.0000,  -999.00, 9,  -999.00, -999.000, 9, -999.000,   -999.0, 9,   -999.0,  -999.00, 9, -999.0000, 9, -999.0000, 9, -999.0000, 9, -999.0000, 9, -999.0000, 9, -999.0000, 9, -999, 9, -999, 9, -999, 9, -999, 9, -999, 9, -999, 9, -999, 9,  -999.00, 9,  -999.00, 9,  -999.00, 9,  -999.00, 9,   1.9056,  -999.00, 9, 2034,   25.5254,  -52.3327
316N200309, A20, 38, 1, 8, 8, 2, 20031007, 1942, 25.5222, -52.3333, 5820,  4249.70,   4249.7,   2.1802,  34.8775, 2,  34.8768, 2,    254.2, 2,    255.7, 2,    45.40, 2,    21.38, 2,     0.00, 2,     1.47, 2,    0.010, 2,    0.007, 2,    0.006, 2, -999.000, 9,   2189.5, 2,   2336.2, 2,    39.20, 2,  -999.00, 9, -999.000, 9, -999.000, -999.0000, 9, -999.0000,  -999.00, 9,  -999.00, -999.000, 9, -999.000,   -999.0, 9,   -999.0,  -999.00, 9,    0.1290, 2,    0.0910, 2,    0.0450, 2,    0.0290, 2,    0.0180, 2,    0.0190, 2, -999, 9, -999, 9, -999, 9, -999, 9, -999, 9, -999, 9, -999, 9,  -999.00, 9,  -999.00, 9,  -999.00, 9,  -999.00, 9,   1.8124,  -999.00, 9, 2029,   25.5249,  -52.3326
316N200309, A20, 38, 1, 7, 7, 2, 20031007, 1942, 25.5222, -52.3333, 5820,  4498.90,   4498.9,   2.1435,  34.8714, 2,  34.8713, 2,    253.6, 2,    253.4, 2,    47.09, 2,    21.62, 2,     0.00, 2,     1.49, 2,    0.019, 6,    0.014, 6,    0.001, 2,    0.170, 2,   2190.7, 2,   2338.3, 2,  -999.00, 9,  -999.00, 9, -999.000, 9, -999.000, -999.0000, 9, -999.0000,  -999.00, 9,  -999.00, -999.000, 9, -999.000,   -999.0, 9,   -999.0,  -999.00, 9, -999.0000, 9, -999.0000, 9, -999.0000, 9, -999.0000, 9, -999.0000, 9, -999.0000, 9, -999, 9, -999, 9, -999, 9, -999, 9, -999, 9, -999, 9, -999, 9,  -999.00, 9,  -999.00, 9,  -999.00, 9,  -999.00, 9,   1.7474,  -999.00, 9, 2024,   25.5244,  -52.3327
316N200309, A20, 38, 1, 6, 6, 2, 20031007, 1942, 25.5222, -52.3333, 5820,  4749.70,   4749.7,   2.1371,  34.8679, 2,  34.8680, 2,    252.9, 2,    280.0, 3,    48.36, 2,    21.80, 2,     0.00, 2,     1.50, 2,    0.020, 2,    0.018, 2,    0.008, 2, -999.000, 9,   2191.9, 2,   2338.7, 2,    39.90, 2,  -999.00, 9, -999.000, 9, -999.000, -999.0000, 9, -999.0000,  -999.00, 9,  -999.00, -999.000, 9, -999.000,   -999.0, 9,   -999.0,  -999.00, 9,    0.1250, 2,    0.0900, 2,    0.0440, 2,    0.0290, 2,    0.0170, 2,    0.0190, 2, -999, 9, -999, 9, -999, 9, -999, 9, -999, 9, -999, 9, -999, 9,  -999.00, 9,  -999.00, 9,  -999.00, 9,  -999.00, 9,   1.7110,  -999.00, 9, 2018,   25.5239,  -52.3329
316N200309, A20, 38, 1, 5, 5, 2, 20031007, 1942, 25.5222, -52.3333, 5820,  5000.50,   5000.5,   2.1419,  34.8647, 2,  34.8641, 2,    251.9, 2,    252.5, 2,    49.20, 2,    21.89, 2,     0.00, 2,     1.51, 2,    0.023, 6,    0.014, 6,    0.001, 2,    0.175, 2,   2192.2, 2,   2339.6, 2,  -999.00, 9,  -999.00, 9, -999.000, 9, -999.000, -999.0000, 9, -999.0000,  -999.00, 9,  -999.00, -999.000, 9, -999.000,   -999.0, 9,   -999.0,  -999.00, 9, -999.0000, 9, -999.0000, 9, -999.0000, 9, -999.0000, 9, -999.0000, 9, -999.0000, 9, -999, 9, -999, 9, -999, 9, -999, 9, -999, 9, -999, 9, -999, 9,  -999.00, 9,  -999.00, 9,  -999.00, 9,  -999.00, 9,   1.6847,  -999.00, 9, 2012,   25.5235,  -52.3329
316N200309, A20, 38, 1, 4, 4, 2, 20031007, 1942, 25.5222, -52.3333, 5820,  5250.40,   5250.4,   2.1541,  34.8622, 2,  34.8635, 2,    251.2, 2,    251.8, 2,    50.36, 2,    22.04, 2,     0.00, 2,     1.51, 2,    0.017, 2,    0.014, 2,    0.003, 2, -999.000, 9,   2193.7, 2,   2340.9, 2,    39.70, 2,  -999.00, 9, -999.000, 9, -999.000, -999.0000, 9, -999.0000,  -999.00, 9,  -999.00, -999.000, 9, -999.000,   -999.0, 9,   -999.0,  -999.00, 9,    0.1190, 2,    0.0850, 2,    0.0420, 2,    0.0290, 2,    0.0170, 2,    0.0190, 2, -999, 9, -999, 9, -999, 9, -999, 9, -999, 9, -999, 9, -999, 9,  -999.00, 9,  -999.00, 9,  -999.00, 9,  -999.00, 9,   1.6647,  -999.00, 9, 2006,   25.5231,  -52.3329
316N200309, A20, 38, 1, 3, 3, 2, 20031007, 1942, 25.5222, -52.3333, 5820,  5500.20,   5500.2,   2.1152,  34.8538, 2,  34.8546, 2,    249.4, 2,    250.7, 2,    53.43, 2,    22.46, 2,     0.00, 2,     1.54, 2,    0.028, 6,    0.022, 6,    0.007, 2,    0.233, 2,   2198.5, 2,   2341.4, 2,  -999.00, 9,  -999.00, 9, -999.000, 9, -999.000, -999.0000, 9, -999.0000,  -999.00, 9,  -999.00, -999.000, 9, -999.000,   -999.0, 9,   -999.0,  -999.00, 9, -999.0000, 9, -999.0000, 9, -999.0000, 9, -999.0000, 9, -999.0000, 9, -999.0000, 9, -999, 9, -999, 9, -999, 9, -999, 9, -999, 9, -999, 9, -999, 9,  -999.00, 9,  -999.00, 9,  -999.00, 9,  -999.00, 9,   1.5949,  -999.00, 9, 2000,   25.5228,  -52.3329
316N200309, A20, 38, 1, 2, 2, 2, 20031007, 1942, 25.5222, -52.3333, 5820,  5750.40,   5750.4,   2.1242,  34.8507, 2,  34.8528, 2,    248.9, 2,    249.7, 2,    54.49, 2,    22.60, 2,     0.00, 2,     1.55, 2,    0.026, 2,    0.017, 2,    0.006, 2, -999.000, 9,   2198.7, 2,   2341.6, 2,  -999.00, 9,  -999.00, 9, -999.000, 9, -999.000, -999.0000, 9, -999.0000,  -999.00, 9,  -999.00, -999.000, 9, -999.000,   -999.0, 9,   -999.0,  -999.00, 9, -999.0000, 9, -999.0000, 9, -999.0000, 9, -999.0000, 9, -999.0000, 9, -999.0000, 9, -999, 9, -999, 9, -999, 9, -999, 9, -999, 9, -999, 9, -999, 9,  -999.00, 9,  -999.00, 9,  -999.00, 9,  -999.00, 9,   1.5705,  -999.00, 9, 1954,   25.5225,  -52.3330
316N200309, A20, 38, 1, 1, 1, 2, 20031007, 1942, 25.5222, -52.3333, 5820,  5899.30,   5899.3,   2.1386,  34.8498, 2,  34.8534, 3,    249.6, 2,    249.9, 2,    54.80, 2,    22.64, 2,     0.00, 2,     1.55, 2,    0.038, 6,    0.028, 6,    0.006, 2,    0.228, 2,   2199.0, 2,   2342.5, 2,    39.80, 2,  -999.00, 9, -999.000, 9, -999.000, -999.0000, 9, -999.0000,  -999.00, 9,  -999.00, -999.000, 9, -999.000,   -999.0, 9,   -999.0,  -999.00, 9,    0.1250, 2,    0.0910, 2,    0.0450, 2,    0.0300, 2,    0.0170, 2,    0.0180, 2, -999, 9, -999, 9, -999, 9, -999, 9, -999, 9, -999, 9, -999, 9,  -999.00, 9,  -999.00, 9,  -999.00, 9,  -999.00, 9,   1.5643,  -999.00, 9, 1950,   25.5224,  -52.3331