BOTTLE,20220816CCHSIOAMB
EXPOCODE,SECT_ID,STNNBR,CASTNO,SAMPNO,BTLNBR,BTLNBR_FLAG_W,DATE,TIME,LATITUDE,LONGITUDE,DEPTH,CTDRAW,CTDPRS,CTDTMP,CTDSAL,CTDSAL_FLAG_W,SALNTY,SALNTY_FLAG_W,CTDOXY,CTDOXY_FLAG_W,OXYGEN,OXYGEN_FLAG_W,SILCAT,SILCAT_FLAG_W,NITRAT,NITRAT_FLAG_W,NITRIT,NITRIT_FLAG_W,PHSPHT,PHSPHT_FLAG_W,CFC-11,CFC-11_FLAG_W,CFC-12,CFC-12_FLAG_W,CFC113,CFC113_FLAG_W,CCL4,CCL4_FLAG_W,TCARBN,TCARBN_FLAG_W,ALKALI,ALKALI_FLAG_W,DOC,DOC_FLAG_W,TDN,TDN_FLAG_W,TRITUM,TRITUM_FLAG_W,TRITER,HELIUM,HELIUM_FLAG_W,HELIER,DELHE3,DELHE3_FLAG_W,DELHER,NEON,NEON_FLAG_W,NEONER,DELC14,DELC14_FLAG_W,C14ERR,DELC13,DELC13_FLAG_W,CDOM325,CDOM325_FLAG_W,CDOM340,CDOM340_FLAG_W,CDOM380,CDOM380_FLAG_W,CDOM412,CDOM412_FLAG_W,CDOMSL,CDOMSL_FLAG_W,CDOMSN,CDOMSN_FLAG_W,DCNS,DCNS_FLAG_W,ARABI,ARABI_FLAG_W,FUCO,FUCO_FLAG_W,GALA,GALA_FLAG_W,GLUC,GLUC_FLAG_W,MAN,MAN_FLAG_W,RHAM,RHAM_FLAG_W,BRDU,BRDU_FLAG_W,PEUK,PEUK_FLAG_W,PROC,PROC_FLAG_W,SYN,SYN_FLAG_W,THETA,BACT,BACT_FLAG_W,BTL_TIME,BTL_LAT,BTL_LON
,,,,,,,,,,,METERS,DBAR,DBAR,ITS-90,PSS-78,,PSS-78,,UMOL/KG,,UMOL/KG,,UMOL/KG,,UMOL/KG,,UMOL/KG,,UMOL/KG,,PMOL/KG,,PMOL/KG,,PMOL/KG,,PMOL/KG,,UMOL/KG,,UMOL/KG,,UMOL/KG,,UMOL/KG,,TU,,TU,NMOL/KG,,NMOL/KG,PERCNT,,PERCNT,NMOL/KG,,NMOL/KG,/MILLE,,/MILLE,/MILLE,,1/M,,1/M,,1/M,,1/M,,1/NM,,1/NM,,NMOL/KG,,NMOL/KG,,NMOL/KG,,NMOL/KG,,NMOL/KG,,NMOL/KG,,NMOL/KG,,PMOL/L/H,,E6/L,,E7/L,,E6/L,,DEG C,E8/L,,,,
316N200309, A20, 15, 1, 10, 10, 2, 20030928, 0436, 40.5088, -51.8142, 5208,  3099.20,   3099.2,   2.8699,  34.9294, 2,  34.9294, 2,    268.1, 2,    268.9, 2,    18.43, 2,    17.70, 2,     0.00, 2,     1.17, 2,    0.945, 2,    0.486, 2,    0.039, 2,    1.378, 2,   2164.0, 2,   2313.1, 2,  -999.00, 9,  -999.00, 9, -999.000, 9, -999.000, -999.0000, 9, -999.0000,  -999.00, 9,  -999.00, -999.000, 9, -999.000,   -999.0, 9,   -999.0,  -999.00, 9, -999.0000, 9, -999.0000, 9, -999.0000, 9, -999.0000, 9, -999.0000, 9, -999.0000, 9, -999, 9, -999, 9, -999, 9, -999, 9, -999, 9, -999, 9, -999, 9,  -999.00, 9,  -999.00, 9,  -999.00, 9,  -999.00, 9,   2.6116,  -999.00, 9,  522,   40.5119,  -51.8155
316N200309, A20, 15, 1, 9, 9, 2, 20030928, 0436, 40.5088, -51.8142, 5208,  3300.40,   3300.4,   2.7306,  34.9248, 2,  34.9246, 2,    268.6, 2,    268.5, 2,    20.46, 2,    17.89, 2,     0.00, 2,     1.19, 2,    0.727, 2,    0.378, 2,    0.033, 2,    1.189, 2,   2172.6, 3,   2310.7, 2,    42.70, 2,  -999.00, 9, -999.000, 9, -999.000, -999.0000, 9, -999.0000,  -999.00, 9,  -999.00, -999.000, 9, -999.000,   -999.0, 9,   -999.0,  -999.00, 9, -999.0000, 9, -999.0000, 9, -999.0000, 9, -999.0000, 9, -999.0000, 9, -999.0000, 9, -999, 9, -999, 9, -999, 9, -999, 9, -999, 9, -999, 9, -999, 9,  -999.00, 9,  -999.00, 9,  -999.00, 9,  -999.00, 9,   2.4540,  -999.00, 9,  518,   40.5114,  -51.8157
316N200309, A20, 15, 1, 8, 8, 2, 20030928, 0436, 40.5088, -51.8142, 5208,  3500.20,   3500.2,   2.5654,  34.9144, 2,  34.9152, 2,    270.9, 2,    270.1, 2,    21.35, 2,    17.73, 2,     0.00, 2,     1.18, 2,    0.872, 2,    0.454, 2,    0.042, 2,    1.344, 2,   2166.3, 2,   2313.2, 2,  -999.00, 9,  -999.00, 9, -999.000, 9, -999.000, -999.0000, 9, -999.0000,  -999.00, 9,  -999.00, -999.000, 9, -999.000,   -999.0, 9,   -999.0,  -999.00, 9, -999.0000, 9, -999.0000, 9, -999.0000, 9, -999.0000, 9, -999.0000, 9, -999.0000, 9, -999, 9, -999, 9, -999, 9, -999, 9, -999, 9, -999, 9, -999, 9,  -999.00, 9,  -999.00, 9,  -999.00, 9,  -999.00, 9,   2.2713,  -999.00, 9,  514,   40.5110,  -51.8154
316N200309, A20, 15, 1, 7, 7, 2, 20030928, 0436, 40.5088, -51.8142, 5208,  3700.80,   3700.8,   2.4399,  34.9044, 2,  34.9046, 2,    272.8, 2,    273.3, 2,    20.71, 2,    17.38, 2,     0.00, 2,     1.16, 2,    1.309, 6,    0.671, 6,    0.068, 6,    1.764, 6,   2169.6, 2,   2314.6, 2,    43.10, 2,  -999.00, 9, -999.000, 9, -999.000, -999.0000, 9, -999.0000,  -999.00, 9,  -999.00, -999.000, 9, -999.000,   -999.0, 9,   -999.0,  -999.00, 9, -999.0000, 9, -999.0000, 9, -999.0000, 9, -999.0000, 9, -999.0000, 9, -999.0000, 9, -999, 9, -999, 9, -999, 9, -999, 9, -999, 9, -999, 9, -999, 9,  -999.00, 9,  -999.00, 9,  -999.00, 9,  -999.00, 9,   2.1271,  -999.00, 9,  510,   40.5107,  -51.8151
316N200309, A20, 15, 1, 6, 6, 2, 20030928, 0436, 40.5088, -51.8142, 5208,  3901.10,   3901.1,   2.3560,  34.9001, 2,  34.9012, 2,    271.1, 2,    270.6, 2,    24.49, 2,    17.90, 2,     0.00, 2,     1.20, 2,    0.982, 2,    0.514, 2,    0.055, 2,    1.462, 2,   2170.7, 2,   2316.2, 2,  -999.00, 9,  -999.00, 9, -999.000, 9, -999.000, -999.0000, 9, -999.0000,  -999.00, 9,  -999.00, -999.000, 9, -999.000,   -999.0, 9,   -999.0,  -999.00, 9, -999.0000, 9, -999.0000, 9, -999.0000, 9, -999.0000, 9, -999.0000, 9, -999.0000, 9, -999, 9, -999, 9, -999, 9, -999, 9, -999, 9, -999, 9, -999, 9,  -999.00, 9,  -999.00, 9,  -999.00, 9,  -999.00, 9,   2.0230,  -999.00, 9,  506,   40.5103,  -51.8146
316N200309, A20, 15, 1, 5, 5, 2, 20030928, 0436, 40.5088, -51.8142, 5208,  4124.40,   4124.4,   2.3058,  34.8950, 2,  34.8949, 2,    271.5, 2,    270.7, 2,    25.28, 2,    17.91, 2,     0.00, 2,     1.20, 2,    1.109, 2,    0.563, 2,    0.060, 2,    1.563, 2,   2173.0, 2,   2315.4, 2,    43.10, 2,  -999.00, 9, -999.000, 9, -999.000, -999.0000, 9, -999.0000,  -999.00, 9,  -999.00, -999.000, 9, -999.000,   -999.0, 9,   -999.0,  -999.00, 9, -999.0000, 9, -999.0000, 9, -999.0000, 9, -999.0000, 9, -999.0000, 9, -999.0000, 9, -999, 9, -999, 9, -999, 9, -999, 9, -999, 9, -999, 9, -999, 9,  -999.00, 9,  -999.00, 9,  -999.00, 9,  -999.00, 9,   1.9487,  -999.00, 9,  502,   40.5098,  -51.8143
316N200309, A20, 15, 1, 4, 4, 2, 20030928, 0436, 40.5088, -51.8142, 5208,  4374.20,   4374.2,   2.2653,  34.8896, 2,  34.8904, 2,    267.9, 2,    266.9, 2,    29.70, 2,    18.69, 2,     0.00, 2,     1.25, 2,    0.796, 2,    0.434, 2,    0.047, 2, -999.000, 9,   2176.1, 2,   2318.3, 2,  -999.00, 9,  -999.00, 9, -999.000, 9, -999.000, -999.0000, 9, -999.0000,  -999.00, 9,  -999.00, -999.000, 9, -999.000,   -999.0, 9,   -999.0,  -999.00, 9, -999.0000, 9, -999.0000, 9, -999.0000, 9, -999.0000, 9, -999.0000, 9, -999.0000, 9, -999, 9, -999, 9, -999, 9, -999, 9, -999, 9, -999, 9, -999, 9,  -999.00, 9,  -999.00, 9,  -999.00, 9,  -999.00, 9,   1.8802,  -999.00, 9,  457,   40.5093,  -51.8141
316N200309, A20, 15, 1, 3, 3, 2, 20030928, 0436, 40.5088, -51.8142, 5208,  4624.80,   4624.8,   2.2633,  34.8867, 2,  34.8877, 2,    266.8, 2,    266.3, 2,    30.91, 2,    18.78, 2,     0.00, 2,     1.27, 2,    0.840, 2,    0.448, 2,    0.049, 2,    1.257, 2,   2176.9, 2,   2321.4, 2,    42.40, 2,  -999.00, 9, -999.000, 9, -999.000, -999.0000, 9, -999.0000,  -999.00, 9,  -999.00, -999.000, 9, -999.000,   -999.0, 9,   -999.0,  -999.00, 9, -999.0000, 9, -999.0000, 9, -999.0000, 9, -999.0000, 9, -999.0000, 9, -999.0000, 9, -999, 9, -999, 9, -999, 9, -999, 9, -999, 9, -999, 9, -999, 9,  -999.00, 9,  -999.00, 9,  -999.00, 9,  -999.00, 9,   1.8483,  -999.00, 9,  452,   40.5089,  -51.8143
316N200309, A20, 15, 1, 2, 2, 2, 20030928, 0436, 40.5088, -51.8142, 5208,  4951.10,   4951.1,   2.2525,  34.8828, 2,  34.8839, 2,    267.8, 2,    279.6, 3,    29.85, 2,    18.52, 2,     0.00, 2,     1.24, 2,    1.164, 2,    0.608, 2,    0.072, 2,    1.551, 2,   2177.5, 2,   2320.9, 2,  -999.00, 9,  -999.00, 9, -999.000, 9, -999.000, -999.0000, 9, -999.0000,  -999.00, 9,  -999.00, -999.000, 9, -999.000,   -999.0, 9,   -999.0,  -999.00, 9, -999.0000, 9, -999.0000, 9, -999.0000, 9, -999.0000, 9, -999.0000, 9, -999.0000, 9, -999, 9, -999, 9, -999, 9, -999, 9, -999, 9, -999, 9, -999, 9,  -999.00, 9,  -999.00, 9,  -999.00, 9,  -999.00, 9,   1.7976,  -999.00, 9,  444,   40.5088,  -51.8145
316N200309, A20, 15, 1, 1, 1, 2, 20030928, 0436, 40.5088, -51.8142, 5208,  5287.90,   5287.9,   2.2748,  34.8788, 2,  34.8796, 2,    264.5, 2,    267.3, 2,    33.95, 2,    19.16, 2,     0.00, 2,     1.30, 2,    0.854, 2,    0.466, 2,    0.058, 2,    1.250, 2,   2181.6, 2,   2325.8, 2,    42.40, 2,  -999.00, 9, -999.000, 9, -999.000, -999.0000, 9, -999.0000,  -999.00, 9,  -999.00, -999.000, 9, -999.000,   -999.0, 9,   -999.0,  -999.00, 9, -999.0000, 9, -999.0000, 9, -999.0000, 9, -999.0000, 9, -999.0000, 9, -999.0000, 9, -999, 9, -999, 9, -999, 9, -999, 9, -999, 9, -999, 9, -999, 9,  -999.00, 9,  -999.00, 9,  -999.00, 9,  -999.00, 9,   1.7762,  -999.00, 9,  436,   40.5089,  -51.8141