BOTTLE,20220816CCHSIOAMB
EXPOCODE,SECT_ID,STNNBR,CASTNO,SAMPNO,BTLNBR,BTLNBR_FLAG_W,DATE,TIME,LATITUDE,LONGITUDE,DEPTH,CTDRAW,CTDPRS,CTDTMP,CTDSAL,CTDSAL_FLAG_W,SALNTY,SALNTY_FLAG_W,CTDOXY,CTDOXY_FLAG_W,OXYGEN,OXYGEN_FLAG_W,SILCAT,SILCAT_FLAG_W,NITRAT,NITRAT_FLAG_W,NITRIT,NITRIT_FLAG_W,PHSPHT,PHSPHT_FLAG_W,CFC-11,CFC-11_FLAG_W,CFC-12,CFC-12_FLAG_W,CFC113,CFC113_FLAG_W,CCL4,CCL4_FLAG_W,TCARBN,TCARBN_FLAG_W,ALKALI,ALKALI_FLAG_W,DOC,DOC_FLAG_W,TDN,TDN_FLAG_W,TRITUM,TRITUM_FLAG_W,TRITER,HELIUM,HELIUM_FLAG_W,HELIER,DELHE3,DELHE3_FLAG_W,DELHER,NEON,NEON_FLAG_W,NEONER,DELC14,DELC14_FLAG_W,C14ERR,DELC13,DELC13_FLAG_W,CDOM325,CDOM325_FLAG_W,CDOM340,CDOM340_FLAG_W,CDOM380,CDOM380_FLAG_W,CDOM412,CDOM412_FLAG_W,CDOMSL,CDOMSL_FLAG_W,CDOMSN,CDOMSN_FLAG_W,DCNS,DCNS_FLAG_W,ARABI,ARABI_FLAG_W,FUCO,FUCO_FLAG_W,GALA,GALA_FLAG_W,GLUC,GLUC_FLAG_W,MAN,MAN_FLAG_W,RHAM,RHAM_FLAG_W,BRDU,BRDU_FLAG_W,PEUK,PEUK_FLAG_W,PROC,PROC_FLAG_W,SYN,SYN_FLAG_W,THETA,BACT,BACT_FLAG_W,BTL_TIME,BTL_LAT,BTL_LON
,,,,,,,,,,,METERS,DBAR,DBAR,ITS-90,PSS-78,,PSS-78,,UMOL/KG,,UMOL/KG,,UMOL/KG,,UMOL/KG,,UMOL/KG,,UMOL/KG,,PMOL/KG,,PMOL/KG,,PMOL/KG,,PMOL/KG,,UMOL/KG,,UMOL/KG,,UMOL/KG,,UMOL/KG,,TU,,TU,NMOL/KG,,NMOL/KG,PERCNT,,PERCNT,NMOL/KG,,NMOL/KG,/MILLE,,/MILLE,/MILLE,,1/M,,1/M,,1/M,,1/M,,1/NM,,1/NM,,NMOL/KG,,NMOL/KG,,NMOL/KG,,NMOL/KG,,NMOL/KG,,NMOL/KG,,NMOL/KG,,PMOL/L/H,,E6/L,,E7/L,,E6/L,,DEG C,E8/L,,,,
316N200309, A20, 43, 1, 36, 36, 2, 20031009, 1030, 22.1990, -52.3653, 4856,     2.70,      2.7,  28.2137,  37.2660, 2,  37.2664, 2,    187.3, 2,   -999.0, 5,     0.65, 2,     0.15, 2,     0.00, 2,     0.02, 2,    1.573, 2,    0.952, 2,    0.089, 2,    1.661, 2,   2054.1, 2,   2435.6, 2,  -999.00, 9,  -999.00, 9,    0.690, 2,    0.004,   1.7069, 2,   0.0085,    -1.88, 2,     0.20,    6.668, 2,    0.033,   -999.0, 9,   -999.0,  -999.00, 9, -999.0000, 9, -999.0000, 9, -999.0000, 9, -999.0000, 9, -999.0000, 9, -999.0000, 9, -999, 9, -999, 9, -999, 9, -999, 9, -999, 9, -999, 9, -999, 9,  -999.00, 9,  -999.00, 9,  -999.00, 9,  -999.00, 9,  28.2130,  -999.00, 9, 1237,   22.2183,  -52.3748
316N200309, A20, 43, 1, 35, 35, 2, 20031009, 1030, 22.1990, -52.3653, 4856,    25.40,     25.4,  28.2205,  37.2788, 2,  37.2815, 2,    187.3, 2,    197.0, 2,     0.51, 2,     0.15, 2,     0.00, 2,     0.02, 2,    1.595, 6,    0.927, 2,    0.088, 2,    1.698, 2,   -999.0, 9,   -999.0, 9,  -999.00, 9,  -999.00, 9, -999.000, 9, -999.000, -999.0000, 9, -999.0000,  -999.00, 9,  -999.00, -999.000, 9, -999.000,   -999.0, 9,   -999.0,  -999.00, 9, -999.0000, 9, -999.0000, 9, -999.0000, 9, -999.0000, 9, -999.0000, 9, -999.0000, 9, -999, 9, -999, 9, -999, 9, -999, 9, -999, 9, -999, 9, -999, 9,  -999.00, 9,  -999.00, 9,  -999.00, 9,  -999.00, 9,  28.2144,  -999.00, 9, 1235,   22.2179,  -52.3746
316N200309, A20, 43, 1, 34, 34, 2, 20031009, 1030, 22.1990, -52.3653, 4856,    50.20,     50.2,  28.2577,  37.3670, 2,  37.3632, 2,    188.9, 2,    197.6, 2,     0.58, 2,     0.14, 2,     0.00, 2,     0.02, 2,    1.584, 2,    0.959, 2,    0.087, 2,    1.654, 2,   -999.0, 9,   -999.0, 1,  -999.00, 9,  -999.00, 9,    0.698, 2,    0.004,   1.7034, 2,   0.0085,    -1.37, 2,     0.20,    6.675, 2,    0.033,   -999.0, 9,   -999.0,  -999.00, 9, -999.0000, 9, -999.0000, 9, -999.0000, 9, -999.0000, 9, -999.0000, 9, -999.0000, 9, -999, 9, -999, 9, -999, 9, -999, 9, -999, 9, -999, 9, -999, 9,  -999.00, 9,  -999.00, 9,  -999.00, 9,  -999.00, 9,  28.2457,  -999.00, 9, 1234,   22.2175,  -52.3743
316N200309, A20, 43, 1, 33, 33, 2, 20031009, 1030, 22.1990, -52.3653, 4856,    74.80,     74.8,  25.4664,  37.1803, 2,  37.0013, 2,    210.2, 2,    198.3, 2,     0.74, 2,     1.71, 2,     0.01, 2,     0.10, 2,    2.005, 3,    1.213, 3,    0.060, 3,    0.766, 3,   2088.5, 2,   2413.0, 2,  -999.00, 9,  -999.00, 9, -999.000, 9, -999.000, -999.0000, 9, -999.0000,  -999.00, 9,  -999.00, -999.000, 9, -999.000,   -999.0, 9,   -999.0,  -999.00, 9, -999.0000, 9, -999.0000, 9, -999.0000, 9, -999.0000, 9, -999.0000, 9, -999.0000, 9, -999, 9, -999, 9, -999, 9, -999, 9, -999, 9, -999, 9, -999, 9,  -999.00, 9,  -999.00, 9,  -999.00, 9,  -999.00, 9,  25.4499,  -999.00, 9, 1232,   22.2172,  -52.3741
316N200309, A20, 43, 1, 32, 32, 2, 20031009, 1030, 22.1990, -52.3653, 4856,   100.20,    100.2,  24.6845,  37.3884, 2,  37.3865, 2,    202.1, 2,    207.3, 2,     0.28, 2,     0.17, 2,     0.00, 2,     0.02, 2,    1.848, 2,    1.139, 2,    0.129, 2,    1.110, 2,   -999.0, 9,   -999.0, 1,  -999.00, 9,  -999.00, 9,    0.707, 2,    0.004,   1.7265, 2,   0.0086,    -1.63, 2,     0.20,    6.820, 2,    0.034,   -999.0, 9,   -999.0,  -999.00, 9, -999.0000, 9, -999.0000, 9, -999.0000, 9, -999.0000, 9, -999.0000, 9, -999.0000, 9, -999, 9, -999, 9, -999, 9, -999, 9, -999, 9, -999, 9, -999, 9,  -999.00, 9,  -999.00, 9,  -999.00, 9,  -999.00, 9,  24.6628,  -999.00, 9, 1230,   22.2168,  -52.3738
316N200309, A20, 43, 1, 31, 31, 2, 20031009, 1030, 22.1990, -52.3653, 4856,   124.70,    124.7,  24.3082,  37.4016, 2,  37.3861, 2,    195.7, 2,    199.9, 2,     0.24, 2,     0.13, 2,     0.03, 2,     0.02, 2,    1.862, 2,    1.169, 2,    0.123, 2,    0.969, 2,   -999.0, 9,   -999.0, 9,  -999.00, 9,  -999.00, 9, -999.000, 9, -999.000, -999.0000, 9, -999.0000,  -999.00, 9,  -999.00, -999.000, 9, -999.000,   -999.0, 9,   -999.0,  -999.00, 9, -999.0000, 9, -999.0000, 9, -999.0000, 9, -999.0000, 9, -999.0000, 9, -999.0000, 9, -999, 9, -999, 9, -999, 9, -999, 9, -999, 9, -999, 9, -999, 9,  -999.00, 9,  -999.00, 9,  -999.00, 9,  -999.00, 9,  24.2814,  -999.00, 9, 1228,   22.2166,  -52.3736
316N200309, A20, 43, 1, 30, 30, 2, 20031009, 1030, 22.1990, -52.3653, 4856,   150.20,    150.2,  23.0999,  37.2113, 2,  37.2109, 2,    189.3, 2,    195.0, 2,     0.20, 2,     0.34, 2,     0.04, 2,     0.03, 2,    1.955, 2,    1.214, 2,    0.129, 2,    0.815, 2,   2096.5, 2,   2427.8, 2,  -999.00, 9,  -999.00, 9,    0.701, 2,    0.004,   1.7548, 2,   0.0088,    -0.82, 2,     0.20,    6.974, 2,    0.035,   -999.0, 9,   -999.0,  -999.00, 9, -999.0000, 9, -999.0000, 9, -999.0000, 9, -999.0000, 9, -999.0000, 9, -999.0000, 9, -999, 9, -999, 9, -999, 9, -999, 9, -999, 9, -999, 9, -999, 9,  -999.00, 9,  -999.00, 9,  -999.00, 9,  -999.00, 9,  23.0689,  -999.00, 9, 1227,   22.2164,  -52.3734
316N200309, A20, 43, 1, 29, 29, 2, 20031009, 1030, 22.1990, -52.3653, 4856,   199.90,    199.9,  20.0993,  36.8173, 2,  36.8165, 2,    179.8, 2,    184.5, 2,     0.48, 2,     1.82, 2,     0.01, 2,     0.07, 2,    2.185, 2,    1.328, 2,    0.031, 2,    0.367, 2,   -999.0, 9,   -999.0, 9,  -999.00, 9,  -999.00, 9, -999.000, 9, -999.000,   1.8007, 2,   0.0090,    -0.66, 2,     0.20,    7.208, 2,    0.036,   -999.0, 9,   -999.0,  -999.00, 9, -999.0000, 9, -999.0000, 9, -999.0000, 9, -999.0000, 9, -999.0000, 9, -999.0000, 9, -999, 9, -999, 9, -999, 9, -999, 9, -999, 9, -999, 9, -999, 9,  -999.00, 9,  -999.00, 9,  -999.00, 9,  -999.00, 9,  20.0618,  -999.00, 9, 1225,   22.2161,  -52.3731
316N200309, A20, 43, 1, 28, 28, 2, 20031009, 1030, 22.1990, -52.3653, 4856,   250.00,    250.0,  18.9038,  36.6494, 2,  36.6485, 2,    186.4, 2,    187.7, 2,     0.75, 2,     3.50, 2,     0.01, 2,     0.16, 2,    2.257, 2,    1.376, 2,    0.016, 2,    0.337, 2,   -999.0, 9,   -999.0, 9,  -999.00, 9,  -999.00, 9, -999.000, 9, -999.000, -999.0000, 9, -999.0000,  -999.00, 9,  -999.00, -999.000, 9, -999.000,   -999.0, 9,   -999.0,  -999.00, 9, -999.0000, 9, -999.0000, 9, -999.0000, 9, -999.0000, 9, -999.0000, 9, -999.0000, 9, -999, 9, -999, 9, -999, 9, -999, 9, -999, 9, -999, 9, -999, 9,  -999.00, 9,  -999.00, 9,  -999.00, 9,  -999.00, 9,  18.8589,  -999.00, 9, 1224,   22.2158,  -52.3729
316N200309, A20, 43, 1, 27, 27, 2, 20031009, 1030, 22.1990, -52.3653, 4856,   299.80,    299.8,  18.0355,  36.5257, 2,  36.5254, 2,    191.4, 2,    188.8, 2,     1.13, 2,     5.18, 2,     0.00, 2,     0.26, 2,    2.302, 4,    1.382, 4,    0.008, 4,    0.420, 4,   2113.8, 2,   2382.6, 2,  -999.00, 9,  -999.00, 9,    0.804, 2,    0.004,   1.7948, 2,   0.0090,     0.69, 2,     0.20,    7.246, 2,    0.036,   -999.0, 9,   -999.0,  -999.00, 9, -999.0000, 9, -999.0000, 9, -999.0000, 9, -999.0000, 9, -999.0000, 9, -999.0000, 9, -999, 9, -999, 9, -999, 9, -999, 9, -999, 9, -999, 9, -999, 9,  -999.00, 9,  -999.00, 9,  -999.00, 9,  -999.00, 9,  17.9833,  -999.00, 9, 1222,   22.2155,  -52.3726
316N200309, A20, 43, 1, 26, 26, 2, 20031009, 1030, 22.1990, -52.3653, 4856,   400.10,    400.1,  16.6266,  36.3023, 2,  36.3020, 2,    181.2, 2,    182.0, 2,     2.15, 2,     8.21, 2,     0.00, 2,     0.45, 2,    2.251, 2,    1.259, 2,    0.022, 2,    0.411, 2,   -999.0, 9,   -999.0, 9,  -999.00, 9,  -999.00, 9,    0.827, 2,    0.004,   1.7925, 2,   0.0090,     2.35, 2,     0.20,    7.275, 2,    0.036,   -999.0, 9,   -999.0,  -999.00, 9, -999.0000, 9, -999.0000, 9, -999.0000, 9, -999.0000, 9, -999.0000, 9, -999.0000, 9, -999, 9, -999, 9, -999, 9, -999, 9, -999, 9, -999, 9, -999, 9,  -999.00, 9,  -999.00, 9,  -999.00, 9,  -999.00, 9,  16.5606,  -999.00, 9, 1219,   22.2152,  -52.3722
316N200309, A20, 43, 1, 25, 25, 2, 20031009, 1030, 22.1990, -52.3653, 4856,   501.30,    501.3,  14.5097,  35.9609, 2,  35.9615, 2,    168.3, 2,    177.7, 2,     4.21, 2,    12.70, 2,     0.00, 2,     0.73, 2,    2.078, 2,    1.129, 2,    0.015, 2,    0.402, 2,   2144.6, 2,   2351.7, 2,  -999.00, 9,  -999.00, 9,    0.878, 2,    0.005,   1.8101, 2,   0.0091,     5.28, 2,     0.20,    7.369, 2,    0.037,   -999.0, 9,   -999.0,  -999.00, 9, -999.0000, 9, -999.0000, 9, -999.0000, 9, -999.0000, 9, -999.0000, 9, -999.0000, 9, -999, 9, -999, 9, -999, 9, -999, 9, -999, 9, -999, 9, -999, 9,  -999.00, 9,  -999.00, 9,  -999.00, 9,  -999.00, 9,  14.4341,  -999.00, 9, 1216,   22.2149,  -52.3720
316N200309, A20, 43, 1, 24, 24, 2, 20031009, 1030, 22.1990, -52.3653, 4856,   650.70,    650.7,  11.8488,  35.6093, 2,  35.6100, 2,    152.1, 2,    149.5, 2,     7.52, 2,    19.00, 2,     0.00, 2,     1.14, 2,    1.586, 2,    0.835, 2,    0.009, 2,    0.324, 2,   -999.0, 9,   -999.0, 9,  -999.00, 9,  -999.00, 9,    0.818, 2,    0.004,   1.8029, 2,   0.0090,     8.30, 2,     0.20,    7.427, 2,    0.037,   -999.0, 9,   -999.0,  -999.00, 9, -999.0000, 9, -999.0000, 9, -999.0000, 9, -999.0000, 9, -999.0000, 9, -999.0000, 9, -999, 9, -999, 9, -999, 9, -999, 9, -999, 9, -999, 9, -999, 9,  -999.00, 9,  -999.00, 9,  -999.00, 9,  -999.00, 9,  11.7625,  -999.00, 9, 1213,   22.2144,  -52.3717
316N200309, A20, 43, 1, 23, 23, 2, 20031009, 1030, 22.1990, -52.3653, 4856,   801.30,    801.3,   9.2634,  35.2911, 2,  35.2930, 2,    143.4, 2,    142.5, 2,    13.58, 2,    24.12, 2,     0.00, 2,     1.52, 2,    0.522, 2,    0.274, 2,    0.003, 2,    0.149, 2,   2188.2, 2,   2321.9, 2,  -999.00, 9,  -999.00, 9,    0.427, 2,    0.003,   1.8142, 2,   0.0091,     7.55, 2,     0.20,    7.565, 2,    0.038,   -999.0, 9,   -999.0,  -999.00, 9, -999.0000, 9, -999.0000, 9, -999.0000, 9, -999.0000, 9, -999.0000, 9, -999.0000, 9, -999, 9, -999, 9, -999, 9, -999, 9, -999, 9, -999, 9, -999, 9,  -999.00, 9,  -999.00, 9,  -999.00, 9,  -999.00, 9,   9.1715,  -999.00, 9, 1209,   22.2141,  -52.3713
316N200309, A20, 43, 1, 22, 22, 2, 20031009, 1030, 22.1990, -52.3653, 4856,   925.10,    925.1,   7.5659,  35.1065, 2,  35.1087, 2,    146.7, 2,    145.6, 2,    17.74, 2,    26.65, 2,     0.00, 2,     1.72, 2,    0.186, 6,    0.107, 6,    0.005, 6,    0.133, 6,   -999.0, 9,   -999.0, 9,  -999.00, 9,  -999.00, 9,    0.195, 2,    0.002,   1.8215, 2,   0.0091,     4.65, 2,     0.20,    7.631, 2,    0.038,   -999.0, 9,   -999.0,  -999.00, 9, -999.0000, 9, -999.0000, 9, -999.0000, 9, -999.0000, 9, -999.0000, 9, -999.0000, 9, -999, 9, -999, 9, -999, 9, -999, 9, -999, 9, -999, 9, -999, 9,  -999.00, 9,  -999.00, 9,  -999.00, 9,  -999.00, 9,   7.4707,  -999.00, 9, 1206,   22.2138,  -52.3710
316N200309, A20, 43, 1, 21, 21, 2, 20031009, 1030, 22.1990, -52.3653, 4856,  1051.70,   1051.7,   6.3698,  35.0140, 2,  35.0154, 2,    161.3, 2,    160.5, 2,    19.70, 2,    26.78, 2,     0.00, 2,     1.76, 2,    0.094, 2,    0.053, 2,    0.001, 2,    0.167, 2,   2198.5, 2,   2317.3, 2,  -999.00, 9,  -999.00, 9,    0.107, 2,    0.001,   1.8341, 2,   0.0092,     2.88, 2,     0.20,    7.731, 2,    0.039,   -999.0, 9,   -999.0,  -999.00, 9, -999.0000, 9, -999.0000, 9, -999.0000, 9, -999.0000, 9, -999.0000, 9, -999.0000, 9, -999, 9, -999, 9, -999, 9, -999, 9, -999, 9, -999, 9, -999, 9,  -999.00, 9,  -999.00, 9,  -999.00, 9,  -999.00, 9,   6.2701,  -999.00, 9, 1203,   22.2136,  -52.3708
316N200309, A20, 43, 1, 20, 20, 2, 20031009, 1030, 22.1990, -52.3653, 4856,  1201.80,   1201.8,   5.6147,  35.0075, 2,  35.0063, 2,    187.2, 2,    187.4, 2,    18.72, 2,    24.44, 2,     0.00, 2,     1.62, 2,    0.120, 2,    0.068, 2,    0.004, 2,    0.287, 2,   -999.0, 9,   -999.0, 9,  -999.00, 9,  -999.00, 9, -999.000, 9, -999.000, -999.0000, 9, -999.0000,  -999.00, 9,  -999.00, -999.000, 9, -999.000,   -999.0, 9,   -999.0,  -999.00, 9, -999.0000, 9, -999.0000, 9, -999.0000, 9, -999.0000, 9, -999.0000, 9, -999.0000, 9, -999, 9, -999, 9, -999, 9, -999, 9, -999, 9, -999, 9, -999, 9,  -999.00, 9,  -999.00, 9,  -999.00, 9,  -999.00, 9,   5.5063,  -999.00, 9, 1159,   22.2133,  -52.3707
316N200309, A20, 43, 1, 19, 19, 2, 20031009, 1030, 22.1990, -52.3653, 4856,  1326.20,   1326.2,   5.2086,  35.0230, 2,  35.0236, 2,    208.7, 2,    207.8, 2,    17.00, 2,    22.35, 2,     0.00, 2,     1.49, 2,    0.175, 2,    0.096, 2,    0.006, 2,    0.466, 2,   -999.0, 9,   -999.0, 9,  -999.00, 9,  -999.00, 9,    0.159, 2,    0.002,   1.8344, 2,   0.0092,     3.88, 2,     0.20,    7.907, 2,    0.040,   -999.0, 9,   -999.0,  -999.00, 9, -999.0000, 9, -999.0000, 9, -999.0000, 9, -999.0000, 9, -999.0000, 9, -999.0000, 9, -999, 9, -999, 9, -999, 9, -999, 9, -999, 9, -999, 9, -999, 9,  -999.00, 9,  -999.00, 9,  -999.00, 9,  -999.00, 9,   5.0919,  -999.00, 9, 1156,   22.2129,  -52.3706
316N200309, A20, 43, 1, 18, 18, 2, 20031009, 1030, 22.1990, -52.3653, 4856,  1451.40,   1451.4,   4.8603,  35.0341, 2,  35.0331, 2,    226.3, 2,    225.9, 2,    15.49, 2,    20.67, 2,     0.00, 2,     1.37, 2,    0.243, 2,    0.140, 2,    0.001, 2,    0.612, 2,   -999.0, 9,   -999.0, 9,  -999.00, 9,  -999.00, 9, -999.000, 9, -999.000, -999.0000, 9, -999.0000,  -999.00, 9,  -999.00, -999.000, 9, -999.000,   -999.0, 9,   -999.0,  -999.00, 9, -999.0000, 9, -999.0000, 9, -999.0000, 9, -999.0000, 9, -999.0000, 9, -999.0000, 9, -999, 9, -999, 9, -999, 9, -999, 9, -999, 9, -999, 9, -999, 9,  -999.00, 9,  -999.00, 9,  -999.00, 9,  -999.00, 9,   4.7350,  -999.00, 9, 1153,   22.2124,  -52.3704
316N200309, A20, 43, 1, 17, 17, 2, 20031009, 1030, 22.1990, -52.3653, 4856,  1575.80,   1575.8,   4.5742,  35.0372, 2,  35.0354, 2,    238.5, 2,    239.0, 2,    14.83, 2,    19.63, 2,     0.00, 2,     1.30, 2,    0.252, 2,    0.144, 2,    0.005, 2,    0.728, 2,   -999.0, 9,   -999.0, 9,  -999.00, 9,  -999.00, 9,    0.193, 2,    0.002,   1.8370, 2,   0.0092,     3.75, 2,     0.20,    7.871, 2,    0.039,   -999.0, 9,   -999.0,  -999.00, 9, -999.0000, 9, -999.0000, 9, -999.0000, 9, -999.0000, 9, -999.0000, 9, -999.0000, 9, -999, 9, -999, 9, -999, 9, -999, 9, -999, 9, -999, 9, -999, 9,  -999.00, 9,  -999.00, 9,  -999.00, 9,  -999.00, 9,   4.4401,  -999.00, 9, 1149,   22.2117,  -52.3704
316N200309, A20, 43, 1, 16, 16, 2, 20031009, 1030, 22.1990, -52.3653, 4856,  1701.00,   1701.0,   4.2992,  35.0341, 2,  35.0339, 2,    244.1, 2,    244.0, 2,    15.94, 2,    19.29, 2,     0.00, 2,     1.28, 2,    0.168, 2,    0.108, 2,    0.002, 2,    0.608, 2,   -999.0, 9,   -999.0, 9,  -999.00, 9,  -999.00, 9,    0.139, 2,    0.002,   1.8357, 2,   0.0092,     3.39, 2,     0.20,    7.649, 2,    0.038,   -999.0, 9,   -999.0,  -999.00, 9, -999.0000, 9, -999.0000, 9, -999.0000, 9, -999.0000, 9, -999.0000, 9, -999.0000, 9, -999, 9, -999, 9, -999, 9, -999, 9, -999, 9, -999, 9, -999, 9,  -999.00, 9,  -999.00, 9,  -999.00, 9,  -999.00, 9,   4.1564,  -999.00, 9, 1146,   22.2111,  -52.3703
316N200309, A20, 43, 1, 15, 15, 2, 20031009, 1030, 22.1990, -52.3653, 4856,  1851.30,   1851.3,   4.0128,  35.0247, 2,  35.0230, 2,    245.4, 2,    246.3, 2,    18.01, 2,    19.42, 2,     0.00, 2,     1.29, 2,    0.086, 2,    0.049, 2,    0.048, 4,    0.429, 2,   -999.0, 9,   -999.0, 9,  -999.00, 9,  -999.00, 9, -999.000, 9, -999.000, -999.0000, 9, -999.0000,  -999.00, 9,  -999.00, -999.000, 9, -999.000,   -999.0, 9,   -999.0,  -999.00, 9, -999.0000, 9, -999.0000, 9, -999.0000, 9, -999.0000, 9, -999.0000, 9, -999.0000, 9, -999, 9, -999, 9, -999, 9, -999, 9, -999, 9, -999, 9, -999, 9,  -999.00, 9,  -999.00, 9,  -999.00, 9,  -999.00, 9,   3.8594,  -999.00, 9, 1142,   22.2104,  -52.3701
316N200309, A20, 43, 1, 14, 14, 2, 20031009, 1030, 22.1990, -52.3653, 4856,  2000.10,   2000.1,   3.7363,  35.0101, 2,  35.0104, 2,    246.6, 2,    247.7, 2,    20.60, 2,    19.61, 2,     0.00, 2,     1.30, 2,    0.039, 2,    0.024, 2,    0.007, 2,    0.320, 2,   -999.0, 9,   -999.0, 9,  -999.00, 9,  -999.00, 9,    0.062, 2,    0.001,   1.8610, 2,   0.0093,     1.93, 2,     0.20,    7.857, 2,    0.039,   -999.0, 9,   -999.0,  -999.00, 9, -999.0000, 9, -999.0000, 9, -999.0000, 9, -999.0000, 9, -999.0000, 9, -999.0000, 9, -999, 9, -999, 9, -999, 9, -999, 9, -999, 9, -999, 9, -999, 9,  -999.00, 9,  -999.00, 9,  -999.00, 9,  -999.00, 9,   3.5725,  -999.00, 9, 1138,   22.2096,  -52.3700
316N200309, A20, 43, 1, 13, 13, 2, 20031009, 1030, 22.1990, -52.3653, 4856,  2249.80,   2249.8,   3.3850,  34.9852, 2,  34.9848, 2,    248.3, 2,    249.7, 2,    24.14, 2,    19.75, 2,     0.00, 2,     1.32, 2,    0.025, 2,    0.021, 2,    0.011, 2,    0.277, 2,   -999.0, 9,   -999.0, 9,  -999.00, 9,  -999.00, 9, -999.000, 9, -999.000, -999.0000, 9, -999.0000,  -999.00, 9,  -999.00, -999.000, 9, -999.000,   -999.0, 9,   -999.0,  -999.00, 9, -999.0000, 9, -999.0000, 9, -999.0000, 9, -999.0000, 9, -999.0000, 9, -999.0000, 9, -999, 9, -999, 9, -999, 9, -999, 9, -999, 9, -999, 9, -999, 9,  -999.00, 9,  -999.00, 9,  -999.00, 9,  -999.00, 9,   3.2027,  -999.00, 9, 1133,   22.2087,  -52.3695
316N200309, A20, 43, 1, 12, 12, 2, 20031009, 1030, 22.1990, -52.3653, 4856,  2500.60,   2500.6,   3.1157,  34.9642, 2,  34.9626, 2,    249.5, 2,    250.9, 2,    27.47, 2,    19.97, 2,     0.00, 2,     1.34, 2, -999.000, 1, -999.000, 1, -999.000, 1, -999.000, 9,   -999.0, 9,   -999.0, 9,  -999.00, 9,  -999.00, 9,    0.023, 2,    0.001,   1.8746, 2,   0.0094,     2.44, 2,     0.20,    7.936, 2,    0.040,   -999.0, 9,   -999.0,  -999.00, 9, -999.0000, 9, -999.0000, 9, -999.0000, 9, -999.0000, 9, -999.0000, 9, -999.0000, 9, -999, 9, -999, 9, -999, 9, -999, 9, -999, 9, -999, 9, -999, 9,  -999.00, 9,  -999.00, 9,  -999.00, 9,  -999.00, 9,   2.9135,  -999.00, 9, 1128,   22.2082,  -52.3683
316N200309, A20, 43, 1, 11, 11, 2, 20031009, 1030, 22.1990, -52.3653, 4856,  2751.40,   2751.4,   2.8906,  34.9453, 2,  34.9455, 2,    250.8, 2,    252.0, 2,    30.28, 2,    20.15, 2,     0.00, 2,     1.36, 2,    0.026, 6,    0.014, 6,    0.004, 6,    0.219, 6,   -999.0, 9,   -999.0, 9,  -999.00, 9,  -999.00, 9, -999.000, 9, -999.000, -999.0000, 9, -999.0000,  -999.00, 9,  -999.00, -999.000, 9, -999.000,   -999.0, 9,   -999.0,  -999.00, 9, -999.0000, 9, -999.0000, 9, -999.0000, 9, -999.0000, 9, -999.0000, 9, -999.0000, 9, -999, 9, -999, 9, -999, 9, -999, 9, -999, 9, -999, 9, -999, 9,  -999.00, 9,  -999.00, 9,  -999.00, 9,  -999.00, 9,   2.6677,  -999.00, 9, 1123,   22.2078,  -52.3673