BOTTLE,20220816CCHSIOAMB
EXPOCODE,SECT_ID,STNNBR,CASTNO,SAMPNO,BTLNBR,BTLNBR_FLAG_W,DATE,TIME,LATITUDE,LONGITUDE,DEPTH,CTDRAW,CTDPRS,CTDTMP,CTDSAL,CTDSAL_FLAG_W,SALNTY,SALNTY_FLAG_W,CTDOXY,CTDOXY_FLAG_W,OXYGEN,OXYGEN_FLAG_W,SILCAT,SILCAT_FLAG_W,NITRAT,NITRAT_FLAG_W,NITRIT,NITRIT_FLAG_W,PHSPHT,PHSPHT_FLAG_W,CFC-11,CFC-11_FLAG_W,CFC-12,CFC-12_FLAG_W,CFC113,CFC113_FLAG_W,CCL4,CCL4_FLAG_W,TCARBN,TCARBN_FLAG_W,ALKALI,ALKALI_FLAG_W,DOC,DOC_FLAG_W,TDN,TDN_FLAG_W,TRITUM,TRITUM_FLAG_W,TRITER,HELIUM,HELIUM_FLAG_W,HELIER,DELHE3,DELHE3_FLAG_W,DELHER,NEON,NEON_FLAG_W,NEONER,DELC14,DELC14_FLAG_W,C14ERR,DELC13,DELC13_FLAG_W,CDOM325,CDOM325_FLAG_W,CDOM340,CDOM340_FLAG_W,CDOM380,CDOM380_FLAG_W,CDOM412,CDOM412_FLAG_W,CDOMSL,CDOMSL_FLAG_W,CDOMSN,CDOMSN_FLAG_W,DCNS,DCNS_FLAG_W,ARABI,ARABI_FLAG_W,FUCO,FUCO_FLAG_W,GALA,GALA_FLAG_W,GLUC,GLUC_FLAG_W,MAN,MAN_FLAG_W,RHAM,RHAM_FLAG_W,BRDU,BRDU_FLAG_W,PEUK,PEUK_FLAG_W,PROC,PROC_FLAG_W,SYN,SYN_FLAG_W,THETA,BACT,BACT_FLAG_W,BTL_TIME,BTL_LAT,BTL_LON
,,,,,,,,,,,METERS,DBAR,DBAR,ITS-90,PSS-78,,PSS-78,,UMOL/KG,,UMOL/KG,,UMOL/KG,,UMOL/KG,,UMOL/KG,,UMOL/KG,,PMOL/KG,,PMOL/KG,,PMOL/KG,,PMOL/KG,,UMOL/KG,,UMOL/KG,,UMOL/KG,,UMOL/KG,,TU,,TU,NMOL/KG,,NMOL/KG,PERCNT,,PERCNT,NMOL/KG,,NMOL/KG,/MILLE,,/MILLE,/MILLE,,1/M,,1/M,,1/M,,1/M,,1/NM,,1/NM,,NMOL/KG,,NMOL/KG,,NMOL/KG,,NMOL/KG,,NMOL/KG,,NMOL/KG,,NMOL/KG,,PMOL/L/H,,E6/L,,E7/L,,E6/L,,DEG C,E8/L,,,,
316N200309, A20, 61, 1, 36, 36, 2, 20031014, 2226, 10.1630, -52.3267, 4920,     2.60,      2.6,  29.4021,  35.4341, 2,  35.4328, 2,    208.1, 2,    195.6, 2,     2.26, 2,     0.06, 2,     0.00, 2,     0.02, 2,    1.526, 6,    0.947, 6,    0.098, 2,    1.573, 2,   1966.9, 2,   2326.7, 2,  -999.00, 9,  -999.00, 9, -999.000, 9, -999.000, -999.0000, 9, -999.0000,  -999.00, 9,  -999.00, -999.000, 9, -999.000,   -999.0, 9,   -999.0,  -999.00, 9,    0.0940, 2,    0.0640, 2,    0.0270, 2,    0.0180, 2,    0.0230, 2,    0.0240, 2, -999, 9, -999, 9, -999, 9, -999, 9, -999, 9, -999, 9, -999, 9,  -999.00, 9,  -999.00, 9,  -999.00, 9,  -999.00, 9,  29.4015,  -999.00, 9,   24,   10.1805,  -52.3270
316N200309, A20, 61, 1, 35, 35, 2, 20031014, 2226, 10.1630, -52.3267, 4920,    25.90,     25.9,  29.4884,  36.3927, 2,  36.3598, 2,    184.2, 2,    201.7, 2,     0.50, 2,     0.06, 2,     0.00, 2,     0.02, 2,    1.571, 2,    0.985, 2,    0.103, 2,    1.487, 2,   2007.5, 2,   2379.0, 2,  -999.00, 9,  -999.00, 9, -999.000, 9, -999.000, -999.0000, 9, -999.0000,  -999.00, 9,  -999.00, -999.000, 9, -999.000,   -999.0, 9,   -999.0,  -999.00, 9,    0.0850, 2,    0.0570, 2,    0.0230, 2,    0.0170, 2,    0.0250, 2,    0.0260, 2, -999, 9, -999, 9, -999, 9, -999, 9, -999, 9, -999, 9, -999, 9,  -999.00, 9,  -999.00, 9,  -999.00, 9,  -999.00, 9,  29.4820,  -999.00, 9,   22,   10.1802,  -52.3270
316N200309, A20, 61, 1, 34, 34, 2, 20031014, 2226, 10.1630, -52.3267, 4920,    50.70,     50.7,  27.2884,  36.5973, 2,  36.5949, 2,    201.5, 2,    211.9, 2,     0.49, 2,     0.06, 2,     0.00, 2,     0.02, 2,    1.687, 2,    1.076, 2,    0.103, 2,    1.294, 2,   2027.2, 2,   -999.0, 1,  -999.00, 9,  -999.00, 9, -999.000, 9, -999.000, -999.0000, 9, -999.0000,  -999.00, 9,  -999.00, -999.000, 9, -999.000,   -999.0, 9,   -999.0,  -999.00, 9,    0.1240, 2,    0.0840, 2,    0.0360, 2,    0.0250, 2,    0.0220, 2,    0.0230, 2, -999, 9, -999, 9, -999, 9, -999, 9, -999, 9, -999, 9, -999, 9,  -999.00, 9,  -999.00, 9,  -999.00, 9,  -999.00, 9,  27.2766,  -999.00, 9,   20,   10.1797,  -52.3269
316N200309, A20, 61, 1, 33, 33, 2, 20031014, 2226, 10.1630, -52.3267, 4920,    76.00,     76.0,  25.3177,  37.0150, 2,  37.0078, 2,    190.2, 2,    195.2, 2,     0.39, 2,     0.07, 2,     0.04, 2,     0.02, 2,    1.809, 2,    1.113, 2,    0.132, 2,    0.856, 2,   -999.0, 9,   -999.0, 9,  -999.00, 9,  -999.00, 9, -999.000, 9, -999.000, -999.0000, 9, -999.0000,  -999.00, 9,  -999.00, -999.000, 9, -999.000,   -999.0, 9,   -999.0,  -999.00, 9,    0.1760, 2,    0.1270, 2,    0.0640, 2,    0.0470, 2,    0.0140, 2,    0.0160, 2, -999, 9, -999, 9, -999, 9, -999, 9, -999, 9, -999, 9, -999, 9,  -999.00, 9,  -999.00, 9,  -999.00, 9,  -999.00, 9,  25.3009,  -999.00, 9,   19,   10.1793,  -52.3268
316N200309, A20, 61, 1, 32, 32, 2, 20031014, 2226, 10.1630, -52.3267, 4920,   100.40,    100.4,  20.7000,  36.5046, 2,  36.5040, 2,    146.7, 2,    148.5, 2,     2.57, 2,     7.34, 2,     0.04, 2,     0.48, 2,    1.948, 2,    1.160, 2,    0.067, 2,    0.592, 2,   2137.1, 2,   2386.0, 2,  -999.00, 9,  -999.00, 9, -999.000, 9, -999.000, -999.0000, 9, -999.0000,  -999.00, 9,  -999.00, -999.000, 9, -999.000,   -999.0, 9,   -999.0,  -999.00, 9,    0.1520, 2,    0.1120, 2,    0.0570, 2,    0.0460, 2,    0.0130, 2,    0.0150, 2, -999, 9, -999, 9, -999, 9, -999, 9, -999, 9, -999, 9, -999, 9,  -999.00, 9,  -999.00, 9,  -999.00, 9,  -999.00, 9,  20.6809,  -999.00, 9,   17,   10.1789,  -52.3268
316N200309, A20, 61, 1, 31, 31, 2, 20031014, 2226, 10.1630, -52.3267, 4920,   125.20,    125.2,  17.3433,  36.1701, 2,  36.1747, 2,    127.0, 2,    123.5, 2,     4.22, 2,    14.36, 2,     0.02, 2,     0.86, 2,    1.921, 2,    1.076, 2,    0.110, 4,    0.388, 2,   -999.0, 9,   -999.0, 9,  -999.00, 9,  -999.00, 9, -999.000, 9, -999.000, -999.0000, 9, -999.0000,  -999.00, 9,  -999.00, -999.000, 9, -999.000,   -999.0, 9,   -999.0,  -999.00, 9,    0.1520, 2,    0.1110, 2,    0.0580, 2,    0.0460, 2,    0.0130, 2,    0.0150, 2, -999, 9, -999, 9, -999, 9, -999, 9, -999, 9, -999, 9, -999, 9,  -999.00, 9,  -999.00, 9,  -999.00, 9,  -999.00, 9,  17.3222,  -999.00, 9,   15,   10.1784,  -52.3267
316N200309, A20, 61, 1, 30, 30, 2, 20031014, 2226, 10.1630, -52.3267, 4920,   174.90,    174.9,  13.0435,  35.4978, 2,  35.5048, 2,    101.6, 2,     98.1, 2,     8.48, 2,    23.47, 2,     0.01, 2,     1.45, 2,    1.497, 2,    0.829, 2,    0.001, 2,    0.321, 2,   2197.7, 2,   2327.9, 2,  -999.00, 9,  -999.00, 9, -999.000, 9, -999.000, -999.0000, 9, -999.0000,  -999.00, 9,  -999.00, -999.000, 9, -999.000,   -999.0, 9,   -999.0,  -999.00, 9,    0.1650, 2,    0.1220, 2,    0.0670, 2,    0.0540, 2,    0.0120, 2,    0.0140, 2, -999, 9, -999, 9, -999, 9, -999, 9, -999, 9, -999, 9, -999, 9,  -999.00, 9,  -999.00, 9,  -999.00, 9,  -999.00, 9,  13.0193,  -999.00, 9,   13,   10.1780,  -52.3266
316N200309, A20, 61, 1, 29, 29, 2, 20031014, 2226, 10.1630, -52.3267, 4920,   225.10,    225.1,  11.1641,  35.1926, 2,  35.1898, 2,     99.4, 2,     98.2, 2,    10.96, 2,    26.58, 2,     0.01, 2,     1.67, 2,    1.249, 2,    0.660, 2,    0.006, 2,    0.356, 2,   -999.0, 9,   -999.0, 9,  -999.00, 9,  -999.00, 9, -999.000, 9, -999.000, -999.0000, 9, -999.0000,  -999.00, 9,  -999.00, -999.000, 9, -999.000,   -999.0, 9,   -999.0,  -999.00, 9,    0.1500, 2,    0.1090, 2,    0.0610, 2,    0.0480, 2,    0.0120, 2,    0.0140, 2, -999, 9, -999, 9, -999, 9, -999, 9, -999, 9, -999, 9, -999, 9,  -999.00, 9,  -999.00, 9,  -999.00, 9,  -999.00, 9,  11.1360,  -999.00, 9,   12,   10.1776,  -52.3266
316N200309, A20, 61, 1, 28, 28, 2, 20031014, 2226, 10.1630, -52.3267, 4920,   250.40,    250.4,  10.7180,  35.1242, 2,  35.1240, 2,     98.0, 2,     98.0, 2,    11.68, 2,    27.42, 2,     0.01, 2,     1.73, 2,    1.149, 2,    0.606, 2,   -0.003, 2,    0.344, 2,   2206.6, 2,   2309.9, 2,  -999.00, 9,  -999.00, 9, -999.000, 9, -999.000, -999.0000, 9, -999.0000,  -999.00, 9,  -999.00, -999.000, 9, -999.000,   -999.0, 9,   -999.0,  -999.00, 9,    0.1500, 2,    0.1080, 2,    0.0590, 2,    0.0470, 2,    0.0130, 2,    0.0140, 2, -999, 9, -999, 9, -999, 9, -999, 9, -999, 9, -999, 9, -999, 9,  -999.00, 9,  -999.00, 9,  -999.00, 9,  -999.00, 9,  10.6875,  -999.00, 9,   10,   10.1774,  -52.3267
316N200309, A20, 61, 1, 27, 27, 2, 20031014, 2226, 10.1630, -52.3267, 4920,   299.60,    299.6,   9.9833,  35.0109, 2,  35.0161, 2,     95.5, 2,    114.1, 2,    12.72, 2,    27.23, 2,     0.01, 2,     1.75, 2,    1.159, 2,    0.611, 2,    0.004, 2,    0.418, 2,   -999.0, 9,   -999.0, 9,  -999.00, 9,  -999.00, 9, -999.000, 9, -999.000, -999.0000, 9, -999.0000,  -999.00, 9,  -999.00, -999.000, 9, -999.000,   -999.0, 9,   -999.0,  -999.00, 9,    0.1560, 2,    0.1140, 2,    0.0650, 2,    0.0520, 2,    0.0120, 2,    0.0130, 2, -999, 9, -999, 9, -999, 9, -999, 9, -999, 9, -999, 9, -999, 9,  -999.00, 9,  -999.00, 9,  -999.00, 9,  -999.00, 9,   9.9484,  -999.00, 9,    9,   10.1771,  -52.3268
316N200309, A20, 61, 1, 26, 26, 2, 20031014, 2226, 10.1630, -52.3267, 4920,   401.20,    401.2,   8.8399,  34.8897, 2,  34.8898, 2,    115.2, 2,    112.2, 2,    15.53, 2,    29.94, 2,     0.00, 2,     1.92, 2,    0.803, 2,    0.422, 2,    0.004, 2,    0.341, 2,   -999.0, 9,   -999.0, 9,  -999.00, 9,  -999.00, 9, -999.000, 9, -999.000, -999.0000, 9, -999.0000,  -999.00, 9,  -999.00, -999.000, 9, -999.000,   -999.0, 9,   -999.0,  -999.00, 9,    0.1690, 2,    0.1260, 2,    0.0720, 2,    0.0560, 2,    0.0120, 2,    0.0130, 2, -999, 9, -999, 9, -999, 9, -999, 9, -999, 9, -999, 9, -999, 9,  -999.00, 9,  -999.00, 9,  -999.00, 9,  -999.00, 9,   8.7963,  -999.00, 9,    6,   10.1767,  -52.3270
316N200309, A20, 61, 1, 25, 25, 2, 20031014, 2226, 10.1630, -52.3267, 4920,   550.60,    550.6,   7.7485,  34.8193, 2,  34.8184, 2,     97.1, 2,    102.6, 2,    19.15, 2,    33.08, 2,     0.00, 2,     2.12, 2,    0.339, 2,    0.180, 2,    0.009, 2,    0.254, 2,   -999.0, 9,   -999.0, 9,  -999.00, 9,  -999.00, 9, -999.000, 9, -999.000, -999.0000, 9, -999.0000,  -999.00, 9,  -999.00, -999.000, 9, -999.000,   -999.0, 9,   -999.0,  -999.00, 9, -999.0000, 9, -999.0000, 9, -999.0000, 9, -999.0000, 9, -999.0000, 9, -999.0000, 9, -999, 9, -999, 9, -999, 9, -999, 9, -999, 9, -999, 9, -999, 9,  -999.00, 9,  -999.00, 9,  -999.00, 9,  -999.00, 9,   7.6927,  -999.00, 9,    3,   10.1763,  -52.3273
316N200309, A20, 61, 1, 24, 24, 2, 20031014, 2226, 10.1630, -52.3267, 4920,   675.60,    675.6,   6.5407,  34.7117, 2,  34.7085, 2,    116.9, 2,    113.8, 2,    23.09, 2,    34.21, 2,     0.00, 2,     2.24, 2,    0.171, 2,    0.100, 2,    0.000, 2,    0.241, 2,   2224.8, 2,   2300.4, 2,  -999.00, 9,  -999.00, 9, -999.000, 9, -999.000, -999.0000, 9, -999.0000,  -999.00, 9,  -999.00, -999.000, 9, -999.000,   -999.0, 9,   -999.0,  -999.00, 9, -999.0000, 9, -999.0000, 9, -999.0000, 9, -999.0000, 9, -999.0000, 9, -999.0000, 9, -999, 9, -999, 9, -999, 9, -999, 9, -999, 9, -999, 9, -999, 9,  -999.00, 9,  -999.00, 9,  -999.00, 9,  -999.00, 9,   6.4778,  -999.00, 9, 2400,   10.1759,  -52.3275
316N200309, A20, 61, 1, 23, 23, 2, 20031014, 2226, 10.1630, -52.3267, 4920,   824.60,    824.6,   5.5187,  34.6794, 2,  34.6814, 2,    132.9, 2,    130.5, 2,    26.92, 2,    33.88, 2,     0.00, 2,     2.26, 2,    0.048, 2,    0.029, 2,    0.000, 2,    0.123, 2,   -999.0, 9,   -999.0, 9,  -999.00, 9,  -999.00, 9, -999.000, 9, -999.000, -999.0000, 9, -999.0000,  -999.00, 9,  -999.00, -999.000, 9, -999.000,   -999.0, 9,   -999.0,  -999.00, 9, -999.0000, 9, -999.0000, 9, -999.0000, 9, -999.0000, 9, -999.0000, 9, -999.0000, 9, -999, 9, -999, 9, -999, 9, -999, 9, -999, 9, -999, 9, -999, 9,  -999.00, 9,  -999.00, 9,  -999.00, 9,  -999.00, 9,   5.4476,  -999.00, 9, 2356,   10.1754,  -52.3276
316N200309, A20, 61, 1, 22, 22, 2, 20031014, 2226, 10.1630, -52.3267, 4920,   975.30,    975.3,   5.0144,  34.7114, 2,  34.7107, 2,    151.8, 2,    147.8, 2,    27.55, 2,    32.04, 2,     0.00, 2,     2.16, 2,    0.041, 2,    0.020, 2,   -0.004, 2,    0.107, 2,   2215.3, 2,   2305.8, 2,  -999.00, 9,  -999.00, 9, -999.000, 9, -999.000, -999.0000, 9, -999.0000,  -999.00, 9,  -999.00, -999.000, 9, -999.000,   -999.0, 9,   -999.0,  -999.00, 9, -999.0000, 9, -999.0000, 9, -999.0000, 9, -999.0000, 9, -999.0000, 9, -999.0000, 9, -999, 9, -999, 9, -999, 9, -999, 9, -999, 9, -999, 9, -999, 9,  -999.00, 9,  -999.00, 9,  -999.00, 9,  -999.00, 9,   4.9329,  -999.00, 9, 2353,   10.1750,  -52.3278
316N200309, A20, 61, 1, 21, 21, 2, 20031014, 2226, 10.1630, -52.3267, 4920,  1124.90,   1124.9,   5.2018,  34.8976, 2,  34.8945, 2,    179.9, 2,    177.4, 2,    22.25, 2,    26.99, 2,     0.00, 2,     1.80, 2,    0.156, 2,    0.098, 2,    0.000, 2,    0.285, 2,   -999.0, 9,   -999.0, 9,  -999.00, 9,  -999.00, 9, -999.000, 9, -999.000, -999.0000, 9, -999.0000,  -999.00, 9,  -999.00, -999.000, 9, -999.000,   -999.0, 9,   -999.0,  -999.00, 9, -999.0000, 9, -999.0000, 9, -999.0000, 9, -999.0000, 9, -999.0000, 9, -999.0000, 9, -999, 9, -999, 9, -999, 9, -999, 9, -999, 9, -999, 9, -999, 9,  -999.00, 9,  -999.00, 9,  -999.00, 9,  -999.00, 9,   5.1047,  -999.00, 9, 2350,   10.1746,  -52.3280
316N200309, A20, 61, 1, 20, 20, 2, 20031014, 2226, 10.1630, -52.3267, 4920,  1275.30,   1275.3,   5.0300,  34.9856, 2,  34.9848, 2,    207.4, 2,    207.3, 2,    18.00, 2,    22.81, 2,     0.00, 2,     1.51, 2,    0.380, 2,    0.197, 2,    0.004, 2,    0.608, 2,   -999.0, 9,   -999.0, 9,  -999.00, 9,  -999.00, 9, -999.000, 9, -999.000, -999.0000, 9, -999.0000,  -999.00, 9,  -999.00, -999.000, 9, -999.000,   -999.0, 9,   -999.0,  -999.00, 9, -999.0000, 9, -999.0000, 9, -999.0000, 9, -999.0000, 9, -999.0000, 9, -999.0000, 9, -999, 9, -999, 9, -999, 9, -999, 9, -999, 9, -999, 9, -999, 9,  -999.00, 9,  -999.00, 9,  -999.00, 9,  -999.00, 9,   4.9200,  -999.00, 9, 2346,   10.1742,  -52.3282
316N200309, A20, 61, 1, 19, 19, 2, 20031014, 2226, 10.1630, -52.3267, 4920,  1400.30,   1400.3,   4.8251,  35.0091, 2,  35.0094, 2,    224.3, 2,    224.2, 2,    16.02, 2,    20.92, 2,     0.00, 2,     1.38, 2,    0.577, 2,    0.292, 2,    0.004, 2,    0.912, 2,   -999.0, 9,   -999.0, 9,  -999.00, 9,  -999.00, 9, -999.000, 9, -999.000, -999.0000, 9, -999.0000,  -999.00, 9,  -999.00, -999.000, 9, -999.000,   -999.0, 9,   -999.0,  -999.00, 9, -999.0000, 9, -999.0000, 9, -999.0000, 9, -999.0000, 9, -999.0000, 9, -999.0000, 9, -999, 9, -999, 9, -999, 9, -999, 9, -999, 9, -999, 9, -999, 9,  -999.00, 9,  -999.00, 9,  -999.00, 9,  -999.00, 9,   4.7051,  -999.00, 9, 2343,   10.1738,  -52.3284
316N200309, A20, 61, 1, 18, 18, 2, 20031014, 2226, 10.1630, -52.3267, 4920,  1500.90,   1500.9,   4.6939,  35.0101, 2,  35.0108, 2,    230.9, 2,    230.1, 2,    15.51, 2,    20.32, 2,     0.00, 2,     1.34, 2,    0.630, 2,    0.335, 2,    0.010, 2,    0.991, 2,   -999.0, 9,   -999.0, 9,  -999.00, 9,  -999.00, 9, -999.000, 9, -999.000, -999.0000, 9, -999.0000,  -999.00, 9,  -999.00, -999.000, 9, -999.000,   -999.0, 9,   -999.0,  -999.00, 9, -999.0000, 9, -999.0000, 9, -999.0000, 9, -999.0000, 9, -999.0000, 9, -999.0000, 9, -999, 9, -999, 9, -999, 9, -999, 9, -999, 9, -999, 9, -999, 9,  -999.00, 9,  -999.00, 9,  -999.00, 9,  -999.00, 9,   4.5658,  -999.00, 9, 2341,   10.1734,  -52.3286
316N200309, A20, 61, 1, 17, 17, 2, 20031014, 2226, 10.1630, -52.3267, 4920,  1625.50,   1625.5,   4.4900,  35.0075, 2,  35.0069, 2,    239.1, 2,    240.3, 2,    14.77, 2,    19.54, 2,     0.00, 2,     1.28, 2,    0.752, 2,    0.383, 2,    0.022, 2,    1.186, 2,   -999.0, 9,   -999.0, 9,  -999.00, 9,  -999.00, 9, -999.000, 9, -999.000, -999.0000, 9, -999.0000,  -999.00, 9,  -999.00, -999.000, 9, -999.000,   -999.0, 9,   -999.0,  -999.00, 9, -999.0000, 9, -999.0000, 9, -999.0000, 9, -999.0000, 9, -999.0000, 9, -999.0000, 9, -999, 9, -999, 9, -999, 9, -999, 9, -999, 9, -999, 9, -999, 9,  -999.00, 9,  -999.00, 9,  -999.00, 9,  -999.00, 9,   4.3522,  -999.00, 9, 2338,   10.1729,  -52.3287
316N200309, A20, 61, 1, 16, 16, 2, 20031014, 2226, 10.1630, -52.3267, 4920,  1776.20,   1776.2,   4.1782,  34.9952, 2,  34.9965, 2,    249.7, 2,    251.3, 2,    13.84, 2,    18.71, 2,     0.00, 2,     1.23, 2,    0.864, 2,    0.451, 2,    0.018, 2,    1.375, 2,   -999.0, 9,   -999.0, 9,  -999.00, 9,  -999.00, 9, -999.000, 9, -999.000, -999.0000, 9, -999.0000,  -999.00, 9,  -999.00, -999.000, 9, -999.000,   -999.0, 9,   -999.0,  -999.00, 9, -999.0000, 9, -999.0000, 9, -999.0000, 9, -999.0000, 9, -999.0000, 9, -999.0000, 9, -999, 9, -999, 9, -999, 9, -999, 9, -999, 9, -999, 9, -999, 9,  -999.00, 9,  -999.00, 9,  -999.00, 9,  -999.00, 9,   4.0298,  -999.00, 9, 2334,   10.1725,  -52.3288
316N200309, A20, 61, 1, 15, 15, 2, 20031014, 2226, 10.1630, -52.3267, 4920,  1922.40,   1922.4,   3.9498,  34.9858, 2,  34.9856, 2,    254.5, 2,    256.5, 2,    14.05, 2,    18.43, 2,     0.00, 2,     1.21, 2,    0.521, 2,    0.383, 2,    0.018, 2,    1.309, 2,   -999.0, 9,   -999.0, 9,  -999.00, 9,  -999.00, 9, -999.000, 9, -999.000, -999.0000, 9, -999.0000,  -999.00, 9,  -999.00, -999.000, 9, -999.000,   -999.0, 9,   -999.0,  -999.00, 9, -999.0000, 9, -999.0000, 9, -999.0000, 9, -999.0000, 9, -999.0000, 9, -999.0000, 9, -999, 9, -999, 9, -999, 9, -999, 9, -999, 9, -999, 9, -999, 9,  -999.00, 9,  -999.00, 9,  -999.00, 9,  -999.00, 9,   3.7905,  -999.00, 9, 2331,   10.1722,  -52.3290
316N200309, A20, 61, 1, 14, 14, 2, 20031014, 2226, 10.1630, -52.3267, 4920,  2125.50,   2125.5,   3.5718,  34.9733, 2,  34.9752, 2,    257.5, 2,    259.9, 2,    16.22, 2,    18.34, 2,     0.00, 2,     1.21, 2,    0.374, 2,    0.264, 2,    0.016, 2,    1.013, 2,   -999.0, 9,   -999.0, 9,  -999.00, 9,  -999.00, 9, -999.000, 9, -999.000, -999.0000, 9, -999.0000,  -999.00, 9,  -999.00, -999.000, 9, -999.000,   -999.0, 9,   -999.0,  -999.00, 9, -999.0000, 9, -999.0000, 9, -999.0000, 9, -999.0000, 9, -999.0000, 9, -999.0000, 9, -999, 9, -999, 9, -999, 9, -999, 9, -999, 9, -999, 9, -999, 9,  -999.00, 9,  -999.00, 9,  -999.00, 9,  -999.00, 9,   3.3985,  -999.00, 9, 2327,   10.1715,  -52.3293
316N200309, A20, 61, 1, 13, 13, 2, 20031014, 2226, 10.1630, -52.3267, 4920,  2375.20,   2375.2,   3.2578,  34.9599, 2,  34.9601, 2,    258.2, 2,    260.4, 2,    19.02, 2,    18.48, 2,     0.00, 2,     1.22, 2,    0.287, 2,    0.195, 2,    0.000, 2,    0.797, 2,   -999.0, 9,   -999.0, 9,  -999.00, 9,  -999.00, 9, -999.000, 9, -999.000, -999.0000, 9, -999.0000,  -999.00, 9,  -999.00, -999.000, 9, -999.000,   -999.0, 9,   -999.0,  -999.00, 9, -999.0000, 9, -999.0000, 9, -999.0000, 9, -999.0000, 9, -999.0000, 9, -999.0000, 9, -999, 9, -999, 9, -999, 9, -999, 9, -999, 9, -999, 9, -999, 9,  -999.00, 9,  -999.00, 9,  -999.00, 9,  -999.00, 9,   3.0654,  -999.00, 9, 2322,   10.1706,  -52.3294
316N200309, A20, 61, 1, 12, 12, 2, 20031014, 2226, 10.1630, -52.3267, 4920,  2625.00,   2625.0,   3.0781,  34.9503, 2,  34.9506, 2,    258.4, 2,    256.8, 2,    21.30, 2,    18.65, 2,     0.00, 2,     1.24, 2,    0.266, 2,    0.143, 2,    0.005, 2,    0.667, 2,   -999.0, 9,   -999.0, 9,  -999.00, 9,  -999.00, 9, -999.000, 9, -999.000, -999.0000, 9, -999.0000,  -999.00, 9,  -999.00, -999.000, 9, -999.000,   -999.0, 9,   -999.0,  -999.00, 9, -999.0000, 9, -999.0000, 9, -999.0000, 9, -999.0000, 9, -999.0000, 9, -999.0000, 9, -999, 9, -999, 9, -999, 9, -999, 9, -999, 9, -999, 9, -999, 9,  -999.00, 9,  -999.00, 9,  -999.00, 9,  -999.00, 9,   2.8643,  -999.00, 9, 2317,   10.1697,  -52.3295
316N200309, A20, 61, 1, 11, 11, 2, 20031014, 2226, 10.1630, -52.3267, 4920,  2874.90,   2874.9,   2.8771,  34.9379, 2,  34.9390, 2,    258.2, 2,    260.3, 2,    24.00, 2,    18.88, 2,     0.00, 2,     1.27, 2,    0.228, 2,    0.142, 2,    0.006, 2,    0.592, 2,   -999.0, 9,   -999.0, 9,  -999.00, 9,  -999.00, 9, -999.000, 9, -999.000, -999.0000, 9, -999.0000,  -999.00, 9,  -999.00, -999.000, 9, -999.000,   -999.0, 9,   -999.0,  -999.00, 9, -999.0000, 9, -999.0000, 9, -999.0000, 9, -999.0000, 9, -999.0000, 9, -999.0000, 9, -999, 9, -999, 9, -999, 9, -999, 9, -999, 9, -999, 9, -999, 9,  -999.00, 9,  -999.00, 9,  -999.00, 9,  -999.00, 9,   2.6419,  -999.00, 9, 2312,   10.1687,  -52.3291