BOTTLE,20220816CCHSIOAMB
EXPOCODE,SECT_ID,STNNBR,CASTNO,SAMPNO,BTLNBR,BTLNBR_FLAG_W,DATE,TIME,LATITUDE,LONGITUDE,DEPTH,CTDRAW,CTDPRS,CTDTMP,CTDSAL,CTDSAL_FLAG_W,SALNTY,SALNTY_FLAG_W,CTDOXY,CTDOXY_FLAG_W,OXYGEN,OXYGEN_FLAG_W,SILCAT,SILCAT_FLAG_W,NITRAT,NITRAT_FLAG_W,NITRIT,NITRIT_FLAG_W,PHSPHT,PHSPHT_FLAG_W,CFC-11,CFC-11_FLAG_W,CFC-12,CFC-12_FLAG_W,CFC113,CFC113_FLAG_W,CCL4,CCL4_FLAG_W,TCARBN,TCARBN_FLAG_W,ALKALI,ALKALI_FLAG_W,DOC,DOC_FLAG_W,TDN,TDN_FLAG_W,TRITUM,TRITUM_FLAG_W,TRITER,HELIUM,HELIUM_FLAG_W,HELIER,DELHE3,DELHE3_FLAG_W,DELHER,NEON,NEON_FLAG_W,NEONER,DELC14,DELC14_FLAG_W,C14ERR,DELC13,DELC13_FLAG_W,CDOM325,CDOM325_FLAG_W,CDOM340,CDOM340_FLAG_W,CDOM380,CDOM380_FLAG_W,CDOM412,CDOM412_FLAG_W,CDOMSL,CDOMSL_FLAG_W,CDOMSN,CDOMSN_FLAG_W,DCNS,DCNS_FLAG_W,ARABI,ARABI_FLAG_W,FUCO,FUCO_FLAG_W,GALA,GALA_FLAG_W,GLUC,GLUC_FLAG_W,MAN,MAN_FLAG_W,RHAM,RHAM_FLAG_W,BRDU,BRDU_FLAG_W,PEUK,PEUK_FLAG_W,PROC,PROC_FLAG_W,SYN,SYN_FLAG_W,THETA,BACT,BACT_FLAG_W,BTL_TIME,BTL_LAT,BTL_LON
,,,,,,,,,,,METERS,DBAR,DBAR,ITS-90,PSS-78,,PSS-78,,UMOL/KG,,UMOL/KG,,UMOL/KG,,UMOL/KG,,UMOL/KG,,UMOL/KG,,PMOL/KG,,PMOL/KG,,PMOL/KG,,PMOL/KG,,UMOL/KG,,UMOL/KG,,UMOL/KG,,UMOL/KG,,TU,,TU,NMOL/KG,,NMOL/KG,PERCNT,,PERCNT,NMOL/KG,,NMOL/KG,/MILLE,,/MILLE,/MILLE,,1/M,,1/M,,1/M,,1/M,,1/NM,,1/NM,,NMOL/KG,,NMOL/KG,,NMOL/KG,,NMOL/KG,,NMOL/KG,,NMOL/KG,,NMOL/KG,,PMOL/L/H,,E6/L,,E7/L,,E6/L,,DEG C,E8/L,,,,
316N200309, A20, 64, 1, 9, 9, 2, 20031015, 1410, 9.3990, -52.3665, 4814,  3299.80,   3299.8,   2.6148,  34.9189, 2,  34.9183, 2,    256.6, 2,    256.8, 2,    30.57, 2,    19.73, 2,     0.00, 2,     1.32, 2, -999.000, 1, -999.000, 1, -999.000, 1, -999.000, 9,   2172.7, 2,   2326.2, 2,    41.90, 2,  -999.00, 9, -999.000, 9, -999.000, -999.0000, 9, -999.0000,  -999.00, 9,  -999.00, -999.000, 9, -999.000,   -999.0, 9,   -999.0,  -999.00, 9,    0.1210, 2,    0.0850, 2,    0.0420, 2,    0.0330, 2,    0.0150, 2,    0.0170, 2, -999, 9, -999, 9, -999, 9, -999, 9, -999, 9, -999, 9, -999, 9,  -999.00, 9,  -999.00, 9,  -999.00, 9,  -999.00, 9,   2.3411,  -999.00, 9, 1446,    9.4041,  -52.3665
316N200309, A20, 64, 1, 8, 8, 2, 20031015, 1410, 9.3990, -52.3665, 4814,  3500.10,   3500.1,   2.5238,  34.9127, 2,  34.9130, 2,    260.7, 2,    260.7, 2,    29.29, 2,    19.23, 2,     0.00, 2,     1.29, 2,    0.270, 2,    0.135, 2,    0.020, 2, -999.000, 9,   2170.2, 2,   2325.5, 2,  -999.00, 9,  -999.00, 9, -999.000, 9, -999.000, -999.0000, 9, -999.0000,  -999.00, 9,  -999.00, -999.000, 9, -999.000,   -999.0, 9,   -999.0,  -999.00, 9, -999.0000, 9, -999.0000, 9, -999.0000, 9, -999.0000, 9, -999.0000, 9, -999.0000, 9, -999, 9, -999, 9, -999, 9, -999, 9, -999, 9, -999, 9, -999, 9,  -999.00, 9,  -999.00, 9,  -999.00, 9,  -999.00, 9,   2.2307,  -999.00, 9, 1441,    9.4035,  -52.3666
316N200309, A20, 64, 1, 7, 7, 2, 20031015, 1410, 9.3990, -52.3665, 4814,  3700.60,   3700.6,   2.4288,  34.9061, 2,  34.9042, 2,    262.4, 2,    262.3, 2,    29.48, 2,    19.05, 2,     0.00, 2,     1.28, 2,    0.295, 2,    0.150, 2,    0.016, 2, -999.000, 9,   2170.8, 2,   2323.7, 2,  -999.00, 9,  -999.00, 9, -999.000, 9, -999.000, -999.0000, 9, -999.0000,  -999.00, 9,  -999.00, -999.000, 9, -999.000,   -999.0, 9,   -999.0,  -999.00, 9, -999.0000, 9, -999.0000, 9, -999.0000, 9, -999.0000, 9, -999.0000, 9, -999.0000, 9, -999, 9, -999, 9, -999, 9, -999, 9, -999, 9, -999, 9, -999, 9,  -999.00, 9,  -999.00, 9,  -999.00, 9,  -999.00, 9,   2.1163,  -999.00, 9, 1437,    9.4028,  -52.3667
316N200309, A20, 64, 1, 6, 6, 2, 20031015, 1410, 9.3990, -52.3665, 4814,  3899.60,   3899.6,   2.3653,  34.9010, 2,  34.8983, 2,    263.0, 2,    263.3, 2,    30.28, 2,    19.10, 2,     0.00, 2,     1.28, 2,    0.288, 2,    0.158, 2,    0.020, 2, -999.000, 9,   2171.3, 2,   2323.1, 2,  -999.00, 9,  -999.00, 9, -999.000, 9, -999.000, -999.0000, 9, -999.0000,  -999.00, 9,  -999.00, -999.000, 9, -999.000,   -999.0, 9,   -999.0,  -999.00, 9, -999.0000, 9, -999.0000, 9, -999.0000, 9, -999.0000, 9, -999.0000, 9, -999.0000, 9, -999, 9, -999, 9, -999, 9, -999, 9, -999, 9, -999, 9, -999, 9,  -999.00, 9,  -999.00, 9,  -999.00, 9,  -999.00, 9,   2.0322,  -999.00, 9, 1433,    9.4022,  -52.3667
316N200309, A20, 64, 1, 5, 5, 2, 20031015, 1410, 9.3990, -52.3665, 4814,  4125.10,   4125.1,   2.3123,  34.8959, 2,  34.8947, 2,    262.7, 2,    263.1, 2,    31.51, 2,    19.14, 2,     0.00, 2,     1.29, 2,    0.296, 2,    0.153, 2,    0.021, 2, -999.000, 9,   2173.3, 2,   2323.6, 2,    41.60, 2,  -999.00, 9, -999.000, 9, -999.000, -999.0000, 9, -999.0000,  -999.00, 9,  -999.00, -999.000, 9, -999.000,   -999.0, 9,   -999.0,  -999.00, 9,    0.1200, 2,    0.0850, 2,    0.0410, 2,    0.0350, 2,    0.0140, 3,    0.0170, 3, -999, 9, -999, 9, -999, 9, -999, 9, -999, 9, -999, 9, -999, 9,  -999.00, 9,  -999.00, 9,  -999.00, 9,  -999.00, 9,   1.9550,  -999.00, 9, 1428,    9.4014,  -52.3667
316N200309, A20, 64, 1, 4, 4, 2, 20031015, 1410, 9.3990, -52.3665, 4814,  4372.00,   4372.0,   2.2522,  34.8881, 2,  34.8865, 2,    260.8, 2,    261.3, 2,    34.84, 2,    19.60, 2,     0.00, 2,     1.32, 2,    0.261, 2,    0.139, 2,    0.023, 2, -999.000, 9,   2177.4, 2,   2327.5, 2,  -999.00, 9,  -999.00, 9, -999.000, 9, -999.000, -999.0000, 9, -999.0000,  -999.00, 9,  -999.00, -999.000, 9, -999.000,   -999.0, 9,   -999.0,  -999.00, 9, -999.0000, 9, -999.0000, 9, -999.0000, 9, -999.0000, 9, -999.0000, 9, -999.0000, 9, -999, 9, -999, 9, -999, 9, -999, 9, -999, 9, -999, 9, -999, 9,  -999.00, 9,  -999.00, 9,  -999.00, 9,  -999.00, 9,   1.8678,  -999.00, 9, 1423,    9.4007,  -52.3666
316N200309, A20, 64, 1, 3, 3, 2, 20031015, 1410, 9.3990, -52.3665, 4814,  4624.10,   4624.1,   2.1108,  34.8680, 2,  34.8684, 2,    253.4, 2,    253.3, 2,    45.40, 2,    21.18, 2,     0.00, 2,     1.44, 2,    0.147, 2,    0.085, 2,    0.013, 2, -999.000, 9,   2189.3, 2,   2334.9, 2,  -999.00, 9,  -999.00, 9, -999.000, 9, -999.000, -999.0000, 9, -999.0000,  -999.00, 9,  -999.00, -999.000, 9, -999.000,   -999.0, 9,   -999.0,  -999.00, 9, -999.0000, 9, -999.0000, 9, -999.0000, 9, -999.0000, 9, -999.0000, 9, -999.0000, 9, -999, 9, -999, 9, -999, 9, -999, 9, -999, 9, -999, 9, -999, 9,  -999.00, 9,  -999.00, 9,  -999.00, 9,  -999.00, 9,   1.7008,  -999.00, 9, 1418,    9.4000,  -52.3665
316N200309, A20, 64, 1, 2, 2, 2, 20031015, 1410, 9.3990, -52.3665, 4814,  4750.30,   4750.3,   2.0085,  34.8538, 2,  34.8528, 2,    248.7, 2,    249.4, 2,    52.42, 2,    22.22, 2,     0.00, 2,     1.52, 2,    0.111, 2,    0.065, 2,    0.010, 2, -999.000, 9,   2197.6, 2,   2337.4, 2,  -999.00, 9,  -999.00, 9, -999.000, 9, -999.000, -999.0000, 9, -999.0000,  -999.00, 9,  -999.00, -999.000, 9, -999.000,   -999.0, 9,   -999.0,  -999.00, 9, -999.0000, 9, -999.0000, 9, -999.0000, 9, -999.0000, 9, -999.0000, 9, -999.0000, 9, -999, 9, -999, 9, -999, 9, -999, 9, -999, 9, -999, 9, -999, 9,  -999.00, 9,  -999.00, 9,  -999.00, 9,  -999.00, 9,   1.5866,  -999.00, 9, 1414,    9.3995,  -52.3665
316N200309, A20, 64, 1, 1, 1, 2, 20031015, 1410, 9.3990, -52.3665, 4814,  4874.40,   4874.4,   1.7905,  34.8254, 2,  34.8230, 2,    239.9, 2,    241.7, 2,    66.10, 2,    24.17, 2,     0.00, 2,     1.65, 2,    0.081, 2,    0.049, 2,    0.007, 2, -999.000, 9,   2213.6, 2,   2349.1, 2,    41.50, 2,  -999.00, 9, -999.000, 9, -999.000, -999.0000, 9, -999.0000,  -999.00, 9,  -999.00, -999.000, 9, -999.000,   -999.0, 9,   -999.0,  -999.00, 9,    0.1260, 2,    0.0900, 2,    0.0450, 2,    0.0330, 2,    0.0150, 2,    0.0170, 2, -999, 9, -999, 9, -999, 9, -999, 9, -999, 9, -999, 9, -999, 9,  -999.00, 9,  -999.00, 9,  -999.00, 9,  -999.00, 9,   1.3608,  -999.00, 9, 1411,    9.3991,  -52.3664