BOTTLE,20220816CCHSIOAMB
EXPOCODE,SECT_ID,STNNBR,CASTNO,SAMPNO,BTLNBR,BTLNBR_FLAG_W,DATE,TIME,LATITUDE,LONGITUDE,DEPTH,CTDRAW,CTDPRS,CTDTMP,CTDSAL,CTDSAL_FLAG_W,SALNTY,SALNTY_FLAG_W,CTDOXY,CTDOXY_FLAG_W,OXYGEN,OXYGEN_FLAG_W,SILCAT,SILCAT_FLAG_W,NITRAT,NITRAT_FLAG_W,NITRIT,NITRIT_FLAG_W,PHSPHT,PHSPHT_FLAG_W,CFC-11,CFC-11_FLAG_W,CFC-12,CFC-12_FLAG_W,CFC113,CFC113_FLAG_W,CCL4,CCL4_FLAG_W,TCARBN,TCARBN_FLAG_W,ALKALI,ALKALI_FLAG_W,DOC,DOC_FLAG_W,TDN,TDN_FLAG_W,TRITUM,TRITUM_FLAG_W,TRITER,HELIUM,HELIUM_FLAG_W,HELIER,DELHE3,DELHE3_FLAG_W,DELHER,NEON,NEON_FLAG_W,NEONER,DELC14,DELC14_FLAG_W,C14ERR,DELC13,DELC13_FLAG_W,CDOM325,CDOM325_FLAG_W,CDOM340,CDOM340_FLAG_W,CDOM380,CDOM380_FLAG_W,CDOM412,CDOM412_FLAG_W,CDOMSL,CDOMSL_FLAG_W,CDOMSN,CDOMSN_FLAG_W,DCNS,DCNS_FLAG_W,ARABI,ARABI_FLAG_W,FUCO,FUCO_FLAG_W,GALA,GALA_FLAG_W,GLUC,GLUC_FLAG_W,MAN,MAN_FLAG_W,RHAM,RHAM_FLAG_W,BRDU,BRDU_FLAG_W,PEUK,PEUK_FLAG_W,PROC,PROC_FLAG_W,SYN,SYN_FLAG_W,THETA,BACT,BACT_FLAG_W,BTL_TIME,BTL_LAT,BTL_LON
,,,,,,,,,,,METERS,DBAR,DBAR,ITS-90,PSS-78,,PSS-78,,UMOL/KG,,UMOL/KG,,UMOL/KG,,UMOL/KG,,UMOL/KG,,UMOL/KG,,PMOL/KG,,PMOL/KG,,PMOL/KG,,PMOL/KG,,UMOL/KG,,UMOL/KG,,UMOL/KG,,UMOL/KG,,TU,,TU,NMOL/KG,,NMOL/KG,PERCNT,,PERCNT,NMOL/KG,,NMOL/KG,/MILLE,,/MILLE,/MILLE,,1/M,,1/M,,1/M,,1/M,,1/NM,,1/NM,,NMOL/KG,,NMOL/KG,,NMOL/KG,,NMOL/KG,,NMOL/KG,,NMOL/KG,,NMOL/KG,,PMOL/L/H,,E6/L,,E7/L,,E6/L,,DEG C,E8/L,,,,
316N200309, A20, 66, 2, 16, 16, 2, 20031016, 0520, 9.0497, -52.5202, 4694,     2.90,      2.9,  29.4325,  33.9205, 2,  33.9285, 2,    190.7, 2,    195.4, 2,     5.79, 2,     0.22, 2,     0.00, 2,     0.03, 2,    1.561, 2,    0.987, 2,    0.137, 2, -999.000, 9,   1905.3, 2,   2240.3, 2,  -999.00, 9,  -999.00, 9, -999.000, 9, -999.000, -999.0000, 9, -999.0000,  -999.00, 9,  -999.00, -999.000, 9, -999.000,   -999.0, 9,   -999.0,  -999.00, 9, -999.0000, 9, -999.0000, 9, -999.0000, 9, -999.0000, 9, -999.0000, 9, -999.0000, 9, -999, 9, -999, 9, -999, 9, -999, 9, -999, 9, -999, 9, -999, 9,  -999.00, 9,  -999.00, 9,  -999.00, 9,  -999.00, 9,  29.4318,  -999.00, 9,  551,    9.0517,  -52.5156
316N200309, A20, 66, 2, 15, 15, 2, 20031016, 0520, 9.0497, -52.5202, 4694,    28.40,     28.4,  28.2747,  36.0964, 2,  36.0625, 2,    192.2, 2,    197.9, 2,     0.99, 2,     0.25, 2,     0.00, 2,     0.07, 2,    1.683, 2,    1.074, 2,    0.135, 2, -999.000, 9,   2019.4, 2,   2359.0, 2,  -999.00, 9,  -999.00, 9, -999.000, 9, -999.000, -999.0000, 9, -999.0000,  -999.00, 9,  -999.00, -999.000, 9, -999.000,   -999.0, 9,   -999.0,  -999.00, 9, -999.0000, 9, -999.0000, 9, -999.0000, 9, -999.0000, 9, -999.0000, 9, -999.0000, 9, -999, 9, -999, 9, -999, 9, -999, 9, -999, 9, -999, 9, -999, 9,  -999.00, 9,  -999.00, 9,  -999.00, 9,  -999.00, 9,  28.2679,  -999.00, 9,  549,    9.0517,  -52.5158
316N200309, A20, 66, 2, 14, 14, 2, 20031016, 0520, 9.0497, -52.5202, 4694,    51.70,     51.7,  27.7137,  36.2238, 2,  36.2202, 2,    189.8, 2,    193.0, 2,     0.67, 2,     0.22, 2,     0.02, 2,     0.09, 2,    1.681, 2,    1.056, 2,    0.128, 2, -999.000, 9,   2032.4, 2,   2369.8, 2,  -999.00, 9,  -999.00, 9, -999.000, 9, -999.000, -999.0000, 9, -999.0000,  -999.00, 9,  -999.00, -999.000, 9, -999.000,   -999.0, 9,   -999.0,  -999.00, 9, -999.0000, 9, -999.0000, 9, -999.0000, 9, -999.0000, 9, -999.0000, 9, -999.0000, 9, -999, 9, -999, 9, -999, 9, -999, 9, -999, 9, -999, 9, -999, 9,  -999.00, 9,  -999.00, 9,  -999.00, 9,  -999.00, 9,  27.7016,  -999.00, 9,  548,    9.0516,  -52.5160
316N200309, A20, 66, 2, 13, 13, 2, 20031016, 0520, 9.0497, -52.5202, 4694,    77.70,     77.7,  26.1207,  36.2773, 2,  36.2703, 2,    172.0, 2,    178.1, 2,     1.18, 2,     1.97, 2,     0.12, 2,     0.20, 2,    1.779, 2,    1.103, 2,    0.128, 2, -999.000, 9,   2058.4, 2,   2372.4, 2,  -999.00, 9,  -999.00, 9, -999.000, 9, -999.000, -999.0000, 9, -999.0000,  -999.00, 9,  -999.00, -999.000, 9, -999.000,   -999.0, 9,   -999.0,  -999.00, 9, -999.0000, 9, -999.0000, 9, -999.0000, 9, -999.0000, 9, -999.0000, 9, -999.0000, 9, -999, 9, -999, 9, -999, 9, -999, 9, -999, 9, -999, 9, -999, 9,  -999.00, 9,  -999.00, 9,  -999.00, 9,  -999.00, 9,  26.1032,  -999.00, 9,  546,    9.0515,  -52.5163
316N200309, A20, 66, 2, 12, 12, 2, 20031016, 0520, 9.0497, -52.5202, 4694,   102.70,    102.7,  23.7674,  36.4128, 2,  36.4113, 2,    157.3, 2,    163.8, 2,     1.98, 2,     4.33, 2,     0.04, 2,     0.35, 2,    1.902, 2,    1.152, 2,    0.122, 2, -999.000, 9,   2096.6, 2,   2382.3, 2,  -999.00, 9,  -999.00, 9, -999.000, 9, -999.000, -999.0000, 9, -999.0000,  -999.00, 9,  -999.00, -999.000, 9, -999.000,   -999.0, 9,   -999.0,  -999.00, 9, -999.0000, 9, -999.0000, 9, -999.0000, 9, -999.0000, 9, -999.0000, 9, -999.0000, 9, -999, 9, -999, 9, -999, 9, -999, 9, -999, 9, -999, 9, -999, 9,  -999.00, 9,  -999.00, 9,  -999.00, 9,  -999.00, 9,  23.7458,  -999.00, 9,  545,    9.0514,  -52.5165
316N200309, A20, 66, 2, 11, 11, 2, 20031016, 0520, 9.0497, -52.5202, 4694,   127.50,    127.5,  21.3065,  36.4669, 2,  36.4630, 2,    151.6, 2,    153.2, 2,     2.27, 2,     7.02, 2,     0.02, 2,     0.47, 2,    2.003, 2,    1.184, 2,    0.075, 2, -999.000, 9,   2125.9, 2,   2381.3, 2,  -999.00, 9,  -999.00, 9, -999.000, 9, -999.000, -999.0000, 9, -999.0000,  -999.00, 9,  -999.00, -999.000, 9, -999.000,   -999.0, 9,   -999.0,  -999.00, 9, -999.0000, 9, -999.0000, 9, -999.0000, 9, -999.0000, 9, -999.0000, 9, -999.0000, 9, -999, 9, -999, 9, -999, 9, -999, 9, -999, 9, -999, 9, -999, 9,  -999.00, 9,  -999.00, 9,  -999.00, 9,  -999.00, 9,  21.2817,  -999.00, 9,  543,    9.0513,  -52.5167
316N200309, A20, 66, 2, 10, 10, 2, 20031016, 0520, 9.0497, -52.5202, 4694,   152.60,    152.6,  14.5439,  35.5469, 2,  35.5326, 2,    149.8, 2,    146.9, 2,     6.64, 2,    16.88, 2,     0.01, 2,     1.11, 2,    1.956, 2,    1.070, 2,    0.045, 2, -999.000, 9,   2157.4, 2,   2337.1, 2,  -999.00, 9,  -999.00, 9, -999.000, 9, -999.000, -999.0000, 9, -999.0000,  -999.00, 9,  -999.00, -999.000, 9, -999.000,   -999.0, 9,   -999.0,  -999.00, 9, -999.0000, 9, -999.0000, 9, -999.0000, 9, -999.0000, 9, -999.0000, 9, -999.0000, 9, -999, 9, -999, 9, -999, 9, -999, 9, -999, 9, -999, 9, -999, 9,  -999.00, 9,  -999.00, 9,  -999.00, 9,  -999.00, 9,  14.5212,  -999.00, 9,  542,    9.0513,  -52.5169
316N200309, A20, 66, 2, 9, 9, 2, 20031016, 0520, 9.0497, -52.5202, 4694,   201.10,    201.1,  11.0140,  35.1209, 2,  35.1232, 2,    122.8, 2,    128.4, 2,    10.22, 2,    23.52, 2,     0.00, 2,     1.53, 2,    1.547, 2,    0.827, 2,    0.021, 2, -999.000, 9,   2184.3, 2,   2312.4, 2,  -999.00, 9,  -999.00, 9, -999.000, 9, -999.000, -999.0000, 9, -999.0000,  -999.00, 9,  -999.00, -999.000, 9, -999.000,   -999.0, 9,   -999.0,  -999.00, 9, -999.0000, 9, -999.0000, 9, -999.0000, 9, -999.0000, 9, -999.0000, 9, -999.0000, 9, -999, 9, -999, 9, -999, 9, -999, 9, -999, 9, -999, 9, -999, 9,  -999.00, 9,  -999.00, 9,  -999.00, 9,  -999.00, 9,  10.9891,  -999.00, 9,  540,    9.0514,  -52.5171
316N200309, A20, 66, 2, 8, 8, 2, 20031016, 0520, 9.0497, -52.5202, 4694,   250.90,    250.9,   9.1509,  34.8408, 2,  34.8410, 2,    135.8, 2,    139.4, 2,    13.07, 2,    26.29, 2,     0.00, 2,     1.73, 2,    1.441, 2,    0.738, 2,    0.027, 2, -999.000, 9,   2190.1, 2,   2298.2, 2,  -999.00, 9,  -999.00, 9, -999.000, 9, -999.000, -999.0000, 9, -999.0000,  -999.00, 9,  -999.00, -999.000, 9, -999.000,   -999.0, 9,   -999.0,  -999.00, 9, -999.0000, 9, -999.0000, 9, -999.0000, 9, -999.0000, 9, -999.0000, 9, -999.0000, 9, -999, 9, -999, 9, -999, 9, -999, 9, -999, 9, -999, 9, -999, 9,  -999.00, 9,  -999.00, 9,  -999.00, 9,  -999.00, 9,   9.1233,  -999.00, 9,  538,    9.0514,  -52.5174
316N200309, A20, 66, 2, 7, 7, 2, 20031016, 0520, 9.0497, -52.5202, 4694,   301.20,    301.2,   8.4222,  34.7369, 2,  34.7359, 2,    149.7, 2,    150.8, 2,    14.30, 2,    26.71, 2,     0.00, 2,     1.78, 2,    1.428, 2,    0.743, 2,    0.028, 2, -999.000, 9,   2185.4, 2,   2294.9, 2,  -999.00, 9,  -999.00, 9, -999.000, 9, -999.000, -999.0000, 9, -999.0000,  -999.00, 9,  -999.00, -999.000, 9, -999.000,   -999.0, 9,   -999.0,  -999.00, 9, -999.0000, 9, -999.0000, 9, -999.0000, 9, -999.0000, 9, -999.0000, 9, -999.0000, 9, -999, 9, -999, 9, -999, 9, -999, 9, -999, 9, -999, 9, -999, 9,  -999.00, 9,  -999.00, 9,  -999.00, 9,  -999.00, 9,   8.3906,  -999.00, 9,  537,    9.0512,  -52.5176
316N200309, A20, 66, 2, 6, 6, 2, 20031016, 0520, 9.0497, -52.5202, 4694,   402.80,    402.8,   7.9196,  34.7195, 2,  34.7176, 2,    128.7, 2,    132.0, 2,    16.55, 2,    29.83, 2,     0.00, 2,     1.95, 2,    0.973, 2,    0.511, 2,    0.022, 2, -999.000, 9,   2201.5, 2,   2296.8, 2,  -999.00, 9,  -999.00, 9, -999.000, 9, -999.000, -999.0000, 9, -999.0000,  -999.00, 9,  -999.00, -999.000, 9, -999.000,   -999.0, 9,   -999.0,  -999.00, 9, -999.0000, 9, -999.0000, 9, -999.0000, 9, -999.0000, 9, -999.0000, 9, -999.0000, 9, -999, 9, -999, 9, -999, 9, -999, 9, -999, 9, -999, 9, -999, 9,  -999.00, 9,  -999.00, 9,  -999.00, 9,  -999.00, 9,   7.8787,  -999.00, 9,  534,    9.0511,  -52.5180
316N200309, A20, 66, 2, 5, 5, 2, 20031016, 0520, 9.0497, -52.5202, 4694,   471.50,    471.5,   7.4542,  34.7160, 2,  34.7152, 2,    117.7, 2,    118.1, 2,    18.61, 2,    32.12, 2,     0.00, 2,     2.08, 2,    0.588, 2,    0.304, 2,    0.008, 2, -999.000, 9,   2214.4, 2,   2297.8, 2,  -999.00, 9,  -999.00, 9, -999.000, 9, -999.000, -999.0000, 9, -999.0000,  -999.00, 9,  -999.00, -999.000, 9, -999.000,   -999.0, 9,   -999.0,  -999.00, 9, -999.0000, 9, -999.0000, 9, -999.0000, 9, -999.0000, 9, -999.0000, 9, -999.0000, 9, -999, 9, -999, 9, -999, 9, -999, 9, -999, 9, -999, 9, -999, 9,  -999.00, 9,  -999.00, 9,  -999.00, 9,  -999.00, 9,   7.4077,  -999.00, 9,  532,    9.0510,  -52.5183
316N200309, A20, 66, 2, 4, 4, 2, 20031016, 0520, 9.0497, -52.5202, 4694,   624.90,    624.9,   5.7836,  34.5692, 2,  34.5694, 2,    130.6, 2,    129.7, 2,    24.79, 2,    34.38, 2,     0.00, 2,     2.28, 2,    0.235, 2,    0.115, 2,    0.005, 2, -999.000, 9,   2221.6, 2,   2294.1, 2,  -999.00, 9,  -999.00, 9, -999.000, 9, -999.000, -999.0000, 9, -999.0000,  -999.00, 9,  -999.00, -999.000, 9, -999.000,   -999.0, 9,   -999.0,  -999.00, 9, -999.0000, 9, -999.0000, 9, -999.0000, 9, -999.0000, 9, -999.0000, 9, -999.0000, 9, -999, 9, -999, 9, -999, 9, -999, 9, -999, 9, -999, 9, -999, 9,  -999.00, 9,  -999.00, 9,  -999.00, 9,  -999.00, 9,   5.7294,  -999.00, 9,  529,    9.0507,  -52.5188
316N200309, A20, 66, 2, 3, 3, 2, 20031016, 0520, 9.0497, -52.5202, 4694,   751.20,    751.2,   5.2293,  34.5571, 2,  34.5557, 2,    131.8, 2,    133.5, 2,    27.78, 2,    34.90, 2,     0.00, 2,     2.34, 2,    0.102, 2,    0.054, 2,    0.006, 2, -999.000, 9,   -999.0, 5,   2298.3, 2,  -999.00, 9,  -999.00, 9, -999.000, 9, -999.000, -999.0000, 9, -999.0000,  -999.00, 9,  -999.00, -999.000, 9, -999.000,   -999.0, 9,   -999.0,  -999.00, 9, -999.0000, 9, -999.0000, 9, -999.0000, 9, -999.0000, 9, -999.0000, 9, -999.0000, 9, -999, 9, -999, 9, -999, 9, -999, 9, -999, 9, -999, 9, -999, 9,  -999.00, 9,  -999.00, 9,  -999.00, 9,  -999.00, 9,   5.1667,  -999.00, 9,  526,    9.0503,  -52.5193
316N200309, A20, 66, 2, 2, 2, 2, 20031016, 0520, 9.0497, -52.5202, 4694,   900.90,    900.9,   4.8873,  34.5941, 2, -999.0000, 1,    136.5, 2,   -999.0, 9,    29.02, 2,    33.61, 2,     0.00, 2,     2.28, 2, -999.000, 9, -999.000, 9, -999.000, 9, -999.000, 9,   2221.6, 2,   2301.8, 2,  -999.00, 9,  -999.00, 9, -999.000, 9, -999.000, -999.0000, 9, -999.0000,  -999.00, 9,  -999.00, -999.000, 9, -999.000,   -999.0, 9,   -999.0,  -999.00, 9, -999.0000, 9, -999.0000, 9, -999.0000, 9, -999.0000, 9, -999.0000, 9, -999.0000, 9, -999, 9, -999, 9, -999, 9, -999, 9, -999, 9, -999, 9, -999, 9,  -999.00, 9,  -999.00, 9,  -999.00, 9,  -999.00, 9,   4.8135,  -999.00, 9,  523,    9.0499,  -52.5198
316N200309, A20, 66, 2, 1, 1, 2, 20031016, 0520, 9.0497, -52.5202, 4694,  1003.70,   1003.7,   4.7457,  34.6432, 2, -999.0000, 1,    135.1, 2,   -999.0, 9,    29.01, 2,    32.98, 2,     0.00, 2,     2.23, 2, -999.000, 9, -999.000, 9, -999.000, 9, -999.000, 9,   2221.3, 2,   2304.3, 2,  -999.00, 9,  -999.00, 9, -999.000, 9, -999.000, -999.0000, 9, -999.0000,  -999.00, 9,  -999.00, -999.000, 9, -999.000,   -999.0, 9,   -999.0,  -999.00, 9, -999.0000, 9, -999.0000, 9, -999.0000, 9, -999.0000, 9, -999.0000, 9, -999.0000, 9, -999, 9, -999, 9, -999, 9, -999, 9, -999, 9, -999, 9, -999, 9,  -999.00, 9,  -999.00, 9,  -999.00, 9,  -999.00, 9,   4.6637,  -999.00, 9,  520,    9.0496,  -52.5202