BOTTLE,20220816CCHSIOAMB
EXPOCODE,SECT_ID,STNNBR,CASTNO,SAMPNO,BTLNBR,BTLNBR_FLAG_W,DATE,TIME,LATITUDE,LONGITUDE,DEPTH,CTDRAW,CTDPRS,CTDTMP,CTDSAL,CTDSAL_FLAG_W,SALNTY,SALNTY_FLAG_W,CTDOXY,CTDOXY_FLAG_W,OXYGEN,OXYGEN_FLAG_W,SILCAT,SILCAT_FLAG_W,NITRAT,NITRAT_FLAG_W,NITRIT,NITRIT_FLAG_W,PHSPHT,PHSPHT_FLAG_W,CFC-11,CFC-11_FLAG_W,CFC-12,CFC-12_FLAG_W,CFC113,CFC113_FLAG_W,CCL4,CCL4_FLAG_W,TCARBN,TCARBN_FLAG_W,ALKALI,ALKALI_FLAG_W,DOC,DOC_FLAG_W,TDN,TDN_FLAG_W,TRITUM,TRITUM_FLAG_W,TRITER,HELIUM,HELIUM_FLAG_W,HELIER,DELHE3,DELHE3_FLAG_W,DELHER,NEON,NEON_FLAG_W,NEONER,DELC14,DELC14_FLAG_W,C14ERR,DELC13,DELC13_FLAG_W,CDOM325,CDOM325_FLAG_W,CDOM340,CDOM340_FLAG_W,CDOM380,CDOM380_FLAG_W,CDOM412,CDOM412_FLAG_W,CDOMSL,CDOMSL_FLAG_W,CDOMSN,CDOMSN_FLAG_W,DCNS,DCNS_FLAG_W,ARABI,ARABI_FLAG_W,FUCO,FUCO_FLAG_W,GALA,GALA_FLAG_W,GLUC,GLUC_FLAG_W,MAN,MAN_FLAG_W,RHAM,RHAM_FLAG_W,BRDU,BRDU_FLAG_W,PEUK,PEUK_FLAG_W,PROC,PROC_FLAG_W,SYN,SYN_FLAG_W,THETA,BACT,BACT_FLAG_W,BTL_TIME,BTL_LAT,BTL_LON
,,,,,,,,,,,METERS,DBAR,DBAR,ITS-90,PSS-78,,PSS-78,,UMOL/KG,,UMOL/KG,,UMOL/KG,,UMOL/KG,,UMOL/KG,,UMOL/KG,,PMOL/KG,,PMOL/KG,,PMOL/KG,,PMOL/KG,,UMOL/KG,,UMOL/KG,,UMOL/KG,,UMOL/KG,,TU,,TU,NMOL/KG,,NMOL/KG,PERCNT,,PERCNT,NMOL/KG,,NMOL/KG,/MILLE,,/MILLE,/MILLE,,1/M,,1/M,,1/M,,1/M,,1/NM,,1/NM,,NMOL/KG,,NMOL/KG,,NMOL/KG,,NMOL/KG,,NMOL/KG,,NMOL/KG,,NMOL/KG,,PMOL/L/H,,E6/L,,E7/L,,E6/L,,DEG C,E8/L,,,,
316N200309, A20, 28, 1, 10, 10, 2, 20031002, 0320, 33.5447, -52.3495, 5529,  2999.30,   2999.3,   2.9739,  34.9451, 2,  34.9449, 2,    262.2, 2,    264.6, 4,    22.47, 2,    18.66, 2,     0.00, 2,     1.23, 2,    0.371, 6,    0.191, 6,    0.021, 2,    0.844, 2,   2172.1, 2,   2318.8, 2,  -999.00, 9,  -999.00, 9,    0.180, 2,    0.001,   1.9039, 2,   0.0095,     4.74, 2,     0.20,    7.996, 2,    0.040,   -999.0, 9,   -999.0,  -999.00, 9, -999.0000, 9, -999.0000, 9, -999.0000, 9, -999.0000, 9, -999.0000, 9, -999.0000, 9, -999, 9, -999, 9, -999, 9, -999, 9, -999, 9, -999, 9, -999, 9,  -999.00, 9,  -999.00, 9,  -999.00, 9,  -999.00, 9,   2.7237,  -999.00, 9,  416,   33.5500,  -52.3483
316N200309, A20, 28, 1, 9, 9, 2, 20031002, 0320, 33.5447, -52.3495, 5529,  3199.10,   3199.1,   2.7938,  34.9339, 2,  34.9331, 2,    263.5, 2,    264.7, 4,    23.80, 2,    18.61, 2,     0.00, 2,     1.24, 2,    0.335, 6,    0.178, 6,    0.010, 2,    0.759, 2,   2172.6, 2,   2317.7, 2,  -999.00, 9,  -999.00, 9, -999.000, 9, -999.000, -999.0000, 9, -999.0000,  -999.00, 9,  -999.00, -999.000, 9, -999.000,   -999.0, 9,   -999.0,  -999.00, 9, -999.0000, 9, -999.0000, 9, -999.0000, 9, -999.0000, 9, -999.0000, 9, -999.0000, 9, -999, 9, -999, 9, -999, 9, -999, 9, -999, 9, -999, 9, -999, 9,  -999.00, 9,  -999.00, 9,  -999.00, 9,  -999.00, 9,   2.5266,  -999.00, 9,  412,   33.5495,  -52.3484
316N200309, A20, 28, 1, 8, 8, 2, 20031002, 0320, 33.5447, -52.3495, 5529,  3400.30,   3400.3,   2.6531,  34.9241, 2,  34.9240, 2,    265.1, 2,    266.7, 4,    24.33, 2,    18.55, 2,     0.00, 2,     1.23, 2,    0.364, 6,    0.189, 6,    0.018, 2,    0.835, 2,   2171.8, 2,   2318.6, 2,  -999.00, 9,  -999.00, 9,    0.188, 2,    0.002,   1.8802, 2,   0.0094,     4.61, 2,     0.20,    7.980, 2,    0.040,   -999.0, 9,   -999.0,  -999.00, 9, -999.0000, 9, -999.0000, 9, -999.0000, 9, -999.0000, 9, -999.0000, 9, -999.0000, 9, -999, 9, -999, 9, -999, 9, -999, 9, -999, 9, -999, 9, -999, 9,  -999.00, 9,  -999.00, 9,  -999.00, 9,  -999.00, 9,   2.3677,  -999.00, 9,  408,   33.5491,  -52.3485
316N200309, A20, 28, 1, 7, 7, 2, 20031002, 0320, 33.5447, -52.3495, 5529,  3598.30,   3598.3,   2.5081,  34.9140, 2,  34.9134, 2,    265.6, 2,    266.5, 4,    25.87, 2,    18.51, 2,     0.00, 2,     1.24, 2,    0.419, 6,    0.213, 6,    0.034, 2,    0.892, 2,   2173.4, 2,   2319.2, 2,  -999.00, 9,  -999.00, 9, -999.000, 9, -999.000, -999.0000, 9, -999.0000,  -999.00, 9,  -999.00, -999.000, 9, -999.000,   -999.0, 9,   -999.0,  -999.00, 9, -999.0000, 9, -999.0000, 9, -999.0000, 9, -999.0000, 9, -999.0000, 9, -999.0000, 9, -999, 9, -999, 9, -999, 9, -999, 9, -999, 9, -999, 9, -999, 9,  -999.00, 9,  -999.00, 9,  -999.00, 9,  -999.00, 9,   2.2047,  -999.00, 9,  403,   33.5487,  -52.3487
316N200309, A20, 28, 1, 6, 6, 2, 20031002, 0320, 33.5447, -52.3495, 5529,  3900.80,   3900.8,   2.3620,  34.9021, 2,  34.9016, 2,    264.8, 2,    266.8, 4,    29.10, 2,    18.81, 2,     0.00, 2,     1.26, 2,    0.451, 6,    0.237, 6,    0.027, 2,    0.889, 2,   2171.5, 2,   2321.6, 2,  -999.00, 9,  -999.00, 9, -999.000, 9, -999.000,   1.8911, 2,   0.0095,     4.57, 2,     0.20,    8.033, 2,    0.040,   -999.0, 9,   -999.0,  -999.00, 9, -999.0000, 9, -999.0000, 9, -999.0000, 9, -999.0000, 9, -999.0000, 9, -999.0000, 9, -999, 9, -999, 9, -999, 9, -999, 9, -999, 9, -999, 9, -999, 9,  -999.00, 9,  -999.00, 9,  -999.00, 9,  -999.00, 9,   2.0288,  -999.00, 9,  358,   33.5481,  -52.3488
316N200309, A20, 28, 1, 5, 5, 2, 20031002, 0320, 33.5447, -52.3495, 5529,  4199.40,   4199.4,   2.2981,  34.8942, 2,  34.8938, 2,    263.5, 2,    264.6, 4,    31.75, 2,    19.10, 2,     0.00, 2,     1.29, 2,    0.452, 2,    0.252, 6,    0.028, 2,    0.938, 2,   2176.4, 2,   2324.1, 2,  -999.00, 9,  -999.00, 9,    0.205, 2,    0.002,   1.8939, 2,   0.0095,     5.58, 2,     0.20,    8.065, 2,    0.040,   -999.0, 9,   -999.0,  -999.00, 9,    0.1620, 2,    0.1130, 2,    0.0540, 2,    0.0350, 2,    0.0170, 2,    0.0190, 2, -999, 9, -999, 9, -999, 9, -999, 9, -999, 9, -999, 9, -999, 9,  -999.00, 9,  -999.00, 9,  -999.00, 9,  -999.00, 9,   1.9326,  -999.00, 9,  352,   33.5475,  -52.3488
316N200309, A20, 28, 1, 4, 4, 2, 20031002, 0320, 33.5447, -52.3495, 5529,  4550.00,   4550.0,   2.2534,  34.8861, 2,  34.8857, 2,    260.8, 2,    262.2, 4,    35.51, 2,    19.60, 2,     0.00, 2,     1.33, 2,    0.416, 6,    0.218, 6,    0.032, 2,    0.846, 2,   2177.0, 2,   2327.8, 2,  -999.00, 9,  -999.00, 9, -999.000, 9, -999.000,   1.9052, 2,   0.0095,     5.04, 2,     0.20,    8.130, 2,    0.041,   -999.0, 9,   -999.0,  -999.00, 9, -999.0000, 9, -999.0000, 9, -999.0000, 9, -999.0000, 9, -999.0000, 9, -999.0000, 9, -999, 9, -999, 9, -999, 9, -999, 9, -999, 9, -999, 9, -999, 9,  -999.00, 9,  -999.00, 9,  -999.00, 9,  -999.00, 9,   1.8478,  -999.00, 9,  345,   33.5469,  -52.3489
316N200309, A20, 28, 1, 3, 3, 2, 20031002, 0320, 33.5447, -52.3495, 5529,  4900.40,   4900.4,   2.1932,  34.8741, 2,  34.8737, 2,    256.6, 2,    257.7, 2,    42.49, 2,    20.76, 2,     0.00, 2,     1.41, 2,    0.247, 6,    0.137, 6,    0.012, 2,    0.579, 2,   2189.5, 2,   2334.4, 2,  -999.00, 9,  -999.00, 9,    0.120, 2,    0.001,   1.8832, 2,   0.0094,     2.44, 2,     0.20,    8.077, 2,    0.040,   -999.0, 9,   -999.0,  -999.00, 9, -999.0000, 9, -999.0000, 9, -999.0000, 9, -999.0000, 9, -999.0000, 9, -999.0000, 9, -999, 9, -999, 9, -999, 9, -999, 9, -999, 9, -999, 9, -999, 9,  -999.00, 9,  -999.00, 9,  -999.00, 9,  -999.00, 9,   1.7466,  -999.00, 9,  337,   33.5461,  -52.3491
316N200309, A20, 28, 1, 2, 2, 2, 20031002, 0320, 33.5447, -52.3495, 5529,  5250.60,   5250.6,   2.1664,  34.8650, 2,  34.8650, 2,    252.9, 2,    254.1, 2,    47.28, 2,    21.56, 2,     0.00, 2,     1.47, 2,    0.153, 6,    0.089, 6,    0.010, 2,    0.404, 2,   2195.7, 2,   2338.0, 2,  -999.00, 9,  -999.00, 9, -999.000, 9, -999.000, -999.0000, 9, -999.0000,  -999.00, 9,  -999.00, -999.000, 9, -999.000,   -999.0, 9,   -999.0,  -999.00, 9, -999.0000, 9, -999.0000, 9, -999.0000, 9, -999.0000, 9, -999.0000, 9, -999.0000, 9, -999, 9, -999, 9, -999, 9, -999, 9, -999, 9, -999, 9, -999, 9,  -999.00, 9,  -999.00, 9,  -999.00, 9,  -999.00, 9,   1.6766,  -999.00, 9,  325,   33.5451,  -52.3493
316N200309, A20, 28, 1, 1, 1, 2, 20031002, 0320, 33.5447, -52.3495, 5529,  5628.20,   5628.2,   2.1969,  34.8618, 2,  34.8627, 2,    251.9, 2,    252.9, 2,    49.14, 2,    21.80, 2,     0.00, 2,     1.49, 2,    0.104, 6,    0.065, 6,    0.008, 2,    0.345, 2,   2193.8, 2,   2339.3, 2,  -999.00, 9,  -999.00, 9,    0.066, 2,    0.001, -999.0000, 9, -999.0000,  -999.00, 9,  -999.00, -999.000, 9, -999.000,   -999.0, 9,   -999.0,  -999.00, 9,    0.1570, 2,    0.1100, 2,    0.0530, 2,    0.0340, 2,    0.0170, 2,    0.0190, 2, -999, 9, -999, 9, -999, 9, -999, 9, -999, 9, -999, 9, -999, 9,  -999.00, 9,  -999.00, 9,  -999.00, 9,  -999.00, 9,   1.6566,  -999.00, 9,  312,   33.5439,  -52.3494