BOTTLE,20220816CCHSIOAMB
EXPOCODE,SECT_ID,STNNBR,CASTNO,SAMPNO,BTLNBR,BTLNBR_FLAG_W,DATE,TIME,LATITUDE,LONGITUDE,DEPTH,CTDRAW,CTDPRS,CTDTMP,CTDSAL,CTDSAL_FLAG_W,SALNTY,SALNTY_FLAG_W,CTDOXY,CTDOXY_FLAG_W,OXYGEN,OXYGEN_FLAG_W,SILCAT,SILCAT_FLAG_W,NITRAT,NITRAT_FLAG_W,NITRIT,NITRIT_FLAG_W,PHSPHT,PHSPHT_FLAG_W,CFC-11,CFC-11_FLAG_W,CFC-12,CFC-12_FLAG_W,CFC113,CFC113_FLAG_W,CCL4,CCL4_FLAG_W,TCARBN,TCARBN_FLAG_W,ALKALI,ALKALI_FLAG_W,DOC,DOC_FLAG_W,TDN,TDN_FLAG_W,TRITUM,TRITUM_FLAG_W,TRITER,HELIUM,HELIUM_FLAG_W,HELIER,DELHE3,DELHE3_FLAG_W,DELHER,NEON,NEON_FLAG_W,NEONER,DELC14,DELC14_FLAG_W,C14ERR,DELC13,DELC13_FLAG_W,CDOM325,CDOM325_FLAG_W,CDOM340,CDOM340_FLAG_W,CDOM380,CDOM380_FLAG_W,CDOM412,CDOM412_FLAG_W,CDOMSL,CDOMSL_FLAG_W,CDOMSN,CDOMSN_FLAG_W,DCNS,DCNS_FLAG_W,ARABI,ARABI_FLAG_W,FUCO,FUCO_FLAG_W,GALA,GALA_FLAG_W,GLUC,GLUC_FLAG_W,MAN,MAN_FLAG_W,RHAM,RHAM_FLAG_W,BRDU,BRDU_FLAG_W,PEUK,PEUK_FLAG_W,PROC,PROC_FLAG_W,SYN,SYN_FLAG_W,THETA,BACT,BACT_FLAG_W,BTL_TIME,BTL_LAT,BTL_LON
,,,,,,,,,,,METERS,DBAR,DBAR,ITS-90,PSS-78,,PSS-78,,UMOL/KG,,UMOL/KG,,UMOL/KG,,UMOL/KG,,UMOL/KG,,UMOL/KG,,PMOL/KG,,PMOL/KG,,PMOL/KG,,PMOL/KG,,UMOL/KG,,UMOL/KG,,UMOL/KG,,UMOL/KG,,TU,,TU,NMOL/KG,,NMOL/KG,PERCNT,,PERCNT,NMOL/KG,,NMOL/KG,/MILLE,,/MILLE,/MILLE,,1/M,,1/M,,1/M,,1/M,,1/NM,,1/NM,,NMOL/KG,,NMOL/KG,,NMOL/KG,,NMOL/KG,,NMOL/KG,,NMOL/KG,,NMOL/KG,,PMOL/L/H,,E6/L,,E7/L,,E6/L,,DEG C,E8/L,,,,
316N200309, A20, 45, 1, 36, 36, 2, 20031010, 0108, 20.8453, -52.3412, 4267,     2.70,      2.7,  28.2005,  36.6293, 2,  36.6322, 2,    192.1, 2,    197.1, 2,     0.90, 2,     0.12, 2,     0.00, 2,     0.01, 2,    1.595, 2,    0.953, 2,    0.103, 2,    1.736, 2,   2025.0, 2,   2397.7, 2,  -999.00, 9,  -999.00, 9, -999.000, 9, -999.000, -999.0000, 9, -999.0000,  -999.00, 9,  -999.00, -999.000, 9, -999.000,   -999.0, 9,   -999.0,  -999.00, 9,    0.0850, 2,    0.0600, 2,    0.0290, 2,    0.0210, 2,    0.0210, 2,    0.0220, 2, -999, 9, -999, 9, -999, 9, -999, 9, -999, 9, -999, 9, -999, 9,  -999.00, 9,  -999.00, 9,  -999.00, 9,  -999.00, 9,  28.1999,  -999.00, 9,  257,   20.8515,  -52.3456
316N200309, A20, 45, 1, 35, 35, 2, 20031010, 0108, 20.8453, -52.3412, 4267,    25.50,     25.5,  28.1179,  37.1356, 2,  37.1358, 2,    193.1, 2,    197.4, 2,     0.70, 2,     0.00, 2,     0.00, 2,     0.01, 2,    1.592, 2,    0.976, 2,    0.092, 2,    1.702, 2,   2051.5, 2,   2427.0, 2,  -999.00, 9,  -999.00, 9, -999.000, 9, -999.000, -999.0000, 9, -999.0000,  -999.00, 9,  -999.00, -999.000, 9, -999.000,   -999.0, 9,   -999.0,  -999.00, 9,    0.0600, 2,    0.0410, 2,    0.0170, 2,    0.0120, 2,    0.0270, 2,    0.0280, 2, -999, 9, -999, 9, -999, 9, -999, 9, -999, 9, -999, 9, -999, 9,  -999.00, 9,  -999.00, 9,  -999.00, 9,  -999.00, 9,  28.1118,  -999.00, 9,  255,   20.8515,  -52.3454
316N200309, A20, 45, 1, 34, 34, 2, 20031010, 0108, 20.8453, -52.3412, 4267,    50.50,     50.5,  26.9915,  37.2745, 2,  37.2753, 2,    203.0, 2,    208.8, 2,     0.72, 2,     0.00, 2,     0.00, 2,     0.01, 2,    1.693, 2,    1.043, 2,    0.093, 2,    1.510, 2,   2061.6, 2,   2434.9, 2,  -999.00, 9,  -999.00, 9, -999.000, 9, -999.000, -999.0000, 9, -999.0000,  -999.00, 9,  -999.00, -999.000, 9, -999.000,   -999.0, 9,   -999.0,  -999.00, 9,    0.0820, 2,    0.0560, 2,    0.0230, 2,    0.0150, 2,    0.0240, 2,    0.0250, 2, -999, 9, -999, 9, -999, 9, -999, 9, -999, 9, -999, 9, -999, 9,  -999.00, 9,  -999.00, 9,  -999.00, 9,  -999.00, 9,  26.9798,  -999.00, 9,  253,   20.8514,  -52.3453
316N200309, A20, 45, 1, 33, 33, 2, 20031010, 0108, 20.8453, -52.3412, 4267,    74.80,     74.8,  25.6252,  37.3168, 2,  37.3157, 2,    206.1, 2,    210.7, 2,     0.63, 2,     0.00, 2,     0.00, 2,     0.01, 2,    1.799, 2,    1.119, 2,    0.101, 2,    1.218, 2,   -999.0, 9,   -999.0, 9,  -999.00, 9,  -999.00, 9, -999.000, 9, -999.000, -999.0000, 9, -999.0000,  -999.00, 9,  -999.00, -999.000, 9, -999.000,   -999.0, 9,   -999.0,  -999.00, 9,    0.1100, 2,    0.0760, 2,    0.0340, 2,    0.0230, 2,    0.0210, 2,    0.0220, 2, -999, 9, -999, 9, -999, 9, -999, 9, -999, 9, -999, 9, -999, 9,  -999.00, 9,  -999.00, 9,  -999.00, 9,  -999.00, 9,  25.6085,  -999.00, 9,  252,   20.8514,  -52.3452
316N200309, A20, 45, 1, 32, 32, 2, 20031010, 0108, 20.8453, -52.3412, 4267,   100.40,    100.4,  23.5202,  37.2626, 2,  37.2528, 2,    200.1, 2,    202.2, 2,     0.55, 2,     0.00, 2,     0.00, 2,     0.01, 2,    1.942, 2,    1.186, 2,    0.109, 2,    0.989, 2,   2094.0, 2,   2433.1, 2,  -999.00, 9,  -999.00, 9, -999.000, 9, -999.000, -999.0000, 9, -999.0000,  -999.00, 9,  -999.00, -999.000, 9, -999.000,   -999.0, 9,   -999.0,  -999.00, 9,    0.1600, 2,    0.1170, 2,    0.0570, 2,    0.0390, 2,    0.0160, 2,    0.0170, 2, -999, 9, -999, 9, -999, 9, -999, 9, -999, 9, -999, 9, -999, 9,  -999.00, 9,  -999.00, 9,  -999.00, 9,  -999.00, 9,  23.4992,  -999.00, 9,  250,   20.8514,  -52.3451
316N200309, A20, 45, 1, 31, 31, 2, 20031010, 0108, 20.8453, -52.3412, 4267,   124.90,    124.9,  21.6140,  37.0426, 2,  37.0426, 2,    188.4, 2,    190.8, 2,     0.66, 2,     0.24, 2,     0.05, 2,     0.02, 2,    2.081, 2,    1.276, 2,    0.106, 2,    0.783, 2,   -999.0, 9,   -999.0, 9,  -999.00, 9,  -999.00, 9, -999.000, 9, -999.000, -999.0000, 9, -999.0000,  -999.00, 9,  -999.00, -999.000, 9, -999.000,   -999.0, 9,   -999.0,  -999.00, 9,    0.1290, 2,    0.0950, 2,    0.0460, 2,    0.0330, 2,    0.0160, 2,    0.0180, 2, -999, 9, -999, 9, -999, 9, -999, 9, -999, 9, -999, 9, -999, 9,  -999.00, 9,  -999.00, 9,  -999.00, 9,  -999.00, 9,  21.5894,  -999.00, 9,  249,   20.8514,  -52.3451
316N200309, A20, 45, 1, 30, 30, 2, 20031010, 0108, 20.8453, -52.3412, 4267,   174.50,    174.5,  20.2013,  36.8962, 2,  36.8897, 2,    178.1, 2,    180.8, 2,     0.89, 2,     2.65, 2,     0.01, 2,     0.13, 2,    2.158, 2,    1.327, 2,    0.064, 2,    0.587, 2,   2124.9, 2,   2407.2, 2,  -999.00, 9,  -999.00, 9, -999.000, 9, -999.000, -999.0000, 9, -999.0000,  -999.00, 9,  -999.00, -999.000, 9, -999.000,   -999.0, 9,   -999.0,  -999.00, 9, -999.0000, 9, -999.0000, 9, -999.0000, 9, -999.0000, 9, -999.0000, 9, -999.0000, 9, -999, 9, -999, 9, -999, 9, -999, 9, -999, 9, -999, 9, -999, 9,  -999.00, 9,  -999.00, 9,  -999.00, 9,  -999.00, 9,  20.1685,  -999.00, 9,  247,   20.8513,  -52.3450
316N200309, A20, 45, 1, 29, 29, 2, 20031010, 0108, 20.8453, -52.3412, 4267,   224.70,    224.7,  18.5181,  36.6069, 2,  36.6035, 2,    178.4, 2,    185.7, 2,     1.33, 2,     4.48, 2,     0.00, 2,     0.22, 2,    2.284, 2,    1.366, 2,    0.018, 2,    0.429, 2,   -999.0, 9,   -999.0, 9,  -999.00, 9,  -999.00, 9, -999.000, 9, -999.000, -999.0000, 9, -999.0000,  -999.00, 9,  -999.00, -999.000, 9, -999.000,   -999.0, 9,   -999.0,  -999.00, 9, -999.0000, 9, -999.0000, 9, -999.0000, 9, -999.0000, 9, -999.0000, 9, -999.0000, 9, -999, 9, -999, 9, -999, 9, -999, 9, -999, 9, -999, 9, -999, 9,  -999.00, 9,  -999.00, 9,  -999.00, 9,  -999.00, 9,  18.4783,  -999.00, 9,  245,   20.8512,  -52.3449
316N200309, A20, 45, 1, 28, 28, 2, 20031010, 0108, 20.8453, -52.3412, 4267,   279.90,    279.9,  17.6171,  36.4646, 2,  36.4665, 2,    186.2, 2,    186.4, 2,     1.86, 2,     6.01, 2,     0.00, 2,     0.32, 2,    2.299, 2,    1.359, 2,    0.027, 2,    0.441, 2,   2120.9, 2,   2378.2, 2,  -999.00, 9,  -999.00, 9, -999.000, 9, -999.000, -999.0000, 9, -999.0000,  -999.00, 9,  -999.00, -999.000, 9, -999.000,   -999.0, 9,   -999.0,  -999.00, 9, -999.0000, 9, -999.0000, 9, -999.0000, 9, -999.0000, 9, -999.0000, 9, -999.0000, 9, -999, 9, -999, 9, -999, 9, -999, 9, -999, 9, -999, 9, -999, 9,  -999.00, 9,  -999.00, 9,  -999.00, 9,  -999.00, 9,  17.5692,  -999.00, 9,  243,   20.8512,  -52.3448
316N200309, A20, 45, 1, 27, 27, 2, 20031010, 0108, 20.8453, -52.3412, 4267,   350.80,    350.8,  16.2765,  36.2465, 2,  36.2481, 2,    172.9, 2,    173.5, 2,     3.04, 2,     9.42, 2,     0.00, 2,     0.53, 2,    2.245, 2,    1.300, 2,    0.017, 2,    0.427, 2,   2135.7, 2,   2366.9, 2,  -999.00, 9,  -999.00, 9, -999.000, 9, -999.000, -999.0000, 9, -999.0000,  -999.00, 9,  -999.00, -999.000, 9, -999.000,   -999.0, 9,   -999.0,  -999.00, 9, -999.0000, 9, -999.0000, 9, -999.0000, 9, -999.0000, 9, -999.0000, 9, -999.0000, 9, -999, 9, -999, 9, -999, 9, -999, 9, -999, 9, -999, 9, -999, 9,  -999.00, 9,  -999.00, 9,  -999.00, 9,  -999.00, 9,  16.2196,  -999.00, 9,  241,   20.8511,  -52.3447
316N200309, A20, 45, 1, 26, 26, 2, 20031010, 0108, 20.8453, -52.3412, 4267,   451.00,    451.0,  14.1637,  35.9196, 2,  35.9212, 2,    161.5, 2,    161.6, 2,     4.93, 2,    13.87, 2,     0.00, 2,     0.80, 2,    2.109, 2,    1.148, 2,    0.022, 2,    0.433, 2,   -999.0, 9,   -999.0, 9,  -999.00, 9,  -999.00, 9, -999.000, 9, -999.000, -999.0000, 9, -999.0000,  -999.00, 9,  -999.00, -999.000, 9, -999.000,   -999.0, 9,   -999.0,  -999.00, 9, -999.0000, 9, -999.0000, 9, -999.0000, 9, -999.0000, 9, -999.0000, 9, -999.0000, 9, -999, 9, -999, 9, -999, 9, -999, 9, -999, 9, -999, 9, -999, 9,  -999.00, 9,  -999.00, 9,  -999.00, 9,  -999.00, 9,  14.0969,  -999.00, 9,  238,   20.8510,  -52.3445
316N200309, A20, 45, 1, 25, 25, 2, 20031010, 0108, 20.8453, -52.3412, 4267,   549.90,    549.9,  12.6087,  35.7110, 2,  35.7102, 2,    154.6, 2,    154.9, 2,     6.72, 2,    17.06, 2,     0.00, 2,     1.02, 2,    1.843, 2,    0.989, 2,    0.015, 2,    0.405, 2,   2168.1, 2,   2338.3, 2,  -999.00, 9,  -999.00, 9, -999.000, 9, -999.000, -999.0000, 9, -999.0000,  -999.00, 9,  -999.00, -999.000, 9, -999.000,   -999.0, 9,   -999.0,  -999.00, 9, -999.0000, 9, -999.0000, 9, -999.0000, 9, -999.0000, 9, -999.0000, 9, -999.0000, 9, -999, 9, -999, 9, -999, 9, -999, 9, -999, 9, -999, 9, -999, 9,  -999.00, 9,  -999.00, 9,  -999.00, 9,  -999.00, 9,  12.5331,  -999.00, 9,  236,   20.8509,  -52.3444
316N200309, A20, 45, 1, 24, 24, 2, 20031010, 0108, 20.8453, -52.3412, 4267,   676.00,    676.0,  10.3605,  35.4205, 2,  35.4208, 2,    137.9, 2,    135.3, 2,    11.65, 2,    23.10, 2,     0.00, 2,     1.42, 2,    0.887, 2,    0.473, 2,    0.004, 2,    0.250, 2,   -999.0, 9,   -999.0, 9,  -999.00, 9,  -999.00, 9, -999.000, 9, -999.000, -999.0000, 9, -999.0000,  -999.00, 9,  -999.00, -999.000, 9, -999.000,   -999.0, 9,   -999.0,  -999.00, 9, -999.0000, 9, -999.0000, 9, -999.0000, 9, -999.0000, 9, -999.0000, 9, -999.0000, 9, -999, 9, -999, 9, -999, 9, -999, 9, -999, 9, -999, 9, -999, 9,  -999.00, 9,  -999.00, 9,  -999.00, 9,  -999.00, 9,  10.2780,  -999.00, 9,  233,   20.8508,  -52.3442
316N200309, A20, 45, 1, 23, 23, 2, 20031010, 0108, 20.8453, -52.3412, 4267,   820.60,    820.6,   8.3871,  35.1906, 2,  35.1922, 2,    133.6, 2,    132.9, 2,    16.90, 2,    26.76, 2,     0.00, 2,     1.71, 2,    0.279, 2,    0.155, 2,    0.002, 2,    0.126, 2,   2202.8, 2,   2320.3, 2,  -999.00, 9,  -999.00, 9, -999.000, 9, -999.000, -999.0000, 9, -999.0000,  -999.00, 9,  -999.00, -999.000, 9, -999.000,   -999.0, 9,   -999.0,  -999.00, 9, -999.0000, 9, -999.0000, 9, -999.0000, 9, -999.0000, 9, -999.0000, 9, -999.0000, 9, -999, 9, -999, 9, -999, 9, -999, 9, -999, 9, -999, 9, -999, 9,  -999.00, 9,  -999.00, 9,  -999.00, 9,  -999.00, 9,   8.2982,  -999.00, 9,  229,   20.8507,  -52.3439
316N200309, A20, 45, 1, 22, 22, 2, 20031010, 0108, 20.8453, -52.3412, 4267,   975.20,    975.2,   6.2134,  34.9119, 2,  34.9126, 2,    146.1, 2,    146.5, 2,    22.45, 2,    29.20, 2,     0.00, 2,     1.93, 2,    0.087, 2,    0.048, 2,    0.000, 2,    0.133, 2,   2209.2, 2,   2311.8, 2,  -999.00, 9,  -999.00, 9, -999.000, 9, -999.000, -999.0000, 9, -999.0000,  -999.00, 9,  -999.00, -999.000, 9, -999.000,   -999.0, 9,   -999.0,  -999.00, 9, -999.0000, 9, -999.0000, 9, -999.0000, 9, -999.0000, 9, -999.0000, 9, -999.0000, 9, -999, 9, -999, 9, -999, 9, -999, 9, -999, 9, -999, 9, -999, 9,  -999.00, 9,  -999.00, 9,  -999.00, 9,  -999.00, 9,   6.1228,  -999.00, 9,  226,   20.8506,  -52.3437
316N200309, A20, 45, 1, 21, 21, 2, 20031010, 0108, 20.8453, -52.3412, 4267,  1100.50,   1100.5,   5.6071,  34.9357, 2,  34.9368, 2,    166.7, 2,    169.2, 2,    21.84, 2,    27.00, 2,     0.00, 2,     1.79, 2,   -0.001, 4,   -0.002, 4,    0.001, 4,    0.030, 4,   -999.0, 9,   -999.0, 9,  -999.00, 9,  -999.00, 9, -999.000, 9, -999.000, -999.0000, 9, -999.0000,  -999.00, 9,  -999.00, -999.000, 9, -999.000,   -999.0, 9,   -999.0,  -999.00, 9, -999.0000, 9, -999.0000, 9, -999.0000, 9, -999.0000, 9, -999.0000, 9, -999.0000, 9, -999, 9, -999, 9, -999, 9, -999, 9, -999, 9, -999, 9, -999, 9,  -999.00, 9,  -999.00, 9,  -999.00, 9,  -999.00, 9,   5.5088,  -999.00, 9,  223,   20.8504,  -52.3434
316N200309, A20, 45, 1, 20, 20, 2, 20031010, 0108, 20.8453, -52.3412, 4267,  1201.50,   1201.5,   5.3715,  34.9709, 2,  34.9713, 2,    182.6, 2,    185.1, 2,    20.50, 2,    25.14, 2,     0.00, 2,     1.66, 2,    0.130, 2,    0.076, 2,    0.004, 2,    0.307, 2,   -999.0, 9,   -999.0, 9,  -999.00, 9,  -999.00, 9, -999.000, 9, -999.000, -999.0000, 9, -999.0000,  -999.00, 9,  -999.00, -999.000, 9, -999.000,   -999.0, 9,   -999.0,  -999.00, 9, -999.0000, 9, -999.0000, 9, -999.0000, 9, -999.0000, 9, -999.0000, 9, -999.0000, 9, -999, 9, -999, 9, -999, 9, -999, 9, -999, 9, -999, 9, -999, 9,  -999.00, 9,  -999.00, 9,  -999.00, 9,  -999.00, 9,   5.2654,  -999.00, 9,  220,   20.8503,  -52.3432
316N200309, A20, 45, 1, 19, 19, 2, 20031010, 0108, 20.8453, -52.3412, 4267,  1300.20,   1300.2,   5.1485,  34.9934, 2,  34.9941, 2,    199.2, 2,    199.7, 2,    19.15, 2,    23.53, 2,     0.00, 2,     1.56, 2,    0.177, 2,    0.101, 2,    0.003, 2,    0.393, 2,   -999.0, 9,   -999.0, 9,  -999.00, 9,  -999.00, 9, -999.000, 9, -999.000, -999.0000, 9, -999.0000,  -999.00, 9,  -999.00, -999.000, 9, -999.000,   -999.0, 9,   -999.0,  -999.00, 9, -999.0000, 9, -999.0000, 9, -999.0000, 9, -999.0000, 9, -999.0000, 9, -999.0000, 9, -999, 9, -999, 9, -999, 9, -999, 9, -999, 9, -999, 9, -999, 9,  -999.00, 9,  -999.00, 9,  -999.00, 9,  -999.00, 9,   5.0349,  -999.00, 9,  217,   20.8501,  -52.3431
316N200309, A20, 45, 1, 18, 18, 2, 20031010, 0108, 20.8453, -52.3412, 4267,  1400.30,   1400.3,   4.9260,  35.0086, 2,  35.0102, 2,    211.8, 2,    212.0, 2,    18.23, 2,    22.30, 2,     0.00, 2,     1.48, 2,    0.173, 2,    0.096, 2,    0.003, 2,    0.387, 2,   -999.0, 9,   -999.0, 9,  -999.00, 9,  -999.00, 9, -999.000, 9, -999.000, -999.0000, 9, -999.0000,  -999.00, 9,  -999.00, -999.000, 9, -999.000,   -999.0, 9,   -999.0,  -999.00, 9, -999.0000, 9, -999.0000, 9, -999.0000, 9, -999.0000, 9, -999.0000, 9, -999.0000, 9, -999, 9, -999, 9, -999, 9, -999, 9, -999, 9, -999, 9, -999, 9,  -999.00, 9,  -999.00, 9,  -999.00, 9,  -999.00, 9,   4.8050,  -999.00, 9,  214,   20.8500,  -52.3429
316N200309, A20, 45, 1, 17, 17, 2, 20031010, 0108, 20.8453, -52.3412, 4267,  1500.20,   1500.2,   4.6555,  35.0152, 2,  35.0167, 2,    223.5, 2,    223.5, 2,    17.72, 2,    21.26, 2,     0.00, 2,     1.41, 2,    0.144, 2,    0.087, 2,    0.004, 2,    0.447, 2,   -999.0, 9,   -999.0, 9,  -999.00, 9,  -999.00, 9, -999.000, 9, -999.000, -999.0000, 9, -999.0000,  -999.00, 9,  -999.00, -999.000, 9, -999.000,   -999.0, 9,   -999.0,  -999.00, 9, -999.0000, 9, -999.0000, 9, -999.0000, 9, -999.0000, 9, -999.0000, 9, -999.0000, 9, -999, 9, -999, 9, -999, 9, -999, 9, -999, 9, -999, 9, -999, 9,  -999.00, 9,  -999.00, 9,  -999.00, 9,  -999.00, 9,   4.5278,  -999.00, 9,  212,   20.8498,  -52.3428
316N200309, A20, 45, 1, 16, 16, 2, 20031010, 0108, 20.8453, -52.3412, 4267,  1600.20,   1600.2,   4.4271,  35.0151, 2,  35.0167, 2,    230.7, 2,    230.9, 2,    17.95, 2,    20.69, 2,     0.00, 2,     1.38, 2,    0.107, 2,    0.061, 2,    0.003, 2,    0.359, 2,   -999.0, 9,   -999.0, 9,  -999.00, 9,  -999.00, 9, -999.000, 9, -999.000, -999.0000, 9, -999.0000,  -999.00, 9,  -999.00, -999.000, 9, -999.000,   -999.0, 9,   -999.0,  -999.00, 9, -999.0000, 9, -999.0000, 9, -999.0000, 9, -999.0000, 9, -999.0000, 9, -999.0000, 9, -999, 9, -999, 9, -999, 9, -999, 9, -999, 9, -999, 9, -999, 9,  -999.00, 9,  -999.00, 9,  -999.00, 9,  -999.00, 9,   4.2925,  -999.00, 9,  209,   20.8496,  -52.3427
316N200309, A20, 45, 1, 15, 15, 2, 20031010, 0108, 20.8453, -52.3412, 4267,  1700.40,   1700.4,   4.2325,  35.0154, 2,  35.0167, 2,    236.4, 2,    236.9, 2,    18.38, 2,    20.26, 2,     0.00, 2,     1.34, 2,    0.092, 6,    0.057, 6,    0.004, 2,    0.351, 2,   -999.0, 9,   -999.0, 9,  -999.00, 9,  -999.00, 9, -999.000, 9, -999.000, -999.0000, 9, -999.0000,  -999.00, 9,  -999.00, -999.000, 9, -999.000,   -999.0, 9,   -999.0,  -999.00, 9, -999.0000, 9, -999.0000, 9, -999.0000, 9, -999.0000, 9, -999.0000, 9, -999.0000, 9, -999, 9, -999, 9, -999, 9, -999, 9, -999, 9, -999, 9, -999, 9,  -999.00, 9,  -999.00, 9,  -999.00, 9,  -999.00, 9,   4.0907,  -999.00, 9,  206,   20.8494,  -52.3426
316N200309, A20, 45, 1, 14, 14, 2, 20031010, 0108, 20.8453, -52.3412, 4267,  1900.10,   1900.1,   3.8547,  35.0013, 2,  35.0024, 2,    242.0, 2,    241.7, 2,    21.01, 2,    20.13, 2,     0.00, 2,     1.34, 2,    0.036, 2,    0.018, 2,    0.003, 2,    0.237, 2,   -999.0, 9,   -999.0, 9,  -999.00, 9,  -999.00, 9, -999.000, 9, -999.000, -999.0000, 9, -999.0000,  -999.00, 9,  -999.00, -999.000, 9, -999.000,   -999.0, 9,   -999.0,  -999.00, 9, -999.0000, 9, -999.0000, 9, -999.0000, 9, -999.0000, 9, -999.0000, 9, -999.0000, 9, -999, 9, -999, 9, -999, 9, -999, 9, -999, 9, -999, 9, -999, 9,  -999.00, 9,  -999.00, 9,  -999.00, 9,  -999.00, 9,   3.6989,  -999.00, 9,  202,   20.8491,  -52.3426
316N200309, A20, 45, 1, 13, 13, 2, 20031010, 0108, 20.8453, -52.3412, 4267,  2100.40,   2100.4,   3.5183,  34.9861, 2,  34.9872, 2,    244.2, 2,    244.3, 2,    24.78, 2,    20.26, 2,     0.00, 2,     1.35, 2,    0.022, 2,    0.015, 2,    0.001, 2,    0.197, 2,   -999.0, 9,   -999.0, 9,  -999.00, 9,  -999.00, 9, -999.000, 9, -999.000, -999.0000, 9, -999.0000,  -999.00, 9,  -999.00, -999.000, 9, -999.000,   -999.0, 9,   -999.0,  -999.00, 9, -999.0000, 9, -999.0000, 9, -999.0000, 9, -999.0000, 9, -999.0000, 9, -999.0000, 9, -999, 9, -999, 9, -999, 9, -999, 9, -999, 9, -999, 9, -999, 9,  -999.00, 9,  -999.00, 9,  -999.00, 9,  -999.00, 9,   3.3482,  -999.00, 9,  158,   20.8488,  -52.3426
316N200309, A20, 45, 1, 12, 12, 2, 20031010, 0108, 20.8453, -52.3412, 4267,  2299.90,   2299.9,   3.2450,  34.9689, 2,  34.9693, 2,    246.3, 2,    246.5, 2,    27.82, 2,    20.36, 2,     0.00, 2,     1.36, 2,    0.019, 2,    0.019, 2,    0.001, 2,    0.143, 2,   -999.0, 9,   -999.0, 9,  -999.00, 9,  -999.00, 9, -999.000, 9, -999.000, -999.0000, 9, -999.0000,  -999.00, 9,  -999.00, -999.000, 9, -999.000,   -999.0, 9,   -999.0,  -999.00, 9, -999.0000, 9, -999.0000, 9, -999.0000, 9, -999.0000, 9, -999.0000, 9, -999.0000, 9, -999, 9, -999, 9, -999, 9, -999, 9, -999, 9, -999, 9, -999, 9,  -999.00, 9,  -999.00, 9,  -999.00, 9,  -999.00, 9,   3.0602,  -999.00, 9,  153,   20.8485,  -52.3425
316N200309, A20, 45, 1, 11, 11, 2, 20031010, 0108, 20.8453, -52.3412, 4267,  2500.70,   2500.7,   3.0404,  34.9545, 2,  34.9557, 2,    247.8, 2,    247.7, 2,    30.45, 2,    20.50, 2,     0.00, 2,     1.37, 2,    0.002, 2,    0.025, 2,    0.001, 2,    0.160, 2,   -999.0, 9,   -999.0, 9,  -999.00, 9,  -999.00, 9, -999.000, 9, -999.000, -999.0000, 9, -999.0000,  -999.00, 9,  -999.00, -999.000, 9, -999.000,   -999.0, 9,   -999.0,  -999.00, 9, -999.0000, 9, -999.0000, 9, -999.0000, 9, -999.0000, 9, -999.0000, 9, -999.0000, 9, -999, 9, -999, 9, -999, 9, -999, 9, -999, 9, -999, 9, -999, 9,  -999.00, 9,  -999.00, 9,  -999.00, 9,  -999.00, 9,   2.8396,  -999.00, 9,  149,   20.8482,  -52.3424