BOTTLE,20220816CCHSIOAMB
EXPOCODE,SECT_ID,STNNBR,CASTNO,SAMPNO,BTLNBR,BTLNBR_FLAG_W,DATE,TIME,LATITUDE,LONGITUDE,DEPTH,CTDRAW,CTDPRS,CTDTMP,CTDSAL,CTDSAL_FLAG_W,SALNTY,SALNTY_FLAG_W,CTDOXY,CTDOXY_FLAG_W,OXYGEN,OXYGEN_FLAG_W,SILCAT,SILCAT_FLAG_W,NITRAT,NITRAT_FLAG_W,NITRIT,NITRIT_FLAG_W,PHSPHT,PHSPHT_FLAG_W,CFC-11,CFC-11_FLAG_W,CFC-12,CFC-12_FLAG_W,CFC113,CFC113_FLAG_W,CCL4,CCL4_FLAG_W,TCARBN,TCARBN_FLAG_W,ALKALI,ALKALI_FLAG_W,DOC,DOC_FLAG_W,TDN,TDN_FLAG_W,TRITUM,TRITUM_FLAG_W,TRITER,HELIUM,HELIUM_FLAG_W,HELIER,DELHE3,DELHE3_FLAG_W,DELHER,NEON,NEON_FLAG_W,NEONER,DELC14,DELC14_FLAG_W,C14ERR,DELC13,DELC13_FLAG_W,CDOM325,CDOM325_FLAG_W,CDOM340,CDOM340_FLAG_W,CDOM380,CDOM380_FLAG_W,CDOM412,CDOM412_FLAG_W,CDOMSL,CDOMSL_FLAG_W,CDOMSN,CDOMSN_FLAG_W,DCNS,DCNS_FLAG_W,ARABI,ARABI_FLAG_W,FUCO,FUCO_FLAG_W,GALA,GALA_FLAG_W,GLUC,GLUC_FLAG_W,MAN,MAN_FLAG_W,RHAM,RHAM_FLAG_W,BRDU,BRDU_FLAG_W,PEUK,PEUK_FLAG_W,PROC,PROC_FLAG_W,SYN,SYN_FLAG_W,THETA,BACT,BACT_FLAG_W,BTL_TIME,BTL_LAT,BTL_LON
,,,,,,,,,,,METERS,DBAR,DBAR,ITS-90,PSS-78,,PSS-78,,UMOL/KG,,UMOL/KG,,UMOL/KG,,UMOL/KG,,UMOL/KG,,UMOL/KG,,PMOL/KG,,PMOL/KG,,PMOL/KG,,PMOL/KG,,UMOL/KG,,UMOL/KG,,UMOL/KG,,UMOL/KG,,TU,,TU,NMOL/KG,,NMOL/KG,PERCNT,,PERCNT,NMOL/KG,,NMOL/KG,/MILLE,,/MILLE,/MILLE,,1/M,,1/M,,1/M,,1/M,,1/NM,,1/NM,,NMOL/KG,,NMOL/KG,,NMOL/KG,,NMOL/KG,,NMOL/KG,,NMOL/KG,,NMOL/KG,,PMOL/L/H,,E6/L,,E7/L,,E6/L,,DEG C,E8/L,,,,
316N200309, A20, 14, 1, 36, 36, 2, 20030927, 2103, 41.0243, -51.7923, 5110,     6.70,      6.7,  23.5541,  35.9711, 2,  35.9749, 2,    207.9, 2,    214.5, 2,     0.25, 2,     0.11, 2,     0.00, 2,     0.03, 2,    1.898, 2,    1.175, 2,    0.159, 2, -999.000, 9,   2030.8, 2,   2357.5, 2,  -999.00, 9,  -999.00, 9, -999.000, 9, -999.000,   1.7849, 2,   0.0089,    -1.95, 2,     0.20,    7.035, 2,    0.035,   -999.0, 9,   -999.0,  -999.00, 9,    0.0950, 2,    0.0630, 2,    0.0240, 2,    0.0130, 2,    0.0250, 2,    0.0260, 2, -999, 9, -999, 9, -999, 9, -999, 9, -999, 9, -999, 9, -999, 9,  -999.00, 9,  -999.00, 9,  -999.00, 9,  -999.00, 9,  23.5527,  -999.00, 9, 2311,   41.0529,  -51.7812
316N200309, A20, 14, 1, 35, 35, 2, 20030927, 2103, 41.0243, -51.7923, 5110,    23.90,     23.9,  23.5033,  35.9670, 2,  35.9649, 2,    208.0, 2,    214.6, 2,     0.24, 2,     0.11, 2,     0.00, 2,     0.02, 2,    1.917, 2,    1.183, 2,    0.146, 2, -999.000, 9,   -999.0, 9,   -999.0, 9,  -999.00, 9,  -999.00, 9,    0.867, 2,    0.004, -999.0000, 9, -999.0000,  -999.00, 9,  -999.00, -999.000, 9, -999.000,   -999.0, 9,   -999.0,  -999.00, 9, -999.0000, 9, -999.0000, 9, -999.0000, 9, -999.0000, 9, -999.0000, 9, -999.0000, 9, -999, 9, -999, 9, -999, 9, -999, 9, -999, 9, -999, 9, -999, 9,  -999.00, 9,  -999.00, 9,  -999.00, 9,  -999.00, 9,  23.4983,  -999.00, 9, 2310,   41.0526,  -51.7814
316N200309, A20, 14, 1, 34, 34, 2, 20030927, 2103, 41.0243, -51.7923, 5110,    48.40,     48.4,  23.4527,  36.2801, 2,  36.3000, 2,    205.4, 2,    212.3, 2,     0.33, 2,     0.10, 2,     0.00, 2,     0.01, 2, -999.000, 9, -999.000, 9, -999.000, 9, -999.000, 9,   2037.7, 2,   2373.5, 2,  -999.00, 9,  -999.00, 9,    0.790, 2,    0.004,   1.8246, 2,   0.0091,    -1.48, 2,     0.20,    7.250, 2,    0.036,   -999.0, 9,   -999.0,  -999.00, 9,    0.0670, 2,    0.0430, 2,    0.0150, 2,    0.0080, 2,    0.0290, 2,    0.0290, 2, -999, 9, -999, 9, -999, 9, -999, 9, -999, 9, -999, 9, -999, 9,  -999.00, 9,  -999.00, 9,  -999.00, 9,  -999.00, 9,  23.4426,  -999.00, 9, 2309,   41.0518,  -51.7816
316N200309, A20, 14, 1, 33, 33, 2, 20030927, 2103, 41.0243, -51.7923, 5110,    73.60,     73.6,  22.8801,  36.4376, 2,  36.4881, 2,    203.1, 2,    204.1, 2,     0.42, 2,     0.48, 2,     0.11, 2,     0.03, 2,    2.004, 2,    1.228, 2,    0.137, 2, -999.000, 9,   -999.0, 9,   -999.0, 9,  -999.00, 9,  -999.00, 9, -999.000, 9, -999.000, -999.0000, 9, -999.0000,  -999.00, 9,  -999.00, -999.000, 9, -999.000,   -999.0, 9,   -999.0,  -999.00, 9, -999.0000, 9, -999.0000, 9, -999.0000, 9, -999.0000, 9, -999.0000, 9, -999.0000, 9, -999, 9, -999, 9, -999, 9, -999, 9, -999, 9, -999, 9, -999, 9,  -999.00, 9,  -999.00, 9,  -999.00, 9,  -999.00, 9,  22.8650,  -999.00, 9, 2308,   41.0513,  -51.7818
316N200309, A20, 14, 1, 32, 32, 2, 20030927, 2103, 41.0243, -51.7923, 5110,    98.40,     98.4,  20.4306,  36.6518, 2,  36.6052, 2,    160.7, 2,    170.1, 2,     1.32, 2,     4.68, 2,     0.04, 2,     0.23, 2, -999.000, 9, -999.000, 9, -999.000, 9, -999.000, 9,   2115.9, 2,   2388.1, 2,  -999.00, 9,  -999.00, 9,    0.728, 2,    0.004,   1.8138, 2,   0.0091,     0.11, 2,     0.20,    7.206, 2,    0.036,   -999.0, 9,   -999.0,  -999.00, 9,    0.1090, 2,    0.0780, 2,    0.0370, 2,    0.0280, 2,    0.0170, 2,    0.0190, 2, -999, 9, -999, 9, -999, 9, -999, 9, -999, 9, -999, 9, -999, 9,  -999.00, 9,  -999.00, 9,  -999.00, 9,  -999.00, 9,  20.4120,  -999.00, 9, 2307,   41.0507,  -51.7820
316N200309, A20, 14, 1, 31, 31, 2, 20030927, 2103, 41.0243, -51.7923, 5110,   123.50,    123.5,  18.5656,  36.4839, 2,  36.4836, 2,    159.7, 2,    156.8, 2,     2.42, 2,     8.12, 2,     0.02, 2,     0.43, 2,    2.176, 2,    1.242, 2,    0.039, 2, -999.000, 9,   -999.0, 9,   -999.0, 9,  -999.00, 9,  -999.00, 9, -999.000, 9, -999.000, -999.0000, 9, -999.0000,  -999.00, 9,  -999.00, -999.000, 9, -999.000,   -999.0, 9,   -999.0,  -999.00, 9, -999.0000, 9, -999.0000, 9, -999.0000, 9, -999.0000, 9, -999.0000, 9, -999.0000, 9, -999, 9, -999, 9, -999, 9, -999, 9, -999, 9, -999, 9, -999, 9,  -999.00, 9,  -999.00, 9,  -999.00, 9,  -999.00, 9,  18.5437,  -999.00, 9, 2306,   41.0502,  -51.7821
316N200309, A20, 14, 1, 30, 30, 2, 20030927, 2103, 41.0243, -51.7923, 5110,   148.80,    148.8,  17.9671,  36.4306, 2,  36.4269, 2,    169.4, 2,    168.0, 2,     2.31, 2,     7.72, 2,     0.01, 2,     0.41, 2, -999.000, 9, -999.000, 9, -999.000, 9, -999.000, 9,   -999.0, 9,   -999.0, 9,  -999.00, 9,  -999.00, 9,    0.789, 2,    0.004,   2.0071, 2,   0.0100,     1.02, 2,     0.20,    7.767, 2,    0.039,   -999.0, 9,   -999.0,  -999.00, 9, -999.0000, 9, -999.0000, 9, -999.0000, 9, -999.0000, 9, -999.0000, 9, -999.0000, 9, -999, 9, -999, 9, -999, 9, -999, 9, -999, 9, -999, 9, -999, 9,  -999.00, 9,  -999.00, 9,  -999.00, 9,  -999.00, 9,  17.9413,  -999.00, 9, 2305,   41.0497,  -51.7822
316N200309, A20, 14, 1, 29, 29, 2, 20030927, 2103, 41.0243, -51.7923, 5110,   209.30,    209.3,  16.5627,  36.2398, 2,  36.2414, 2,    174.8, 2,    177.4, 2,     2.71, 2,     8.91, 2,     0.01, 2,     0.50, 2,    2.286, 2,    1.283, 2,    0.040, 2, -999.000, 9,   2127.6, 2,   2365.7, 2,  -999.00, 9,  -999.00, 9, -999.000, 9, -999.000,   1.8230, 2,   0.0091,     1.24, 2,     0.20,    7.368, 2,    0.037,   -999.0, 9,   -999.0,  -999.00, 9,    0.1140, 2,    0.0780, 2,    0.0350, 2,    0.0220, 2,    0.0210, 2,    0.0220, 2, -999, 9, -999, 9, -999, 9, -999, 9, -999, 9, -999, 9, -999, 9,  -999.00, 9,  -999.00, 9,  -999.00, 9,  -999.00, 9,  16.5285,  -999.00, 9, 2303,   41.0491,  -51.7825
316N200309, A20, 14, 1, 28, 28, 2, 20030927, 2103, 41.0243, -51.7923, 5110,   258.60,    258.6,  14.7301,  35.8702, 2,  35.8593, 2,    179.3, 2,    180.0, 2,     3.71, 2,    11.01, 2,     0.01, 2,     0.65, 2, -999.000, 9, -999.000, 9, -999.000, 9, -999.000, 9,   -999.0, 9,   -999.0, 9,  -999.00, 9,  -999.00, 9, -999.000, 9, -999.000, -999.0000, 9, -999.0000,  -999.00, 9,  -999.00, -999.000, 9, -999.000,   -999.0, 9,   -999.0,  -999.00, 9, -999.0000, 9, -999.0000, 9, -999.0000, 9, -999.0000, 9, -999.0000, 9, -999.0000, 9, -999, 9, -999, 9, -999, 9, -999, 9, -999, 9, -999, 9, -999, 9,  -999.00, 9,  -999.00, 9,  -999.00, 9,  -999.00, 9,  14.6911,  -999.00, 9, 2301,   41.0487,  -51.7829
316N200309, A20, 14, 1, 27, 27, 2, 20030927, 2103, 41.0243, -51.7923, 5110,   309.10,    309.1,  13.4457,  35.6696, 2,  35.6784, 2,    174.1, 2,    182.8, 2,     4.72, 2,    12.72, 2,     0.01, 2,     0.77, 2,    2.379, 2,    1.311, 2,    0.099, 2, -999.000, 9,   2139.7, 2,   2339.5, 2,  -999.00, 9,  -999.00, 9,    0.856, 2,    0.004,   1.8684, 2,   0.0093,     2.21, 2,     0.20,    7.635, 2,    0.038,   -999.0, 9,   -999.0,  -999.00, 9,    0.1150, 2,    0.0810, 2,    0.0380, 2,    0.0250, 2,    0.0190, 2,    0.0200, 2, -999, 9, -999, 9, -999, 9, -999, 9, -999, 9, -999, 9, -999, 9,  -999.00, 9,  -999.00, 9,  -999.00, 9,  -999.00, 9,  13.4017,  -999.00, 9, 2300,   41.0482,  -51.7831
316N200309, A20, 14, 1, 26, 26, 2, 20030927, 2103, 41.0243, -51.7923, 5110,   408.60,    408.6,  11.6132,  35.4268, 2,  35.4271, 2,    167.5, 2,    169.4, 2,     7.87, 2,    17.25, 2,     0.01, 2,     1.08, 2, -999.000, 9, -999.000, 9, -999.000, 9, -999.000, 9,   2159.8, 2,   2326.7, 2,  -999.00, 9,  -999.00, 9, -999.000, 9, -999.000, -999.0000, 9, -999.0000,  -999.00, 9,  -999.00, -999.000, 9, -999.000,   -999.0, 9,   -999.0,  -999.00, 9, -999.0000, 9, -999.0000, 9, -999.0000, 9, -999.0000, 9, -999.0000, 9, -999.0000, 9, -999, 9, -999, 9, -999, 9, -999, 9, -999, 9, -999, 9, -999, 9,  -999.00, 9,  -999.00, 9,  -999.00, 9,  -999.00, 9,  11.5603,  -999.00, 9, 2257,   41.0475,  -51.7832
316N200309, A20, 14, 1, 25, 25, 2, 20030927, 2103, 41.0243, -51.7923, 5110,   504.90,    504.9,   9.7404,  35.2139, 2,  35.2243, 2,    147.1, 2,    148.0, 2,    11.85, 2,    22.30, 2,     0.01, 2,     1.41, 2,    1.396, 2,    0.742, 2,    0.058, 2, -999.000, 9,   2182.1, 2,   2312.8, 2,  -999.00, 9,  -999.00, 9,    0.571, 2,    0.002,   1.8640, 2,   0.0093,     5.66, 2,     0.20,    7.732, 2,    0.039,   -999.0, 9,   -999.0,  -999.00, 9,    0.1130, 2,    0.0790, 2,    0.0380, 2,    0.0260, 2,    0.0180, 2,    0.0200, 2, -999, 9, -999, 9, -999, 9, -999, 9, -999, 9, -999, 9, -999, 9,  -999.00, 9,  -999.00, 9,  -999.00, 9,  -999.00, 9,   9.6817,  -999.00, 9, 2255,   41.0469,  -51.7834
316N200309, A20, 14, 1, 24, 24, 2, 20030927, 2103, 41.0243, -51.7923, 5110,   627.60,    627.6,   7.8445,  35.1078, 2,  35.1067, 2,    161.1, 2,    161.3, 2,    14.09, 2,    23.69, 2,     0.00, 2,     1.52, 2, -999.000, 9, -999.000, 9, -999.000, 9, -999.000, 9,   -999.0, 9,   -999.0, 9,  -999.00, 9,  -999.00, 9,    0.473, 2,    0.002,   1.9091, 2,   0.0095,     5.21, 2,     0.20,    7.928, 2,    0.040,   -999.0, 9,   -999.0,  -999.00, 9, -999.0000, 9, -999.0000, 9, -999.0000, 9, -999.0000, 9, -999.0000, 9, -999.0000, 9, -999, 9, -999, 9, -999, 9, -999, 9, -999, 9, -999, 9, -999, 9,  -999.00, 9,  -999.00, 9,  -999.00, 9,  -999.00, 9,   7.7798,  -999.00, 9, 2252,   41.0461,  -51.7836
316N200309, A20, 14, 1, 23, 23, 2, 20030927, 2103, 41.0243, -51.7923, 5110,   751.50,    751.5,   6.1466,  35.0480, 2,  35.0482, 2,    207.9, 2,    202.5, 2,    12.95, 2,    21.06, 2,     0.00, 2,     1.36, 2,    1.622, 2,    0.887, 2,    0.107, 2, -999.000, 9,   2179.4, 2,   2304.4, 2,  -999.00, 9,  -999.00, 9, -999.000, 9, -999.000,   1.8493, 2,   0.0092,     6.77, 2,     0.20,    7.816, 2,    0.039,   -999.0, 9,   -999.0,  -999.00, 9, -999.0000, 9, -999.0000, 9, -999.0000, 9, -999.0000, 9, -999.0000, 9, -999.0000, 9, -999, 9, -999, 9, -999, 9, -999, 9, -999, 9, -999, 9, -999, 9,  -999.00, 9,  -999.00, 9,  -999.00, 9,  -999.00, 9,   6.0782,  -999.00, 9, 2249,   41.0454,  -51.7840
316N200309, A20, 14, 1, 22, 22, 2, 20030927, 2103, 41.0243, -51.7923, 5110,   902.70,    902.7,   4.7959,  34.9674, 2,  34.9697, 2,    246.4, 2,    245.4, 2,    11.10, 2,    18.38, 2,     0.00, 2,     1.20, 2, -999.000, 9, -999.000, 9, -999.000, 9, -999.000, 9,   2169.6, 2,   2301.1, 2,  -999.00, 9,  -999.00, 9,    0.710, 2,    0.003,   1.8567, 2,   0.0093,     5.37, 2,     0.20,    7.874, 2,    0.039,   -999.0, 9,   -999.0,  -999.00, 9, -999.0000, 9, -999.0000, 9, -999.0000, 9, -999.0000, 9, -999.0000, 9, -999.0000, 9, -999, 9, -999, 9, -999, 9, -999, 9, -999, 9, -999, 9, -999, 9,  -999.00, 9,  -999.00, 9,  -999.00, 9,  -999.00, 9,   4.7220,  -999.00, 9, 2245,   41.0447,  -51.7849
316N200309, A20, 14, 1, 21, 21, 2, 20030927, 2103, 41.0243, -51.7923, 5110,  1051.10,   1051.1,   4.3936,  34.9578, 2,  34.9593, 2,    257.1, 2,    259.2, 2,    10.67, 2,    17.83, 2,     0.00, 2,     1.16, 2,    2.945, 2,    1.517, 2,    0.194, 2, -999.000, 9,   -999.0, 9,   -999.0, 9,  -999.00, 9,  -999.00, 9,    0.826, 2,    0.003,   1.8709, 2,   0.0094,     5.28, 2,     0.20,    7.954, 2,    0.040,   -999.0, 9,   -999.0,  -999.00, 9,    0.1270, 2,    0.0870, 2,    0.0390, 2,    0.0250, 2,    0.0200, 2,    0.0220, 2, -999, 9, -999, 9, -999, 9, -999, 9, -999, 9, -999, 9, -999, 9,  -999.00, 9,  -999.00, 9,  -999.00, 9,  -999.00, 9,   4.3097,  -999.00, 9, 2242,   41.0441,  -51.7851
316N200309, A20, 14, 1, 20, 20, 2, 20030927, 2103, 41.0243, -51.7923, 5110,  1203.70,   1203.7,   4.1710,  34.9480, 2,  34.9504, 2,    262.1, 2,    264.3, 2,    10.57, 2,    17.59, 2,     0.00, 2,     1.15, 2, -999.000, 9, -999.000, 9, -999.000, 9, -999.000, 9,   -999.0, 9,   -999.0, 9,  -999.00, 9,  -999.00, 9, -999.000, 9, -999.000, -999.0000, 9, -999.0000,  -999.00, 9,  -999.00, -999.000, 9, -999.000,   -999.0, 9,   -999.0,  -999.00, 9, -999.0000, 9, -999.0000, 9, -999.0000, 9, -999.0000, 9, -999.0000, 9, -999.0000, 9, -999, 9, -999, 9, -999, 9, -999, 9, -999, 9, -999, 9, -999, 9,  -999.00, 9,  -999.00, 9,  -999.00, 9,  -999.00, 9,   4.0757,  -999.00, 9, 2238,   41.0433,  -51.7854
316N200309, A20, 14, 1, 19, 19, 2, 20030927, 2103, 41.0243, -51.7923, 5110,  1329.10,   1329.1,   3.9262,  34.9260, 2,  34.9254, 2,    267.7, 2,    270.9, 2,    10.35, 2,    17.33, 2,     0.00, 2,     1.13, 2,    3.216, 2,    1.651, 2,    0.224, 2, -999.000, 9,   -999.0, 9,   -999.0, 9,  -999.00, 9,  -999.00, 9,    0.822, 2,    0.004,   1.8680, 2,   0.0093,     5.12, 2,     0.20,    7.974, 2,    0.040,   -999.0, 9,   -999.0,  -999.00, 9, -999.0000, 9, -999.0000, 9, -999.0000, 9, -999.0000, 9, -999.0000, 9, -999.0000, 9, -999, 9, -999, 9, -999, 9, -999, 9, -999, 9, -999, 9, -999, 9,  -999.00, 9,  -999.00, 9,  -999.00, 9,  -999.00, 9,   3.8222,  -999.00, 9, 2234,   41.0425,  -51.7857
316N200309, A20, 14, 1, 18, 18, 2, 20030927, 2103, 41.0243, -51.7923, 5110,  1450.20,   1450.2,   3.9087,  34.9393, 2,  34.9396, 2,    273.6, 2,    268.3, 2,    10.85, 2,    17.53, 2,     0.00, 2,     1.14, 2, -999.000, 9, -999.000, 9, -999.000, 9, -999.000, 9,   -999.0, 9,   -999.0, 9,  -999.00, 9,  -999.00, 9,    0.761, 2,    0.003,   1.8718, 2,   0.0094,     6.48, 2,     0.20,    7.981, 2,    0.040,   -999.0, 9,   -999.0,  -999.00, 9, -999.0000, 9, -999.0000, 9, -999.0000, 9, -999.0000, 9, -999.0000, 9, -999.0000, 9, -999, 9, -999, 9, -999, 9, -999, 9, -999, 9, -999, 9, -999, 9,  -999.00, 9,  -999.00, 9,  -999.00, 9,  -999.00, 9,   3.7941,  -999.00, 9, 2231,   41.0419,  -51.7855
316N200309, A20, 14, 1, 17, 17, 2, 20030927, 2103, 41.0243, -51.7923, 5110,  1576.20,   1576.2,   3.7620,  34.9293, 2,  34.9292, 2,    274.4, 2,    271.2, 2,    10.94, 2,    17.42, 2,     0.00, 2,     1.13, 2,    2.777, 2,    1.389, 2,    0.173, 2, -999.000, 9,   -999.0, 9,   -999.0, 9,  -999.00, 9,  -999.00, 9, -999.000, 9, -999.000, -999.0000, 9, -999.0000,  -999.00, 9,  -999.00, -999.000, 9, -999.000,   -999.0, 9,   -999.0,  -999.00, 9, -999.0000, 9, -999.0000, 9, -999.0000, 9, -999.0000, 9, -999.0000, 9, -999.0000, 9, -999, 9, -999, 9, -999, 9, -999, 9, -999, 9, -999, 9, -999, 9,  -999.00, 9,  -999.00, 9,  -999.00, 9,  -999.00, 9,   3.6377,  -999.00, 9, 2228,   41.0412,  -51.7852
316N200309, A20, 14, 1, 16, 16, 2, 20030927, 2103, 41.0243, -51.7923, 5110,  1701.40,   1701.4,   3.7145,  34.9347, 2,  34.9370, 2,    271.3, 2,    270.0, 2,    11.44, 2,    17.52, 2,     0.00, 2,     1.14, 2, -999.000, 9, -999.000, 9, -999.000, 9, -999.000, 9,   -999.0, 9,   -999.0, 9,  -999.00, 9,  -999.00, 9, -999.000, 9, -999.000,   1.7103, 2,   0.0086,     6.82, 2,     0.20,    7.463, 2,    0.037,   -999.0, 9,   -999.0,  -999.00, 9, -999.0000, 9, -999.0000, 9, -999.0000, 9, -999.0000, 9, -999.0000, 9, -999.0000, 9, -999, 9, -999, 9, -999, 9, -999, 9, -999, 9, -999, 9, -999, 9,  -999.00, 9,  -999.00, 9,  -999.00, 9,  -999.00, 9,   3.5794,  -999.00, 9, 2224,   41.0404,  -51.7854
316N200309, A20, 14, 1, 15, 15, 2, 20030927, 2103, 41.0243, -51.7923, 5110,  1851.80,   1851.8,   3.5921,  34.9263, 2,  34.9276, 2,    274.0, 2,    272.5, 2,    11.63, 2,    17.41, 2,     0.00, 2,     1.14, 2,    2.404, 2,    1.187, 2,    0.135, 2, -999.000, 9,   -999.0, 9,   -999.0, 9,  -999.00, 9,  -999.00, 9, -999.000, 9, -999.000, -999.0000, 9, -999.0000,  -999.00, 9,  -999.00, -999.000, 9, -999.000,   -999.0, 9,   -999.0,  -999.00, 9, -999.0000, 9, -999.0000, 9, -999.0000, 9, -999.0000, 9, -999.0000, 9, -999.0000, 9, -999, 9, -999, 9, -999, 9, -999, 9, -999, 9, -999, 9, -999, 9,  -999.00, 9,  -999.00, 9,  -999.00, 9,  -999.00, 9,   3.4448,  -999.00, 9, 2221,   41.0397,  -51.7855
316N200309, A20, 14, 1, 14, 14, 2, 20030927, 2103, 41.0243, -51.7923, 5110,  2002.20,   2002.2,   3.4255,  34.9118, 2,  34.9130, 2,    272.2, 2,    276.1, 2,    11.62, 2,    17.31, 2,     0.00, 2,     1.13, 2,    2.481, 2,    1.220, 2,    0.138, 2, -999.000, 9,   -999.0, 9,   -999.0, 9,  -999.00, 9,  -999.00, 9, -999.000, 9, -999.000,   1.8725, 2,   0.0094,     6.99, 2,     0.20,    8.010, 2,    0.040,   -999.0, 9,   -999.0,  -999.00, 9,    0.1070, 2,    0.0730, 2,    0.0330, 2,    0.0200, 2,    0.0220, 2,    0.0230, 2, -999, 9, -999, 9, -999, 9, -999, 9, -999, 9, -999, 9, -999, 9,  -999.00, 9,  -999.00, 9,  -999.00, 9,  -999.00, 9,   3.2665,  -999.00, 9, 2217,   41.0390,  -51.7859
316N200309, A20, 14, 1, 13, 13, 2, 20030927, 2103, 41.0243, -51.7923, 5110,  2253.40,   2253.4,   3.2630,  34.9073, 2,  34.9113, 2,    269.2, 2,    277.9, 2,    11.92, 2,    17.11, 2,     0.00, 2,     1.12, 2,    2.488, 2,    1.215, 2,    0.143, 2, -999.000, 9,   -999.0, 9,   -999.0, 9,  -999.00, 9,  -999.00, 9,    0.735, 2,    0.003,   1.8664, 2,   0.0093,     6.58, 2,     0.20,    7.986, 2,    0.040,   -999.0, 9,   -999.0,  -999.00, 9, -999.0000, 9, -999.0000, 9, -999.0000, 9, -999.0000, 9, -999.0000, 9, -999.0000, 9, -999, 9, -999, 9, -999, 9, -999, 9, -999, 9, -999, 9, -999, 9,  -999.00, 9,  -999.00, 9,  -999.00, 9,  -999.00, 9,   3.0826,  -999.00, 9, 2211,   41.0380,  -51.7864
316N200309, A20, 14, 1, 12, 12, 2, 20030927, 2103, 41.0243, -51.7923, 5110,  2501.20,   2501.2,   3.1181,  34.9110, 2,  34.9128, 2,    275.9, 2,    277.2, 2,    12.73, 2,    16.91, 2,     0.00, 2,     1.11, 2,    2.231, 2,    1.096, 2,    0.125, 2, -999.000, 9,   -999.0, 9,   -999.0, 9,  -999.00, 9,  -999.00, 9,    0.709, 2,    0.003, -999.0000, 9, -999.0000,  -999.00, 9,  -999.00, -999.000, 9, -999.000,   -999.0, 9,   -999.0,  -999.00, 9, -999.0000, 9, -999.0000, 9, -999.0000, 9, -999.0000, 9, -999.0000, 9, -999.0000, 9, -999, 9, -999, 9, -999, 9, -999, 9, -999, 9, -999, 9, -999, 9,  -999.00, 9,  -999.00, 9,  -999.00, 9,  -999.00, 9,   2.9160,  -999.00, 9, 2206,   41.0371,  -51.7871
316N200309, A20, 14, 1, 11, 11, 2, 20030927, 2103, 41.0243, -51.7923, 5110,  2750.30,   2750.3,   3.0014,  34.9159, 2,  34.9172, 2,    275.3, 2,    276.0, 2,    13.74, 2,    16.81, 2,     0.00, 2,     1.11, 2,    2.005, 2,    0.990, 2,    0.107, 2, -999.000, 9,   -999.0, 9,   -999.0, 9,  -999.00, 9,  -999.00, 9,    0.648, 2,    0.003,   1.8954, 2,   0.0095,     6.67, 2,     0.20,    8.111, 2,    0.041,   -999.0, 9,   -999.0,  -999.00, 9, -999.0000, 9, -999.0000, 9, -999.0000, 9, -999.0000, 9, -999.0000, 9, -999.0000, 9, -999, 9, -999, 9, -999, 9, -999, 9, -999, 9, -999, 9, -999, 9,  -999.00, 9,  -999.00, 9,  -999.00, 9,  -999.00, 9,   2.7765,  -999.00, 9, 2201,   41.0361,  -51.7881