BOTTLE,20220816CCHSIOAMB
EXPOCODE,SECT_ID,STNNBR,CASTNO,SAMPNO,BTLNBR,BTLNBR_FLAG_W,DATE,TIME,LATITUDE,LONGITUDE,DEPTH,CTDRAW,CTDPRS,CTDTMP,CTDSAL,CTDSAL_FLAG_W,SALNTY,SALNTY_FLAG_W,CTDOXY,CTDOXY_FLAG_W,OXYGEN,OXYGEN_FLAG_W,SILCAT,SILCAT_FLAG_W,NITRAT,NITRAT_FLAG_W,NITRIT,NITRIT_FLAG_W,PHSPHT,PHSPHT_FLAG_W,CFC-11,CFC-11_FLAG_W,CFC-12,CFC-12_FLAG_W,CFC113,CFC113_FLAG_W,CCL4,CCL4_FLAG_W,TCARBN,TCARBN_FLAG_W,ALKALI,ALKALI_FLAG_W,DOC,DOC_FLAG_W,TDN,TDN_FLAG_W,TRITUM,TRITUM_FLAG_W,TRITER,HELIUM,HELIUM_FLAG_W,HELIER,DELHE3,DELHE3_FLAG_W,DELHER,NEON,NEON_FLAG_W,NEONER,DELC14,DELC14_FLAG_W,C14ERR,DELC13,DELC13_FLAG_W,CDOM325,CDOM325_FLAG_W,CDOM340,CDOM340_FLAG_W,CDOM380,CDOM380_FLAG_W,CDOM412,CDOM412_FLAG_W,CDOMSL,CDOMSL_FLAG_W,CDOMSN,CDOMSN_FLAG_W,DCNS,DCNS_FLAG_W,ARABI,ARABI_FLAG_W,FUCO,FUCO_FLAG_W,GALA,GALA_FLAG_W,GLUC,GLUC_FLAG_W,MAN,MAN_FLAG_W,RHAM,RHAM_FLAG_W,BRDU,BRDU_FLAG_W,PEUK,PEUK_FLAG_W,PROC,PROC_FLAG_W,SYN,SYN_FLAG_W,THETA,BACT,BACT_FLAG_W,BTL_TIME,BTL_LAT,BTL_LON
,,,,,,,,,,,METERS,DBAR,DBAR,ITS-90,PSS-78,,PSS-78,,UMOL/KG,,UMOL/KG,,UMOL/KG,,UMOL/KG,,UMOL/KG,,UMOL/KG,,PMOL/KG,,PMOL/KG,,PMOL/KG,,PMOL/KG,,UMOL/KG,,UMOL/KG,,UMOL/KG,,UMOL/KG,,TU,,TU,NMOL/KG,,NMOL/KG,PERCNT,,PERCNT,NMOL/KG,,NMOL/KG,/MILLE,,/MILLE,/MILLE,,1/M,,1/M,,1/M,,1/M,,1/NM,,1/NM,,NMOL/KG,,NMOL/KG,,NMOL/KG,,NMOL/KG,,NMOL/KG,,NMOL/KG,,NMOL/KG,,PMOL/L/H,,E6/L,,E7/L,,E6/L,,DEG C,E8/L,,,,
316N200309, A20, 30, 1, 10, 10, 2, 20031004, 0036, 26.1635, -52.3452, 5828,  3499.90,   3499.9,   2.4820,  34.9103, 2,  34.9095, 4,    257.5, 2,    272.3, 4,    37.43, 2,    20.59, 2,     0.00, 2,     1.40, 2,    0.005, 6,    0.017, 6,    0.006, 2,    0.178, 2,   2183.0, 2,   2325.6, 2,  -999.00, 9,  -999.00, 9, -999.000, 9, -999.000, -999.0000, 9, -999.0000,  -999.00, 9,  -999.00, -999.000, 9, -999.000,   -999.0, 9,   -999.0,  -999.00, 9, -999.0000, 9, -999.0000, 9, -999.0000, 9, -999.0000, 9, -999.0000, 9, -999.0000, 9, -999, 9, -999, 9, -999, 9, -999, 9, -999, 9, -999, 9, -999, 9,  -999.00, 9,  -999.00, 9,  -999.00, 9,  -999.00, 9,   2.1900,  -999.00, 9,  140,   26.1599,  -52.3430
316N200309, A20, 30, 1, 9, 9, 3, 20031004, 0036, 26.1635, -52.3452, 5828,  3750.90,   3750.9,   2.3439,  34.8969, 2,  35.0272, 4,    258.1, 2,    259.2, 4,    35.23, 4,    20.19, 4,     0.00, 4,     1.36, 4,    0.200, 2,    0.133, 2, -999.000, 5,    0.247, 2,   2178.7, 2,   2334.4, 2,  -999.00, 9,  -999.00, 9, -999.000, 9, -999.000, -999.0000, 9, -999.0000,  -999.00, 9,  -999.00, -999.000, 9, -999.000,   -999.0, 9,   -999.0,  -999.00, 9, -999.0000, 9, -999.0000, 9, -999.0000, 9, -999.0000, 9, -999.0000, 9, -999.0000, 9, -999, 9, -999, 9, -999, 9, -999, 9, -999, 9, -999, 9, -999, 9,  -999.00, 9,  -999.00, 9,  -999.00, 9,  -999.00, 9,   2.0281,  -999.00, 9,  135,   26.1598,  -52.3432
316N200309, A20, 30, 1, 8, 8, 2, 20031004, 0036, 26.1635, -52.3452, 5828,  4001.10,   4001.1,   2.2630,  34.8876, 2,  34.8877, 4,    257.6, 2,    270.7, 4,    42.61, 2,    21.10, 2,     0.00, 2,     1.44, 2,    0.014, 6,    0.015, 6,    0.001, 2,    0.172, 2,   2188.2, 2,   2335.2, 2,  -999.00, 9,  -999.00, 9, -999.000, 9, -999.000, -999.0000, 9, -999.0000,  -999.00, 9,  -999.00, -999.000, 9, -999.000,   -999.0, 9,   -999.0,  -999.00, 9,    0.1330, 2,    0.0920, 2,    0.0430, 2,    0.0270, 2,    0.0190, 2,    0.0210, 2, -999, 9, -999, 9, -999, 9, -999, 9, -999, 9, -999, 9, -999, 9,  -999.00, 9,  -999.00, 9,  -999.00, 9,  -999.00, 9,   1.9213,  -999.00, 9,  130,   26.1598,  -52.3434
316N200309, A20, 30, 1, 7, 7, 2, 20031004, 0036, 26.1635, -52.3452, 5828,  4249.20,   4249.2,   2.1941,  34.8789, 2,  34.8839, 4,    256.8, 2,    267.6, 4,    45.29, 2,    21.35, 2,     0.00, 2,     1.46, 2,    0.017, 6,    0.020, 6,    0.007, 2,    0.213, 2,   2189.9, 2,   2336.3, 2,  -999.00, 9,  -999.00, 9, -999.000, 9, -999.000, -999.0000, 9, -999.0000,  -999.00, 9,  -999.00, -999.000, 9, -999.000,   -999.0, 9,   -999.0,  -999.00, 9, -999.0000, 9, -999.0000, 9, -999.0000, 9, -999.0000, 9, -999.0000, 9, -999.0000, 9, -999, 9, -999, 9, -999, 9, -999, 9, -999, 9, -999, 9, -999, 9,  -999.00, 9,  -999.00, 9,  -999.00, 9,  -999.00, 9,   1.8259,  -999.00, 9,  124,   26.1599,  -52.3435
316N200309, A20, 30, 1, 6, 6, 2, 20031004, 0036, 26.1635, -52.3452, 5828,  4500.20,   4500.2,   2.1561,  34.8725, 2,  34.8770, 4,    255.8, 2,    264.1, 4,    47.49, 2,    21.65, 2,     0.00, 2,     1.48, 2,    0.012, 2,    0.043, 2, -999.000, 5,    0.202, 2,   2192.6, 2,   2337.9, 2,  -999.00, 9,  -999.00, 9, -999.000, 9, -999.000, -999.0000, 9, -999.0000,  -999.00, 9,  -999.00, -999.000, 9, -999.000,   -999.0, 9,   -999.0,  -999.00, 9, -999.0000, 9, -999.0000, 9, -999.0000, 9, -999.0000, 9, -999.0000, 9, -999.0000, 9, -999, 9, -999, 9, -999, 9, -999, 9, -999, 9, -999, 9, -999, 9,  -999.00, 9,  -999.00, 9,  -999.00, 9,  -999.00, 9,   1.7595,  -999.00, 9,  119,   26.1600,  -52.3437
316N200309, A20, 30, 1, 5, 5, 2, 20031004, 0036, 26.1635, -52.3452, 5828,  4801.60,   4801.6,   2.1343,  34.8667, 2,  34.8827, 4,    255.0, 2,    251.9, 4,    49.29, 2,    21.90, 2,     0.00, 2,     1.49, 2,    0.025, 6,    0.030, 6,    0.003, 2,    0.200, 2,   2195.1, 2,   2338.5, 2,  -999.00, 9,  -999.00, 9, -999.000, 9, -999.000, -999.0000, 9, -999.0000,  -999.00, 9,  -999.00, -999.000, 9, -999.000,   -999.0, 9,   -999.0,  -999.00, 9, -999.0000, 9, -999.0000, 9, -999.0000, 9, -999.0000, 9, -999.0000, 9, -999.0000, 9, -999, 9, -999, 9, -999, 9, -999, 9, -999, 9, -999, 9, -999, 9,  -999.00, 9,  -999.00, 9,  -999.00, 9,  -999.00, 9,   1.7019,  -999.00, 9,  111,   26.1602,  -52.3437
316N200309, A20, 30, 1, 4, 4, 2, 20031004, 0036, 26.1635, -52.3452, 5828,  5049.70,   5049.7,   2.1336,  34.8631, 2,  34.8635, 4,    254.5, 2,    251.1, 4,    50.68, 2,    22.05, 2,     0.00, 2,     1.51, 2,    0.018, 2,    0.025, 2, -999.000, 5,    0.212, 2,   2195.6, 2,   2330.1, 3,  -999.00, 9,  -999.00, 9, -999.000, 9, -999.000, -999.0000, 9, -999.0000,  -999.00, 9,  -999.00, -999.000, 9, -999.000,   -999.0, 9,   -999.0,  -999.00, 9, -999.0000, 9, -999.0000, 9, -999.0000, 9, -999.0000, 9, -999.0000, 9, -999.0000, 9, -999, 9, -999, 9, -999, 9, -999, 9, -999, 9, -999, 9, -999, 9,  -999.00, 9,  -999.00, 9,  -999.00, 9,  -999.00, 9,   1.6705,  -999.00, 9,  105,   26.1610,  -52.3439
316N200309, A20, 30, 1, 3, 3, 2, 20031004, 0036, 26.1635, -52.3452, 5828,  5299.60,   5299.6,   2.1303,  34.8589, 2,  34.8792, 4,    253.0, 2,    250.4, 4,    52.18, 2,    22.26, 2,     0.00, 2,     1.52, 2,    0.021, 6,    0.019, 6,    0.008, 2,    0.196, 2,   2196.6, 2,   2341.2, 2,  -999.00, 9,  -999.00, 9, -999.000, 9, -999.000, -999.0000, 9, -999.0000,  -999.00, 9,  -999.00, -999.000, 9, -999.000,   -999.0, 9,   -999.0,  -999.00, 9, -999.0000, 9, -999.0000, 9, -999.0000, 9, -999.0000, 9, -999.0000, 9, -999.0000, 9, -999, 9, -999, 9, -999, 9, -999, 9, -999, 9, -999, 9, -999, 9,  -999.00, 9,  -999.00, 9,  -999.00, 9,  -999.00, 9,   1.6355,  -999.00, 9,   57,   26.1620,  -52.3443
316N200309, A20, 30, 1, 2, 2, 2, 20031004, 0036, 26.1635, -52.3452, 5828,  5601.70,   5601.7,   2.1183,  34.8526, 2,  34.8528, 4,    251.5, 2,    249.2, 4,    54.48, 2,    22.51, 2,     0.00, 2,     1.54, 2,    0.035, 6,    0.031, 6,    0.004, 2,    0.239, 2,   2199.1, 2,   2330.3, 3,  -999.00, 9,  -999.00, 9, -999.000, 9, -999.000, -999.0000, 9, -999.0000,  -999.00, 9,  -999.00, -999.000, 9, -999.000,   -999.0, 9,   -999.0,  -999.00, 9, -999.0000, 9, -999.0000, 9, -999.0000, 9, -999.0000, 9, -999.0000, 9, -999.0000, 9, -999, 9, -999, 9, -999, 9, -999, 9, -999, 9, -999, 9, -999, 9,  -999.00, 9,  -999.00, 9,  -999.00, 9,  -999.00, 9,   1.5846,  -999.00, 9,   47,   26.1636,  -52.3448
316N200309, A20, 30, 1, 1, 1, 2, 20031004, 0036, 26.1635, -52.3452, 5828,  5896.10,   5896.1,   2.1263,  34.8485, 2,  34.8662, 4,    253.1, 2,    248.6, 4,    55.87, 2,    22.76, 2,     0.00, 2,     1.56, 2,    0.042, 6,    0.038, 2,    0.006, 2,    0.216, 2,   2201.7, 2,   2343.4, 2,  -999.00, 9,  -999.00, 9, -999.000, 9, -999.000, -999.0000, 9, -999.0000,  -999.00, 9,  -999.00, -999.000, 9, -999.000,   -999.0, 9,   -999.0,  -999.00, 9,    0.1300, 2,    0.0900, 2,    0.0430, 2,    0.0280, 2,    0.0190, 2,    0.0200, 2, -999, 9, -999, 9, -999, 9, -999, 9, -999, 9, -999, 9, -999, 9,  -999.00, 9,  -999.00, 9,  -999.00, 9,  -999.00, 9,   1.5529,  -999.00, 9,   36,   26.1635,  -52.3452