BOTTLE,20220816CCHSIOAMB
EXPOCODE,SECT_ID,STNNBR,CASTNO,SAMPNO,BTLNBR,BTLNBR_FLAG_W,DATE,TIME,LATITUDE,LONGITUDE,DEPTH,CTDRAW,CTDPRS,CTDTMP,CTDSAL,CTDSAL_FLAG_W,SALNTY,SALNTY_FLAG_W,CTDOXY,CTDOXY_FLAG_W,OXYGEN,OXYGEN_FLAG_W,SILCAT,SILCAT_FLAG_W,NITRAT,NITRAT_FLAG_W,NITRIT,NITRIT_FLAG_W,PHSPHT,PHSPHT_FLAG_W,CFC-11,CFC-11_FLAG_W,CFC-12,CFC-12_FLAG_W,CFC113,CFC113_FLAG_W,CCL4,CCL4_FLAG_W,TCARBN,TCARBN_FLAG_W,ALKALI,ALKALI_FLAG_W,DOC,DOC_FLAG_W,TDN,TDN_FLAG_W,TRITUM,TRITUM_FLAG_W,TRITER,HELIUM,HELIUM_FLAG_W,HELIER,DELHE3,DELHE3_FLAG_W,DELHER,NEON,NEON_FLAG_W,NEONER,DELC14,DELC14_FLAG_W,C14ERR,DELC13,DELC13_FLAG_W,CDOM325,CDOM325_FLAG_W,CDOM340,CDOM340_FLAG_W,CDOM380,CDOM380_FLAG_W,CDOM412,CDOM412_FLAG_W,CDOMSL,CDOMSL_FLAG_W,CDOMSN,CDOMSN_FLAG_W,DCNS,DCNS_FLAG_W,ARABI,ARABI_FLAG_W,FUCO,FUCO_FLAG_W,GALA,GALA_FLAG_W,GLUC,GLUC_FLAG_W,MAN,MAN_FLAG_W,RHAM,RHAM_FLAG_W,BRDU,BRDU_FLAG_W,PEUK,PEUK_FLAG_W,PROC,PROC_FLAG_W,SYN,SYN_FLAG_W,THETA,BACT,BACT_FLAG_W,BTL_TIME,BTL_LAT,BTL_LON
,,,,,,,,,,,METERS,DBAR,DBAR,ITS-90,PSS-78,,PSS-78,,UMOL/KG,,UMOL/KG,,UMOL/KG,,UMOL/KG,,UMOL/KG,,UMOL/KG,,PMOL/KG,,PMOL/KG,,PMOL/KG,,PMOL/KG,,UMOL/KG,,UMOL/KG,,UMOL/KG,,UMOL/KG,,TU,,TU,NMOL/KG,,NMOL/KG,PERCNT,,PERCNT,NMOL/KG,,NMOL/KG,/MILLE,,/MILLE,/MILLE,,1/M,,1/M,,1/M,,1/M,,1/NM,,1/NM,,NMOL/KG,,NMOL/KG,,NMOL/KG,,NMOL/KG,,NMOL/KG,,NMOL/KG,,NMOL/KG,,PMOL/L/H,,E6/L,,E7/L,,E6/L,,DEG C,E8/L,,,,
316N200309, A20, 16, 1, 10, 10, 2, 20030928, 1114, 40.0065, -51.8187, 4748,  3098.70,   3098.7,   2.7156,  34.9252, 2,  34.9250, 2,    268.9, 2,    268.6, 2,    20.68, 2,    17.75, 2,     0.00, 2,     1.20, 2,    0.722, 2,    0.358, 2,    0.034, 2, -999.000, 9,   -999.0, 9,   -999.0, 9,  -999.00, 9,  -999.00, 9, -999.000, 9, -999.000, -999.0000, 9, -999.0000,  -999.00, 9,  -999.00, -999.000, 9, -999.000,   -999.0, 9,   -999.0,  -999.00, 9, -999.0000, 9, -999.0000, 9, -999.0000, 9, -999.0000, 9, -999.0000, 9, -999.0000, 9, -999, 9, -999, 9, -999, 9, -999, 9, -999, 9, -999, 9, -999, 9,  -999.00, 9,  -999.00, 9,  -999.00, 9,  -999.00, 9,   2.4608,  -999.00, 9, 1154,   40.0095,  -51.8298
316N200309, A20, 16, 1, 9, 9, 2, 20030928, 1114, 40.0065, -51.8187, 4748,  3296.00,   3296.0,   2.5856,  34.9183, 2,  34.9179, 2,    268.8, 2,    267.9, 2,    22.83, 2,    18.14, 2,     0.00, 2,     1.21, 2,    0.645, 2,    0.324, 2,    0.035, 2, -999.000, 9,   -999.0, 9,   -999.0, 9,  -999.00, 9,  -999.00, 9, -999.000, 9, -999.000, -999.0000, 9, -999.0000,  -999.00, 9,  -999.00, -999.000, 9, -999.000,   -999.0, 9,   -999.0,  -999.00, 9, -999.0000, 9, -999.0000, 9, -999.0000, 9, -999.0000, 9, -999.0000, 9, -999.0000, 9, -999, 9, -999, 9, -999, 9, -999, 9, -999, 9, -999, 9, -999, 9,  -999.00, 9,  -999.00, 9,  -999.00, 9,  -999.00, 9,   2.3130,  -999.00, 9, 1149,   40.0091,  -51.8285
316N200309, A20, 16, 1, 8, 8, 2, 20030928, 1114, 40.0065, -51.8187, 4748,  3499.60,   3499.6,   2.4217,  34.9074, 2,  34.9069, 2,    269.6, 2,    268.8, 2,    24.76, 2,    18.18, 2,     0.00, 2,     1.22, 2,    0.711, 2,    0.342, 2,    0.043, 2, -999.000, 9,   -999.0, 9,   -999.0, 9,  -999.00, 9,  -999.00, 9, -999.000, 9, -999.000, -999.0000, 9, -999.0000,  -999.00, 9,  -999.00, -999.000, 9, -999.000,   -999.0, 9,   -999.0,  -999.00, 9, -999.0000, 9, -999.0000, 9, -999.0000, 9, -999.0000, 9, -999.0000, 9, -999.0000, 9, -999, 9, -999, 9, -999, 9, -999, 9, -999, 9, -999, 9, -999, 9,  -999.00, 9,  -999.00, 9,  -999.00, 9,  -999.00, 9,   2.1313,  -999.00, 9, 1145,   40.0087,  -51.8272
316N200309, A20, 16, 1, 7, 7, 3, 20030928, 1114, 40.0065, -51.8187, 4748,  3698.80,   3698.8,   2.3262,  34.9000, 2,  34.8997, 2,    268.3, 2,    267.7, 2,    27.43, 2,    18.48, 2,     0.00, 2,     1.25, 2, -999.000, 9, -999.000, 9, -999.000, 9, -999.000, 9,   -999.0, 9,   -999.0, 9,  -999.00, 9,  -999.00, 9, -999.000, 9, -999.000, -999.0000, 9, -999.0000,  -999.00, 9,  -999.00, -999.000, 9, -999.000,   -999.0, 9,   -999.0,  -999.00, 9, -999.0000, 9, -999.0000, 9, -999.0000, 9, -999.0000, 9, -999.0000, 9, -999.0000, 9, -999, 9, -999, 9, -999, 9, -999, 9, -999, 9, -999, 9, -999, 9,  -999.00, 9,  -999.00, 9,  -999.00, 9,  -999.00, 9,   2.0165,  -999.00, 9, 1140,   40.0084,  -51.8259
316N200309, A20, 16, 1, 6, 6, 2, 20030928, 1114, 40.0065, -51.8187, 4748,  3899.80,   3899.8,   2.2734,  34.8942, 2,  34.8943, 2,    266.9, 2,    266.9, 2,    30.00, 2,    18.82, 2,     0.00, 2,     1.27, 2,    0.627, 2,    0.308, 2,    0.030, 2, -999.000, 9,   -999.0, 9,   -999.0, 9,  -999.00, 9,  -999.00, 9, -999.000, 9, -999.000, -999.0000, 9, -999.0000,  -999.00, 9,  -999.00, -999.000, 9, -999.000,   -999.0, 9,   -999.0,  -999.00, 9, -999.0000, 9, -999.0000, 9, -999.0000, 9, -999.0000, 9, -999.0000, 9, -999.0000, 9, -999, 9, -999, 9, -999, 9, -999, 9, -999, 9, -999, 9, -999, 9,  -999.00, 9,  -999.00, 9,  -999.00, 9,  -999.00, 9,   1.9429,  -999.00, 9, 1136,   40.0081,  -51.8249
316N200309, A20, 16, 1, 5, 5, 2, 20030928, 1114, 40.0065, -51.8187, 4748,  4124.50,   4124.5,   2.2364,  34.8888, 2,  34.8888, 2,    265.5, 2,    264.5, 2,    32.46, 2,    19.17, 2,     0.00, 2,     1.30, 2,    0.600, 2,    0.311, 2,    0.027, 2, -999.000, 9,   -999.0, 9,   -999.0, 9,  -999.00, 9,  -999.00, 9, -999.000, 9, -999.000, -999.0000, 9, -999.0000,  -999.00, 9,  -999.00, -999.000, 9, -999.000,   -999.0, 9,   -999.0,  -999.00, 9, -999.0000, 9, -999.0000, 9, -999.0000, 9, -999.0000, 9, -999.0000, 9, -999.0000, 9, -999, 9, -999, 9, -999, 9, -999, 9, -999, 9, -999, 9, -999, 9,  -999.00, 9,  -999.00, 9,  -999.00, 9,  -999.00, 9,   1.8813,  -999.00, 9, 1132,   40.0078,  -51.8236
316N200309, A20, 16, 1, 4, 4, 2, 20030928, 1114, 40.0065, -51.8187, 4748,  4375.10,   4375.1,   2.2019,  34.8825, 2,  34.8823, 2,    263.2, 2,    262.2, 2,    35.78, 2,    19.71, 2,     0.00, 2,     1.34, 2,    0.544, 2,    0.280, 2,    0.026, 2, -999.000, 9,   -999.0, 9,   -999.0, 9,  -999.00, 9,  -999.00, 9, -999.000, 9, -999.000, -999.0000, 9, -999.0000,  -999.00, 9,  -999.00, -999.000, 9, -999.000,   -999.0, 9,   -999.0,  -999.00, 9, -999.0000, 9, -999.0000, 9, -999.0000, 9, -999.0000, 9, -999.0000, 9, -999.0000, 9, -999, 9, -999, 9, -999, 9, -999, 9, -999, 9, -999, 9, -999, 9,  -999.00, 9,  -999.00, 9,  -999.00, 9,  -999.00, 9,   1.8187,  -999.00, 9, 1127,   40.0074,  -51.8222
316N200309, A20, 16, 1, 3, 3, 2, 20030928, 1114, 40.0065, -51.8187, 4748,  4623.60,   4623.6,   2.1813,  34.8789, 2,  34.8796, 2,    261.5, 2,    265.7, 2,    33.43, 2,    19.15, 2,     0.00, 2,     1.30, 2,    1.014, 2,    0.517, 2,    0.070, 2, -999.000, 9,   -999.0, 9,   -999.0, 9,  -999.00, 9,  -999.00, 9, -999.000, 9, -999.000, -999.0000, 9, -999.0000,  -999.00, 9,  -999.00, -999.000, 9, -999.000,   -999.0, 9,   -999.0,  -999.00, 9, -999.0000, 9, -999.0000, 9, -999.0000, 9, -999.0000, 9, -999.0000, 9, -999.0000, 9, -999, 9, -999, 9, -999, 9, -999, 9, -999, 9, -999, 9, -999, 9,  -999.00, 9,  -999.00, 9,  -999.00, 9,  -999.00, 9,   1.7691,  -999.00, 9, 1121,   40.0070,  -51.8203
316N200309, A20, 16, 1, 2, 2, 2, 20030928, 1114, 40.0065, -51.8187, 4748,  4750.90,   4750.9,   2.1978,  34.8790, 2,  34.8798, 2,    266.5, 2,    266.4, 2,    32.88, 2,    19.05, 2,     0.00, 2,     1.29, 2,    1.076, 2,    0.540, 2,    0.072, 2, -999.000, 9,   -999.0, 9,   -999.0, 9,  -999.00, 9,  -999.00, 9, -999.000, 9, -999.000, -999.0000, 9, -999.0000,  -999.00, 9,  -999.00, -999.000, 9, -999.000,   -999.0, 9,   -999.0,  -999.00, 9, -999.0000, 9, -999.0000, 9, -999.0000, 9, -999.0000, 9, -999.0000, 9, -999.0000, 9, -999, 9, -999, 9, -999, 9, -999, 9, -999, 9, -999, 9, -999, 9,  -999.00, 9,  -999.00, 9,  -999.00, 9,  -999.00, 9,   1.7696,  -999.00, 9, 1117,   40.0067,  -51.8194
316N200309, A20, 16, 1, 1, 1, 2, 20030928, 1114, 40.0065, -51.8187, 4748,  4836.00,   4836.0,   2.2090,  34.8789, 2,  34.8800, 2,    267.5, 2,    266.4, 2,    32.84, 2,    18.99, 2,     0.00, 2,     1.29, 2,    1.084, 2,    0.551, 2,    0.071, 2, -999.000, 9,   -999.0, 9,   -999.0, 9,  -999.00, 9,  -999.00, 9, -999.000, 9, -999.000, -999.0000, 9, -999.0000,  -999.00, 9,  -999.00, -999.000, 9, -999.000,   -999.0, 9,   -999.0,  -999.00, 9, -999.0000, 9, -999.0000, 9, -999.0000, 9, -999.0000, 9, -999.0000, 9, -999.0000, 9, -999, 9, -999, 9, -999, 9, -999, 9, -999, 9, -999, 9, -999, 9,  -999.00, 9,  -999.00, 9,  -999.00, 9,  -999.00, 9,   1.7699,  -999.00, 9, 1114,   40.0065,  -51.8187