BOTTLE,20220816CCHSIOAMB
EXPOCODE,SECT_ID,STNNBR,CASTNO,SAMPNO,BTLNBR,BTLNBR_FLAG_W,DATE,TIME,LATITUDE,LONGITUDE,DEPTH,CTDRAW,CTDPRS,CTDTMP,CTDSAL,CTDSAL_FLAG_W,SALNTY,SALNTY_FLAG_W,CTDOXY,CTDOXY_FLAG_W,OXYGEN,OXYGEN_FLAG_W,SILCAT,SILCAT_FLAG_W,NITRAT,NITRAT_FLAG_W,NITRIT,NITRIT_FLAG_W,PHSPHT,PHSPHT_FLAG_W,CFC-11,CFC-11_FLAG_W,CFC-12,CFC-12_FLAG_W,CFC113,CFC113_FLAG_W,CCL4,CCL4_FLAG_W,TCARBN,TCARBN_FLAG_W,ALKALI,ALKALI_FLAG_W,DOC,DOC_FLAG_W,TDN,TDN_FLAG_W,TRITUM,TRITUM_FLAG_W,TRITER,HELIUM,HELIUM_FLAG_W,HELIER,DELHE3,DELHE3_FLAG_W,DELHER,NEON,NEON_FLAG_W,NEONER,DELC14,DELC14_FLAG_W,C14ERR,DELC13,DELC13_FLAG_W,CDOM325,CDOM325_FLAG_W,CDOM340,CDOM340_FLAG_W,CDOM380,CDOM380_FLAG_W,CDOM412,CDOM412_FLAG_W,CDOMSL,CDOMSL_FLAG_W,CDOMSN,CDOMSN_FLAG_W,DCNS,DCNS_FLAG_W,ARABI,ARABI_FLAG_W,FUCO,FUCO_FLAG_W,GALA,GALA_FLAG_W,GLUC,GLUC_FLAG_W,MAN,MAN_FLAG_W,RHAM,RHAM_FLAG_W,BRDU,BRDU_FLAG_W,PEUK,PEUK_FLAG_W,PROC,PROC_FLAG_W,SYN,SYN_FLAG_W,THETA,BACT,BACT_FLAG_W,BTL_TIME,BTL_LAT,BTL_LON
,,,,,,,,,,,METERS,DBAR,DBAR,ITS-90,PSS-78,,PSS-78,,UMOL/KG,,UMOL/KG,,UMOL/KG,,UMOL/KG,,UMOL/KG,,UMOL/KG,,PMOL/KG,,PMOL/KG,,PMOL/KG,,PMOL/KG,,UMOL/KG,,UMOL/KG,,UMOL/KG,,UMOL/KG,,TU,,TU,NMOL/KG,,NMOL/KG,PERCNT,,PERCNT,NMOL/KG,,NMOL/KG,/MILLE,,/MILLE,/MILLE,,1/M,,1/M,,1/M,,1/M,,1/NM,,1/NM,,NMOL/KG,,NMOL/KG,,NMOL/KG,,NMOL/KG,,NMOL/KG,,NMOL/KG,,NMOL/KG,,PMOL/L/H,,E6/L,,E7/L,,E6/L,,DEG C,E8/L,,,,
316N200309, A20, 48, 1, 36, 36, 2, 20031010, 2252, 18.8473, -52.3560, 4945,     2.30,      2.3,  28.4805,  37.0033, 2,  37.0049, 2,    191.3, 2,    196.7, 2,     0.54, 2,     0.13, 2,     0.00, 2,     0.02, 2,    1.647, 2,    1.013, 2,    0.146, 2, -999.000, 9,   2044.0, 2,   2419.8, 2,    79.00, 2,     4.80, 2,    0.675, 2,    0.004,   1.7181, 2,   0.0086,    -1.00, 2,     0.20,    6.683, 2,    0.033,   -999.0, 9,   -999.0,  -999.00, 9,    0.0570, 2,    0.0360, 2,    0.0130, 2,    0.0100, 2,    0.0310, 2,    0.0310, 2, -999, 9, -999, 9, -999, 9, -999, 9, -999, 9, -999, 9, -999, 9,  -999.00, 9,  -999.00, 9,  -999.00, 9,  -999.00, 9,  28.4799,  -999.00, 9,   57,   18.8769,  -52.3677
316N200309, A20, 48, 1, 35, 35, 2, 20031010, 2252, 18.8473, -52.3560, 4945,    26.40,     26.4,  28.3907,  36.9995, 2,  36.9991, 2,    191.9, 2,    196.6, 2,     0.52, 2,     0.12, 2,     0.00, 2,     0.02, 2,    1.654, 2,    1.042, 2,    0.152, 2, -999.000, 9,   2044.2, 2,   2420.3, 2,    77.10, 2,     5.20, 2, -999.000, 9, -999.000, -999.0000, 9, -999.0000,  -999.00, 9,  -999.00, -999.000, 9, -999.000,   -999.0, 9,   -999.0,  -999.00, 9, -999.0000, 9, -999.0000, 9, -999.0000, 9, -999.0000, 9, -999.0000, 9, -999.0000, 9, -999, 9, -999, 9, -999, 9, -999, 9, -999, 9, -999, 9, -999, 9,  -999.00, 9,  -999.00, 9,  -999.00, 9,  -999.00, 9,  28.3843,  -999.00, 9,   55,   18.8763,  -52.3675
316N200309, A20, 48, 1, 34, 34, 2, 20031010, 2252, 18.8473, -52.3560, 4945,    51.10,     51.1,  27.5843,  37.1357, 2,  37.1250, 2,    202.9, 2,    205.9, 2,     0.51, 2,     0.07, 2,     0.00, 2,     0.02, 2,    1.702, 2,    1.060, 2,    0.136, 2, -999.000, 9,   2053.1, 2,   2427.8, 2,    76.80, 2,     4.90, 2,    0.560, 2,    0.006,   1.7238, 2,   0.0086,    -1.43, 2,     0.20,    6.713, 2,    0.034,   -999.0, 9,   -999.0,  -999.00, 9,    0.1100, 2,    0.0740, 2,    0.0340, 2,    0.0250, 2,    0.0210, 2,    0.0230, 2, -999, 9, -999, 9, -999, 9, -999, 9, -999, 9, -999, 9, -999, 9,  -999.00, 9,  -999.00, 9,  -999.00, 9,  -999.00, 9,  27.5723,  -999.00, 9,   53,   18.8759,  -52.3673
316N200309, A20, 48, 1, 33, 33, 2, 20031010, 2252, 18.8473, -52.3560, 4945,    75.80,     75.8,  25.8525,  37.2963, 2,  37.2954, 2,    204.9, 2,    213.1, 2,     0.38, 2,     0.07, 2,     0.00, 2,     0.02, 2,    1.889, 2,    1.158, 2,    0.164, 2, -999.000, 9,   2069.9, 2,   2436.1, 2,    71.90, 2,     5.70, 2, -999.000, 9, -999.000, -999.0000, 9, -999.0000,  -999.00, 9,  -999.00, -999.000, 9, -999.000,   -999.0, 9,   -999.0,  -999.00, 9, -999.0000, 9, -999.0000, 9, -999.0000, 9, -999.0000, 9, -999.0000, 9, -999.0000, 9, -999, 9, -999, 9, -999, 9, -999, 9, -999, 9, -999, 9, -999, 9,  -999.00, 9,  -999.00, 9,  -999.00, 9,  -999.00, 9,  25.8355,  -999.00, 9,   52,   18.8755,  -52.3672
316N200309, A20, 48, 1, 32, 32, 2, 20031010, 2252, 18.8473, -52.3560, 4945,   100.60,    100.6,  24.3517,  37.3739, 2,  37.3694, 2,    201.4, 2,    197.5, 2,     0.25, 2,     0.06, 2,     0.00, 2,     0.02, 2,    1.998, 2,    1.204, 2,    0.161, 2, -999.000, 9,   2089.1, 2,   2441.0, 2,    70.10, 2,     4.60, 2, -999.000, 9, -999.000,   1.7284, 2,   0.0086,    -1.27, 2,     0.20,    6.817, 2,    0.034,   -999.0, 9,   -999.0,  -999.00, 9,    0.1480, 2,    0.1060, 2,    0.0510, 2,    0.0400, 2,    0.0130, 2,    0.0170, 2, -999, 9, -999, 9, -999, 9, -999, 9, -999, 9, -999, 9, -999, 9,  -999.00, 9,  -999.00, 9,  -999.00, 9,  -999.00, 9,  24.3301,  -999.00, 9,   50,   18.8751,  -52.3670
316N200309, A20, 48, 1, 31, 31, 2, 20031010, 2252, 18.8473, -52.3560, 4945,   125.50,    125.5,  23.3954,  37.2436, 2,  37.2433, 2,    194.3, 2,    193.0, 2,     0.34, 2,     0.20, 2,     0.08, 2,     0.03, 2,    2.034, 2,    1.233, 2,    0.166, 2, -999.000, 9,   2105.2, 2,   2432.1, 2,    66.20, 2,     4.80, 2, -999.000, 9, -999.000, -999.0000, 9, -999.0000,  -999.00, 9,  -999.00, -999.000, 9, -999.000,   -999.0, 9,   -999.0,  -999.00, 9, -999.0000, 9, -999.0000, 9, -999.0000, 9, -999.0000, 9, -999.0000, 9, -999.0000, 9, -999, 9, -999, 9, -999, 9, -999, 9, -999, 9, -999, 9, -999, 9,  -999.00, 9,  -999.00, 9,  -999.00, 9,  -999.00, 9,  23.3692,  -999.00, 9,   49,   18.8747,  -52.3668
316N200309, A20, 48, 1, 30, 30, 2, 20031010, 2252, 18.8473, -52.3560, 4945,   174.80,    174.8,  20.9981,  36.9858, 2,  36.9834, 2,    169.3, 2,    174.0, 2,     0.74, 2,     2.81, 2,     0.03, 2,     0.15, 2,    2.158, 2,    1.281, 2,    0.108, 2, -999.000, 9,   2129.9, 2,   2412.8, 2,    55.10, 2,     8.20, 2,    0.815, 2,    0.005,   1.7472, 2,   0.0087,    -0.50, 2,     0.20,    6.983, 2,    0.035,   -999.0, 9,   -999.0,  -999.00, 9,    0.1470, 2,    0.1070, 2,    0.0540, 2,    0.0430, 2,    0.0130, 2,    0.0160, 2, -999, 9, -999, 9, -999, 9, -999, 9, -999, 9, -999, 9, -999, 9,  -999.00, 9,  -999.00, 9,  -999.00, 9,  -999.00, 9,  20.9643,  -999.00, 9,   47,   18.8742,  -52.3666
316N200309, A20, 48, 1, 29, 29, 2, 20031010, 2252, 18.8473, -52.3560, 4945,   224.60,    224.6,  19.1461,  36.7036, 2,  36.7084, 2,    159.1, 2,    165.1, 2,     1.35, 2,     6.16, 2,     0.01, 2,     0.33, 2,    2.254, 2,    1.317, 2,    0.037, 2, -999.000, 9,   2138.3, 2,   2394.9, 2,    50.40, 2,    10.70, 2,    0.805, 2,    0.005,   1.7346, 2,   0.0087,    -0.13, 2,     0.20,    6.990, 2,    0.035,   -999.0, 9,   -999.0,  -999.00, 9,    0.1590, 2,    0.1190, 2,    0.0650, 2,    0.0540, 2,    0.0120, 2,    0.0130, 2, -999, 9, -999, 9, -999, 9, -999, 9, -999, 9, -999, 9, -999, 9,  -999.00, 9,  -999.00, 9,  -999.00, 9,  -999.00, 9,  19.1054,  -999.00, 9,   45,   18.8737,  -52.3663
316N200309, A20, 48, 1, 28, 28, 2, 20031010, 2252, 18.8473, -52.3560, 4945,   278.80,    278.8,  17.4476,  36.4236, 2,  36.4237, 2,    151.7, 2,    157.0, 2,     2.27, 2,     9.60, 2,     0.01, 2,     0.54, 2,    2.269, 2,    1.283, 2,    0.027, 2, -999.000, 9,   2145.2, 2,   2377.6, 2,    56.10, 3,    14.00, 2, -999.000, 9, -999.000, -999.0000, 9, -999.0000,  -999.00, 9,  -999.00, -999.000, 9, -999.000,   -999.0, 9,   -999.0,  -999.00, 9, -999.0000, 9, -999.0000, 9, -999.0000, 9, -999.0000, 9, -999.0000, 9, -999.0000, 9, -999, 9, -999, 9, -999, 9, -999, 9, -999, 9, -999, 9, -999, 9,  -999.00, 9,  -999.00, 9,  -999.00, 9,  -999.00, 9,  17.4002,  -999.00, 9,   42,   18.8731,  -52.3660
316N200309, A20, 48, 1, 27, 27, 2, 20031010, 2252, 18.8473, -52.3560, 4945,   352.40,    352.4,  15.0656,  36.0425, 2,  36.0438, 2,    143.1, 2,    145.2, 2,     4.13, 2,    14.26, 2,     0.01, 2,     0.83, 2,    2.135, 2,    1.171, 2,    0.030, 2, -999.000, 9,   2158.9, 2,   2355.1, 2,    45.30, 2,  -999.00, 9,    0.854, 2,    0.005,   1.7736, 2,   0.0089,     3.21, 2,     0.20,    7.260, 2,    0.036,   -999.0, 9,   -999.0,  -999.00, 9,    0.1670, 2,    0.1260, 2,    0.0710, 2,    0.0570, 2,    0.0110, 2,    0.0130, 2, -999, 9, -999, 9, -999, 9, -999, 9, -999, 9, -999, 9, -999, 9,  -999.00, 9,  -999.00, 9,  -999.00, 9,  -999.00, 9,  15.0114,  -999.00, 9,   39,   18.8724,  -52.3656
316N200309, A20, 48, 1, 26, 26, 2, 20031010, 2252, 18.8473, -52.3560, 4945,   451.60,    451.6,  13.0043,  35.7435, 2,  35.7533, 2,    148.3, 2,    146.7, 2,     6.20, 2,    17.34, 2,     0.00, 2,     1.03, 2,    1.837, 2,    0.969, 2,    0.022, 2, -999.000, 9,   2165.5, 2,   2340.2, 2,    42.10, 2,  -999.00, 9,    0.836, 2,    0.005,   1.7826, 2,   0.0089,     7.09, 2,     0.20,    7.384, 2,    0.037,   -999.0, 9,   -999.0,  -999.00, 9,    0.1540, 2,    0.1140, 2,    0.0620, 2,    0.0500, 2,    0.0120, 2,    0.0140, 2, -999, 9, -999, 9, -999, 9, -999, 9, -999, 9, -999, 9, -999, 9,  -999.00, 9,  -999.00, 9,  -999.00, 9,  -999.00, 9,  12.9412,  -999.00, 9,   36,   18.8717,  -52.3651
316N200309, A20, 48, 1, 25, 25, 2, 20031010, 2252, 18.8473, -52.3560, 4945,   550.80,    550.8,  10.9257,  35.4214, 2,  35.4208, 2,    128.4, 2,    130.7, 2,    10.67, 2,    22.98, 2,     0.00, 2,     1.42, 2,    1.035, 6,    0.538, 6,    0.010, 6, -999.000, 9,   2185.8, 2,   2325.1, 2,    43.30, 2,  -999.00, 9,    0.613, 2,    0.004,   1.7945, 2,   0.0090,     7.77, 2,     0.20,    7.457, 2,    0.037,   -999.0, 9,   -999.0,  -999.00, 9,    0.1390, 2,    0.0990, 2,    0.0520, 2,    0.0410, 2,    0.0130, 2,    0.0150, 2, -999, 9, -999, 9, -999, 9, -999, 9, -999, 9, -999, 9, -999, 9,  -999.00, 9,  -999.00, 9,  -999.00, 9,  -999.00, 9,  10.8567,  -999.00, 9,   33,   18.8711,  -52.3646
316N200309, A20, 48, 1, 24, 24, 2, 20031010, 2252, 18.8473, -52.3560, 4945,   685.80,    685.8,   8.1847,  35.0377, 2,  35.0380, 2,    123.8, 2,    122.5, 2,    17.75, 2,    29.10, 2,     0.00, 2,     1.87, 2,    0.328, 2,    0.171, 2,    0.006, 2, -999.000, 9,   2206.3, 2,   2311.7, 2,    44.10, 2,  -999.00, 9,    0.243, 2,    0.002,   1.8236, 2,   0.0091,     4.52, 2,     0.20,    7.631, 2,    0.038,   -999.0, 9,   -999.0,  -999.00, 9,    0.1600, 2,    0.1140, 2,    0.0630, 2,    0.0520, 2,    0.0120, 2,    0.0140, 2, -999, 9, -999, 9, -999, 9, -999, 9, -999, 9, -999, 9, -999, 9,  -999.00, 9,  -999.00, 9,  -999.00, 9,  -999.00, 9,   8.1121,  -999.00, 9,   30,   18.8704,  -52.3641
316N200309, A20, 48, 1, 23, 23, 2, 20031010, 2252, 18.8473, -52.3560, 4945,   826.90,    826.9,   6.4220,  34.8415, 2,  34.8426, 2,    130.4, 2,    128.3, 2,    22.95, 2,    31.58, 2,     0.00, 2,     2.08, 2,    0.087, 2,    0.048, 2,    0.009, 2, -999.000, 9,   2214.8, 2,   2307.3, 2,    43.70, 2,  -999.00, 9, -999.000, 9, -999.000, -999.0000, 9, -999.0000,  -999.00, 9,  -999.00, -999.000, 9, -999.000,   -999.0, 9,   -999.0,  -999.00, 9, -999.0000, 9, -999.0000, 9, -999.0000, 9, -999.0000, 9, -999.0000, 9, -999.0000, 9, -999, 9, -999, 9, -999, 9, -999, 9, -999, 9, -999, 9, -999, 9,  -999.00, 9,  -999.00, 9,  -999.00, 9,  -999.00, 9,   6.3448,  -999.00, 9,   27,   18.8697,  -52.3635
316N200309, A20, 48, 1, 22, 22, 2, 20031010, 2252, 18.8473, -52.3560, 4945,   923.20,    923.2,   5.8399,  34.8152, 2,  34.8135, 2,    141.5, 2,    139.3, 2,    24.19, 2,    31.20, 2,     0.00, 2,     2.08, 2,    0.052, 2,    0.035, 2,    0.002, 2, -999.000, 9,   2215.0, 2,   2308.1, 2,    42.30, 2,  -999.00, 9,    0.048, 2,    0.001,   1.8299, 2,   0.0091,     2.11, 2,     0.20,    7.775, 2,    0.039,   -999.0, 9,   -999.0,  -999.00, 9,    0.1490, 2,    0.1070, 2,    0.0590, 2,    0.0470, 2,    0.0120, 2,    0.0140, 2, -999, 9, -999, 9, -999, 9, -999, 9, -999, 9, -999, 9, -999, 9,  -999.00, 9,  -999.00, 9,  -999.00, 9,  -999.00, 9,   5.7572,  -999.00, 9,   24,   18.8690,  -52.3630
316N200309, A20, 48, 1, 21, 21, 2, 20031010, 2252, 18.8473, -52.3560, 4945,  1102.50,   1102.5,   5.4466,  34.8945, 2,  34.8953, 2,    162.9, 2,    164.5, 2,    22.50, 2,    28.05, 2,     0.00, 2,     1.88, 2,    0.077, 2,    0.042, 2,    0.004, 2, -999.000, 9,   2204.9, 2,   2311.7, 2,    42.20, 2,  -999.00, 9,    0.067, 2,    0.001,   1.8328, 2,   0.0092,     1.79, 2,     0.20,    7.810, 2,    0.039,   -999.0, 9,   -999.0,  -999.00, 9,    0.1430, 2,    0.1020, 2,    0.0530, 2,    0.0410, 2,    0.0130, 2,    0.0160, 2, -999, 9, -999, 9, -999, 9, -999, 9, -999, 9, -999, 9, -999, 9,  -999.00, 9,  -999.00, 9,  -999.00, 9,  -999.00, 9,   5.3495,  -999.00, 9,   20,   18.8680,  -52.3623
316N200309, A20, 48, 1, 20, 20, 2, 20031010, 2252, 18.8473, -52.3560, 4945,  1277.70,   1277.7,   5.1229,  34.9907, 2,  34.9894, 2,    194.4, 2,    200.5, 2,    18.41, 2,    23.54, 2,     0.00, 2,     1.56, 2,    0.229, 2,    0.123, 2,    0.009, 2, -999.000, 9,   2185.0, 2,   2314.7, 2,    40.90, 2,  -999.00, 9,    0.161, 2,    0.002,   1.8397, 2,   0.0092,     3.32, 2,     0.20,    7.805, 2,    0.039,   -999.0, 9,   -999.0,  -999.00, 9, -999.0000, 9, -999.0000, 9, -999.0000, 9, -999.0000, 9, -999.0000, 9, -999.0000, 9, -999, 9, -999, 9, -999, 9, -999, 9, -999, 9, -999, 9, -999, 9,  -999.00, 9,  -999.00, 9,  -999.00, 9,  -999.00, 9,   5.0117,  -999.00, 9,   16,   18.8670,  -52.3617
316N200309, A20, 48, 1, 19, 19, 2, 20031010, 2252, 18.8473, -52.3560, 4945,  1400.80,   1400.8,   4.8461,  35.0093, 2,  35.0089, 2,    215.1, 2,    217.9, 2,    16.82, 2,    21.79, 2,     0.00, 2,     1.45, 2,    0.281, 2,    0.144, 2,    0.021, 2, -999.000, 9,   2177.5, 2,   2314.2, 2,    41.10, 2,  -999.00, 9, -999.000, 9, -999.000, -999.0000, 9, -999.0000,  -999.00, 9,  -999.00, -999.000, 9, -999.000,   -999.0, 9,   -999.0,  -999.00, 9, -999.0000, 9, -999.0000, 9, -999.0000, 9, -999.0000, 9, -999.0000, 9, -999.0000, 9, -999, 9, -999, 9, -999, 9, -999, 9, -999, 9, -999, 9, -999, 9,  -999.00, 9,  -999.00, 9,  -999.00, 9,  -999.00, 9,   4.7259,  -999.00, 9,   12,   18.8662,  -52.3614
316N200309, A20, 48, 1, 18, 18, 2, 20031010, 2252, 18.8473, -52.3560, 4945,  1500.80,   1500.8,   4.6679,  35.0151, 2,  35.0152, 2,    226.2, 2,    229.3, 2,    15.77, 2,    20.65, 2,     0.00, 2,     1.37, 2,    0.371, 2,    0.186, 2,    0.023, 2, -999.000, 9,   2170.9, 2,   2313.6, 2,  -999.00, 9,  -999.00, 9,    0.224, 2,    0.002,   1.8519, 2,   0.0093,     4.69, 2,     0.20,    7.852, 2,    0.039,   -999.0, 9,   -999.0,  -999.00, 9, -999.0000, 9, -999.0000, 9, -999.0000, 9, -999.0000, 9, -999.0000, 9, -999.0000, 9, -999, 9, -999, 9, -999, 9, -999, 9, -999, 9, -999, 9, -999, 9,  -999.00, 9,  -999.00, 9,  -999.00, 9,  -999.00, 9,   4.5400,  -999.00, 9,   10,   18.8655,  -52.3612
316N200309, A20, 48, 1, 17, 17, 2, 20031010, 2252, 18.8473, -52.3560, 4945,  1625.00,   1625.0,   4.3805,  35.0107, 2,  35.0112, 2,    239.2, 2,    240.0, 2,    15.33, 2,    19.85, 2,     0.00, 2,     1.31, 2,    0.356, 2,    0.185, 2,    0.018, 2, -999.000, 9,   2167.1, 2,   2312.5, 2,    42.80, 2,  -999.00, 9, -999.000, 9, -999.000, -999.0000, 9, -999.0000,  -999.00, 9,  -999.00, -999.000, 9, -999.000,   -999.0, 9,   -999.0,  -999.00, 9, -999.0000, 9, -999.0000, 9, -999.0000, 9, -999.0000, 9, -999.0000, 9, -999.0000, 9, -999, 9, -999, 9, -999, 9, -999, 9, -999, 9, -999, 9, -999, 9,  -999.00, 9,  -999.00, 9,  -999.00, 9,  -999.00, 9,   4.2441,  -999.00, 9,    7,   18.8646,  -52.3610
316N200309, A20, 48, 1, 16, 16, 2, 20031010, 2252, 18.8473, -52.3560, 4945,  1726.00,   1726.0,   4.1811,  35.0070, 2,  35.0077, 2,    245.0, 2,    243.8, 2,    16.04, 2,    19.66, 2,     0.00, 2,     1.30, 2,    0.252, 2,    0.134, 2,    0.019, 2, -999.000, 9,   2165.4, 2,   2312.0, 2,  -999.00, 9,  -999.00, 9,    0.147, 2,    0.002,   1.8449, 2,   0.0092,     3.44, 2,     0.20,    7.856, 2,    0.039,   -999.0, 9,   -999.0,  -999.00, 9, -999.0000, 9, -999.0000, 9, -999.0000, 9, -999.0000, 9, -999.0000, 9, -999.0000, 9, -999, 9, -999, 9, -999, 9, -999, 9, -999, 9, -999, 9, -999, 9,  -999.00, 9,  -999.00, 9,  -999.00, 9,  -999.00, 9,   4.0375,  -999.00, 9,    4,   18.8638,  -52.3608
316N200309, A20, 48, 1, 15, 15, 2, 20031010, 2252, 18.8473, -52.3560, 4945,  1926.60,   1926.6,   3.7475,  34.9955, 2,  34.9939, 2,    246.6, 2,    245.6, 2,    19.99, 2,    19.94, 2,     0.00, 2,     1.32, 2,    0.056, 2,    0.037, 2,    0.013, 2, -999.000, 9,   2168.0, 2,   2317.3, 2,  -999.00, 9,  -999.00, 9,    0.042, 2,    0.001,   1.8908, 2,   0.0095,     2.42, 2,     0.20,    7.974, 2,    0.040,   -999.0, 9,   -999.0,  -999.00, 9, -999.0000, 9, -999.0000, 9, -999.0000, 9, -999.0000, 9, -999.0000, 9, -999.0000, 9, -999, 9, -999, 9, -999, 9, -999, 9, -999, 9, -999, 9, -999, 9,  -999.00, 9,  -999.00, 9,  -999.00, 9,  -999.00, 9,   3.5907,  -999.00, 9, 2400,   18.8626,  -52.3605
316N200309, A20, 48, 1, 14, 14, 2, 20031010, 2252, 18.8473, -52.3560, 4945,  2124.80,   2124.8,   3.3925,  34.9762, 2,  34.9764, 2,    246.8, 2,    246.5, 2,    24.25, 2,    20.17, 2,     0.00, 2,     1.35, 2,    0.025, 2,    0.016, 2,    0.008, 2, -999.000, 9,   2171.8, 2,   2322.3, 2,    41.10, 2,  -999.00, 9,    0.020, 2,    0.001,   1.8662, 2,   0.0093,     3.04, 2,     0.20,    7.920, 2,    0.040,   -999.0, 9,   -999.0,  -999.00, 9, -999.0000, 9, -999.0000, 9, -999.0000, 9, -999.0000, 9, -999.0000, 9, -999.0000, 9, -999, 9, -999, 9, -999, 9, -999, 9, -999, 9, -999, 9, -999, 9,  -999.00, 9,  -999.00, 9,  -999.00, 9,  -999.00, 9,   3.2221,  -999.00, 9, 2355,   18.8616,  -52.3603
316N200309, A20, 48, 1, 13, 13, 2, 20031010, 2252, 18.8473, -52.3560, 4945,  2375.30,   2375.3,   3.1229,  34.9598, 2,  34.9589, 2,    248.9, 2,    248.5, 2,    27.78, 2,    20.35, 2,     0.00, 2,     1.36, 2,    0.026, 2,    0.017, 2,    0.007, 2, -999.000, 9,   2175.3, 2,   2326.2, 2,  -999.00, 9,  -999.00, 9, -999.000, 9, -999.000, -999.0000, 9, -999.0000,  -999.00, 9,  -999.00, -999.000, 9, -999.000,   -999.0, 9,   -999.0,  -999.00, 9, -999.0000, 9, -999.0000, 9, -999.0000, 9, -999.0000, 9, -999.0000, 9, -999.0000, 9, -999, 9, -999, 9, -999, 9, -999, 9, -999, 9, -999, 9, -999, 9,  -999.00, 9,  -999.00, 9,  -999.00, 9,  -999.00, 9,   2.9329,  -999.00, 9, 2350,   18.8603,  -52.3600
316N200309, A20, 48, 1, 12, 12, 2, 20031010, 2252, 18.8473, -52.3560, 4945,  2625.20,   2625.2,   2.8972,  34.9436, 2,  34.9423, 2,    249.6, 2,    249.3, 2,    31.01, 2,    20.54, 2,     0.00, 2,     1.38, 2,    0.022, 2,    0.016, 2,    0.008, 2, -999.000, 9,   2178.4, 2,   2328.5, 2,    41.70, 2,  -999.00, 9, -999.000, 9, -999.000, -999.0000, 9, -999.0000,  -999.00, 9,  -999.00, -999.000, 9, -999.000,   -999.0, 9,   -999.0,  -999.00, 9, -999.0000, 9, -999.0000, 9, -999.0000, 9, -999.0000, 9, -999.0000, 9, -999.0000, 9, -999, 9, -999, 9, -999, 9, -999, 9, -999, 9, -999, 9, -999, 9,  -999.00, 9,  -999.00, 9,  -999.00, 9,  -999.00, 9,   2.6868,  -999.00, 9, 2345,   18.8590,  -52.3597
316N200309, A20, 48, 1, 11, 11, 2, 20031010, 2252, 18.8473, -52.3560, 4945,  2875.20,   2875.2,   2.7817,  34.9336, 2,  34.9327, 2,    250.0, 2,    249.3, 2,    33.39, 2,    20.72, 2,     0.00, 2,     1.39, 2,    0.022, 2,    0.019, 2,    0.003, 2, -999.000, 9,   2181.1, 2,   2329.6, 2,  -999.00, 9,  -999.00, 9, -999.000, 9, -999.000, -999.0000, 9, -999.0000,  -999.00, 9,  -999.00, -999.000, 9, -999.000,   -999.0, 9,   -999.0,  -999.00, 9, -999.0000, 9, -999.0000, 9, -999.0000, 9, -999.0000, 9, -999.0000, 9, -999.0000, 9, -999, 9, -999, 9, -999, 9, -999, 9, -999, 9, -999, 9, -999, 9,  -999.00, 9,  -999.00, 9,  -999.00, 9,  -999.00, 9,   2.5485,  -999.00, 9, 2339,   18.8576,  -52.3594