BOTTLE,20220816CCHSIOAMB
EXPOCODE,SECT_ID,STNNBR,CASTNO,SAMPNO,BTLNBR,BTLNBR_FLAG_W,DATE,TIME,LATITUDE,LONGITUDE,DEPTH,CTDRAW,CTDPRS,CTDTMP,CTDSAL,CTDSAL_FLAG_W,SALNTY,SALNTY_FLAG_W,CTDOXY,CTDOXY_FLAG_W,OXYGEN,OXYGEN_FLAG_W,SILCAT,SILCAT_FLAG_W,NITRAT,NITRAT_FLAG_W,NITRIT,NITRIT_FLAG_W,PHSPHT,PHSPHT_FLAG_W,CFC-11,CFC-11_FLAG_W,CFC-12,CFC-12_FLAG_W,CFC113,CFC113_FLAG_W,CCL4,CCL4_FLAG_W,TCARBN,TCARBN_FLAG_W,ALKALI,ALKALI_FLAG_W,DOC,DOC_FLAG_W,TDN,TDN_FLAG_W,TRITUM,TRITUM_FLAG_W,TRITER,HELIUM,HELIUM_FLAG_W,HELIER,DELHE3,DELHE3_FLAG_W,DELHER,NEON,NEON_FLAG_W,NEONER,DELC14,DELC14_FLAG_W,C14ERR,DELC13,DELC13_FLAG_W,CDOM325,CDOM325_FLAG_W,CDOM340,CDOM340_FLAG_W,CDOM380,CDOM380_FLAG_W,CDOM412,CDOM412_FLAG_W,CDOMSL,CDOMSL_FLAG_W,CDOMSN,CDOMSN_FLAG_W,DCNS,DCNS_FLAG_W,ARABI,ARABI_FLAG_W,FUCO,FUCO_FLAG_W,GALA,GALA_FLAG_W,GLUC,GLUC_FLAG_W,MAN,MAN_FLAG_W,RHAM,RHAM_FLAG_W,BRDU,BRDU_FLAG_W,PEUK,PEUK_FLAG_W,PROC,PROC_FLAG_W,SYN,SYN_FLAG_W,THETA,BACT,BACT_FLAG_W,BTL_TIME,BTL_LAT,BTL_LON
,,,,,,,,,,,METERS,DBAR,DBAR,ITS-90,PSS-78,,PSS-78,,UMOL/KG,,UMOL/KG,,UMOL/KG,,UMOL/KG,,UMOL/KG,,UMOL/KG,,PMOL/KG,,PMOL/KG,,PMOL/KG,,PMOL/KG,,UMOL/KG,,UMOL/KG,,UMOL/KG,,UMOL/KG,,TU,,TU,NMOL/KG,,NMOL/KG,PERCNT,,PERCNT,NMOL/KG,,NMOL/KG,/MILLE,,/MILLE,/MILLE,,1/M,,1/M,,1/M,,1/M,,1/NM,,1/NM,,NMOL/KG,,NMOL/KG,,NMOL/KG,,NMOL/KG,,NMOL/KG,,NMOL/KG,,NMOL/KG,,PMOL/L/H,,E6/L,,E7/L,,E6/L,,DEG C,E8/L,,,,
316N200309, A20, 29, 1, 36, 36, 2, 20031002, 1422, 32.2200, -52.3557, 5517,     5.10,      5.1,  26.3023,  36.9229, 2,  36.9248, 2,    200.5, 2,    209.1, 2,     0.79, 2,     0.21, 2,     0.00, 2,     0.02, 2,    1.695, 2,    1.062, 2,    0.105, 2,    1.650, 2,   2054.8, 2,   2411.5, 2,    72.50, 2,     3.80, 2, -999.000, 9, -999.000, -999.0000, 9, -999.0000,  -999.00, 9,  -999.00, -999.000, 9, -999.000,     86.2, 2,      3.2,     1.34, 2,    0.0340, 2,    0.0200, 2,    0.0040, 2,    0.0060, 2,    0.0390, 2,    0.0260, 2, -999, 9, -999, 9, -999, 9, -999, 9, -999, 9, -999, 9, -999, 9,     0.17, 2,     0.45, 2,     3.48, 2,     3.73, 2,  26.3011,     2.74, 2, 1641,   32.2378,  -52.3579
316N200309, A20, 29, 1, 35, 35, 2, 20031002, 1422, 32.2200, -52.3557, 5517,    24.70,     24.7,  26.3128,  36.9483, 2,  36.9477, 2,    200.4, 2,    207.6, 2,     0.76, 2,     0.21, 2,     0.00, 2,     0.02, 2,    1.698, 2,    1.051, 2,    0.105, 2,    1.653, 2,   2055.0, 2,   2412.4, 2,    72.00, 2,     5.00, 2, -999.000, 9, -999.000, -999.0000, 9, -999.0000,  -999.00, 9,  -999.00, -999.000, 9, -999.000,   -999.0, 9,   -999.0,  -999.00, 9,    0.0380, 2,    0.0230, 2,    0.0060, 2,    0.0060, 3,    0.0370, 2,    0.0330, 2, -999, 9, -999, 9, -999, 9, -999, 9, -999, 9, -999, 9, -999, 9,     0.22, 2,     0.48, 2,     3.43, 2,     3.65, 2,  26.3072,     2.49, 2, 1640,   32.2376,  -52.3580
316N200309, A20, 29, 1, 34, 34, 2, 20031002, 1422, 32.2200, -52.3557, 5517,    49.50,     49.5,  26.5412,  37.0914, 2,  37.0877, 2,    200.8, 2,    205.6, 2,     0.83, 2,     0.21, 2,     0.00, 2,     0.02, 2,    1.678, 2,    1.034, 2,    0.115, 2,    1.651, 2,   2057.6, 2,   2421.7, 2,    72.80, 2,     5.00, 2, -999.000, 9, -999.000, -999.0000, 9, -999.0000,  -999.00, 9,  -999.00, -999.000, 9, -999.000,   -999.0, 9,   -999.0,  -999.00, 9,    0.0370, 2,    0.0220, 2,    0.0070, 2,    0.0090, 3,    0.0380, 2,    0.0320, 2, -999, 9, -999, 9, -999, 9, -999, 9, -999, 9, -999, 9, -999, 9,     1.20, 2,     0.28, 2,     2.06, 2,     3.39, 2,  26.5299,     2.37, 2, 1639,   32.2374,  -52.3581
316N200309, A20, 29, 1, 33, 33, 2, 20031002, 1422, 32.2200, -52.3557, 5517,   100.10,    100.1,  20.3047,  36.6769, 2,  36.6790, 2,    219.6, 2,    218.0, 2,     0.80, 2,     0.22, 2,     0.00, 2,     0.02, 2,    2.186, 2,    1.359, 2,    0.126, 2,    1.110, 2,   2079.4, 2,   2395.6, 2,    59.70, 2,     4.20, 2, -999.000, 9, -999.000, -999.0000, 9, -999.0000,  -999.00, 9,  -999.00, -999.000, 9, -999.000,   -999.0, 9,   -999.0,  -999.00, 9,    0.1560, 2,    0.1120, 2,    0.0520, 2,    0.0400, 2,    0.0150, 2,    0.0180, 2, -999, 9, -999, 9, -999, 9, -999, 9, -999, 9, -999, 9, -999, 9,     0.18, 2,     0.50, 2,     7.80, 2,     0.79, 2,  20.2858,     2.19, 2, 1637,   32.2371,  -52.3582
316N200309, A20, 29, 1, 32, 32, 2, 20031002, 1422, 32.2200, -52.3557, 5517,   126.40,    126.4,  19.6337,  36.6440, 2,  36.6457, 2,    200.6, 2,    207.0, 2,     0.88, 2,     0.13, 2,     0.09, 2,     0.02, 2,    2.219, 2,    1.359, 2,    0.099, 2,    0.956, 2,   2091.8, 2,   2392.6, 2,    57.30, 2,     4.70, 2, -999.000, 9, -999.000, -999.0000, 9, -999.0000,  -999.00, 9,  -999.00, -999.000, 9, -999.000,   -999.0, 9,   -999.0,  -999.00, 9,    0.1280, 2,    0.0940, 2,    0.0460, 2,    0.0370, 2,    0.0140, 2,    0.0160, 2, -999, 9, -999, 9, -999, 9, -999, 9, -999, 9, -999, 9, -999, 9,     0.04, 2,     1.91, 2,     2.79, 2,     0.00, 2,  19.6105,     1.61, 2, 1635,   32.2368,  -52.3584
316N200309, A20, 29, 1, 31, 31, 2, 20031002, 1422, 32.2200, -52.3557, 5517,   150.70,    150.7,  19.2417,  36.6323, 2,  36.6350, 2,    193.7, 2,    197.1, 2,     1.04, 2,     1.08, 2,     0.02, 2,     0.03, 2,    2.215, 2,    1.358, 2,    0.080, 2,    0.734, 2,   2099.5, 2,   2387.9, 2,    54.40, 2,     4.90, 2, -999.000, 9, -999.000, -999.0000, 9, -999.0000,  -999.00, 9,  -999.00, -999.000, 9, -999.000,   -999.0, 9,   -999.0,  -999.00, 9,    0.1060, 2,    0.0770, 2,    0.0370, 2,    0.0330, 2,    0.0140, 2,    0.0170, 2, -999, 9, -999, 9, -999, 9, -999, 9, -999, 9, -999, 9, -999, 9,     0.15, 2,     1.04, 2,     1.44, 2,     0.00, 2,  19.2144,     1.26, 2, 1633,   32.2364,  -52.3586
316N200309, A20, 29, 1, 30, 30, 2, 20031002, 1422, 32.2200, -52.3557, 5517,   200.40,    200.4,  18.7521,  36.5934, 2,  36.5949, 2,    195.7, 2,    200.0, 2,     1.21, 2,     2.88, 2,     0.01, 2,     0.13, 2,    2.278, 2,    1.386, 2,    0.057, 2,    0.605, 2,   2099.5, 2,   2386.2, 2,    51.50, 2,     5.60, 2, -999.000, 9, -999.000, -999.0000, 9, -999.0000,  -999.00, 9,  -999.00, -999.000, 9, -999.000,   -999.0, 9,   -999.0,  -999.00, 9,    0.0950, 2,    0.0670, 2,    0.0330, 2,    0.0280, 2,    0.0180, 2,    0.0200, 2, -999, 9, -999, 9, -999, 9, -999, 9, -999, 9, -999, 9, -999, 9,     0.21, 2,     0.52, 2,     0.24, 2,     0.00, 2,  18.7163,     0.94, 2, 1632,   32.2361,  -52.3589
316N200309, A20, 29, 1, 29, 29, 2, 20031002, 1422, 32.2200, -52.3557, 5517,   249.40,    249.4,  18.4426,  36.5644, 2,  36.5656, 2,    199.4, 2,    198.5, 2,     1.38, 2,     3.78, 2,     0.01, 2,     0.18, 2,    2.348, 6,    1.398, 6,    0.043, 2,    0.520, 2,   2102.3, 2,   2363.8, 4,    50.40, 2,     7.30, 2, -999.000, 9, -999.000, -999.0000, 9, -999.0000,  -999.00, 9,  -999.00, -999.000, 9, -999.000,   -999.0, 9,   -999.0,  -999.00, 9,    0.0800, 2,    0.0560, 2,    0.0260, 2,    0.0210, 3,    0.0220, 2,    0.0220, 2, -999, 9, -999, 9, -999, 9, -999, 9, -999, 9, -999, 9, -999, 9,     0.37, 2,  -999.00, 9,  -999.00, 9,  -999.00, 9,  18.3985,  -999.00, 9, 1630,   32.2357,  -52.3592
316N200309, A20, 29, 1, 28, 28, 2, 20031002, 1422, 32.2200, -52.3557, 5517,   298.90,    298.9,  18.1285,  36.5313, 2,  36.5311, 2,    197.1, 2,    200.5, 2,     1.54, 2,     4.24, 2,     0.01, 2,     0.21, 2,    2.287, 2,    1.379, 2,    0.075, 2,    0.575, 2,   2104.9, 2,   2383.4, 2,    49.90, 2,     7.50, 2, -999.000, 9, -999.000, -999.0000, 9, -999.0000,  -999.00, 9,  -999.00, -999.000, 9, -999.000,   -999.0, 9,   -999.0,  -999.00, 9,    0.0830, 2,    0.0570, 2,    0.0250, 2,    0.0200, 2,    0.0230, 2,    0.0240, 2, -999, 9, -999, 9, -999, 9, -999, 9, -999, 9, -999, 9, -999, 9,  -999.00, 9,  -999.00, 9,  -999.00, 9,  -999.00, 9,  18.0763,  -999.00, 9, 1628,   32.2353,  -52.3595
316N200309, A20, 29, 1, 27, 27, 2, 20031002, 1422, 32.2200, -52.3557, 5517,   399.60,    399.6,  17.3010,  36.4151, 2,  36.4146, 2,    195.1, 2,    196.2, 2,     2.00, 2,     5.93, 2,     0.00, 2,     0.31, 2,    2.303, 2,    1.356, 2,    0.037, 2,    0.535, 2,   2112.6, 2,   2377.1, 2,    47.20, 2,  -999.00, 9, -999.000, 9, -999.000, -999.0000, 9, -999.0000,  -999.00, 9,  -999.00, -999.000, 9, -999.000,   -999.0, 9,   -999.0,  -999.00, 9,    0.0770, 2,    0.0530, 2,    0.0240, 2,    0.0190, 2,    0.0230, 2,    0.0240, 2, -999, 9, -999, 9, -999, 9, -999, 9, -999, 9, -999, 9, -999, 9,  -999.00, 9,  -999.00, 9,  -999.00, 9,  -999.00, 9,  17.2333,  -999.00, 9, 1626,   32.2349,  -52.3599
316N200309, A20, 29, 1, 26, 26, 2, 20031002, 1422, 32.2200, -52.3557, 5517,   499.90,    499.9,  16.0528,  36.1991, 2,  36.1982, 2,    190.9, 2,    190.7, 2,     2.95, 2,     8.46, 2,     0.00, 2,     0.48, 2,    2.288, 2,    1.321, 2,    0.019, 2,    0.548, 2,   2123.6, 2,   2364.2, 2,    47.70, 2,  -999.00, 9, -999.000, 9, -999.000, -999.0000, 9, -999.0000,  -999.00, 9,  -999.00, -999.000, 9, -999.000,   -999.0, 9,   -999.0,  -999.00, 9,    0.0890, 2,    0.0620, 2,    0.0280, 2,    0.0230, 2,    0.0220, 2,    0.0220, 2, -999, 9, -999, 9, -999, 9, -999, 9, -999, 9, -999, 9, -999, 9,  -999.00, 9,  -999.00, 9,  -999.00, 9,  -999.00, 9,  15.9721,  -999.00, 9, 1623,   32.2345,  -52.3602
316N200309, A20, 29, 1, 25, 25, 2, 20031002, 1422, 32.2200, -52.3557, 5517,   624.70,    624.7,  14.2085,  35.8846, 2,  35.8860, 2,    175.4, 2,    174.5, 2,     5.06, 2,    13.00, 2,     0.00, 2,     0.76, 2,    2.058, 2,    1.167, 2,    0.039, 2,    0.510, 2,   2143.7, 2,   2348.2, 2,    46.80, 2,  -999.00, 9, -999.000, 9, -999.000, -999.0000, 9, -999.0000,  -999.00, 9,  -999.00, -999.000, 9, -999.000,   -999.0, 9,   -999.0,  -999.00, 9,    0.1020, 2,    0.0700, 2,    0.0330, 2,    0.0300, 2,    0.0150, 2,    0.0190, 2, -999, 9, -999, 9, -999, 9, -999, 9, -999, 9, -999, 9, -999, 9,  -999.00, 9,  -999.00, 9,  -999.00, 9,  -999.00, 9,  14.1154,  -999.00, 9, 1620,   32.2342,  -52.3600
316N200309, A20, 29, 1, 24, 24, 2, 20031002, 1422, 32.2200, -52.3557, 5517,   750.10,    750.1,  11.2735,  35.4718, 2,  35.3630, 3,    162.1, 2,    159.8, 2,     9.23, 2,    19.01, 2,     0.00, 2,     1.17, 2,    1.550, 2,    0.847, 2,    0.016, 2,    0.454, 2,   2169.1, 2,   2324.7, 2,    45.40, 2,  -999.00, 9, -999.000, 9, -999.000, -999.0000, 9, -999.0000,  -999.00, 9,  -999.00, -999.000, 9, -999.000,   -999.0, 9,   -999.0,  -999.00, 9,    0.1120, 2,    0.0780, 2,    0.0380, 2,    0.0350, 2,    0.0120, 2,    0.0160, 2, -999, 9, -999, 9, -999, 9, -999, 9, -999, 9, -999, 9, -999, 9,  -999.00, 9,  -999.00, 9,  -999.00, 9,  -999.00, 9,  11.1767,  -999.00, 9, 1618,   32.2338,  -52.3599
316N200309, A20, 29, 1, 23, 23, 2, 20031002, 1422, 32.2200, -52.3557, 5517,   811.00,    811.0,  10.2044,  35.3643, 2,  35.3632, 2,    160.2, 2,    160.7, 2,    10.87, 2,    20.56, 2,     0.00, 2,     1.29, 2,    1.353, 2,    0.723, 2,    0.027, 2,    0.492, 2,   2171.7, 2,   2324.1, 2,    43.90, 2,  -999.00, 9, -999.000, 9, -999.000, -999.0000, 9, -999.0000,  -999.00, 9,  -999.00, -999.000, 9, -999.000,   -999.0, 9,   -999.0,  -999.00, 9,    0.1120, 2,    0.0780, 2,    0.0380, 2,    0.0360, 2,    0.0120, 2,    0.0150, 2, -999, 9, -999, 9, -999, 9, -999, 9, -999, 9, -999, 9, -999, 9,  -999.00, 9,  -999.00, 9,  -999.00, 9,  -999.00, 9,  10.1057,  -999.00, 9, 1616,   32.2336,  -52.3600
316N200309, A20, 29, 1, 22, 22, 2, 20031002, 1422, 32.2200, -52.3557, 5517,  1000.30,   1000.3,   7.4521,  35.1904, 2,  35.1890, 2,    181.8, 2,    183.5, 2,    13.58, 2,    21.64, 2,     0.00, 2,     1.39, 2,    0.998, 2,    0.534, 2,    0.029, 2,    0.689, 2,   2183.8, 2,   2319.5, 2,    42.00, 2,  -999.00, 9, -999.000, 9, -999.000, -999.0000, 9, -999.0000,  -999.00, 9,  -999.00, -999.000, 9, -999.000,   -999.0, 9,   -999.0,  -999.00, 9, -999.0000, 9, -999.0000, 9, -999.0000, 9, -999.0000, 9, -999.0000, 9, -999.0000, 9, -999, 9, -999, 9, -999, 9, -999, 9, -999, 9, -999, 9, -999, 9,  -999.00, 9,  -999.00, 9,  -999.00, 9,  -999.00, 9,   7.3494,  -999.00, 9, 1612,   32.2331,  -52.3599
316N200309, A20, 29, 1, 21, 21, 2, 20031002, 1422, 32.2200, -52.3557, 5517,  1199.30,   1199.3,   6.2238,  35.1792, 2,  35.1784, 2,    208.9, 2,    209.8, 2,    13.75, 2,    20.31, 2,     0.00, 2,     1.32, 2,    0.906, 2,    0.474, 2,    0.020, 2,    0.855, 2,   2179.1, 2,   2319.8, 2,    42.00, 2,  -999.00, 9, -999.000, 9, -999.000, -999.0000, 9, -999.0000,  -999.00, 9,  -999.00, -999.000, 9, -999.000,   -999.0, 9,   -999.0,  -999.00, 9,    0.1240, 2,    0.0860, 2,    0.0410, 2,    0.0370, 2,    0.0120, 2,    0.0160, 2, -999, 9, -999, 9, -999, 9, -999, 9, -999, 9, -999, 9, -999, 9,  -999.00, 9,  -999.00, 9,  -999.00, 9,  -999.00, 9,   6.1099,  -999.00, 9, 1608,   32.2329,  -52.3599
316N200309, A20, 29, 1, 20, 20, 2, 20031002, 1422, 32.2200, -52.3557, 5517,  1352.20,   1352.2,   5.5167,  35.1430, 2,  35.1431, 2,    225.5, 2,    227.9, 2,    13.33, 2,    19.36, 2,     0.00, 2,     1.25, 2,    1.082, 2,    0.561, 2,    0.070, 4,    1.191, 2,   2173.2, 2,   2317.3, 2,  -999.00, 9,  -999.00, 9, -999.000, 9, -999.000, -999.0000, 9, -999.0000,  -999.00, 9,  -999.00, -999.000, 9, -999.000,   -999.0, 9,   -999.0,  -999.00, 9, -999.0000, 9, -999.0000, 9, -999.0000, 9, -999.0000, 9, -999.0000, 9, -999.0000, 9, -999, 9, -999, 9, -999, 9, -999, 9, -999, 9, -999, 9, -999, 9,  -999.00, 9,  -999.00, 9,  -999.00, 9,  -999.00, 9,   5.3941,  -999.00, 9, 1604,   32.2325,  -52.3600
316N200309, A20, 29, 1, 19, 19, 2, 20031002, 1422, 32.2200, -52.3557, 5517,  1499.40,   1499.4,   5.0546,  35.1163, 2,  35.1163, 2,    237.5, 2,    236.8, 2,    13.80, 2,    19.04, 2,     0.00, 2,     1.24, 2,    0.907, 2,    0.491, 2,    0.039, 2,    1.192, 2,   2170.7, 2,   2316.9, 2,  -999.00, 9,  -999.00, 9, -999.000, 9, -999.000, -999.0000, 9, -999.0000,  -999.00, 9,  -999.00, -999.000, 9, -999.000,   -999.0, 9,   -999.0,  -999.00, 9, -999.0000, 9, -999.0000, 9, -999.0000, 9, -999.0000, 9, -999.0000, 9, -999.0000, 9, -999, 9, -999, 9, -999, 9, -999, 9, -999, 9, -999, 9, -999, 9,  -999.00, 9,  -999.00, 9,  -999.00, 9,  -999.00, 9,   4.9223,  -999.00, 9, 1601,   32.2321,  -52.3602
316N200309, A20, 29, 1, 18, 18, 2, 20031002, 1422, 32.2200, -52.3557, 5517,  1649.50,   1649.5,   4.5458,  35.0668, 2,  35.0669, 2,    247.2, 2,    248.0, 2,    13.87, 2,    18.47, 2,     0.00, 2,     1.21, 2,    1.042, 2,    0.546, 2,    0.053, 2,    1.429, 2,   2166.9, 2,   2315.3, 2,    43.10, 2,  -999.00, 9, -999.000, 9, -999.000, -999.0000, 9, -999.0000,  -999.00, 9,  -999.00, -999.000, 9, -999.000,   -999.0, 9,   -999.0,  -999.00, 9,    0.1220, 2,    0.0850, 2,    0.0420, 2,    0.0400, 3,    0.0110, 3,    0.0150, 3, -999, 9, -999, 9, -999, 9, -999, 9, -999, 9, -999, 9, -999, 9,  -999.00, 9,  -999.00, 9,  -999.00, 9,  -999.00, 9,   4.4048,  -999.00, 9, 1558,   32.2317,  -52.3605
316N200309, A20, 29, 1, 17, 17, 2, 20031002, 1422, 32.2200, -52.3557, 5517,  1801.30,   1801.3,   4.1847,  35.0351, 2,  35.0342, 2,    252.9, 2,    253.5, 2,    14.73, 2,    18.42, 2,     0.00, 2,     1.21, 2,    0.938, 2,    0.496, 2,    0.039, 2,    1.398, 2,   2166.6, 2,   2309.1, 3,  -999.00, 9,  -999.00, 9, -999.000, 9, -999.000, -999.0000, 9, -999.0000,  -999.00, 9,  -999.00, -999.000, 9, -999.000,   -999.0, 9,   -999.0,  -999.00, 9, -999.0000, 9, -999.0000, 9, -999.0000, 9, -999.0000, 9, -999.0000, 9, -999.0000, 9, -999, 9, -999, 9, -999, 9, -999, 9, -999, 9, -999, 9, -999, 9,  -999.00, 9,  -999.00, 9,  -999.00, 9,  -999.00, 9,   4.0337,  -999.00, 9, 1554,   32.2314,  -52.3608
316N200309, A20, 29, 1, 16, 16, 2, 20031002, 1422, 32.2200, -52.3557, 5517,  2001.30,   2001.3,   3.9440,  35.0244, 2,  35.0240, 2,    254.0, 2,    253.5, 2,    16.86, 2,    18.64, 2,     0.00, 2,     1.23, 2,    0.616, 2,    0.340, 2,    0.022, 2,    1.096, 2,   2167.2, 2,   2315.9, 2,    43.10, 2,  -999.00, 9, -999.000, 9, -999.000, -999.0000, 9, -999.0000,  -999.00, 9,  -999.00, -999.000, 9, -999.000,   -999.0, 9,   -999.0,  -999.00, 9,    0.1170, 2,    0.0810, 2,    0.0400, 2,    0.0310, 2,    0.0160, 2,    0.0180, 2, -999, 9, -999, 9, -999, 9, -999, 9, -999, 9, -999, 9, -999, 9,  -999.00, 9,  -999.00, 9,  -999.00, 9,  -999.00, 9,   3.7770,  -999.00, 9, 1550,   32.2311,  -52.3611
316N200309, A20, 29, 1, 15, 15, 2, 20031002, 1422, 32.2200, -52.3557, 5517,  2250.10,   2250.1,   3.5160,  34.9833, 2,  34.9835, 2,    258.9, 2,    258.2, 2,    18.70, 2,    18.59, 2,     0.00, 2,     1.23, 2,    0.545, 2,    0.284, 2,    0.023, 2,    0.994, 2,   2167.9, 2,   2316.4, 2,  -999.00, 9,  -999.00, 9, -999.000, 9, -999.000, -999.0000, 9, -999.0000,  -999.00, 9,  -999.00, -999.000, 9, -999.000,   -999.0, 9,   -999.0,  -999.00, 9, -999.0000, 9, -999.0000, 9, -999.0000, 9, -999.0000, 9, -999.0000, 9, -999.0000, 9, -999, 9, -999, 9, -999, 9, -999, 9, -999, 9, -999, 9, -999, 9,  -999.00, 9,  -999.00, 9,  -999.00, 9,  -999.00, 9,   3.3314,  -999.00, 9, 1545,   32.2304,  -52.3615
316N200309, A20, 29, 1, 14, 14, 2, 20031002, 1422, 32.2200, -52.3557, 5517,  2501.00,   2501.0,   3.3212,  34.9737, 2,  34.9732, 2,    256.6, 2,    256.9, 3,    21.43, 2,    18.97, 2,     0.00, 2,     1.26, 2,    0.307, 2,    0.167, 2,    0.009, 2,    0.716, 2,   2169.3, 2,   2317.7, 2,    41.90, 2,  -999.00, 9, -999.000, 9, -999.000, -999.0000, 9, -999.0000,  -999.00, 9,  -999.00, -999.000, 9, -999.000,   -999.0, 9,   -999.0,  -999.00, 9,    0.1090, 2,    0.0750, 2,    0.0360, 2,    0.0330, 2,    0.0130, 3,    0.0170, 3, -999, 9, -999, 9, -999, 9, -999, 9, -999, 9, -999, 9, -999, 9,  -999.00, 9,  -999.00, 9,  -999.00, 9,  -999.00, 9,   3.1152,  -999.00, 9, 1540,   32.2298,  -52.3616
316N200309, A20, 29, 1, 13, 13, 2, 20031002, 1422, 32.2200, -52.3557, 5517,  2754.20,   2754.2,   3.1297,  34.9642, 2,  34.9644, 2,    256.1, 2,    253.3, 3,    26.44, 2,    19.78, 2,     0.00, 2,     1.31, 2,    0.099, 2,    0.066, 2,    0.008, 2,    0.427, 2,   2175.5, 2,   2324.6, 2,  -999.00, 9,  -999.00, 9, -999.000, 9, -999.000, -999.0000, 9, -999.0000,  -999.00, 9,  -999.00, -999.000, 9, -999.000,   -999.0, 9,   -999.0,  -999.00, 9, -999.0000, 9, -999.0000, 9, -999.0000, 9, -999.0000, 9, -999.0000, 9, -999.0000, 9, -999, 9, -999, 9, -999, 9, -999, 9, -999, 9, -999, 9, -999, 9,  -999.00, 9,  -999.00, 9,  -999.00, 9,  -999.00, 9,   2.9016,  -999.00, 9, 1535,   32.2292,  -52.3619
316N200309, A20, 29, 1, 12, 12, 2, 20031002, 1422, 32.2200, -52.3557, 5517,  3003.00,   3003.0,   2.9454,  34.9493, 2,  34.9496, 2,    255.1, 2,    254.4, 2,    28.49, 2,    19.84, 2,     0.00, 2,     1.33, 2,    0.067, 2,    0.044, 2,    0.010, 2,    0.365, 2,   2176.3, 2,   2324.0, 2,    41.30, 2,  -999.00, 9, -999.000, 9, -999.000, -999.0000, 9, -999.0000,  -999.00, 9,  -999.00, -999.000, 9, -999.000,   -999.0, 9,   -999.0,  -999.00, 9,    0.1140, 2,    0.0780, 2,    0.0380, 2,    0.0360, 3,    0.0120, 3,    0.0160, 3, -999, 9, -999, 9, -999, 9, -999, 9, -999, 9, -999, 9, -999, 9,  -999.00, 9,  -999.00, 9,  -999.00, 9,  -999.00, 9,   2.6954,  -999.00, 9, 1529,   32.2287,  -52.3619
316N200309, A20, 29, 1, 11, 11, 2, 20031002, 1422, 32.2200, -52.3557, 5517,  3253.40,   3253.4,   2.7588,  34.9340, 2,  34.9337, 2,    257.8, 2,    258.7, 3,    27.87, 2,    19.48, 2,     0.00, 2,     1.30, 2,    0.103, 2,    0.060, 2,    0.009, 2,    0.385, 2,   2172.1, 2,   2322.6, 2,  -999.00, 9,  -999.00, 9, -999.000, 9, -999.000, -999.0000, 9, -999.0000,  -999.00, 9,  -999.00, -999.000, 9, -999.000,   -999.0, 9,   -999.0,  -999.00, 9, -999.0000, 9, -999.0000, 9, -999.0000, 9, -999.0000, 9, -999.0000, 9, -999.0000, 9, -999, 9, -999, 9, -999, 9, -999, 9, -999, 9, -999, 9, -999, 9,  -999.00, 9,  -999.00, 9,  -999.00, 9,  -999.00, 9,   2.4866,  -999.00, 9, 1524,   32.2281,  -52.3618