BOTTLE,20220816CCHSIOAMB
EXPOCODE,SECT_ID,STNNBR,CASTNO,SAMPNO,BTLNBR,BTLNBR_FLAG_W,DATE,TIME,LATITUDE,LONGITUDE,DEPTH,CTDRAW,CTDPRS,CTDTMP,CTDSAL,CTDSAL_FLAG_W,SALNTY,SALNTY_FLAG_W,CTDOXY,CTDOXY_FLAG_W,OXYGEN,OXYGEN_FLAG_W,SILCAT,SILCAT_FLAG_W,NITRAT,NITRAT_FLAG_W,NITRIT,NITRIT_FLAG_W,PHSPHT,PHSPHT_FLAG_W,CFC-11,CFC-11_FLAG_W,CFC-12,CFC-12_FLAG_W,CFC113,CFC113_FLAG_W,CCL4,CCL4_FLAG_W,TCARBN,TCARBN_FLAG_W,ALKALI,ALKALI_FLAG_W,DOC,DOC_FLAG_W,TDN,TDN_FLAG_W,TRITUM,TRITUM_FLAG_W,TRITER,HELIUM,HELIUM_FLAG_W,HELIER,DELHE3,DELHE3_FLAG_W,DELHER,NEON,NEON_FLAG_W,NEONER,DELC14,DELC14_FLAG_W,C14ERR,DELC13,DELC13_FLAG_W,CDOM325,CDOM325_FLAG_W,CDOM340,CDOM340_FLAG_W,CDOM380,CDOM380_FLAG_W,CDOM412,CDOM412_FLAG_W,CDOMSL,CDOMSL_FLAG_W,CDOMSN,CDOMSN_FLAG_W,DCNS,DCNS_FLAG_W,ARABI,ARABI_FLAG_W,FUCO,FUCO_FLAG_W,GALA,GALA_FLAG_W,GLUC,GLUC_FLAG_W,MAN,MAN_FLAG_W,RHAM,RHAM_FLAG_W,BRDU,BRDU_FLAG_W,PEUK,PEUK_FLAG_W,PROC,PROC_FLAG_W,SYN,SYN_FLAG_W,THETA,BACT,BACT_FLAG_W,BTL_TIME,BTL_LAT,BTL_LON
,,,,,,,,,,,METERS,DBAR,DBAR,ITS-90,PSS-78,,PSS-78,,UMOL/KG,,UMOL/KG,,UMOL/KG,,UMOL/KG,,UMOL/KG,,UMOL/KG,,PMOL/KG,,PMOL/KG,,PMOL/KG,,PMOL/KG,,UMOL/KG,,UMOL/KG,,UMOL/KG,,UMOL/KG,,TU,,TU,NMOL/KG,,NMOL/KG,PERCNT,,PERCNT,NMOL/KG,,NMOL/KG,/MILLE,,/MILLE,/MILLE,,1/M,,1/M,,1/M,,1/M,,1/NM,,1/NM,,NMOL/KG,,NMOL/KG,,NMOL/KG,,NMOL/KG,,NMOL/KG,,NMOL/KG,,NMOL/KG,,PMOL/L/H,,E6/L,,E7/L,,E6/L,,DEG C,E8/L,,,,
316N200309, A20, 19, 1, 36, 36, 2, 20030929, 0828, 39.1463, -52.1658, 5327,     5.50,      5.5,  25.8413,  36.1343, 2,  36.1365, 2,    201.5, 2,    204.4, 2,     0.88, 2,     0.16, 2,     0.00, 2,     0.03, 2,    1.710, 2,    1.084, 2,    0.023, 2,    1.712, 2,   2021.4, 2,   2366.7, 2,    67.30, 2,     4.90, 2, -999.000, 9, -999.000, -999.0000, 9, -999.0000,  -999.00, 9,  -999.00, -999.000, 9, -999.000,   -999.0, 9,   -999.0,  -999.00, 9,    0.0490, 2,    0.0400, 2,    0.0200, 2,    0.0130, 2,    0.0130, 2,    0.0140, 2, 2774, 4, 128, 2, 362, 2, 593, 2, 517, 2, 885, 2, 289, 2,     1.37, 2,     0.68, 2,    12.82, 2,     4.21, 2,  25.8401,     3.93, 2, 1041,   39.1196,  -52.1219
316N200309, A20, 19, 1, 35, 35, 2, 20030929, 0828, 39.1463, -52.1658, 5327,    29.10,     29.1,  25.8478,  36.1352, 2,  36.1341, 2,    201.2, 2,    204.7, 2,     0.96, 2,     0.17, 2,     0.00, 2,     0.02, 2,    1.748, 2,    1.076, 2,    0.130, 2,    1.765, 2,   2027.4, 2,   2365.9, 2,    67.40, 2,     5.30, 2, -999.000, 9, -999.000, -999.0000, 9, -999.0000,  -999.00, 9,  -999.00, -999.000, 9, -999.000,   -999.0, 9,   -999.0,  -999.00, 9,    0.0450, 3,    0.0390, 3,    0.0180, 3,    0.0120, 3,    0.0130, 3,    0.0130, 3, -999, 9, -999, 9, -999, 9, -999, 9, -999, 9, -999, 9, -999, 9,     0.46, 2,     1.15, 2,    12.80, 2,     4.44, 2,  25.8413,     4.14, 2, 1039,   39.1195,  -52.1227
316N200309, A20, 19, 1, 34, 34, 2, 20030929, 0828, 39.1463, -52.1658, 5327,    55.00,     55.0,  25.8314,  36.1286, 2,  36.1284, 2,    201.0, 2,    205.4, 2,     0.93, 2,     0.13, 2,     0.00, 2,     0.02, 2,    1.716, 2,    1.086, 2,    0.111, 2,    1.747, 2,   2022.8, 3,   2366.6, 2,    69.50, 2,     4.80, 2, -999.000, 9, -999.000, -999.0000, 9, -999.0000,  -999.00, 9,  -999.00, -999.000, 9, -999.000,   -999.0, 9,   -999.0,  -999.00, 9,    0.0440, 2,    0.0380, 2,    0.0180, 2,    0.0120, 2,    0.0120, 2,    0.0120, 2, 1766, 4, 104, 2, 261, 2, 429, 2, 262, 2, 527, 2, 183, 2,     0.71, 2,     1.40, 2,    12.72, 2,     3.76, 2,  25.8191,     4.19, 2, 1038,   39.1194,  -52.1234
316N200309, A20, 19, 1, 33, 33, 2, 20030929, 0828, 39.1463, -52.1658, 5327,    74.50,     74.5,  25.1513,  36.1499, 2,  36.1442, 2,    204.8, 2,    208.6, 2,     0.69, 2,     0.03, 2,     0.00, 2,     0.02, 2,    1.907, 2,    1.169, 2,    0.103, 2,    1.439, 2,   2038.7, 2,   2364.5, 2,    63.80, 2,     4.70, 2, -999.000, 9, -999.000, -999.0000, 9, -999.0000,  -999.00, 9,  -999.00, -999.000, 9, -999.000,   -999.0, 9,   -999.0,  -999.00, 9,    0.0990, 2,    0.0790, 2,    0.0390, 2,    0.0290, 2,    0.0150, 2,    0.0160, 2, 1293, 4, 92, 2, 173, 2, 313, 2, 253, 2, 355, 2, 108, 2,     0.53, 2,     2.81, 2,    11.73, 2,     3.97, 2,  25.1350,     3.47, 2, 1037,   39.1193,  -52.1242
316N200309, A20, 19, 1, 32, 32, 2, 20030929, 0828, 39.1463, -52.1658, 5327,   101.70,    101.7,  21.4125,  36.1256, 2,  36.1699, 2,    199.6, 2,    207.6, 2,     0.97, 2,     0.72, 2,     0.15, 2,     0.08, 2,    2.170, 2,    1.326, 2,    0.105, 2,    1.015, 2,   2072.1, 3,   2372.7, 2,    62.70, 2,     5.90, 2, -999.000, 9, -999.000, -999.0000, 9, -999.0000,  -999.00, 9,  -999.00, -999.000, 9, -999.000,   -999.0, 9,   -999.0,  -999.00, 9,    0.1740, 2,    0.1380, 2,    0.0700, 2,    0.0540, 2,    0.0130, 2,    0.0150, 2, 906, 4, 120, 2, 136, 2, 195, 2, 187, 2, 174, 2, 94, 2,     0.20, 2,     2.03, 2,     3.51, 2,     1.22, 2,  21.3927,     3.52, 2, 1035,   39.1192,  -52.1252
316N200309, A20, 19, 1, 31, 31, 2, 20030929, 0828, 39.1463, -52.1658, 5327,   124.90,    124.9,  19.9000,  36.2425, 2,  36.2410, 2,    181.2, 2,    180.4, 2,     2.05, 2,     4.40, 2,     0.04, 2,     0.26, 2,    2.169, 2,    1.269, 2,    0.163, 2,    0.666, 2,   2112.5, 2,   2375.1, 2,    56.90, 2,     8.30, 2, -999.000, 9, -999.000, -999.0000, 9, -999.0000,  -999.00, 9,  -999.00, -999.000, 9, -999.000,   -999.0, 9,   -999.0,  -999.00, 9,    0.1550, 2,    0.1260, 2,    0.0690, 2,    0.0530, 2,    0.0130, 2,    0.0130, 2, -999, 9, -999, 9, -999, 9, -999, 9, -999, 9, -999, 9, -999, 9,     0.38, 2,     1.10, 2,     1.48, 2,     0.29, 2,  19.8769,     1.88, 2, 1034,   39.1191,  -52.1265
316N200309, A20, 19, 1, 30, 30, 2, 20030929, 0828, 39.1463, -52.1658, 5327,   197.60,    197.6,  16.7974,  36.1385, 2,  36.1452, 2,    160.9, 2,    161.1, 2,     3.66, 2,     9.76, 2,     0.02, 2,     0.58, 2,    2.176, 2,    1.274, 2,    0.015, 2,    0.468, 2,   2139.0, 3,   2364.5, 2,    50.50, 2,    12.40, 2, -999.000, 9, -999.000, -999.0000, 9, -999.0000,  -999.00, 9,  -999.00, -999.000, 9, -999.000,   -999.0, 9,   -999.0,  -999.00, 9,    0.1060, 2,    0.0890, 2,    0.0510, 2,    0.0400, 2,    0.0120, 2,    0.0120, 2, 410, 4, 35, 2, 66, 2, 90, 2, 80, 2, 87, 2, 53, 2,     0.26, 2,     0.33, 2,     0.03, 2,     0.02, 2,  16.7648,     1.14, 2, 1032,   39.1185,  -52.1274
316N200309, A20, 19, 1, 29, 29, 2, 20030929, 0828, 39.1463, -52.1658, 5327,   274.20,    274.2,  14.1095,  35.7168, 2,  35.7167, 2,    160.7, 2,    171.4, 2,     4.75, 2,    12.59, 2,     0.01, 2,     0.77, 2,    2.321, 2,    1.273, 2,    0.018, 2,    0.688, 2,   2144.7, 2,   2339.5, 2,    48.20, 2,    15.50, 2, -999.000, 9, -999.000, -999.0000, 9, -999.0000,  -999.00, 9,  -999.00, -999.000, 9, -999.000,   -999.0, 9,   -999.0,  -999.00, 9,    0.1240, 2,    0.1010, 2,    0.0580, 2,    0.0440, 2,    0.0120, 2,    0.0130, 2, 443, 4, 32, 2, 62, 2, 83, 2, 120, 2, 95, 2, 50, 2,     0.50, 2,  -999.00, 9,  -999.00, 9,  -999.00, 9,  14.0693,  -999.00, 9, 1030,   39.1189,  -52.1280
316N200309, A20, 19, 1, 28, 28, 2, 20030929, 0828, 39.1463, -52.1658, 5327,   349.30,    349.3,  13.8559,  35.8168, 2,  35.8165, 2,    158.1, 2,    152.5, 2,     6.26, 2,    15.91, 2,     0.01, 2,     0.95, 2,    1.764, 2,    0.959, 2,    0.020, 2,    0.369, 2,   2161.6, 3,   2343.8, 2,    46.30, 2,  -999.00, 9, -999.000, 9, -999.000, -999.0000, 9, -999.0000,  -999.00, 9,  -999.00, -999.000, 9, -999.000,   -999.0, 9,   -999.0,  -999.00, 9,    0.0790, 2,    0.0670, 2,    0.0420, 2,    0.0430, 3,    0.0070, 3,    0.0080, 3, -999, 9, -999, 9, -999, 9, -999, 9, -999, 9, -999, 9, -999, 9,  -999.00, 9,  -999.00, 9,  -999.00, 9,  -999.00, 9,  13.8051,  -999.00, 9, 1028,   39.1194,  -52.1287
316N200309, A20, 19, 1, 27, 27, 2, 20030929, 0828, 39.1463, -52.1658, 5327,   446.80,    446.8,  11.7805,  35.4703, 2,  35.4701, 2,    157.6, 2,    159.6, 2,     8.48, 2,    18.45, 2,     0.01, 2,     1.14, 2,    1.777, 2,    0.983, 2,    0.059, 2,    0.627, 2,   2170.2, 2,   2329.0, 2,    46.80, 2,  -999.00, 9, -999.000, 9, -999.000, -999.0000, 9, -999.0000,  -999.00, 9,  -999.00, -999.000, 9, -999.000,   -999.0, 9,   -999.0,  -999.00, 9,    0.1080, 2,    0.0900, 2,    0.0540, 2,    0.0440, 2,    0.0110, 2,    0.0110, 2, 393, 4, 31, 2, 59, 2, 75, 2, 110, 2, 79, 2, 39, 2,  -999.00, 9,  -999.00, 9,  -999.00, 9,  -999.00, 9,  11.7221,  -999.00, 9, 1025,   39.1200,  -52.1294
316N200309, A20, 19, 1, 26, 26, 2, 20030929, 0828, 39.1463, -52.1658, 5327,   548.90,    548.9,   9.7788,  35.2557, 2,  35.2556, 2,    141.6, 2,    140.3, 2,    12.87, 2,    23.86, 2,     0.01, 2,     1.50, 2,    1.056, 2,    0.553, 2,    0.024, 2,    0.435, 2,   2019.3, 3,   2318.4, 2,    45.70, 2,  -999.00, 9, -999.000, 9, -999.000, -999.0000, 9, -999.0000,  -999.00, 9,  -999.00, -999.000, 9, -999.000,   -999.0, 9,   -999.0,  -999.00, 9,    0.0930, 2,    0.0780, 2,    0.0490, 2,    0.0440, 2,    0.0090, 2,    0.0100, 2, -999, 9, -999, 9, -999, 9, -999, 9, -999, 9, -999, 9, -999, 9,  -999.00, 9,  -999.00, 9,  -999.00, 9,  -999.00, 9,   9.7147,  -999.00, 9, 1022,   39.1208,  -52.1300
316N200309, A20, 19, 1, 25, 25, 2, 20030929, 0828, 39.1463, -52.1658, 5327,   675.10,    675.1,   7.1376,  35.0569, 2,  35.0557, 2,    174.1, 2,    177.6, 2,    13.25, 2,    22.61, 2,     0.01, 2,     1.48, 2,    1.434, 2,    0.744, 2,    0.059, 2,    1.161, 2,   2189.6, 2,   2311.2, 2,    46.30, 2,  -999.00, 9, -999.000, 9, -999.000, -999.0000, 9, -999.0000,  -999.00, 9,  -999.00, -999.000, 9, -999.000,   -999.0, 9,   -999.0,  -999.00, 9,    0.1070, 2,    0.0890, 2,    0.0530, 2,    0.0450, 2,    0.0100, 3,    0.0110, 3, -999, 9, -999, 9, -999, 9, -999, 9, -999, 9, -999, 9, -999, 9,  -999.00, 9,  -999.00, 9,  -999.00, 9,  -999.00, 9,   7.0714,  -999.00, 9, 1019,   39.1216,  -52.1307
316N200309, A20, 19, 1, 24, 24, 2, 20030929, 0828, 39.1463, -52.1658, 5327,   826.00,    826.0,   5.3011,  34.9519, 2,  34.9528, 2,    223.8, 2,    229.2, 2,    11.16, 2,    19.08, 2,     0.01, 2,     1.27, 2,    2.611, 2,    1.345, 2,    0.150, 2,    2.548, 2,   2173.8, 3,   2301.3, 2,    46.40, 2,  -999.00, 9, -999.000, 9, -999.000, -999.0000, 9, -999.0000,  -999.00, 9,  -999.00, -999.000, 9, -999.000,   -999.0, 9,   -999.0,  -999.00, 9,    0.1260, 2,    0.0990, 2,    0.0550, 2,    0.0500, 3,    0.0100, 3,    0.0120, 3, -999, 9, -999, 9, -999, 9, -999, 9, -999, 9, -999, 9, -999, 9,  -999.00, 9,  -999.00, 9,  -999.00, 9,  -999.00, 9,   5.2308,  -999.00, 9, 1015,   39.1227,  -52.1316
316N200309, A20, 19, 1, 23, 23, 2, 20030929, 0828, 39.1463, -52.1658, 5327,   975.70,    975.7,   4.7469,  34.9567, 2,  34.9585, 2,    252.9, 2,    250.3, 2,    10.01, 2,    18.23, 2,     0.01, 2,     1.20, 2,    3.007, 2,    1.541, 2,    0.175, 2,    3.086, 2,   2173.3, 2,   2304.6, 2,    46.70, 2,  -999.00, 9, -999.000, 9, -999.000, -999.0000, 9, -999.0000,  -999.00, 9,  -999.00, -999.000, 9, -999.000,   -999.0, 9,   -999.0,  -999.00, 9,    0.1200, 2,    0.0960, 2,    0.0530, 2,    0.0450, 3,    0.0110, 3,    0.0120, 3, 655, 4, 52, 2, 51, 2, 70, 2, 289, 4, 173, 4, 19, 2,  -999.00, 9,  -999.00, 9,  -999.00, 9,  -999.00, 9,   4.6669,  -999.00, 9, 1012,   39.1238,  -52.1324
316N200309, A20, 19, 1, 22, 22, 2, 20030929, 0828, 39.1463, -52.1658, 5327,  1127.10,   1127.1,   4.5916,  34.9919, 2,  34.9923, 2,    260.3, 2,    250.6, 2,    10.59, 2,    18.64, 2,     0.01, 2,     1.21, 2, -999.000, 5,    1.226, 2, -999.000, 5, -999.000, 5,   2167.1, 3,   2307.2, 2,    44.70, 2,  -999.00, 9, -999.000, 9, -999.000, -999.0000, 9, -999.0000,  -999.00, 9,  -999.00, -999.000, 9, -999.000,   -999.0, 9,   -999.0,  -999.00, 9,    0.1080, 2,    0.0860, 2,    0.0460, 2,    0.0400, 3,    0.0110, 3,    0.0130, 3, -999, 9, -999, 9, -999, 9, -999, 9, -999, 9, -999, 9, -999, 9,  -999.00, 9,  -999.00, 9,  -999.00, 9,  -999.00, 9,   4.4993,  -999.00, 9, 1008,   39.1249,  -52.1334
316N200309, A20, 19, 1, 21, 21, 2, 20030929, 0828, 39.1463, -52.1658, 5327,  1278.20,   1278.2,   4.0957,  34.9360, 2,  34.9376, 2,    265.7, 2,    268.2, 2,     9.74, 2,    17.85, 2,     0.01, 2,     1.15, 2,    3.187, 6,    1.646, 6,    0.199, 6,    3.401, 6,   2168.7, 2,   2301.2, 2,    45.80, 2,  -999.00, 9, -999.000, 9, -999.000, -999.0000, 9, -999.0000,  -999.00, 9,  -999.00, -999.000, 9, -999.000,   -999.0, 9,   -999.0,  -999.00, 9,    0.1140, 2,    0.0890, 2,    0.0480, 2,    0.0390, 2,    0.0120, 3,    0.0140, 3, -999, 9, -999, 9, -999, 9, -999, 9, -999, 9, -999, 9, -999, 9,  -999.00, 9,  -999.00, 9,  -999.00, 9,  -999.00, 9,   3.9945,  -999.00, 9, 1004,   39.1258,  -52.1344
316N200309, A20, 19, 1, 20, 20, 2, 20030929, 0828, 39.1463, -52.1658, 5327,  1399.80,   1399.8,   3.9230,  34.9261, 2,  34.9270, 2,    271.2, 2,    271.4, 2,     9.71, 2,    17.71, 2,     0.01, 2,     1.14, 2,    3.215, 2,    1.662, 2,    0.202, 2,    3.372, 2,   2167.8, 3,   2301.8, 2,    44.70, 2,  -999.00, 9, -999.000, 9, -999.000, -999.0000, 9, -999.0000,  -999.00, 9,  -999.00, -999.000, 9, -999.000,   -999.0, 9,   -999.0,  -999.00, 9,    0.1250, 2,    0.0950, 2,    0.0530, 2,    0.0520, 3,    0.0090, 3,    0.0110, 3, -999, 9, -999, 9, -999, 9, -999, 9, -999, 9, -999, 9, -999, 9,  -999.00, 9,  -999.00, 9,  -999.00, 9,  -999.00, 9,   3.8128,  -999.00, 9, 1000,   39.1267,  -52.1353
316N200309, A20, 19, 1, 19, 19, 2, 20030929, 0828, 39.1463, -52.1658, 5327,  1504.10,   1504.1,   4.0395,  34.9580, 2,  34.9581, 2,    267.0, 2,    263.7, 2,    10.71, 2,    18.17, 2,     0.00, 2,     1.17, 2,    2.348, 2,    1.191, 2,    0.131, 2,    2.688, 2,   2163.4, 2,   2304.7, 2,  -999.00, 9,  -999.00, 9, -999.000, 9, -999.000, -999.0000, 9, -999.0000,  -999.00, 9,  -999.00, -999.000, 9, -999.000,   -999.0, 9,   -999.0,  -999.00, 9, -999.0000, 9, -999.0000, 9, -999.0000, 9, -999.0000, 9, -999.0000, 9, -999.0000, 9, -999, 9, -999, 9, -999, 9, -999, 9, -999, 9, -999, 9, -999, 9,  -999.00, 9,  -999.00, 9,  -999.00, 9,  -999.00, 9,   3.9185,  -999.00, 9,  957,   39.1272,  -52.1362
316N200309, A20, 19, 1, 18, 18, 2, 20030929, 0828, 39.1463, -52.1658, 5327,  1631.90,   1631.9,   3.9021,  34.9507, 2,  34.9262, 3,    269.5, 2,    265.8, 2,    10.99, 2,    18.12, 2,     0.00, 2,     1.18, 2,    2.166, 2,    1.091, 2,    0.116, 2,    2.510, 2,   2167.8, 3,   2303.9, 2,    45.10, 2,  -999.00, 9, -999.000, 9, -999.000, -999.0000, 9, -999.0000,  -999.00, 9,  -999.00, -999.000, 9, -999.000,   -999.0, 9,   -999.0,  -999.00, 9,    0.1240, 2,    0.0920, 2,    0.0500, 2,    0.0350, 2,    0.0140, 2,    0.0160, 2, -999, 9, -999, 9, -999, 9, -999, 9, -999, 9, -999, 9, -999, 9,  -999.00, 9,  -999.00, 9,  -999.00, 9,  -999.00, 9,   3.7710,  -999.00, 9,  954,   39.1279,  -52.1374
316N200309, A20, 19, 1, 17, 17, 2, 20030929, 0828, 39.1463, -52.1658, 5327,  1780.80,   1780.8,   3.7775,  34.9410, 2,  34.9410, 2,    264.6, 2,    268.5, 2,    11.06, 2,    18.04, 2,     0.00, 2,     1.16, 2,    2.204, 2,    1.103, 2,    0.122, 2,    2.590, 2,   2163.1, 2,   2304.3, 2,  -999.00, 9,  -999.00, 9, -999.000, 9, -999.000, -999.0000, 9, -999.0000,  -999.00, 9,  -999.00, -999.000, 9, -999.000,   -999.0, 9,   -999.0,  -999.00, 9, -999.0000, 9, -999.0000, 9, -999.0000, 9, -999.0000, 9, -999.0000, 9, -999.0000, 9, -999, 9, -999, 9, -999, 9, -999, 9, -999, 9, -999, 9, -999, 9,  -999.00, 9,  -999.00, 9,  -999.00, 9,  -999.00, 9,   3.6342,  -999.00, 9,  949,   39.1287,  -52.1387
316N200309, A20, 19, 1, 16, 16, 2, 20030929, 0828, 39.1463, -52.1658, 5327,  1928.60,   1928.6,   3.6810,  34.9418, 2,  34.9421, 2,    267.1, 2,    268.9, 2,    11.76, 2,    18.09, 2,     0.00, 2,     1.17, 2,    1.912, 2,    0.949, 2,    0.096, 2,    2.382, 2,   2167.8, 3,   2303.2, 2,  -999.00, 9,  -999.00, 9, -999.000, 9, -999.000, -999.0000, 9, -999.0000,  -999.00, 9,  -999.00, -999.000, 9, -999.000,   -999.0, 9,   -999.0,  -999.00, 9, -999.0000, 9, -999.0000, 9, -999.0000, 9, -999.0000, 9, -999.0000, 9, -999.0000, 9, -999, 9, -999, 9, -999, 9, -999, 9, -999, 9, -999, 9, -999, 9,  -999.00, 9,  -999.00, 9,  -999.00, 9,  -999.00, 9,   3.5251,  -999.00, 9,  945,   39.1296,  -52.1399
316N200309, A20, 19, 1, 15, 15, 2, 20030929, 0828, 39.1463, -52.1658, 5327,  2130.80,   2130.8,   3.5408,  34.9398, 2,  34.9396, 2,    268.3, 2,    270.0, 2,    12.66, 2,    18.00, 2,     0.00, 2,     1.17, 2,    1.646, 2,    0.817, 2,    0.078, 2,    2.164, 2,   2162.8, 2,   2304.6, 2,    43.20, 2,  -999.00, 9, -999.000, 9, -999.000, -999.0000, 9, -999.0000,  -999.00, 9,  -999.00, -999.000, 9, -999.000,   -999.0, 9,   -999.0,  -999.00, 9,    0.1100, 2,    0.0820, 2,    0.0440, 2,    0.0320, 2,    0.0140, 2,    0.0160, 2, -999, 9, -999, 9, -999, 9, -999, 9, -999, 9, -999, 9, -999, 9,  -999.00, 9,  -999.00, 9,  -999.00, 9,  -999.00, 9,   3.3676,  -999.00, 9,  940,   39.1307,  -52.1413
316N200309, A20, 19, 1, 14, 14, 2, 20030929, 0828, 39.1463, -52.1658, 5327,  2379.30,   2379.3,   3.4281,  34.9467, 2,  34.9473, 2,    266.7, 2,    268.2, 2,    14.17, 2,    18.06, 2,     0.00, 2,     1.18, 2,    1.234, 2,    0.605, 2,    0.048, 2,    1.759, 2,   2169.3, 3,   2307.4, 2,  -999.00, 9,  -999.00, 9, -999.000, 9, -999.000, -999.0000, 9, -999.0000,  -999.00, 9,  -999.00, -999.000, 9, -999.000,   -999.0, 9,   -999.0,  -999.00, 9, -999.0000, 9, -999.0000, 9, -999.0000, 9, -999.0000, 9, -999.0000, 9, -999.0000, 9, -999, 9, -999, 9, -999, 9, -999, 9, -999, 9, -999, 9, -999, 9,  -999.00, 9,  -999.00, 9,  -999.00, 9,  -999.00, 9,   3.2324,  -999.00, 9,  935,   39.1319,  -52.1431
316N200309, A20, 19, 1, 13, 13, 2, 20030929, 0828, 39.1463, -52.1658, 5327,  2627.90,   2627.9,   3.2778,  34.9464, 2,  34.9459, 2,    264.9, 2,    267.2, 2,    15.89, 2,    18.06, 2,     0.00, 2,     1.19, 2,    1.012, 6,    0.500, 6,    0.039, 2,    1.509, 2,   2164.9, 2,   2308.4, 2,    42.50, 2,  -999.00, 9, -999.000, 9, -999.000, -999.0000, 9, -999.0000,  -999.00, 9,  -999.00, -999.000, 9, -999.000,   -999.0, 9,   -999.0,  -999.00, 9,    0.1230, 2,    0.0890, 2,    0.0450, 2,    0.0290, 2,    0.0170, 2,    0.0180, 2, -999, 9, -999, 9, -999, 9, -999, 9, -999, 9, -999, 9, -999, 9,  -999.00, 9,  -999.00, 9,  -999.00, 9,  -999.00, 9,   3.0599,  -999.00, 9,  929,   39.1334,  -52.1450
316N200309, A20, 19, 1, 12, 12, 2, 20030929, 0828, 39.1463, -52.1658, 5327,  2878.00,   2878.0,   3.1189,  34.9433, 2,  34.9427, 2,    264.8, 2,    266.6, 2,    17.62, 2,    18.22, 2,     0.00, 2,     1.20, 2,    0.795, 2,    0.411, 2,    0.031, 2,    1.315, 2,   2166.8, 3,   2311.5, 2,  -999.00, 9,  -999.00, 9, -999.000, 9, -999.000, -999.0000, 9, -999.0000,  -999.00, 9,  -999.00, -999.000, 9, -999.000,   -999.0, 9,   -999.0,  -999.00, 9, -999.0000, 9, -999.0000, 9, -999.0000, 9, -999.0000, 9, -999.0000, 9, -999.0000, 9, -999, 9, -999, 9, -999, 9, -999, 9, -999, 9, -999, 9, -999, 9,  -999.00, 9,  -999.00, 9,  -999.00, 9,  -999.00, 9,   2.8783,  -999.00, 9,  924,   39.1347,  -52.1467
316N200309, A20, 19, 1, 11, 11, 2, 20030929, 0828, 39.1463, -52.1658, 5327,  3102.20,   3102.2,   2.9264,  34.9355, 2,  34.9351, 2,    265.8, 2,    267.1, 2,    19.45, 2,    18.18, 2,     0.00, 2,     1.21, 2,    0.703, 2,    0.361, 2,    0.027, 2,    1.169, 2,   2172.6, 2,   2312.2, 2,  -999.00, 9,  -999.00, 9, -999.000, 9, -999.000, -999.0000, 9, -999.0000,  -999.00, 9,  -999.00, -999.000, 9, -999.000,   -999.0, 9,   -999.0,  -999.00, 9, -999.0000, 9, -999.0000, 9, -999.0000, 9, -999.0000, 9, -999.0000, 9, -999.0000, 9, -999, 9, -999, 9, -999, 9, -999, 9, -999, 9, -999, 9, -999, 9,  -999.00, 9,  -999.00, 9,  -999.00, 9,  -999.00, 9,   2.6665,  -999.00, 9,  919,   39.1355,  -52.1487