BOTTLE,20220816CCHSIOAMB
EXPOCODE,SECT_ID,STNNBR,CASTNO,SAMPNO,BTLNBR,BTLNBR_FLAG_W,DATE,TIME,LATITUDE,LONGITUDE,DEPTH,CTDRAW,CTDPRS,CTDTMP,CTDSAL,CTDSAL_FLAG_W,SALNTY,SALNTY_FLAG_W,CTDOXY,CTDOXY_FLAG_W,OXYGEN,OXYGEN_FLAG_W,SILCAT,SILCAT_FLAG_W,NITRAT,NITRAT_FLAG_W,NITRIT,NITRIT_FLAG_W,PHSPHT,PHSPHT_FLAG_W,CFC-11,CFC-11_FLAG_W,CFC-12,CFC-12_FLAG_W,CFC113,CFC113_FLAG_W,CCL4,CCL4_FLAG_W,TCARBN,TCARBN_FLAG_W,ALKALI,ALKALI_FLAG_W,DOC,DOC_FLAG_W,TDN,TDN_FLAG_W,TRITUM,TRITUM_FLAG_W,TRITER,HELIUM,HELIUM_FLAG_W,HELIER,DELHE3,DELHE3_FLAG_W,DELHER,NEON,NEON_FLAG_W,NEONER,DELC14,DELC14_FLAG_W,C14ERR,DELC13,DELC13_FLAG_W,CDOM325,CDOM325_FLAG_W,CDOM340,CDOM340_FLAG_W,CDOM380,CDOM380_FLAG_W,CDOM412,CDOM412_FLAG_W,CDOMSL,CDOMSL_FLAG_W,CDOMSN,CDOMSN_FLAG_W,DCNS,DCNS_FLAG_W,ARABI,ARABI_FLAG_W,FUCO,FUCO_FLAG_W,GALA,GALA_FLAG_W,GLUC,GLUC_FLAG_W,MAN,MAN_FLAG_W,RHAM,RHAM_FLAG_W,BRDU,BRDU_FLAG_W,PEUK,PEUK_FLAG_W,PROC,PROC_FLAG_W,SYN,SYN_FLAG_W,THETA,BACT,BACT_FLAG_W,BTL_TIME,BTL_LAT,BTL_LON
,,,,,,,,,,,METERS,DBAR,DBAR,ITS-90,PSS-78,,PSS-78,,UMOL/KG,,UMOL/KG,,UMOL/KG,,UMOL/KG,,UMOL/KG,,UMOL/KG,,PMOL/KG,,PMOL/KG,,PMOL/KG,,PMOL/KG,,UMOL/KG,,UMOL/KG,,UMOL/KG,,UMOL/KG,,TU,,TU,NMOL/KG,,NMOL/KG,PERCNT,,PERCNT,NMOL/KG,,NMOL/KG,/MILLE,,/MILLE,/MILLE,,1/M,,1/M,,1/M,,1/M,,1/NM,,1/NM,,NMOL/KG,,NMOL/KG,,NMOL/KG,,NMOL/KG,,NMOL/KG,,NMOL/KG,,NMOL/KG,,PMOL/L/H,,E6/L,,E7/L,,E6/L,,DEG C,E8/L,,,,
316N200309, A20, 30, 1, 36, 36, 2, 20031004, 0036, 26.1635, -52.3452, 5828,    14.40,     14.4,  27.9130,  37.4399, 2,  37.4515, 4,    196.9, 2,    199.1, 2,     0.67, 2,     0.20, 2,     0.00, 2,     0.02, 2,    1.652, 2,    1.019, 2,    0.130, 2, -999.000, 9,   2071.7, 2,   2442.8, 2,  -999.00, 9,  -999.00, 9, -999.000, 9, -999.000, -999.0000, 9, -999.0000,  -999.00, 9,  -999.00, -999.000, 9, -999.000,   -999.0, 9,   -999.0,  -999.00, 9,    0.0590, 2,    0.0400, 2,    0.0150, 2,    0.0100, 2,    0.0270, 2,    0.0280, 2, -999, 9, -999, 9, -999, 9, -999, 9, -999, 9, -999, 9, -999, 9,  -999.00, 9,  -999.00, 9,  -999.00, 9,  -999.00, 9,  27.9096,  -999.00, 9,  304,   26.1624,  -52.3432
316N200309, A20, 30, 1, 35, 35, 2, 20031004, 0036, 26.1635, -52.3452, 5828,    48.60,     48.6,  27.9128,  37.4397, 2,  37.4338, 4,    199.7, 2,    198.8, 2,     0.66, 2,     0.16, 2,     0.00, 2,     0.03, 2,    1.687, 2,    1.032, 2,    0.145, 2, -999.000, 9,   2070.3, 2,   2443.4, 2,  -999.00, 9,  -999.00, 9, -999.000, 9, -999.000, -999.0000, 9, -999.0000,  -999.00, 9,  -999.00, -999.000, 9, -999.000,   -999.0, 9,   -999.0,  -999.00, 9,    0.0480, 2,    0.0300, 2,    0.0080, 2,    0.0050, 2,    0.0320, 2,    0.0320, 2, -999, 9, -999, 9, -999, 9, -999, 9, -999, 9, -999, 9, -999, 9,  -999.00, 9,  -999.00, 9,  -999.00, 9,  -999.00, 9,  27.9013,  -999.00, 9,  303,   26.1622,  -52.3432
316N200309, A20, 30, 1, 34, 34, 2, 20031004, 0036, 26.1635, -52.3452, 5828,    78.00,     78.0,  23.9612,  37.1724, 2,  37.1725, 4,    227.7, 2,    228.3, 2,     0.65, 2,     0.16, 2,     0.00, 2,     0.02, 2,    1.999, 2,    1.191, 2,    0.162, 2, -999.000, 9,   2069.0, 2,   2411.2, 2,  -999.00, 9,  -999.00, 9, -999.000, 9, -999.000, -999.0000, 9, -999.0000,  -999.00, 9,  -999.00, -999.000, 9, -999.000,   -999.0, 9,   -999.0,  -999.00, 9,    0.1210, 2,    0.0810, 2,    0.0310, 2,    0.0190, 2,    0.0250, 2,    0.0260, 2, -999, 9, -999, 9, -999, 9, -999, 9, -999, 9, -999, 9, -999, 9,  -999.00, 9,  -999.00, 9,  -999.00, 9,  -999.00, 9,  23.9447,  -999.00, 9,  301,   26.1620,  -52.3431
316N200309, A20, 30, 1, 33, 33, 2, 20031004, 0036, 26.1635, -52.3452, 5828,   102.20,    102.2,  22.7551,  37.0775, 2,  36.8226, 4,    222.7, 2,    213.9, 2,     2.11, 4,     1.51, 4,     0.02, 4,     0.10, 4,    2.127, 2,    1.274, 2,    0.157, 2, -999.000, 9,   2089.8, 2,   2393.6, 2,  -999.00, 9,  -999.00, 9, -999.000, 9, -999.000, -999.0000, 9, -999.0000,  -999.00, 9,  -999.00, -999.000, 9, -999.000,   -999.0, 9,   -999.0,  -999.00, 9,    0.1460, 2,    0.1010, 2,    0.0440, 2,    0.0300, 2,    0.0190, 2,    0.0210, 2, -999, 9, -999, 9, -999, 9, -999, 9, -999, 9, -999, 9, -999, 9,  -999.00, 9,  -999.00, 9,  -999.00, 9,  -999.00, 9,  22.7342,  -999.00, 9,  259,   26.1618,  -52.3431
316N200309, A20, 30, 1, 32, 32, 2, 20031004, 0036, 26.1635, -52.3452, 5828,   125.00,    125.0,  21.0337,  36.8777, 2,  36.8845, 4,    212.3, 2,    211.2, 2,     0.63, 2,     0.13, 2,     0.03, 2,     0.02, 2,    2.137, 2,    1.285, 2,    0.151, 2, -999.000, 9,   2088.3, 2,   2407.9, 2,  -999.00, 9,  -999.00, 9, -999.000, 9, -999.000, -999.0000, 9, -999.0000,  -999.00, 9,  -999.00, -999.000, 9, -999.000,   -999.0, 9,   -999.0,  -999.00, 9, -999.0000, 9, -999.0000, 9, -999.0000, 9, -999.0000, 9, -999.0000, 9, -999.0000, 9, -999, 9, -999, 9, -999, 9, -999, 9, -999, 9, -999, 9, -999, 9,  -999.00, 9,  -999.00, 9,  -999.00, 9,  -999.00, 9,  21.0096,  -999.00, 9,  258,   26.1616,  -52.3434
316N200309, A20, 30, 1, 31, 31, 2, 20031004, 0036, 26.1635, -52.3452, 5828,   147.20,    147.2,  20.0071,  36.7616, 2,  36.7687, 4,    204.8, 2,    201.0, 2,     0.72, 2,     0.32, 2,     0.07, 2,     0.03, 2,    2.292, 2,    1.370, 2,    0.144, 2, -999.000, 9,   2099.3, 2,   2400.7, 2,  -999.00, 9,  -999.00, 9, -999.000, 9, -999.000, -999.0000, 9, -999.0000,  -999.00, 9,  -999.00, -999.000, 9, -999.000,   -999.0, 9,   -999.0,  -999.00, 9,    0.1320, 2,    0.0950, 2,    0.0450, 2,    0.0330, 2,    0.0160, 2,    0.0180, 2, -999, 9, -999, 9, -999, 9, -999, 9, -999, 9, -999, 9, -999, 9,  -999.00, 9,  -999.00, 9,  -999.00, 9,  -999.00, 9,  19.9796,  -999.00, 9,  256,   26.1613,  -52.3436
316N200309, A20, 30, 1, 30, 30, 2, 20031004, 0036, 26.1635, -52.3452, 5828,   174.90,    174.9,  19.4352,  36.6994, 2,  36.7038, 4,    196.9, 2,    195.4, 2,     0.91, 2,     1.15, 2,     0.02, 2,     0.04, 2,    2.342, 2,    1.386, 2,    0.100, 2, -999.000, 9,   2104.7, 2,   2395.6, 2,  -999.00, 9,  -999.00, 9, -999.000, 9, -999.000, -999.0000, 9, -999.0000,  -999.00, 9,  -999.00, -999.000, 9, -999.000,   -999.0, 9,   -999.0,  -999.00, 9,    0.1090, 2,    0.0770, 2,    0.0340, 2,    0.0250, 2,    0.0210, 2,    0.0220, 2, -999, 9, -999, 9, -999, 9, -999, 9, -999, 9, -999, 9, -999, 9,  -999.00, 9,  -999.00, 9,  -999.00, 9,  -999.00, 9,  19.4031,  -999.00, 9,  255,   26.1609,  -52.3439
316N200309, A20, 30, 1, 29, 29, 2, 20031004, 0036, 26.1635, -52.3452, 5828,   221.00,    221.0,  18.6299,  36.6134, 2,  36.6175, 4,    193.1, 2,    209.5, 2,     1.19, 2,     3.43, 2,     0.01, 2,     0.15, 2,    2.398, 2,    1.388, 2,    0.048, 2, -999.000, 9,   2109.8, 2,   2382.7, 2,  -999.00, 9,  -999.00, 9, -999.000, 9, -999.000, -999.0000, 9, -999.0000,  -999.00, 9,  -999.00, -999.000, 9, -999.000,   -999.0, 9,   -999.0,  -999.00, 9, -999.0000, 9, -999.0000, 9, -999.0000, 9, -999.0000, 9, -999.0000, 9, -999.0000, 9, -999, 9, -999, 9, -999, 9, -999, 9, -999, 9, -999, 9, -999, 9,  -999.00, 9,  -999.00, 9,  -999.00, 9,  -999.00, 9,  18.5906,  -999.00, 9,  253,   26.1606,  -52.3441
316N200309, A20, 30, 1, 28, 28, 2, 20031004, 0036, 26.1635, -52.3452, 5828,   274.60,    274.6,  18.0155,  36.5238, 2,  36.5244, 4,    194.9, 2,    200.3, 2,     1.47, 2,     4.56, 2,     0.01, 2,     0.22, 2,    2.443, 2,    1.406, 2,    0.036, 2, -999.000, 9,   2110.3, 2,   2383.2, 2,  -999.00, 9,  -999.00, 9, -999.000, 9, -999.000, -999.0000, 9, -999.0000,  -999.00, 9,  -999.00, -999.000, 9, -999.000,   -999.0, 9,   -999.0,  -999.00, 9,    0.1110, 2,    0.0770, 2,    0.0360, 2,    0.0250, 2,    0.0200, 2,    0.0210, 2, -999, 9, -999, 9, -999, 9, -999, 9, -999, 9, -999, 9, -999, 9,  -999.00, 9,  -999.00, 9,  -999.00, 9,  -999.00, 9,  17.9678,  -999.00, 9,  250,   26.1603,  -52.3443
316N200309, A20, 30, 1, 27, 27, 2, 20031004, 0036, 26.1635, -52.3452, 5828,   350.40,    350.4,  17.1647,  36.3920, 2,  36.3986, 4,    198.0, 2,    198.4, 2,     1.95, 2,     6.10, 2,     0.01, 2,     0.32, 2,    2.470, 2,    1.375, 2,    0.031, 2, -999.000, 9,   2115.2, 2,   2369.5, 2,  -999.00, 9,  -999.00, 9, -999.000, 9, -999.000, -999.0000, 9, -999.0000,  -999.00, 9,  -999.00, -999.000, 9, -999.000,   -999.0, 9,   -999.0,  -999.00, 9, -999.0000, 9, -999.0000, 9, -999.0000, 9, -999.0000, 9, -999.0000, 9, -999.0000, 9, -999, 9, -999, 9, -999, 9, -999, 9, -999, 9, -999, 9, -999, 9,  -999.00, 9,  -999.00, 9,  -999.00, 9,  -999.00, 9,  17.1057,  -999.00, 9,  248,   26.1599,  -52.3443
316N200309, A20, 30, 1, 26, 26, 2, 20031004, 0036, 26.1635, -52.3452, 5828,   449.20,    449.2,  15.6883,  36.1434, 2,  36.1480, 4,    188.4, 2,    185.4, 2,     3.21, 2,     9.37, 2,     0.00, 2,     0.54, 2,    2.408, 2,    1.327, 2,    0.030, 2, -999.000, 9,   2130.3, 2,   2361.0, 2,  -999.00, 9,  -999.00, 9, -999.000, 9, -999.000, -999.0000, 9, -999.0000,  -999.00, 9,  -999.00, -999.000, 9, -999.000,   -999.0, 9,   -999.0,  -999.00, 9,    0.1110, 2,    0.0770, 2,    0.0360, 2,    0.0250, 2,    0.0200, 2,    0.0210, 2, -999, 9, -999, 9, -999, 9, -999, 9, -999, 9, -999, 9, -999, 9,  -999.00, 9,  -999.00, 9,  -999.00, 9,  -999.00, 9,  15.6170,  -999.00, 9,  245,   26.1595,  -52.3443
316N200309, A20, 30, 1, 25, 25, 2, 20031004, 0036, 26.1635, -52.3452, 5828,   575.10,    575.1,  13.3317,  35.7807, 2,  35.7803, 4,    177.8, 2,    172.8, 2,     5.74, 2,    14.29, 2,     0.00, 2,     0.85, 2,    2.037, 2,    1.078, 2,    0.027, 2, -999.000, 9,   2150.9, 2,   2332.9, 2,  -999.00, 9,  -999.00, 9, -999.000, 9, -999.000, -999.0000, 9, -999.0000,  -999.00, 9,  -999.00, -999.000, 9, -999.000,   -999.0, 9,   -999.0,  -999.00, 9, -999.0000, 9, -999.0000, 9, -999.0000, 9, -999.0000, 9, -999.0000, 9, -999.0000, 9, -999, 9, -999, 9, -999, 9, -999, 9, -999, 9, -999, 9, -999, 9,  -999.00, 9,  -999.00, 9,  -999.00, 9,  -999.00, 9,  13.2496,  -999.00, 9,  242,   26.1590,  -52.3444
316N200309, A20, 30, 1, 24, 24, 2, 20031004, 0036, 26.1635, -52.3452, 5828,   698.40,    698.4,  10.9166,  35.4711, 2,  35.4752, 4,    168.2, 2,    160.4, 2,     9.56, 2,    19.45, 2,     0.00, 2,     1.19, 2,    1.280, 6,    0.675, 6,    0.025, 6, -999.000, 9,   2170.6, 2,   2341.5, 2,  -999.00, 9,  -999.00, 9, -999.000, 9, -999.000, -999.0000, 9, -999.0000,  -999.00, 9,  -999.00, -999.000, 9, -999.000,   -999.0, 9,   -999.0,  -999.00, 9, -999.0000, 9, -999.0000, 9, -999.0000, 9, -999.0000, 9, -999.0000, 9, -999.0000, 9, -999, 9, -999, 9, -999, 9, -999, 9, -999, 9, -999, 9, -999, 9,  -999.00, 9,  -999.00, 9,  -999.00, 9,  -999.00, 9,  10.8285,  -999.00, 9,  239,   26.1589,  -52.3445
316N200309, A20, 30, 1, 23, 23, 2, 20031004, 0036, 26.1635, -52.3452, 5828,   820.00,    820.0,   9.0314,  35.2598, 2,  35.2656, 4,    159.3, 2,    154.6, 2,    13.57, 2,    23.09, 2,     0.00, 2,     1.46, 2,    0.686, 2,    0.375, 2,    0.020, 2, -999.000, 9,   2185.1, 2,   2322.2, 2,  -999.00, 9,  -999.00, 9, -999.000, 9, -999.000, -999.0000, 9, -999.0000,  -999.00, 9,  -999.00, -999.000, 9, -999.000,   -999.0, 9,   -999.0,  -999.00, 9, -999.0000, 9, -999.0000, 9, -999.0000, 9, -999.0000, 9, -999.0000, 9, -999.0000, 9, -999, 9, -999, 9, -999, 9, -999, 9, -999, 9, -999, 9, -999, 9,  -999.00, 9,  -999.00, 9,  -999.00, 9,  -999.00, 9,   8.9386,  -999.00, 9,  236,   26.1590,  -52.3447
316N200309, A20, 30, 1, 22, 22, 2, 20031004, 0036, 26.1635, -52.3452, 5828,   976.20,    976.2,   7.0918,  35.1051, 2,  35.1065, 4,    170.4, 2,    165.8, 2,    17.01, 2,    24.71, 2,     0.00, 2,     1.60, 2,    0.314, 6,    0.168, 6,    0.009, 2, -999.000, 9,   2192.5, 2,   2318.3, 2,  -999.00, 9,  -999.00, 9, -999.000, 9, -999.000, -999.0000, 9, -999.0000,  -999.00, 9,  -999.00, -999.000, 9, -999.000,   -999.0, 9,   -999.0,  -999.00, 9,    0.1250, 2,    0.0860, 2,    0.0420, 2,    0.0290, 2,    0.0180, 2,    0.0200, 2, -999, 9, -999, 9, -999, 9, -999, 9, -999, 9, -999, 9, -999, 9,  -999.00, 9,  -999.00, 9,  -999.00, 9,  -999.00, 9,   6.9944,  -999.00, 9,  233,   26.1593,  -52.3450
316N200309, A20, 30, 1, 21, 21, 2, 20031004, 0036, 26.1635, -52.3452, 5828,  1125.90,   1125.9,   6.1158,  35.0867, 2,  35.0858, 4,    194.6, 2,    190.4, 2,    16.71, 2,    22.93, 2,     0.00, 2,     1.50, 2,    0.276, 2,    0.165, 6,    0.015, 2,    0.420, 2,   2184.6, 2,   2316.8, 2,  -999.00, 9,  -999.00, 9, -999.000, 9, -999.000, -999.0000, 9, -999.0000,  -999.00, 9,  -999.00, -999.000, 9, -999.000,   -999.0, 9,   -999.0,  -999.00, 9, -999.0000, 9, -999.0000, 9, -999.0000, 9, -999.0000, 9, -999.0000, 9, -999.0000, 9, -999, 9, -999, 9, -999, 9, -999, 9, -999, 9, -999, 9, -999, 9,  -999.00, 9,  -999.00, 9,  -999.00, 9,  -999.00, 9,   6.0105,  -999.00, 9,  230,   26.1589,  -52.3453
316N200309, A20, 30, 1, 20, 20, 2, 20031004, 0036, 26.1635, -52.3452, 5828,  1275.30,   1275.3,   5.5597,  35.1031, 2,  35.1020, 4,    216.3, 2,    212.4, 4,    15.51, 2,    20.96, 2,     0.00, 2,     1.38, 2,    0.349, 6,    0.202, 6,    0.013, 2,    0.620, 2,   2171.2, 2,   2318.3, 2,  -999.00, 9,  -999.00, 9, -999.000, 9, -999.000, -999.0000, 9, -999.0000,  -999.00, 9,  -999.00, -999.000, 9, -999.000,   -999.0, 9,   -999.0,  -999.00, 9, -999.0000, 9, -999.0000, 9, -999.0000, 9, -999.0000, 9, -999.0000, 9, -999.0000, 9, -999, 9, -999, 9, -999, 9, -999, 9, -999, 9, -999, 9, -999, 9,  -999.00, 9,  -999.00, 9,  -999.00, 9,  -999.00, 9,   5.4444,  -999.00, 9,  226,   26.1587,  -52.3450
316N200309, A20, 30, 1, 19, 19, 2, 20031004, 0036, 26.1635, -52.3452, 5828,  1424.30,   1424.3,   5.0714,  35.1017, 2,  35.1043, 4,    230.9, 2,    227.1, 4,    15.50, 2,    19.96, 2,     0.00, 2,     1.32, 2,    0.336, 6,    0.193, 6,    0.027, 2,    0.659, 2,   2175.8, 2,   2318.3, 2,  -999.00, 9,  -999.00, 9, -999.000, 9, -999.000, -999.0000, 9, -999.0000,  -999.00, 9,  -999.00, -999.000, 9, -999.000,   -999.0, 9,   -999.0,  -999.00, 9, -999.0000, 9, -999.0000, 9, -999.0000, 9, -999.0000, 9, -999.0000, 9, -999.0000, 9, -999, 9, -999, 9, -999, 9, -999, 9, -999, 9, -999, 9, -999, 9,  -999.00, 9,  -999.00, 9,  -999.00, 9,  -999.00, 9,   4.9463,  -999.00, 9,  223,   26.1590,  -52.3450
316N200309, A20, 30, 1, 18, 18, 2, 20031004, 0036, 26.1635, -52.3452, 5828,  1576.10,   1576.1,   4.6726,  35.0814, 2,  35.0854, 4,    239.1, 2,    235.1, 4,    16.29, 2,    19.55, 2,     0.00, 2,     1.30, 2,    0.256, 6,    0.150, 6,    0.031, 2,    0.627, 2,   2172.7, 2,   2313.5, 2,  -999.00, 9,  -999.00, 9, -999.000, 9, -999.000, -999.0000, 9, -999.0000,  -999.00, 9,  -999.00, -999.000, 9, -999.000,   -999.0, 9,   -999.0,  -999.00, 9, -999.0000, 9, -999.0000, 9, -999.0000, 9, -999.0000, 9, -999.0000, 9, -999.0000, 9, -999, 9, -999, 9, -999, 9, -999, 9, -999, 9, -999, 9, -999, 9,  -999.00, 9,  -999.00, 9,  -999.00, 9,  -999.00, 9,   4.5372,  -999.00, 9,  220,   26.1592,  -52.3448
316N200309, A20, 30, 1, 17, 17, 2, 20031004, 0036, 26.1635, -52.3452, 5828,  1748.70,   1748.7,   4.2591,  35.0573, 2,  35.0561, 4,    245.7, 2,    241.4, 4,    17.95, 2,    19.34, 2,     0.00, 2,     1.29, 2,    0.180, 6,    0.109, 6,    0.011, 2,    0.530, 2,   2172.5, 2,   2316.8, 2,  -999.00, 9,  -999.00, 9, -999.000, 9, -999.000, -999.0000, 9, -999.0000,  -999.00, 9,  -999.00, -999.000, 9, -999.000,   -999.0, 9,   -999.0,  -999.00, 9, -999.0000, 9, -999.0000, 9, -999.0000, 9, -999.0000, 9, -999.0000, 9, -999.0000, 9, -999, 9, -999, 9, -999, 9, -999, 9, -999, 9, -999, 9, -999, 9,  -999.00, 9,  -999.00, 9,  -999.00, 9,  -999.00, 9,   4.1122,  -999.00, 9,  216,   26.1594,  -52.3447
316N200309, A20, 30, 1, 16, 16, 2, 20031004, 0036, 26.1635, -52.3452, 5828,  2000.90,   2000.9,   3.7676,  35.0219, 2,  34.9921, 4,    250.7, 2,    247.7, 4,    25.26, 4,    19.69, 4,     0.00, 4,     1.32, 4,    0.088, 6,    0.055, 6,    0.005, 2,    0.382, 2,   2176.5, 2,   2325.4, 2,  -999.00, 9,  -999.00, 9, -999.000, 9, -999.000, -999.0000, 9, -999.0000,  -999.00, 9,  -999.00, -999.000, 9, -999.000,   -999.0, 9,   -999.0,  -999.00, 9,    0.1280, 2,    0.0880, 2,    0.0410, 2,    0.0270, 2,    0.0190, 2,    0.0210, 2, -999, 9, -999, 9, -999, 9, -999, 9, -999, 9, -999, 9, -999, 9,  -999.00, 9,  -999.00, 9,  -999.00, 9,  -999.00, 9,   3.6033,  -999.00, 9,  211,   26.1595,  -52.3444
316N200309, A20, 30, 1, 15, 15, 2, 20031004, 0036, 26.1635, -52.3452, 5828,  2251.10,   2251.1,   3.3550,  34.9875, 2,  34.9894, 4,    252.3, 2,    248.3, 4,    25.35, 2,    19.69, 2,     0.00, 2,     1.32, 2,    0.079, 6,    0.057, 6,    0.015, 2,    0.391, 2,   2176.6, 2,   2323.5, 2,  -999.00, 9,  -999.00, 9, -999.000, 9, -999.000, -999.0000, 9, -999.0000,  -999.00, 9,  -999.00, -999.000, 9, -999.000,   -999.0, 9,   -999.0,  -999.00, 9, -999.0000, 9, -999.0000, 9, -999.0000, 9, -999.0000, 9, -999.0000, 9, -999.0000, 9, -999, 9, -999, 9, -999, 9, -999, 9, -999, 9, -999, 9, -999, 9,  -999.00, 9,  -999.00, 9,  -999.00, 9,  -999.00, 9,   3.1730,  -999.00, 9,  206,   26.1595,  -52.3442
316N200309, A20, 30, 1, 14, 14, 2, 20031004, 0036, 26.1635, -52.3452, 5828,  2499.90,   2499.9,   3.1305,  34.9681, 2,  34.9803, 4,    252.9, 2,    248.8, 4,    28.32, 2,    20.00, 2,     0.00, 2,     1.34, 2,    0.045, 6,    0.035, 6,    0.002, 2,    0.324, 2,   2177.9, 2,   2326.6, 2,  -999.00, 9,  -999.00, 9, -999.000, 9, -999.000, -999.0000, 9, -999.0000,  -999.00, 9,  -999.00, -999.000, 9, -999.000,   -999.0, 9,   -999.0,  -999.00, 9, -999.0000, 9, -999.0000, 9, -999.0000, 9, -999.0000, 9, -999.0000, 9, -999.0000, 9, -999, 9, -999, 9, -999, 9, -999, 9, -999, 9, -999, 9, -999, 9,  -999.00, 9,  -999.00, 9,  -999.00, 9,  -999.00, 9,   2.9280,  -999.00, 9,  201,   26.1597,  -52.3439
316N200309, A20, 30, 1, 13, 13, 2, 20031004, 0036, 26.1635, -52.3452, 5828,  2751.80,   2751.8,   2.9150,  34.9490, 2,  34.9490, 4,    253.4, 2,    249.7, 4,    31.48, 2,    20.30, 2,     0.00, 2,     1.37, 2,    0.025, 6,    0.019, 6,    0.001, 2,    0.249, 2,   2180.9, 2,   2330.1, 2,  -999.00, 9,  -999.00, 9, -999.000, 9, -999.000, -999.0000, 9, -999.0000,  -999.00, 9,  -999.00, -999.000, 9, -999.000,   -999.0, 9,   -999.0,  -999.00, 9, -999.0000, 9, -999.0000, 9, -999.0000, 9, -999.0000, 9, -999.0000, 9, -999.0000, 9, -999, 9, -999, 9, -999, 9, -999, 9, -999, 9, -999, 9, -999, 9,  -999.00, 9,  -999.00, 9,  -999.00, 9,  -999.00, 9,   2.6916,  -999.00, 9,  156,   26.1598,  -52.3435
316N200309, A20, 30, 1, 12, 12, 2, 20031004, 0036, 26.1635, -52.3452, 5828,  3000.90,   3000.9,   2.7595,  34.9350, 2,  34.9412, 4,    254.2, 2,    279.2, 4,    33.77, 2,    20.45, 2,     0.00, 2,     1.38, 2,    0.015, 6,    0.011, 6,    0.005, 2,    0.209, 2,   2182.5, 2,   2331.6, 2,  -999.00, 9,  -999.00, 9, -999.000, 9, -999.000, -999.0000, 9, -999.0000,  -999.00, 9,  -999.00, -999.000, 9, -999.000,   -999.0, 9,   -999.0,  -999.00, 9, -999.0000, 9, -999.0000, 9, -999.0000, 9, -999.0000, 9, -999.0000, 9, -999.0000, 9, -999, 9, -999, 9, -999, 9, -999, 9, -999, 9, -999, 9, -999, 9,  -999.00, 9,  -999.00, 9,  -999.00, 9,  -999.00, 9,   2.5139,  -999.00, 9,  151,   26.1599,  -52.3432
316N200309, A20, 30, 1, 11, 11, 2, 20031004, 0036, 26.1635, -52.3452, 5828,  3249.70,   3249.7,   2.6246,  34.9233, 2,  34.9262, 4,    255.7, 2,    273.7, 4,    35.35, 2,    20.55, 2,     0.00, 2,     1.39, 2,    0.001, 6,    0.009, 2,    0.002, 2,    0.193, 2,   2182.5, 2,   2332.1, 2,  -999.00, 9,  -999.00, 9, -999.000, 9, -999.000, -999.0000, 9, -999.0000,  -999.00, 9,  -999.00, -999.000, 9, -999.000,   -999.0, 9,   -999.0,  -999.00, 9, -999.0000, 9, -999.0000, 9, -999.0000, 9, -999.0000, 9, -999.0000, 9, -999.0000, 9, -999, 9, -999, 9, -999, 9, -999, 9, -999, 9, -999, 9, -999, 9,  -999.00, 9,  -999.00, 9,  -999.00, 9,  -999.00, 9,   2.3559,  -999.00, 9,  146,   26.1599,  -52.3430