BOTTLE,20220816CCHSIOAMB
EXPOCODE,SECT_ID,STNNBR,CASTNO,SAMPNO,BTLNBR,BTLNBR_FLAG_W,DATE,TIME,LATITUDE,LONGITUDE,DEPTH,CTDRAW,CTDPRS,CTDTMP,CTDSAL,CTDSAL_FLAG_W,SALNTY,SALNTY_FLAG_W,CTDOXY,CTDOXY_FLAG_W,OXYGEN,OXYGEN_FLAG_W,SILCAT,SILCAT_FLAG_W,NITRAT,NITRAT_FLAG_W,NITRIT,NITRIT_FLAG_W,PHSPHT,PHSPHT_FLAG_W,CFC-11,CFC-11_FLAG_W,CFC-12,CFC-12_FLAG_W,CFC113,CFC113_FLAG_W,CCL4,CCL4_FLAG_W,TCARBN,TCARBN_FLAG_W,ALKALI,ALKALI_FLAG_W,DOC,DOC_FLAG_W,TDN,TDN_FLAG_W,TRITUM,TRITUM_FLAG_W,TRITER,HELIUM,HELIUM_FLAG_W,HELIER,DELHE3,DELHE3_FLAG_W,DELHER,NEON,NEON_FLAG_W,NEONER,DELC14,DELC14_FLAG_W,C14ERR,DELC13,DELC13_FLAG_W,CDOM325,CDOM325_FLAG_W,CDOM340,CDOM340_FLAG_W,CDOM380,CDOM380_FLAG_W,CDOM412,CDOM412_FLAG_W,CDOMSL,CDOMSL_FLAG_W,CDOMSN,CDOMSN_FLAG_W,DCNS,DCNS_FLAG_W,ARABI,ARABI_FLAG_W,FUCO,FUCO_FLAG_W,GALA,GALA_FLAG_W,GLUC,GLUC_FLAG_W,MAN,MAN_FLAG_W,RHAM,RHAM_FLAG_W,BRDU,BRDU_FLAG_W,PEUK,PEUK_FLAG_W,PROC,PROC_FLAG_W,SYN,SYN_FLAG_W,THETA,BACT,BACT_FLAG_W,BTL_TIME,BTL_LAT,BTL_LON
,,,,,,,,,,,METERS,DBAR,DBAR,ITS-90,PSS-78,,PSS-78,,UMOL/KG,,UMOL/KG,,UMOL/KG,,UMOL/KG,,UMOL/KG,,UMOL/KG,,PMOL/KG,,PMOL/KG,,PMOL/KG,,PMOL/KG,,UMOL/KG,,UMOL/KG,,UMOL/KG,,UMOL/KG,,TU,,TU,NMOL/KG,,NMOL/KG,PERCNT,,PERCNT,NMOL/KG,,NMOL/KG,/MILLE,,/MILLE,/MILLE,,1/M,,1/M,,1/M,,1/M,,1/NM,,1/NM,,NMOL/KG,,NMOL/KG,,NMOL/KG,,NMOL/KG,,NMOL/KG,,NMOL/KG,,NMOL/KG,,PMOL/L/H,,E6/L,,E7/L,,E6/L,,DEG C,E8/L,,,,
316N200309, A20, 51, 1, 36, 36, 2, 20031011, 2116, 16.8975, -52.3318, 4669,     4.20,      4.2,  28.6754,  36.8548, 2,  36.8548, 2,    191.7, 2,    195.7, 2,     0.61, 2,     0.10, 2,     0.00, 2,     0.02, 2,    1.548, 2,    0.936, 2,    0.079, 2,    1.608, 2,   2040.0, 2,   2410.8, 2,  -999.00, 9,  -999.00, 9, -999.000, 9, -999.000, -999.0000, 9, -999.0000,  -999.00, 9,  -999.00, -999.000, 9, -999.000,   -999.0, 9,   -999.0,  -999.00, 9, -999.0000, 9, -999.0000, 9, -999.0000, 9, -999.0000, 9, -999.0000, 9, -999.0000, 9, -999, 9, -999, 9, -999, 9, -999, 9, -999, 9, -999, 9, -999, 9,  -999.00, 9,  -999.00, 9,  -999.00, 9,  -999.00, 9,  28.6744,  -999.00, 9, 2308,   16.9067,  -52.3289
316N200309, A20, 51, 1, 35, 35, 2, 20031011, 2116, 16.8975, -52.3318, 4669,    23.00,     23.0,  28.6301,  36.8496, 2,  36.8480, 2,    191.8, 2,    195.3, 2,     0.50, 2,     0.05, 2,     0.00, 2,     0.02, 2,    1.547, 2,    0.922, 2,    0.089, 2,    1.682, 2,   2039.6, 2,   2411.3, 2,  -999.00, 9,  -999.00, 9, -999.000, 9, -999.000, -999.0000, 9, -999.0000,  -999.00, 9,  -999.00, -999.000, 9, -999.000,   -999.0, 9,   -999.0,  -999.00, 9, -999.0000, 9, -999.0000, 9, -999.0000, 9, -999.0000, 9, -999.0000, 9, -999.0000, 9, -999, 9, -999, 9, -999, 9, -999, 9, -999, 9, -999, 9, -999, 9,  -999.00, 9,  -999.00, 9,  -999.00, 9,  -999.00, 9,  28.6245,  -999.00, 9, 2307,   16.9065,  -52.3290
316N200309, A20, 51, 1, 34, 34, 2, 20031011, 2116, 16.8975, -52.3318, 4669,    52.70,     52.7,  28.0020,  37.1601, 2,  37.1582, 2,    198.8, 2,    203.1, 2,     0.60, 2,     0.09, 2,     0.00, 2,     0.02, 2,    1.615, 2,    0.987, 2,    0.080, 2,    1.468, 2,   2054.0, 2,   2428.8, 2,  -999.00, 9,  -999.00, 9, -999.000, 9, -999.000, -999.0000, 9, -999.0000,  -999.00, 9,  -999.00, -999.000, 9, -999.000,   -999.0, 9,   -999.0,  -999.00, 9, -999.0000, 9, -999.0000, 9, -999.0000, 9, -999.0000, 9, -999.0000, 9, -999.0000, 9, -999, 9, -999, 9, -999, 9, -999, 9, -999, 9, -999, 9, -999, 9,  -999.00, 9,  -999.00, 9,  -999.00, 9,  -999.00, 9,  27.9895,  -999.00, 9, 2306,   16.9064,  -52.3290
316N200309, A20, 51, 1, 33, 33, 2, 20031011, 2116, 16.8975, -52.3318, 4669,    77.60,     77.6,  26.6154,  37.3202, 2,  37.3409, 2,    207.8, 2,    213.0, 2,     0.49, 2,     0.09, 2,     0.00, 2,     0.02, 2,    1.777, 2,    1.074, 2,    0.086, 2,    1.287, 2,   -999.0, 9,   -999.0, 9,  -999.00, 9,  -999.00, 9, -999.000, 9, -999.000, -999.0000, 9, -999.0000,  -999.00, 9,  -999.00, -999.000, 9, -999.000,   -999.0, 9,   -999.0,  -999.00, 9, -999.0000, 9, -999.0000, 9, -999.0000, 9, -999.0000, 9, -999.0000, 9, -999.0000, 9, -999, 9, -999, 9, -999, 9, -999, 9, -999, 9, -999, 9, -999, 9,  -999.00, 9,  -999.00, 9,  -999.00, 9,  -999.00, 9,  26.5976,  -999.00, 9, 2305,   16.9062,  -52.3291
316N200309, A20, 51, 1, 32, 32, 2, 20031011, 2116, 16.8975, -52.3318, 4669,   102.50,    102.5,  24.6498,  37.3992, 2,  37.3974, 2,    208.7, 2,    212.0, 2,     0.39, 2,     0.08, 2,     0.00, 2,     0.02, 2,    1.851, 2,    1.138, 2,    0.085, 2,    1.153, 2,   2084.4, 2,   2441.8, 2,  -999.00, 9,  -999.00, 9, -999.000, 9, -999.000, -999.0000, 9, -999.0000,  -999.00, 9,  -999.00, -999.000, 9, -999.000,   -999.0, 9,   -999.0,  -999.00, 9, -999.0000, 9, -999.0000, 9, -999.0000, 9, -999.0000, 9, -999.0000, 9, -999.0000, 9, -999, 9, -999, 9, -999, 9, -999, 9, -999, 9, -999, 9, -999, 9,  -999.00, 9,  -999.00, 9,  -999.00, 9,  -999.00, 9,  24.6276,  -999.00, 9, 2304,   16.9061,  -52.3291
316N200309, A20, 51, 1, 31, 31, 2, 20031011, 2116, 16.8975, -52.3318, 4669,   127.30,    127.3,  23.8548,  37.3828, 2,  37.3734, 2,    200.2, 2,    204.4, 2,     0.38, 2,     0.02, 2,     0.02, 2,     0.02, 2,    1.896, 2,    1.154, 2,    0.123, 2,    1.076, 2,   -999.0, 9,   -999.0, 9,  -999.00, 9,  -999.00, 9, -999.000, 9, -999.000, -999.0000, 9, -999.0000,  -999.00, 9,  -999.00, -999.000, 9, -999.000,   -999.0, 9,   -999.0,  -999.00, 9, -999.0000, 9, -999.0000, 9, -999.0000, 9, -999.0000, 9, -999.0000, 9, -999.0000, 9, -999, 9, -999, 9, -999, 9, -999, 9, -999, 9, -999, 9, -999, 9,  -999.00, 9,  -999.00, 9,  -999.00, 9,  -999.00, 9,  23.8279,  -999.00, 9, 2303,   16.9060,  -52.3292
316N200309, A20, 51, 1, 30, 30, 2, 20031011, 2116, 16.8975, -52.3318, 4669,   157.20,    157.2,  21.7758,  37.1148, 2,  37.1147, 2,    184.7, 2,    187.4, 2,     0.38, 2,     0.73, 2,     0.04, 2,     0.05, 2,    2.051, 2,    1.218, 2,    0.087, 2,    0.820, 2,   2113.4, 2,   2421.5, 2,  -999.00, 9,  -999.00, 9, -999.000, 9, -999.000, -999.0000, 9, -999.0000,  -999.00, 9,  -999.00, -999.000, 9, -999.000,   -999.0, 9,   -999.0,  -999.00, 9, -999.0000, 9, -999.0000, 9, -999.0000, 9, -999.0000, 9, -999.0000, 9, -999.0000, 9, -999, 9, -999, 9, -999, 9, -999, 9, -999, 9, -999, 9, -999, 9,  -999.00, 9,  -999.00, 9,  -999.00, 9,  -999.00, 9,  21.7446,  -999.00, 9, 2301,   16.9058,  -52.3293
316N200309, A20, 51, 1, 29, 29, 2, 20031011, 2116, 16.8975, -52.3318, 4669,   206.70,    206.7,  19.2574,  36.7394, 2,  36.7363, 2,    176.0, 2,    179.7, 2,     0.90, 2,     4.07, 2,     0.01, 2,     0.20, 2,    2.223, 2,    1.295, 2,    0.015, 2,    0.449, 2,   2138.9, 2,   2396.3, 2,  -999.00, 9,  -999.00, 9, -999.000, 9, -999.000, -999.0000, 9, -999.0000,  -999.00, 9,  -999.00, -999.000, 9, -999.000,   -999.0, 9,   -999.0,  -999.00, 9, -999.0000, 9, -999.0000, 9, -999.0000, 9, -999.0000, 9, -999.0000, 9, -999.0000, 9, -999, 9, -999, 9, -999, 9, -999, 9, -999, 9, -999, 9, -999, 9,  -999.00, 9,  -999.00, 9,  -999.00, 9,  -999.00, 9,  19.2198,  -999.00, 9, 2300,   16.9057,  -52.3293
316N200309, A20, 51, 1, 28, 28, 2, 20031011, 2116, 16.8975, -52.3318, 4669,   256.90,    256.9,  17.3484,  36.4256, 2,  36.4259, 2,    170.2, 2,    172.6, 2,     2.04, 2,     7.90, 2,     0.01, 2,     0.43, 2,    2.276, 2,    1.287, 2,    0.017, 2,    0.426, 2,   -999.0, 9,   -999.0, 9,  -999.00, 9,  -999.00, 9, -999.000, 9, -999.000, -999.0000, 9, -999.0000,  -999.00, 9,  -999.00, -999.000, 9, -999.000,   -999.0, 9,   -999.0,  -999.00, 9, -999.0000, 9, -999.0000, 9, -999.0000, 9, -999.0000, 9, -999.0000, 9, -999.0000, 9, -999, 9, -999, 9, -999, 9, -999, 9, -999, 9, -999, 9, -999, 9,  -999.00, 9,  -999.00, 9,  -999.00, 9,  -999.00, 9,  17.3049,  -999.00, 9, 2258,   16.9056,  -52.3293
316N200309, A20, 51, 1, 27, 27, 2, 20031011, 2116, 16.8975, -52.3318, 4669,   306.80,    306.8,  16.2340,  36.2422, 2,  36.2418, 2,    167.2, 2,    166.9, 2,     2.87, 2,    10.24, 2,     0.00, 2,     0.58, 2,    2.213, 2,    1.235, 2,    0.019, 2,    0.330, 2,   2139.3, 2,   2366.2, 2,  -999.00, 9,  -999.00, 9, -999.000, 9, -999.000, -999.0000, 9, -999.0000,  -999.00, 9,  -999.00, -999.000, 9, -999.000,   -999.0, 9,   -999.0,  -999.00, 9, -999.0000, 9, -999.0000, 9, -999.0000, 9, -999.0000, 9, -999.0000, 9, -999.0000, 9, -999, 9, -999, 9, -999, 9, -999, 9, -999, 9, -999, 9, -999, 9,  -999.00, 9,  -999.00, 9,  -999.00, 9,  -999.00, 9,  16.1843,  -999.00, 9, 2257,   16.9054,  -52.3294
316N200309, A20, 51, 1, 26, 26, 2, 20031011, 2116, 16.8975, -52.3318, 4669,   406.60,    406.6,  13.9949,  35.8804, 2,  35.8815, 2,    145.8, 2,    148.3, 2,     5.27, 2,    15.58, 2,     0.00, 2,     0.92, 2,    1.927, 2,    1.010, 2,    0.017, 2,    0.340, 2,   2161.3, 2,   2346.7, 2,  -999.00, 9,  -999.00, 9, -999.000, 9, -999.000, -999.0000, 9, -999.0000,  -999.00, 9,  -999.00, -999.000, 9, -999.000,   -999.0, 9,   -999.0,  -999.00, 9, -999.0000, 9, -999.0000, 9, -999.0000, 9, -999.0000, 9, -999.0000, 9, -999.0000, 9, -999, 9, -999, 9, -999, 9, -999, 9, -999, 9, -999, 9, -999, 9,  -999.00, 9,  -999.00, 9,  -999.00, 9,  -999.00, 9,  13.9353,  -999.00, 9, 2254,   16.9052,  -52.3295
316N200309, A20, 51, 1, 25, 25, 2, 20031011, 2116, 16.8975, -52.3318, 4669,   500.20,    500.2,  11.7096,  35.5401, 2,  35.5389, 2,    132.2, 2,    133.4, 2,     9.01, 2,    21.23, 2,     0.00, 2,     1.28, 2,    1.281, 6,    0.658, 6,    0.006, 2,    0.223, 2,   -999.0, 9,   -999.0, 9,  -999.00, 9,  -999.00, 9, -999.000, 9, -999.000, -999.0000, 9, -999.0000,  -999.00, 9,  -999.00, -999.000, 9, -999.000,   -999.0, 9,   -999.0,  -999.00, 9, -999.0000, 9, -999.0000, 9, -999.0000, 9, -999.0000, 9, -999.0000, 9, -999.0000, 9, -999, 9, -999, 9, -999, 9, -999, 9, -999, 9, -999, 9, -999, 9,  -999.00, 9,  -999.00, 9,  -999.00, 9,  -999.00, 9,  11.6442,  -999.00, 9, 2252,   16.9049,  -52.3296
316N200309, A20, 51, 1, 24, 24, 2, 20031011, 2116, 16.8975, -52.3318, 4669,   625.20,    625.2,   8.2635,  35.0154, 2,  35.0169, 2,    122.8, 2,    121.7, 2,    17.64, 2,    29.03, 2,     0.00, 2,     1.87, 2,    0.387, 2,    0.208, 2,    0.022, 2,    0.196, 2,   2206.1, 2,   2311.2, 2,  -999.00, 9,  -999.00, 9, -999.000, 9, -999.000, -999.0000, 9, -999.0000,  -999.00, 9,  -999.00, -999.000, 9, -999.000,   -999.0, 9,   -999.0,  -999.00, 9, -999.0000, 9, -999.0000, 9, -999.0000, 9, -999.0000, 9, -999.0000, 9, -999.0000, 9, -999, 9, -999, 9, -999, 9, -999, 9, -999, 9, -999, 9, -999, 9,  -999.00, 9,  -999.00, 9,  -999.00, 9,  -999.00, 9,   8.1973,  -999.00, 9, 2249,   16.9047,  -52.3297
316N200309, A20, 51, 1, 23, 23, 2, 20031011, 2116, 16.8975, -52.3318, 4669,   750.50,    750.5,   6.5160,  34.7902, 2,  34.7899, 2,    128.1, 2,    127.6, 2,    23.16, 2,    31.91, 2,     0.00, 2,     2.11, 2,    0.141, 2,    0.087, 2,    0.001, 2,    0.164, 2,   -999.0, 9,   -999.0, 9,  -999.00, 9,  -999.00, 9, -999.000, 9, -999.000, -999.0000, 9, -999.0000,  -999.00, 9,  -999.00, -999.000, 9, -999.000,   -999.0, 9,   -999.0,  -999.00, 9, -999.0000, 9, -999.0000, 9, -999.0000, 9, -999.0000, 9, -999.0000, 9, -999.0000, 9, -999, 9, -999, 9, -999, 9, -999, 9, -999, 9, -999, 9, -999, 9,  -999.00, 9,  -999.00, 9,  -999.00, 9,  -999.00, 9,   6.4459,  -999.00, 9, 2246,   16.9045,  -52.3299
316N200309, A20, 51, 1, 22, 22, 2, 20031011, 2116, 16.8975, -52.3318, 4669,   901.10,    901.1,   5.8354,  34.7941, 2,  34.7933, 2,    138.0, 2,    136.9, 2,    24.73, 2,    31.58, 2,     0.00, 2,     2.10, 2,    0.045, 2,    0.034, 2,    0.006, 2,    0.111, 2,   -999.0, 9,   -999.0, 9,  -999.00, 9,  -999.00, 9, -999.000, 9, -999.000, -999.0000, 9, -999.0000,  -999.00, 9,  -999.00, -999.000, 9, -999.000,   -999.0, 9,   -999.0,  -999.00, 9, -999.0000, 9, -999.0000, 9, -999.0000, 9, -999.0000, 9, -999.0000, 9, -999.0000, 9, -999, 9, -999, 9, -999, 9, -999, 9, -999, 9, -999, 9, -999, 9,  -999.00, 9,  -999.00, 9,  -999.00, 9,  -999.00, 9,   5.7548,  -999.00, 9, 2243,   16.9041,  -52.3299
316N200309, A20, 51, 1, 21, 21, 2, 20031011, 2116, 16.8975, -52.3318, 4669,  1050.60,   1050.6,   5.4507,  34.8726, 2,  34.8713, 2,    158.0, 2,    159.4, 2,    23.36, 2,    28.84, 2,     0.00, 2,     1.93, 2,    0.060, 2,    0.034, 2,    0.003, 2,    0.132, 2,   2207.0, 2,   2311.4, 2,  -999.00, 9,  -999.00, 9, -999.000, 9, -999.000, -999.0000, 9, -999.0000,  -999.00, 9,  -999.00, -999.000, 9, -999.000,   -999.0, 9,   -999.0,  -999.00, 9, -999.0000, 9, -999.0000, 9, -999.0000, 9, -999.0000, 9, -999.0000, 9, -999.0000, 9, -999, 9, -999, 9, -999, 9, -999, 9, -999, 9, -999, 9, -999, 9,  -999.00, 9,  -999.00, 9,  -999.00, 9,  -999.00, 9,   5.3586,  -999.00, 9, 2239,   16.9038,  -52.3301
316N200309, A20, 51, 1, 20, 20, 2, 20031011, 2116, 16.8975, -52.3318, 4669,  1200.80,   1200.8,   5.1895,  34.9468, 2,  34.9453, 2,    180.5, 2,    182.7, 2,    20.97, 2,    25.68, 2,     0.00, 2,     1.72, 2,    0.084, 2,    0.048, 2,    0.000, 2,    0.226, 2,   -999.0, 9,   -999.0, 9,  -999.00, 9,  -999.00, 9, -999.000, 9, -999.000, -999.0000, 9, -999.0000,  -999.00, 9,  -999.00, -999.000, 9, -999.000,   -999.0, 9,   -999.0,  -999.00, 9, -999.0000, 9, -999.0000, 9, -999.0000, 9, -999.0000, 9, -999.0000, 9, -999.0000, 9, -999, 9, -999, 9, -999, 9, -999, 9, -999, 9, -999, 9, -999, 9,  -999.00, 9,  -999.00, 9,  -999.00, 9,  -999.00, 9,   5.0851,  -999.00, 9, 2236,   16.9034,  -52.3302
316N200309, A20, 51, 1, 19, 19, 2, 20031011, 2116, 16.8975, -52.3318, 4669,  1325.60,   1325.6,   5.0094,  34.9903, 2,  34.9892, 2,    201.8, 2,    203.7, 2,    18.57, 2,    23.17, 2,     0.00, 2,     1.54, 2,    0.189, 2,    0.102, 2,    0.002, 2,    0.391, 2,   -999.0, 9,   -999.0, 9,  -999.00, 9,  -999.00, 9, -999.000, 9, -999.000, -999.0000, 9, -999.0000,  -999.00, 9,  -999.00, -999.000, 9, -999.000,   -999.0, 9,   -999.0,  -999.00, 9, -999.0000, 9, -999.0000, 9, -999.0000, 9, -999.0000, 9, -999.0000, 9, -999.0000, 9, -999, 9, -999, 9, -999, 9, -999, 9, -999, 9, -999, 9, -999, 9,  -999.00, 9,  -999.00, 9,  -999.00, 9,  -999.00, 9,   4.8947,  -999.00, 9, 2233,   16.9031,  -52.3302
316N200309, A20, 51, 1, 18, 18, 2, 20031011, 2116, 16.8975, -52.3318, 4669,  1451.40,   1451.4,   4.6541,  34.9979, 2,  34.9976, 2,    215.7, 2,    217.6, 2,    18.06, 2,    22.02, 2,     0.00, 2,     1.47, 2,    0.131, 2,    0.071, 2,    0.006, 2,    0.353, 2,   -999.0, 9,   -999.0, 9,  -999.00, 9,  -999.00, 9, -999.000, 9, -999.000, -999.0000, 9, -999.0000,  -999.00, 9,  -999.00, -999.000, 9, -999.000,   -999.0, 9,   -999.0,  -999.00, 9, -999.0000, 9, -999.0000, 9, -999.0000, 9, -999.0000, 9, -999.0000, 9, -999.0000, 9, -999, 9, -999, 9, -999, 9, -999, 9, -999, 9, -999, 9, -999, 9,  -999.00, 9,  -999.00, 9,  -999.00, 9,  -999.00, 9,   4.5312,  -999.00, 9, 2230,   16.9029,  -52.3302
316N200309, A20, 51, 1, 17, 17, 2, 20031011, 2116, 16.8975, -52.3318, 4669,  1575.70,   1575.7,   4.4183,  35.0011, 2,  35.0008, 2,    229.7, 2,    229.3, 2,    17.32, 2,    20.93, 2,     0.00, 2,     1.40, 2,    0.164, 2,    0.093, 2,    0.002, 2,    0.440, 2,   -999.0, 9,   -999.0, 9,  -999.00, 9,  -999.00, 9, -999.000, 9, -999.000, -999.0000, 9, -999.0000,  -999.00, 9,  -999.00, -999.000, 9, -999.000,   -999.0, 9,   -999.0,  -999.00, 9, -999.0000, 9, -999.0000, 9, -999.0000, 9, -999.0000, 9, -999.0000, 9, -999.0000, 9, -999, 9, -999, 9, -999, 9, -999, 9, -999, 9, -999, 9, -999, 9,  -999.00, 9,  -999.00, 9,  -999.00, 9,  -999.00, 9,   4.2862,  -999.00, 9, 2227,   16.9026,  -52.3302
316N200309, A20, 51, 1, 16, 16, 2, 20031011, 2116, 16.8975, -52.3318, 4669,  1700.70,   1700.7,   4.1402,  34.9989, 2,  34.9988, 2,    239.2, 2,    239.4, 2,    17.42, 2,    20.03, 2,     0.00, 2,     1.34, 2,    0.147, 2,    0.083, 2,    0.001, 2,    0.442, 2,   -999.0, 9,   -999.0, 9,  -999.00, 9,  -999.00, 9, -999.000, 9, -999.000, -999.0000, 9, -999.0000,  -999.00, 9,  -999.00, -999.000, 9, -999.000,   -999.0, 9,   -999.0,  -999.00, 9, -999.0000, 9, -999.0000, 9, -999.0000, 9, -999.0000, 9, -999.0000, 9, -999.0000, 9, -999, 9, -999, 9, -999, 9, -999, 9, -999, 9, -999, 9, -999, 9,  -999.00, 9,  -999.00, 9,  -999.00, 9,  -999.00, 9,   3.9995,  -999.00, 9, 2224,   16.9023,  -52.3303
316N200309, A20, 51, 1, 15, 15, 2, 20031011, 2116, 16.8975, -52.3318, 4669,  1850.90,   1850.9,   3.8086,  34.9918, 2,  34.9907, 2,    246.9, 2,    246.2, 2,    18.88, 2,    19.70, 2,     0.00, 2,     1.31, 2,    0.106, 2,    0.058, 2,    0.002, 2,    0.371, 2,   -999.0, 9,   -999.0, 9,  -999.00, 9,  -999.00, 9, -999.000, 9, -999.000, -999.0000, 9, -999.0000,  -999.00, 9,  -999.00, -999.000, 9, -999.000,   -999.0, 9,   -999.0,  -999.00, 9, -999.0000, 9, -999.0000, 9, -999.0000, 9, -999.0000, 9, -999.0000, 9, -999.0000, 9, -999, 9, -999, 9, -999, 9, -999, 9, -999, 9, -999, 9, -999, 9,  -999.00, 9,  -999.00, 9,  -999.00, 9,  -999.00, 9,   3.6581,  -999.00, 9, 2221,   16.9020,  -52.3303
316N200309, A20, 51, 1, 14, 14, 2, 20031011, 2116, 16.8975, -52.3318, 4669,  2001.40,   2001.4,   3.5928,  34.9839, 2,  34.9848, 2,    250.8, 2,    250.0, 2,    20.02, 2,    19.46, 2,     0.00, 2,     1.30, 2,    0.079, 2,    0.046, 2,   -0.002, 2,    0.338, 2,   -999.0, 9,   -999.0, 9,  -999.00, 9,  -999.00, 9, -999.000, 9, -999.000, -999.0000, 9, -999.0000,  -999.00, 9,  -999.00, -999.000, 9, -999.000,   -999.0, 9,   -999.0,  -999.00, 9, -999.0000, 9, -999.0000, 9, -999.0000, 9, -999.0000, 9, -999.0000, 9, -999.0000, 9, -999, 9, -999, 9, -999, 9, -999, 9, -999, 9, -999, 9, -999, 9,  -999.00, 9,  -999.00, 9,  -999.00, 9,  -999.00, 9,   3.4311,  -999.00, 9, 2217,   16.9017,  -52.3303
316N200309, A20, 51, 1, 13, 13, 2, 20031011, 2116, 16.8975, -52.3318, 4669,  2200.50,   2200.5,   3.3019,  34.9681, 2,  34.9673, 2,    253.7, 2,    254.2, 2,    21.89, 2,    19.27, 2,     0.00, 2,     1.29, 2,    0.088, 2,    0.045, 2,   -0.001, 2,    0.339, 2,   -999.0, 9,   -999.0, 9,  -999.00, 9,  -999.00, 9, -999.000, 9, -999.000, -999.0000, 9, -999.0000,  -999.00, 9,  -999.00, -999.000, 9, -999.000,   -999.0, 9,   -999.0,  -999.00, 9, -999.0000, 9, -999.0000, 9, -999.0000, 9, -999.0000, 9, -999.0000, 9, -999.0000, 9, -999, 9, -999, 9, -999, 9, -999, 9, -999, 9, -999, 9, -999, 9,  -999.00, 9,  -999.00, 9,  -999.00, 9,  -999.00, 9,   3.1258,  -999.00, 9, 2213,   16.9013,  -52.3302
316N200309, A20, 51, 1, 12, 12, 2, 20031011, 2116, 16.8975, -52.3318, 4669,  2401.70,   2401.7,   3.0856,  34.9541, 2,  34.9538, 2,    256.6, 2,    256.5, 2,    23.55, 2,    19.17, 2,     0.00, 2,     1.29, 2,    0.121, 2,    0.080, 2,    0.000, 2,    0.356, 2,   -999.0, 9,   -999.0, 9,  -999.00, 9,  -999.00, 9, -999.000, 9, -999.000, -999.0000, 9, -999.0000,  -999.00, 9,  -999.00, -999.000, 9, -999.000,   -999.0, 9,   -999.0,  -999.00, 9, -999.0000, 9, -999.0000, 9, -999.0000, 9, -999.0000, 9, -999.0000, 9, -999.0000, 9, -999, 9, -999, 9, -999, 9, -999, 9, -999, 9, -999, 9, -999, 9,  -999.00, 9,  -999.00, 9,  -999.00, 9,  -999.00, 9,   2.8937,  -999.00, 9, 2209,   16.9010,  -52.3302
316N200309, A20, 51, 1, 11, 11, 2, 20031011, 2116, 16.8975, -52.3318, 4669,  2600.80,   2600.8,   2.9438,  34.9444, 2,  34.9437, 2,    256.8, 2,    256.8, 2,    25.22, 2,    19.26, 2,     0.00, 2,     1.30, 2,    0.133, 2,    0.068, 2,    0.001, 2,    0.392, 2,   -999.0, 9,   -999.0, 9,  -999.00, 9,  -999.00, 9, -999.000, 9, -999.000, -999.0000, 9, -999.0000,  -999.00, 9,  -999.00, -999.000, 9, -999.000,   -999.0, 9,   -999.0,  -999.00, 9, -999.0000, 9, -999.0000, 9, -999.0000, 9, -999.0000, 9, -999.0000, 9, -999.0000, 9, -999, 9, -999, 9, -999, 9, -999, 9, -999, 9, -999, 9, -999, 9,  -999.00, 9,  -999.00, 9,  -999.00, 9,  -999.00, 9,   2.7350,  -999.00, 9, 2205,   16.9007,  -52.3302