BOTTLE,20220816CCHSIOAMB
EXPOCODE,SECT_ID,STNNBR,CASTNO,SAMPNO,BTLNBR,BTLNBR_FLAG_W,DATE,TIME,LATITUDE,LONGITUDE,DEPTH,CTDRAW,CTDPRS,CTDTMP,CTDSAL,CTDSAL_FLAG_W,SALNTY,SALNTY_FLAG_W,CTDOXY,CTDOXY_FLAG_W,OXYGEN,OXYGEN_FLAG_W,SILCAT,SILCAT_FLAG_W,NITRAT,NITRAT_FLAG_W,NITRIT,NITRIT_FLAG_W,PHSPHT,PHSPHT_FLAG_W,CFC-11,CFC-11_FLAG_W,CFC-12,CFC-12_FLAG_W,CFC113,CFC113_FLAG_W,CCL4,CCL4_FLAG_W,TCARBN,TCARBN_FLAG_W,ALKALI,ALKALI_FLAG_W,DOC,DOC_FLAG_W,TDN,TDN_FLAG_W,TRITUM,TRITUM_FLAG_W,TRITER,HELIUM,HELIUM_FLAG_W,HELIER,DELHE3,DELHE3_FLAG_W,DELHER,NEON,NEON_FLAG_W,NEONER,DELC14,DELC14_FLAG_W,C14ERR,DELC13,DELC13_FLAG_W,CDOM325,CDOM325_FLAG_W,CDOM340,CDOM340_FLAG_W,CDOM380,CDOM380_FLAG_W,CDOM412,CDOM412_FLAG_W,CDOMSL,CDOMSL_FLAG_W,CDOMSN,CDOMSN_FLAG_W,DCNS,DCNS_FLAG_W,ARABI,ARABI_FLAG_W,FUCO,FUCO_FLAG_W,GALA,GALA_FLAG_W,GLUC,GLUC_FLAG_W,MAN,MAN_FLAG_W,RHAM,RHAM_FLAG_W,BRDU,BRDU_FLAG_W,PEUK,PEUK_FLAG_W,PROC,PROC_FLAG_W,SYN,SYN_FLAG_W,THETA,BACT,BACT_FLAG_W,BTL_TIME,BTL_LAT,BTL_LON
,,,,,,,,,,,METERS,DBAR,DBAR,ITS-90,PSS-78,,PSS-78,,UMOL/KG,,UMOL/KG,,UMOL/KG,,UMOL/KG,,UMOL/KG,,UMOL/KG,,PMOL/KG,,PMOL/KG,,PMOL/KG,,PMOL/KG,,UMOL/KG,,UMOL/KG,,UMOL/KG,,UMOL/KG,,TU,,TU,NMOL/KG,,NMOL/KG,PERCNT,,PERCNT,NMOL/KG,,NMOL/KG,/MILLE,,/MILLE,/MILLE,,1/M,,1/M,,1/M,,1/M,,1/NM,,1/NM,,NMOL/KG,,NMOL/KG,,NMOL/KG,,NMOL/KG,,NMOL/KG,,NMOL/KG,,NMOL/KG,,PMOL/L/H,,E6/L,,E7/L,,E6/L,,DEG C,E8/L,,,,
316N200309, A20, 11, 1, 9, 9, 2, 20030927, 0305, 41.8370, -51.7828, 3930,  2625.90,   2625.9,   3.0014,  34.9365, 2,  34.9378, 2,    269.3, 2,    268.0, 2,    17.68, 2,    17.73, 2,     0.00, 2,     1.18, 2,    0.906, 2,    0.473, 2,    0.039, 2,    1.398, 2,   2168.1, 2,   2311.6, 2,    44.80, 2,  -999.00, 9, -999.000, 9, -999.000, -999.0000, 9, -999.0000,  -999.00, 9,  -999.00, -999.000, 9, -999.000,   -999.0, 9,   -999.0,  -999.00, 9, -999.0000, 9, -999.0000, 9, -999.0000, 9, -999.0000, 9, -999.0000, 9, -999.0000, 9, -999, 9, -999, 9, -999, 9, -999, 9, -999, 9, -999, 9, -999, 9,  -999.00, 9,  -999.00, 9,  -999.00, 9,  -999.00, 9,   2.7890,  -999.00, 9,  338,   41.8402,  -51.7794
316N200309, A20, 11, 1, 8, 8, 2, 20030927, 0305, 41.8370, -51.7828, 3930,  2874.50,   2874.5,   2.8397,  34.9311, 2,  34.9309, 2,    268.2, 2,    267.7, 2,    19.52, 2,    17.84, 2,     0.00, 2,     1.19, 2,    0.745, 2,    0.404, 2,    0.030, 2,    1.228, 2,   2164.6, 2,   2310.4, 2,  -999.00, 9,  -999.00, 9, -999.000, 9, -999.000, -999.0000, 9, -999.0000,  -999.00, 9,  -999.00, -999.000, 9, -999.000,   -999.0, 9,   -999.0,  -999.00, 9, -999.0000, 9, -999.0000, 9, -999.0000, 9, -999.0000, 9, -999.0000, 9, -999.0000, 9, -999, 9, -999, 9, -999, 9, -999, 9, -999, 9, -999, 9, -999, 9,  -999.00, 9,  -999.00, 9,  -999.00, 9,  -999.00, 9,   2.6054,  -999.00, 9,  332,   41.8399,  -51.7797
316N200309, A20, 11, 1, 7, 7, 2, 20030927, 0305, 41.8370, -51.7828, 3930,  3099.30,   3099.3,   2.5801,  34.9066, 2,  34.9071, 2,    276.4, 2,    277.8, 2,    15.50, 2,    16.48, 2,     0.00, 2,     1.11, 2,    1.945, 6,    0.989, 6,    0.106, 2,    2.453, 2,   2163.0, 2,   2305.7, 2,    44.50, 2,  -999.00, 9, -999.000, 9, -999.000, -999.0000, 9, -999.0000,  -999.00, 9,  -999.00, -999.000, 9, -999.000,   -999.0, 9,   -999.0,  -999.00, 9, -999.0000, 9, -999.0000, 9, -999.0000, 9, -999.0000, 9, -999.0000, 9, -999.0000, 9, -999, 9, -999, 9, -999, 9, -999, 9, -999, 9, -999, 9, -999, 9,  -999.00, 9,  -999.00, 9,  -999.00, 9,  -999.00, 9,   2.3283,  -999.00, 9,  327,   41.8394,  -51.7801
316N200309, A20, 11, 1, 6, 6, 2, 20030927, 0305, 41.8370, -51.7828, 3930,  3274.00,   3274.0,   2.4226,  34.9013, 2,  34.9024, 2,    276.2, 2,    277.8, 2,    17.22, 2,    16.63, 2,     0.00, 2,     1.12, 2,    1.842, 2,    0.960, 2,    0.104, 2,    2.403, 2,   2164.4, 2,   2309.6, 2,  -999.00, 9,  -999.00, 9, -999.000, 9, -999.000, -999.0000, 9, -999.0000,  -999.00, 9,  -999.00, -999.000, 9, -999.000,   -999.0, 9,   -999.0,  -999.00, 9, -999.0000, 9, -999.0000, 9, -999.0000, 9, -999.0000, 9, -999.0000, 9, -999.0000, 9, -999, 9, -999, 9, -999, 9, -999, 9, -999, 9, -999, 9, -999, 9,  -999.00, 9,  -999.00, 9,  -999.00, 9,  -999.00, 9,   2.1562,  -999.00, 9,  324,   41.8390,  -51.7805
316N200309, A20, 11, 1, 5, 5, 2, 20030927, 0305, 41.8370, -51.7828, 3930,  3424.60,   3424.6,   2.3021,  34.8962, 2,  34.8971, 2,    276.4, 2,    277.4, 2,    18.84, 2,    16.75, 2,     0.00, 2,     1.13, 2,    1.856, 2,    0.942, 2,    0.110, 2,    2.408, 2,   2164.1, 2,   2307.8, 2,    44.80, 2,  -999.00, 9, -999.000, 9, -999.000, -999.0000, 9, -999.0000,  -999.00, 9,  -999.00, -999.000, 9, -999.000,   -999.0, 9,   -999.0,  -999.00, 9, -999.0000, 9, -999.0000, 9, -999.0000, 9, -999.0000, 9, -999.0000, 9, -999.0000, 9, -999, 9, -999, 9, -999, 9, -999, 9, -999, 9, -999, 9, -999, 9,  -999.00, 9,  -999.00, 9,  -999.00, 9,  -999.00, 9,   2.0227,  -999.00, 9,  320,   41.8386,  -51.7810
316N200309, A20, 11, 1, 4, 4, 2, 20030927, 0305, 41.8370, -51.7828, 3930,  3575.10,   3575.1,   2.2408,  34.8929, 2,  34.8947, 2,    276.3, 2,    277.2, 2,    19.86, 2,    16.87, 2,     0.00, 2,     1.13, 2,    1.858, 2,    0.959, 2,    0.113, 2,    2.392, 2,   2164.5, 2,   2305.6, 2,  -999.00, 9,  -999.00, 9, -999.000, 9, -999.000, -999.0000, 9, -999.0000,  -999.00, 9,  -999.00, -999.000, 9, -999.000,   -999.0, 9,   -999.0,  -999.00, 9, -999.0000, 9, -999.0000, 9, -999.0000, 9, -999.0000, 9, -999.0000, 9, -999.0000, 9, -999, 9, -999, 9, -999, 9, -999, 9, -999, 9, -999, 9, -999, 9,  -999.00, 9,  -999.00, 9,  -999.00, 9,  -999.00, 9,   1.9468,  -999.00, 9,  316,   41.8382,  -51.7814
316N200309, A20, 11, 1, 3, 3, 2, 20030927, 0305, 41.8370, -51.7828, 3930,  3724.80,   3724.8,   2.2148,  34.8909, 2,  34.8926, 2,    276.4, 2,    277.0, 2,    20.56, 2,    16.88, 2,     0.00, 2,     1.14, 2,    1.860, 6,    0.961, 6,    0.120, 6,    2.381, 6,   2166.1, 2,   2310.8, 2,  -999.00, 9,  -999.00, 9, -999.000, 9, -999.000, -999.0000, 9, -999.0000,  -999.00, 9,  -999.00, -999.000, 9, -999.000,   -999.0, 9,   -999.0,  -999.00, 9, -999.0000, 9, -999.0000, 9, -999.0000, 9, -999.0000, 9, -999.0000, 9, -999.0000, 9, -999, 9, -999, 9, -999, 9, -999, 9, -999, 9, -999, 9, -999, 9,  -999.00, 9,  -999.00, 9,  -999.00, 9,  -999.00, 9,   1.9052,  -999.00, 9,  313,   41.8378,  -51.7818
316N200309, A20, 11, 1, 2, 2, 2, 20030927, 0305, 41.8370, -51.7828, 3930,  3900.70,   3900.7,   2.2211,  34.8901, 2,  34.8912, 2,    276.6, 2,    277.1, 2,    20.75, 2,    16.90, 2,     0.00, 2,     1.14, 2,    1.842, 2,    0.971, 2,    0.111, 2,    2.352, 2,   2169.5, 2,   2309.0, 2,  -999.00, 9,  -999.00, 9, -999.000, 9, -999.000, -999.0000, 9, -999.0000,  -999.00, 9,  -999.00, -999.000, 9, -999.000,   -999.0, 9,   -999.0,  -999.00, 9, -999.0000, 9, -999.0000, 9, -999.0000, 9, -999.0000, 9, -999.0000, 9, -999.0000, 9, -999, 9, -999, 9, -999, 9, -999, 9, -999, 9, -999, 9, -999, 9,  -999.00, 9,  -999.00, 9,  -999.00, 9,  -999.00, 9,   1.8918,  -999.00, 9,  309,   41.8374,  -51.7823
316N200309, A20, 11, 1, 1, 1, 2, 20030927, 0305, 41.8370, -51.7828, 3930,  3990.50,   3990.5,   2.2191,  34.8894, 2,  34.8914, 2,    277.5, 2,    276.5, 2,    21.45, 2,    16.97, 2,     0.00, 2,     1.15, 2,    1.790, 2,    0.927, 2,    0.112, 2,    2.317, 2,   2170.9, 2,   2311.8, 2,    44.60, 2,  -999.00, 9, -999.000, 9, -999.000, -999.0000, 9, -999.0000,  -999.00, 9,  -999.00, -999.000, 9, -999.000,   -999.0, 9,   -999.0,  -999.00, 9, -999.0000, 9, -999.0000, 9, -999.0000, 9, -999.0000, 9, -999.0000, 9, -999.0000, 9, -999, 9, -999, 9, -999, 9, -999, 9, -999, 9, -999, 9, -999, 9,  -999.00, 9,  -999.00, 9,  -999.00, 9,  -999.00, 9,   1.8798,  -999.00, 9,  306,   41.8371,  -51.7827