BOTTLE,20220816CCHSIOAMB
EXPOCODE,SECT_ID,STNNBR,CASTNO,SAMPNO,BTLNBR,BTLNBR_FLAG_W,DATE,TIME,LATITUDE,LONGITUDE,DEPTH,CTDRAW,CTDPRS,CTDTMP,CTDSAL,CTDSAL_FLAG_W,SALNTY,SALNTY_FLAG_W,CTDOXY,CTDOXY_FLAG_W,OXYGEN,OXYGEN_FLAG_W,SILCAT,SILCAT_FLAG_W,NITRAT,NITRAT_FLAG_W,NITRIT,NITRIT_FLAG_W,PHSPHT,PHSPHT_FLAG_W,CFC-11,CFC-11_FLAG_W,CFC-12,CFC-12_FLAG_W,CFC113,CFC113_FLAG_W,CCL4,CCL4_FLAG_W,TCARBN,TCARBN_FLAG_W,ALKALI,ALKALI_FLAG_W,DOC,DOC_FLAG_W,TDN,TDN_FLAG_W,TRITUM,TRITUM_FLAG_W,TRITER,HELIUM,HELIUM_FLAG_W,HELIER,DELHE3,DELHE3_FLAG_W,DELHER,NEON,NEON_FLAG_W,NEONER,DELC14,DELC14_FLAG_W,C14ERR,DELC13,DELC13_FLAG_W,CDOM325,CDOM325_FLAG_W,CDOM340,CDOM340_FLAG_W,CDOM380,CDOM380_FLAG_W,CDOM412,CDOM412_FLAG_W,CDOMSL,CDOMSL_FLAG_W,CDOMSN,CDOMSN_FLAG_W,DCNS,DCNS_FLAG_W,ARABI,ARABI_FLAG_W,FUCO,FUCO_FLAG_W,GALA,GALA_FLAG_W,GLUC,GLUC_FLAG_W,MAN,MAN_FLAG_W,RHAM,RHAM_FLAG_W,BRDU,BRDU_FLAG_W,PEUK,PEUK_FLAG_W,PROC,PROC_FLAG_W,SYN,SYN_FLAG_W,THETA,BACT,BACT_FLAG_W,BTL_TIME,BTL_LAT,BTL_LON
,,,,,,,,,,,METERS,DBAR,DBAR,ITS-90,PSS-78,,PSS-78,,UMOL/KG,,UMOL/KG,,UMOL/KG,,UMOL/KG,,UMOL/KG,,UMOL/KG,,PMOL/KG,,PMOL/KG,,PMOL/KG,,PMOL/KG,,UMOL/KG,,UMOL/KG,,UMOL/KG,,UMOL/KG,,TU,,TU,NMOL/KG,,NMOL/KG,PERCNT,,PERCNT,NMOL/KG,,NMOL/KG,/MILLE,,/MILLE,/MILLE,,1/M,,1/M,,1/M,,1/M,,1/NM,,1/NM,,NMOL/KG,,NMOL/KG,,NMOL/KG,,NMOL/KG,,NMOL/KG,,NMOL/KG,,NMOL/KG,,PMOL/L/H,,E6/L,,E7/L,,E6/L,,DEG C,E8/L,,,,
316N200309, A20, 21, 1, 10, 10, 2, 20030929, 2040, 38.6800, -52.3665, 5342,  2999.10,   2999.1,   3.1243,  34.9446, 2,  34.9437, 2,    265.3, 2,    265.7, 2,    18.38, 2,    17.97, 2,     0.00, 2,     1.19, 2,    0.687, 2,    0.365, 2,    0.026, 2,    1.220, 2,   2162.4, 2,   2309.7, 2,  -999.00, 9,  -999.00, 9, -999.000, 9, -999.000, -999.0000, 9, -999.0000,  -999.00, 9,  -999.00, -999.000, 9, -999.000,   -999.0, 9,   -999.0,  -999.00, 9, -999.0000, 9, -999.0000, 9, -999.0000, 9, -999.0000, 9, -999.0000, 9, -999.0000, 9, -999, 9, -999, 9, -999, 9, -999, 9, -999, 9, -999, 9, -999, 9,  -999.00, 9,  -999.00, 9,  -999.00, 9,  -999.00, 9,   2.8709,  -999.00, 9, 2138,   38.6834,  -52.3525
316N200309, A20, 21, 1, 9, 9, 2, 20030929, 2040, 38.6800, -52.3665, 5342,  3202.40,   3202.4,   2.9523,  34.9366, 2,  34.9376, 2,    264.8, 2,    266.6, 2,    19.67, 2,    17.97, 2,     0.00, 2,     1.20, 2,    0.649, 2,    0.344, 2,    0.025, 2,    1.148, 2,   2161.9, 2,   2310.0, 2,    42.60, 2,  -999.00, 9, -999.000, 9, -999.000, -999.0000, 9, -999.0000,  -999.00, 9,  -999.00, -999.000, 9, -999.000,   -999.0, 9,   -999.0,  -999.00, 9, -999.0000, 9, -999.0000, 9, -999.0000, 9, -999.0000, 9, -999.0000, 9, -999.0000, 9, -999, 9, -999, 9, -999, 9, -999, 9, -999, 9, -999, 9, -999, 9,  -999.00, 9,  -999.00, 9,  -999.00, 9,  -999.00, 9,   2.6811,  -999.00, 9, 2134,   38.6831,  -52.3539
316N200309, A20, 21, 1, 8, 8, 2, 20030929, 2040, 38.6800, -52.3665, 5342,  3397.70,   3397.7,   2.8026,  34.9288, 2,  34.9282, 2,    266.7, 2,    267.6, 2,    20.66, 2,    17.91, 2,     0.00, 2,     1.20, 2,    0.644, 2,    0.330, 2,    0.033, 2,    1.161, 2,   2163.3, 2,   2308.0, 2,  -999.00, 9,  -999.00, 9, -999.000, 9, -999.000, -999.0000, 9, -999.0000,  -999.00, 9,  -999.00, -999.000, 9, -999.000,   -999.0, 9,   -999.0,  -999.00, 9, -999.0000, 9, -999.0000, 9, -999.0000, 9, -999.0000, 9, -999.0000, 9, -999.0000, 9, -999, 9, -999, 9, -999, 9, -999, 9, -999, 9, -999, 9, -999, 9,  -999.00, 9,  -999.00, 9,  -999.00, 9,  -999.00, 9,   2.5139,  -999.00, 9, 2129,   38.6828,  -52.3552
316N200309, A20, 21, 1, 7, 7, 2, 20030929, 2040, 38.6800, -52.3665, 5342,  3602.30,   3602.3,   2.6244,  34.9183, 2,  34.9172, 2,    267.6, 2,    269.2, 2,    22.15, 2,    17.86, 2,     0.00, 2,     1.20, 2,    0.688, 2,    0.361, 2,    0.030, 2,    1.222, 2,   2163.1, 2,   2310.4, 2,  -999.00, 9,  -999.00, 9, -999.000, 9, -999.000, -999.0000, 9, -999.0000,  -999.00, 9,  -999.00, -999.000, 9, -999.000,   -999.0, 9,   -999.0,  -999.00, 9, -999.0000, 9, -999.0000, 9, -999.0000, 9, -999.0000, 9, -999.0000, 9, -999.0000, 9, -999, 9, -999, 9, -999, 9, -999, 9, -999, 9, -999, 9, -999, 9,  -999.00, 9,  -999.00, 9,  -999.00, 9,  -999.00, 9,   2.3176,  -999.00, 9, 2125,   38.6824,  -52.3565
316N200309, A20, 21, 1, 6, 6, 2, 20030929, 2040, 38.6800, -52.3665, 5342,  3849.70,   3849.7,   2.4685,  34.9084, 2,  34.9079, 2,    268.1, 2,    269.2, 2,    24.26, 2,    18.06, 2,     0.00, 2,     1.21, 2,    0.689, 2,    0.366, 2,    0.034, 2,    1.250, 2,   2166.6, 2,   2312.0, 2,    44.30, 2,  -999.00, 9, -999.000, 9, -999.000, -999.0000, 9, -999.0000,  -999.00, 9,  -999.00, -999.000, 9, -999.000,   -999.0, 9,   -999.0,  -999.00, 9, -999.0000, 9, -999.0000, 9, -999.0000, 9, -999.0000, 9, -999.0000, 9, -999.0000, 9, -999, 9, -999, 9, -999, 9, -999, 9, -999, 9, -999, 9, -999, 9,  -999.00, 9,  -999.00, 9,  -999.00, 9,  -999.00, 9,   2.1382,  -999.00, 9, 2119,   38.6822,  -52.3575
316N200309, A20, 21, 1, 5, 5, 2, 20030929, 2040, 38.6800, -52.3665, 5342,  4152.30,   4152.3,   2.3611,  34.8995, 2,  34.8987, 2,    267.3, 2,    268.3, 2,    27.09, 2,    18.31, 2,     0.00, 2,     1.24, 2,    1.745, 4,    2.614, 4,    0.319, 4,    1.551, 4,   2169.5, 2,   2314.2, 2,    43.70, 2,  -999.00, 9, -999.000, 9, -999.000, -999.0000, 9, -999.0000,  -999.00, 9,  -999.00, -999.000, 9, -999.000,   -999.0, 9,   -999.0,  -999.00, 9, -999.0000, 9, -999.0000, 9, -999.0000, 9, -999.0000, 9, -999.0000, 9, -999.0000, 9, -999, 9, -999, 9, -999, 9, -999, 9, -999, 9, -999, 9, -999, 9,  -999.00, 9,  -999.00, 9,  -999.00, 9,  -999.00, 9,   1.9992,  -999.00, 9, 2113,   38.6819,  -52.3588
316N200309, A20, 21, 1, 4, 4, 2, 20030929, 2040, 38.6800, -52.3665, 5342,  4455.50,   4455.5,   2.3043,  34.8925, 2,  34.8922, 2,    265.4, 2,    266.3, 2,    30.13, 2,    18.75, 2,     0.00, 2,     1.27, 2,    0.673, 2,    0.348, 2,    0.036, 2,    1.119, 2,   2174.5, 2,   2317.9, 2,  -999.00, 9,  -999.00, 9, -999.000, 9, -999.000, -999.0000, 9, -999.0000,  -999.00, 9,  -999.00, -999.000, 9, -999.000,   -999.0, 9,   -999.0,  -999.00, 9, -999.0000, 9, -999.0000, 9, -999.0000, 9, -999.0000, 9, -999.0000, 9, -999.0000, 9, -999, 9, -999, 9, -999, 9, -999, 9, -999, 9, -999, 9, -999, 9,  -999.00, 9,  -999.00, 9,  -999.00, 9,  -999.00, 9,   1.9084,  -999.00, 9, 2105,   38.6816,  -52.3603
316N200309, A20, 21, 1, 3, 3, 2, 20030929, 2040, 38.6800, -52.3665, 5342,  4748.00,   4748.0,   2.2838,  34.8872, 2,  34.8861, 2,    263.2, 2,    264.4, 2,    32.98, 2,    19.15, 2,     0.00, 2,     1.30, 2,    0.608, 2,    0.324, 2,    0.036, 2,    1.072, 2,   2176.1, 2,   2322.9, 2,    43.70, 2,  -999.00, 9, -999.000, 9, -999.000, -999.0000, 9, -999.0000,  -999.00, 9,  -999.00, -999.000, 9, -999.000,   -999.0, 9,   -999.0,  -999.00, 9, -999.0000, 9, -999.0000, 9, -999.0000, 9, -999.0000, 9, -999.0000, 9, -999.0000, 9, -999, 9, -999, 9, -999, 9, -999, 9, -999, 9, -999, 9, -999, 9,  -999.00, 9,  -999.00, 9,  -999.00, 9,  -999.00, 9,   1.8531,  -999.00, 9, 2057,   38.6812,  -52.3613
316N200309, A20, 21, 1, 2, 2, 2, 20030929, 2040, 38.6800, -52.3665, 5342,  5047.00,   5047.0,   2.2784,  34.8829, 2,  34.8820, 2,    262.1, 2,    276.7, 3,    34.48, 2,    19.30, 2,     0.00, 2,     1.31, 2,    0.677, 2,    0.355, 2,    0.041, 2,    1.080, 2,   2180.1, 2,   2321.6, 2,    43.50, 2,  -999.00, 9, -999.000, 9, -999.000, -999.0000, 9, -999.0000,  -999.00, 9,  -999.00, -999.000, 9, -999.000,   -999.0, 9,   -999.0,  -999.00, 9, -999.0000, 9, -999.0000, 9, -999.0000, 9, -999.0000, 9, -999.0000, 9, -999.0000, 9, -999, 9, -999, 9, -999, 9, -999, 9, -999, 9, -999, 9, -999, 9,  -999.00, 9,  -999.00, 9,  -999.00, 9,  -999.00, 9,   1.8106,  -999.00, 9, 2051,   38.6805,  -52.3638
316N200309, A20, 21, 1, 1, 1, 2, 20030929, 2040, 38.6800, -52.3665, 5342,  5439.10,   5439.1,   2.2549,  34.8728, 2,  34.8800, 3,    256.9, 2,    258.4, 2,    41.34, 2,    20.43, 2,     0.00, 2,     1.41, 2,    0.421, 2,    0.235, 2,    0.024, 2,    0.725, 2,   2186.8, 2,   2329.4, 2,    44.30, 2,  -999.00, 9, -999.000, 9, -999.000, -999.0000, 9, -999.0000,  -999.00, 9,  -999.00, -999.000, 9, -999.000,   -999.0, 9,   -999.0,  -999.00, 9, -999.0000, 9, -999.0000, 9, -999.0000, 9, -999.0000, 9, -999.0000, 9, -999.0000, 9, -999, 9, -999, 9, -999, 9, -999, 9, -999, 9, -999, 9, -999, 9,  -999.00, 9,  -999.00, 9,  -999.00, 9,  -999.00, 9,   1.7375,  -999.00, 9, 2041,   38.6800,  -52.3661