BOTTLE,20220816CCHSIOAMB
EXPOCODE,SECT_ID,STNNBR,CASTNO,SAMPNO,BTLNBR,BTLNBR_FLAG_W,DATE,TIME,LATITUDE,LONGITUDE,DEPTH,CTDRAW,CTDPRS,CTDTMP,CTDSAL,CTDSAL_FLAG_W,SALNTY,SALNTY_FLAG_W,CTDOXY,CTDOXY_FLAG_W,OXYGEN,OXYGEN_FLAG_W,SILCAT,SILCAT_FLAG_W,NITRAT,NITRAT_FLAG_W,NITRIT,NITRIT_FLAG_W,PHSPHT,PHSPHT_FLAG_W,CFC-11,CFC-11_FLAG_W,CFC-12,CFC-12_FLAG_W,CFC113,CFC113_FLAG_W,CCL4,CCL4_FLAG_W,TCARBN,TCARBN_FLAG_W,ALKALI,ALKALI_FLAG_W,DOC,DOC_FLAG_W,TDN,TDN_FLAG_W,TRITUM,TRITUM_FLAG_W,TRITER,HELIUM,HELIUM_FLAG_W,HELIER,DELHE3,DELHE3_FLAG_W,DELHER,NEON,NEON_FLAG_W,NEONER,DELC14,DELC14_FLAG_W,C14ERR,DELC13,DELC13_FLAG_W,CDOM325,CDOM325_FLAG_W,CDOM340,CDOM340_FLAG_W,CDOM380,CDOM380_FLAG_W,CDOM412,CDOM412_FLAG_W,CDOMSL,CDOMSL_FLAG_W,CDOMSN,CDOMSN_FLAG_W,DCNS,DCNS_FLAG_W,ARABI,ARABI_FLAG_W,FUCO,FUCO_FLAG_W,GALA,GALA_FLAG_W,GLUC,GLUC_FLAG_W,MAN,MAN_FLAG_W,RHAM,RHAM_FLAG_W,BRDU,BRDU_FLAG_W,PEUK,PEUK_FLAG_W,PROC,PROC_FLAG_W,SYN,SYN_FLAG_W,THETA,BACT,BACT_FLAG_W,BTL_TIME,BTL_LAT,BTL_LON
,,,,,,,,,,,METERS,DBAR,DBAR,ITS-90,PSS-78,,PSS-78,,UMOL/KG,,UMOL/KG,,UMOL/KG,,UMOL/KG,,UMOL/KG,,UMOL/KG,,PMOL/KG,,PMOL/KG,,PMOL/KG,,PMOL/KG,,UMOL/KG,,UMOL/KG,,UMOL/KG,,UMOL/KG,,TU,,TU,NMOL/KG,,NMOL/KG,PERCNT,,PERCNT,NMOL/KG,,NMOL/KG,/MILLE,,/MILLE,/MILLE,,1/M,,1/M,,1/M,,1/M,,1/NM,,1/NM,,NMOL/KG,,NMOL/KG,,NMOL/KG,,NMOL/KG,,NMOL/KG,,NMOL/KG,,NMOL/KG,,PMOL/L/H,,E6/L,,E7/L,,E6/L,,DEG C,E8/L,,,,
316N200309, A20, 27, 1, 10, 10, 2, 20031001, 1625, 34.9062, -52.3640, 5534,  3373.80,   3373.8,   2.6260,  34.9224, 2,  34.9213, 2,    264.7, 2,    277.5, 4,    25.51, 2,    18.59, 2,     0.00, 2,     1.25, 2,    0.386, 6,    0.210, 6,    0.016, 6,    0.798, 6,   2168.6, 2,   2319.2, 2,    42.80, 2,  -999.00, 9, -999.000, 9, -999.000, -999.0000, 9, -999.0000,  -999.00, 9,  -999.00, -999.000, 9, -999.000,   -999.0, 9,   -999.0,  -999.00, 9,    0.1280, 2,    0.0970, 2,    0.0500, 2,    0.0450, 2,    0.0110, 2,    0.0130, 2, -999, 9, -999, 9, -999, 9, -999, 9, -999, 9, -999, 9, -999, 9,  -999.00, 9,  -999.00, 9,  -999.00, 9,  -999.00, 9,   2.3441,  -999.00, 9, 1717,   34.9135,  -52.3605
316N200309, A20, 27, 1, 9, 9, 2, 20031001, 1625, 34.9062, -52.3640, 5534,  3623.00,   3623.0,   2.4703,  34.9109, 2,  34.9095, 2,    265.0, 2,    269.5, 4,    27.47, 2,    18.69, 2,     0.00, 2,     1.26, 2,    0.409, 2,    0.229, 2,    0.015, 2,    0.843, 2,   2169.4, 2,   2320.5, 2,  -999.00, 9,  -999.00, 9, -999.000, 9, -999.000, -999.0000, 9, -999.0000,  -999.00, 9,  -999.00, -999.000, 9, -999.000,   -999.0, 9,   -999.0,  -999.00, 9, -999.0000, 9, -999.0000, 9, -999.0000, 9, -999.0000, 9, -999.0000, 9, -999.0000, 9, -999, 9, -999, 9, -999, 9, -999, 9, -999, 9, -999, 9, -999, 9,  -999.00, 9,  -999.00, 9,  -999.00, 9,  -999.00, 9,   2.1652,  -999.00, 9, 1711,   34.9124,  -52.3607
316N200309, A20, 27, 1, 8, 8, 2, 20031001, 1625, 34.9062, -52.3640, 5534,  3873.50,   3873.5,   2.3558,  34.9014, 2,  34.9008, 2,    264.5, 2,    267.7, 4,    30.43, 2,    18.94, 2,     0.00, 2,     1.29, 2,    0.401, 2,    0.213, 2,    0.016, 2,    0.810, 2,   2173.5, 2,   2323.6, 2,  -999.00, 9,  -999.00, 9, -999.000, 9, -999.000, -999.0000, 9, -999.0000,  -999.00, 9,  -999.00, -999.000, 9, -999.000,   -999.0, 9,   -999.0,  -999.00, 9, -999.0000, 9, -999.0000, 9, -999.0000, 9, -999.0000, 9, -999.0000, 9, -999.0000, 9, -999, 9, -999, 9, -999, 9, -999, 9, -999, 9, -999, 9, -999, 9,  -999.00, 9,  -999.00, 9,  -999.00, 9,  -999.00, 9,   2.0259,  -999.00, 9, 1706,   34.9113,  -52.3612
316N200309, A20, 27, 1, 7, 7, 2, 20031001, 1625, 34.9062, -52.3640, 5534,  4124.70,   4124.7,   2.2907,  34.8939, 2,  34.8930, 2,    263.6, 2,    265.9, 4,    33.00, 2,    19.28, 2,     0.00, 2,     1.31, 2,    0.403, 2,    0.218, 2,    0.036, 2,    0.816, 2,   2175.4, 2,   2324.9, 2,    42.70, 2,  -999.00, 9, -999.000, 9, -999.000, -999.0000, 9, -999.0000,  -999.00, 9,  -999.00, -999.000, 9, -999.000,   -999.0, 9,   -999.0,  -999.00, 9,    0.1470, 2,    0.1110, 2,    0.0590, 2,    0.0570, 3,    0.0090, 3,    0.0110, 3, -999, 9, -999, 9, -999, 9, -999, 9, -999, 9, -999, 9, -999, 9,  -999.00, 9,  -999.00, 9,  -999.00, 9,  -999.00, 9,   1.9341,  -999.00, 9, 1701,   34.9106,  -52.3615
316N200309, A20, 27, 1, 6, 6, 2, 20031001, 1625, 34.9062, -52.3640, 5534,  4374.90,   4374.9,   2.2403,  34.8865, 2,  34.8861, 2,    261.5, 2,    262.9, 2,    36.26, 2,    19.72, 2,     0.00, 2,     1.34, 2,    0.390, 2,    0.210, 2,    0.023, 2,    0.782, 2,   2180.6, 2,   2327.7, 2,  -999.00, 9,  -999.00, 9, -999.000, 9, -999.000, -999.0000, 9, -999.0000,  -999.00, 9,  -999.00, -999.000, 9, -999.000,   -999.0, 9,   -999.0,  -999.00, 9, -999.0000, 9, -999.0000, 9, -999.0000, 9, -999.0000, 9, -999.0000, 9, -999.0000, 9, -999, 9, -999, 9, -999, 9, -999, 9, -999, 9, -999, 9, -999, 9,  -999.00, 9,  -999.00, 9,  -999.00, 9,  -999.00, 9,   1.8559,  -999.00, 9, 1656,   34.9099,  -52.3618
316N200309, A20, 27, 1, 5, 5, 2, 20031001, 1625, 34.9062, -52.3640, 5534,  4624.70,   4624.7,   2.2024,  34.8790, 2,  34.8786, 2,    258.3, 2,    259.0, 2,    40.73, 2,    20.41, 2,     0.00, 2,     1.39, 2,    0.285, 2,    0.160, 2,    0.013, 2,    0.656, 2,   2184.4, 2,   2331.7, 2,  -999.00, 9,  -999.00, 9, -999.000, 9, -999.000, -999.0000, 9, -999.0000,  -999.00, 9,  -999.00, -999.000, 9, -999.000,   -999.0, 9,   -999.0,  -999.00, 9, -999.0000, 9, -999.0000, 9, -999.0000, 9, -999.0000, 9, -999.0000, 9, -999.0000, 9, -999, 9, -999, 9, -999, 9, -999, 9, -999, 9, -999, 9, -999, 9,  -999.00, 9,  -999.00, 9,  -999.00, 9,  -999.00, 9,   1.7894,  -999.00, 9, 1651,   34.9092,  -52.3618
316N200309, A20, 27, 1, 4, 4, 2, 20031001, 1625, 34.9062, -52.3640, 5534,  4874.80,   4874.8,   2.1861,  34.8731, 2,  34.8729, 2,    255.9, 2,    256.3, 2,    44.21, 2,    21.00, 2,     0.00, 2,     1.43, 2,    0.193, 2,    0.116, 2,    0.011, 2,    0.477, 2,   2189.3, 2,   2332.1, 2,    41.20, 2,  -999.00, 9, -999.000, 9, -999.000, -999.0000, 9, -999.0000,  -999.00, 9,  -999.00, -999.000, 9, -999.000,   -999.0, 9,   -999.0,  -999.00, 9,    0.1880, 2,    0.1500, 2,    0.0780, 2,    0.0570, 2,    0.0130, 2,    0.0140, 2, -999, 9, -999, 9, -999, 9, -999, 9, -999, 9, -999, 9, -999, 9,  -999.00, 9,  -999.00, 9,  -999.00, 9,  -999.00, 9,   1.7430,  -999.00, 9, 1645,   34.9085,  -52.3623
316N200309, A20, 27, 1, 3, 3, 2, 20031001, 1625, 34.9062, -52.3640, 5534,  5125.00,   5125.0,   2.1846,  34.8692, 2,  34.8692, 2,    254.4, 2,    255.2, 2,    45.99, 2,    21.15, 2,     0.00, 2,     1.45, 2,    0.163, 2,    0.099, 2,    0.009, 2,    0.452, 2,   2190.3, 2,   2336.4, 2,  -999.00, 9,  -999.00, 9, -999.000, 9, -999.000, -999.0000, 9, -999.0000,  -999.00, 9,  -999.00, -999.000, 9, -999.000,   -999.0, 9,   -999.0,  -999.00, 9, -999.0000, 9, -999.0000, 9, -999.0000, 9, -999.0000, 9, -999.0000, 9, -999.0000, 9, -999, 9, -999, 9, -999, 9, -999, 9, -999, 9, -999, 9, -999, 9,  -999.00, 9,  -999.00, 9,  -999.00, 9,  -999.00, 9,   1.7101,  -999.00, 9, 1639,   34.9078,  -52.3627
316N200309, A20, 27, 1, 2, 2, 2, 20031001, 1625, 34.9062, -52.3640, 5534,  5373.60,   5373.6,   2.1963,  34.8665, 2,  34.8668, 2,    253.5, 2,    254.6, 2,    47.28, 2,    21.39, 2,     0.00, 2,     1.47, 2,    0.152, 2,    0.094, 2,    0.008, 2,    0.422, 2,   2193.3, 2,   2336.5, 2,  -999.00, 9,  -999.00, 9, -999.000, 9, -999.000, -999.0000, 9, -999.0000,  -999.00, 9,  -999.00, -999.000, 9, -999.000,   -999.0, 9,   -999.0,  -999.00, 9, -999.0000, 9, -999.0000, 9, -999.0000, 9, -999.0000, 9, -999.0000, 9, -999.0000, 9, -999, 9, -999, 9, -999, 9, -999, 9, -999, 9, -999, 9, -999, 9,  -999.00, 9,  -999.00, 9,  -999.00, 9,  -999.00, 9,   1.6895,  -999.00, 9, 1632,   34.9069,  -52.3632
316N200309, A20, 27, 1, 1, 1, 2, 20031001, 1625, 34.9062, -52.3640, 5534,  5610.80,   5610.8,   2.2101,  34.8638, 2,  34.8646, 2,    253.8, 2,    253.6, 2,    48.47, 2,    21.59, 2,     0.00, 2,     1.48, 2,    0.149, 2,    0.098, 2,    0.008, 2,    0.417, 2,   2195.4, 2,   2339.0, 2,    41.10, 2,  -999.00, 9, -999.000, 9, -999.000, -999.0000, 9, -999.0000,  -999.00, 9,  -999.00, -999.000, 9, -999.000,   -999.0, 9,   -999.0,  -999.00, 9,    0.1180, 2,    0.0910, 2,    0.0480, 2,    0.0350, 2,    0.0140, 2,    0.0150, 2, -999, 9, -999, 9, -999, 9, -999, 9, -999, 9, -999, 9, -999, 9,  -999.00, 9,  -999.00, 9,  -999.00, 9,  -999.00, 9,   1.6717,  -999.00, 9, 1626,   34.9062,  -52.3640