BOTTLE,20220816CCHSIOAMB
EXPOCODE,SECT_ID,STNNBR,CASTNO,SAMPNO,BTLNBR,BTLNBR_FLAG_W,DATE,TIME,LATITUDE,LONGITUDE,DEPTH,CTDRAW,CTDPRS,CTDTMP,CTDSAL,CTDSAL_FLAG_W,SALNTY,SALNTY_FLAG_W,CTDOXY,CTDOXY_FLAG_W,OXYGEN,OXYGEN_FLAG_W,SILCAT,SILCAT_FLAG_W,NITRAT,NITRAT_FLAG_W,NITRIT,NITRIT_FLAG_W,PHSPHT,PHSPHT_FLAG_W,CFC-11,CFC-11_FLAG_W,CFC-12,CFC-12_FLAG_W,CFC113,CFC113_FLAG_W,CCL4,CCL4_FLAG_W,TCARBN,TCARBN_FLAG_W,ALKALI,ALKALI_FLAG_W,DOC,DOC_FLAG_W,TDN,TDN_FLAG_W,TRITUM,TRITUM_FLAG_W,TRITER,HELIUM,HELIUM_FLAG_W,HELIER,DELHE3,DELHE3_FLAG_W,DELHER,NEON,NEON_FLAG_W,NEONER,DELC14,DELC14_FLAG_W,C14ERR,DELC13,DELC13_FLAG_W,CDOM325,CDOM325_FLAG_W,CDOM340,CDOM340_FLAG_W,CDOM380,CDOM380_FLAG_W,CDOM412,CDOM412_FLAG_W,CDOMSL,CDOMSL_FLAG_W,CDOMSN,CDOMSN_FLAG_W,DCNS,DCNS_FLAG_W,ARABI,ARABI_FLAG_W,FUCO,FUCO_FLAG_W,GALA,GALA_FLAG_W,GLUC,GLUC_FLAG_W,MAN,MAN_FLAG_W,RHAM,RHAM_FLAG_W,BRDU,BRDU_FLAG_W,PEUK,PEUK_FLAG_W,PROC,PROC_FLAG_W,SYN,SYN_FLAG_W,THETA,BACT,BACT_FLAG_W,BTL_TIME,BTL_LAT,BTL_LON
,,,,,,,,,,,METERS,DBAR,DBAR,ITS-90,PSS-78,,PSS-78,,UMOL/KG,,UMOL/KG,,UMOL/KG,,UMOL/KG,,UMOL/KG,,UMOL/KG,,PMOL/KG,,PMOL/KG,,PMOL/KG,,PMOL/KG,,UMOL/KG,,UMOL/KG,,UMOL/KG,,UMOL/KG,,TU,,TU,NMOL/KG,,NMOL/KG,PERCNT,,PERCNT,NMOL/KG,,NMOL/KG,/MILLE,,/MILLE,/MILLE,,1/M,,1/M,,1/M,,1/M,,1/NM,,1/NM,,NMOL/KG,,NMOL/KG,,NMOL/KG,,NMOL/KG,,NMOL/KG,,NMOL/KG,,NMOL/KG,,PMOL/L/H,,E6/L,,E7/L,,E6/L,,DEG C,E8/L,,,,
316N200309, A20, 46, 1, 10, 10, 2, 20031010, 0810, 20.1735, -52.3287, 4845,  3000.80,   3000.8,   2.7476,  34.9301, 2,  34.9290, 2,    249.0, 2,    250.0, 2,    34.14, 2,    20.68, 2,     0.00, 2,     1.39, 2,    0.013, 2,    0.013, 2,    0.006, 2, -999.000, 9,   2183.0, 2,   2332.8, 2,    40.50, 2,  -999.00, 9, -999.000, 9, -999.000, -999.0000, 9, -999.0000,  -999.00, 9,  -999.00, -999.000, 9, -999.000,   -999.0, 9,   -999.0,  -999.00, 9,    0.1240, 2,    0.0860, 2,    0.0400, 2,    0.0270, 2,    0.0190, 2,    0.0210, 2, -999, 9, -999, 9, -999, 9, -999, 9, -999, 9, -999, 9, -999, 9,  -999.00, 9,  -999.00, 9,  -999.00, 9,  -999.00, 9,   2.5023,  -999.00, 9,  852,   20.1753,  -52.3248
316N200309, A20, 46, 1, 9, 9, 2, 20031010, 0810, 20.1735, -52.3287, 4845,  3200.40,   3200.4,   2.6533,  34.9215, 2,  34.9207, 2,    249.6, 2,    251.1, 2,    35.72, 2,    20.77, 2,     0.00, 2,     1.40, 2,    0.008, 2,    0.010, 2,    0.004, 2, -999.000, 9,   2184.2, 2,   2329.1, 2,  -999.00, 9,  -999.00, 9, -999.000, 9, -999.000, -999.0000, 9, -999.0000,  -999.00, 9,  -999.00, -999.000, 9, -999.000,   -999.0, 9,   -999.0,  -999.00, 9, -999.0000, 9, -999.0000, 9, -999.0000, 9, -999.0000, 9, -999.0000, 9, -999.0000, 9, -999, 9, -999, 9, -999, 9, -999, 9, -999, 9, -999, 9, -999, 9,  -999.00, 9,  -999.00, 9,  -999.00, 9,  -999.00, 9,   2.3892,  -999.00, 9,  847,   20.1755,  -52.3254
316N200309, A20, 46, 1, 8, 8, 2, 20031010, 0810, 20.1735, -52.3287, 4845,  3400.00,   3400.0,   2.5546,  34.9122, 2,  34.9124, 2,    250.4, 2,    251.0, 2,    37.92, 2,    20.96, 2,     0.00, 2,     1.41, 2,    0.006, 2,    0.011, 2,    0.007, 2, -999.000, 9,   2185.6, 2,   2333.3, 2,  -999.00, 9,  -999.00, 9, -999.000, 9, -999.000, -999.0000, 9, -999.0000,  -999.00, 9,  -999.00, -999.000, 9, -999.000,   -999.0, 9,   -999.0,  -999.00, 9, -999.0000, 9, -999.0000, 9, -999.0000, 9, -999.0000, 9, -999.0000, 9, -999.0000, 9, -999, 9, -999, 9, -999, 9, -999, 9, -999, 9, -999, 9, -999, 9,  -999.00, 9,  -999.00, 9,  -999.00, 9,  -999.00, 9,   2.2717,  -999.00, 9,  843,   20.1752,  -52.3258
316N200309, A20, 46, 1, 7, 7, 2, 20031010, 0810, 20.1735, -52.3287, 4845,  3600.30,   3600.3,   2.4599,  34.9034, 2,  34.9024, 2,    251.1, 2,    252.4, 3,    39.82, 2,    21.10, 2,     0.00, 2,     1.42, 2,    0.014, 2,    0.012, 2,    0.002, 2, -999.000, 9,   2187.0, 2,   2332.4, 2,  -999.00, 9,  -999.00, 9, -999.000, 9, -999.000, -999.0000, 9, -999.0000,  -999.00, 9,  -999.00, -999.000, 9, -999.000,   -999.0, 9,   -999.0,  -999.00, 9, -999.0000, 9, -999.0000, 9, -999.0000, 9, -999.0000, 9, -999.0000, 9, -999.0000, 9, -999, 9, -999, 9, -999, 9, -999, 9, -999, 9, -999, 9, -999, 9,  -999.00, 9,  -999.00, 9,  -999.00, 9,  -999.00, 9,   2.1576,  -999.00, 9,  839,   20.1750,  -52.3261
316N200309, A20, 46, 1, 6, 6, 2, 20031010, 0810, 20.1735, -52.3287, 4845,  3800.60,   3800.6,   2.3439,  34.8940, 2,  34.8951, 2,    252.9, 2,    254.1, 3,    40.55, 2,    21.00, 2,     0.00, 2,     1.42, 2,    0.050, 2,    0.038, 2,    0.007, 2, -999.000, 9,   2186.6, 2,   2334.0, 2,    38.70, 2,  -999.00, 9, -999.000, 9, -999.000, -999.0000, 9, -999.0000,  -999.00, 9,  -999.00, -999.000, 9, -999.000,   -999.0, 9,   -999.0,  -999.00, 9,    0.1200, 2,    0.0830, 2,    0.0390, 2,    0.0300, 2,    0.0170, 2,    0.0190, 2, -999, 9, -999, 9, -999, 9, -999, 9, -999, 9, -999, 9, -999, 9,  -999.00, 9,  -999.00, 9,  -999.00, 9,  -999.00, 9,   2.0225,  -999.00, 9,  835,   20.1748,  -52.3265
316N200309, A20, 46, 1, 5, 5, 2, 20031010, 0810, 20.1735, -52.3287, 4845,  4000.70,   4000.7,   2.2981,  34.8890, 2,  34.8898, 2,    253.7, 2,    255.1, 3,    41.50, 2,    21.05, 2,     0.00, 2,     1.43, 2,    0.029, 2,    0.023, 2,    0.004, 2, -999.000, 9,   2188.9, 2,   2332.8, 2,  -999.00, 9,  -999.00, 9, -999.000, 9, -999.000, -999.0000, 9, -999.0000,  -999.00, 9,  -999.00, -999.000, 9, -999.000,   -999.0, 9,   -999.0,  -999.00, 9, -999.0000, 9, -999.0000, 9, -999.0000, 9, -999.0000, 9, -999.0000, 9, -999.0000, 9, -999, 9, -999, 9, -999, 9, -999, 9, -999, 9, -999, 9, -999, 9,  -999.00, 9,  -999.00, 9,  -999.00, 9,  -999.00, 9,   1.9554,  -999.00, 9,  831,   20.1745,  -52.3268
316N200309, A20, 46, 1, 4, 4, 2, 20031010, 0810, 20.1735, -52.3287, 4845,  4200.40,   4200.4,   2.2086,  34.8799, 2,  34.8823, 2,    253.7, 2,    254.1, 2,    43.82, 2,    21.19, 2,     0.00, 2,     1.44, 2,    0.043, 2,    0.031, 2,    0.006, 2, -999.000, 9,   2190.1, 2,   2336.3, 2,  -999.00, 9,  -999.00, 9, -999.000, 9, -999.000, -999.0000, 9, -999.0000,  -999.00, 9,  -999.00, -999.000, 9, -999.000,   -999.0, 9,   -999.0,  -999.00, 9, -999.0000, 9, -999.0000, 9, -999.0000, 9, -999.0000, 9, -999.0000, 9, -999.0000, 9, -999, 9, -999, 9, -999, 9, -999, 9, -999, 9, -999, 9, -999, 9,  -999.00, 9,  -999.00, 9,  -999.00, 9,  -999.00, 9,   1.8456,  -999.00, 9,  826,   20.1744,  -52.3272
316N200309, A20, 46, 1, 3, 3, 2, 20031010, 0810, 20.1735, -52.3287, 4845,  4450.70,   4450.7,   2.1249,  34.8685, 2,  34.8698, 2,    252.0, 2,    252.6, 2,    47.82, 2,    21.75, 2,     0.00, 2,     1.46, 2,    0.048, 2,    0.037, 2,    0.006, 2, -999.000, 9,   2193.9, 2,   2337.1, 2,  -999.00, 9,  -999.00, 9, -999.000, 9, -999.000, -999.0000, 9, -999.0000,  -999.00, 9,  -999.00, -999.000, 9, -999.000,   -999.0, 9,   -999.0,  -999.00, 9, -999.0000, 9, -999.0000, 9, -999.0000, 9, -999.0000, 9, -999.0000, 9, -999.0000, 9, -999, 9, -999, 9, -999, 9, -999, 9, -999, 9, -999, 9, -999, 9,  -999.00, 9,  -999.00, 9,  -999.00, 9,  -999.00, 9,   1.7352,  -999.00, 9,  821,   20.1742,  -52.3276
316N200309, A20, 46, 1, 2, 2, 2, 20031010, 0810, 20.1735, -52.3287, 4845,  4699.70,   4699.7,   2.0620,  34.8587, 2,  34.8603, 2,    250.4, 2,    251.0, 2,    51.51, 2,    22.18, 2,     0.00, 2,     1.51, 2,    0.054, 2,    0.038, 2,    0.008, 2, -999.000, 9,   2200.1, 2,   2339.9, 2,  -999.00, 9,  -999.00, 9, -999.000, 9, -999.000, -999.0000, 9, -999.0000,  -999.00, 9,  -999.00, -999.000, 9, -999.000,   -999.0, 9,   -999.0,  -999.00, 9,    0.1650, 2,    0.1150, 2,    0.0530, 2,    0.0360, 2,    0.0170, 2,    0.0200, 2, -999, 9, -999, 9, -999, 9, -999, 9, -999, 9, -999, 9, -999, 9,  -999.00, 9,  -999.00, 9,  -999.00, 9,  -999.00, 9,   1.6445,  -999.00, 9,  816,   20.1738,  -52.3282
316N200309, A20, 46, 1, 1, 1, 3, 20031010, 0810, 20.1735, -52.3287, 4845,  4918.00,   4918.0,   2.0297,  34.8521, 2,  35.0100, 4,    249.1, 2,    243.0, 4,    45.40, 4,    21.09, 4,     0.00, 4,     1.43, 4, -999.000, 5, -999.000, 5, -999.000, 5, -999.000, 9,   -999.0, 9,   2341.9, 2,    39.10, 2,  -999.00, 9, -999.000, 9, -999.000, -999.0000, 9, -999.0000,  -999.00, 9,  -999.00, -999.000, 9, -999.000,   -999.0, 9,   -999.0,  -999.00, 9, -999.0000, 9, -999.0000, 9, -999.0000, 9, -999.0000, 9, -999.0000, 9, -999.0000, 9, -999, 9, -999, 9, -999, 9, -999, 9, -999, 9, -999, 9, -999, 9,  -999.00, 9,  -999.00, 9,  -999.00, 9,  -999.00, 9,   1.5866,  -999.00, 9,  810,   20.1735,  -52.3287