BOTTLE,20220816CCHSIOAMB
EXPOCODE,SECT_ID,STNNBR,CASTNO,SAMPNO,BTLNBR,BTLNBR_FLAG_W,DATE,TIME,LATITUDE,LONGITUDE,DEPTH,CTDRAW,CTDPRS,CTDTMP,CTDSAL,CTDSAL_FLAG_W,SALNTY,SALNTY_FLAG_W,CTDOXY,CTDOXY_FLAG_W,OXYGEN,OXYGEN_FLAG_W,SILCAT,SILCAT_FLAG_W,NITRAT,NITRAT_FLAG_W,NITRIT,NITRIT_FLAG_W,PHSPHT,PHSPHT_FLAG_W,CFC-11,CFC-11_FLAG_W,CFC-12,CFC-12_FLAG_W,CFC113,CFC113_FLAG_W,CCL4,CCL4_FLAG_W,TCARBN,TCARBN_FLAG_W,ALKALI,ALKALI_FLAG_W,DOC,DOC_FLAG_W,TDN,TDN_FLAG_W,TRITUM,TRITUM_FLAG_W,TRITER,HELIUM,HELIUM_FLAG_W,HELIER,DELHE3,DELHE3_FLAG_W,DELHER,NEON,NEON_FLAG_W,NEONER,DELC14,DELC14_FLAG_W,C14ERR,DELC13,DELC13_FLAG_W,CDOM325,CDOM325_FLAG_W,CDOM340,CDOM340_FLAG_W,CDOM380,CDOM380_FLAG_W,CDOM412,CDOM412_FLAG_W,CDOMSL,CDOMSL_FLAG_W,CDOMSN,CDOMSN_FLAG_W,DCNS,DCNS_FLAG_W,ARABI,ARABI_FLAG_W,FUCO,FUCO_FLAG_W,GALA,GALA_FLAG_W,GLUC,GLUC_FLAG_W,MAN,MAN_FLAG_W,RHAM,RHAM_FLAG_W,BRDU,BRDU_FLAG_W,PEUK,PEUK_FLAG_W,PROC,PROC_FLAG_W,SYN,SYN_FLAG_W,THETA,BACT,BACT_FLAG_W,BTL_TIME,BTL_LAT,BTL_LON
,,,,,,,,,,,METERS,DBAR,DBAR,ITS-90,PSS-78,,PSS-78,,UMOL/KG,,UMOL/KG,,UMOL/KG,,UMOL/KG,,UMOL/KG,,UMOL/KG,,PMOL/KG,,PMOL/KG,,PMOL/KG,,PMOL/KG,,UMOL/KG,,UMOL/KG,,UMOL/KG,,UMOL/KG,,TU,,TU,NMOL/KG,,NMOL/KG,PERCNT,,PERCNT,NMOL/KG,,NMOL/KG,/MILLE,,/MILLE,/MILLE,,1/M,,1/M,,1/M,,1/M,,1/NM,,1/NM,,NMOL/KG,,NMOL/KG,,NMOL/KG,,NMOL/KG,,NMOL/KG,,NMOL/KG,,NMOL/KG,,PMOL/L/H,,E6/L,,E7/L,,E6/L,,DEG C,E8/L,,,,
316N200309, A20, 68, 1, 36, 36, 2, 20031016, 1341, 8.6253, -52.7320, 4703,     2.80,      2.8,  29.5417,  33.7923, 2,  33.7936, 2,    188.9, 2,    196.2, 2,     6.22, 2,     0.09, 2,     0.00, 2,     0.03, 2,    1.566, 2,    0.985, 2,    0.141, 2, -999.000, 9,   1897.5, 2,   2332.6, 2,    80.00, 2,     5.00, 2, -999.000, 9, -999.000, -999.0000, 9, -999.0000,  -999.00, 9,  -999.00, -999.000, 9, -999.000,   -999.0, 9,   -999.0,  -999.00, 9,    0.4530, 2,    0.3290, 2,    0.1510, 2,    0.0870, 2,    0.0180, 2,    0.0190, 2, 3137, 4, 269, 2, 449, 2, 656, 2, 478, 2, 995, 2, 291, 2,     1.96, 2,     2.10, 2,     8.69, 2,     2.72, 2,  29.5410,     6.69, 2, 1545,    8.6120,  -52.7436
316N200309, A20, 68, 1, 35, 35, 2, 20031016, 1341, 8.6253, -52.7320, 4703,    25.10,     25.1,  29.4132,  34.8169, 2,  34.8047, 2,    189.9, 2,    197.2, 2,     3.35, 2,     0.14, 2,     0.00, 2,     0.04, 2,    1.560, 2,    0.979, 2,    0.135, 2, -999.000, 9,   1947.6, 2,   2291.9, 2,    75.50, 2,     4.20, 2, -999.000, 9, -999.000, -999.0000, 9, -999.0000,  -999.00, 9,  -999.00, -999.000, 9, -999.000,   -999.0, 9,   -999.0,  -999.00, 9,    0.2310, 2,    0.1610, 2,    0.0670, 2,    0.0380, 2,    0.0210, 2,    0.0220, 2, -999, 9, -999, 9, -999, 9, -999, 9, -999, 9, -999, 9, -999, 9,     5.71, 2,     0.70, 2,     6.70, 2,     1.41, 2,  29.4071,     6.02, 2, 1544,    8.6122,  -52.7436
316N200309, A20, 68, 1, 34, 34, 2, 20031016, 1341, 8.6253, -52.7320, 4703,    51.90,     51.9,  27.9340,  36.2228, 2,  36.2182, 2,    192.0, 2,    197.9, 2,     0.61, 2,     0.09, 2,     0.00, 2,     0.07, 2,    1.641, 2,    1.014, 2,    0.129, 2, -999.000, 9,   2028.0, 2,   2372.3, 2,    68.10, 2,     4.90, 2, -999.000, 9, -999.000, -999.0000, 9, -999.0000,  -999.00, 9,  -999.00, -999.000, 9, -999.000,   -999.0, 9,   -999.0,  -999.00, 9,    0.1150, 2,    0.0780, 2,    0.0320, 2,    0.0210, 2,    0.0230, 2,    0.0240, 2, 1295, 4, 68, 2, 178, 2, 296, 2, 278, 2, 344, 2, 131, 2,     3.97, 2,     0.31, 2,     7.04, 2,     2.36, 2,  27.9218,     4.71, 2, 1542,    8.6125,  -52.7435
316N200309, A20, 68, 1, 33, 33, 2, 20031016, 1341, 8.6253, -52.7320, 4703,    75.60,     75.6,  27.5608,  36.2525, 2,  36.2499, 2,    187.8, 2,    192.7, 2,     0.59, 2,     0.13, 2,     0.00, 2,     0.09, 2, -999.000, 1, -999.000, 1, -999.000, 1, -999.000, 9,   2021.1, 2,   2374.8, 2,    67.50, 2,     4.10, 2, -999.000, 9, -999.000, -999.0000, 9, -999.0000,  -999.00, 9,  -999.00, -999.000, 9, -999.000,   -999.0, 9,   -999.0,  -999.00, 9,    0.1130, 2,    0.0800, 2,    0.0360, 2,    0.0260, 2,    0.0200, 2,    0.0210, 2, 1181, 4, 50, 2, 157, 2, 241, 2, 379, 2, 257, 2, 97, 2,     4.21, 2,     1.15, 2,    11.50, 2,     9.04, 2,  27.5431,     3.87, 2, 1539,    8.6128,  -52.7434
316N200309, A20, 68, 1, 32, 32, 2, 20031016, 1341, 8.6253, -52.7320, 4703,    99.60,     99.6,  26.8385,  36.2492, 2,  36.2430, 2,    177.1, 2,    181.7, 2,     0.78, 2,     1.38, 2,     0.04, 2,     0.18, 2,    1.671, 2,    1.038, 2,    0.136, 2, -999.000, 9,   2047.2, 2,   2374.3, 2,    60.70, 2,     5.90, 2, -999.000, 9, -999.000, -999.0000, 9, -999.0000,  -999.00, 9,  -999.00, -999.000, 9, -999.000,   -999.0, 9,   -999.0,  -999.00, 9,    0.1030, 2,    0.0720, 2,    0.0310, 2,    0.0230, 2,    0.0220, 2,    0.0230, 2, 839, 4, 104, 2, 103, 2, 161, 2, 163, 2, 222, 2, 86, 2,     0.44, 2,     0.63, 2,     1.00, 2,     0.05, 2,  26.8156,     1.96, 2, 1537,    8.6131,  -52.7433
316N200309, A20, 68, 1, 31, 31, 2, 20031016, 1341, 8.6253, -52.7320, 4703,   124.90,    124.9,  23.6648,  36.3322, 2,  36.3301, 2,    172.3, 2,    177.1, 2,     1.47, 2,     3.70, 2,     0.03, 2,     0.33, 2,    1.840, 2,    1.108, 2,    0.120, 2, -999.000, 9,   2082.0, 2,   2381.2, 2,    56.50, 2,     8.00, 2, -999.000, 9, -999.000, -999.0000, 9, -999.0000,  -999.00, 9,  -999.00, -999.000, 9, -999.000,   -999.0, 9,   -999.0,  -999.00, 9,    0.0950, 2,    0.0670, 2,    0.0300, 2,    0.0220, 2,    0.0220, 2,    0.0230, 2, -999, 9, -999, 9, -999, 9, -999, 9, -999, 9, -999, 9, -999, 9,     0.08, 2,     0.46, 2,     0.05, 2,     0.06, 2,  23.6386,     1.78, 2, 1536,    8.6133,  -52.7432
316N200309, A20, 68, 1, 30, 30, 2, 20031016, 1341, 8.6253, -52.7320, 4703,   173.80,    173.8,  13.7535,  35.5692, 2,  35.5727, 2,    131.3, 2,    127.6, 2,     7.45, 2,    19.39, 2,     0.01, 2,     1.20, 2,    1.799, 2,    0.972, 2,    0.022, 2, -999.000, 9,   2175.9, 2,   2334.9, 2,    47.70, 2,    23.60, 2, -999.000, 9, -999.000, -999.0000, 9, -999.0000,  -999.00, 9,  -999.00, -999.000, 9, -999.000,   -999.0, 9,   -999.0,  -999.00, 9,    0.1270, 2,    0.0910, 2,    0.0460, 2,    0.0360, 2,    0.0140, 2,    0.0170, 2, 655, 4, 72, 2, 57, 2, 86, 2, 283, 2, 106, 2, 52, 2,     0.24, 2,  -999.00, 9,  -999.00, 9,  -999.00, 9,  13.7286,  -999.00, 9, 1533,    8.6137,  -52.7430
316N200309, A20, 68, 1, 29, 29, 2, 20031016, 1341, 8.6253, -52.7320, 4703,   225.40,    225.4,  10.9581,  35.1141, 2,  35.1161, 2,    125.9, 2,    127.6, 2,    10.50, 2,    23.65, 2,     0.00, 2,     1.51, 2, -999.000, 9, -999.000, 9, -999.000, 9, -999.000, 9,   2187.8, 2,   2314.6, 2,    44.90, 2,    29.20, 3, -999.000, 9, -999.000, -999.0000, 9, -999.0000,  -999.00, 9,  -999.00, -999.000, 9, -999.000,   -999.0, 9,   -999.0,  -999.00, 9,    0.1270, 2,    0.0900, 2,    0.0470, 2,    0.0380, 2,    0.0130, 2,    0.0160, 2, -999, 9, -999, 9, -999, 9, -999, 9, -999, 9, -999, 9, -999, 9,     0.04, 2,  -999.00, 9,  -999.00, 9,  -999.00, 9,  10.9303,  -999.00, 9, 1531,    8.6140,  -52.7429
316N200309, A20, 68, 1, 28, 28, 2, 20031016, 1341, 8.6253, -52.7320, 4703,   272.60,    272.6,   9.8154,  34.9503, 2,  34.9508, 2,    122.9, 2,    125.8, 2,    12.54, 2,    26.19, 2,     0.00, 2,     1.68, 2,    1.332, 2,    0.706, 2,    0.022, 2, -999.000, 9,   2193.2, 2,   2306.4, 2,    43.70, 2,    31.50, 3, -999.000, 9, -999.000, -999.0000, 9, -999.0000,  -999.00, 9,  -999.00, -999.000, 9, -999.000,   -999.0, 9,   -999.0,  -999.00, 9,    0.1330, 2,    0.0950, 2,    0.0510, 2,    0.0420, 2,    0.0120, 2,    0.0150, 2, 460, 4, 25, 2, 44, 2, 69, 2, 216, 2, 74, 2, 32, 2,  -999.00, 9,  -999.00, 9,  -999.00, 9,  -999.00, 9,   9.7840,  -999.00, 9, 1528,    8.6144,  -52.7426
316N200309, A20, 68, 1, 27, 27, 2, 20031016, 1341, 8.6253, -52.7320, 4703,   349.70,    349.7,   8.6957,  34.8119, 2,  34.8111, 2,    119.2, 2,    120.4, 2,    15.08, 2,    29.15, 2,     0.00, 2,     1.87, 2,    0.994, 2,    0.517, 2,    0.023, 2, -999.000, 9,   2203.3, 2,   2302.0, 2,    41.80, 2,  -999.00, 9, -999.000, 9, -999.000, -999.0000, 9, -999.0000,  -999.00, 9,  -999.00, -999.000, 9, -999.000,   -999.0, 9,   -999.0,  -999.00, 9,    0.1310, 2,    0.0940, 2,    0.0510, 2,    0.0420, 2,    0.0120, 2,    0.0140, 2, -999, 9, -999, 9, -999, 9, -999, 9, -999, 9, -999, 9, -999, 9,  -999.00, 9,  -999.00, 9,  -999.00, 9,  -999.00, 9,   8.6582,  -999.00, 9, 1526,    8.6147,  -52.7424
316N200309, A20, 68, 1, 26, 26, 2, 20031016, 1341, 8.6253, -52.7320, 4703,   450.80,    450.8,   7.6464,  34.7197, 2,  34.7193, 2,    115.2, 2,    117.4, 2,    18.24, 2,    31.86, 2,     0.00, 2,     2.03, 2,    0.636, 2,    0.329, 2,    0.009, 2, -999.000, 9,   2212.6, 2,   2298.2, 2,    41.50, 2,  -999.00, 9, -999.000, 9, -999.000, -999.0000, 9, -999.0000,  -999.00, 9,  -999.00, -999.000, 9, -999.000,   -999.0, 9,   -999.0,  -999.00, 9,    0.1340, 2,    0.0960, 2,    0.0530, 2,    0.0430, 2,    0.0120, 2,    0.0140, 2, 338, 4, 25, 2, 35, 2, 48, 2, 143, 2, 59, 2, 27, 2,  -999.00, 9,  -999.00, 9,  -999.00, 9,  -999.00, 9,   7.6014,  -999.00, 9, 1523,    8.6151,  -52.7422
316N200309, A20, 68, 1, 25, 25, 2, 20031016, 1341, 8.6253, -52.7320, 4703,   551.50,    551.5,   6.7993,  34.6568, 2,  34.6547, 2,    118.0, 2,    118.0, 2,    21.22, 2,    33.46, 2,     0.00, 2,     2.16, 2,    0.380, 2,    0.203, 2,    0.014, 2, -999.000, 9,   2218.4, 2,   2298.2, 2,    43.90, 2,  -999.00, 9, -999.000, 9, -999.000, -999.0000, 9, -999.0000,  -999.00, 9,  -999.00, -999.000, 9, -999.000,   -999.0, 9,   -999.0,  -999.00, 9,    0.1340, 2,    0.0950, 2,    0.0520, 2,    0.0430, 2,    0.0120, 2,    0.0150, 2, -999, 9, -999, 9, -999, 9, -999, 9, -999, 9, -999, 9, -999, 9,  -999.00, 9,  -999.00, 9,  -999.00, 9,  -999.00, 9,   6.7474,  -999.00, 9, 1520,    8.6153,  -52.7419
316N200309, A20, 68, 1, 24, 24, 2, 20031016, 1341, 8.6253, -52.7320, 4703,   651.90,    651.9,   5.9328,  34.6024, 2,  34.6056, 2,    124.4, 2,    126.7, 2,    24.61, 2,    34.17, 2,     0.00, 2,     2.23, 2,    0.232, 2,    0.126, 2,    0.006, 2, -999.000, 9,   2221.2, 2,   2298.4, 2,    39.80, 2,  -999.00, 9, -999.000, 9, -999.000, -999.0000, 9, -999.0000,  -999.00, 9,  -999.00, -999.000, 9, -999.000,   -999.0, 9,   -999.0,  -999.00, 9,    0.1360, 2,    0.0960, 2,    0.0530, 2,    0.0450, 2,    0.0110, 2,    0.0140, 2, -999, 9, -999, 9, -999, 9, -999, 9, -999, 9, -999, 9, -999, 9,  -999.00, 9,  -999.00, 9,  -999.00, 9,  -999.00, 9,   5.8754,  -999.00, 9, 1518,    8.6156,  -52.7417
316N200309, A20, 68, 1, 23, 23, 2, 20031016, 1341, 8.6253, -52.7320, 4703,   751.10,    751.1,   5.3959,  34.6025, 2,  34.6038, 2,    131.9, 2,    131.8, 2,    26.97, 2,    34.22, 2,     0.00, 2,     2.27, 2,    0.110, 6,    0.062, 6,    0.002, 2,    0.204, 2,   2222.0, 2,   2301.1, 2,    39.50, 2,  -999.00, 9, -999.000, 9, -999.000, -999.0000, 9, -999.0000,  -999.00, 9,  -999.00, -999.000, 9, -999.000,   -999.0, 9,   -999.0,  -999.00, 9,    0.1400, 2,    0.1000, 2,    0.0550, 2,    0.0440, 2,    0.0120, 2,    0.0140, 2, -999, 9, -999, 9, -999, 9, -999, 9, -999, 9, -999, 9, -999, 9,  -999.00, 9,  -999.00, 9,  -999.00, 9,  -999.00, 9,   5.3323,  -999.00, 9, 1514,    8.6159,  -52.7414
316N200309, A20, 68, 1, 22, 22, 2, 20031016, 1341, 8.6253, -52.7320, 4703,   854.80,    854.8,   4.9727,  34.6111, 2,  34.6095, 2,    144.2, 2,    142.3, 2,    28.60, 2,    33.67, 2,     0.00, 2,     2.24, 2,    0.027, 2,    0.023, 2,    0.001, 2, -999.000, 9,   -999.0, 9,   -999.0, 9,    41.10, 2,  -999.00, 9, -999.000, 9, -999.000, -999.0000, 9, -999.0000,  -999.00, 9,  -999.00, -999.000, 9, -999.000,   -999.0, 9,   -999.0,  -999.00, 9,    0.1400, 2,    0.0980, 2,    0.0530, 2,    0.0440, 2,    0.0120, 2,    0.0150, 2, -999, 9, -999, 9, -999, 9, -999, 9, -999, 9, -999, 9, -999, 9,  -999.00, 9,  -999.00, 9,  -999.00, 9,  -999.00, 9,   4.9024,  -999.00, 9, 1511,    8.6162,  -52.7411
316N200309, A20, 68, 1, 21, 21, 2, 20031016, 1341, 8.6253, -52.7320, 4703,   976.90,    976.9,   4.7196,  34.6563, 2,  34.6565, 2,    151.3, 2,    151.4, 2,    28.80, 2,    32.54, 2,     0.00, 2,     2.18, 2,    0.067, 2,    0.041, 2,    0.002, 2, -999.000, 9,   2219.3, 2,   2306.7, 2,    40.10, 2,  -999.00, 9, -999.000, 9, -999.000, -999.0000, 9, -999.0000,  -999.00, 9,  -999.00, -999.000, 9, -999.000,   -999.0, 9,   -999.0,  -999.00, 9,    0.1560, 2,    0.1100, 2,    0.0590, 2,    0.0490, 2,    0.0120, 2,    0.0150, 2, 465, 4, 82, 4, 34, 2, 53, 2, 187, 4, 80, 2, 29, 2,  -999.00, 9,  -999.00, 9,  -999.00, 9,  -999.00, 9,   4.6402,  -999.00, 9, 1507,    8.6166,  -52.7407
316N200309, A20, 68, 1, 20, 20, 2, 20031016, 1341, 8.6253, -52.7320, 4703,  1126.30,   1126.3,   4.8083,  34.7877, 2,  34.7866, 2,    163.8, 2,    166.0, 2,    25.38, 2,    29.37, 2,     0.00, 2,     1.95, 2,    0.051, 2,    0.034, 2,    0.004, 2, -999.000, 9,   -999.0, 9,   -999.0, 9,  -999.00, 9,  -999.00, 9, -999.000, 9, -999.000, -999.0000, 9, -999.0000,  -999.00, 9,  -999.00, -999.000, 9, -999.000,   -999.0, 9,   -999.0,  -999.00, 9, -999.0000, 9, -999.0000, 9, -999.0000, 9, -999.0000, 9, -999.0000, 9, -999.0000, 9, -999, 9, -999, 9, -999, 9, -999, 9, -999, 9, -999, 9, -999, 9,  -999.00, 9,  -999.00, 9,  -999.00, 9,  -999.00, 9,   4.7146,  -999.00, 9, 1503,    8.6171,  -52.7405
316N200309, A20, 68, 1, 19, 19, 2, 20031016, 1341, 8.6253, -52.7320, 4703,  1276.60,   1276.6,   4.7757,  34.8801, 2,  34.8796, 2,    183.4, 2,    185.9, 2,    22.27, 2,    26.41, 2,     0.00, 2,     1.75, 2,    0.097, 2,    0.056, 2,    0.005, 2, -999.000, 9,   2196.5, 2,   2312.7, 2,    41.30, 2,  -999.00, 9, -999.000, 9, -999.000, -999.0000, 9, -999.0000,  -999.00, 9,  -999.00, -999.000, 9, -999.000,   -999.0, 9,   -999.0,  -999.00, 9,    0.1340, 2,    0.0940, 2,    0.0470, 2,    0.0370, 2,    0.0140, 2,    0.0170, 2, -999, 9, -999, 9, -999, 9, -999, 9, -999, 9, -999, 9, -999, 9,  -999.00, 9,  -999.00, 9,  -999.00, 9,  -999.00, 9,   4.6682,  -999.00, 9, 1459,    8.6176,  -52.7402
316N200309, A20, 68, 1, 18, 18, 2, 20031016, 1341, 8.6253, -52.7320, 4703,  1402.10,   1402.1,   4.9273,  34.9832, 2,  34.9831, 2,    206.5, 2,    209.5, 2,    17.72, 2,    22.69, 2,     0.00, 2,     1.48, 2,    0.345, 6,    0.176, 6,    0.014, 6, -999.000, 9,   -999.0, 9,   -999.0, 9,  -999.00, 9,  -999.00, 9, -999.000, 9, -999.000, -999.0000, 9, -999.0000,  -999.00, 9,  -999.00, -999.000, 9, -999.000,   -999.0, 9,   -999.0,  -999.00, 9, -999.0000, 9, -999.0000, 9, -999.0000, 9, -999.0000, 9, -999.0000, 9, -999.0000, 9, -999, 9, -999, 9, -999, 9, -999, 9, -999, 9, -999, 9, -999, 9,  -999.00, 9,  -999.00, 9,  -999.00, 9,  -999.00, 9,   4.8062,  -999.00, 9, 1456,    8.6181,  -52.7400
316N200309, A20, 68, 1, 17, 17, 2, 20031016, 1341, 8.6253, -52.7320, 4703,  1525.00,   1525.0,   4.4633,  35.0092, 2,  35.0112, 2,    239.6, 2,    241.3, 2,    14.22, 2,    19.39, 2,     0.00, 2,     1.25, 2,    0.715, 2,    0.357, 2,    0.022, 2, -999.000, 9,   2168.0, 2,   2313.7, 2,    42.80, 2,  -999.00, 9, -999.000, 9, -999.000, -999.0000, 9, -999.0000,  -999.00, 9,  -999.00, -999.000, 9, -999.000,   -999.0, 9,   -999.0,  -999.00, 9,    0.1270, 2,    0.0890, 2,    0.0420, 2,    0.0320, 2,    0.0160, 2,    0.0190, 2, -999, 9, -999, 9, -999, 9, -999, 9, -999, 9, -999, 9, -999, 9,  -999.00, 9,  -999.00, 9,  -999.00, 9,  -999.00, 9,   4.3354,  -999.00, 9, 1452,    8.6185,  -52.7397
316N200309, A20, 68, 1, 16, 16, 2, 20031016, 1341, 8.6253, -52.7320, 4703,  1675.30,   1675.3,   4.0928,  34.9930, 2,  34.9947, 2,    254.4, 2,    253.1, 2,    13.70, 2,    18.57, 2,     0.00, 2,     1.20, 2,    0.830, 2,    0.408, 2,    0.037, 2, -999.000, 9,   -999.0, 9,   -999.0, 9,  -999.00, 9,  -999.00, 9, -999.000, 9, -999.000, -999.0000, 9, -999.0000,  -999.00, 9,  -999.00, -999.000, 9, -999.000,   -999.0, 9,   -999.0,  -999.00, 9, -999.0000, 9, -999.0000, 9, -999.0000, 9, -999.0000, 9, -999.0000, 9, -999.0000, 9, -999, 9, -999, 9, -999, 9, -999, 9, -999, 9, -999, 9, -999, 9,  -999.00, 9,  -999.00, 9,  -999.00, 9,  -999.00, 9,   3.9552,  -999.00, 9, 1449,    8.6189,  -52.7394
316N200309, A20, 68, 1, 15, 15, 2, 20031016, 1341, 8.6253, -52.7320, 4703,  1825.60,   1825.6,   3.8538,  34.9820, 2,  34.9831, 2,    260.0, 2,    258.3, 2,    14.09, 2,    18.30, 2,     0.00, 2,     1.19, 2,    0.790, 2,    0.395, 2,    0.034, 2, -999.000, 9,   -999.0, 9,   -999.0, 9,  -999.00, 9,  -999.00, 9, -999.000, 9, -999.000, -999.0000, 9, -999.0000,  -999.00, 9,  -999.00, -999.000, 9, -999.000,   -999.0, 9,   -999.0,  -999.00, 9, -999.0000, 9, -999.0000, 9, -999.0000, 9, -999.0000, 9, -999.0000, 9, -999.0000, 9, -999, 9, -999, 9, -999, 9, -999, 9, -999, 9, -999, 9, -999, 9,  -999.00, 9,  -999.00, 9,  -999.00, 9,  -999.00, 9,   3.7051,  -999.00, 9, 1446,    8.6194,  -52.7392
316N200309, A20, 68, 1, 14, 14, 2, 20031016, 1341, 8.6253, -52.7320, 4703,  1974.20,   1974.2,   3.6452,  34.9746, 2,  34.9746, 2,    261.9, 2,    260.2, 2,    15.10, 2,    18.26, 2,     0.00, 2,     1.18, 2,    0.688, 2,    0.342, 2,    0.033, 2, -999.000, 9,   2161.7, 2,   2312.7, 2,    41.30, 2,  -999.00, 9, -999.000, 9, -999.000, -999.0000, 9, -999.0000,  -999.00, 9,  -999.00, -999.000, 9, -999.000,   -999.0, 9,   -999.0,  -999.00, 9,    0.1230, 2,    0.0860, 2,    0.0390, 2,    0.0280, 2,    0.0190, 2,    0.0210, 2, -999, 9, -999, 9, -999, 9, -999, 9, -999, 9, -999, 9, -999, 9,  -999.00, 9,  -999.00, 9,  -999.00, 9,  -999.00, 9,   3.4853,  -999.00, 9, 1442,    8.6199,  -52.7388
316N200309, A20, 68, 1, 13, 13, 2, 20031016, 1341, 8.6253, -52.7320, 4703,  2125.20,   2125.2,   3.5744,  34.9718, 2,  34.9709, 2,    262.4, 2,    260.6, 2,    15.60, 2,    18.21, 2,     0.00, 2,     1.18, 2,    0.642, 2,    0.316, 2,    0.026, 2, -999.000, 9,   -999.0, 9,   -999.0, 9,  -999.00, 9,  -999.00, 9, -999.000, 9, -999.000, -999.0000, 9, -999.0000,  -999.00, 9,  -999.00, -999.000, 9, -999.000,   -999.0, 9,   -999.0,  -999.00, 9, -999.0000, 9, -999.0000, 9, -999.0000, 9, -999.0000, 9, -999.0000, 9, -999.0000, 9, -999, 9, -999, 9, -999, 9, -999, 9, -999, 9, -999, 9, -999, 9,  -999.00, 9,  -999.00, 9,  -999.00, 9,  -999.00, 9,   3.4011,  -999.00, 9, 1439,    8.6203,  -52.7385
316N200309, A20, 68, 1, 12, 12, 2, 20031016, 1341, 8.6253, -52.7320, 4703,  2374.90,   2374.9,   3.3991,  34.9659, 2,  34.9648, 2,    262.1, 2,    260.4, 2,    17.33, 2,    18.31, 2,     0.00, 2,     1.20, 2,    0.474, 2,    0.241, 2,    0.022, 2, -999.000, 9,   -999.0, 9,   -999.0, 9,  -999.00, 9,  -999.00, 9, -999.000, 9, -999.000, -999.0000, 9, -999.0000,  -999.00, 9,  -999.00, -999.000, 9, -999.000,   -999.0, 9,   -999.0,  -999.00, 9, -999.0000, 9, -999.0000, 9, -999.0000, 9, -999.0000, 9, -999.0000, 9, -999.0000, 9, -999, 9, -999, 9, -999, 9, -999, 9, -999, 9, -999, 9, -999, 9,  -999.00, 9,  -999.00, 9,  -999.00, 9,  -999.00, 9,   3.2043,  -999.00, 9, 1434,    8.6207,  -52.7377
316N200309, A20, 68, 1, 11, 11, 2, 20031016, 1341, 8.6253, -52.7320, 4703,  2621.90,   2621.9,   3.1053,  34.9522, 2,  34.9506, 2,    261.5, 2,    260.6, 2,    20.30, 2,    18.54, 2,     0.00, 2,     1.22, 2,    0.320, 2,    0.159, 2,    0.020, 2, -999.000, 9,   2165.1, 2,   2318.4, 2,    41.60, 2,  -999.00, 9, -999.000, 9, -999.000, -999.0000, 9, -999.0000,  -999.00, 9,  -999.00, -999.000, 9, -999.000,   -999.0, 9,   -999.0,  -999.00, 9,    0.1220, 2,    0.0850, 2,    0.0400, 2,    0.0300, 2,    0.0170, 2,    0.0190, 2, -999, 9, -999, 9, -999, 9, -999, 9, -999, 9, -999, 9, -999, 9,  -999.00, 9,  -999.00, 9,  -999.00, 9,  -999.00, 9,   2.8912,  -999.00, 9, 1429,    8.6210,  -52.7364
316N200309, A20, 68, 1, 10, 10, 2, 20031016, 1341, 8.6253, -52.7320, 4703,  2874.60,   2874.6,   2.9047,  34.9398, 2,  34.9384, 2,    259.5, 2,    259.2, 2,    23.90, 2,    18.95, 2,     0.00, 2,     1.26, 2,    0.205, 2,    0.111, 2,    0.007, 2, -999.000, 9,   -999.0, 9,   -999.0, 1,  -999.00, 9,  -999.00, 9, -999.000, 9, -999.000, -999.0000, 9, -999.0000,  -999.00, 9,  -999.00, -999.000, 9, -999.000,   -999.0, 9,   -999.0,  -999.00, 9, -999.0000, 9, -999.0000, 9, -999.0000, 9, -999.0000, 9, -999.0000, 9, -999.0000, 9, -999, 9, -999, 9, -999, 9, -999, 9, -999, 9, -999, 9, -999, 9,  -999.00, 9,  -999.00, 9,  -999.00, 9,  -999.00, 9,   2.6690,  -999.00, 9, 1424,    8.6213,  -52.7352