BOTTLE,20220816CCHSIOAMB
EXPOCODE,SECT_ID,STNNBR,CASTNO,SAMPNO,BTLNBR,BTLNBR_FLAG_W,DATE,TIME,LATITUDE,LONGITUDE,DEPTH,CTDRAW,CTDPRS,CTDTMP,CTDSAL,CTDSAL_FLAG_W,SALNTY,SALNTY_FLAG_W,CTDOXY,CTDOXY_FLAG_W,OXYGEN,OXYGEN_FLAG_W,SILCAT,SILCAT_FLAG_W,NITRAT,NITRAT_FLAG_W,NITRIT,NITRIT_FLAG_W,PHSPHT,PHSPHT_FLAG_W,CFC-11,CFC-11_FLAG_W,CFC-12,CFC-12_FLAG_W,CFC113,CFC113_FLAG_W,CCL4,CCL4_FLAG_W,TCARBN,TCARBN_FLAG_W,ALKALI,ALKALI_FLAG_W,DOC,DOC_FLAG_W,TDN,TDN_FLAG_W,TRITUM,TRITUM_FLAG_W,TRITER,HELIUM,HELIUM_FLAG_W,HELIER,DELHE3,DELHE3_FLAG_W,DELHER,NEON,NEON_FLAG_W,NEONER,DELC14,DELC14_FLAG_W,C14ERR,DELC13,DELC13_FLAG_W,CDOM325,CDOM325_FLAG_W,CDOM340,CDOM340_FLAG_W,CDOM380,CDOM380_FLAG_W,CDOM412,CDOM412_FLAG_W,CDOMSL,CDOMSL_FLAG_W,CDOMSN,CDOMSN_FLAG_W,DCNS,DCNS_FLAG_W,ARABI,ARABI_FLAG_W,FUCO,FUCO_FLAG_W,GALA,GALA_FLAG_W,GLUC,GLUC_FLAG_W,MAN,MAN_FLAG_W,RHAM,RHAM_FLAG_W,BRDU,BRDU_FLAG_W,PEUK,PEUK_FLAG_W,PROC,PROC_FLAG_W,SYN,SYN_FLAG_W,THETA,BACT,BACT_FLAG_W,BTL_TIME,BTL_LAT,BTL_LON
,,,,,,,,,,,METERS,DBAR,DBAR,ITS-90,PSS-78,,PSS-78,,UMOL/KG,,UMOL/KG,,UMOL/KG,,UMOL/KG,,UMOL/KG,,UMOL/KG,,PMOL/KG,,PMOL/KG,,PMOL/KG,,PMOL/KG,,UMOL/KG,,UMOL/KG,,UMOL/KG,,UMOL/KG,,TU,,TU,NMOL/KG,,NMOL/KG,PERCNT,,PERCNT,NMOL/KG,,NMOL/KG,/MILLE,,/MILLE,/MILLE,,1/M,,1/M,,1/M,,1/M,,1/NM,,1/NM,,NMOL/KG,,NMOL/KG,,NMOL/KG,,NMOL/KG,,NMOL/KG,,NMOL/KG,,NMOL/KG,,PMOL/L/H,,E6/L,,E7/L,,E6/L,,DEG C,E8/L,,,,
316N200309, A20, 59, 1, 36, 36, 2, 20031014, 0750, 11.5210, -52.3488, 4987,     3.30,      3.3,  29.1638,  34.7105, 2,  34.7105, 2,    188.0, 2,    193.9, 2,     3.83, 2,     0.16, 2,     0.00, 2,     0.01, 2,    1.545, 6,    0.961, 6,    0.109, 6,    1.663, 6,   1932.4, 2,   2285.6, 2,  -999.00, 9,  -999.00, 9, -999.000, 9, -999.000, -999.0000, 9, -999.0000,  -999.00, 9,  -999.00, -999.000, 9, -999.000,   -999.0, 9,   -999.0,  -999.00, 9, -999.0000, 9, -999.0000, 9, -999.0000, 9, -999.0000, 9, -999.0000, 9, -999.0000, 9, -999, 9, -999, 9, -999, 9, -999, 9, -999, 9, -999, 9, -999, 9,  -999.00, 9,  -999.00, 9,  -999.00, 9,  -999.00, 9,  29.1630,  -999.00, 9,  950,   11.5298,  -52.3647
316N200309, A20, 59, 1, 35, 35, 2, 20031014, 0750, 11.5210, -52.3488, 4987,    26.30,     26.3,  29.4410,  36.1512, 2,  36.1506, 2,    190.2, 2,    197.1, 2,     0.72, 2,     0.20, 2,     0.00, 2,     0.01, 2,    1.542, 2,    0.974, 2,    0.090, 2,    1.559, 2,   -999.0, 9,   -999.0, 9,  -999.00, 9,  -999.00, 9, -999.000, 9, -999.000, -999.0000, 9, -999.0000,  -999.00, 9,  -999.00, -999.000, 9, -999.000,   -999.0, 9,   -999.0,  -999.00, 9, -999.0000, 9, -999.0000, 9, -999.0000, 9, -999.0000, 9, -999.0000, 9, -999.0000, 9, -999, 9, -999, 9, -999, 9, -999, 9, -999, 9, -999, 9, -999, 9,  -999.00, 9,  -999.00, 9,  -999.00, 9,  -999.00, 9,  29.4345,  -999.00, 9,  949,   11.5297,  -52.3645
316N200309, A20, 59, 1, 34, 34, 2, 20031014, 0750, 11.5210, -52.3488, 4987,    51.20,     51.2,  27.0585,  36.6333, 2,  36.6191, 2,    196.0, 2,    204.5, 2,     0.93, 2,     0.15, 2,     0.00, 2,     0.01, 2,    1.715, 2,    1.059, 2,    0.110, 2,    1.095, 2,   2029.8, 2,   2395.3, 2,  -999.00, 9,  -999.00, 9, -999.000, 9, -999.000, -999.0000, 9, -999.0000,  -999.00, 9,  -999.00, -999.000, 9, -999.000,   -999.0, 9,   -999.0,  -999.00, 9, -999.0000, 9, -999.0000, 9, -999.0000, 9, -999.0000, 9, -999.0000, 9, -999.0000, 9, -999, 9, -999, 9, -999, 9, -999, 9, -999, 9, -999, 9, -999, 9,  -999.00, 9,  -999.00, 9,  -999.00, 9,  -999.00, 9,  27.0467,  -999.00, 9,  948,   11.5295,  -52.3644
316N200309, A20, 59, 1, 33, 33, 2, 20031014, 0750, 11.5210, -52.3488, 4987,    75.70,     75.7,  25.5934,  37.0218, 2,  37.0166, 2,    196.5, 2,    204.2, 2,     0.52, 2,     0.14, 2,     0.00, 2,     0.01, 2,    1.806, 2,    1.115, 2,    0.120, 2,    0.813, 2,   -999.0, 9,   -999.0, 9,  -999.00, 9,  -999.00, 9, -999.000, 9, -999.000, -999.0000, 9, -999.0000,  -999.00, 9,  -999.00, -999.000, 9, -999.000,   -999.0, 9,   -999.0,  -999.00, 9, -999.0000, 9, -999.0000, 9, -999.0000, 9, -999.0000, 9, -999.0000, 9, -999.0000, 9, -999, 9, -999, 9, -999, 9, -999, 9, -999, 9, -999, 9, -999, 9,  -999.00, 9,  -999.00, 9,  -999.00, 9,  -999.00, 9,  25.5766,  -999.00, 9,  947,   11.5294,  -52.3642
316N200309, A20, 59, 1, 32, 32, 2, 20031014, 0750, 11.5210, -52.3488, 4987,   100.40,    100.4,  23.7233,  37.1081, 2,  37.1030, 2,    170.9, 2,    176.7, 2,     0.52, 2,     1.29, 2,     0.12, 2,     0.07, 2,    1.911, 2,    1.194, 2,    0.120, 2,    0.650, 2,   2110.3, 2,   2422.8, 2,  -999.00, 9,  -999.00, 9, -999.000, 9, -999.000, -999.0000, 9, -999.0000,  -999.00, 9,  -999.00, -999.000, 9, -999.000,   -999.0, 9,   -999.0,  -999.00, 9, -999.0000, 9, -999.0000, 9, -999.0000, 9, -999.0000, 9, -999.0000, 9, -999.0000, 9, -999, 9, -999, 9, -999, 9, -999, 9, -999, 9, -999, 9, -999, 9,  -999.00, 9,  -999.00, 9,  -999.00, 9,  -999.00, 9,  23.7021,  -999.00, 9,  946,   11.5292,  -52.3641
316N200309, A20, 59, 1, 31, 31, 2, 20031014, 0750, 11.5210, -52.3488, 4987,   125.40,    125.4,  19.9282,  36.5344, 2,  36.5289, 2,    137.6, 2,    136.0, 2,     2.59, 2,     9.26, 2,     0.03, 2,     0.55, 2,    1.924, 2,    1.135, 2,    0.063, 2,    0.455, 2,   -999.0, 9,   -999.0, 9,  -999.00, 9,  -999.00, 9, -999.000, 9, -999.000, -999.0000, 9, -999.0000,  -999.00, 9,  -999.00, -999.000, 9, -999.000,   -999.0, 9,   -999.0,  -999.00, 9, -999.0000, 9, -999.0000, 9, -999.0000, 9, -999.0000, 9, -999.0000, 9, -999.0000, 9, -999, 9, -999, 9, -999, 9, -999, 9, -999, 9, -999, 9, -999, 9,  -999.00, 9,  -999.00, 9,  -999.00, 9,  -999.00, 9,  19.9049,  -999.00, 9,  944,   11.5290,  -52.3639
316N200309, A20, 59, 1, 30, 30, 2, 20031014, 0750, 11.5210, -52.3488, 4987,   150.00,    150.0,  17.5179,  36.2815, 2,  36.3071, 2,    127.0, 2,    127.8, 2,     3.62, 2,    13.20, 2,     0.01, 2,     0.76, 2,    1.962, 2,    1.171, 2,    0.027, 2,    0.292, 2,   2166.6, 2,   2369.4, 2,  -999.00, 9,  -999.00, 9, -999.000, 9, -999.000, -999.0000, 9, -999.0000,  -999.00, 9,  -999.00, -999.000, 9, -999.000,   -999.0, 9,   -999.0,  -999.00, 9, -999.0000, 9, -999.0000, 9, -999.0000, 9, -999.0000, 9, -999.0000, 9, -999.0000, 9, -999, 9, -999, 9, -999, 9, -999, 9, -999, 9, -999, 9, -999, 9,  -999.00, 9,  -999.00, 9,  -999.00, 9,  -999.00, 9,  17.4925,  -999.00, 9,  943,   11.5289,  -52.3638
316N200309, A20, 59, 1, 29, 29, 2, 20031014, 0750, 11.5210, -52.3488, 4987,   199.40,    199.4,  14.1049,  35.7385, 2,  35.7371, 2,    109.8, 2,    112.6, 2,     7.03, 2,    20.00, 2,     0.01, 2,     1.21, 2,    1.674, 2,    0.928, 2,    0.013, 2,    0.254, 2,   -999.0, 9,   -999.0, 9,  -999.00, 9,  -999.00, 9, -999.000, 9, -999.000, -999.0000, 9, -999.0000,  -999.00, 9,  -999.00, -999.000, 9, -999.000,   -999.0, 9,   -999.0,  -999.00, 9, -999.0000, 9, -999.0000, 9, -999.0000, 9, -999.0000, 9, -999.0000, 9, -999.0000, 9, -999, 9, -999, 9, -999, 9, -999, 9, -999, 9, -999, 9, -999, 9,  -999.00, 9,  -999.00, 9,  -999.00, 9,  -999.00, 9,  14.0757,  -999.00, 9,  942,   11.5287,  -52.3636
316N200309, A20, 59, 1, 28, 28, 2, 20031014, 0750, 11.5210, -52.3488, 4987,   252.20,    252.2,  11.6446,  35.3111, 2,  35.3088, 2,     98.6, 2,    101.1, 2,    10.14, 2,    25.17, 2,     0.01, 2,     1.57, 2,    1.308, 2,    0.726, 2,    0.008, 2,    0.238, 2,   2199.8, 2,   2318.0, 2,  -999.00, 9,  -999.00, 9, -999.000, 9, -999.000, -999.0000, 9, -999.0000,  -999.00, 9,  -999.00, -999.000, 9, -999.000,   -999.0, 9,   -999.0,  -999.00, 9, -999.0000, 9, -999.0000, 9, -999.0000, 9, -999.0000, 9, -999.0000, 9, -999.0000, 9, -999, 9, -999, 9, -999, 9, -999, 9, -999, 9, -999, 9, -999, 9,  -999.00, 9,  -999.00, 9,  -999.00, 9,  -999.00, 9,  11.6122,  -999.00, 9,  940,   11.5285,  -52.3634
316N200309, A20, 59, 1, 27, 27, 2, 20031014, 0750, 11.5210, -52.3488, 4987,   299.70,    299.7,  10.7744,  35.1670, 2,  35.1677, 2,    100.8, 2,     98.6, 2,    11.59, 2,    26.94, 2,     0.01, 2,     1.69, 2,    1.112, 2,    0.597, 2,    0.013, 2,    0.268, 2,   -999.0, 9,   -999.0, 9,  -999.00, 9,  -999.00, 9, -999.000, 9, -999.000, -999.0000, 9, -999.0000,  -999.00, 9,  -999.00, -999.000, 9, -999.000,   -999.0, 9,   -999.0,  -999.00, 9, -999.0000, 9, -999.0000, 9, -999.0000, 9, -999.0000, 9, -999.0000, 9, -999.0000, 9, -999, 9, -999, 9, -999, 9, -999, 9, -999, 9, -999, 9, -999, 9,  -999.00, 9,  -999.00, 9,  -999.00, 9,  -999.00, 9,  10.7377,  -999.00, 9,  938,   11.5282,  -52.3633
316N200309, A20, 59, 1, 26, 26, 2, 20031014, 0750, 11.5210, -52.3488, 4987,   399.70,    399.7,   9.3615,  35.0026, 2,  35.0037, 2,    104.7, 2,    108.0, 2,    14.49, 2,    28.78, 2,     0.00, 2,     1.83, 2,    0.811, 2,    0.453, 2,    0.004, 2,    0.348, 2,   -999.0, 9,   -999.0, 9,  -999.00, 9,  -999.00, 9, -999.000, 9, -999.000, -999.0000, 9, -999.0000,  -999.00, 9,  -999.00, -999.000, 9, -999.000,   -999.0, 9,   -999.0,  -999.00, 9, -999.0000, 9, -999.0000, 9, -999.0000, 9, -999.0000, 9, -999.0000, 9, -999.0000, 9, -999, 9, -999, 9, -999, 9, -999, 9, -999, 9, -999, 9, -999, 9,  -999.00, 9,  -999.00, 9,  -999.00, 9,  -999.00, 9,   9.3165,  -999.00, 9,  935,   11.5280,  -52.3630
316N200309, A20, 59, 1, 25, 25, 2, 20031014, 0750, 11.5210, -52.3488, 4987,   501.00,    501.0,   8.4029,  34.8883, 2,  34.8888, 2,    109.6, 2,    110.7, 2,    16.97, 2,    30.51, 2,     0.00, 2,     1.95, 2,    0.610, 2,    0.320, 2,    0.001, 2,    0.307, 2,   -999.0, 9,   -999.0, 9,  -999.00, 9,  -999.00, 9, -999.000, 9, -999.000, -999.0000, 9, -999.0000,  -999.00, 9,  -999.00, -999.000, 9, -999.000,   -999.0, 9,   -999.0,  -999.00, 9, -999.0000, 9, -999.0000, 9, -999.0000, 9, -999.0000, 9, -999.0000, 9, -999.0000, 9, -999, 9, -999, 9, -999, 9, -999, 9, -999, 9, -999, 9, -999, 9,  -999.00, 9,  -999.00, 9,  -999.00, 9,  -999.00, 9,   8.3498,  -999.00, 9,  933,   11.5277,  -52.3628
316N200309, A20, 59, 1, 24, 24, 2, 20031014, 0750, 11.5210, -52.3488, 4987,   626.70,    626.7,   7.1406,  34.7572, 2,  34.7581, 2,    115.0, 2,    116.0, 2,    20.90, 2,    32.49, 2,     0.00, 2,     2.12, 2,    0.301, 2,    0.171, 2,    0.002, 2,    0.269, 2,   -999.0, 9,   -999.0, 9,  -999.00, 9,  -999.00, 9, -999.000, 9, -999.000, -999.0000, 9, -999.0000,  -999.00, 9,  -999.00, -999.000, 9, -999.000,   -999.0, 9,   -999.0,  -999.00, 9, -999.0000, 9, -999.0000, 9, -999.0000, 9, -999.0000, 9, -999.0000, 9, -999.0000, 9, -999, 9, -999, 9, -999, 9, -999, 9, -999, 9, -999, 9, -999, 9,  -999.00, 9,  -999.00, 9,  -999.00, 9,  -999.00, 9,   7.0796,  -999.00, 9,  930,   11.5275,  -52.3625
316N200309, A20, 59, 1, 23, 23, 2, 20031014, 0750, 11.5210, -52.3488, 4987,   750.70,    750.7,   6.1349,  34.6864, 2,  34.6877, 2,    122.1, 2,    123.4, 2,    24.63, 2,    33.56, 2,     0.00, 2,     2.23, 2,    0.124, 2,    0.071, 2,    0.013, 2,    0.181, 2,   -999.0, 9,   -999.0, 9,  -999.00, 9,  -999.00, 9, -999.000, 9, -999.000, -999.0000, 9, -999.0000,  -999.00, 9,  -999.00, -999.000, 9, -999.000,   -999.0, 9,   -999.0,  -999.00, 9, -999.0000, 9, -999.0000, 9, -999.0000, 9, -999.0000, 9, -999.0000, 9, -999.0000, 9, -999, 9, -999, 9, -999, 9, -999, 9, -999, 9, -999, 9, -999, 9,  -999.00, 9,  -999.00, 9,  -999.00, 9,  -999.00, 9,   6.0670,  -999.00, 9,  927,   11.5273,  -52.3621
316N200309, A20, 59, 1, 22, 22, 2, 20031014, 0750, 11.5210, -52.3488, 4987,   901.20,    901.2,   5.2570,  34.6612, 2,  34.6608, 2,    134.5, 2,    135.8, 2,    27.84, 2,    33.41, 2,     0.00, 2,     2.25, 2,    0.046, 2,    0.027, 2,    0.002, 2,    0.148, 2,   -999.0, 9,   -999.0, 9,  -999.00, 9,  -999.00, 9, -999.000, 9, -999.000, -999.0000, 9, -999.0000,  -999.00, 9,  -999.00, -999.000, 9, -999.000,   -999.0, 9,   -999.0,  -999.00, 9, -999.0000, 9, -999.0000, 9, -999.0000, 9, -999.0000, 9, -999.0000, 9, -999.0000, 9, -999, 9, -999, 9, -999, 9, -999, 9, -999, 9, -999, 9, -999, 9,  -999.00, 9,  -999.00, 9,  -999.00, 9,  -999.00, 9,   5.1806,  -999.00, 9,  923,   11.5270,  -52.3616
316N200309, A20, 59, 1, 21, 21, 2, 20031014, 0750, 11.5210, -52.3488, 4987,  1051.30,   1051.3,   5.2894,  34.8023, 2,  34.8049, 2,    151.8, 2,    151.8, 2,    25.24, 2,    30.33, 2,     0.00, 2,     2.04, 2,    0.052, 2,    0.037, 2,    0.006, 2,    0.148, 2,   -999.0, 9,   -999.0, 9,  -999.00, 9,  -999.00, 9, -999.000, 9, -999.000, -999.0000, 9, -999.0000,  -999.00, 9,  -999.00, -999.000, 9, -999.000,   -999.0, 9,   -999.0,  -999.00, 9, -999.0000, 9, -999.0000, 9, -999.0000, 9, -999.0000, 9, -999.0000, 9, -999.0000, 9, -999, 9, -999, 9, -999, 9, -999, 9, -999, 9, -999, 9, -999, 9,  -999.00, 9,  -999.00, 9,  -999.00, 9,  -999.00, 9,   5.1986,  -999.00, 9,  920,   11.5267,  -52.3612
316N200309, A20, 59, 1, 20, 20, 2, 20031014, 0750, 11.5210, -52.3488, 4987,  1201.20,   1201.2,   5.2269,  34.9451, 2,  34.9453, 2,    184.2, 2,    186.1, 2,    20.59, 2,    25.15, 2,     0.00, 2,     1.69, 2,    0.179, 2,    0.100, 2,    0.002, 2,    0.372, 2,   -999.0, 9,   -999.0, 9,  -999.00, 9,  -999.00, 9, -999.000, 9, -999.000, -999.0000, 9, -999.0000,  -999.00, 9,  -999.00, -999.000, 9, -999.000,   -999.0, 9,   -999.0,  -999.00, 9, -999.0000, 9, -999.0000, 9, -999.0000, 9, -999.0000, 9, -999.0000, 9, -999.0000, 9, -999, 9, -999, 9, -999, 9, -999, 9, -999, 9, -999, 9, -999, 9,  -999.00, 9,  -999.00, 9,  -999.00, 9,  -999.00, 9,   5.1222,  -999.00, 9,  916,   11.5265,  -52.3607
316N200309, A20, 59, 1, 19, 19, 2, 20031014, 0750, 11.5210, -52.3488, 4987,  1326.70,   1326.7,   4.9427,  34.9958, 2,  34.9970, 2,    210.2, 2,    213.0, 2,    17.48, 2,    22.03, 2,     0.00, 2,     1.47, 2,    0.387, 2,    0.199, 2,    0.006, 2,    0.659, 2,   -999.0, 9,   -999.0, 9,  -999.00, 9,  -999.00, 9, -999.000, 9, -999.000, -999.0000, 9, -999.0000,  -999.00, 9,  -999.00, -999.000, 9, -999.000,   -999.0, 9,   -999.0,  -999.00, 9, -999.0000, 9, -999.0000, 9, -999.0000, 9, -999.0000, 9, -999.0000, 9, -999.0000, 9, -999, 9, -999, 9, -999, 9, -999, 9, -999, 9, -999, 9, -999, 9,  -999.00, 9,  -999.00, 9,  -999.00, 9,  -999.00, 9,   4.8286,  -999.00, 9,  913,   11.5263,  -52.3603
316N200309, A20, 59, 1, 18, 18, 2, 20031014, 0750, 11.5210, -52.3488, 4987,  1450.20,   1450.2,   4.6010,  35.0113, 2,  35.0120, 2,    233.6, 2,    234.7, 2,    15.11, 2,    19.87, 2,     0.00, 2,     1.32, 2,    0.614, 2,    0.308, 2,    0.040, 2,    0.989, 2,   -999.0, 9,   -999.0, 9,  -999.00, 9,  -999.00, 9, -999.000, 9, -999.000, -999.0000, 9, -999.0000,  -999.00, 9,  -999.00, -999.000, 9, -999.000,   -999.0, 9,   -999.0,  -999.00, 9, -999.0000, 9, -999.0000, 9, -999.0000, 9, -999.0000, 9, -999.0000, 9, -999.0000, 9, -999, 9, -999, 9, -999, 9, -999, 9, -999, 9, -999, 9, -999, 9,  -999.00, 9,  -999.00, 9,  -999.00, 9,  -999.00, 9,   4.4787,  -999.00, 9,  910,   11.5260,  -52.3598
316N200309, A20, 59, 1, 17, 17, 2, 20031014, 0750, 11.5210, -52.3488, 4987,  1574.70,   1574.7,   4.3116,  35.0034, 2,  35.0033, 2,    249.0, 2,    248.1, 2,    13.96, 2,    18.81, 2,     0.00, 2,     1.25, 2,    0.778, 2,    0.392, 2,    0.025, 2,    1.327, 2,   -999.0, 9,   -999.0, 9,  -999.00, 9,  -999.00, 9, -999.000, 9, -999.000, -999.0000, 9, -999.0000,  -999.00, 9,  -999.00, -999.000, 9, -999.000,   -999.0, 9,   -999.0,  -999.00, 9, -999.0000, 9, -999.0000, 9, -999.0000, 9, -999.0000, 9, -999.0000, 9, -999.0000, 9, -999, 9, -999, 9, -999, 9, -999, 9, -999, 9, -999, 9, -999, 9,  -999.00, 9,  -999.00, 9,  -999.00, 9,  -999.00, 9,   4.1808,  -999.00, 9,  907,   11.5257,  -52.3593
316N200309, A20, 59, 1, 16, 16, 2, 20031014, 0750, 11.5210, -52.3488, 4987,  1701.50,   1701.5,   4.0320,  34.9898, 2,  34.9921, 2,    257.5, 2,    255.0, 2,    13.96, 2,    18.27, 2,     0.00, 2,     1.21, 2,    0.773, 2,    0.400, 2,    0.044, 3,    1.311, 2,   -999.0, 9,   -999.0, 9,  -999.00, 9,  -999.00, 9, -999.000, 9, -999.000, -999.0000, 9, -999.0000,  -999.00, 9,  -999.00, -999.000, 9, -999.000,   -999.0, 9,   -999.0,  -999.00, 9, -999.0000, 9, -999.0000, 9, -999.0000, 9, -999.0000, 9, -999.0000, 9, -999.0000, 9, -999, 9, -999, 9, -999, 9, -999, 9, -999, 9, -999, 9, -999, 9,  -999.00, 9,  -999.00, 9,  -999.00, 9,  -999.00, 9,   3.8927,  -999.00, 9,  903,   11.5254,  -52.3588
316N200309, A20, 59, 1, 15, 15, 2, 20031014, 0750, 11.5210, -52.3488, 4987,  1849.30,   1849.3,   3.7479,  34.9789, 2,  34.9799, 2,    260.7, 2,    258.4, 2,    15.11, 2,    18.23, 2,     0.00, 2,     1.21, 2,    0.635, 2,    0.315, 2,    0.012, 2,    1.165, 2,   -999.0, 9,   -999.0, 9,  -999.00, 9,  -999.00, 9, -999.000, 9, -999.000, -999.0000, 9, -999.0000,  -999.00, 9,  -999.00, -999.000, 9, -999.000,   -999.0, 9,   -999.0,  -999.00, 9, -999.0000, 9, -999.0000, 9, -999.0000, 9, -999.0000, 9, -999.0000, 9, -999.0000, 9, -999, 9, -999, 9, -999, 9, -999, 9, -999, 9, -999, 9, -999, 9,  -999.00, 9,  -999.00, 9,  -999.00, 9,  -999.00, 9,   3.5985,  -999.00, 9,  900,   11.5251,  -52.3583
316N200309, A20, 59, 1, 14, 14, 2, 20031014, 0750, 11.5210, -52.3488, 4987,  2001.10,   2001.1,   3.5411,  34.9717, 2,  34.9740, 2,    261.6, 2,    260.6, 2,    16.45, 2,    18.22, 2,     0.00, 2,     1.21, 2,    0.530, 2,    0.279, 2,    0.011, 2,    1.061, 2,   -999.0, 9,   -999.0, 9,  -999.00, 9,  -999.00, 9, -999.000, 9, -999.000, -999.0000, 9, -999.0000,  -999.00, 9,  -999.00, -999.000, 9, -999.000,   -999.0, 9,   -999.0,  -999.00, 9, -999.0000, 9, -999.0000, 9, -999.0000, 9, -999.0000, 9, -999.0000, 9, -999.0000, 9, -999, 9, -999, 9, -999, 9, -999, 9, -999, 9, -999, 9, -999, 9,  -999.00, 9,  -999.00, 9,  -999.00, 9,  -999.00, 9,   3.3803,  -999.00, 9,  856,   11.5248,  -52.3577
316N200309, A20, 59, 1, 13, 13, 2, 20031014, 0750, 11.5210, -52.3488, 4987,  2251.00,   2251.0,   3.2710,  34.9609, 2,  34.9622, 2,    261.4, 2,    260.3, 2,    18.93, 2,    18.35, 2,     0.00, 2,     1.23, 2,    0.359, 2,    0.180, 2,    0.006, 2,    0.797, 2,   -999.0, 9,   -999.0, 9,  -999.00, 9,  -999.00, 9, -999.000, 9, -999.000, -999.0000, 9, -999.0000,  -999.00, 9,  -999.00, -999.000, 9, -999.000,   -999.0, 9,   -999.0,  -999.00, 9, -999.0000, 9, -999.0000, 9, -999.0000, 9, -999.0000, 9, -999.0000, 9, -999.0000, 9, -999, 9, -999, 9, -999, 9, -999, 9, -999, 9, -999, 9, -999, 9,  -999.00, 9,  -999.00, 9,  -999.00, 9,  -999.00, 9,   3.0905,  -999.00, 9,  850,   11.5244,  -52.3569
316N200309, A20, 59, 1, 12, 12, 2, 20031014, 0750, 11.5210, -52.3488, 4987,  2501.40,   2501.4,   3.0654,  34.9501, 2,  34.9508, 2,    261.3, 2,    260.7, 2,    21.30, 2,    18.58, 2,     0.00, 2,     1.24, 2,    0.273, 2,    0.144, 2,    0.002, 2,    0.697, 2,   -999.0, 9,   -999.0, 9,  -999.00, 9,  -999.00, 9, -999.000, 9, -999.000, -999.0000, 9, -999.0000,  -999.00, 9,  -999.00, -999.000, 9, -999.000,   -999.0, 9,   -999.0,  -999.00, 9, -999.0000, 9, -999.0000, 9, -999.0000, 9, -999.0000, 9, -999.0000, 9, -999.0000, 9, -999, 9, -999, 9, -999, 9, -999, 9, -999, 9, -999, 9, -999, 9,  -999.00, 9,  -999.00, 9,  -999.00, 9,  -999.00, 9,   2.8641,  -999.00, 9,  845,   11.5242,  -52.3563
316N200309, A20, 59, 1, 11, 11, 2, 20031014, 0750, 11.5210, -52.3488, 4987,  2751.60,   2751.6,   2.8932,  34.9392, 2,  34.9402, 2,    260.9, 2,    257.7, 2,    23.89, 2,    18.80, 2,     0.00, 2,     1.26, 2,    0.251, 2,    0.129, 2,    0.002, 2,    0.628, 2,   -999.0, 9,   -999.0, 9,  -999.00, 9,  -999.00, 9, -999.000, 9, -999.000, -999.0000, 9, -999.0000,  -999.00, 9,  -999.00, -999.000, 9, -999.000,   -999.0, 9,   -999.0,  -999.00, 9, -999.0000, 9, -999.0000, 9, -999.0000, 9, -999.0000, 9, -999.0000, 9, -999.0000, 9, -999, 9, -999, 9, -999, 9, -999, 9, -999, 9, -999, 9, -999, 9,  -999.00, 9,  -999.00, 9,  -999.00, 9,  -999.00, 9,   2.6702,  -999.00, 9,  840,   11.5241,  -52.3556