BOTTLE,20220816CCHSIOAMB
EXPOCODE,SECT_ID,STNNBR,CASTNO,SAMPNO,BTLNBR,BTLNBR_FLAG_W,DATE,TIME,LATITUDE,LONGITUDE,DEPTH,CTDRAW,CTDPRS,CTDTMP,CTDSAL,CTDSAL_FLAG_W,SALNTY,SALNTY_FLAG_W,CTDOXY,CTDOXY_FLAG_W,OXYGEN,OXYGEN_FLAG_W,SILCAT,SILCAT_FLAG_W,NITRAT,NITRAT_FLAG_W,NITRIT,NITRIT_FLAG_W,PHSPHT,PHSPHT_FLAG_W,CFC-11,CFC-11_FLAG_W,CFC-12,CFC-12_FLAG_W,CFC113,CFC113_FLAG_W,CCL4,CCL4_FLAG_W,TCARBN,TCARBN_FLAG_W,ALKALI,ALKALI_FLAG_W,DOC,DOC_FLAG_W,TDN,TDN_FLAG_W,TRITUM,TRITUM_FLAG_W,TRITER,HELIUM,HELIUM_FLAG_W,HELIER,DELHE3,DELHE3_FLAG_W,DELHER,NEON,NEON_FLAG_W,NEONER,DELC14,DELC14_FLAG_W,C14ERR,DELC13,DELC13_FLAG_W,CDOM325,CDOM325_FLAG_W,CDOM340,CDOM340_FLAG_W,CDOM380,CDOM380_FLAG_W,CDOM412,CDOM412_FLAG_W,CDOMSL,CDOMSL_FLAG_W,CDOMSN,CDOMSN_FLAG_W,DCNS,DCNS_FLAG_W,ARABI,ARABI_FLAG_W,FUCO,FUCO_FLAG_W,GALA,GALA_FLAG_W,GLUC,GLUC_FLAG_W,MAN,MAN_FLAG_W,RHAM,RHAM_FLAG_W,BRDU,BRDU_FLAG_W,PEUK,PEUK_FLAG_W,PROC,PROC_FLAG_W,SYN,SYN_FLAG_W,THETA,BACT,BACT_FLAG_W,BTL_TIME,BTL_LAT,BTL_LON
,,,,,,,,,,,METERS,DBAR,DBAR,ITS-90,PSS-78,,PSS-78,,UMOL/KG,,UMOL/KG,,UMOL/KG,,UMOL/KG,,UMOL/KG,,UMOL/KG,,PMOL/KG,,PMOL/KG,,PMOL/KG,,PMOL/KG,,UMOL/KG,,UMOL/KG,,UMOL/KG,,UMOL/KG,,TU,,TU,NMOL/KG,,NMOL/KG,PERCNT,,PERCNT,NMOL/KG,,NMOL/KG,/MILLE,,/MILLE,/MILLE,,1/M,,1/M,,1/M,,1/M,,1/NM,,1/NM,,NMOL/KG,,NMOL/KG,,NMOL/KG,,NMOL/KG,,NMOL/KG,,NMOL/KG,,NMOL/KG,,PMOL/L/H,,E6/L,,E7/L,,E6/L,,DEG C,E8/L,,,,
316N200309, A20, 52, 1, 36, 36, 2, 20031012, 0424, 16.2463, -52.3313, 4899,     3.60,      3.6,  28.6749,  36.8528, 2,  36.8554, 2,    191.6, 2,    195.7, 2,     0.50, 2,     0.16, 2,     0.00, 2,     0.01, 2,    1.608, 2,    1.012, 2,    0.139, 2, -999.000, 9,   2040.3, 2,   -999.0, 9,    73.40, 2,     4.70, 2,    0.564, 2,    0.004,   1.7075, 2,   0.0085,    -1.74, 2,     0.20,    6.659, 2,    0.033,   -999.0, 9,   -999.0,  -999.00, 9,    0.0430, 2,    0.0260, 2,    0.0070, 2,    0.0060, 2,    0.0350, 2,    0.0350, 2, -999, 9, -999, 9, -999, 9, -999, 9, -999, 9, -999, 9, -999, 9,  -999.00, 9,  -999.00, 9,  -999.00, 9,  -999.00, 9,  28.6740,  -999.00, 9,  620,   16.2597,  -52.3224
316N200309, A20, 52, 1, 35, 35, 2, 20031012, 0424, 16.2463, -52.3313, 4899,    50.60,     50.6,  27.4079,  36.8573, 2,  36.8578, 2,    208.1, 2,    210.2, 2,     0.50, 2,     0.15, 2,     0.00, 2,     0.01, 2,    1.742, 2,    1.102, 2,    0.137, 2, -999.000, 9,   2041.0, 2,   -999.0, 9,    75.80, 2,     5.10, 2,    0.584, 2,    0.004,   1.7138, 2,   0.0086,    -1.59, 2,     0.20,    6.746, 2,    0.034,   -999.0, 9,   -999.0,  -999.00, 9,    0.0980, 2,    0.0640, 2,    0.0250, 2,    0.0170, 2,    0.0260, 2,    0.0270, 2, -999, 9, -999, 9, -999, 9, -999, 9, -999, 9, -999, 9, -999, 9,  -999.00, 9,  -999.00, 9,  -999.00, 9,  -999.00, 9,  27.3961,  -999.00, 9,  618,   16.2593,  -52.3226
316N200309, A20, 52, 1, 34, 34, 2, 20031012, 0424, 16.2463, -52.3313, 4899,    76.00,     76.0,  25.7008,  37.0898, 2,  37.0913, 2,    209.6, 2,    213.2, 2,     0.50, 2,     0.15, 2,     0.00, 2,     0.01, 2,    1.884, 2,    1.169, 2,    0.161, 2, -999.000, 9,   2059.2, 2,   -999.0, 9,    74.30, 2,  -999.00, 9, -999.000, 9, -999.000, -999.0000, 9, -999.0000,  -999.00, 9,  -999.00, -999.000, 9, -999.000,   -999.0, 9,   -999.0,  -999.00, 9,    0.1230, 2,    0.0800, 2,    0.0310, 2,    0.0210, 2,    0.0250, 2,    0.0270, 2, -999, 9, -999, 9, -999, 9, -999, 9, -999, 9, -999, 9, -999, 9,  -999.00, 9,  -999.00, 9,  -999.00, 9,  -999.00, 9,  25.6839,  -999.00, 9,  617,   16.2591,  -52.3228
316N200309, A20, 52, 1, 33, 33, 2, 20031012, 0424, 16.2463, -52.3313, 4899,   100.40,    100.4,  24.6018,  37.2650, 2,  37.2596, 2,    203.6, 2,    207.0, 2,     0.39, 2,     0.20, 2,     0.00, 2,     0.01, 2,    1.853, 2,    1.147, 2,    0.161, 2, -999.000, 9,   2078.1, 2,   -999.0, 9,    73.70, 2,     5.00, 2,    0.636, 2,    0.004,   1.7188, 2,   0.0086,    -1.29, 2,     0.20,    6.835, 2,    0.034,   -999.0, 9,   -999.0,  -999.00, 9,    0.1250, 2,    0.0860, 2,    0.0370, 2,    0.0270, 2,    0.0200, 2,    0.0220, 2, -999, 9, -999, 9, -999, 9, -999, 9, -999, 9, -999, 9, -999, 9,  -999.00, 9,  -999.00, 9,  -999.00, 9,  -999.00, 9,  24.5801,  -999.00, 9,  615,   16.2588,  -52.3229
316N200309, A20, 52, 1, 32, 32, 2, 20031012, 0424, 16.2463, -52.3313, 4899,   125.50,    125.5,  23.8456,  37.3100, 2,  37.3065, 2,    194.1, 2,    198.3, 2,     0.39, 2,     0.16, 2,     0.08, 2,     0.02, 2,    1.954, 2,    1.178, 2,    0.169, 2, -999.000, 9,   2095.7, 2,   -999.0, 9,    66.00, 2,     4.60, 2, -999.000, 9, -999.000, -999.0000, 9, -999.0000,  -999.00, 9,  -999.00, -999.000, 9, -999.000,   -999.0, 9,   -999.0,  -999.00, 9,    0.1460, 2,    0.1050, 2,    0.0500, 2,    0.0380, 2,    0.0150, 2,    0.0170, 2, -999, 9, -999, 9, -999, 9, -999, 9, -999, 9, -999, 9, -999, 9,  -999.00, 9,  -999.00, 9,  -999.00, 9,  -999.00, 9,  23.8190,  -999.00, 9,  614,   16.2586,  -52.3230
316N200309, A20, 52, 1, 31, 31, 2, 20031012, 0424, 16.2463, -52.3313, 4899,   150.20,    150.2,  21.7341,  37.0437, 2,  37.0432, 2,    173.7, 2,    173.6, 2,     0.70, 2,     2.37, 2,     0.03, 2,     0.13, 2,    2.064, 6,    1.232, 6,    0.122, 6, -999.000, 9,   2126.8, 2,   -999.0, 9,    58.90, 2,     5.70, 2,    0.744, 2,    0.004,   1.7382, 2,   0.0087,    -0.69, 2,     0.20,    6.950, 2,    0.035,   -999.0, 9,   -999.0,  -999.00, 9,    0.1600, 2,    0.1160, 2,    0.0570, 2,    0.0440, 2,    0.0140, 2,    0.0160, 2, -999, 9, -999, 9, -999, 9, -999, 9, -999, 9, -999, 9, -999, 9,  -999.00, 9,  -999.00, 9,  -999.00, 9,  -999.00, 9,  21.7044,  -999.00, 9,  613,   16.2584,  -52.3231
316N200309, A20, 52, 1, 30, 30, 2, 20031012, 0424, 16.2463, -52.3313, 4899,   174.40,    174.4,  19.7118,  36.8071, 2,  36.8075, 2,    162.2, 2,    172.2, 2,     1.02, 2,     4.46, 2,     0.01, 2,     0.21, 2,    2.210, 2,    1.300, 2,    0.042, 2, -999.000, 9,   2131.5, 2,   -999.0, 9,    49.30, 2,     7.10, 2, -999.000, 9, -999.000, -999.0000, 9, -999.0000,  -999.00, 9,  -999.00, -999.000, 9, -999.000,   -999.0, 9,   -999.0,  -999.00, 9,    0.1190, 2,    0.0860, 2,    0.0410, 2,    0.0320, 2,    0.0150, 2,    0.0180, 2, -999, 9, -999, 9, -999, 9, -999, 9, -999, 9, -999, 9, -999, 9,  -999.00, 9,  -999.00, 9,  -999.00, 9,  -999.00, 9,  19.6796,  -999.00, 9,  611,   16.2582,  -52.3233
316N200309, A20, 52, 1, 29, 29, 2, 20031012, 0424, 16.2463, -52.3313, 4899,   229.10,    229.1,  17.4973,  36.4410, 2,  36.4414, 2,    156.0, 2,    155.2, 2,     2.37, 2,     9.60, 2,     0.01, 2,     0.54, 2,    2.233, 2,    1.268, 2,    0.021, 2, -999.000, 9,   2148.1, 2,   -999.0, 9,    47.40, 2,    12.50, 2,    0.778, 2,    0.004,   1.8017, 2,   0.0090,     1.46, 2,     0.20,    7.284, 2,    0.036,   -999.0, 9,   -999.0,  -999.00, 9,    0.1360, 2,    0.0980, 2,    0.0490, 2,    0.0390, 2,    0.0140, 2,    0.0160, 2, -999, 9, -999, 9, -999, 9, -999, 9, -999, 9, -999, 9, -999, 9,  -999.00, 9,  -999.00, 9,  -999.00, 9,  -999.00, 9,  17.4583,  -999.00, 9,  610,   16.2580,  -52.3235
316N200309, A20, 52, 1, 28, 28, 2, 20031012, 0424, 16.2463, -52.3313, 4899,   276.00,    276.0,  16.4502,  36.2707, 2,  36.2734, 2,    152.7, 2,    156.8, 2,     3.00, 2,    11.01, 2,     0.01, 2,     0.62, 2,    2.269, 2,    1.258, 2,    0.028, 2, -999.000, 9,   2149.8, 2,   -999.0, 9,    46.70, 2,    13.90, 2,    0.846, 2,    0.005,   1.7835, 2,   0.0089,     2.46, 2,     0.20,    7.249, 2,    0.036,   -999.0, 9,   -999.0,  -999.00, 9,    0.1200, 2,    0.0860, 2,    0.0420, 2,    0.0330, 2,    0.0150, 2,    0.0170, 2, -999, 9, -999, 9, -999, 9, -999, 9, -999, 9, -999, 9, -999, 9,  -999.00, 9,  -999.00, 9,  -999.00, 9,  -999.00, 9,  16.4052,  -999.00, 9,  608,   16.2578,  -52.3237
316N200309, A20, 52, 1, 27, 27, 2, 20031012, 0424, 16.2463, -52.3313, 4899,   350.20,    350.2,  14.2724,  35.9162, 2,  35.9161, 2,    133.4, 2,    139.0, 2,     5.19, 2,    16.22, 2,     0.01, 2,     0.94, 2,    2.020, 2,    1.094, 2,    0.027, 2, -999.000, 9,   2167.7, 2,   -999.0, 9,    44.40, 2,  -999.00, 9,    0.819, 2,    0.005,   1.8030, 2,   0.0090,     4.96, 2,     0.20,    7.393, 2,    0.037,   -999.0, 9,   -999.0,  -999.00, 9,    0.1300, 2,    0.0910, 2,    0.0440, 2,    0.0340, 2,    0.0150, 2,    0.0180, 2, -999, 9, -999, 9, -999, 9, -999, 9, -999, 9, -999, 9, -999, 9,  -999.00, 9,  -999.00, 9,  -999.00, 9,  -999.00, 9,  14.2204,  -999.00, 9,  606,   16.2575,  -52.3239
316N200309, A20, 52, 1, 26, 26, 2, 20031012, 0424, 16.2463, -52.3313, 4899,   451.20,    451.2,  11.4498,  35.4530, 2,  35.4575, 2,    122.8, 2,    118.7, 2,    10.20, 2,    23.46, 2,     0.00, 2,     1.43, 2,    1.151, 2,    0.618, 2,    0.018, 2, -999.000, 9,   2190.1, 2,   -999.0, 9,    42.00, 2,  -999.00, 9,    0.561, 2,    0.003,   1.8162, 2,   0.0091,     6.82, 2,     0.20,    7.507, 2,    0.038,   -999.0, 9,   -999.0,  -999.00, 9,    0.1440, 2,    0.1030, 2,    0.0530, 2,    0.0420, 2,    0.0130, 2,    0.0160, 2, -999, 9, -999, 9, -999, 9, -999, 9, -999, 9, -999, 9, -999, 9,  -999.00, 9,  -999.00, 9,  -999.00, 9,  -999.00, 9,  11.3918,  -999.00, 9,  603,   16.2573,  -52.3241
316N200309, A20, 52, 1, 25, 25, 2, 20031012, 0424, 16.2463, -52.3313, 4899,   551.20,    551.2,   9.1500,  35.0808, 2,  34.8233, 3,    116.2, 2,    115.8, 2,    15.43, 2,    28.26, 2,     0.00, 2,     1.79, 2,    0.659, 2,    0.344, 2,    0.014, 2, -999.000, 9,   2204.7, 2,   -999.0, 9,    42.60, 2,  -999.00, 9, -999.000, 9, -999.000,   1.8082, 2,   0.0090,     5.21, 2,     0.20,    7.571, 2,    0.038,   -999.0, 9,   -999.0,  -999.00, 9,    0.1710, 2,    0.1260, 2,    0.0710, 2,    0.0570, 2,    0.0120, 2,    0.0130, 2, -999, 9, -999, 9, -999, 9, -999, 9, -999, 9, -999, 9, -999, 9,  -999.00, 9,  -999.00, 9,  -999.00, 9,  -999.00, 9,   9.0882,  -999.00, 9,  600,   16.2570,  -52.3244
316N200309, A20, 52, 1, 24, 24, 2, 20031012, 0424, 16.2463, -52.3313, 4899,   700.80,    700.8,   6.9205,  34.8242, 2,  34.8235, 2,    121.9, 2,    121.5, 2,    21.91, 2,    31.94, 2,     0.00, 2,     2.08, 2,    0.188, 2,    0.105, 2,    0.022, 2, -999.000, 9,   2214.9, 2,   -999.0, 9,    41.00, 2,  -999.00, 9,    0.121, 2,    0.002,   1.8267, 2,   0.0091,     3.11, 2,     0.20,    7.711, 2,    0.039,   -999.0, 9,   -999.0,  -999.00, 9,    0.1790, 2,    0.1290, 2,    0.0730, 2,    0.0600, 2,    0.0110, 2,    0.0130, 2, -999, 9, -999, 9, -999, 9, -999, 9, -999, 9, -999, 9, -999, 9,  -999.00, 9,  -999.00, 9,  -999.00, 9,  -999.00, 9,   6.8530,  -999.00, 9,  557,   16.2567,  -52.3246
316N200309, A20, 52, 1, 23, 23, 2, 20031012, 0424, 16.2463, -52.3313, 4899,   850.10,    850.1,   5.7578,  34.7427, 2,  34.7427, 2,    131.6, 2,    133.2, 2,    25.57, 2,    32.62, 2,     0.00, 2,     2.17, 2,    0.054, 6,    0.032, 6,    0.004, 2,    0.129, 2,   2216.1, 2,   -999.0, 9,    40.00, 2,  -999.00, 9,    0.056, 2,    0.001,   1.8381, 2,   0.0092,     1.70, 2,     0.20,    7.800, 2,    0.039,   -999.0, 9,   -999.0,  -999.00, 9,    0.1540, 2,    0.1080, 2,    0.0590, 2,    0.0480, 2,    0.0120, 2,    0.0140, 2, -999, 9, -999, 9, -999, 9, -999, 9, -999, 9, -999, 9, -999, 9,  -999.00, 9,  -999.00, 9,  -999.00, 9,  -999.00, 9,   5.6826,  -999.00, 9,  554,   16.2563,  -52.3250
316N200309, A20, 52, 1, 22, 22, 2, 20031012, 0424, 16.2463, -52.3313, 4899,  1000.80,   1000.8,   5.4687,  34.8277, 2,  34.8273, 2,    150.4, 2,    150.3, 2,    24.52, 2,    30.24, 2,     0.00, 2,     2.02, 2,    0.059, 2,    0.033, 2,    0.005, 2, -999.000, 9,   2210.8, 2,   -999.0, 9,  -999.00, 9,  -999.00, 9, -999.000, 9, -999.000, -999.0000, 9, -999.0000,  -999.00, 9,  -999.00, -999.000, 9, -999.000,   -999.0, 9,   -999.0,  -999.00, 9, -999.0000, 9, -999.0000, 9, -999.0000, 9, -999.0000, 9, -999.0000, 9, -999.0000, 9, -999, 9, -999, 9, -999, 9, -999, 9, -999, 9, -999, 9, -999, 9,  -999.00, 9,  -999.00, 9,  -999.00, 9,  -999.00, 9,   5.3812,  -999.00, 9,  550,   16.2560,  -52.3254
316N200309, A20, 52, 1, 21, 21, 2, 20031012, 0424, 16.2463, -52.3313, 4899,  1150.50,   1150.5,   5.3036,  34.9242, 2,  34.9237, 2,    175.0, 2,    176.1, 2,    21.70, 2,    26.62, 2,     0.00, 2,     1.77, 2,    0.128, 2,    0.074, 2,    0.002, 2, -999.000, 9,   2197.5, 2,   -999.0, 9,    39.40, 2,  -999.00, 9,    0.083, 2,    0.001,   1.8436, 2,   0.0092,     2.74, 2,     0.20,    7.820, 2,    0.039,   -999.0, 9,   -999.0,  -999.00, 9,    0.1440, 2,    0.1000, 2,    0.0500, 2,    0.0410, 2,    0.0130, 2,    0.0160, 2, -999, 9, -999, 9, -999, 9, -999, 9, -999, 9, -999, 9, -999, 9,  -999.00, 9,  -999.00, 9,  -999.00, 9,  -999.00, 9,   5.2031,  -999.00, 9,  547,   16.2556,  -52.3257
316N200309, A20, 52, 1, 20, 20, 2, 20031012, 0424, 16.2463, -52.3313, 4899,  1300.50,   1300.5,   5.0052,  34.9704, 2,  34.9707, 2,    196.5, 2,    196.2, 2,    19.81, 2,    24.32, 2,     0.00, 2,     1.61, 2,    0.130, 2,    0.070, 2,    0.003, 2, -999.000, 9,   2187.5, 2,   -999.0, 9,  -999.00, 9,  -999.00, 9,    0.109, 2,    0.002,   1.8392, 2,   0.0092,     3.04, 2,     0.20,    7.854, 2,    0.039,   -999.0, 9,   -999.0,  -999.00, 9, -999.0000, 9, -999.0000, 9, -999.0000, 9, -999.0000, 9, -999.0000, 9, -999.0000, 9, -999, 9, -999, 9, -999, 9, -999, 9, -999, 9, -999, 9, -999, 9,  -999.00, 9,  -999.00, 9,  -999.00, 9,  -999.00, 9,   4.8930,  -999.00, 9,  543,   16.2553,  -52.3261
316N200309, A20, 52, 1, 19, 19, 2, 20031012, 0424, 16.2463, -52.3313, 4899,  1451.20,   1451.2,   4.6822,  34.9978, 2,  34.9976, 2,    216.4, 2,    218.8, 2,    17.72, 2,    21.92, 2,     0.00, 2,     1.46, 2,    0.244, 2,    0.126, 2,    0.030, 2, -999.000, 9,   2177.3, 2,   -999.0, 9,    40.30, 2,  -999.00, 9,    0.151, 2,    0.002,   1.8483, 2,   0.0092,     3.67, 2,     0.20,    7.878, 2,    0.039,   -999.0, 9,   -999.0,  -999.00, 9,    0.1600, 2,    0.1120, 2,    0.0550, 2,    0.0450, 2,    0.0130, 2,    0.0160, 2, -999, 9, -999, 9, -999, 9, -999, 9, -999, 9, -999, 9, -999, 9,  -999.00, 9,  -999.00, 9,  -999.00, 9,  -999.00, 9,   4.5589,  -999.00, 9,  540,   16.2549,  -52.3264
316N200309, A20, 52, 1, 18, 18, 2, 20031012, 0424, 16.2463, -52.3313, 4899,  1599.80,   1599.8,   4.3889,  35.0071, 2,  35.0081, 2,    241.4, 2,    241.1, 2,    15.21, 2,    19.67, 2,     0.00, 2,     1.30, 2,    0.485, 2,    0.259, 2,    0.027, 2, -999.000, 9,   2166.6, 2,   -999.0, 9,  -999.00, 9,  -999.00, 9, -999.000, 9, -999.000, -999.0000, 9, -999.0000,  -999.00, 9,  -999.00, -999.000, 9, -999.000,   -999.0, 9,   -999.0,  -999.00, 9, -999.0000, 9, -999.0000, 9, -999.0000, 9, -999.0000, 9, -999.0000, 9, -999.0000, 9, -999, 9, -999, 9, -999, 9, -999, 9, -999, 9, -999, 9, -999, 9,  -999.00, 9,  -999.00, 9,  -999.00, 9,  -999.00, 9,   4.2548,  -999.00, 9,  536,   16.2546,  -52.3267
316N200309, A20, 52, 1, 17, 17, 2, 20031012, 0424, 16.2463, -52.3313, 4899,  1749.80,   1749.8,   4.0348,  34.9957, 2,  34.9951, 2,    250.7, 2,    249.4, 2,    15.74, 2,    19.19, 2,     0.00, 2,     1.27, 2,    0.400, 2,    0.203, 2,    0.022, 2, -999.000, 9,   2165.0, 2,   -999.0, 9,    43.30, 2,  -999.00, 9,    0.203, 2,    0.002,   1.8441, 2,   0.0092,     4.37, 2,     0.20,    7.882, 2,    0.039,   -999.0, 9,   -999.0,  -999.00, 9,    0.1780, 2,    0.1290, 2,    0.0670, 2,    0.0570, 2,    0.0110, 3,    0.0140, 3, -999, 9, -999, 9, -999, 9, -999, 9, -999, 9, -999, 9, -999, 9,  -999.00, 9,  -999.00, 9,  -999.00, 9,  -999.00, 9,   3.8909,  -999.00, 9,  533,   16.2541,  -52.3269
316N200309, A20, 52, 1, 16, 16, 2, 20031012, 0424, 16.2463, -52.3313, 4899,  1899.50,   1899.5,   3.7435,  34.9879, 2,  34.9896, 2,    251.8, 2,    252.2, 2,    17.83, 2,    19.19, 2,     0.00, 2,     1.27, 2,    0.207, 2,    0.114, 2,    0.018, 2, -999.000, 9,   2165.9, 2,   -999.0, 9,  -999.00, 9,  -999.00, 9, -999.000, 9, -999.000, -999.0000, 9, -999.0000,  -999.00, 9,  -999.00, -999.000, 9, -999.000,   -999.0, 9,   -999.0,  -999.00, 9, -999.0000, 9, -999.0000, 9, -999.0000, 9, -999.0000, 9, -999.0000, 9, -999.0000, 9, -999, 9, -999, 9, -999, 9, -999, 9, -999, 9, -999, 9, -999, 9,  -999.00, 9,  -999.00, 9,  -999.00, 9,  -999.00, 9,   3.5894,  -999.00, 9,  530,   16.2536,  -52.3271
316N200309, A20, 52, 1, 15, 15, 2, 20031012, 0424, 16.2463, -52.3313, 4899,  2100.10,   2100.1,   3.4442,  34.9750, 2,  34.9752, 2,    252.5, 2,    253.4, 2,    20.75, 2,    19.33, 2,     0.00, 2,     1.29, 2,    0.094, 2,    0.048, 2,    0.005, 2, -999.000, 9,   2166.1, 2,   -999.0, 9,    45.60, 3,  -999.00, 9, -999.000, 9, -999.000,   1.8603, 2,   0.0093,     3.11, 2,     0.20,    7.952, 2,    0.040,   -999.0, 9,   -999.0,  -999.00, 9,    0.1290, 2,    0.0900, 2,    0.0450, 2,    0.0410, 3,    0.0110, 3,    0.0150, 3, -999, 9, -999, 9, -999, 9, -999, 9, -999, 9, -999, 9, -999, 9,  -999.00, 9,  -999.00, 9,  -999.00, 9,  -999.00, 9,   3.2754,  -999.00, 9,  525,   16.2530,  -52.3273
316N200309, A20, 52, 1, 14, 14, 2, 20031012, 0424, 16.2463, -52.3313, 4899,  2300.40,   2300.4,   3.2128,  34.9612, 2,  34.9626, 2,    254.4, 2,    254.6, 2,    23.25, 2,    19.47, 2,     0.00, 2,     1.30, 2,    0.061, 2,    0.039, 2,    0.001, 2, -999.000, 9,   2167.6, 2,   -999.0, 9,  -999.00, 9,  -999.00, 9, -999.000, 9, -999.000, -999.0000, 9, -999.0000,  -999.00, 9,  -999.00, -999.000, 9, -999.000,   -999.0, 9,   -999.0,  -999.00, 9, -999.0000, 9, -999.0000, 9, -999.0000, 9, -999.0000, 9, -999.0000, 9, -999.0000, 9, -999, 9, -999, 9, -999, 9, -999, 9, -999, 9, -999, 9, -999, 9,  -999.00, 9,  -999.00, 9,  -999.00, 9,  -999.00, 9,   3.0285,  -999.00, 9,  521,   16.2525,  -52.3275
316N200309, A20, 52, 1, 13, 13, 2, 20031012, 0424, 16.2463, -52.3313, 4899,  2500.80,   2500.8,   3.0709,  34.9517, 2,  34.9516, 2,    254.0, 2,    254.3, 2,    25.56, 2,    19.57, 2,     0.00, 2,     1.31, 2,    0.047, 2,    0.031, 2,    0.005, 2, -999.000, 9,   2169.3, 2,   -999.0, 9,    41.70, 2,  -999.00, 9, -999.000, 9, -999.000,   1.8714, 2,   0.0094,     2.64, 2,     0.20,    7.986, 2,    0.040,   -999.0, 9,   -999.0,  -999.00, 9,    0.1890, 2,    0.1340, 2,    0.0680, 2,    0.0540, 2,    0.0130, 2,    0.0150, 2, -999, 9, -999, 9, -999, 9, -999, 9, -999, 9, -999, 9, -999, 9,  -999.00, 9,  -999.00, 9,  -999.00, 9,  -999.00, 9,   2.8695,  -999.00, 9,  517,   16.2521,  -52.3278
316N200309, A20, 52, 1, 12, 12, 2, 20031012, 0424, 16.2463, -52.3313, 4899,  2700.00,   2700.0,   2.8883,  34.9398, 2,  34.9390, 2,    253.1, 2,    254.1, 2,    28.38, 2,    19.90, 2,     0.00, 2,     1.33, 2,    0.069, 2,    0.042, 2,    0.005, 2, -999.000, 9,   2171.6, 2,   -999.0, 9,  -999.00, 9,  -999.00, 9, -999.000, 9, -999.000, -999.0000, 9, -999.0000,  -999.00, 9,  -999.00, -999.000, 9, -999.000,   -999.0, 9,   -999.0,  -999.00, 9, -999.0000, 9, -999.0000, 9, -999.0000, 9, -999.0000, 9, -999.0000, 9, -999.0000, 9, -999, 9, -999, 9, -999, 9, -999, 9, -999, 9, -999, 9, -999, 9,  -999.00, 9,  -999.00, 9,  -999.00, 9,  -999.00, 9,   2.6707,  -999.00, 9,  513,   16.2516,  -52.3280
316N200309, A20, 52, 1, 11, 11, 2, 20031012, 0424, 16.2463, -52.3313, 4899,  2899.60,   2899.6,   2.7799,  34.9315, 2,  34.9311, 2,    253.3, 2,    253.1, 2,    31.20, 2,    20.22, 2,     0.00, 2,     1.36, 2,    0.065, 2,    0.051, 2,    0.008, 2, -999.000, 9,   2175.4, 2,   -999.0, 9,    39.20, 2,  -999.00, 9,    0.040, 2,    0.001,   1.8678, 2,   0.0093,     3.70, 2,     0.20,    8.012, 2,    0.040,   -999.0, 9,   -999.0,  -999.00, 9,    0.1430, 2,    0.1010, 2,    0.0510, 2,    0.0480, 3,    0.0110, 3,    0.0140, 3, -999, 9, -999, 9, -999, 9, -999, 9, -999, 9, -999, 9, -999, 9,  -999.00, 9,  -999.00, 9,  -999.00, 9,  -999.00, 9,   2.5443,  -999.00, 9,  508,   16.2512,  -52.3282