BOTTLE,20220816CCHSIOAMB
EXPOCODE,SECT_ID,STNNBR,CASTNO,SAMPNO,BTLNBR,BTLNBR_FLAG_W,DATE,TIME,LATITUDE,LONGITUDE,DEPTH,CTDRAW,CTDPRS,CTDTMP,CTDSAL,CTDSAL_FLAG_W,SALNTY,SALNTY_FLAG_W,CTDOXY,CTDOXY_FLAG_W,OXYGEN,OXYGEN_FLAG_W,SILCAT,SILCAT_FLAG_W,NITRAT,NITRAT_FLAG_W,NITRIT,NITRIT_FLAG_W,PHSPHT,PHSPHT_FLAG_W,CFC-11,CFC-11_FLAG_W,CFC-12,CFC-12_FLAG_W,CFC113,CFC113_FLAG_W,CCL4,CCL4_FLAG_W,TCARBN,TCARBN_FLAG_W,ALKALI,ALKALI_FLAG_W,DOC,DOC_FLAG_W,TDN,TDN_FLAG_W,TRITUM,TRITUM_FLAG_W,TRITER,HELIUM,HELIUM_FLAG_W,HELIER,DELHE3,DELHE3_FLAG_W,DELHER,NEON,NEON_FLAG_W,NEONER,DELC14,DELC14_FLAG_W,C14ERR,DELC13,DELC13_FLAG_W,CDOM325,CDOM325_FLAG_W,CDOM340,CDOM340_FLAG_W,CDOM380,CDOM380_FLAG_W,CDOM412,CDOM412_FLAG_W,CDOMSL,CDOMSL_FLAG_W,CDOMSN,CDOMSN_FLAG_W,DCNS,DCNS_FLAG_W,ARABI,ARABI_FLAG_W,FUCO,FUCO_FLAG_W,GALA,GALA_FLAG_W,GLUC,GLUC_FLAG_W,MAN,MAN_FLAG_W,RHAM,RHAM_FLAG_W,BRDU,BRDU_FLAG_W,PEUK,PEUK_FLAG_W,PROC,PROC_FLAG_W,SYN,SYN_FLAG_W,THETA,BACT,BACT_FLAG_W,BTL_TIME,BTL_LAT,BTL_LON
,,,,,,,,,,,METERS,DBAR,DBAR,ITS-90,PSS-78,,PSS-78,,UMOL/KG,,UMOL/KG,,UMOL/KG,,UMOL/KG,,UMOL/KG,,UMOL/KG,,PMOL/KG,,PMOL/KG,,PMOL/KG,,PMOL/KG,,UMOL/KG,,UMOL/KG,,UMOL/KG,,UMOL/KG,,TU,,TU,NMOL/KG,,NMOL/KG,PERCNT,,PERCNT,NMOL/KG,,NMOL/KG,/MILLE,,/MILLE,/MILLE,,1/M,,1/M,,1/M,,1/M,,1/NM,,1/NM,,NMOL/KG,,NMOL/KG,,NMOL/KG,,NMOL/KG,,NMOL/KG,,NMOL/KG,,NMOL/KG,,PMOL/L/H,,E6/L,,E7/L,,E6/L,,DEG C,E8/L,,,,
316N200309, A20, 11, 1, 35, 35, 2, 20030927, 0305, 41.8370, -51.7828, 3930,     9.40,      9.4,  19.5595,  34.4072, 2,  34.4084, 2,    231.2, 2,    232.7, 2,     0.00, 2,     0.28, 2,     0.00, 2,     0.09, 2,    2.372, 2,    1.474, 2,    0.164, 2,    2.523, 2,   2009.1, 2,   2286.2, 2,    68.90, 2,     4.90, 2, -999.000, 9, -999.000, -999.0000, 9, -999.0000,  -999.00, 9,  -999.00, -999.000, 9, -999.000,   -999.0, 9,   -999.0,  -999.00, 9, -999.0000, 9, -999.0000, 9, -999.0000, 9, -999.0000, 9, -999.0000, 9, -999.0000, 9, -999, 9, -999, 9, -999, 9, -999, 9, -999, 9, -999, 9, -999, 9,  -999.00, 9,  -999.00, 9,  -999.00, 9,  -999.00, 9,  19.5578,  -999.00, 9,  459,   41.8496,  -51.7686
316N200309, A20, 11, 1, 34, 34, 2, 20030927, 0305, 41.8370, -51.7828, 3930,    29.30,     29.3,  19.5561,  34.4151, 2,  34.4155, 2,    231.5, 2,    234.1, 2,     0.00, 2,     0.15, 2,     0.00, 2,     0.09, 2,    2.352, 2,    1.492, 2,    0.172, 2,    2.548, 2,   2013.6, 2,   2279.9, 2,    71.10, 2,     6.10, 2, -999.000, 9, -999.000, -999.0000, 9, -999.0000,  -999.00, 9,  -999.00, -999.000, 9, -999.000,   -999.0, 9,   -999.0,  -999.00, 9, -999.0000, 9, -999.0000, 9, -999.0000, 9, -999.0000, 9, -999.0000, 9, -999.0000, 9, -999, 9, -999, 9, -999, 9, -999, 9, -999, 9, -999, 9, -999, 9,  -999.00, 9,  -999.00, 9,  -999.00, 9,  -999.00, 9,  19.5508,  -999.00, 9,  458,   41.8494,  -51.7689
316N200309, A20, 11, 1, 33, 33, 2, 20030927, 0305, 41.8370, -51.7828, 3930,    54.30,     54.3,  12.8176,  34.3793, 2,  34.3476, 2,    255.2, 2,    271.4, 2,     0.46, 2,     1.44, 2,     0.14, 2,     0.32, 2,    0.039, 4,   -0.004, 4,    0.006, 4,    0.034, 4,   2066.6, 2,   2284.2, 2,    61.80, 2,     6.40, 2, -999.000, 9, -999.000, -999.0000, 9, -999.0000,  -999.00, 9,  -999.00, -999.000, 9, -999.000,   -999.0, 9,   -999.0,  -999.00, 9, -999.0000, 9, -999.0000, 9, -999.0000, 9, -999.0000, 9, -999.0000, 9, -999.0000, 9, -999, 9, -999, 9, -999, 9, -999, 9, -999, 9, -999, 9, -999, 9,  -999.00, 9,  -999.00, 9,  -999.00, 9,  -999.00, 9,  12.8103,  -999.00, 9,  456,   41.8492,  -51.7693
316N200309, A20, 11, 1, 32, 32, 2, 20030927, 0305, 41.8370, -51.7828, 3930,    79.10,     79.1,   7.0925,  34.0287, 2,  34.0341, 2,    275.1, 2,    273.3, 2,     2.27, 2,     6.77, 2,     0.03, 2,     0.69, 2,    4.607, 2,    2.685, 2,    0.348, 2,    4.494, 2,   2108.5, 2,   2260.0, 2,    58.10, 2,    10.30, 2, -999.000, 9, -999.000, -999.0000, 9, -999.0000,  -999.00, 9,  -999.00, -999.000, 9, -999.000,   -999.0, 9,   -999.0,  -999.00, 9, -999.0000, 9, -999.0000, 9, -999.0000, 9, -999.0000, 9, -999.0000, 9, -999.0000, 9, -999, 9, -999, 9, -999, 9, -999, 9, -999, 9, -999, 9, -999, 9,  -999.00, 9,  -999.00, 9,  -999.00, 9,  -999.00, 9,   7.0852,  -999.00, 9,  454,   41.8490,  -51.7696
316N200309, A20, 11, 1, 31, 31, 2, 20030927, 0305, 41.8370, -51.7828, 3930,   104.10,    104.1,   9.3084,  34.6586, 2,  34.7036, 2,    238.2, 2,    243.7, 2,     3.06, 2,     8.77, 2,     0.03, 2,     0.70, 2,    3.814, 2,    2.243, 2,    0.258, 2,    2.561, 2,   2121.1, 2,   2287.6, 2,    56.00, 2,    12.30, 2, -999.000, 9, -999.000, -999.0000, 9, -999.0000,  -999.00, 9,  -999.00, -999.000, 9, -999.000,   -999.0, 9,   -999.0,  -999.00, 9, -999.0000, 9, -999.0000, 9, -999.0000, 9, -999.0000, 9, -999.0000, 9, -999.0000, 9, -999, 9, -999, 9, -999, 9, -999, 9, -999, 9, -999, 9, -999, 9,  -999.00, 9,  -999.00, 9,  -999.00, 9,  -999.00, 9,   9.2969,  -999.00, 9,  453,   41.8488,  -51.7698
316N200309, A20, 11, 1, 30, 30, 2, 20030927, 0305, 41.8370, -51.7828, 3930,   129.00,    129.0,   7.6841,  34.5022, 2,  34.4999, 2,    233.7, 2,    237.7, 2,     5.78, 2,    12.25, 2,     0.02, 2,     0.93, 2,    3.829, 2,    2.220, 2,    0.253, 2,    2.883, 2,   2135.5, 2,   2278.3, 2,    57.00, 2,    16.90, 2, -999.000, 9, -999.000, -999.0000, 9, -999.0000,  -999.00, 9,  -999.00, -999.000, 9, -999.000,   -999.0, 9,   -999.0,  -999.00, 9, -999.0000, 9, -999.0000, 9, -999.0000, 9, -999.0000, 9, -999.0000, 9, -999.0000, 9, -999, 9, -999, 9, -999, 9, -999, 9, -999, 9, -999, 9, -999, 9,  -999.00, 9,  -999.00, 9,  -999.00, 9,  -999.00, 9,   7.6715,  -999.00, 9,  451,   41.8486,  -51.7701
316N200309, A20, 11, 1, 29, 29, 2, 20030927, 0305, 41.8370, -51.7828, 3930,   153.50,    153.5,   8.4177,  34.7903, 2,  34.7917, 2,    223.5, 2,    230.0, 2,     6.17, 2,    13.48, 2,     0.02, 2,     0.95, 2,    3.500, 2,    1.951, 2,    0.251, 2,    2.243, 2,   2145.2, 2,   2288.5, 2,    51.40, 2,    17.00, 2, -999.000, 9, -999.000, -999.0000, 9, -999.0000,  -999.00, 9,  -999.00, -999.000, 9, -999.000,   -999.0, 9,   -999.0,  -999.00, 9, -999.0000, 9, -999.0000, 9, -999.0000, 9, -999.0000, 9, -999.0000, 9, -999.0000, 9, -999, 9, -999, 9, -999, 9, -999, 9, -999, 9, -999, 9, -999, 9,  -999.00, 9,  -999.00, 9,  -999.00, 9,  -999.00, 9,   8.4017,  -999.00, 9,  449,   41.8484,  -51.7703
316N200309, A20, 11, 1, 28, 28, 2, 20030927, 0305, 41.8370, -51.7828, 3930,   178.80,    178.8,   7.8554,  34.7876, 2,  34.7940, 2,    224.9, 2,    215.9, 2,     7.99, 2,    16.19, 2,     0.01, 2,     1.10, 2,    3.118, 2,    1.752, 2,    0.188, 2,    2.302, 2,   2152.0, 2,   2290.7, 2,    50.40, 2,    19.60, 2, -999.000, 9, -999.000, -999.0000, 9, -999.0000,  -999.00, 9,  -999.00, -999.000, 9, -999.000,   -999.0, 9,   -999.0,  -999.00, 9, -999.0000, 9, -999.0000, 9, -999.0000, 9, -999.0000, 9, -999.0000, 9, -999.0000, 9, -999, 9, -999, 9, -999, 9, -999, 9, -999, 9, -999, 9, -999, 9,  -999.00, 9,  -999.00, 9,  -999.00, 9,  -999.00, 9,   7.8376,  -999.00, 9,  448,   41.8483,  -51.7706
316N200309, A20, 11, 1, 27, 27, 2, 20030927, 0305, 41.8370, -51.7828, 3930,   228.40,    228.4,   8.6790,  35.0723, 2,  35.0718, 2,    167.5, 2,    163.0, 2,    11.74, 2,    21.76, 2,     0.01, 2,     1.41, 2,    1.607, 2,    0.917, 2,    0.089, 2,    1.127, 2,   2181.5, 2,   2305.6, 2,    46.30, 2,    25.50, 2, -999.000, 9, -999.000, -999.0000, 9, -999.0000,  -999.00, 9,  -999.00, -999.000, 9, -999.000,   -999.0, 9,   -999.0,  -999.00, 9, -999.0000, 9, -999.0000, 9, -999.0000, 9, -999.0000, 9, -999.0000, 9, -999.0000, 9, -999, 9, -999, 9, -999, 9, -999, 9, -999, 9, -999, 9, -999, 9,  -999.00, 9,  -999.00, 9,  -999.00, 9,  -999.00, 9,   8.6546,  -999.00, 9,  446,   41.8480,  -51.7709
316N200309, A20, 11, 1, 26, 26, 2, 20030927, 0305, 41.8370, -51.7828, 3930,   274.80,    274.8,   7.8696,  35.0072, 2,  35.0079, 2,    162.0, 2,    163.5, 2,    13.16, 2,    22.72, 2,     0.01, 2,     1.49, 2,    1.624, 2,    0.892, 2,    0.118, 2,    1.181, 2,   2188.0, 2,   2299.7, 2,    50.50, 2,    28.10, 4, -999.000, 9, -999.000, -999.0000, 9, -999.0000,  -999.00, 9,  -999.00, -999.000, 9, -999.000,   -999.0, 9,   -999.0,  -999.00, 9, -999.0000, 9, -999.0000, 9, -999.0000, 9, -999.0000, 9, -999.0000, 9, -999.0000, 9, -999, 9, -999, 9, -999, 9, -999, 9, -999, 9, -999, 9, -999, 9,  -999.00, 9,  -999.00, 9,  -999.00, 9,  -999.00, 9,   7.8418,  -999.00, 9,  444,   41.8478,  -51.7712
316N200309, A20, 11, 1, 25, 25, 2, 20030927, 0305, 41.8370, -51.7828, 3930,   350.00,    350.0,   6.6253,  34.9363, 2,  34.9370, 2,    183.6, 2,    191.3, 2,    12.42, 2,    21.31, 2,     0.01, 2,     1.41, 2,    1.939, 2,    1.075, 2,    3.542, 4,    1.777, 2,   2180.0, 2,   2304.3, 2,    44.30, 2,  -999.00, 9, -999.000, 9, -999.000, -999.0000, 9, -999.0000,  -999.00, 9,  -999.00, -999.000, 9, -999.000,   -999.0, 9,   -999.0,  -999.00, 9, -999.0000, 9, -999.0000, 9, -999.0000, 9, -999.0000, 9, -999.0000, 9, -999.0000, 9, -999, 9, -999, 9, -999, 9, -999, 9, -999, 9, -999, 9, -999, 9,  -999.00, 9,  -999.00, 9,  -999.00, 9,  -999.00, 9,   6.5932,  -999.00, 9,  442,   41.8474,  -51.7717
316N200309, A20, 11, 1, 24, 24, 2, 20030927, 0305, 41.8370, -51.7828, 3930,   449.80,    449.8,   6.0378,  35.0007, 2,  34.9990, 2,    200.5, 2,    205.6, 2,    12.40, 2,    20.73, 2,     0.01, 2,     1.36, 2,    1.814, 2,    0.994, 2,    0.095, 2,    1.703, 2,   2179.2, 2,   2304.5, 2,    45.60, 2,  -999.00, 9, -999.000, 9, -999.000, -999.0000, 9, -999.0000,  -999.00, 9,  -999.00, -999.000, 9, -999.000,   -999.0, 9,   -999.0,  -999.00, 9, -999.0000, 9, -999.0000, 9, -999.0000, 9, -999.0000, 9, -999.0000, 9, -999.0000, 9, -999, 9, -999, 9, -999, 9, -999, 9, -999, 9, -999, 9, -999, 9,  -999.00, 9,  -999.00, 9,  -999.00, 9,  -999.00, 9,   5.9982,  -999.00, 9,  439,   41.8471,  -51.7721
316N200309, A20, 11, 1, 23, 23, 2, 20030927, 0305, 41.8370, -51.7828, 3930,   551.00,    551.0,   5.5807,  35.0346, 2,  35.0338, 2,    212.9, 2,    217.7, 2,    12.19, 2,    20.10, 2,     0.01, 2,     1.32, 2,    1.707, 2,    0.888, 2,    0.202, 4,    1.657, 2,   2176.8, 2,   2307.5, 2,    42.40, 2,  -999.00, 9, -999.000, 9, -999.000, -999.0000, 9, -999.0000,  -999.00, 9,  -999.00, -999.000, 9, -999.000,   -999.0, 9,   -999.0,  -999.00, 9, -999.0000, 9, -999.0000, 9, -999.0000, 9, -999.0000, 9, -999.0000, 9, -999.0000, 9, -999, 9, -999, 9, -999, 9, -999, 9, -999, 9, -999, 9, -999, 9,  -999.00, 9,  -999.00, 9,  -999.00, 9,  -999.00, 9,   5.5336,  -999.00, 9,  436,   41.8467,  -51.7725
316N200309, A20, 11, 1, 22, 22, 2, 20030927, 0305, 41.8370, -51.7828, 3930,   675.30,    675.3,   5.0316,  35.0162, 2,  35.0161, 2,    230.2, 2,    234.5, 2,    11.66, 2,    19.18, 2,     0.01, 2,     1.25, 2,    1.939, 2,    1.007, 2,    0.096, 2,    1.986, 2,   2176.6, 2,   2306.7, 2,    44.30, 2,  -999.00, 9, -999.000, 9, -999.000, -999.0000, 9, -999.0000,  -999.00, 9,  -999.00, -999.000, 9, -999.000,   -999.0, 9,   -999.0,  -999.00, 9, -999.0000, 9, -999.0000, 9, -999.0000, 9, -999.0000, 9, -999.0000, 9, -999.0000, 9, -999, 9, -999, 9, -999, 9, -999, 9, -999, 9, -999, 9, -999, 9,  -999.00, 9,  -999.00, 9,  -999.00, 9,  -999.00, 9,   4.9762,  -999.00, 9,  433,   41.8463,  -51.7729
316N200309, A20, 11, 1, 21, 21, 2, 20030927, 0305, 41.8370, -51.7828, 3930,   824.10,    824.1,   4.6250,  35.0016, 2,  35.0008, 2,    244.4, 2,    247.5, 2,    11.34, 2,    18.51, 2,     0.01, 2,     1.22, 2,    2.022, 2,    1.053, 2,    0.105, 2,    2.147, 2,   2167.2, 2,   2304.6, 2,    43.10, 2,  -999.00, 9, -999.000, 9, -999.000, -999.0000, 9, -999.0000,  -999.00, 9,  -999.00, -999.000, 9, -999.000,   -999.0, 9,   -999.0,  -999.00, 9, -999.0000, 9, -999.0000, 9, -999.0000, 9, -999.0000, 9, -999.0000, 9, -999.0000, 9, -999, 9, -999, 9, -999, 9, -999, 9, -999, 9, -999, 9, -999, 9,  -999.00, 9,  -999.00, 9,  -999.00, 9,  -999.00, 9,   4.5591,  -999.00, 9,  429,   41.8459,  -51.7735
316N200309, A20, 11, 1, 20, 20, 2, 20030927, 0305, 41.8370, -51.7828, 3930,   974.40,    974.4,   4.3457,  34.9865, 2,  34.9894, 2,    252.9, 2,    253.7, 2,    11.32, 2,    18.24, 2,     0.01, 2,     1.20, 2,    1.980, 2,    1.036, 2,    0.099, 2,    2.287, 2,   2171.7, 2,   2303.0, 2,    47.00, 2,  -999.00, 9, -999.000, 9, -999.000, -999.0000, 9, -999.0000,  -999.00, 9,  -999.00, -999.000, 9, -999.000,   -999.0, 9,   -999.0,  -999.00, 9, -999.0000, 9, -999.0000, 9, -999.0000, 9, -999.0000, 9, -999.0000, 9, -999.0000, 9, -999, 9, -999, 9, -999, 9, -999, 9, -999, 9, -999, 9, -999, 9,  -999.00, 9,  -999.00, 9,  -999.00, 9,  -999.00, 9,   4.2688,  -999.00, 9,  418,   41.8442,  -51.7754
316N200309, A20, 11, 1, 19, 19, 2, 20030927, 0305, 41.8370, -51.7828, 3930,  1125.80,   1125.8,   4.1412,  34.9699, 2,  34.9711, 2,    262.4, 2,    260.1, 2,    11.09, 2,    17.96, 2,     0.00, 2,     1.18, 2,    2.174, 2,    1.117, 2,    0.116, 2,    2.527, 2,   2166.2, 2,   2301.7, 2,    45.90, 2,  -999.00, 9, -999.000, 9, -999.000, -999.0000, 9, -999.0000,  -999.00, 9,  -999.00, -999.000, 9, -999.000,   -999.0, 9,   -999.0,  -999.00, 9, -999.0000, 9, -999.0000, 9, -999.0000, 9, -999.0000, 9, -999.0000, 9, -999.0000, 9, -999, 9, -999, 9, -999, 9, -999, 9, -999, 9, -999, 9, -999, 9,  -999.00, 9,  -999.00, 9,  -999.00, 9,  -999.00, 9,   4.0528,  -999.00, 9,  412,   41.8437,  -51.7761
316N200309, A20, 11, 1, 18, 18, 2, 20030927, 0305, 41.8370, -51.7828, 3930,  1274.90,   1274.9,   3.8769,  34.9476, 2,  34.9482, 2,    266.5, 2,    266.8, 2,    11.08, 2,    17.68, 2,     0.01, 2,     1.16, 2,    2.264, 2,    1.185, 2,    0.129, 2,    2.742, 2,   2165.3, 2,   2303.7, 2,    44.40, 2,  -999.00, 9, -999.000, 9, -999.000, -999.0000, 9, -999.0000,  -999.00, 9,  -999.00, -999.000, 9, -999.000,   -999.0, 9,   -999.0,  -999.00, 9, -999.0000, 9, -999.0000, 9, -999.0000, 9, -999.0000, 9, -999.0000, 9, -999.0000, 9, -999, 9, -999, 9, -999, 9, -999, 9, -999, 9, -999, 9, -999, 9,  -999.00, 9,  -999.00, 9,  -999.00, 9,  -999.00, 9,   3.7781,  -999.00, 9,  409,   41.8433,  -51.7765
316N200309, A20, 11, 1, 17, 17, 2, 20030927, 0305, 41.8370, -51.7828, 3930,  1399.80,   1399.8,   3.7295,  34.9392, 2,  34.9394, 2,    267.8, 2,    269.0, 2,    11.37, 2,    17.64, 2,     0.01, 2,     1.16, 2,    2.175, 2,    1.154, 2,    0.120, 2,    2.668, 2,   2159.2, 2,   2302.5, 2,  -999.00, 9,  -999.00, 9, -999.000, 9, -999.000, -999.0000, 9, -999.0000,  -999.00, 9,  -999.00, -999.000, 9, -999.000,   -999.0, 9,   -999.0,  -999.00, 9, -999.0000, 9, -999.0000, 9, -999.0000, 9, -999.0000, 9, -999.0000, 9, -999.0000, 9, -999, 9, -999, 9, -999, 9, -999, 9, -999, 9, -999, 9, -999, 9,  -999.00, 9,  -999.00, 9,  -999.00, 9,  -999.00, 9,   3.6213,  -999.00, 9,  406,   41.8429,  -51.7769
316N200309, A20, 11, 1, 16, 16, 2, 20030927, 0305, 41.8370, -51.7828, 3930,  1500.10,   1500.1,   3.6854,  34.9407, 2,  34.9408, 2,    270.8, 2,    268.5, 2,    11.76, 2,    17.66, 2,     0.00, 2,     1.16, 2,    1.994, 2,    1.015, 2,    0.104, 2,    2.485, 2,   2159.8, 2,   2302.5, 2,  -999.00, 9,  -999.00, 9, -999.000, 9, -999.000, -999.0000, 9, -999.0000,  -999.00, 9,  -999.00, -999.000, 9, -999.000,   -999.0, 9,   -999.0,  -999.00, 9, -999.0000, 9, -999.0000, 9, -999.0000, 9, -999.0000, 9, -999.0000, 9, -999.0000, 9, -999, 9, -999, 9, -999, 9, -999, 9, -999, 9, -999, 9, -999, 9,  -999.00, 9,  -999.00, 9,  -999.00, 9,  -999.00, 9,   3.5689,  -999.00, 9,  403,   41.8426,  -51.7773
316N200309, A20, 11, 1, 15, 15, 2, 20030927, 0305, 41.8370, -51.7828, 3930,  1600.00,   1600.0,   3.6166,  34.9372, 2,  34.9414, 2,    270.9, 2,    270.1, 2,    11.85, 2,    17.58, 2,     0.01, 2,     1.16, 2,    1.938, 2,    0.992, 2,    0.099, 2,    2.517, 2,   2158.7, 2,   2302.4, 2,    45.80, 2,  -999.00, 9, -999.000, 9, -999.000, -999.0000, 9, -999.0000,  -999.00, 9,  -999.00, -999.000, 9, -999.000,   -999.0, 9,   -999.0,  -999.00, 9, -999.0000, 9, -999.0000, 9, -999.0000, 9, -999.0000, 9, -999.0000, 9, -999.0000, 9, -999, 9, -999, 9, -999, 9, -999, 9, -999, 9, -999, 9, -999, 9,  -999.00, 9,  -999.00, 9,  -999.00, 9,  -999.00, 9,   3.4918,  -999.00, 9,  400,   41.8423,  -51.7776
316N200309, A20, 11, 1, 14, 14, 2, 20030927, 0305, 41.8370, -51.7828, 3930,  1699.80,   1699.8,   3.5597,  34.9379, 2,  34.9386, 2,    271.1, 2,    270.3, 2,    12.24, 2,    17.54, 2,     0.00, 2,     1.16, 2,    1.831, 2,    0.933, 2,    0.113, 2,    2.388, 2,   2160.2, 2,   2303.9, 2,  -999.00, 9,  -999.00, 9, -999.000, 9, -999.000, -999.0000, 9, -999.0000,  -999.00, 9,  -999.00, -999.000, 9, -999.000,   -999.0, 9,   -999.0,  -999.00, 9, -999.0000, 9, -999.0000, 9, -999.0000, 9, -999.0000, 9, -999.0000, 9, -999.0000, 9, -999, 9, -999, 9, -999, 9, -999, 9, -999, 9, -999, 9, -999, 9,  -999.00, 9,  -999.00, 9,  -999.00, 9,  -999.00, 9,   3.4267,  -999.00, 9,  358,   41.8420,  -51.7777
316N200309, A20, 11, 1, 13, 13, 2, 20030927, 0305, 41.8370, -51.7828, 3930,  1825.00,   1825.0,   3.4832,  34.9341, 2,  34.9347, 2,    272.0, 2,    271.0, 2,    12.53, 2,    17.56, 2,     0.00, 2,     1.16, 2,    1.772, 2,    0.895, 2,    0.087, 2,    2.332, 2,   2158.3, 2,   2306.5, 2,  -999.00, 9,  -999.00, 9, -999.000, 9, -999.000, -999.0000, 9, -999.0000,  -999.00, 9,  -999.00, -999.000, 9, -999.000,   -999.0, 9,   -999.0,  -999.00, 9, -999.0000, 9, -999.0000, 9, -999.0000, 9, -999.0000, 9, -999.0000, 9, -999.0000, 9, -999, 9, -999, 9, -999, 9, -999, 9, -999, 9, -999, 9, -999, 9,  -999.00, 9,  -999.00, 9,  -999.00, 9,  -999.00, 9,   3.3398,  -999.00, 9,  355,   41.8417,  -51.7779
316N200309, A20, 11, 1, 12, 12, 2, 20030927, 0305, 41.8370, -51.7828, 3930,  1974.60,   1974.6,   3.4002,  34.9345, 2,  34.9360, 2,    272.1, 2,    271.2, 2,    13.33, 2,    17.53, 2,     0.00, 2,     1.16, 2,    1.600, 2,    0.824, 2,    0.080, 2,    2.201, 2,   2159.3, 2,   2304.4, 2,  -999.00, 9,  -999.00, 9, -999.000, 9, -999.000, -999.0000, 9, -999.0000,  -999.00, 9,  -999.00, -999.000, 9, -999.000,   -999.0, 9,   -999.0,  -999.00, 9, -999.0000, 9, -999.0000, 9, -999.0000, 9, -999.0000, 9, -999.0000, 9, -999.0000, 9, -999, 9, -999, 9, -999, 9, -999, 9, -999, 9, -999, 9, -999, 9,  -999.00, 9,  -999.00, 9,  -999.00, 9,  -999.00, 9,   3.2441,  -999.00, 9,  351,   41.8413,  -51.7782
316N200309, A20, 11, 1, 11, 11, 2, 20030927, 0305, 41.8370, -51.7828, 3930,  2149.40,   2149.4,   3.3163,  34.9393, 2,  34.9406, 2,    271.1, 2,    269.6, 2,    14.43, 2,    17.64, 2,     0.01, 2,     1.17, 2,    1.317, 2,    0.661, 2,    0.060, 2,    1.849, 2,   2159.4, 2,   2300.9, 2,    44.90, 2,  -999.00, 9, -999.000, 9, -999.000, -999.0000, 9, -999.0000,  -999.00, 9,  -999.00, -999.000, 9, -999.000,   -999.0, 9,   -999.0,  -999.00, 9, -999.0000, 9, -999.0000, 9, -999.0000, 9, -999.0000, 9, -999.0000, 9, -999.0000, 9, -999, 9, -999, 9, -999, 9, -999, 9, -999, 9, -999, 9, -999, 9,  -999.00, 9,  -999.00, 9,  -999.00, 9,  -999.00, 9,   3.1449,  -999.00, 9,  347,   41.8409,  -51.7787
316N200309, A20, 11, 1, 10, 10, 2, 20030927, 0305, 41.8370, -51.7828, 3930,  2375.20,   2375.2,   3.2107,  34.9453, 2,  34.9461, 2,    268.3, 2,    266.8, 2,    16.37, 2,    17.86, 2,     0.00, 2,     1.18, 2,    0.896, 2,    0.478, 2,    0.037, 2,    1.462, 2,   2166.3, 2,   2304.8, 2,  -999.00, 9,  -999.00, 9, -999.000, 9, -999.000, -999.0000, 9, -999.0000,  -999.00, 9,  -999.00, -999.000, 9, -999.000,   -999.0, 9,   -999.0,  -999.00, 9, -999.0000, 9, -999.0000, 9, -999.0000, 9, -999.0000, 9, -999.0000, 9, -999.0000, 9, -999, 9, -999, 9, -999, 9, -999, 9, -999, 9, -999, 9, -999, 9,  -999.00, 9,  -999.00, 9,  -999.00, 9,  -999.00, 9,   3.0192,  -999.00, 9,  343,   41.8405,  -51.7791