BOTTLE,20220816CCHSIOAMB
EXPOCODE,SECT_ID,STNNBR,CASTNO,SAMPNO,BTLNBR,BTLNBR_FLAG_W,DATE,TIME,LATITUDE,LONGITUDE,DEPTH,CTDRAW,CTDPRS,CTDTMP,CTDSAL,CTDSAL_FLAG_W,SALNTY,SALNTY_FLAG_W,CTDOXY,CTDOXY_FLAG_W,OXYGEN,OXYGEN_FLAG_W,SILCAT,SILCAT_FLAG_W,NITRAT,NITRAT_FLAG_W,NITRIT,NITRIT_FLAG_W,PHSPHT,PHSPHT_FLAG_W,CFC-11,CFC-11_FLAG_W,CFC-12,CFC-12_FLAG_W,CFC113,CFC113_FLAG_W,CCL4,CCL4_FLAG_W,TCARBN,TCARBN_FLAG_W,ALKALI,ALKALI_FLAG_W,DOC,DOC_FLAG_W,TDN,TDN_FLAG_W,TRITUM,TRITUM_FLAG_W,TRITER,HELIUM,HELIUM_FLAG_W,HELIER,DELHE3,DELHE3_FLAG_W,DELHER,NEON,NEON_FLAG_W,NEONER,DELC14,DELC14_FLAG_W,C14ERR,DELC13,DELC13_FLAG_W,CDOM325,CDOM325_FLAG_W,CDOM340,CDOM340_FLAG_W,CDOM380,CDOM380_FLAG_W,CDOM412,CDOM412_FLAG_W,CDOMSL,CDOMSL_FLAG_W,CDOMSN,CDOMSN_FLAG_W,DCNS,DCNS_FLAG_W,ARABI,ARABI_FLAG_W,FUCO,FUCO_FLAG_W,GALA,GALA_FLAG_W,GLUC,GLUC_FLAG_W,MAN,MAN_FLAG_W,RHAM,RHAM_FLAG_W,BRDU,BRDU_FLAG_W,PEUK,PEUK_FLAG_W,PROC,PROC_FLAG_W,SYN,SYN_FLAG_W,THETA,BACT,BACT_FLAG_W,BTL_TIME,BTL_LAT,BTL_LON
,,,,,,,,,,,METERS,DBAR,DBAR,ITS-90,PSS-78,,PSS-78,,UMOL/KG,,UMOL/KG,,UMOL/KG,,UMOL/KG,,UMOL/KG,,UMOL/KG,,PMOL/KG,,PMOL/KG,,PMOL/KG,,PMOL/KG,,UMOL/KG,,UMOL/KG,,UMOL/KG,,UMOL/KG,,TU,,TU,NMOL/KG,,NMOL/KG,PERCNT,,PERCNT,NMOL/KG,,NMOL/KG,/MILLE,,/MILLE,/MILLE,,1/M,,1/M,,1/M,,1/M,,1/NM,,1/NM,,NMOL/KG,,NMOL/KG,,NMOL/KG,,NMOL/KG,,NMOL/KG,,NMOL/KG,,NMOL/KG,,PMOL/L/H,,E6/L,,E7/L,,E6/L,,DEG C,E8/L,,,,
316N200309, A20, 23, 1, 36, 36, 2, 20030930, 1057, 37.6017, -52.4870, 5419,     3.20,      3.2,  25.1581,  36.4222, 2,  36.4297, 2,    207.1, 2,    206.6, 2,     0.65, 2,     0.15, 2,     0.00, 2,     0.03, 2,   21.757, 4, -144.057, 4,    0.462, 4,    4.920, 4,   2039.7, 2,   2381.6, 2,    70.10, 2,     5.00, 2, -999.000, 9, -999.000, -999.0000, 9, -999.0000,  -999.00, 9,  -999.00, -999.000, 9, -999.000,   -999.0, 9,   -999.0,  -999.00, 9,    0.0310, 2,    0.0270, 2,    0.0130, 2,    0.0100, 2,    0.0340, 2,    0.0190, 2, 1938, 4, 50, 2, 302, 2, 421, 2, 366, 2, 624, 2, 175, 2,     3.00, 2,     0.56, 2,    10.08, 2,     2.67, 2,  25.1574,     3.24, 2, 1316,   37.6263,  -52.4618
316N200309, A20, 23, 1, 35, 35, 2, 20030930, 1057, 37.6017, -52.4870, 5419,    24.70,     24.7,  25.1604,  36.4238, 2,  36.4265, 2,    207.0, 2,    206.8, 2,     0.63, 2,     0.15, 2,     0.00, 2,     0.02, 2,    1.731, 2,    1.132, 2,    0.112, 2,    1.907, 2,   2039.7, 2,   2378.9, 2,    66.80, 2,     4.30, 2, -999.000, 9, -999.000, -999.0000, 9, -999.0000,  -999.00, 9,  -999.00, -999.000, 9, -999.000,   -999.0, 9,   -999.0,  -999.00, 9,    0.0350, 2,    0.0280, 2,    0.0110, 2,    0.0090, 2,    0.0240, 2,    0.0240, 2, -999, 9, -999, 9, -999, 9, -999, 9, -999, 9, -999, 9, -999, 9,     3.93, 2,     0.56, 2,    10.07, 2,     2.67, 2,  25.1550,     4.07, 2, 1314,   37.6258,  -52.4625
316N200309, A20, 23, 1, 34, 34, 2, 20030930, 1057, 37.6017, -52.4870, 5419,    49.50,     49.5,  25.1335,  36.4329, 2,  36.4340, 2,    206.7, 2,    207.4, 2,     0.63, 2,     0.15, 2,     0.00, 2,     0.02, 2,    1.737, 2,    1.117, 2,    0.104, 2,    1.857, 2,   2040.9, 2,   2381.5, 2,    70.30, 2,     4.80, 2, -999.000, 9, -999.000, -999.0000, 9, -999.0000,  -999.00, 9,  -999.00, -999.000, 9, -999.000,   -999.0, 9,   -999.0,  -999.00, 9,    0.0440, 2,    0.0350, 2,    0.0170, 2,    0.0130, 2,    0.0160, 2,    0.0170, 2, 2075, 4, 75, 2, 288, 2, 504, 2, 285, 2, 734, 2, 189, 2,     3.32, 2,     0.84, 2,    11.25, 2,     2.67, 2,  25.1227,     3.32, 2, 1312,   37.6254,  -52.4630
316N200309, A20, 23, 1, 33, 33, 2, 20030930, 1057, 37.6017, -52.4870, 5419,    74.80,     74.8,  22.4300,  36.5821, 2,  36.5783, 2,    223.8, 2,    223.1, 2,     0.51, 2,     0.14, 2,     0.01, 2,     0.03, 2,    2.123, 2,    1.322, 2,    0.140, 2,    1.256, 2,   2061.8, 2,   2390.1, 2,    65.60, 2,     4.60, 2, -999.000, 9, -999.000, -999.0000, 9, -999.0000,  -999.00, 9,  -999.00, -999.000, 9, -999.000,   -999.0, 9,   -999.0,  -999.00, 9,    0.1250, 2,    0.0920, 2,    0.0430, 2,    0.0300, 2,    0.0170, 2,    0.0190, 2, 1618, 4, 52, 2, 231, 2, 345, 2, 313, 2, 522, 2, 155, 2,     0.58, 2,     3.07, 2,    14.63, 2,     3.75, 2,  22.4149,     3.65, 2, 1310,   37.6250,  -52.4635
316N200309, A20, 23, 1, 32, 32, 2, 20030930, 1057, 37.6017, -52.4870, 5419,    92.50,     92.5,  20.6946,  36.5876, 2,  36.5910, 2,    197.8, 2,    223.1, 2,     0.50, 2,     0.11, 2,     0.08, 2,     0.04, 2,    2.216, 2,    1.399, 2,    0.161, 2,    1.167, 2,   2074.3, 2,   2387.1, 2,    61.00, 2,     4.50, 2, -999.000, 9, -999.000, -999.0000, 9, -999.0000,  -999.00, 9,  -999.00, -999.000, 9, -999.000,   -999.0, 9,   -999.0,  -999.00, 9,    0.1500, 2,    0.1120, 2,    0.0530, 2,    0.0390, 2,    0.0150, 2,    0.0170, 2, 1261, 4, 95, 2, 159, 2, 257, 2, 320, 2, 319, 2, 111, 2,     0.30, 2,     1.84, 2,     2.65, 2,     0.30, 2,  20.6769,     2.80, 2, 1309,   37.6247,  -52.4639
316N200309, A20, 23, 1, 31, 31, 2, 20030930, 1057, 37.6017, -52.4870, 5419,   125.60,    125.6,  19.8726,  36.6448, 2,  36.6447, 2,    199.4, 2,    198.9, 2,     0.98, 2,     1.84, 2,     0.06, 2,     0.10, 2,    2.236, 2,    1.364, 2,    0.088, 2,    0.748, 2,   2095.1, 2,   2390.8, 2,    58.10, 2,     6.00, 2, -999.000, 9, -999.000, -999.0000, 9, -999.0000,  -999.00, 9,  -999.00, -999.000, 9, -999.000,   -999.0, 9,   -999.0,  -999.00, 9,    0.1070, 2,    0.0820, 2,    0.0430, 2,    0.0340, 2,    0.0130, 2,    0.0150, 2, 597, 4, 43, 2, 96, 2, 131, 2, 119, 2, 141, 2, 67, 2,     0.21, 2,     0.56, 2,     0.81, 2,     0.00, 2,  19.8493,     1.38, 2, 1307,   37.6244,  -52.4642
316N200309, A20, 23, 1, 30, 30, 2, 20030930, 1057, 37.6017, -52.4870, 5419,   200.80,    200.8,  18.8786,  36.6002, 2,  36.6019, 2,    201.5, 2,    204.8, 2,     0.96, 2,     2.65, 2,     0.02, 2,     0.13, 2,    2.267, 2,    1.412, 2,    0.072, 2,    0.673, 2,   2094.3, 2,   2388.7, 2,    54.40, 2,     6.60, 2, -999.000, 9, -999.000, -999.0000, 9, -999.0000,  -999.00, 9,  -999.00, -999.000, 9, -999.000,   -999.0, 9,   -999.0,  -999.00, 9,    0.0670, 2,    0.0510, 2,    0.0260, 2,    0.0220, 2,    0.0180, 2,    0.0180, 2, 514, 4, 35, 2, 74, 2, 104, 2, 141, 4, 106, 2, 54, 2,     0.25, 2,     0.22, 2,     0.00, 2,     0.00, 2,  18.8426,     1.10, 2, 1305,   37.6239,  -52.4649
316N200309, A20, 23, 1, 29, 29, 2, 20030930, 1057, 37.6017, -52.4870, 5419,   274.10,    274.1,  18.5353,  36.5715, 2,  36.5741, 2,    206.3, 2,    206.6, 2,     1.14, 2,     3.00, 2,     0.01, 2,     0.16, 2,    2.327, 2,    1.398, 2,    0.087, 2,    0.760, 2,   2096.5, 2,   2387.0, 2,    52.10, 2,     6.90, 2, -999.000, 9, -999.000, -999.0000, 9, -999.0000,  -999.00, 9,  -999.00, -999.000, 9, -999.000,   -999.0, 9,   -999.0,  -999.00, 9,    0.0670, 2,    0.0510, 2,    0.0250, 2,    0.0180, 2,    0.0190, 2,    0.0190, 2, 540, 4, 29, 2, 85, 2, 102, 2, 165, 2, 96, 2, 63, 2,     0.94, 2,  -999.00, 9,  -999.00, 9,  -999.00, 9,  18.4867,  -999.00, 9, 1303,   37.6233,  -52.4654
316N200309, A20, 23, 1, 28, 28, 2, 20030930, 1057, 37.6017, -52.4870, 5419,   350.10,    350.1,  18.1690,  36.5265, 2,  36.5276, 2,    201.2, 2,    202.8, 2,     1.43, 2,     3.93, 2,     0.01, 2,     0.21, 2,    2.332, 2,    1.400, 2,    0.064, 2,    0.741, 2,   2104.6, 2,   2383.1, 2,    50.80, 2,  -999.00, 9, -999.000, 9, -999.000, -999.0000, 9, -999.0000,  -999.00, 9,  -999.00, -999.000, 9, -999.000,   -999.0, 9,   -999.0,  -999.00, 9,    0.0760, 2,    0.0550, 2,    0.0280, 2,    0.0260, 2,    0.0190, 2,    0.0200, 2, -999, 9, -999, 9, -999, 9, -999, 9, -999, 9, -999, 9, -999, 9,  -999.00, 9,  -999.00, 9,  -999.00, 9,  -999.00, 9,  18.1077,  -999.00, 9, 1300,   37.6228,  -52.4658
316N200309, A20, 23, 1, 27, 27, 2, 20030930, 1057, 37.6017, -52.4870, 5419,   450.50,    450.5,  17.5625,  36.4458, 2,  36.4477, 2,    198.1, 2,    196.1, 2,     1.81, 2,     5.58, 2,     0.01, 2,     0.30, 2,    2.333, 2,    1.372, 2,    0.233, 4,    0.634, 2,   2113.7, 2,   2378.8, 2,    49.60, 2,  -999.00, 9, -999.000, 9, -999.000, -999.0000, 9, -999.0000,  -999.00, 9,  -999.00, -999.000, 9, -999.000,   -999.0, 9,   -999.0,  -999.00, 9,    0.0700, 2,    0.0500, 2,    0.0240, 2,    0.0210, 2,    0.0210, 2,    0.0220, 2, 353, 4, 32, 2, 60, 2, 79, 2, 70, 4, 69, 4, 44, 2,  -999.00, 9,  -999.00, 9,  -999.00, 9,  -999.00, 9,  17.4853,  -999.00, 9, 1258,   37.6223,  -52.4664
316N200309, A20, 23, 1, 26, 26, 2, 20030930, 1057, 37.6017, -52.4870, 5419,   549.80,    549.8,  16.6014,  36.2822, 2,  36.2831, 2,    193.5, 2,    191.9, 2,     2.59, 2,     7.43, 2,     0.01, 2,     0.43, 2,    2.313, 2,    1.356, 2,    0.046, 2,    0.640, 2,   2122.9, 2,   2370.4, 2,    48.50, 2,  -999.00, 9, -999.000, 9, -999.000, -999.0000, 9, -999.0000,  -999.00, 9,  -999.00, -999.000, 9, -999.000,   -999.0, 9,   -999.0,  -999.00, 9,    0.0770, 2,    0.0540, 2,    0.0260, 2,    0.0220, 2,    0.0210, 2,    0.0220, 2, 531, 4, 62, 2, 59, 2, 81, 2, 161, 2, 110, 2, 58, 2,  -999.00, 9,  -999.00, 9,  -999.00, 9,  -999.00, 9,  16.5104,  -999.00, 9, 1255,   37.6217,  -52.4669
316N200309, A20, 23, 1, 25, 25, 2, 20030930, 1057, 37.6017, -52.4870, 5419,   676.50,    676.5,  15.3087,  36.0824, 2,  36.0819, 2,    195.4, 2,    199.7, 2,     3.07, 2,     8.70, 2,     0.01, 2,     0.53, 2,    2.383, 2,    1.414, 2,    0.054, 2,    0.801, 2,   2128.8, 2,   2361.1, 2,    48.60, 2,  -999.00, 9, -999.000, 9, -999.000, -999.0000, 9, -999.0000,  -999.00, 9,  -999.00, -999.000, 9, -999.000,   -999.0, 9,   -999.0,  -999.00, 9,    0.0920, 2,    0.0650, 2,    0.0310, 2,    0.0310, 3,    0.0130, 3,    0.0170, 3, -999, 9, -999, 9, -999, 9, -999, 9, -999, 9, -999, 9, -999, 9,  -999.00, 9,  -999.00, 9,  -999.00, 9,  -999.00, 9,  15.2025,  -999.00, 9, 1252,   37.6211,  -52.4677
316N200309, A20, 23, 1, 24, 24, 2, 20030930, 1057, 37.6017, -52.4870, 5419,   800.00,    800.0,  12.9914,  35.6711, 2,  35.6715, 2,    185.4, 2,    180.9, 2,     6.14, 2,    14.10, 2,     0.00, 2,     0.89, 2,    2.112, 2,    1.208, 2,    0.062, 2,    0.731, 2,   2150.6, 2,   2340.5, 2,    47.80, 2,  -999.00, 9, -999.000, 9, -999.000, -999.0000, 9, -999.0000,  -999.00, 9,  -999.00, -999.000, 9, -999.000,   -999.0, 9,   -999.0,  -999.00, 9,    0.1120, 2,    0.0780, 2,    0.0370, 2,    0.0290, 2,    0.0170, 2,    0.0200, 2, -999, 9, -999, 9, -999, 9, -999, 9, -999, 9, -999, 9, -999, 9,  -999.00, 9,  -999.00, 9,  -999.00, 9,  -999.00, 9,  12.8783,  -999.00, 9, 1249,   37.6204,  -52.4684
316N200309, A20, 23, 1, 23, 23, 2, 20030930, 1057, 37.6017, -52.4870, 5419,   900.90,    900.9,  11.1620,  35.4431, 2,  35.4435, 2,    170.6, 2,    168.0, 2,     8.90, 2,    18.10, 2,     0.00, 2,     1.15, 2,    1.802, 2,    0.990, 2,    0.047, 2,    0.659, 2,   2169.4, 2,   2329.2, 2,    45.00, 2,  -999.00, 9, -999.000, 9, -999.000, -999.0000, 9, -999.0000,  -999.00, 9,  -999.00, -999.000, 9, -999.000,   -999.0, 9,   -999.0,  -999.00, 9,    0.1060, 2,    0.0730, 2,    0.0330, 2,    0.0220, 2,    0.0210, 2,    0.0220, 2, -999, 9, -999, 9, -999, 9, -999, 9, -999, 9, -999, 9, -999, 9,  -999.00, 9,  -999.00, 9,  -999.00, 9,  -999.00, 9,  11.0458,  -999.00, 9, 1246,   37.6198,  -52.4691
316N200309, A20, 23, 1, 22, 22, 2, 20030930, 1057, 37.6017, -52.4870, 5419,  1034.20,   1034.2,   8.6766,  35.1603, 2,  35.1601, 2,    156.3, 2,    156.0, 2,    13.78, 2,    23.03, 2,     0.00, 2,     1.51, 2,    1.138, 2,    0.614, 2,    0.033, 2,    0.650, 2,   2190.8, 2,   2316.4, 2,    43.80, 2,  -999.00, 9, -999.000, 9, -999.000, -999.0000, 9, -999.0000,  -999.00, 9,  -999.00, -999.000, 9, -999.000,   -999.0, 9,   -999.0,  -999.00, 9,    0.1270, 2,    0.0880, 2,    0.0400, 2,    0.0330, 2,    0.0150, 2,    0.0190, 2, 1595, 4, 21, 2, 34, 2, 79, 2, 1277, 4, 142, 2, 42, 2,  -999.00, 9,  -999.00, 9,  -999.00, 9,  -999.00, 9,   8.5610,  -999.00, 9, 1242,   37.6192,  -52.4701
316N200309, A20, 23, 1, 21, 21, 2, 20030930, 1057, 37.6017, -52.4870, 5419,  1276.60,   1276.6,   5.5143,  35.0041, 2,  35.0067, 2,    217.5, 2,    222.3, 2,    12.77, 2,    19.60, 2,     0.00, 2,     1.32, 2,    2.009, 2,    1.059, 2,    0.103, 2,    1.902, 2,   2178.1, 2,   2308.5, 2,    45.60, 2,  -999.00, 9, -999.000, 9, -999.000, -999.0000, 9, -999.0000,  -999.00, 9,  -999.00, -999.000, 9, -999.000,   -999.0, 9,   -999.0,  -999.00, 9,    0.1330, 2,    0.0930, 2,    0.0460, 2,    0.0420, 3,    0.0120, 3,    0.0150, 3, -999, 9, -999, 9, -999, 9, -999, 9, -999, 9, -999, 9, -999, 9,  -999.00, 9,  -999.00, 9,  -999.00, 9,  -999.00, 9,   5.3995,  -999.00, 9, 1237,   37.6183,  -52.4714
316N200309, A20, 23, 1, 20, 20, 2, 20030930, 1057, 37.6017, -52.4870, 5419,  1402.30,   1402.3,   4.8723,  34.9895, 2,  34.9896, 2,    239.5, 2,    242.6, 2,    11.96, 2,    18.47, 2,     0.00, 2,     1.24, 2,    2.339, 2,    1.214, 2,    0.128, 2,    2.375, 2,   2173.4, 2,   2307.3, 2,    45.00, 2,  -999.00, 9, -999.000, 9, -999.000, -999.0000, 9, -999.0000,  -999.00, 9,  -999.00, -999.000, 9, -999.000,   -999.0, 9,   -999.0,  -999.00, 9,    0.1280, 2,    0.0890, 2,    0.0430, 2,    0.0460, 3,    0.0100, 3,    0.0140, 3, -999, 9, -999, 9, -999, 9, -999, 9, -999, 9, -999, 9, -999, 9,  -999.00, 9,  -999.00, 9,  -999.00, 9,  -999.00, 9,   4.7517,  -999.00, 9, 1233,   37.6177,  -52.4722
316N200309, A20, 23, 1, 19, 19, 2, 20030930, 1057, 37.6017, -52.4870, 5419,  1502.40,   1502.4,   4.6925,  34.9912, 2,  34.9931, 2,    249.0, 2,    247.0, 2,    11.95, 2,    18.27, 2,     0.00, 2,     1.23, 2,    2.158, 2,    1.142, 2,    0.126, 2,    2.276, 2,   2170.1, 2,   2307.4, 2,  -999.00, 9,  -999.00, 9, -999.000, 9, -999.000, -999.0000, 9, -999.0000,  -999.00, 9,  -999.00, -999.000, 9, -999.000,   -999.0, 9,   -999.0,  -999.00, 9, -999.0000, 9, -999.0000, 9, -999.0000, 9, -999.0000, 9, -999.0000, 9, -999.0000, 9, -999, 9, -999, 9, -999, 9, -999, 9, -999, 9, -999, 9, -999, 9,  -999.00, 9,  -999.00, 9,  -999.00, 9,  -999.00, 9,   4.5642,  -999.00, 9, 1230,   37.6172,  -52.4728
316N200309, A20, 23, 1, 18, 18, 2, 20030930, 1057, 37.6017, -52.4870, 5419,  1627.50,   1627.5,   4.5039,  34.9878, 2,  34.9890, 2,    254.3, 2,    253.4, 2,    11.83, 2,    17.98, 2,     0.00, 2,     1.21, 2,    2.248, 2,    1.175, 2,    0.121, 2,    2.426, 2,   2169.3, 2,   2307.0, 2,    44.70, 2,  -999.00, 9, -999.000, 9, -999.000, -999.0000, 9, -999.0000,  -999.00, 9,  -999.00, -999.000, 9, -999.000,   -999.0, 9,   -999.0,  -999.00, 9,    0.1270, 2,    0.0880, 2,    0.0460, 2,    0.0490, 3,    0.0090, 3,    0.0130, 3, -999, 9, -999, 9, -999, 9, -999, 9, -999, 9, -999, 9, -999, 9,  -999.00, 9,  -999.00, 9,  -999.00, 9,  -999.00, 9,   4.3658,  -999.00, 9, 1227,   37.6166,  -52.4733
316N200309, A20, 23, 1, 17, 17, 2, 20030930, 1057, 37.6017, -52.4870, 5419,  1723.40,   1723.4,   4.4850,  35.0082, 2,  35.0079, 2,    257.4, 2,    253.6, 2,    12.01, 2,    17.93, 2,     0.00, 2,     1.20, 2,    1.955, 6,    1.008, 6,    0.099, 6,    2.217, 6,   2167.5, 2,   2309.6, 2,  -999.00, 9,  -999.00, 9, -999.000, 9, -999.000, -999.0000, 9, -999.0000,  -999.00, 9,  -999.00, -999.000, 9, -999.000,   -999.0, 9,   -999.0,  -999.00, 9, -999.0000, 9, -999.0000, 9, -999.0000, 9, -999.0000, 9, -999.0000, 9, -999.0000, 9, -999, 9, -999, 9, -999, 9, -999, 9, -999, 9, -999, 9, -999, 9,  -999.00, 9,  -999.00, 9,  -999.00, 9,  -999.00, 9,   4.3377,  -999.00, 9, 1225,   37.6162,  -52.4737
316N200309, A20, 23, 1, 16, 16, 2, 20030930, 1057, 37.6017, -52.4870, 5419,  1826.00,   1826.0,   4.1137,  34.9600, 2,  34.9610, 2,    260.2, 2,    274.2, 3,    11.70, 2,    17.64, 2,     0.00, 2,     1.18, 2,    2.305, 2,    1.189, 2,    0.128, 2,    2.638, 2,   2165.2, 2,   2303.9, 2,  -999.00, 9,  -999.00, 9, -999.000, 9, -999.000, -999.0000, 9, -999.0000,  -999.00, 9,  -999.00, -999.000, 9, -999.000,   -999.0, 9,   -999.0,  -999.00, 9, -999.0000, 9, -999.0000, 9, -999.0000, 9, -999.0000, 9, -999.0000, 9, -999.0000, 9, -999, 9, -999, 9, -999, 9, -999, 9, -999, 9, -999, 9, -999, 9,  -999.00, 9,  -999.00, 9,  -999.00, 9,  -999.00, 9,   3.9616,  -999.00, 9, 1222,   37.6158,  -52.4741
316N200309, A20, 23, 1, 15, 15, 2, 20030930, 1057, 37.6017, -52.4870, 5419,  2127.60,   2127.6,   3.8249,  34.9449, 2,  34.9459, 2,    266.3, 2,    268.4, 3,    12.08, 2,    17.44, 2,     0.00, 2,     1.17, 2,    2.131, 2,    1.099, 2,    0.112, 2,    2.606, 2,   2162.9, 2,   2304.1, 2,    44.00, 2,  -999.00, 9, -999.000, 9, -999.000, -999.0000, 9, -999.0000,  -999.00, 9,  -999.00, -999.000, 9, -999.000,   -999.0, 9,   -999.0,  -999.00, 9,    0.1200, 2,    0.0830, 2,    0.0400, 2,    0.0350, 3,    0.0130, 3,    0.0170, 3, -999, 9, -999, 9, -999, 9, -999, 9, -999, 9, -999, 9, -999, 9,  -999.00, 9,  -999.00, 9,  -999.00, 9,  -999.00, 9,   3.6475,  -999.00, 9, 1215,   37.6146,  -52.4751
316N200309, A20, 23, 1, 14, 14, 2, 20030930, 1057, 37.6017, -52.4870, 5419,  2376.00,   2376.0,   3.6056,  34.9431, 2,  34.9439, 2,    267.9, 2,    269.0, 2,    13.47, 2,    17.55, 2,     0.00, 2,     1.18, 2,    1.583, 2,    0.813, 2,    0.074, 2,    2.151, 2,   2161.8, 2,   2305.4, 2,  -999.00, 9,  -999.00, 9, -999.000, 9, -999.000, -999.0000, 9, -999.0000,  -999.00, 9,  -999.00, -999.000, 9, -999.000,   -999.0, 9,   -999.0,  -999.00, 9, -999.0000, 9, -999.0000, 9, -999.0000, 9, -999.0000, 9, -999.0000, 9, -999.0000, 9, -999, 9, -999, 9, -999, 9, -999, 9, -999, 9, -999, 9, -999, 9,  -999.00, 9,  -999.00, 9,  -999.00, 9,  -999.00, 9,   3.4071,  -999.00, 9, 1209,   37.6138,  -52.4758
316N200309, A20, 23, 1, 13, 13, 2, 20030930, 1057, 37.6017, -52.4870, 5419,  2627.30,   2627.3,   3.4698,  34.9457, 2,  34.9463, 2,    267.6, 2,    268.3, 2,    14.85, 2,    17.60, 2,     0.00, 2,     1.18, 2,    1.270, 2,    0.615, 2,    0.050, 2,    1.860, 2,   2162.3, 2,   2308.2, 2,    43.60, 2,  -999.00, 9, -999.000, 9, -999.000, -999.0000, 9, -999.0000,  -999.00, 9,  -999.00, -999.000, 9, -999.000,   -999.0, 9,   -999.0,  -999.00, 9,    0.1350, 2,    0.0910, 2,    0.0450, 2,    0.0360, 2,    0.0140, 3,    0.0180, 3, -999, 9, -999, 9, -999, 9, -999, 9, -999, 9, -999, 9, -999, 9,  -999.00, 9,  -999.00, 9,  -999.00, 9,  -999.00, 9,   3.2482,  -999.00, 9, 1203,   37.6129,  -52.4765
316N200309, A20, 23, 1, 12, 12, 2, 20030930, 1057, 37.6017, -52.4870, 5419,  2875.10,   2875.1,   3.3395,  34.9488, 2,  34.9490, 2,    265.8, 2,    266.7, 2,    16.54, 2,    17.75, 2,     0.00, 2,     1.19, 2,    0.916, 2,    0.462, 2,    0.033, 2,    1.444, 2,   2163.2, 2,   2309.8, 2,  -999.00, 9,  -999.00, 9, -999.000, 9, -999.000, -999.0000, 9, -999.0000,  -999.00, 9,  -999.00, -999.000, 9, -999.000,   -999.0, 9,   -999.0,  -999.00, 9, -999.0000, 9, -999.0000, 9, -999.0000, 9, -999.0000, 9, -999.0000, 9, -999.0000, 9, -999, 9, -999, 9, -999, 9, -999, 9, -999, 9, -999, 9, -999, 9,  -999.00, 9,  -999.00, 9,  -999.00, 9,  -999.00, 9,   3.0947,  -999.00, 9, 1158,   37.6121,  -52.4771
316N200309, A20, 23, 1, 11, 11, 2, 20030930, 1057, 37.6017, -52.4870, 5419,  3100.50,   3100.5,   3.1723,  34.9468, 2,  34.9469, 2,    265.3, 2,    265.6, 2,    18.43, 2,    17.90, 2,     0.00, 2,     1.21, 2,    0.682, 2,    0.346, 2,    0.021, 2,    1.193, 2,   2164.2, 2,   2312.4, 2,  -999.00, 9,  -999.00, 9, -999.000, 9, -999.000, -999.0000, 9, -999.0000,  -999.00, 9,  -999.00, -999.000, 9, -999.000,   -999.0, 9,   -999.0,  -999.00, 9, -999.0000, 9, -999.0000, 9, -999.0000, 9, -999.0000, 9, -999.0000, 9, -999.0000, 9, -999, 9, -999, 9, -999, 9, -999, 9, -999, 9, -999, 9, -999, 9,  -999.00, 9,  -999.00, 9,  -999.00, 9,  -999.00, 9,   2.9071,  -999.00, 9, 1152,   37.6112,  -52.4778
316N200309, A20, 23, 1, 10, 10, 2, 20030930, 1057, 37.6017, -52.4870, 5419,  3301.30,   3301.3,   3.0079,  34.9384, 2,  34.9386, 2,    265.6, 2,    266.3, 2,    19.82, 2,    17.85, 2,     0.00, 2,     1.21, 2,    0.674, 2,    0.359, 2,    0.026, 2,    1.174, 2,   2166.4, 2,   2313.6, 2,    44.50, 2,  -999.00, 9, -999.000, 9, -999.000, -999.0000, 9, -999.0000,  -999.00, 9,  -999.00, -999.000, 9, -999.000,   -999.0, 9,   -999.0,  -999.00, 9,    0.1260, 2,    0.0870, 2,    0.0390, 2,    0.0370, 2,    0.0120, 2,    0.0170, 2, -999, 9, -999, 9, -999, 9, -999, 9, -999, 9, -999, 9, -999, 9,  -999.00, 9,  -999.00, 9,  -999.00, 9,  -999.00, 9,   2.7247,  -999.00, 9, 1148,   37.6104,  -52.4785