BOTTLE,20220816CCHSIOAMB
EXPOCODE,SECT_ID,STNNBR,CASTNO,SAMPNO,BTLNBR,BTLNBR_FLAG_W,DATE,TIME,LATITUDE,LONGITUDE,DEPTH,CTDRAW,CTDPRS,CTDTMP,CTDSAL,CTDSAL_FLAG_W,SALNTY,SALNTY_FLAG_W,CTDOXY,CTDOXY_FLAG_W,OXYGEN,OXYGEN_FLAG_W,SILCAT,SILCAT_FLAG_W,NITRAT,NITRAT_FLAG_W,NITRIT,NITRIT_FLAG_W,PHSPHT,PHSPHT_FLAG_W,CFC-11,CFC-11_FLAG_W,CFC-12,CFC-12_FLAG_W,CFC113,CFC113_FLAG_W,CCL4,CCL4_FLAG_W,TCARBN,TCARBN_FLAG_W,ALKALI,ALKALI_FLAG_W,DOC,DOC_FLAG_W,TDN,TDN_FLAG_W,TRITUM,TRITUM_FLAG_W,TRITER,HELIUM,HELIUM_FLAG_W,HELIER,DELHE3,DELHE3_FLAG_W,DELHER,NEON,NEON_FLAG_W,NEONER,DELC14,DELC14_FLAG_W,C14ERR,DELC13,DELC13_FLAG_W,CDOM325,CDOM325_FLAG_W,CDOM340,CDOM340_FLAG_W,CDOM380,CDOM380_FLAG_W,CDOM412,CDOM412_FLAG_W,CDOMSL,CDOMSL_FLAG_W,CDOMSN,CDOMSN_FLAG_W,DCNS,DCNS_FLAG_W,ARABI,ARABI_FLAG_W,FUCO,FUCO_FLAG_W,GALA,GALA_FLAG_W,GLUC,GLUC_FLAG_W,MAN,MAN_FLAG_W,RHAM,RHAM_FLAG_W,BRDU,BRDU_FLAG_W,PEUK,PEUK_FLAG_W,PROC,PROC_FLAG_W,SYN,SYN_FLAG_W,THETA,BACT,BACT_FLAG_W,BTL_TIME,BTL_LAT,BTL_LON
,,,,,,,,,,,METERS,DBAR,DBAR,ITS-90,PSS-78,,PSS-78,,UMOL/KG,,UMOL/KG,,UMOL/KG,,UMOL/KG,,UMOL/KG,,UMOL/KG,,PMOL/KG,,PMOL/KG,,PMOL/KG,,PMOL/KG,,UMOL/KG,,UMOL/KG,,UMOL/KG,,UMOL/KG,,TU,,TU,NMOL/KG,,NMOL/KG,PERCNT,,PERCNT,NMOL/KG,,NMOL/KG,/MILLE,,/MILLE,/MILLE,,1/M,,1/M,,1/M,,1/M,,1/NM,,1/NM,,NMOL/KG,,NMOL/KG,,NMOL/KG,,NMOL/KG,,NMOL/KG,,NMOL/KG,,NMOL/KG,,PMOL/L/H,,E6/L,,E7/L,,E6/L,,DEG C,E8/L,,,,
316N200309, A20, 25, 1, 6, 6, 2, 20031001, 0141, 36.2437, -52.3975, 3371,  2751.20,   2751.2,   3.2844,  34.9491, 2,  34.9504, 2,    265.2, 2,    266.3, 2,    17.51, 2,    18.06, 2,     0.00, 2,     1.20, 2,    0.855, 2,    0.448, 2,    0.034, 2,    1.360, 2,   2165.3, 2,   2310.1, 2,  -999.00, 9,  -999.00, 9, -999.000, 9, -999.000, -999.0000, 9, -999.0000,  -999.00, 9,  -999.00, -999.000, 9, -999.000,   -999.0, 9,   -999.0,  -999.00, 9, -999.0000, 9, -999.0000, 9, -999.0000, 9, -999.0000, 9, -999.0000, 9, -999.0000, 9, -999, 9, -999, 9, -999, 9, -999, 9, -999, 9, -999, 9, -999, 9,  -999.00, 9,  -999.00, 9,  -999.00, 9,  -999.00, 9,   3.0536,  -999.00, 9,  203,   36.2471,  -52.3965
316N200309, A20, 25, 1, 5, 5, 2, 20031001, 0141, 36.2437, -52.3975, 3371,  2999.60,   2999.6,   3.1423,  34.9495, 2,  34.9502, 2,    262.5, 2,    262.6, 2,    20.49, 2,    18.41, 2,     0.00, 2,     1.23, 2,    0.508, 2,    0.271, 2,    0.018, 2,    0.953, 2,   2169.6, 2,   2297.2, 4,    43.40, 2,  -999.00, 9, -999.000, 9, -999.000, -999.0000, 9, -999.0000,  -999.00, 9,  -999.00, -999.000, 9, -999.000,   -999.0, 9,   -999.0,  -999.00, 9, -999.0000, 9, -999.0000, 9, -999.0000, 9, -999.0000, 9, -999.0000, 9, -999.0000, 9, -999, 9, -999, 9, -999, 9, -999, 9, -999, 9, -999, 9, -999, 9,  -999.00, 9,  -999.00, 9,  -999.00, 9,  -999.00, 9,   2.8885,  -999.00, 9,  158,   36.2463,  -52.3967
316N200309, A20, 25, 1, 4, 4, 2, 20031001, 0141, 36.2437, -52.3975, 3371,  3200.00,   3200.0,   2.9299,  34.9383, 2,  34.9394, 2,    262.9, 2,    263.4, 2,    22.56, 2,    18.51, 2,     0.00, 2,     1.24, 2,    0.416, 2,    0.222, 2,    0.017, 2,    0.826, 2,   2164.9, 2,   2290.7, 4,  -999.00, 9,  -999.00, 9, -999.000, 9, -999.000, -999.0000, 9, -999.0000,  -999.00, 9,  -999.00, -999.000, 9, -999.000,   -999.0, 9,   -999.0,  -999.00, 9, -999.0000, 9, -999.0000, 9, -999.0000, 9, -999.0000, 9, -999.0000, 9, -999.0000, 9, -999, 9, -999, 9, -999, 9, -999, 9, -999, 9, -999, 9, -999, 9,  -999.00, 9,  -999.00, 9,  -999.00, 9,  -999.00, 9,   2.6595,  -999.00, 9,  154,   36.2455,  -52.3971
316N200309, A20, 25, 1, 3, 3, 2, 20031001, 0141, 36.2437, -52.3975, 3371,  3300.70,   3300.7,   2.8344,  34.9304, 2,  34.9321, 2,    264.9, 2,    265.8, 2,    22.13, 2,    18.27, 2,     0.00, 2,     1.22, 2,    0.537, 2,    0.273, 2,    0.020, 2,    0.985, 2,   2168.3, 2,   2292.6, 4,    43.60, 2,  -999.00, 9, -999.000, 9, -999.000, -999.0000, 9, -999.0000,  -999.00, 9,  -999.00, -999.000, 9, -999.000,   -999.0, 9,   -999.0,  -999.00, 9, -999.0000, 9, -999.0000, 9, -999.0000, 9, -999.0000, 9, -999.0000, 9, -999.0000, 9, -999, 9, -999, 9, -999, 9, -999, 9, -999, 9, -999, 9, -999, 9,  -999.00, 9,  -999.00, 9,  -999.00, 9,  -999.00, 9,   2.5553,  -999.00, 9,  151,   36.2451,  -52.3972
316N200309, A20, 25, 1, 2, 2, 2, 20031001, 0141, 36.2437, -52.3975, 3371,  3499.80,   3499.8,   2.7555,  34.9260, 2,  34.9272, 2,    265.5, 2,    275.6, 3,    23.51, 2,    18.47, 2,     0.00, 2,     1.23, 2,    0.448, 2,    0.234, 2,    0.018, 2,    0.899, 2,   2167.3, 2,   2315.7, 2,  -999.00, 9,  -999.00, 9, -999.000, 9, -999.000, -999.0000, 9, -999.0000,  -999.00, 9,  -999.00, -999.000, 9, -999.000,   -999.0, 9,   -999.0,  -999.00, 9, -999.0000, 9, -999.0000, 9, -999.0000, 9, -999.0000, 9, -999.0000, 9, -999.0000, 9, -999, 9, -999, 9, -999, 9, -999, 9, -999, 9, -999, 9, -999, 9,  -999.00, 9,  -999.00, 9,  -999.00, 9,  -999.00, 9,   2.4567,  -999.00, 9,  146,   36.2444,  -52.3973
316N200309, A20, 25, 1, 1, 1, 2, 20031001, 0141, 36.2437, -52.3975, 3371,  3681.70,   3681.7,   2.6564,  34.9187, 2,  34.9207, 2,    267.1, 2,    265.7, 2,    24.49, 2,    18.42, 2,     0.00, 2,     1.24, 2,    0.487, 2,    0.239, 2,    0.021, 2,    0.947, 2,   2167.8, 2,   2316.7, 2,    44.80, 2,  -999.00, 9, -999.000, 9, -999.000, -999.0000, 9, -999.0000,  -999.00, 9,  -999.00, -999.000, 9, -999.000,   -999.0, 9,   -999.0,  -999.00, 9, -999.0000, 9, -999.0000, 9, -999.0000, 9, -999.0000, 9, -999.0000, 9, -999.0000, 9, -999, 9, -999, 9, -999, 9, -999, 9, -999, 9, -999, 9, -999, 9,  -999.00, 9,  -999.00, 9,  -999.00, 9,  -999.00, 9,   2.3399,  -999.00, 9,  142,   36.2437,  -52.3975