BOTTLE,20220816CCHSIOAMB
EXPOCODE,SECT_ID,STNNBR,CASTNO,SAMPNO,BTLNBR,BTLNBR_FLAG_W,DATE,TIME,LATITUDE,LONGITUDE,DEPTH,CTDRAW,CTDPRS,CTDTMP,CTDSAL,CTDSAL_FLAG_W,SALNTY,SALNTY_FLAG_W,CTDOXY,CTDOXY_FLAG_W,OXYGEN,OXYGEN_FLAG_W,SILCAT,SILCAT_FLAG_W,NITRAT,NITRAT_FLAG_W,NITRIT,NITRIT_FLAG_W,PHSPHT,PHSPHT_FLAG_W,CFC-11,CFC-11_FLAG_W,CFC-12,CFC-12_FLAG_W,CFC113,CFC113_FLAG_W,CCL4,CCL4_FLAG_W,TCARBN,TCARBN_FLAG_W,ALKALI,ALKALI_FLAG_W,DOC,DOC_FLAG_W,TDN,TDN_FLAG_W,TRITUM,TRITUM_FLAG_W,TRITER,HELIUM,HELIUM_FLAG_W,HELIER,DELHE3,DELHE3_FLAG_W,DELHER,NEON,NEON_FLAG_W,NEONER,DELC14,DELC14_FLAG_W,C14ERR,DELC13,DELC13_FLAG_W,CDOM325,CDOM325_FLAG_W,CDOM340,CDOM340_FLAG_W,CDOM380,CDOM380_FLAG_W,CDOM412,CDOM412_FLAG_W,CDOMSL,CDOMSL_FLAG_W,CDOMSN,CDOMSN_FLAG_W,DCNS,DCNS_FLAG_W,ARABI,ARABI_FLAG_W,FUCO,FUCO_FLAG_W,GALA,GALA_FLAG_W,GLUC,GLUC_FLAG_W,MAN,MAN_FLAG_W,RHAM,RHAM_FLAG_W,BRDU,BRDU_FLAG_W,PEUK,PEUK_FLAG_W,PROC,PROC_FLAG_W,SYN,SYN_FLAG_W,THETA,BACT,BACT_FLAG_W,BTL_TIME,BTL_LAT,BTL_LON
,,,,,,,,,,,METERS,DBAR,DBAR,ITS-90,PSS-78,,PSS-78,,UMOL/KG,,UMOL/KG,,UMOL/KG,,UMOL/KG,,UMOL/KG,,UMOL/KG,,PMOL/KG,,PMOL/KG,,PMOL/KG,,PMOL/KG,,UMOL/KG,,UMOL/KG,,UMOL/KG,,UMOL/KG,,TU,,TU,NMOL/KG,,NMOL/KG,PERCNT,,PERCNT,NMOL/KG,,NMOL/KG,/MILLE,,/MILLE,/MILLE,,1/M,,1/M,,1/M,,1/M,,1/NM,,1/NM,,NMOL/KG,,NMOL/KG,,NMOL/KG,,NMOL/KG,,NMOL/KG,,NMOL/KG,,NMOL/KG,,PMOL/L/H,,E6/L,,E7/L,,E6/L,,DEG C,E8/L,,,,
316N200309, A20, 53, 1, 36, 36, 2, 20031012, 1134, 15.5897, -52.3307, 5078,     2.50,      2.5,  28.8317,  36.8030, 2,  36.8042, 2,    188.8, 2,    195.5, 2,     0.62, 2,     0.14, 2,     0.00, 2,     0.02, 2,    1.545, 2,    0.944, 2,    0.093, 2,    1.563, 2,   2039.2, 2,   2407.1, 2,  -999.00, 9,  -999.00, 9, -999.000, 9, -999.000, -999.0000, 9, -999.0000,  -999.00, 9,  -999.00, -999.000, 9, -999.000,   -999.0, 9,   -999.0,  -999.00, 9, -999.0000, 9, -999.0000, 9, -999.0000, 9, -999.0000, 9, -999.0000, 9, -999.0000, 9, -999, 9, -999, 9, -999, 9, -999, 9, -999, 9, -999, 9, -999, 9,  -999.00, 9,  -999.00, 9,  -999.00, 9,  -999.00, 9,  28.8311,  -999.00, 9, 1337,   15.6016,  -52.3288
316N200309, A20, 53, 1, 35, 35, 2, 20031012, 1134, 15.5897, -52.3307, 5078,    24.80,     24.8,  28.7654,  36.8020, 2,  36.8038, 2,    189.2, 2,    195.2, 2,     0.62, 2,     0.13, 2,     0.00, 2,     0.02, 2,    1.555, 2,    0.928, 2,    0.090, 2,    1.574, 2,   -999.0, 9,   -999.0, 9,  -999.00, 9,  -999.00, 9, -999.000, 9, -999.000, -999.0000, 9, -999.0000,  -999.00, 9,  -999.00, -999.000, 9, -999.000,   -999.0, 9,   -999.0,  -999.00, 9, -999.0000, 9, -999.0000, 9, -999.0000, 9, -999.0000, 9, -999.0000, 9, -999.0000, 9, -999, 9, -999, 9, -999, 9, -999, 9, -999, 9, -999, 9, -999, 9,  -999.00, 9,  -999.00, 9,  -999.00, 9,  -999.00, 9,  28.7594,  -999.00, 9, 1335,   15.6015,  -52.3288
316N200309, A20, 53, 1, 34, 34, 2, 20031012, 1134, 15.5897, -52.3307, 5078,    49.80,     49.8,  26.9495,  36.8054, 2,  36.8083, 2,    206.0, 2,    214.7, 2,     0.62, 2,     0.13, 2,     0.00, 2,     0.02, 2,    1.722, 2,    1.066, 2,    0.077, 2,    1.222, 2,   -999.0, 9,   -999.0, 9,  -999.00, 9,  -999.00, 9, -999.000, 9, -999.000, -999.0000, 9, -999.0000,  -999.00, 9,  -999.00, -999.000, 9, -999.000,   -999.0, 9,   -999.0,  -999.00, 9, -999.0000, 9, -999.0000, 9, -999.0000, 9, -999.0000, 9, -999.0000, 9, -999.0000, 9, -999, 9, -999, 9, -999, 9, -999, 9, -999, 9, -999, 9, -999, 9,  -999.00, 9,  -999.00, 9,  -999.00, 9,  -999.00, 9,  26.9380,  -999.00, 9, 1333,   15.6012,  -52.3287
316N200309, A20, 53, 1, 33, 33, 2, 20031012, 1134, 15.5897, -52.3307, 5078,    74.30,     74.3,  25.3090,  36.8663, 2,  36.8705, 2,    205.5, 2,    211.0, 2,     0.52, 2,     0.03, 2,     0.00, 2,     0.02, 2,    1.826, 2,    1.094, 2,    0.098, 2,    0.945, 2,   2057.1, 2,   2418.0, 2,  -999.00, 9,  -999.00, 9, -999.000, 9, -999.000, -999.0000, 9, -999.0000,  -999.00, 9,  -999.00, -999.000, 9, -999.000,   -999.0, 9,   -999.0,  -999.00, 9, -999.0000, 9, -999.0000, 9, -999.0000, 9, -999.0000, 9, -999.0000, 9, -999.0000, 9, -999, 9, -999, 9, -999, 9, -999, 9, -999, 9, -999, 9, -999, 9,  -999.00, 9,  -999.00, 9,  -999.00, 9,  -999.00, 9,  25.2927,  -999.00, 9, 1332,   15.6010,  -52.3288
316N200309, A20, 53, 1, 32, 32, 2, 20031012, 1134, 15.5897, -52.3307, 5078,    99.50,     99.5,  24.1195,  36.9961, 2,  36.9981, 2,    195.7, 2,    197.7, 2,     0.52, 2,     0.02, 2,     0.01, 2,     0.02, 2,    1.886, 2,    1.150, 2,    0.121, 2,    0.829, 2,   -999.0, 9,   -999.0, 9,  -999.00, 9,  -999.00, 9, -999.000, 9, -999.000, -999.0000, 9, -999.0000,  -999.00, 9,  -999.00, -999.000, 9, -999.000,   -999.0, 9,   -999.0,  -999.00, 9, -999.0000, 9, -999.0000, 9, -999.0000, 9, -999.0000, 9, -999.0000, 9, -999.0000, 9, -999, 9, -999, 9, -999, 9, -999, 9, -999, 9, -999, 9, -999, 9,  -999.00, 9,  -999.00, 9,  -999.00, 9,  -999.00, 9,  24.0983,  -999.00, 9, 1330,   15.6007,  -52.3288
316N200309, A20, 53, 1, 31, 31, 2, 20031012, 1134, 15.5897, -52.3307, 5078,   123.80,    123.8,  22.2769,  36.9747, 2,  36.9663, 2,    172.2, 2,    170.2, 2,     0.83, 2,     1.58, 2,     0.08, 2,     0.11, 2,    2.001, 2,    1.181, 2,    0.098, 2,    0.666, 2,   2126.0, 2,   2414.2, 2,  -999.00, 9,  -999.00, 9, -999.000, 9, -999.000, -999.0000, 9, -999.0000,  -999.00, 9,  -999.00, -999.000, 9, -999.000,   -999.0, 9,   -999.0,  -999.00, 9, -999.0000, 9, -999.0000, 9, -999.0000, 9, -999.0000, 9, -999.0000, 9, -999.0000, 9, -999, 9, -999, 9, -999, 9, -999, 9, -999, 9, -999, 9, -999, 9,  -999.00, 9,  -999.00, 9,  -999.00, 9,  -999.00, 9,  22.2520,  -999.00, 9, 1329,   15.6006,  -52.3288
316N200309, A20, 53, 1, 30, 30, 2, 20031012, 1134, 15.5897, -52.3307, 5078,   174.90,    174.9,  18.4508,  36.5126, 2,  36.5010, 2,    136.9, 2,    137.1, 2,     2.70, 2,    10.65, 2,     0.02, 2,     0.61, 2,    2.067, 2,    1.182, 2,    0.026, 2,    0.350, 2,   -999.0, 9,   -999.0, 9,  -999.00, 9,  -999.00, 9, -999.000, 9, -999.000, -999.0000, 9, -999.0000,  -999.00, 9,  -999.00, -999.000, 9, -999.000,   -999.0, 9,   -999.0,  -999.00, 9, -999.0000, 9, -999.0000, 9, -999.0000, 9, -999.0000, 9, -999.0000, 9, -999.0000, 9, -999, 9, -999, 9, -999, 9, -999, 9, -999, 9, -999, 9, -999, 9,  -999.00, 9,  -999.00, 9,  -999.00, 9,  -999.00, 9,  18.4199,  -999.00, 9, 1327,   15.6003,  -52.3288
316N200309, A20, 53, 1, 29, 29, 2, 20031012, 1134, 15.5897, -52.3307, 5078,   225.20,    225.2,  15.6624,  36.0785, 2,  36.0748, 2,    117.7, 2,    123.2, 2,     4.80, 2,    16.06, 2,     0.01, 2,     0.95, 2,    1.926, 2,    1.042, 2,    0.009, 2,    0.237, 2,   2176.0, 2,   2357.6, 2,  -999.00, 9,  -999.00, 9, -999.000, 9, -999.000, -999.0000, 9, -999.0000,  -999.00, 9,  -999.00, -999.000, 9, -999.000,   -999.0, 9,   -999.0,  -999.00, 9, -999.0000, 9, -999.0000, 9, -999.0000, 9, -999.0000, 9, -999.0000, 9, -999.0000, 9, -999, 9, -999, 9, -999, 9, -999, 9, -999, 9, -999, 9, -999, 9,  -999.00, 9,  -999.00, 9,  -999.00, 9,  -999.00, 9,  15.6270,  -999.00, 9, 1325,   15.6001,  -52.3288
316N200309, A20, 53, 1, 28, 28, 2, 20031012, 1134, 15.5897, -52.3307, 5078,   275.60,    275.6,  13.8278,  35.7908, 2,  35.7900, 2,    115.1, 2,    116.6, 2,     6.78, 2,    19.54, 2,     0.01, 2,     1.17, 2,    1.662, 2,    0.884, 2,    0.007, 2,    0.224, 2,   -999.0, 9,   -999.0, 9,  -999.00, 9,  -999.00, 9, -999.000, 9, -999.000, -999.0000, 9, -999.0000,  -999.00, 9,  -999.00, -999.000, 9, -999.000,   -999.0, 9,   -999.0,  -999.00, 9, -999.0000, 9, -999.0000, 9, -999.0000, 9, -999.0000, 9, -999.0000, 9, -999.0000, 9, -999, 9, -999, 9, -999, 9, -999, 9, -999, 9, -999, 9, -999, 9,  -999.00, 9,  -999.00, 9,  -999.00, 9,  -999.00, 9,  13.7879,  -999.00, 9, 1323,   15.5999,  -52.3289
316N200309, A20, 53, 1, 27, 27, 2, 20031012, 1134, 15.5897, -52.3307, 5078,   374.90,    374.9,  11.4331,  35.4023, 2,  35.4030, 2,    108.2, 2,    109.3, 2,    10.63, 2,    24.57, 2,     0.01, 2,     1.50, 2,    1.084, 2,    0.573, 2,    0.004, 2,    0.230, 2,   2199.6, 2,   2325.5, 2,  -999.00, 9,  -999.00, 9, -999.000, 9, -999.000, -999.0000, 9, -999.0000,  -999.00, 9,  -999.00, -999.000, 9, -999.000,   -999.0, 9,   -999.0,  -999.00, 9, -999.0000, 9, -999.0000, 9, -999.0000, 9, -999.0000, 9, -999.0000, 9, -999.0000, 9, -999, 9, -999, 9, -999, 9, -999, 9, -999, 9, -999, 9, -999, 9,  -999.00, 9,  -999.00, 9,  -999.00, 9,  -999.00, 9,  11.3851,  -999.00, 9, 1321,   15.5996,  -52.3289
316N200309, A20, 53, 1, 26, 26, 2, 20031012, 1134, 15.5897, -52.3307, 5078,   474.70,    474.7,   8.8799,  35.0199, 2,  35.0191, 2,    110.1, 2,    111.4, 2,    16.06, 2,    29.30, 2,     0.00, 2,     1.87, 2,    0.567, 6,    0.299, 6,    0.000, 6,    0.246, 6,   -999.0, 9,   -999.0, 9,  -999.00, 9,  -999.00, 9, -999.000, 9, -999.000, -999.0000, 9, -999.0000,  -999.00, 9,  -999.00, -999.000, 9, -999.000,   -999.0, 9,   -999.0,  -999.00, 9, -999.0000, 9, -999.0000, 9, -999.0000, 9, -999.0000, 9, -999.0000, 9, -999.0000, 9, -999, 9, -999, 9, -999, 9, -999, 9, -999, 9, -999, 9, -999, 9,  -999.00, 9,  -999.00, 9,  -999.00, 9,  -999.00, 9,   8.8279,  -999.00, 9, 1318,   15.5993,  -52.3290
316N200309, A20, 53, 1, 25, 25, 2, 20031012, 1134, 15.5897, -52.3307, 5078,   575.40,    575.4,   7.6675,  34.8552, 2,  34.8538, 2,    116.2, 2,    117.5, 2,    19.19, 2,    31.11, 2,     0.00, 2,     2.02, 2,    0.397, 2,    0.212, 2,    0.001, 2,    0.261, 2,   -999.0, 9,   -999.0, 9,  -999.00, 9,  -999.00, 9, -999.000, 9, -999.000, -999.0000, 9, -999.0000,  -999.00, 9,  -999.00, -999.000, 9, -999.000,   -999.0, 9,   -999.0,  -999.00, 9, -999.0000, 9, -999.0000, 9, -999.0000, 9, -999.0000, 9, -999.0000, 9, -999.0000, 9, -999, 9, -999, 9, -999, 9, -999, 9, -999, 9, -999, 9, -999, 9,  -999.00, 9,  -999.00, 9,  -999.00, 9,  -999.00, 9,   7.6094,  -999.00, 9, 1316,   15.5991,  -52.3291
316N200309, A20, 53, 1, 24, 24, 2, 20031012, 1134, 15.5897, -52.3307, 5078,   674.50,    674.5,   6.8385,  34.7668, 2,  34.7661, 2,    120.2, 2,    119.7, 2,    22.01, 2,    32.65, 2,     0.00, 2,     2.14, 2,    0.208, 2,    0.118, 2,   -0.001, 2,    0.210, 2,   -999.0, 9,   -999.0, 9,  -999.00, 9,  -999.00, 9, -999.000, 9, -999.000, -999.0000, 9, -999.0000,  -999.00, 9,  -999.00, -999.000, 9, -999.000,   -999.0, 9,   -999.0,  -999.00, 9, -999.0000, 9, -999.0000, 9, -999.0000, 9, -999.0000, 9, -999.0000, 9, -999.0000, 9, -999, 9, -999, 9, -999, 9, -999, 9, -999, 9, -999, 9, -999, 9,  -999.00, 9,  -999.00, 9,  -999.00, 9,  -999.00, 9,   6.7742,  -999.00, 9, 1313,   15.5990,  -52.3292
316N200309, A20, 53, 1, 23, 23, 2, 20031012, 1134, 15.5897, -52.3307, 5078,   824.10,    824.1,   5.9427,  34.7315, 2,  34.7337, 2,    129.6, 2,    130.1, 2,    25.13, 2,    32.64, 2,     0.00, 2,     2.18, 2,    0.085, 2,    0.051, 2,    0.000, 2,    0.143, 2,   -999.0, 9,   -999.0, 9,  -999.00, 9,  -999.00, 9, -999.000, 9, -999.000, -999.0000, 9, -999.0000,  -999.00, 9,  -999.00, -999.000, 9, -999.000,   -999.0, 9,   -999.0,  -999.00, 9, -999.0000, 9, -999.0000, 9, -999.0000, 9, -999.0000, 9, -999.0000, 9, -999.0000, 9, -999, 9, -999, 9, -999, 9, -999, 9, -999, 9, -999, 9, -999, 9,  -999.00, 9,  -999.00, 9,  -999.00, 9,  -999.00, 9,   5.8689,  -999.00, 9, 1310,   15.5987,  -52.3294
316N200309, A20, 53, 1, 22, 22, 2, 20031012, 1134, 15.5897, -52.3307, 5078,   974.50,    974.5,   5.4306,  34.7528, 2,  34.7526, 2,    141.1, 2,    140.4, 2,    26.17, 2,    31.92, 2,     0.00, 2,     2.14, 2,    0.039, 2,    0.025, 2,    0.003, 2,    0.105, 2,   -999.0, 9,   -999.0, 9,  -999.00, 9,  -999.00, 9, -999.000, 9, -999.000, -999.0000, 9, -999.0000,  -999.00, 9,  -999.00, -999.000, 9, -999.000,   -999.0, 9,   -999.0,  -999.00, 9, -999.0000, 9, -999.0000, 9, -999.0000, 9, -999.0000, 9, -999.0000, 9, -999.0000, 9, -999, 9, -999, 9, -999, 9, -999, 9, -999, 9, -999, 9, -999, 9,  -999.00, 9,  -999.00, 9,  -999.00, 9,  -999.00, 9,   5.3460,  -999.00, 9, 1306,   15.5983,  -52.3295
316N200309, A20, 53, 1, 21, 21, 2, 20031012, 1134, 15.5897, -52.3307, 5078,  1105.20,   1105.2,   5.3731,  34.8671, 2,  34.8637, 2,    161.6, 2,    160.4, 2,    23.56, 2,    28.74, 2,     0.00, 2,     1.94, 2,    0.063, 2,    0.036, 2,    0.002, 2,    0.146, 2,   -999.0, 9,   -999.0, 9,  -999.00, 9,  -999.00, 9, -999.000, 9, -999.000, -999.0000, 9, -999.0000,  -999.00, 9,  -999.00, -999.000, 9, -999.000,   -999.0, 9,   -999.0,  -999.00, 9, -999.0000, 9, -999.0000, 9, -999.0000, 9, -999.0000, 9, -999.0000, 9, -999.0000, 9, -999, 9, -999, 9, -999, 9, -999, 9, -999, 9, -999, 9, -999, 9,  -999.00, 9,  -999.00, 9,  -999.00, 9,  -999.00, 9,   5.2765,  -999.00, 9, 1303,   15.5981,  -52.3297
316N200309, A20, 53, 1, 20, 20, 2, 20031012, 1134, 15.5897, -52.3307, 5078,  1274.80,   1274.8,   5.0941,  34.9529, 2,  34.8644, 3,    187.0, 2,    185.6, 2,    20.85, 2,    25.40, 2,     0.00, 2,     1.71, 2,    0.092, 2,    0.056, 2,    0.001, 2,    0.198, 2,   -999.0, 9,   -999.0, 9,  -999.00, 9,  -999.00, 9, -999.000, 9, -999.000, -999.0000, 9, -999.0000,  -999.00, 9,  -999.00, -999.000, 9, -999.000,   -999.0, 9,   -999.0,  -999.00, 9, -999.0000, 9, -999.0000, 9, -999.0000, 9, -999.0000, 9, -999.0000, 9, -999.0000, 9, -999, 9, -999, 9, -999, 9, -999, 9, -999, 9, -999, 9, -999, 9,  -999.00, 9,  -999.00, 9,  -999.00, 9,  -999.00, 9,   4.9836,  -999.00, 9, 1259,   15.5978,  -52.3297
316N200309, A20, 53, 1, 19, 19, 2, 20031012, 1134, 15.5897, -52.3307, 5078,  1400.30,   1400.3,   4.8817,  34.9785, 2,  34.9782, 2,    201.7, 2,    199.9, 2,    19.70, 2,    23.87, 2,     0.00, 2,     1.59, 2,    0.096, 2,    0.058, 2,    0.001, 2,    0.240, 2,   -999.0, 9,   -999.0, 9,  -999.00, 9,  -999.00, 9, -999.000, 9, -999.000, -999.0000, 9, -999.0000,  -999.00, 9,  -999.00, -999.000, 9, -999.000,   -999.0, 9,   -999.0,  -999.00, 9, -999.0000, 9, -999.0000, 9, -999.0000, 9, -999.0000, 9, -999.0000, 9, -999.0000, 9, -999, 9, -999, 9, -999, 9, -999, 9, -999, 9, -999, 9, -999, 9,  -999.00, 9,  -999.00, 9,  -999.00, 9,  -999.00, 9,   4.7612,  -999.00, 9, 1256,   15.5977,  -52.3298
316N200309, A20, 53, 1, 18, 18, 2, 20031012, 1134, 15.5897, -52.3307, 5078,  1501.60,   1501.6,   4.6401,  34.9903, 2,  34.9902, 2,    216.0, 2,    215.4, 2,    18.55, 2,    22.30, 2,     0.00, 2,     1.49, 2,    0.134, 2,    0.076, 2,   -0.002, 2,    0.334, 2,   -999.0, 9,   -999.0, 9,  -999.00, 9,  -999.00, 9, -999.000, 9, -999.000, -999.0000, 9, -999.0000,  -999.00, 9,  -999.00, -999.000, 9, -999.000,   -999.0, 9,   -999.0,  -999.00, 9, -999.0000, 9, -999.0000, 9, -999.0000, 9, -999.0000, 9, -999.0000, 9, -999.0000, 9, -999, 9, -999, 9, -999, 9, -999, 9, -999, 9, -999, 9, -999, 9,  -999.00, 9,  -999.00, 9,  -999.00, 9,  -999.00, 9,   4.5125,  -999.00, 9, 1254,   15.5974,  -52.3299
316N200309, A20, 53, 1, 17, 17, 2, 20031012, 1134, 15.5897, -52.3307, 5078,  1624.50,   1624.5,   4.3467,  34.9980, 2,  34.9972, 2,    227.6, 2,    232.5, 2,    17.30, 2,    20.64, 2,     0.00, 2,     1.38, 2,    0.198, 2,    0.115, 2,    0.025, 2,    0.562, 2,   -999.0, 9,   -999.0, 9,  -999.00, 9,  -999.00, 9, -999.000, 9, -999.000, -999.0000, 9, -999.0000,  -999.00, 9,  -999.00, -999.000, 9, -999.000,   -999.0, 9,   -999.0,  -999.00, 9, -999.0000, 9, -999.0000, 9, -999.0000, 9, -999.0000, 9, -999.0000, 9, -999.0000, 9, -999, 9, -999, 9, -999, 9, -999, 9, -999, 9, -999, 9, -999, 9,  -999.00, 9,  -999.00, 9,  -999.00, 9,  -999.00, 9,   4.2107,  -999.00, 9, 1250,   15.5971,  -52.3299
316N200309, A20, 53, 1, 16, 16, 2, 20031012, 1134, 15.5897, -52.3307, 5078,  1775.40,   1775.4,   3.9359,  34.9903, 2,  34.9919, 2,    242.1, 2,    243.4, 2,    18.35, 2,    19.83, 2,     0.00, 2,     1.33, 2,    0.139, 2,    0.082, 2,    0.000, 2,    0.456, 2,   -999.0, 9,   -999.0, 9,  -999.00, 9,  -999.00, 9, -999.000, 9, -999.000, -999.0000, 9, -999.0000,  -999.00, 9,  -999.00, -999.000, 9, -999.000,   -999.0, 9,   -999.0,  -999.00, 9, -999.0000, 9, -999.0000, 9, -999.0000, 9, -999.0000, 9, -999.0000, 9, -999.0000, 9, -999, 9, -999, 9, -999, 9, -999, 9, -999, 9, -999, 9, -999, 9,  -999.00, 9,  -999.00, 9,  -999.00, 9,  -999.00, 9,   3.7908,  -999.00, 9, 1247,   15.5969,  -52.3299
316N200309, A20, 53, 1, 15, 15, 2, 20031012, 1134, 15.5897, -52.3307, 5078,  1924.30,   1924.3,   3.6236,  34.9827, 2,  34.9831, 2,    248.5, 2,    250.6, 2,    19.70, 2,    19.36, 2,     0.00, 2,     1.29, 2,    0.097, 2,    0.069, 2,    0.001, 2,    0.419, 2,   -999.0, 9,   -999.0, 9,  -999.00, 9,  -999.00, 9, -999.000, 9, -999.000, -999.0000, 9, -999.0000,  -999.00, 9,  -999.00, -999.000, 9, -999.000,   -999.0, 9,   -999.0,  -999.00, 9, -999.0000, 9, -999.0000, 9, -999.0000, 9, -999.0000, 9, -999.0000, 9, -999.0000, 9, -999, 9, -999, 9, -999, 9, -999, 9, -999, 9, -999, 9, -999, 9,  -999.00, 9,  -999.00, 9,  -999.00, 9,  -999.00, 9,   3.4688,  -999.00, 9, 1244,   15.5966,  -52.3300
316N200309, A20, 53, 1, 14, 14, 2, 20031012, 1134, 15.5897, -52.3307, 5078,  2125.10,   2125.1,   3.3606,  34.9695, 2,  34.9705, 2,    253.0, 2,    253.8, 2,    21.36, 2,    19.21, 2,     0.00, 2,     1.28, 2,    0.092, 2,    0.048, 2,    0.002, 2,    0.369, 2,   -999.0, 9,   -999.0, 9,  -999.00, 9,  -999.00, 9, -999.000, 9, -999.000, -999.0000, 9, -999.0000,  -999.00, 9,  -999.00, -999.000, 9, -999.000,   -999.0, 9,   -999.0,  -999.00, 9, -999.0000, 9, -999.0000, 9, -999.0000, 9, -999.0000, 9, -999.0000, 9, -999.0000, 9, -999, 9, -999, 9, -999, 9, -999, 9, -999, 9, -999, 9, -999, 9,  -999.00, 9,  -999.00, 9,  -999.00, 9,  -999.00, 9,   3.1907,  -999.00, 9, 1240,   15.5962,  -52.3300
316N200309, A20, 53, 1, 13, 13, 2, 20031012, 1134, 15.5897, -52.3307, 5078,  2375.80,   2375.8,   3.0959,  34.9540, 2,  34.9542, 2,    254.3, 2,    255.1, 2,    24.49, 2,    19.35, 2,     0.00, 2,     1.30, 2,    0.084, 2,    0.051, 2,    0.006, 2,    0.370, 2,   -999.0, 9,   -999.0, 9,  -999.00, 9,  -999.00, 9, -999.000, 9, -999.000, -999.0000, 9, -999.0000,  -999.00, 9,  -999.00, -999.000, 9, -999.000,   -999.0, 9,   -999.0,  -999.00, 9, -999.0000, 9, -999.0000, 9, -999.0000, 9, -999.0000, 9, -999.0000, 9, -999.0000, 9, -999, 9, -999, 9, -999, 9, -999, 9, -999, 9, -999, 9, -999, 9,  -999.00, 9,  -999.00, 9,  -999.00, 9,  -999.00, 9,   2.9063,  -999.00, 9, 1235,   15.5956,  -52.3301
316N200309, A20, 53, 1, 12, 12, 2, 20031012, 1134, 15.5897, -52.3307, 5078,  2625.50,   2625.5,   2.8951,  34.9402, 2,  34.9388, 2,    252.6, 2,    253.2, 2,    29.18, 2,    19.95, 2,     0.00, 2,     1.34, 2,    0.056, 2,    0.034, 2,    0.007, 2,    0.270, 2,   -999.0, 9,   -999.0, 9,  -999.00, 9,  -999.00, 9, -999.000, 9, -999.000, -999.0000, 9, -999.0000,  -999.00, 9,  -999.00, -999.000, 9, -999.000,   -999.0, 9,   -999.0,  -999.00, 9, -999.0000, 9, -999.0000, 9, -999.0000, 9, -999.0000, 9, -999.0000, 9, -999.0000, 9, -999, 9, -999, 9, -999, 9, -999, 9, -999, 9, -999, 9, -999, 9,  -999.00, 9,  -999.00, 9,  -999.00, 9,  -999.00, 9,   2.6848,  -999.00, 9, 1229,   15.5951,  -52.3302
316N200309, A20, 53, 1, 11, 11, 2, 20031012, 1134, 15.5897, -52.3307, 5078,  2875.30,   2875.3,   2.7599,  34.9301, 2,  34.9294, 2,    251.6, 2,    250.4, 2,    32.41, 2,    20.29, 2,     0.00, 2,     1.37, 2,    0.041, 2,    0.031, 2,    0.003, 2,    0.286, 2,   -999.0, 9,   -999.0, 9,  -999.00, 9,  -999.00, 9, -999.000, 9, -999.000, -999.0000, 9, -999.0000,  -999.00, 9,  -999.00, -999.000, 9, -999.000,   -999.0, 9,   -999.0,  -999.00, 9, -999.0000, 9, -999.0000, 9, -999.0000, 9, -999.0000, 9, -999.0000, 9, -999.0000, 9, -999, 9, -999, 9, -999, 9, -999, 9, -999, 9, -999, 9, -999, 9,  -999.00, 9,  -999.00, 9,  -999.00, 9,  -999.00, 9,   2.5271,  -999.00, 9, 1224,   15.5945,  -52.3304