BOTTLE,20220816CCHSIOAMB
EXPOCODE,SECT_ID,STNNBR,CASTNO,SAMPNO,BTLNBR,BTLNBR_FLAG_W,DATE,TIME,LATITUDE,LONGITUDE,DEPTH,CTDRAW,CTDPRS,CTDTMP,CTDSAL,CTDSAL_FLAG_W,SALNTY,SALNTY_FLAG_W,CTDOXY,CTDOXY_FLAG_W,OXYGEN,OXYGEN_FLAG_W,SILCAT,SILCAT_FLAG_W,NITRAT,NITRAT_FLAG_W,NITRIT,NITRIT_FLAG_W,PHSPHT,PHSPHT_FLAG_W,CFC-11,CFC-11_FLAG_W,CFC-12,CFC-12_FLAG_W,CFC113,CFC113_FLAG_W,CCL4,CCL4_FLAG_W,TCARBN,TCARBN_FLAG_W,ALKALI,ALKALI_FLAG_W,DOC,DOC_FLAG_W,TDN,TDN_FLAG_W,TRITUM,TRITUM_FLAG_W,TRITER,HELIUM,HELIUM_FLAG_W,HELIER,DELHE3,DELHE3_FLAG_W,DELHER,NEON,NEON_FLAG_W,NEONER,DELC14,DELC14_FLAG_W,C14ERR,DELC13,DELC13_FLAG_W,CDOM325,CDOM325_FLAG_W,CDOM340,CDOM340_FLAG_W,CDOM380,CDOM380_FLAG_W,CDOM412,CDOM412_FLAG_W,CDOMSL,CDOMSL_FLAG_W,CDOMSN,CDOMSN_FLAG_W,DCNS,DCNS_FLAG_W,ARABI,ARABI_FLAG_W,FUCO,FUCO_FLAG_W,GALA,GALA_FLAG_W,GLUC,GLUC_FLAG_W,MAN,MAN_FLAG_W,RHAM,RHAM_FLAG_W,BRDU,BRDU_FLAG_W,PEUK,PEUK_FLAG_W,PROC,PROC_FLAG_W,SYN,SYN_FLAG_W,THETA,BACT,BACT_FLAG_W,BTL_TIME,BTL_LAT,BTL_LON
,,,,,,,,,,,METERS,DBAR,DBAR,ITS-90,PSS-78,,PSS-78,,UMOL/KG,,UMOL/KG,,UMOL/KG,,UMOL/KG,,UMOL/KG,,UMOL/KG,,PMOL/KG,,PMOL/KG,,PMOL/KG,,PMOL/KG,,UMOL/KG,,UMOL/KG,,UMOL/KG,,UMOL/KG,,TU,,TU,NMOL/KG,,NMOL/KG,PERCNT,,PERCNT,NMOL/KG,,NMOL/KG,/MILLE,,/MILLE,/MILLE,,1/M,,1/M,,1/M,,1/M,,1/NM,,1/NM,,NMOL/KG,,NMOL/KG,,NMOL/KG,,NMOL/KG,,NMOL/KG,,NMOL/KG,,NMOL/KG,,PMOL/L/H,,E6/L,,E7/L,,E6/L,,DEG C,E8/L,,,,
316N200309, A20, 21, 1, 36, 36, 2, 20030929, 2040, 38.6800, -52.3665, 5342,     3.30,      3.3,  26.2433,  36.2775, 2,  36.3174, 2,    197.4, 2,    202.4, 2,     0.77, 2,     0.08, 2,     0.00, 2,     0.02, 2,    1.703, 2,    1.057, 2,    0.105, 2,    1.654, 2,   2020.4, 2,   2372.8, 2,    75.00, 3,     4.50, 2, -999.000, 9, -999.000, -999.0000, 9, -999.0000,  -999.00, 9,  -999.00, -999.000, 9, -999.000,   -999.0, 9,   -999.0,  -999.00, 9, -999.0000, 9, -999.0000, 9, -999.0000, 9, -999.0000, 9, -999.0000, 9, -999.0000, 9, 2399, 4, 136, 2, 327, 2, 503, 2, 458, 2, 719, 2, 255, 2,  -999.00, 9,  -999.00, 9,  -999.00, 9,  -999.00, 9,  26.2426,  -999.00, 9, 2256,   38.6890,  -52.3225
316N200309, A20, 21, 1, 35, 35, 2, 20030929, 2040, 38.6800, -52.3665, 5342,    25.20,     25.2,  26.2558,  36.3166, 2,  36.3186, 2,    196.4, 2,    201.2, 2,     0.74, 2,     0.08, 2,     0.00, 2,     0.02, 2,    1.660, 2,    1.051, 2,    0.104, 2,    1.685, 2,   2020.3, 2,   2373.2, 2,  -999.00, 9,  -999.00, 9, -999.000, 9, -999.000, -999.0000, 9, -999.0000,  -999.00, 9,  -999.00, -999.000, 9, -999.000,   -999.0, 9,   -999.0,  -999.00, 9, -999.0000, 9, -999.0000, 9, -999.0000, 9, -999.0000, 9, -999.0000, 9, -999.0000, 9, -999, 9, -999, 9, -999, 9, -999, 9, -999, 9, -999, 9, -999, 9,  -999.00, 9,  -999.00, 9,  -999.00, 9,  -999.00, 9,  26.2502,  -999.00, 9, 2254,   38.6890,  -52.3235
316N200309, A20, 21, 1, 34, 34, 2, 20030929, 2040, 38.6800, -52.3665, 5342,    50.20,     50.2,  26.2585,  36.3180, 2,  36.3176, 2,    196.5, 2,    201.8, 2,     0.80, 2,     0.18, 2,     0.00, 2,     0.02, 2,    1.681, 2,    1.052, 2,    0.105, 2,    1.645, 2,   2021.9, 2,   2375.3, 2,    70.30, 2,     4.40, 2, -999.000, 9, -999.000, -999.0000, 9, -999.0000,  -999.00, 9,  -999.00, -999.000, 9, -999.000,   -999.0, 9,   -999.0,  -999.00, 9, -999.0000, 9, -999.0000, 9, -999.0000, 9, -999.0000, 9, -999.0000, 9, -999.0000, 9, 1775, 4, 125, 2, 253, 2, 388, 2, 348, 2, 491, 2, 169, 2,  -999.00, 9,  -999.00, 9,  -999.00, 9,  -999.00, 9,  26.2472,  -999.00, 9, 2253,   38.6889,  -52.3246
316N200309, A20, 21, 1, 33, 33, 2, 20030929, 2040, 38.6800, -52.3665, 5342,    74.80,     74.8,  26.2406,  36.3228, 2,  36.3216, 2,    196.1, 2,    200.3, 2,     0.76, 2,     0.18, 2,     0.00, 2,     0.02, 2,    1.677, 2,    1.049, 2,    0.107, 2,    1.578, 2,   2022.1, 2,   2373.4, 2,  -999.00, 9,  -999.00, 9, -999.000, 9, -999.000, -999.0000, 9, -999.0000,  -999.00, 9,  -999.00, -999.000, 9, -999.000,   -999.0, 9,   -999.0,  -999.00, 9, -999.0000, 9, -999.0000, 9, -999.0000, 9, -999.0000, 9, -999.0000, 9, -999.0000, 9, -999, 9, -999, 9, -999, 9, -999, 9, -999, 9, -999, 9, -999, 9,  -999.00, 9,  -999.00, 9,  -999.00, 9,  -999.00, 9,  26.2237,  -999.00, 9, 2252,   38.6888,  -52.3255
316N200309, A20, 21, 1, 32, 32, 2, 20030929, 2040, 38.6800, -52.3665, 5342,    99.50,     99.5,  24.7190,  36.6163, 2,  36.6160, 2,    182.4, 2,    187.7, 2,     0.62, 2,     0.94, 2,     0.13, 2,     0.06, 2,    1.884, 2,    1.148, 2,    0.075, 2,    0.765, 2,   2074.6, 2,   2389.3, 2,    65.60, 2,     6.40, 2, -999.000, 9, -999.000, -999.0000, 9, -999.0000,  -999.00, 9,  -999.00, -999.000, 9, -999.000,   -999.0, 9,   -999.0,  -999.00, 9, -999.0000, 9, -999.0000, 9, -999.0000, 9, -999.0000, 9, -999.0000, 9, -999.0000, 9, 836, 4, 50, 2, 105, 2, 162, 2, 236, 2, 202, 2, 81, 2,  -999.00, 9,  -999.00, 9,  -999.00, 9,  -999.00, 9,  24.6975,  -999.00, 9, 2250,   38.6887,  -52.3266
316N200309, A20, 21, 1, 31, 31, 2, 20030929, 2040, 38.6800, -52.3665, 5342,   124.30,    124.3,  23.3576,  36.6774, 2,  36.6764, 2,    182.6, 2,    184.2, 2,     0.69, 2,     1.86, 2,     0.04, 2,     0.09, 2,    1.935, 2,    1.218, 2,    0.078, 2,    0.653, 2,   2081.8, 2,   2396.2, 2,  -999.00, 9,  -999.00, 9, -999.000, 9, -999.000, -999.0000, 9, -999.0000,  -999.00, 9,  -999.00, -999.000, 9, -999.000,   -999.0, 9,   -999.0,  -999.00, 9, -999.0000, 9, -999.0000, 9, -999.0000, 9, -999.0000, 9, -999.0000, 9, -999.0000, 9, -999, 9, -999, 9, -999, 9, -999, 9, -999, 9, -999, 9, -999, 9,  -999.00, 9,  -999.00, 9,  -999.00, 9,  -999.00, 9,  23.3318,  -999.00, 9, 2249,   38.6886,  -52.3274
316N200309, A20, 21, 1, 30, 30, 2, 20030929, 2040, 38.6800, -52.3665, 5342,   153.40,    153.4,  21.0018,  36.6733, 2,  36.6723, 2,    194.2, 2,    200.2, 2,     0.45, 2,     1.33, 2,     0.07, 2,     0.06, 2,    2.156, 2,    1.307, 2,    0.091, 2,    0.872, 2,   2082.6, 2,   2391.1, 2,    58.80, 2,     5.30, 2, -999.000, 9, -999.000, -999.0000, 9, -999.0000,  -999.00, 9,  -999.00, -999.000, 9, -999.000,   -999.0, 9,   -999.0,  -999.00, 9, -999.0000, 9, -999.0000, 9, -999.0000, 9, -999.0000, 9, -999.0000, 9, -999.0000, 9, -999, 9, -999, 9, -999, 9, -999, 9, -999, 9, -999, 9, -999, 9,  -999.00, 9,  -999.00, 9,  -999.00, 9,  -999.00, 9,  20.9721,  -999.00, 9, 2248,   38.6885,  -52.3284
316N200309, A20, 21, 1, 29, 29, 2, 20030929, 2040, 38.6800, -52.3665, 5342,   202.40,    202.4,  19.5623,  36.6428, 2,  36.6411, 2,    205.9, 2,    204.1, 2,     0.52, 2,     1.63, 2,     0.02, 2,     0.06, 2,    2.217, 2,    1.357, 2,    0.087, 2,    0.771, 2,   2086.8, 2,   2390.5, 2,    58.90, 2,     5.60, 2, -999.000, 9, -999.000, -999.0000, 9, -999.0000,  -999.00, 9,  -999.00, -999.000, 9, -999.000,   -999.0, 9,   -999.0,  -999.00, 9, -999.0000, 9, -999.0000, 9, -999.0000, 9, -999.0000, 9, -999.0000, 9, -999.0000, 9, 558, 4, 77, 2, 66, 2, 84, 2, 170, 2, 118, 2, 42, 2,  -999.00, 9,  -999.00, 9,  -999.00, 9,  -999.00, 9,  19.5251,  -999.00, 9, 2246,   38.6883,  -52.3294
316N200309, A20, 21, 1, 28, 28, 2, 20030929, 2040, 38.6800, -52.3665, 5342,   250.20,    250.2,  19.0773,  36.6184, 2,  36.6179, 2,    205.7, 2,    202.8, 2,     0.67, 2,     2.63, 2,     0.01, 2,     0.11, 2,    2.273, 2,    1.364, 2,    0.054, 2,    0.621, 2,   2092.5, 2,   2387.6, 2,    53.30, 2,     6.30, 2, -999.000, 9, -999.000, -999.0000, 9, -999.0000,  -999.00, 9,  -999.00, -999.000, 9, -999.000,   -999.0, 9,   -999.0,  -999.00, 9, -999.0000, 9, -999.0000, 9, -999.0000, 9, -999.0000, 9, -999.0000, 9, -999.0000, 9, -999, 9, -999, 9, -999, 9, -999, 9, -999, 9, -999, 9, -999, 9,  -999.00, 9,  -999.00, 9,  -999.00, 9,  -999.00, 9,  19.0321,  -999.00, 9, 2244,   38.6882,  -52.3305
316N200309, A20, 21, 1, 27, 27, 2, 20030929, 2040, 38.6800, -52.3665, 5342,   300.10,    300.1,  18.7760,  36.5995, 2,  36.5983, 2,    204.3, 2,    207.0, 2,     0.84, 2,     3.16, 2,     0.01, 2,     0.14, 2,    2.287, 2,    1.367, 2,    0.054, 2,    0.572, 2,   2095.0, 2,   2388.5, 2,    52.60, 2,     7.10, 2, -999.000, 9, -999.000, -999.0000, 9, -999.0000,  -999.00, 9,  -999.00, -999.000, 9, -999.000,   -999.0, 9,   -999.0,  -999.00, 9, -999.0000, 9, -999.0000, 9, -999.0000, 9, -999.0000, 9, -999.0000, 9, -999.0000, 9, 596, 4, 36, 2, 74, 2, 97, 2, 87, 2, 247, 4, 55, 2,  -999.00, 9,  -999.00, 9,  -999.00, 9,  -999.00, 9,  18.7222,  -999.00, 9, 2243,   38.6881,  -52.3318
316N200309, A20, 21, 1, 26, 26, 2, 20030929, 2040, 38.6800, -52.3665, 5342,   400.00,    400.0,  18.1199,  36.5257, 2,  36.5264, 2,    190.8, 2,    196.9, 2,     1.20, 2,     4.79, 2,     0.01, 2,     0.23, 2,    2.309, 2,    1.373, 2,    0.028, 2,    0.488, 2,   2106.3, 2,   2381.1, 2,    50.70, 2,  -999.00, 9, -999.000, 9, -999.000, -999.0000, 9, -999.0000,  -999.00, 9,  -999.00, -999.000, 9, -999.000,   -999.0, 9,   -999.0,  -999.00, 9, -999.0000, 9, -999.0000, 9, -999.0000, 9, -999.0000, 9, -999.0000, 9, -999.0000, 9, -999, 9, -999, 9, -999, 9, -999, 9, -999, 9, -999, 9, -999, 9,  -999.00, 9,  -999.00, 9,  -999.00, 9,  -999.00, 9,  18.0499,  -999.00, 9, 2240,   38.6878,  -52.3337
316N200309, A20, 21, 1, 25, 25, 2, 20030929, 2040, 38.6800, -52.3665, 5342,   499.70,    499.7,  17.2686,  36.4005, 2,  36.3990, 2,    189.1, 2,    190.3, 2,     1.87, 2,     6.96, 2,     0.00, 2,     0.36, 2,    2.266, 2,    1.319, 2,    0.024, 2,    0.459, 2,   2116.1, 2,   2376.8, 2,    48.80, 2,  -999.00, 9, -999.000, 9, -999.000, -999.0000, 9, -999.0000,  -999.00, 9,  -999.00, -999.000, 9, -999.000,   -999.0, 9,   -999.0,  -999.00, 9, -999.0000, 9, -999.0000, 9, -999.0000, 9, -999.0000, 9, -999.0000, 9, -999.0000, 9, 314, 4, 32, 2, 52, 2, 69, 2, 70, 4, 56, 4, 35, 2,  -999.00, 9,  -999.00, 9,  -999.00, 9,  -999.00, 9,  17.1838,  -999.00, 9, 2237,   38.6878,  -52.3355
316N200309, A20, 21, 1, 24, 24, 2, 20030929, 2040, 38.6800, -52.3665, 5342,   623.40,    623.4,  14.8577,  35.9698, 2,  35.9736, 2,    166.4, 2,    164.1, 2,     4.63, 2,    13.27, 2,     0.00, 2,     0.77, 2,    1.988, 2,    1.079, 2,    0.026, 2,    0.387, 2,   2146.8, 2,   2354.3, 2,    48.60, 2,  -999.00, 9, -999.000, 9, -999.000, -999.0000, 9, -999.0000,  -999.00, 9,  -999.00, -999.000, 9, -999.000,   -999.0, 9,   -999.0,  -999.00, 9, -999.0000, 9, -999.0000, 9, -999.0000, 9, -999.0000, 9, -999.0000, 9, -999.0000, 9, -999, 9, -999, 9, -999, 9, -999, 9, -999, 9, -999, 9, -999, 9,  -999.00, 9,  -999.00, 9,  -999.00, 9,  -999.00, 9,  14.7620,  -999.00, 9, 2234,   38.6877,  -52.3379
316N200309, A20, 21, 1, 23, 23, 2, 20030929, 2040, 38.6800, -52.3665, 5342,   750.80,    750.8,  11.9738,  35.5250, 2,  35.5219, 2,    153.6, 2,    149.8, 2,     8.92, 2,    19.41, 2,     0.00, 2,     1.19, 2,    1.504, 6,    0.819, 6,    0.033, 3,    0.421, 2,   2170.3, 2,   2333.8, 2,    47.00, 2,  -999.00, 9, -999.000, 9, -999.000, -999.0000, 9, -999.0000,  -999.00, 9,  -999.00, -999.000, 9, -999.000,   -999.0, 9,   -999.0,  -999.00, 9, -999.0000, 9, -999.0000, 9, -999.0000, 9, -999.0000, 9, -999.0000, 9, -999.0000, 9, 547, 4, 24, 2, 32, 2, 61, 2, 313, 4, 88, 2, 28, 2,  -999.00, 9,  -999.00, 9,  -999.00, 9,  -999.00, 9,  11.8733,  -999.00, 9, 2231,   38.6875,  -52.3397
316N200309, A20, 21, 1, 22, 22, 2, 20030929, 2040, 38.6800, -52.3665, 5342,   828.30,    828.3,  10.1876,  35.2990, 2,  35.2974, 2,    141.7, 2,    143.6, 2,    12.31, 2,    23.10, 2,     0.00, 2,     1.46, 2,    1.083, 2,    0.572, 2,    0.023, 2,    0.388, 2,   2185.8, 2,   2318.5, 2,    45.70, 2,  -999.00, 9, -999.000, 9, -999.000, -999.0000, 9, -999.0000,  -999.00, 9,  -999.00, -999.000, 9, -999.000,   -999.0, 9,   -999.0,  -999.00, 9, -999.0000, 9, -999.0000, 9, -999.0000, 9, -999.0000, 9, -999.0000, 9, -999.0000, 9, -999, 9, -999, 9, -999, 9, -999, 9, -999, 9, -999, 9, -999, 9,  -999.00, 9,  -999.00, 9,  -999.00, 9,  -999.00, 9,  10.0870,  -999.00, 9, 2229,   38.6874,  -52.3404
316N200309, A20, 21, 1, 21, 21, 2, 20030929, 2040, 38.6800, -52.3665, 5342,  1052.80,   1052.8,   6.0371,  35.0513, 2,  35.0508, 2,    210.7, 2,    214.6, 2,    12.38, 2,    20.07, 2,     0.00, 2,     1.31, 2,    1.762, 2,    0.931, 2,    0.083, 2,    1.660, 2,   2175.9, 2,   2311.3, 2,    44.20, 2,  -999.00, 9, -999.000, 9, -999.000, -999.0000, 9, -999.0000,  -999.00, 9,  -999.00, -999.000, 9, -999.000,   -999.0, 9,   -999.0,  -999.00, 9, -999.0000, 9, -999.0000, 9, -999.0000, 9, -999.0000, 9, -999.0000, 9, -999.0000, 9, 604, 4, 69, 2, 46, 2, 65, 2, 331, 4, 74, 2, 21, 2,  -999.00, 9,  -999.00, 9,  -999.00, 9,  -999.00, 9,   5.9399,  -999.00, 9, 2224,   38.6873,  -52.3409
316N200309, A20, 21, 1, 20, 20, 2, 20030929, 2040, 38.6800, -52.3665, 5342,  1202.50,   1202.5,   5.0488,  35.0117, 2,  35.0100, 2,    239.5, 2,    237.6, 2,    11.74, 2,    18.82, 2,     0.00, 2,     1.24, 2,    2.107, 2,    1.121, 2,    0.114, 2,    2.180, 2,   2170.2, 2,   2310.7, 2,  -999.00, 9,  -999.00, 9, -999.000, 9, -999.000, -999.0000, 9, -999.0000,  -999.00, 9,  -999.00, -999.000, 9, -999.000,   -999.0, 9,   -999.0,  -999.00, 9, -999.0000, 9, -999.0000, 9, -999.0000, 9, -999.0000, 9, -999.0000, 9, -999.0000, 9, -999, 9, -999, 9, -999, 9, -999, 9, -999, 9, -999, 9, -999, 9,  -999.00, 9,  -999.00, 9,  -999.00, 9,  -999.00, 9,   4.9455,  -999.00, 9, 2220,   38.6871,  -52.3416
316N200309, A20, 21, 1, 19, 19, 2, 20030929, 2040, 38.6800, -52.3665, 5342,  1325.10,   1325.1,   4.6890,  35.0033, 2,  35.0020, 2,    266.5, 2,    247.1, 2,    11.50, 2,    18.47, 2,     0.00, 2,     1.20, 2,    2.104, 2,    1.093, 2,    0.123, 2,    2.292, 2,   2166.7, 2,   2305.9, 2,    45.30, 2,  -999.00, 9, -999.000, 9, -999.000, -999.0000, 9, -999.0000,  -999.00, 9,  -999.00, -999.000, 9, -999.000,   -999.0, 9,   -999.0,  -999.00, 9, -999.0000, 9, -999.0000, 9, -999.0000, 9, -999.0000, 9, -999.0000, 9, -999.0000, 9, -999, 9, -999, 9, -999, 9, -999, 9, -999, 9, -999, 9, -999, 9,  -999.00, 9,  -999.00, 9,  -999.00, 9,  -999.00, 9,   4.5775,  -999.00, 9, 2216,   38.6868,  -52.3427
316N200309, A20, 21, 1, 18, 18, 2, 20030929, 2040, 38.6800, -52.3665, 5342,  1449.10,   1449.1,   3.8440,  34.8854, 2,  34.8861, 2,    255.3, 2,    278.5, 2,     9.65, 2,    16.83, 2,     0.00, 2,     1.11, 2,    3.942, 2,    2.015, 2,    0.275, 2,    4.080, 2,   2159.3, 2,   2298.2, 2,  -999.00, 9,  -999.00, 9, -999.000, 9, -999.000, -999.0000, 9, -999.0000,  -999.00, 9,  -999.00, -999.000, 9, -999.000,   -999.0, 9,   -999.0,  -999.00, 9, -999.0000, 9, -999.0000, 9, -999.0000, 9, -999.0000, 9, -999.0000, 9, -999.0000, 9, -999, 9, -999, 9, -999, 9, -999, 9, -999, 9, -999, 9, -999, 9,  -999.00, 9,  -999.00, 9,  -999.00, 9,  -999.00, 9,   3.7303,  -999.00, 9, 2213,   38.6865,  -52.3438
316N200309, A20, 21, 1, 17, 17, 2, 20030929, 2040, 38.6800, -52.3665, 5342,  1573.80,   1573.8,   3.9193,  34.9189, 2,  34.9178, 2,    260.6, 2,    272.4, 2,    10.31, 2,    17.22, 2,     0.00, 2,     1.13, 2,    3.197, 2,    1.686, 2,    0.213, 2,    3.484, 2,   2159.3, 2,   2297.8, 2,    45.40, 2,  -999.00, 9, -999.000, 9, -999.000, -999.0000, 9, -999.0000,  -999.00, 9,  -999.00, -999.000, 9, -999.000,   -999.0, 9,   -999.0,  -999.00, 9, -999.0000, 9, -999.0000, 9, -999.0000, 9, -999.0000, 9, -999.0000, 9, -999.0000, 9, -999, 9, -999, 9, -999, 9, -999, 9, -999, 9, -999, 9, -999, 9,  -999.00, 9,  -999.00, 9,  -999.00, 9,  -999.00, 9,   3.7934,  -999.00, 9, 2210,   38.6862,  -52.3448
316N200309, A20, 21, 1, 16, 16, 2, 20030929, 2040, 38.6800, -52.3665, 5342,  1701.60,   1701.6,   3.8685,  34.9315, 2,  34.9366, 2,    272.1, 2,    269.9, 2,    10.89, 2,    17.43, 2,     0.00, 2,     1.14, 2,    2.735, 2,    1.435, 2,    0.169, 2,    3.130, 2,   2160.0, 2,   2303.7, 2,  -999.00, 9,  -999.00, 9, -999.000, 9, -999.000, -999.0000, 9, -999.0000,  -999.00, 9,  -999.00, -999.000, 9, -999.000,   -999.0, 9,   -999.0,  -999.00, 9, -999.0000, 9, -999.0000, 9, -999.0000, 9, -999.0000, 9, -999.0000, 9, -999.0000, 9, -999, 9, -999, 9, -999, 9, -999, 9, -999, 9, -999, 9, -999, 9,  -999.00, 9,  -999.00, 9,  -999.00, 9,  -999.00, 9,   3.7314,  -999.00, 9, 2207,   38.6859,  -52.3457
316N200309, A20, 21, 1, 15, 15, 2, 20030929, 2040, 38.6800, -52.3665, 5342,  1852.10,   1852.1,   3.7028,  34.9173, 2,  34.9217, 2,    274.0, 2,    273.4, 2,    10.85, 2,    17.27, 2,     0.00, 2,     1.13, 2,    2.851, 6,    1.465, 6,    0.174, 6,    3.246, 6,   2158.1, 2,   2298.0, 2,    45.90, 2,  -999.00, 9, -999.000, 9, -999.000, -999.0000, 9, -999.0000,  -999.00, 9,  -999.00, -999.000, 9, -999.000,   -999.0, 9,   -999.0,  -999.00, 9, -999.0000, 9, -999.0000, 9, -999.0000, 9, -999.0000, 9, -999.0000, 9, -999.0000, 9, -999, 9, -999, 9, -999, 9, -999, 9, -999, 9, -999, 9, -999, 9,  -999.00, 9,  -999.00, 9,  -999.00, 9,  -999.00, 9,   3.5539,  -999.00, 9, 2203,   38.6857,  -52.3463
316N200309, A20, 21, 1, 14, 14, 2, 20030929, 2040, 38.6800, -52.3665, 5342,  2000.20,   2000.2,   3.6633,  34.9316, 2,  34.9317, 2,    272.6, 2,    270.9, 2,    11.83, 2,    17.53, 2,     0.00, 2,     1.15, 2,    2.183, 2,    1.114, 2,    0.124, 2,    2.691, 2,   2157.7, 2,   2300.7, 2,  -999.00, 9,  -999.00, 9, -999.000, 9, -999.000, -999.0000, 9, -999.0000,  -999.00, 9,  -999.00, -999.000, 9, -999.000,   -999.0, 9,   -999.0,  -999.00, 9, -999.0000, 9, -999.0000, 9, -999.0000, 9, -999.0000, 9, -999.0000, 9, -999.0000, 9, -999, 9, -999, 9, -999, 9, -999, 9, -999, 9, -999, 9, -999, 9,  -999.00, 9,  -999.00, 9,  -999.00, 9,  -999.00, 9,   3.5009,  -999.00, 9, 2159,   38.6854,  -52.3465
316N200309, A20, 21, 1, 13, 13, 2, 20030929, 2040, 38.6800, -52.3665, 5342,  2251.10,   2251.1,   3.5010,  34.9296, 2,  34.9262, 2,    275.8, 2,    272.8, 2,    12.50, 2,    17.47, 2,     0.00, 2,     1.15, 2,    2.014, 2,    0.992, 2,    0.111, 2,    2.585, 2,   2156.9, 2,   2300.8, 2,    45.70, 2,  -999.00, 9, -999.000, 9, -999.000, -999.0000, 9, -999.0000,  -999.00, 9,  -999.00, -999.000, 9, -999.000,   -999.0, 9,   -999.0,  -999.00, 9, -999.0000, 9, -999.0000, 9, -999.0000, 9, -999.0000, 9, -999.0000, 9, -999.0000, 9, -999, 9, -999, 9, -999, 9, -999, 9, -999, 9, -999, 9, -999, 9,  -999.00, 9,  -999.00, 9,  -999.00, 9,  -999.00, 9,   3.3168,  -999.00, 9, 2154,   38.6849,  -52.3482
316N200309, A20, 21, 1, 12, 12, 2, 20030929, 2040, 38.6800, -52.3665, 5342,  2500.20,   2500.2,   3.4325,  34.9443, 2,  34.9431, 2,    274.5, 2,    268.7, 2,    14.49, 2,    17.72, 2,     0.00, 2,     1.17, 2,    1.267, 2,    0.642, 2,    0.057, 2,    1.868, 2,   2160.6, 2,   2301.9, 2,  -999.00, 9,  -999.00, 9, -999.000, 9, -999.000, -999.0000, 9, -999.0000,  -999.00, 9,  -999.00, -999.000, 9, -999.000,   -999.0, 9,   -999.0,  -999.00, 9, -999.0000, 9, -999.0000, 9, -999.0000, 9, -999.0000, 9, -999.0000, 9, -999.0000, 9, -999, 9, -999, 9, -999, 9, -999, 9, -999, 9, -999, 9, -999, 9,  -999.00, 9,  -999.00, 9,  -999.00, 9,  -999.00, 9,   3.2246,  -999.00, 9, 2149,   38.6845,  -52.3497
316N200309, A20, 21, 1, 11, 11, 2, 20030929, 2040, 38.6800, -52.3665, 5342,  2750.50,   2750.5,   3.3064,  34.9488, 2,  34.9475, 2,    268.8, 2,    266.3, 2,    16.48, 2,    17.82, 2,     0.00, 2,     1.18, 2,    0.910, 2,    0.465, 2,    0.039, 2,    1.467, 2,   2159.6, 2,   2306.1, 2,    43.50, 2,  -999.00, 9, -999.000, 9, -999.000, -999.0000, 9, -999.0000,  -999.00, 9,  -999.00, -999.000, 9, -999.000,   -999.0, 9,   -999.0,  -999.00, 9, -999.0000, 9, -999.0000, 9, -999.0000, 9, -999.0000, 9, -999.0000, 9, -999.0000, 9, -999, 9, -999, 9, -999, 9, -999, 9, -999, 9, -999, 9, -999, 9,  -999.00, 9,  -999.00, 9,  -999.00, 9,  -999.00, 9,   3.0753,  -999.00, 9, 2143,   38.6839,  -52.3512