BOTTLE,20220816CCHSIOAMB
EXPOCODE,SECT_ID,STNNBR,CASTNO,SAMPNO,BTLNBR,BTLNBR_FLAG_W,DATE,TIME,LATITUDE,LONGITUDE,DEPTH,CTDRAW,CTDPRS,CTDTMP,CTDSAL,CTDSAL_FLAG_W,SALNTY,SALNTY_FLAG_W,CTDOXY,CTDOXY_FLAG_W,OXYGEN,OXYGEN_FLAG_W,SILCAT,SILCAT_FLAG_W,NITRAT,NITRAT_FLAG_W,NITRIT,NITRIT_FLAG_W,PHSPHT,PHSPHT_FLAG_W,CFC-11,CFC-11_FLAG_W,CFC-12,CFC-12_FLAG_W,CFC113,CFC113_FLAG_W,CCL4,CCL4_FLAG_W,TCARBN,TCARBN_FLAG_W,ALKALI,ALKALI_FLAG_W,DOC,DOC_FLAG_W,TDN,TDN_FLAG_W,TRITUM,TRITUM_FLAG_W,TRITER,HELIUM,HELIUM_FLAG_W,HELIER,DELHE3,DELHE3_FLAG_W,DELHER,NEON,NEON_FLAG_W,NEONER,DELC14,DELC14_FLAG_W,C14ERR,DELC13,DELC13_FLAG_W,CDOM325,CDOM325_FLAG_W,CDOM340,CDOM340_FLAG_W,CDOM380,CDOM380_FLAG_W,CDOM412,CDOM412_FLAG_W,CDOMSL,CDOMSL_FLAG_W,CDOMSN,CDOMSN_FLAG_W,DCNS,DCNS_FLAG_W,ARABI,ARABI_FLAG_W,FUCO,FUCO_FLAG_W,GALA,GALA_FLAG_W,GLUC,GLUC_FLAG_W,MAN,MAN_FLAG_W,RHAM,RHAM_FLAG_W,BRDU,BRDU_FLAG_W,PEUK,PEUK_FLAG_W,PROC,PROC_FLAG_W,SYN,SYN_FLAG_W,THETA,BACT,BACT_FLAG_W,BTL_TIME,BTL_LAT,BTL_LON
,,,,,,,,,,,METERS,DBAR,DBAR,ITS-90,PSS-78,,PSS-78,,UMOL/KG,,UMOL/KG,,UMOL/KG,,UMOL/KG,,UMOL/KG,,UMOL/KG,,PMOL/KG,,PMOL/KG,,PMOL/KG,,PMOL/KG,,UMOL/KG,,UMOL/KG,,UMOL/KG,,UMOL/KG,,TU,,TU,NMOL/KG,,NMOL/KG,PERCNT,,PERCNT,NMOL/KG,,NMOL/KG,/MILLE,,/MILLE,/MILLE,,1/M,,1/M,,1/M,,1/M,,1/NM,,1/NM,,NMOL/KG,,NMOL/KG,,NMOL/KG,,NMOL/KG,,NMOL/KG,,NMOL/KG,,NMOL/KG,,PMOL/L/H,,E6/L,,E7/L,,E6/L,,DEG C,E8/L,,,,
316N200309, A20, 40, 1, 36, 36, 2, 20031008, 1055, 24.1955, -52.3390, 5429,     6.00,      6.0,  28.4262,  37.1562, 2,  37.1574, 2,    192.8, 2,    196.9, 2,     0.80, 2,     0.13, 2,     0.00, 2,     0.03, 2,    1.001, 2,    0.619, 2,    0.079, 2, -999.000, 9,   2047.1, 2,   2427.6, 2,    79.80, 2,     4.70, 2, -999.000, 9, -999.000, -999.0000, 9, -999.0000,  -999.00, 9,  -999.00, -999.000, 9, -999.000,   -999.0, 9,   -999.0,  -999.00, 9,    0.0350, 2,    0.0210, 2,    0.0030, 2,    0.0020, 2,    0.0380, 2,    0.0290, 2, 3060, 4, 146, 2, 500, 2, 796, 2, 367, 2, 961, 2, 289, 2,     1.55, 2,  -999.00, 9,  -999.00, 9,  -999.00, 9,  28.4247,  -999.00, 9, 1310,   24.2064,  -52.3317
316N200309, A20, 40, 1, 35, 35, 2, 20031008, 1055, 24.1955, -52.3390, 5429,    25.80,     25.8,  28.4025,  37.1586, 2,  37.1578, 2,    192.9, 2,    196.3, 2,     0.79, 2,     0.03, 2,     0.00, 2,     0.03, 2,    1.015, 2,    0.602, 2,    0.081, 2, -999.000, 9,   -999.0, 9,   -999.0, 9,    76.60, 2,     4.80, 2, -999.000, 9, -999.000, -999.0000, 9, -999.0000,  -999.00, 9,  -999.00, -999.000, 9, -999.000,   -999.0, 9,   -999.0,  -999.00, 9,    0.0440, 2,    0.0260, 2,    0.0050, 2,    0.0040, 2,    0.0380, 2,    0.0380, 2, -999, 9, -999, 9, -999, 9, -999, 9, -999, 9, -999, 9, -999, 9,     0.79, 2,  -999.00, 9,  -999.00, 9,  -999.00, 9,  28.3963,  -999.00, 9, 1308,   24.2063,  -52.3317
316N200309, A20, 40, 1, 34, 34, 2, 20031008, 1055, 24.1955, -52.3390, 5429,    49.50,     49.5,  26.7861,  37.0176, 2,  37.0160, 2,    208.0, 2,    219.0, 2,     0.68, 2,     0.02, 2,     0.00, 2,     0.02, 2,    1.122, 2,    0.676, 2,    0.089, 2, -999.000, 9,   -999.0, 9,   -999.0, 9,    74.80, 2,     4.20, 2, -999.000, 9, -999.000, -999.0000, 9, -999.0000,  -999.00, 9,  -999.00, -999.000, 9, -999.000,   -999.0, 9,   -999.0,  -999.00, 9,    0.0820, 2,    0.0510, 2,    0.0170, 2,    0.0120, 2,    0.0300, 2,    0.0310, 2, 4441, 4, 127, 2, 425, 2, 942, 2, 1392, 4, 1283, 4, 273, 2,     0.73, 2,  -999.00, 9,  -999.00, 9,  -999.00, 9,  26.7748,  -999.00, 9, 1306,   24.2062,  -52.3318
316N200309, A20, 40, 1, 33, 33, 2, 20031008, 1055, 24.1955, -52.3390, 5429,    75.40,     75.4,  24.8716,  37.0174, 2,  37.0168, 2,    218.2, 2,    220.7, 2,     0.58, 2,     0.07, 2,     0.00, 2,     0.02, 2,    1.979, 2,    1.184, 2,    0.165, 2, -999.000, 9,   2049.7, 2,   2416.8, 2,    72.70, 2,     5.70, 2, -999.000, 9, -999.000, -999.0000, 9, -999.0000,  -999.00, 9,  -999.00, -999.000, 9, -999.000,   -999.0, 9,   -999.0,  -999.00, 9,    0.1240, 2,    0.0810, 2,    0.0300, 2,    0.0190, 2,    0.0260, 2,    0.0270, 2, 3665, 4, 157, 2, 365, 2, 737, 2, 1313, 4, 831, 2, 261, 2,     0.46, 2,  -999.00, 9,  -999.00, 9,  -999.00, 9,  24.8552,  -999.00, 9, 1304,   24.2060,  -52.3319
316N200309, A20, 40, 1, 32, 32, 2, 20031008, 1055, 24.1955, -52.3390, 5429,   124.90,    124.9,  22.6974,  36.9822, 2,  36.9792, 2,    204.9, 2,    205.6, 2,     0.36, 2,     0.06, 2,     0.00, 2,     0.02, 2, -999.000, 5, -999.000, 5, -999.000, 5, -999.000, 9,   -999.0, 9,   -999.0, 9,    59.30, 2,     5.30, 2, -999.000, 9, -999.000, -999.0000, 9, -999.0000,  -999.00, 9,  -999.00, -999.000, 9, -999.000,   -999.0, 9,   -999.0,  -999.00, 9,    0.1280, 2,    0.0900, 2,    0.0380, 2,    0.0270, 2,    0.0200, 2,    0.0220, 2, 1230, 4, 67, 2, 175, 2, 232, 2, 310, 2, 332, 2, 114, 2,     0.58, 2,  -999.00, 9,  -999.00, 9,  -999.00, 9,  22.6719,  -999.00, 9, 1302,   24.2058,  -52.3321
316N200309, A20, 40, 1, 31, 31, 2, 20031008, 1055, 24.1955, -52.3390, 5429,   175.90,    175.9,  20.4208,  36.7539, 2,  36.7522, 2,    195.7, 2,    199.0, 2,     0.47, 2,     0.41, 2,     0.02, 2,     0.04, 2,    2.180, 2,    1.286, 2,    0.133, 2, -999.000, 9,   -999.0, 9,   -999.0, 9,    53.50, 2,     4.40, 2, -999.000, 9, -999.000, -999.0000, 9, -999.0000,  -999.00, 9,  -999.00, -999.000, 9, -999.000,   -999.0, 9,   -999.0,  -999.00, 9,    0.1190, 2,    0.0850, 2,    0.0390, 2,    0.0300, 2,    0.0170, 2,    0.0190, 2, -999, 9, -999, 9, -999, 9, -999, 9, -999, 9, -999, 9, -999, 9,     0.33, 2,  -999.00, 9,  -999.00, 9,  -999.00, 9,  20.3875,  -999.00, 9, 1300,   24.2057,  -52.3321
316N200309, A20, 40, 1, 30, 30, 2, 20031008, 1055, 24.1955, -52.3390, 5429,   224.80,    224.8,  19.2989,  36.6490, 2,  36.6495, 2,    188.0, 2,    194.8, 2,     0.67, 2,     1.68, 2,     0.01, 2,     0.07, 2,    2.322, 2,    1.369, 2,    0.071, 2, -999.000, 9,   2100.1, 2,   2391.2, 2,    52.40, 2,     5.30, 2, -999.000, 9, -999.000, -999.0000, 9, -999.0000,  -999.00, 9,  -999.00, -999.000, 9, -999.000,   -999.0, 9,   -999.0,  -999.00, 9,    0.1040, 2,    0.0740, 2,    0.0340, 2,    0.0270, 2,    0.0200, 2,    0.0210, 2, 993, 4, 82, 2, 83, 2, 128, 2, 395, 2, 235, 2, 71, 2,     0.51, 2,  -999.00, 9,  -999.00, 9,  -999.00, 9,  19.2579,  -999.00, 9, 1258,   24.2055,  -52.3322
316N200309, A20, 40, 1, 29, 29, 2, 20031008, 1055, 24.1955, -52.3390, 5429,   275.40,    275.4,  18.5702,  36.5862, 2,  36.5868, 2,    193.0, 2,    194.0, 2,     0.99, 2,     3.56, 2,     0.01, 2,     0.17, 2,    2.419, 2,    1.394, 2,    0.042, 2, -999.000, 9,   -999.0, 9,   -999.0, 9,    47.20, 2,     7.00, 2, -999.000, 9, -999.000, -999.0000, 9, -999.0000,  -999.00, 9,  -999.00, -999.000, 9, -999.000,   -999.0, 9,   -999.0,  -999.00, 9,    0.0920, 2,    0.0650, 2,    0.0280, 2,    0.0220, 2,    0.0220, 2,    0.0230, 2, -999, 9, -999, 9, -999, 9, -999, 9, -999, 9, -999, 9, -999, 9,     0.21, 2,  -999.00, 9,  -999.00, 9,  -999.00, 9,  18.5213,  -999.00, 9, 1256,   24.2054,  -52.3323
316N200309, A20, 40, 1, 28, 28, 2, 20031008, 1055, 24.1955, -52.3390, 5429,   375.50,    375.5,  17.4668,  36.4408, 2,  36.4414, 2,    195.4, 2,    195.9, 2,     1.50, 2,     5.58, 2,     0.00, 2,     0.29, 2,    2.463, 2,    1.388, 2,    0.055, 2, -999.000, 9,   -999.0, 9,   -999.0, 9,    47.80, 2,  -999.00, 9, -999.000, 9, -999.000, -999.0000, 9, -999.0000,  -999.00, 9,  -999.00, -999.000, 9, -999.000,   -999.0, 9,   -999.0,  -999.00, 9,    0.0880, 2,    0.0610, 2,    0.0260, 2,    0.0190, 2,    0.0230, 2,    0.0240, 2, 483, 4, 30, 2, 60, 2, 79, 2, 66, 4, 201, 2, 47, 2,  -999.00, 9,  -999.00, 9,  -999.00, 9,  -999.00, 9,  17.4028,  -999.00, 9, 1253,   24.2052,  -52.3324
316N200309, A20, 40, 1, 27, 27, 2, 20031008, 1055, 24.1955, -52.3390, 5429,   475.90,    475.9,  15.9755,  36.1882, 2,  36.1866, 2,    180.6, 2,    180.5, 2,     2.76, 2,     9.41, 2,     0.00, 2,     0.54, 2,    2.366, 2,    1.291, 2,    0.037, 2, -999.000, 9,   2129.6, 2,   2364.1, 2,    47.40, 2,  -999.00, 9, -999.000, 9, -999.000, -999.0000, 9, -999.0000,  -999.00, 9,  -999.00, -999.000, 9, -999.000,   -999.0, 9,   -999.0,  -999.00, 9,    0.0950, 2,    0.0660, 2,    0.0280, 2,    0.0210, 2,    0.0230, 2,    0.0230, 2, 528, 4, 50, 2, 50, 2, 78, 2, 250, 4, 64, 2, 35, 2,  -999.00, 9,  -999.00, 9,  -999.00, 9,  -999.00, 9,  15.8990,  -999.00, 9, 1250,   24.2049,  -52.3325
316N200309, A20, 40, 1, 26, 26, 2, 20031008, 1055, 24.1955, -52.3390, 5429,   575.20,    575.2,  14.0190,  35.8812, 2,  35.8827, 2,    169.8, 2,    168.9, 2,     4.75, 2,    13.56, 2,     0.00, 2,     0.79, 2,    2.081, 2,    1.099, 2,    0.036, 2, -999.000, 9,   -999.0, 9,   -999.0, 9,    44.50, 2,  -999.00, 9, -999.000, 9, -999.000, -999.0000, 9, -999.0000,  -999.00, 9,  -999.00, -999.000, 9, -999.000,   -999.0, 9,   -999.0,  -999.00, 9,    0.1090, 2,    0.0740, 2,    0.0320, 2,    0.0230, 2,    0.0230, 2,    0.0240, 2, -999, 9, -999, 9, -999, 9, -999, 9, -999, 9, -999, 9, -999, 9,  -999.00, 9,  -999.00, 9,  -999.00, 9,  -999.00, 9,  13.9341,  -999.00, 9, 1248,   24.2047,  -52.3325
316N200309, A20, 40, 1, 25, 25, 2, 20031008, 1055, 24.1955, -52.3390, 5429,   675.60,    675.6,  12.0652,  35.6060, 2,  35.6064, 2,    159.8, 2,    157.7, 2,     7.58, 2,    17.99, 2,     0.00, 2,     1.08, 2,    1.548, 2,    0.817, 2,    0.020, 2, -999.000, 9,   -999.0, 9,   -999.0, 9,    42.80, 2,  -999.00, 9, -999.000, 9, -999.000, -999.0000, 9, -999.0000,  -999.00, 9,  -999.00, -999.000, 9, -999.000,   -999.0, 9,   -999.0,  -999.00, 9,    0.1010, 2,    0.0690, 2,    0.0310, 2,    0.0220, 2,    0.0220, 2,    0.0230, 2, -999, 9, -999, 9, -999, 9, -999, 9, -999, 9, -999, 9, -999, 9,  -999.00, 9,  -999.00, 9,  -999.00, 9,  -999.00, 9,  11.9745,  -999.00, 9, 1245,   24.2044,  -52.3326
316N200309, A20, 40, 1, 24, 24, 2, 20031008, 1055, 24.1955, -52.3390, 5429,   775.90,    775.9,  10.1111,  35.3608, 2,  35.3616, 2,    152.1, 2,    150.8, 2,    11.35, 2,    21.98, 2,     0.00, 2,     1.36, 2,    0.542, 2,    0.279, 2,    0.004, 2, -999.000, 9,   -999.0, 9,   -999.0, 9,  -999.00, 9,  -999.00, 9, -999.000, 9, -999.000, -999.0000, 9, -999.0000,  -999.00, 9,  -999.00, -999.000, 9, -999.000,   -999.0, 9,   -999.0,  -999.00, 9, -999.0000, 9, -999.0000, 9, -999.0000, 9, -999.0000, 9, -999.0000, 9, -999.0000, 9, -999, 9, -999, 9, -999, 9, -999, 9, -999, 9, -999, 9, -999, 9,  -999.00, 9,  -999.00, 9,  -999.00, 9,  -999.00, 9,  10.0174,  -999.00, 9, 1242,   24.2042,  -52.3327
316N200309, A20, 40, 1, 23, 23, 2, 20031008, 1055, 24.1955, -52.3390, 5429,   876.10,    876.1,   8.2680,  35.1552, 2,  35.1553, 2,    149.4, 2,    148.7, 2,    15.55, 2,    25.16, 2,     0.00, 2,     1.60, 2, -999.000, 5, -999.000, 5, -999.000, 5, -999.000, 9,   2191.1, 2,   2317.9, 2,    42.00, 2,  -999.00, 9, -999.000, 9, -999.000, -999.0000, 9, -999.0000,  -999.00, 9,  -999.00, -999.000, 9, -999.000,   -999.0, 9,   -999.0,  -999.00, 9,    0.1110, 2,    0.0760, 2,    0.0360, 2,    0.0260, 2,    0.0190, 2,    0.0210, 2, 342, 4, 8, 2, 29, 2, 53, 2, 171, 2, 65, 2, 16, 2,  -999.00, 9,  -999.00, 9,  -999.00, 9,  -999.00, 9,   8.1736,  -999.00, 9, 1239,   24.2039,  -52.3327
316N200309, A20, 40, 1, 22, 22, 2, 20031008, 1055, 24.1955, -52.3390, 5429,   975.40,    975.4,   6.9661,  35.0495, 2,  35.0490, 2,    158.1, 2,    158.0, 2,    17.96, 2,    26.07, 2,     0.00, 2,     1.69, 2,    0.137, 2,    0.077, 2,    0.006, 2, -999.000, 9,   -999.0, 9,   -999.0, 9,    40.00, 2,  -999.00, 9, -999.000, 9, -999.000, -999.0000, 9, -999.0000,  -999.00, 9,  -999.00, -999.000, 9, -999.000,   -999.0, 9,   -999.0,  -999.00, 9,    0.1140, 2,    0.0790, 2,    0.0370, 2,    0.0280, 2,    0.0190, 2,    0.0210, 2, -999, 9, -999, 9, -999, 9, -999, 9, -999, 9, -999, 9, -999, 9,  -999.00, 9,  -999.00, 9,  -999.00, 9,  -999.00, 9,   6.8698,  -999.00, 9, 1237,   24.2037,  -52.3328
316N200309, A20, 40, 1, 21, 21, 2, 20031008, 1055, 24.1955, -52.3390, 5429,  1125.80,   1125.8,   5.9486,  35.0708, 2,  35.0716, 2,    188.9, 2,    195.9, 2,    15.96, 2,    22.63, 2,     0.00, 2,     1.48, 2,    0.339, 2,    0.188, 6,    0.015, 2,    0.459, 2,   -999.0, 9,   -999.0, 9,    40.70, 2,  -999.00, 9, -999.000, 9, -999.000, -999.0000, 9, -999.0000,  -999.00, 9,  -999.00, -999.000, 9, -999.000,   -999.0, 9,   -999.0,  -999.00, 9,    0.1230, 2,    0.0850, 2,    0.0390, 2,    0.0280, 2,    0.0190, 2,    0.0210, 2, -999, 9, -999, 9, -999, 9, -999, 9, -999, 9, -999, 9, -999, 9,  -999.00, 9,  -999.00, 9,  -999.00, 9,  -999.00, 9,   5.8447,  -999.00, 9, 1233,   24.2032,  -52.3329
316N200309, A20, 40, 1, 20, 20, 2, 20031008, 1055, 24.1955, -52.3390, 5429,  1275.50,   1275.5,   5.3265,  35.0847, 2,  35.0852, 2,    221.3, 2,    222.3, 2,    14.17, 2,    20.29, 2,     0.00, 2,     1.33, 2,    0.505, 2,    0.250, 2,    0.036, 2, -999.000, 9,   -999.0, 9,   -999.0, 9,    39.90, 2,  -999.00, 9, -999.000, 9, -999.000, -999.0000, 9, -999.0000,  -999.00, 9,  -999.00, -999.000, 9, -999.000,   -999.0, 9,   -999.0,  -999.00, 9,    0.1150, 2,    0.0800, 2,    0.0370, 2,    0.0270, 2,    0.0190, 2,    0.0210, 2, -999, 9, -999, 9, -999, 9, -999, 9, -999, 9, -999, 9, -999, 9,  -999.00, 9,  -999.00, 9,  -999.00, 9,  -999.00, 9,   5.2134,  -999.00, 9, 1229,   24.2028,  -52.3331
316N200309, A20, 40, 1, 19, 19, 2, 20031008, 1055, 24.1955, -52.3390, 5429,  1424.30,   1424.3,   4.8848,  35.0834, 2,  35.0844, 2,    234.9, 2,    234.5, 2,    14.28, 2,    19.52, 2,     0.00, 2,     1.27, 2,    0.441, 2,    0.219, 2,    0.030, 2, -999.000, 9,   -999.0, 9,   -999.0, 9,    42.00, 2,  -999.00, 9, -999.000, 9, -999.000, -999.0000, 9, -999.0000,  -999.00, 9,  -999.00, -999.000, 9, -999.000,   -999.0, 9,   -999.0,  -999.00, 9,    0.1120, 2,    0.0780, 2,    0.0360, 2,    0.0270, 2,    0.0190, 2,    0.0210, 2, -999, 9, -999, 9, -999, 9, -999, 9, -999, 9, -999, 9, -999, 9,  -999.00, 9,  -999.00, 9,  -999.00, 9,  -999.00, 9,   4.7617,  -999.00, 9, 1226,   24.2023,  -52.3332
316N200309, A20, 40, 1, 18, 18, 2, 20031008, 1055, 24.1955, -52.3390, 5429,  1575.30,   1575.3,   4.3604,  35.0446, 2,  35.0447, 2,    245.6, 2,    244.8, 2,    15.22, 2,    19.23, 2,     0.00, 2,     1.25, 2,    0.334, 2,    0.158, 2,    0.034, 2, -999.000, 9,   -999.0, 9,   -999.0, 9,  -999.00, 9,  -999.00, 9, -999.000, 9, -999.000, -999.0000, 9, -999.0000,  -999.00, 9,  -999.00, -999.000, 9, -999.000,   -999.0, 9,   -999.0,  -999.00, 9, -999.0000, 9, -999.0000, 9, -999.0000, 9, -999.0000, 9, -999.0000, 9, -999.0000, 9, -999, 9, -999, 9, -999, 9, -999, 9, -999, 9, -999, 9, -999, 9,  -999.00, 9,  -999.00, 9,  -999.00, 9,  -999.00, 9,   4.2288,  -999.00, 9, 1222,   24.2018,  -52.3333
316N200309, A20, 40, 1, 17, 17, 2, 20031008, 1055, 24.1955, -52.3390, 5429,  1725.10,   1725.1,   4.0965,  35.0334, 2,  35.0329, 2,    247.5, 2,    247.4, 2,    16.68, 2,    19.23, 2,     0.00, 2,     1.26, 2,    0.163, 2,    0.090, 2,    0.021, 2, -999.000, 9,   -999.0, 9,   -999.0, 9,    43.10, 2,  -999.00, 9, -999.000, 9, -999.000, -999.0000, 9, -999.0000,  -999.00, 9,  -999.00, -999.000, 9, -999.000,   -999.0, 9,   -999.0,  -999.00, 9,    0.1220, 2,    0.0860, 2,    0.0440, 2,    0.0340, 2,    0.0140, 2,    0.0170, 2, -999, 9, -999, 9, -999, 9, -999, 9, -999, 9, -999, 9, -999, 9,  -999.00, 9,  -999.00, 9,  -999.00, 9,  -999.00, 9,   3.9540,  -999.00, 9, 1219,   24.2015,  -52.3334
316N200309, A20, 40, 1, 16, 16, 2, 20031008, 1055, 24.1955, -52.3390, 5429,  1901.20,   1901.2,   3.8091,  35.0195, 2,  35.0215, 2,    249.7, 2,    249.5, 2,    18.88, 2,    19.26, 2,     0.00, 2,     1.27, 2,    0.090, 2,    0.050, 2,    0.009, 2, -999.000, 9,   -999.0, 9,   -999.0, 9,  -999.00, 9,  -999.00, 9, -999.000, 9, -999.000, -999.0000, 9, -999.0000,  -999.00, 9,  -999.00, -999.000, 9, -999.000,   -999.0, 9,   -999.0,  -999.00, 9, -999.0000, 9, -999.0000, 9, -999.0000, 9, -999.0000, 9, -999.0000, 9, -999.0000, 9, -999, 9, -999, 9, -999, 9, -999, 9, -999, 9, -999, 9, -999, 9,  -999.00, 9,  -999.00, 9,  -999.00, 9,  -999.00, 9,   3.6538,  -999.00, 9, 1214,   24.2011,  -52.3334
316N200309, A20, 40, 1, 15, 15, 2, 20031008, 1055, 24.1955, -52.3390, 5429,  2125.40,   2125.4,   3.4540,  34.9934, 2,  34.9947, 2,    249.8, 2,    249.8, 2,    22.86, 2,    19.69, 2,     0.00, 2,     1.30, 2,    0.043, 2,    0.036, 2,    0.009, 2, -999.000, 9,   -999.0, 9,   -999.0, 9,    40.70, 2,  -999.00, 9, -999.000, 9, -999.000, -999.0000, 9, -999.0000,  -999.00, 9,  -999.00, -999.000, 9, -999.000,   -999.0, 9,   -999.0,  -999.00, 9,    0.1170, 2,    0.0810, 2,    0.0390, 2,    0.0280, 2,    0.0180, 2,    0.0200, 2, -999, 9, -999, 9, -999, 9, -999, 9, -999, 9, -999, 9, -999, 9,  -999.00, 9,  -999.00, 9,  -999.00, 9,  -999.00, 9,   3.2825,  -999.00, 9, 1210,   24.2010,  -52.3337
316N200309, A20, 40, 1, 14, 14, 2, 20031008, 1055, 24.1955, -52.3390, 5429,  2375.30,   2375.3,   3.1843,  34.9721, 2,  34.9726, 2,    249.7, 2,    249.7, 2,    26.64, 2,    20.01, 2,     0.00, 2,     1.33, 2,    0.037, 2,    0.025, 2,    0.005, 2, -999.000, 9,   -999.0, 9,   -999.0, 9,  -999.00, 9,  -999.00, 9, -999.000, 9, -999.000, -999.0000, 9, -999.0000,  -999.00, 9,  -999.00, -999.000, 9, -999.000,   -999.0, 9,   -999.0,  -999.00, 9, -999.0000, 9, -999.0000, 9, -999.0000, 9, -999.0000, 9, -999.0000, 9, -999.0000, 9, -999, 9, -999, 9, -999, 9, -999, 9, -999, 9, -999, 9, -999, 9,  -999.00, 9,  -999.00, 9,  -999.00, 9,  -999.00, 9,   2.9932,  -999.00, 9, 1205,   24.2007,  -52.3340
316N200309, A20, 40, 1, 13, 13, 2, 20031008, 1055, 24.1955, -52.3390, 5429,  2624.50,   2624.5,   2.9703,  34.9542, 2,  34.9540, 2,    249.5, 2,    249.9, 2,    29.99, 2,    20.34, 2,     0.00, 2,     1.35, 2,    0.027, 2,    0.020, 2,    0.008, 2, -999.000, 9,   -999.0, 9,   -999.0, 9,    39.20, 2,  -999.00, 9, -999.000, 9, -999.000, -999.0000, 9, -999.0000,  -999.00, 9,  -999.00, -999.000, 9, -999.000,   -999.0, 9,   -999.0,  -999.00, 9,    0.1120, 2,    0.0790, 2,    0.0370, 2,    0.0270, 2,    0.0190, 2,    0.0200, 2, -999, 9, -999, 9, -999, 9, -999, 9, -999, 9, -999, 9, -999, 9,  -999.00, 9,  -999.00, 9,  -999.00, 9,  -999.00, 9,   2.7586,  -999.00, 9, 1159,   24.2002,  -52.3345
316N200309, A20, 40, 1, 12, 12, 2, 20031008, 1055, 24.1955, -52.3390, 5429,  2875.00,   2875.0,   2.8243,  34.9408, 2,  34.9406, 2,    250.3, 2,    250.7, 2,    32.20, 2,    20.48, 2,     0.00, 2,     1.37, 2,    0.021, 2,    0.019, 2,    0.006, 2, -999.000, 9,   -999.0, 9,   -999.0, 9,  -999.00, 9,  -999.00, 9, -999.000, 9, -999.000, -999.0000, 9, -999.0000,  -999.00, 9,  -999.00, -999.000, 9, -999.000,   -999.0, 9,   -999.0,  -999.00, 9, -999.0000, 9, -999.0000, 9, -999.0000, 9, -999.0000, 9, -999.0000, 9, -999.0000, 9, -999, 9, -999, 9, -999, 9, -999, 9, -999, 9, -999, 9, -999, 9,  -999.00, 9,  -999.00, 9,  -999.00, 9,  -999.00, 9,   2.5902,  -999.00, 9, 1154,   24.1998,  -52.3349
316N200309, A20, 40, 1, 11, 11, 2, 20031008, 1055, 24.1955, -52.3390, 5429,  3125.80,   3125.8,   2.6309,  34.9239, 2,  34.9233, 2,    252.5, 2,    252.7, 2,    34.29, 2,    20.52, 2,     0.00, 2,     1.38, 2,    0.017, 2,    0.015, 2,    0.002, 2, -999.000, 9,   -999.0, 9,   -999.0, 9,  -999.00, 9,  -999.00, 9, -999.000, 9, -999.000, -999.0000, 9, -999.0000,  -999.00, 9,  -999.00, -999.000, 9, -999.000,   -999.0, 9,   -999.0,  -999.00, 9, -999.0000, 9, -999.0000, 9, -999.0000, 9, -999.0000, 9, -999.0000, 9, -999.0000, 9, -999, 9, -999, 9, -999, 9, -999, 9, -999, 9, -999, 9, -999, 9,  -999.00, 9,  -999.00, 9,  -999.00, 9,  -999.00, 9,   2.3751,  -999.00, 9, 1148,   24.1994,  -52.3352