BOTTLE,20220816CCHSIOAMB
EXPOCODE,SECT_ID,STNNBR,CASTNO,SAMPNO,BTLNBR,BTLNBR_FLAG_W,DATE,TIME,LATITUDE,LONGITUDE,DEPTH,CTDRAW,CTDPRS,CTDTMP,CTDSAL,CTDSAL_FLAG_W,SALNTY,SALNTY_FLAG_W,CTDOXY,CTDOXY_FLAG_W,OXYGEN,OXYGEN_FLAG_W,SILCAT,SILCAT_FLAG_W,NITRAT,NITRAT_FLAG_W,NITRIT,NITRIT_FLAG_W,PHSPHT,PHSPHT_FLAG_W,CFC-11,CFC-11_FLAG_W,CFC-12,CFC-12_FLAG_W,CFC113,CFC113_FLAG_W,CCL4,CCL4_FLAG_W,TCARBN,TCARBN_FLAG_W,ALKALI,ALKALI_FLAG_W,DOC,DOC_FLAG_W,TDN,TDN_FLAG_W,TRITUM,TRITUM_FLAG_W,TRITER,HELIUM,HELIUM_FLAG_W,HELIER,DELHE3,DELHE3_FLAG_W,DELHER,NEON,NEON_FLAG_W,NEONER,DELC14,DELC14_FLAG_W,C14ERR,DELC13,DELC13_FLAG_W,CDOM325,CDOM325_FLAG_W,CDOM340,CDOM340_FLAG_W,CDOM380,CDOM380_FLAG_W,CDOM412,CDOM412_FLAG_W,CDOMSL,CDOMSL_FLAG_W,CDOMSN,CDOMSN_FLAG_W,DCNS,DCNS_FLAG_W,ARABI,ARABI_FLAG_W,FUCO,FUCO_FLAG_W,GALA,GALA_FLAG_W,GLUC,GLUC_FLAG_W,MAN,MAN_FLAG_W,RHAM,RHAM_FLAG_W,BRDU,BRDU_FLAG_W,PEUK,PEUK_FLAG_W,PROC,PROC_FLAG_W,SYN,SYN_FLAG_W,THETA,BACT,BACT_FLAG_W,BTL_TIME,BTL_LAT,BTL_LON
,,,,,,,,,,,METERS,DBAR,DBAR,ITS-90,PSS-78,,PSS-78,,UMOL/KG,,UMOL/KG,,UMOL/KG,,UMOL/KG,,UMOL/KG,,UMOL/KG,,PMOL/KG,,PMOL/KG,,PMOL/KG,,PMOL/KG,,UMOL/KG,,UMOL/KG,,UMOL/KG,,UMOL/KG,,TU,,TU,NMOL/KG,,NMOL/KG,PERCNT,,PERCNT,NMOL/KG,,NMOL/KG,/MILLE,,/MILLE,/MILLE,,1/M,,1/M,,1/M,,1/M,,1/NM,,1/NM,,NMOL/KG,,NMOL/KG,,NMOL/KG,,NMOL/KG,,NMOL/KG,,NMOL/KG,,NMOL/KG,,PMOL/L/H,,E6/L,,E7/L,,E6/L,,DEG C,E8/L,,,,
316N200309, A20, 7, 1, 24, 24, 2, 20030926, 1027, 42.6357, -51.1203, 1973,     3.50,      3.5,  16.9732,  33.3417, 2,  33.3441, 2,    242.2, 2,    246.6, 2,     0.00, 2,     0.12, 2,     0.00, 2,     0.11, 2,    2.702, 2,    1.555, 2,    0.216, 2,    2.822, 2,   -999.0, 9,   2229.8, 2,    69.50, 2,     4.70, 2,    1.733, 2,    0.006,   1.8193, 2,   0.0091,    -1.05, 2,     0.20,    7.396, 2,    0.037,   -999.0, 9,   -999.0,  -999.00, 9, -999.0000, 9, -999.0000, 9, -999.0000, 9, -999.0000, 9, -999.0000, 9, -999.0000, 9, -999, 9, -999, 9, -999, 9, -999, 9, -999, 9, -999, 9, -999, 9,  -999.00, 9,  -999.00, 9,  -999.00, 9,  -999.00, 9,  16.9727,  -999.00, 9, 1122,   42.6401,  -51.1159
316N200309, A20, 7, 1, 25, 25, 2, 20030926, 1027, 42.6357, -51.1203, 1973,     3.60,      3.6,  16.9799,  33.3417, 2,  33.3447, 2,    242.2, 2,    246.4, 2,     0.00, 2,     0.12, 2,     0.00, 2,     0.12, 2,    2.676, 2,    1.575, 2,    0.210, 2,    2.869, 2,   1993.2, 2,   -999.0, 9,  -999.00, 9,  -999.00, 9, -999.000, 9, -999.000, -999.0000, 9, -999.0000,  -999.00, 9,  -999.00, -999.000, 9, -999.000,     42.8, 2,      3.1,     2.13, 2, -999.0000, 9, -999.0000, 9, -999.0000, 9, -999.0000, 9, -999.0000, 9, -999.0000, 9, -999, 9, -999, 9, -999, 9, -999, 9, -999, 9, -999, 9, -999, 9,  -999.00, 9,  -999.00, 9,  -999.00, 9,  -999.00, 9,  16.9794,  -999.00, 9, 1122,   42.6401,  -51.1159
316N200309, A20, 7, 1, 23, 23, 2, 20030926, 1027, 42.6357, -51.1203, 1973,    29.60,     29.6,   9.9927,  33.9684, 2,  34.0145, 2,    288.6, 2,    323.1, 3,     0.33, 2,     0.06, 2,     0.00, 2,     0.24, 2,    4.547, 2,    2.434, 2,    0.350, 2,    3.425, 2,   2041.3, 2,   2266.3, 2,    66.40, 2,     4.80, 2, -999.000, 9, -999.000, -999.0000, 9, -999.0000,  -999.00, 9,  -999.00, -999.000, 9, -999.000,   -999.0, 9,   -999.0,  -999.00, 9, -999.0000, 9, -999.0000, 9, -999.0000, 9, -999.0000, 9, -999.0000, 9, -999.0000, 9, -999, 9, -999, 9, -999, 9, -999, 9, -999, 9, -999, 9, -999, 9,  -999.00, 9,  -999.00, 9,  -999.00, 9,  -999.00, 9,   9.9893,  -999.00, 9, 1121,   42.6400,  -51.1161
316N200309, A20, 7, 1, 22, 22, 2, 20030926, 1027, 42.6357, -51.1203, 1973,    54.60,     54.6,  11.5421,  35.0144, 2,  35.0150, 2,    221.7, 2,    231.9, 2,     1.76, 2,     6.76, 2,     0.07, 2,     0.55, 2,    3.479, 2,    1.895, 2,    0.236, 2,    1.881, 2,   2112.1, 2,   2309.1, 2,    57.80, 2,    11.40, 2,    1.225, 2,    0.005,   1.8257, 2,   0.0091,     0.12, 2,     0.20,    7.605, 2,    0.038,   -999.0, 9,   -999.0,  -999.00, 9, -999.0000, 9, -999.0000, 9, -999.0000, 9, -999.0000, 9, -999.0000, 9, -999.0000, 9, -999, 9, -999, 9, -999, 9, -999, 9, -999, 9, -999, 9, -999, 9,  -999.00, 9,  -999.00, 9,  -999.00, 9,  -999.00, 9,  11.5352,  -999.00, 9, 1119,   42.6399,  -51.1163
316N200309, A20, 7, 1, 21, 21, 2, 20030926, 1027, 42.6357, -51.1203, 1973,    79.30,     79.3,  12.1890,  35.3246, 2,  35.3259, 2,    204.5, 2,    207.4, 2,     3.50, 2,    10.58, 2,     0.02, 2,     0.70, 2,    2.968, 2,    1.637, 2,    0.176, 2,    1.270, 2,   2128.3, 2,   2320.3, 2,    56.30, 2,    15.30, 2,    1.014, 2,    0.004,   1.8343, 2,   0.0092,     1.09, 2,     0.20,    7.585, 2,    0.038,   -999.0, 9,   -999.0,  -999.00, 9, -999.0000, 9, -999.0000, 9, -999.0000, 9, -999.0000, 9, -999.0000, 9, -999.0000, 9, -999, 9, -999, 9, -999, 9, -999, 9, -999, 9, -999, 9, -999, 9,  -999.00, 9,  -999.00, 9,  -999.00, 9,  -999.00, 9,  12.1785,  -999.00, 9, 1118,   42.6399,  -51.1164
316N200309, A20, 7, 1, 20, 20, 2, 20030926, 1027, 42.6357, -51.1203, 1973,   104.30,    104.3,  12.0059,  35.3292, 2,  35.3291, 2,    205.7, 2,   -999.0, 9,     4.01, 2,    11.27, 2,     0.02, 2,     0.75, 2, -999.000, 9, -999.000, 9, -999.000, 9, -999.000, 9,   2133.9, 2,   2319.9, 2,    58.80, 2,    16.20, 2, -999.000, 9, -999.000, -999.0000, 9, -999.0000,  -999.00, 9,  -999.00, -999.000, 9, -999.000,   -999.0, 9,   -999.0,  -999.00, 9, -999.0000, 9, -999.0000, 9, -999.0000, 9, -999.0000, 9, -999.0000, 9, -999.0000, 9, -999, 9, -999, 9, -999, 9, -999, 9, -999, 9, -999, 9, -999, 9,  -999.00, 9,  -999.00, 9,  -999.00, 9,  -999.00, 9,  11.9923,  -999.00, 9, 1117,   42.6398,  -51.1166
316N200309, A20, 7, 1, 19, 19, 2, 20030926, 1027, 42.6357, -51.1203, 1973,   129.10,    129.1,  11.7454,  35.3002, 2,  35.2964, 2,    209.9, 2,    212.0, 2,     4.11, 2,    11.32, 2,     0.02, 2,     0.75, 2,    3.000, 2,    1.665, 2,    0.166, 2,    1.289, 2,   2129.8, 2,   2317.3, 2,    53.50, 2,    14.30, 2, -999.000, 9, -999.000, -999.0000, 9, -999.0000,  -999.00, 9,  -999.00, -999.000, 9, -999.000,   -999.0, 9,   -999.0,  -999.00, 9, -999.0000, 9, -999.0000, 9, -999.0000, 9, -999.0000, 9, -999.0000, 9, -999.0000, 9, -999, 9, -999, 9, -999, 9, -999, 9, -999, 9, -999, 9, -999, 9,  -999.00, 9,  -999.00, 9,  -999.00, 9,  -999.00, 9,  11.7288,  -999.00, 9, 1116,   42.6398,  -51.1167
316N200309, A20, 7, 1, 18, 18, 2, 20030926, 1027, 42.6357, -51.1203, 1973,   154.40,    154.4,  11.3501,  35.2402, 2,  35.2412, 2,    208.4, 2,    213.7, 2,     4.62, 2,    11.87, 2,     0.02, 2,     0.79, 2,    2.972, 2,    1.640, 2,    0.174, 2,    1.357, 2,   2137.0, 2,   2314.6, 2,    52.70, 2,    15.50, 2,    1.029, 2,    0.005,   1.8439, 2,   0.0092,     0.92, 2,     0.20,    7.582, 2,    0.038,   -999.0, 9,   -999.0,  -999.00, 9, -999.0000, 9, -999.0000, 9, -999.0000, 9, -999.0000, 9, -999.0000, 9, -999.0000, 9, -999, 9, -999, 9, -999, 9, -999, 9, -999, 9, -999, 9, -999, 9,  -999.00, 9,  -999.00, 9,  -999.00, 9,  -999.00, 9,  11.3307,  -999.00, 9, 1115,   42.6397,  -51.1169
316N200309, A20, 7, 1, 17, 17, 2, 20030926, 1027, 42.6357, -51.1203, 1973,   179.10,    179.1,  10.4823,  35.0977, 2,  35.0994, 2,    210.3, 2,    214.0, 2,     5.33, 2,    12.67, 2,     0.01, 2,     0.87, 2,    3.081, 2,    1.696, 2,    0.184, 2,    1.594, 2,   2137.3, 2,   2307.3, 2,    53.80, 2,    16.40, 2, -999.000, 9, -999.000, -999.0000, 9, -999.0000,  -999.00, 9,  -999.00, -999.000, 9, -999.000,   -999.0, 9,   -999.0,  -999.00, 9, -999.0000, 9, -999.0000, 9, -999.0000, 9, -999.0000, 9, -999.0000, 9, -999.0000, 9, -999, 9, -999, 9, -999, 9, -999, 9, -999, 9, -999, 9, -999, 9,  -999.00, 9,  -999.00, 9,  -999.00, 9,  -999.00, 9,  10.4609,  -999.00, 9, 1113,   42.6396,  -51.1170
316N200309, A20, 7, 1, 16, 16, 2, 20030926, 1027, 42.6357, -51.1203, 1973,   228.30,    228.3,  10.1685,  35.1510, 2,  35.1530, 2,    189.7, 2,    187.6, 2,     7.80, 2,    16.35, 2,     0.01, 2,     1.07, 2,    2.514, 2,    1.357, 2,    0.137, 2,    1.379, 2,   2155.2, 2,   2313.5, 2,    53.50, 2,    20.50, 2,    0.916, 2,    0.004, -999.0000, 9, -999.0000,  -999.00, 9,  -999.00, -999.000, 9, -999.000,   -999.0, 9,   -999.0,  -999.00, 9, -999.0000, 9, -999.0000, 9, -999.0000, 9, -999.0000, 9, -999.0000, 9, -999.0000, 9, -999, 9, -999, 9, -999, 9, -999, 9, -999, 9, -999, 9, -999, 9,  -999.00, 9,  -999.00, 9,  -999.00, 9,  -999.00, 9,  10.1416,  -999.00, 9, 1112,   42.6396,  -51.1172
316N200309, A20, 7, 1, 15, 15, 2, 20030926, 1027, 42.6357, -51.1203, 1973,   277.90,    277.9,   9.4554,  35.1051, 2,  35.1041, 2,    172.0, 2,    170.6, 2,    10.05, 2,    19.41, 2,     0.01, 2,     1.26, 2,    2.012, 2,    1.088, 2,    0.141, 2,    1.277, 2,   2170.8, 2,   2308.9, 2,    53.70, 2,    23.20, 2, -999.000, 9, -999.000, -999.0000, 9, -999.0000,  -999.00, 9,  -999.00, -999.000, 9, -999.000,   -999.0, 9,   -999.0,  -999.00, 9, -999.0000, 9, -999.0000, 9, -999.0000, 9, -999.0000, 9, -999.0000, 9, -999.0000, 9, -999, 9, -999, 9, -999, 9, -999, 9, -999, 9, -999, 9, -999, 9,  -999.00, 9,  -999.00, 9,  -999.00, 9,  -999.00, 9,   9.4241,  -999.00, 9, 1110,   42.6395,  -51.1174
316N200309, A20, 7, 1, 14, 14, 2, 20030926, 1027, 42.6357, -51.1203, 1973,   352.70,    352.7,   8.0541,  35.0213, 2,  35.0201, 2,    162.3, 2,    165.7, 2,    12.73, 2,    22.18, 2,     0.00, 2,     1.45, 2,    1.697, 2,    0.916, 2,    0.085, 2,    1.943, 2,   2182.6, 2,   2307.6, 2,    49.50, 2,  -999.00, 9,    0.662, 2,    0.003,   1.8596, 2,   0.0093,     4.47, 2,     0.20,    7.800, 2,    0.039,   -999.0, 9,   -999.0,  -999.00, 9, -999.0000, 9, -999.0000, 9, -999.0000, 9, -999.0000, 9, -999.0000, 9, -999.0000, 9, -999, 9, -999, 9, -999, 9, -999, 9, -999, 9, -999, 9, -999, 9,  -999.00, 9,  -999.00, 9,  -999.00, 9,  -999.00, 9,   8.0179,  -999.00, 9, 1108,   42.6393,  -51.1177
316N200309, A20, 7, 1, 13, 13, 2, 20030926, 1027, 42.6357, -51.1203, 1973,   452.40,    452.4,   6.9788,  35.0387, 2,  35.0362, 2,    180.0, 2,    184.0, 2,    13.14, 2,    21.93, 2,     0.00, 2,     1.43, 2,    1.571, 2,    0.837, 2,    0.105, 2,    1.259, 2,   2184.1, 2,   2304.8, 2,    45.50, 2,  -999.00, 9, -999.000, 9, -999.000, -999.0000, 9, -999.0000,  -999.00, 9,  -999.00, -999.000, 9, -999.000,   -999.0, 9,   -999.0,  -999.00, 9, -999.0000, 9, -999.0000, 9, -999.0000, 9, -999.0000, 9, -999.0000, 9, -999.0000, 9, -999, 9, -999, 9, -999, 9, -999, 9, -999, 9, -999, 9, -999, 9,  -999.00, 9,  -999.00, 9,  -999.00, 9,  -999.00, 9,   6.9356,  -999.00, 9, 1105,   42.6391,  -51.1181
316N200309, A20, 7, 1, 12, 12, 2, 20030926, 1027, 42.6357, -51.1203, 1973,   553.00,    553.0,   4.8224,  34.8348, 2,  34.8389, 2,    237.5, 2,    236.6, 2,    11.49, 2,    18.61, 2,     0.00, 2,     1.25, 2,    3.056, 2,    1.631, 2,    0.203, 2,    3.092, 2,   2168.2, 2,   2291.6, 2,    50.60, 2,  -999.00, 9,    0.795, 2,    0.004,   1.8535, 2,   0.0093,     3.72, 2,     0.20,    7.920, 2,    0.040,   -999.0, 9,   -999.0,  -999.00, 9, -999.0000, 9, -999.0000, 9, -999.0000, 9, -999.0000, 9, -999.0000, 9, -999.0000, 9, -999, 9, -999, 9, -999, 9, -999, 9, -999, 9, -999, 9, -999, 9,  -999.00, 9,  -999.00, 9,  -999.00, 9,  -999.00, 9,   4.7786,  -999.00, 9, 1103,   42.6388,  -51.1183
316N200309, A20, 7, 1, 11, 11, 2, 20030926, 1027, 42.6357, -51.1203, 1973,   677.80,    677.8,   4.9400,  34.9660, 2,  34.9595, 2,    243.5, 2,    241.3, 2,    11.29, 2,    18.46, 2,     0.00, 2,     1.22, 2,    2.689, 2,    1.418, 2,    0.161, 2,    2.706, 2,   2170.6, 2,   2302.2, 2,    48.80, 2,  -999.00, 9,    0.774, 2,    0.004,   1.8705, 2,   0.0094,     4.03, 2,     0.20,    7.934, 2,    0.040,   -999.0, 9,   -999.0,  -999.00, 9, -999.0000, 9, -999.0000, 9, -999.0000, 9, -999.0000, 9, -999.0000, 9, -999.0000, 9, -999, 9, -999, 9, -999, 9, -999, 9, -999, 9, -999, 9, -999, 9,  -999.00, 9,  -999.00, 9,  -999.00, 9,  -999.00, 9,   4.8849,  -999.00, 9, 1100,   42.6385,  -51.1185
316N200309, A20, 7, 1, 10, 10, 2, 20030926, 1027, 42.6357, -51.1203, 1973,   827.50,    827.5,   3.9970,  34.8734, 2,  34.8713, 2,    268.0, 2,    272.6, 2,     9.73, 2,    16.95, 2,     0.00, 2,     1.12, 2,    3.683, 2,    1.991, 2,    0.253, 2,    3.921, 2,   2160.4, 2,   2294.3, 2,    48.50, 2,  -999.00, 9,    0.884, 2,    0.003,   1.8727, 2,   0.0094,     2.30, 2,     0.20,    8.016, 2,    0.040,   -999.0, 9,   -999.0,  -999.00, 9, -999.0000, 9, -999.0000, 9, -999.0000, 9, -999.0000, 9, -999.0000, 9, -999.0000, 9, -999, 9, -999, 9, -999, 9, -999, 9, -999, 9, -999, 9, -999, 9,  -999.00, 9,  -999.00, 9,  -999.00, 9,  -999.00, 9,   3.9350,  -999.00, 9, 1056,   42.6382,  -51.1186
316N200309, A20, 7, 1, 9, 9, 2, 20030926, 1027, 42.6357, -51.1203, 1973,   977.00,    977.0,   4.0695,  34.9189, 2,  34.9197, 2,    258.9, 2,    276.3, 3,    10.14, 2,    17.25, 2,     0.00, 2,     1.14, 2,    3.311, 2,    1.750, 2,    0.219, 2,    3.583, 2,   2162.5, 2,   2299.1, 2,    49.10, 2,  -999.00, 9,    0.826, 2,    0.004,   1.8587, 2,   0.0093,     3.30, 2,     0.20,    7.926, 2,    0.040,   -999.0, 9,   -999.0,  -999.00, 9, -999.0000, 9, -999.0000, 9, -999.0000, 9, -999.0000, 9, -999.0000, 9, -999.0000, 9, -999, 9, -999, 9, -999, 9, -999, 9, -999, 9, -999, 9, -999, 9,  -999.00, 9,  -999.00, 9,  -999.00, 9,  -999.00, 9,   3.9946,  -999.00, 9, 1053,   42.6379,  -51.1187
316N200309, A20, 7, 1, 8, 8, 2, 20030926, 1027, 42.6357, -51.1203, 1973,  1127.20,   1127.2,   3.9719,  34.9243, 2, -999.0000, 9,    266.5, 2,    271.5, 2,    10.24, 2,    17.25, 2,     0.00, 2,     1.14, 2,    3.230, 2,    1.672, 2,    0.207, 2,    3.482, 2,   2161.1, 2,   2298.2, 2,    45.70, 2,  -999.00, 9,    0.736, 2,    0.004,   1.8686, 2,   0.0093,     3.73, 2,     0.20,    7.990, 2,    0.040,   -999.0, 9,   -999.0,  -999.00, 9, -999.0000, 9, -999.0000, 9, -999.0000, 9, -999.0000, 9, -999.0000, 9, -999.0000, 9, -999, 9, -999, 9, -999, 9, -999, 9, -999, 9, -999, 9, -999, 9,  -999.00, 9,  -999.00, 9,  -999.00, 9,  -999.00, 9,   3.8850,  -999.00, 9, 1049,   42.6376,  -51.1189
316N200309, A20, 7, 1, 7, 7, 2, 20030926, 1027, 42.6357, -51.1203, 1973,  1278.40,   1278.4,   3.9349,  34.9328, 2,  34.9329, 2,    272.5, 2,    270.0, 2,    10.54, 2,    17.40, 2,     0.00, 2,     1.14, 2,    2.990, 2,    1.523, 2,    0.181, 2,    3.272, 2,   2166.5, 2,   2299.6, 2,    44.90, 2,  -999.00, 9,    0.820, 2,    0.003, -999.0000, 9, -999.0000,  -999.00, 9,  -999.00, -999.000, 9, -999.000,   -999.0, 9,   -999.0,  -999.00, 9, -999.0000, 9, -999.0000, 9, -999.0000, 9, -999.0000, 9, -999.0000, 9, -999.0000, 9, -999, 9, -999, 9, -999, 9, -999, 9, -999, 9, -999, 9, -999, 9,  -999.00, 9,  -999.00, 9,  -999.00, 9,  -999.00, 9,   3.8353,  -999.00, 9, 1046,   42.6373,  -51.1193
316N200309, A20, 7, 1, 6, 6, 2, 20030926, 1027, 42.6357, -51.1203, 1973,  1404.20,   1404.2,   3.7874,  34.9183, 2,  34.9195, 2,    276.3, 2,    274.5, 2,    10.34, 2,    17.20, 2,     0.00, 2,     1.13, 2,    3.133, 2,    1.636, 2,    0.212, 2,    3.395, 2,   2164.3, 2,   2299.2, 2,    45.70, 2,  -999.00, 9, -999.000, 9, -999.000, -999.0000, 9, -999.0000,  -999.00, 9,  -999.00, -999.000, 9, -999.000,   -999.0, 9,   -999.0,  -999.00, 9, -999.0000, 9, -999.0000, 9, -999.0000, 9, -999.0000, 9, -999.0000, 9, -999.0000, 9, -999, 9, -999, 9, -999, 9, -999, 9, -999, 9, -999, 9, -999, 9,  -999.00, 9,  -999.00, 9,  -999.00, 9,  -999.00, 9,   3.6782,  -999.00, 9, 1043,   42.6370,  -51.1194
316N200309, A20, 7, 1, 5, 5, 2, 20030926, 1027, 42.6357, -51.1203, 1973,  1504.50,   1504.5,   3.7219,  34.9152, 2,  34.9148, 2,    276.8, 2,    274.4, 2,    10.44, 2,    17.14, 2,     0.00, 2,     1.13, 2,    3.150, 2,    1.592, 2,    0.192, 2,    3.459, 2,   2164.2, 2,   2298.2, 2,    44.80, 2,  -999.00, 9,    0.869, 2,    0.004,   1.8689, 2,   0.0093,     5.19, 2,     0.20,    8.039, 2,    0.040,   -999.0, 9,   -999.0,  -999.00, 9, -999.0000, 9, -999.0000, 9, -999.0000, 9, -999.0000, 9, -999.0000, 9, -999.0000, 9, -999, 9, -999, 9, -999, 9, -999, 9, -999, 9, -999, 9, -999, 9,  -999.00, 9,  -999.00, 9,  -999.00, 9,  -999.00, 9,   3.6046,  -999.00, 9, 1040,   42.6368,  -51.1196
316N200309, A20, 7, 1, 4, 4, 2, 20030926, 1027, 42.6357, -51.1203, 1973,  1605.00,   1605.0,   3.7006,  34.9180, 2,  34.9181, 2,    275.1, 2,    274.0, 2,    10.75, 2,    17.09, 2,     0.00, 2,     1.14, 2,    3.034, 2,    1.526, 2,    0.180, 2,    3.335, 2,   2161.5, 2,   2298.4, 2,    44.40, 2,  -999.00, 9, -999.000, 9, -999.000, -999.0000, 9, -999.0000,  -999.00, 9,  -999.00, -999.000, 9, -999.000,   -999.0, 9,   -999.0,  -999.00, 9, -999.0000, 9, -999.0000, 9, -999.0000, 9, -999.0000, 9, -999.0000, 9, -999.0000, 9, -999, 9, -999, 9, -999, 9, -999, 9, -999, 9, -999, 9, -999, 9,  -999.00, 9,  -999.00, 9,  -999.00, 9,  -999.00, 9,   3.5745,  -999.00, 9, 1038,   42.6366,  -51.1198
316N200309, A20, 7, 1, 3, 3, 2, 20030926, 1027, 42.6357, -51.1203, 1973,  1705.70,   1705.7,   3.5761,  34.9124, 2,  34.9120, 2,    275.7, 2,    275.3, 2,    10.85, 2,    17.14, 2,     0.00, 2,     1.14, 2,    2.967, 2,    1.479, 2,    0.169, 2,    3.286, 2,   2160.7, 2,   2299.4, 2,    45.60, 2,  -999.00, 9,    0.800, 2,    0.003,   1.9123, 2,   0.0096,     5.37, 2,     0.20,    8.158, 2,    0.041,   -999.0, 9,   -999.0,  -999.00, 9, -999.0000, 9, -999.0000, 9, -999.0000, 9, -999.0000, 9, -999.0000, 9, -999.0000, 9, -999, 9, -999, 9, -999, 9, -999, 9, -999, 9, -999, 9, -999, 9,  -999.00, 9,  -999.00, 9,  -999.00, 9,  -999.00, 9,   3.4424,  -999.00, 9, 1035,   42.6364,  -51.1199
316N200309, A20, 7, 1, 2, 2, 2, 20030926, 1027, 42.6357, -51.1203, 1973,  1831.20,   1831.2,   3.5071,  34.9144, 2,  34.9146, 2,    274.1, 2,    275.2, 2,    11.26, 2,    17.19, 2,     0.00, 2,     1.14, 2,    2.670, 2,    1.325, 2,    0.152, 2,    2.963, 2,   2158.6, 2,   2299.2, 2,    45.70, 2,  -999.00, 9, -999.000, 9, -999.000, -999.0000, 9, -999.0000,  -999.00, 9,  -999.00, -999.000, 9, -999.000,   -999.0, 9,   -999.0,  -999.00, 9, -999.0000, 9, -999.0000, 9, -999.0000, 9, -999.0000, 9, -999.0000, 9, -999.0000, 9, -999, 9, -999, 9, -999, 9, -999, 9, -999, 9, -999, 9, -999, 9,  -999.00, 9,  -999.00, 9,  -999.00, 9,  -999.00, 9,   3.3628,  -999.00, 9, 1032,   42.6361,  -51.1200
316N200309, A20, 7, 1, 1, 1, 2, 20030926, 1027, 42.6357, -51.1203, 1973,  1988.00,   1988.0,   3.3520,  34.9049, 2,  34.9048, 2,    273.9, 2,    277.3, 2,    11.77, 2,    16.98, 2,     0.00, 2,     1.14, 2,    2.800, 6,    1.381, 6,    0.153, 2,    3.203, 2,   2160.3, 2,   2300.4, 2,    47.30, 2,  -999.00, 9,    0.814, 2,    0.004, -999.0000, 9, -999.0000,  -999.00, 9,  -999.00, -999.000, 9, -999.000,   -999.0, 9,   -999.0,  -999.00, 9, -999.0000, 9, -999.0000, 9, -999.0000, 9, -999.0000, 9, -999.0000, 9, -999.0000, 9, -999, 9, -999, 9, -999, 9, -999, 9, -999, 9, -999, 9, -999, 9,  -999.00, 9,  -999.00, 9,  -999.00, 9,  -999.00, 9,   3.1954,  -999.00, 9, 1029,   42.6358,  -51.1203