BOTTLE,20220816CCHSIOAMB
EXPOCODE,SECT_ID,STNNBR,CASTNO,SAMPNO,BTLNBR,BTLNBR_FLAG_W,DATE,TIME,LATITUDE,LONGITUDE,DEPTH,CTDRAW,CTDPRS,CTDTMP,CTDSAL,CTDSAL_FLAG_W,SALNTY,SALNTY_FLAG_W,CTDOXY,CTDOXY_FLAG_W,OXYGEN,OXYGEN_FLAG_W,SILCAT,SILCAT_FLAG_W,NITRAT,NITRAT_FLAG_W,NITRIT,NITRIT_FLAG_W,PHSPHT,PHSPHT_FLAG_W,CFC-11,CFC-11_FLAG_W,CFC-12,CFC-12_FLAG_W,CFC113,CFC113_FLAG_W,CCL4,CCL4_FLAG_W,TCARBN,TCARBN_FLAG_W,ALKALI,ALKALI_FLAG_W,DOC,DOC_FLAG_W,TDN,TDN_FLAG_W,TRITUM,TRITUM_FLAG_W,TRITER,HELIUM,HELIUM_FLAG_W,HELIER,DELHE3,DELHE3_FLAG_W,DELHER,NEON,NEON_FLAG_W,NEONER,DELC14,DELC14_FLAG_W,C14ERR,DELC13,DELC13_FLAG_W,CDOM325,CDOM325_FLAG_W,CDOM340,CDOM340_FLAG_W,CDOM380,CDOM380_FLAG_W,CDOM412,CDOM412_FLAG_W,CDOMSL,CDOMSL_FLAG_W,CDOMSN,CDOMSN_FLAG_W,DCNS,DCNS_FLAG_W,ARABI,ARABI_FLAG_W,FUCO,FUCO_FLAG_W,GALA,GALA_FLAG_W,GLUC,GLUC_FLAG_W,MAN,MAN_FLAG_W,RHAM,RHAM_FLAG_W,BRDU,BRDU_FLAG_W,PEUK,PEUK_FLAG_W,PROC,PROC_FLAG_W,SYN,SYN_FLAG_W,THETA,BACT,BACT_FLAG_W,BTL_TIME,BTL_LAT,BTL_LON
,,,,,,,,,,,METERS,DBAR,DBAR,ITS-90,PSS-78,,PSS-78,,UMOL/KG,,UMOL/KG,,UMOL/KG,,UMOL/KG,,UMOL/KG,,UMOL/KG,,PMOL/KG,,PMOL/KG,,PMOL/KG,,PMOL/KG,,UMOL/KG,,UMOL/KG,,UMOL/KG,,UMOL/KG,,TU,,TU,NMOL/KG,,NMOL/KG,PERCNT,,PERCNT,NMOL/KG,,NMOL/KG,/MILLE,,/MILLE,/MILLE,,1/M,,1/M,,1/M,,1/M,,1/NM,,1/NM,,NMOL/KG,,NMOL/KG,,NMOL/KG,,NMOL/KG,,NMOL/KG,,NMOL/KG,,NMOL/KG,,PMOL/L/H,,E6/L,,E7/L,,E6/L,,DEG C,E8/L,,,,
316N200309, A20, 13, 1, 36, 36, 2, 20030927, 1455, 41.3062, -51.7898, 4756,     5.30,      5.3,  19.6522,  34.4977, 2,  34.5023, 2,    230.6, 2,    232.2, 2,     0.09, 2,     0.20, 2,     0.00, 2,     0.09, 2,    2.347, 2,    1.454, 2,    0.167, 2,    2.517, 2,   2010.4, 2,   2286.9, 2,    68.50, 2,     5.10, 2, -999.000, 9, -999.000, -999.0000, 9, -999.0000,  -999.00, 9,  -999.00, -999.000, 9, -999.000,   -999.0, 9,   -999.0,  -999.00, 9,    0.1620, 2,    0.1100, 2,    0.0460, 2,    0.0270, 2,    0.0210, 2,    0.0230, 2, 2033, 4, 117, 2, 345, 2, 472, 2, 233, 2, 637, 2, 230, 2,     0.29, 2,     1.89, 2,     6.07, 2,    18.57, 2,  19.6513,     0.76, 4, 1703,   41.3246,  -51.7760
316N200309, A20, 13, 1, 35, 35, 2, 20030927, 1455, 41.3062, -51.7898, 4756,    24.80,     24.8,  19.5048,  34.4869, 2,  34.4887, 2,    231.0, 2,    232.9, 2,    -0.03, 2,     0.19, 2,     0.00, 2,     0.07, 2,    2.359, 2,    1.456, 2,    0.172, 2,    2.523, 2,   2010.6, 2,   2286.3, 2,    68.10, 2,     5.20, 2, -999.000, 9, -999.000, -999.0000, 9, -999.0000,  -999.00, 9,  -999.00, -999.000, 9, -999.000,   -999.0, 9,   -999.0,  -999.00, 9,    0.1560, 2,    0.1070, 2,    0.0460, 2,    0.0270, 2,    0.0210, 2,    0.0220, 2, -999, 9, -999, 9, -999, 9, -999, 9, -999, 9, -999, 9, -999, 9,     0.58, 2,     1.60, 2,     5.69, 2,    20.65, 2,  19.5004,     3.09, 2, 1701,   41.3244,  -51.7763
316N200309, A20, 13, 1, 34, 34, 2, 20030927, 1455, 41.3062, -51.7898, 4756,    49.90,     49.9,  19.2670,  34.5263, 2,  34.5237, 2,    231.1, 2,    236.4, 2,    -0.03, 2,     0.13, 2,     0.00, 2,     0.08, 2, -999.000, 9, -999.000, 9, -999.000, 9, -999.000, 9,   2017.5, 2,   2288.5, 2,    67.50, 2,     4.50, 2, -999.000, 9, -999.000, -999.0000, 9, -999.0000,  -999.00, 9,  -999.00, -999.000, 9, -999.000,   -999.0, 9,   -999.0,  -999.00, 9,    0.1920, 2,    0.1330, 2,    0.0590, 2,    0.0360, 2,    0.0190, 2,    0.0210, 2, 2785, 4, 86, 2, 332, 2, 552, 2, 705, 4, 858, 2, 252, 2,     0.09, 2,     3.10, 2,     5.69, 2,    18.32, 2,  19.2581,     2.92, 2, 1659,   41.3241,  -51.7766
316N200309, A20, 13, 1, 33, 33, 2, 20030927, 1455, 41.3062, -51.7898, 4756,    74.90,     74.9,  15.5567,  35.2843, 2,  35.2840, 2,    246.3, 2,    237.4, 2,     0.77, 2,     2.24, 2,     0.23, 2,     0.25, 2,    3.087, 2,    1.773, 2,    0.196, 2,    1.769, 2,   2082.4, 2,   2325.0, 2,    58.50, 2,     7.50, 2, -999.000, 9, -999.000, -999.0000, 9, -999.0000,  -999.00, 9,  -999.00, -999.000, 9, -999.000,   -999.0, 9,   -999.0,  -999.00, 9,    0.2640, 2,    0.1960, 2,    0.0960, 2,    0.0630, 2,    0.0170, 2,    0.0170, 2, 1170, 4, 52, 2, 174, 2, 239, 2, 210, 2, 358, 2, 138, 2,     0.01, 2,     7.01, 2,     2.02, 2,     4.68, 2,  15.5451,     3.16, 2, 1658,   41.3238,  -51.7768
316N200309, A20, 13, 1, 32, 32, 2, 20030927, 1455, 41.3062, -51.7898, 4756,   100.30,    100.3,  13.2039,  35.3005, 2,  35.3045, 2,    202.4, 2,    213.0, 2,     2.30, 2,     7.78, 2,     0.05, 2,     0.55, 2, -999.000, 9, -999.000, 9, -999.000, 9, -999.000, 9,   2117.4, 2,   2325.2, 2,    55.80, 2,    12.40, 2, -999.000, 9, -999.000, -999.0000, 9, -999.0000,  -999.00, 9,  -999.00, -999.000, 9, -999.000,   -999.0, 9,   -999.0,  -999.00, 9,    0.1920, 2,    0.1430, 2,    0.0720, 2,    0.0490, 2,    0.0160, 2,    0.0170, 2, 753, 4, 57, 2, 99, 2, 142, 2, 199, 2, 159, 2, 96, 2,     0.09, 2,     1.98, 2,     0.63, 2,     1.84, 2,  13.1899,     3.52, 2, 1656,   41.3235,  -51.7772
316N200309, A20, 13, 1, 31, 31, 2, 20030927, 1455, 41.3062, -51.7898, 4756,   125.00,    125.0,  12.3465,  35.2554, 2,  35.2325, 2,    206.8, 2,    212.7, 2,     3.00, 2,     9.30, 2,     0.03, 2,     0.65, 2,    3.152, 2,    1.797, 2,    0.180, 2,    1.607, 2,   2122.9, 2,   2320.6, 2,    53.20, 2,    13.30, 2, -999.000, 9, -999.000, -999.0000, 9, -999.0000,  -999.00, 9,  -999.00, -999.000, 9, -999.000,   -999.0, 9,   -999.0,  -999.00, 9,    0.1940, 2,    0.1390, 2,    0.0680, 2,    0.0450, 2,    0.0160, 2,    0.0180, 2, -999, 9, -999, 9, -999, 9, -999, 9, -999, 9, -999, 9, -999, 9,  -999.00, 9,  -999.00, 9,  -999.00, 9,  -999.00, 9,  12.3299,  -999.00, 9, 1654,   41.3233,  -51.7776
316N200309, A20, 13, 1, 30, 30, 2, 20030927, 1455, 41.3062, -51.7898, 4756,   150.20,    150.2,  12.5161,  35.4055, 2,  35.4046, 2,    195.4, 2,    198.7, 2,     3.91, 2,    11.30, 2,     0.02, 2,     0.83, 2, -999.000, 9, -999.000, 9, -999.000, 9, -999.000, 9,   2133.7, 2,   2328.2, 2,    52.10, 2,    14.80, 2, -999.000, 9, -999.000, -999.0000, 9, -999.0000,  -999.00, 9,  -999.00, -999.000, 9, -999.000,   -999.0, 9,   -999.0,  -999.00, 9,    0.1660, 2,    0.1180, 2,    0.0570, 2,    0.0370, 2,    0.0170, 2,    0.0190, 2, -999, 9, -999, 9, -999, 9, -999, 9, -999, 9, -999, 9, -999, 9,     0.04, 2,     0.26, 2,     0.00, 2,     0.18, 2,  12.4959,     2.08, 2, 1653,   41.3231,  -51.7780
316N200309, A20, 13, 1, 29, 29, 2, 20030927, 1455, 41.3062, -51.7898, 4756,   200.40,    200.4,  12.0069,  35.3792, 2,  35.3798, 2,    195.1, 2,    211.2, 2,     4.41, 2,    11.74, 2,     0.02, 2,     0.75, 2,    2.722, 2,    1.393, 2,    0.163, 2,    1.105, 2,   2132.9, 2,   2323.4, 2,    49.50, 2,    15.50, 2, -999.000, 9, -999.000, -999.0000, 9, -999.0000,  -999.00, 9,  -999.00, -999.000, 9, -999.000,   -999.0, 9,   -999.0,  -999.00, 9,    0.1490, 2,    0.1050, 2,    0.0510, 2,    0.0340, 2,    0.0170, 2,    0.0190, 2, 572, 4, 33, 2, 70, 2, 97, 2, 210, 2, 108, 2, 54, 2,     0.03, 2,     0.09, 2,     0.00, 2,     0.00, 2,  11.9807,     1.27, 2, 1651,   41.3228,  -51.7784
316N200309, A20, 13, 1, 28, 28, 2, 20030927, 1455, 41.3062, -51.7898, 4756,   250.10,    250.1,  11.9187,  35.4123, 2,  35.4156, 2,    198.4, 2,    197.5, 2,     5.83, 2,    13.84, 2,     0.01, 2,     0.88, 2,    2.288, 2,    1.147, 2,    0.147, 2,    1.105, 2,   2144.7, 2,   2328.3, 2,    48.30, 2,    17.80, 2, -999.000, 9, -999.000, -999.0000, 9, -999.0000,  -999.00, 9,  -999.00, -999.000, 9, -999.000,   -999.0, 9,   -999.0,  -999.00, 9,    0.1370, 2,    0.0980, 2,    0.0490, 2,    0.0330, 2,    0.0160, 2,    0.0180, 2, -999, 9, -999, 9, -999, 9, -999, 9, -999, 9, -999, 9, -999, 9,  -999.00, 9,  -999.00, 9,  -999.00, 9,  -999.00, 9,  11.8860,  -999.00, 9, 1649,   41.3226,  -51.7785
316N200309, A20, 13, 1, 27, 27, 2, 20030927, 1455, 41.3062, -51.7898, 4756,   300.30,    300.3,  10.7333,  35.2383, 2,  35.2365, 2,    178.3, 2,    181.8, 2,     7.77, 2,    16.58, 2,     0.01, 2,     1.07, 2,    0.736, 2,    0.347, 2,    0.037, 2,    1.156, 2,   2158.2, 2,   2317.4, 2,    49.00, 2,    21.30, 4, -999.000, 9, -999.000, -999.0000, 9, -999.0000,  -999.00, 9,  -999.00, -999.000, 9, -999.000,   -999.0, 9,   -999.0,  -999.00, 9,    0.1510, 2,    0.1060, 2,    0.0520, 2,    0.0340, 2,    0.0170, 2,    0.0190, 2, 499, 4, 40, 2, 71, 2, 87, 2, 152, 2, 109, 2, 40, 2,  -999.00, 9,  -999.00, 9,  -999.00, 9,  -999.00, 9,  10.6966,  -999.00, 9, 1647,   41.3224,  -51.7788
316N200309, A20, 13, 1, 26, 26, 2, 20030927, 1455, 41.3062, -51.7898, 4756,   400.30,    400.3,   9.4452,  35.2034, 2,  35.2012, 2,    172.3, 2,    145.9, 3,    12.69, 2,    23.18, 2,     0.01, 2,     1.47, 2,    1.197, 2,    0.558, 2,    0.052, 2,    0.556, 2,   2189.0, 2,   2317.5, 2,    42.90, 2,  -999.00, 9, -999.000, 9, -999.000, -999.0000, 9, -999.0000,  -999.00, 9,  -999.00, -999.000, 9, -999.000,   -999.0, 9,   -999.0,  -999.00, 9,    0.1270, 2,    0.0890, 2,    0.0450, 2,    0.0310, 2,    0.0160, 2,    0.0180, 2, -999, 9, -999, 9, -999, 9, -999, 9, -999, 9, -999, 9, -999, 9,  -999.00, 9,  -999.00, 9,  -999.00, 9,  -999.00, 9,   9.3997,  -999.00, 9, 1645,   41.3221,  -51.7791
316N200309, A20, 13, 1, 25, 25, 2, 20030927, 1455, 41.3062, -51.7898, 4756,   500.10,    500.1,   7.4967,  35.0064, 2,  35.0051, 2,    184.0, 2,    174.5, 2,    12.99, 2,    22.19, 2,     0.00, 2,     1.44, 2,    1.640, 2,    0.776, 2,    0.099, 2,    1.977, 2,   2184.2, 2,   2308.8, 2,    45.20, 2,  -999.00, 9, -999.000, 9, -999.000, -999.0000, 9, -999.0000,  -999.00, 9,  -999.00, -999.000, 9, -999.000,   -999.0, 9,   -999.0,  -999.00, 9,    0.1280, 2,    0.0920, 2,    0.0490, 2,    0.0340, 2,    0.0150, 2,    0.0170, 2, 231, 4, 16, 2, 48, 2, 50, 4, 44, 4, 43, 4, 31, 2,  -999.00, 9,  -999.00, 9,  -999.00, 9,  -999.00, 9,   7.4469,  -999.00, 9, 1642,   41.3218,  -51.7797
316N200309, A20, 13, 1, 24, 24, 2, 20030927, 1455, 41.3062, -51.7898, 4756,   626.50,    626.5,   5.7589,  34.9875, 2,  34.9864, 2,    221.3, 2,    213.9, 2,    12.37, 2,    20.12, 2,     0.00, 2,     1.32, 2,    2.048, 2,    0.903, 2,    0.132, 2,    1.829, 2,   2177.7, 2,   2307.6, 2,    45.40, 2,  -999.00, 9, -999.000, 9, -999.000, -999.0000, 9, -999.0000,  -999.00, 9,  -999.00, -999.000, 9, -999.000,   -999.0, 9,   -999.0,  -999.00, 9, -999.0000, 9, -999.0000, 9, -999.0000, 9, -999.0000, 9, -999.0000, 9, -999.0000, 9, -999, 9, -999, 9, -999, 9, -999, 9, -999, 9, -999, 9, -999, 9,  -999.00, 9,  -999.00, 9,  -999.00, 9,  -999.00, 9,   5.7043,  -999.00, 9, 1639,   41.3215,  -51.7804
316N200309, A20, 13, 1, 23, 23, 2, 20030927, 1455, 41.3062, -51.7898, 4756,   750.80,    750.8,   4.8789,  34.9502, 2,  34.9518, 2,    236.2, 2,    242.8, 2,    11.12, 2,    18.45, 2,     0.00, 2,     1.21, 2,    2.690, 2,    1.286, 2,    0.178, 2,    2.631, 2,   2169.3, 2,   2304.7, 2,    44.80, 2,  -999.00, 9, -999.000, 9, -999.000, -999.0000, 9, -999.0000,  -999.00, 9,  -999.00, -999.000, 9, -999.000,   -999.0, 9,   -999.0,  -999.00, 9, -999.0000, 9, -999.0000, 9, -999.0000, 9, -999.0000, 9, -999.0000, 9, -999.0000, 9, 362, 4, 24, 2, 46, 2, 71, 2, 115, 2, 84, 2, 22, 2,  -999.00, 9,  -999.00, 9,  -999.00, 9,  -999.00, 9,   4.8179,  -999.00, 9, 1636,   41.3212,  -51.7811
316N200309, A20, 13, 1, 22, 22, 2, 20030927, 1455, 41.3062, -51.7898, 4756,   900.90,    900.9,   4.6955,  34.9937, 2,  34.9941, 2,    246.1, 2,    246.9, 2,    11.32, 2,    18.44, 2,     0.00, 2,     1.20, 2,    2.316, 2,    1.068, 2,    0.135, 2,    2.323, 2,   2168.7, 2,   2306.1, 2,    44.60, 2,  -999.00, 9, -999.000, 9, -999.000, -999.0000, 9, -999.0000,  -999.00, 9,  -999.00, -999.000, 9, -999.000,   -999.0, 9,   -999.0,  -999.00, 9, -999.0000, 9, -999.0000, 9, -999.0000, 9, -999.0000, 9, -999.0000, 9, -999.0000, 9, -999, 9, -999, 9, -999, 9, -999, 9, -999, 9, -999, 9, -999, 9,  -999.00, 9,  -999.00, 9,  -999.00, 9,  -999.00, 9,   4.6225,  -999.00, 9, 1632,   41.3208,  -51.7817
316N200309, A20, 13, 1, 21, 21, 2, 20030927, 1455, 41.3062, -51.7898, 4756,  1050.70,   1050.7,   4.2481,  34.9546, 2,  34.9557, 2,    256.4, 2,    262.3, 2,    10.60, 2,    17.75, 2,     0.00, 2,     1.15, 2,    2.800, 2,    1.262, 2,    0.181, 2,    2.867, 2,   2165.0, 2,   2305.2, 2,    44.00, 2,  -999.00, 9, -999.000, 9, -999.000, -999.0000, 9, -999.0000,  -999.00, 9,  -999.00, -999.000, 9, -999.000,   -999.0, 9,   -999.0,  -999.00, 9, -999.0000, 9, -999.0000, 9, -999.0000, 9, -999.0000, 9, -999.0000, 9, -999.0000, 9, 423, 4, 16, 2, 43, 2, 66, 2, 159, 2, 93, 2, 45, 2,  -999.00, 9,  -999.00, 9,  -999.00, 9,  -999.00, 9,   4.1655,  -999.00, 9, 1629,   41.3204,  -51.7823
316N200309, A20, 13, 1, 20, 20, 2, 20030927, 1455, 41.3062, -51.7898, 4756,  1201.90,   1201.9,   4.1193,  34.9560, 2,  34.9575, 2,    262.6, 2,    263.1, 2,    11.00, 2,    17.80, 2,     0.00, 2,     1.15, 2,    2.564, 2,    1.053, 2,    0.159, 2,    2.686, 2,   2162.4, 2,   2303.8, 2,    44.30, 2,  -999.00, 9, -999.000, 9, -999.000, -999.0000, 9, -999.0000,  -999.00, 9,  -999.00, -999.000, 9, -999.000,   -999.0, 9,   -999.0,  -999.00, 9, -999.0000, 9, -999.0000, 9, -999.0000, 9, -999.0000, 9, -999.0000, 9, -999.0000, 9, -999, 9, -999, 9, -999, 9, -999, 9, -999, 9, -999, 9, -999, 9,  -999.00, 9,  -999.00, 9,  -999.00, 9,  -999.00, 9,   4.0246,  -999.00, 9, 1625,   41.3200,  -51.7832
316N200309, A20, 13, 1, 19, 19, 2, 20030927, 1455, 41.3062, -51.7898, 4756,  1327.50,   1327.5,   3.9617,  34.9484, 2,  34.9490, 2,    266.5, 2,    265.7, 2,    10.99, 2,    17.65, 2,     0.00, 2,     1.15, 2,    2.436, 2,    1.118, 2,    0.148, 2,    2.683, 2,   2161.0, 2,   2303.6, 2,    45.00, 2,  -999.00, 9, -999.000, 9, -999.000, -999.0000, 9, -999.0000,  -999.00, 9,  -999.00, -999.000, 9, -999.000,   -999.0, 9,   -999.0,  -999.00, 9, -999.0000, 9, -999.0000, 9, -999.0000, 9, -999.0000, 9, -999.0000, 9, -999.0000, 9, -999, 9, -999, 9, -999, 9, -999, 9, -999, 9, -999, 9, -999, 9,  -999.00, 9,  -999.00, 9,  -999.00, 9,  -999.00, 9,   3.8574,  -999.00, 9, 1621,   41.3196,  -51.7837
316N200309, A20, 13, 1, 18, 18, 2, 20030927, 1455, 41.3062, -51.7898, 4756,  1455.80,   1455.8,   3.8280,  34.9398, 2,  34.9406, 2,    269.9, 2,    268.5, 2,    11.09, 2,    17.60, 2,     0.00, 2,     1.14, 2,    2.454, 2,    1.269, 2,    0.138, 2,    2.704, 2,   2160.8, 2,   2303.7, 2,  -999.00, 9,  -999.00, 9, -999.000, 9, -999.000, -999.0000, 9, -999.0000,  -999.00, 9,  -999.00, -999.000, 9, -999.000,   -999.0, 9,   -999.0,  -999.00, 9, -999.0000, 9, -999.0000, 9, -999.0000, 9, -999.0000, 9, -999.0000, 9, -999.0000, 9, -999, 9, -999, 9, -999, 9, -999, 9, -999, 9, -999, 9, -999, 9,  -999.00, 9,  -999.00, 9,  -999.00, 9,  -999.00, 9,   3.7138,  -999.00, 9, 1618,   41.3194,  -51.7844
316N200309, A20, 13, 1, 17, 17, 2, 20030927, 1455, 41.3062, -51.7898, 4756,  1577.10,   1577.1,   3.7418,  34.9367, 2,  34.9360, 2,    269.9, 2,    269.5, 2,    11.39, 2,    17.55, 2,     0.00, 2,     1.14, 2,    2.291, 2,    1.178, 2,    0.143, 2,    2.680, 2,   2160.4, 2,   2301.7, 2,    42.70, 2,  -999.00, 9, -999.000, 9, -999.000, -999.0000, 9, -999.0000,  -999.00, 9,  -999.00, -999.000, 9, -999.000,   -999.0, 9,   -999.0,  -999.00, 9, -999.0000, 9, -999.0000, 9, -999.0000, 9, -999.0000, 9, -999.0000, 9, -999.0000, 9, -999, 9, -999, 9, -999, 9, -999, 9, -999, 9, -999, 9, -999, 9,  -999.00, 9,  -999.00, 9,  -999.00, 9,  -999.00, 9,   3.6177,  -999.00, 9, 1614,   41.3190,  -51.7848
316N200309, A20, 13, 1, 16, 16, 2, 20030927, 1455, 41.3062, -51.7898, 4756,  1700.50,   1700.5,   3.6438,  34.9321, 2,  34.9323, 2,    270.8, 2,    277.6, 3,    11.68, 2,    17.55, 2,     0.00, 2,     1.15, 2,    2.215, 2,    1.129, 2,    0.208, 2,    2.563, 2,   2159.6, 2,   2302.8, 2,  -999.00, 9,  -999.00, 9, -999.000, 9, -999.000, -999.0000, 9, -999.0000,  -999.00, 9,  -999.00, -999.000, 9, -999.000,   -999.0, 9,   -999.0,  -999.00, 9, -999.0000, 9, -999.0000, 9, -999.0000, 9, -999.0000, 9, -999.0000, 9, -999.0000, 9, -999, 9, -999, 9, -999, 9, -999, 9, -999, 9, -999, 9, -999, 9,  -999.00, 9,  -999.00, 9,  -999.00, 9,  -999.00, 9,   3.5097,  -999.00, 9, 1611,   41.3187,  -51.7855
316N200309, A20, 13, 1, 15, 15, 2, 20030927, 1455, 41.3062, -51.7898, 4756,  1850.10,   1850.1,   3.5126,  34.9207, 2,  34.9203, 2,    271.4, 2,    274.0, 2,    11.68, 2,    17.39, 2,     0.00, 2,     1.14, 2,    2.314, 2,    1.198, 2,    0.127, 2,    2.766, 2,   2159.7, 2,   2300.7, 2,  -999.00, 9,  -999.00, 9, -999.000, 9, -999.000, -999.0000, 9, -999.0000,  -999.00, 9,  -999.00, -999.000, 9, -999.000,   -999.0, 9,   -999.0,  -999.00, 9, -999.0000, 9, -999.0000, 9, -999.0000, 9, -999.0000, 9, -999.0000, 9, -999.0000, 9, -999, 9, -999, 9, -999, 9, -999, 9, -999, 9, -999, 9, -999, 9,  -999.00, 9,  -999.00, 9,  -999.00, 9,  -999.00, 9,   3.3665,  -999.00, 9, 1607,   41.3182,  -51.7865
316N200309, A20, 13, 1, 14, 14, 2, 20030927, 1455, 41.3062, -51.7898, 4756,  2000.00,   2000.0,   3.5054,  34.9344, 2,  34.9355, 2,    272.8, 2,    271.2, 2,    12.59, 2,    17.44, 2,     0.00, 2,     1.15, 2,    1.781, 2,    0.922, 2,    0.087, 2,    2.295, 2,   2159.9, 2,   2304.2, 2,    44.90, 2,  -999.00, 9, -999.000, 9, -999.000, -999.0000, 9, -999.0000,  -999.00, 9,  -999.00, -999.000, 9, -999.000,   -999.0, 9,   -999.0,  -999.00, 9, -999.0000, 9, -999.0000, 9, -999.0000, 9, -999.0000, 9, -999.0000, 9, -999.0000, 9, -999, 9, -999, 9, -999, 9, -999, 9, -999, 9, -999, 9, -999, 9,  -999.00, 9,  -999.00, 9,  -999.00, 9,  -999.00, 9,   3.3453,  -999.00, 9, 1604,   41.3176,  -51.7875
316N200309, A20, 13, 1, 13, 13, 2, 20030927, 1455, 41.3062, -51.7898, 4756,  2250.60,   2250.6,   3.3531,  34.9308, 2,  34.9329, 2,    272.1, 2,    272.1, 2,    13.41, 2,    17.49, 2,     0.00, 2,     1.15, 2,    1.693, 2,    0.861, 2,    0.085, 2,    2.216, 2,   2159.4, 2,   2304.1, 2,  -999.00, 9,  -999.00, 9, -999.000, 9, -999.000, -999.0000, 9, -999.0000,  -999.00, 9,  -999.00, -999.000, 9, -999.000,   -999.0, 9,   -999.0,  -999.00, 9, -999.0000, 9, -999.0000, 9, -999.0000, 9, -999.0000, 9, -999.0000, 9, -999.0000, 9, -999, 9, -999, 9, -999, 9, -999, 9, -999, 9, -999, 9, -999, 9,  -999.00, 9,  -999.00, 9,  -999.00, 9,  -999.00, 9,   3.1714,  -999.00, 9, 1559,   41.3166,  -51.7891
316N200309, A20, 13, 1, 12, 12, 2, 20030927, 1455, 41.3062, -51.7898, 4756,  2500.60,   2500.6,   3.2168,  34.9343, 2,  34.9345, 2,    269.0, 2,    270.7, 2,    14.84, 2,    17.48, 2,     0.00, 2,     1.16, 2,    1.393, 2,    0.711, 2,    0.069, 2,    1.898, 2,   -999.0, 9,   2306.9, 2,    42.60, 2,  -999.00, 9, -999.000, 9, -999.000, -999.0000, 9, -999.0000,  -999.00, 9,  -999.00, -999.000, 9, -999.000,   -999.0, 9,   -999.0,  -999.00, 9, -999.0000, 9, -999.0000, 9, -999.0000, 9, -999.0000, 9, -999.0000, 9, -999.0000, 9, -999, 9, -999, 9, -999, 9, -999, 9, -999, 9, -999, 9, -999, 9,  -999.00, 9,  -999.00, 9,  -999.00, 9,  -999.00, 9,   3.0129,  -999.00, 9, 1554,   41.3156,  -51.7895
316N200309, A20, 13, 1, 11, 11, 2, 20030927, 1455, 41.3062, -51.7898, 4756,  2751.70,   2751.7,   3.1212,  34.9415, 2,  34.9425, 2,    267.8, 2,    267.4, 2,    17.21, 2,    17.82, 2,     0.00, 2,     1.18, 2,    0.891, 2,    0.473, 2,    0.041, 2,    1.380, 2,   2161.9, 2,   2309.9, 2,  -999.00, 9,  -999.00, 9, -999.000, 9, -999.000, -999.0000, 9, -999.0000,  -999.00, 9,  -999.00, -999.000, 9, -999.000,   -999.0, 9,   -999.0,  -999.00, 9, -999.0000, 9, -999.0000, 9, -999.0000, 9, -999.0000, 9, -999.0000, 9, -999.0000, 9, -999, 9, -999, 9, -999, 9, -999, 9, -999, 9, -999, 9, -999, 9,  -999.00, 9,  -999.00, 9,  -999.00, 9,  -999.00, 9,   2.8937,  -999.00, 9, 1548,   41.3148,  -51.7893
316N200309, A20, 13, 1, 10, 10, 2, 20030927, 1455, 41.3062, -51.7898, 4756,  3001.00,   3001.0,   2.8966,  34.9291, 2,  34.9294, 2,    268.7, 2,    269.7, 2,    17.92, 2,    17.58, 2,     0.00, 2,     1.17, 2,    1.055, 2,    0.556, 2,    4.204, 4,    1.550, 2,   2164.9, 2,   2310.4, 2,    42.00, 2,  -999.00, 9, -999.000, 9, -999.000, -999.0000, 9, -999.0000,  -999.00, 9,  -999.00, -999.000, 9, -999.000,   -999.0, 9,   -999.0,  -999.00, 9, -999.0000, 9, -999.0000, 9, -999.0000, 9, -999.0000, 9, -999.0000, 9, -999.0000, 9, -999, 9, -999, 9, -999, 9, -999, 9, -999, 9, -999, 9, -999, 9,  -999.00, 9,  -999.00, 9,  -999.00, 9,  -999.00, 9,   2.6480,  -999.00, 9, 1542,   41.3138,  -51.7891