BOTTLE,20220816CCHSIOAMB
EXPOCODE,SECT_ID,STNNBR,CASTNO,SAMPNO,BTLNBR,BTLNBR_FLAG_W,DATE,TIME,LATITUDE,LONGITUDE,DEPTH,CTDRAW,CTDPRS,CTDTMP,CTDSAL,CTDSAL_FLAG_W,SALNTY,SALNTY_FLAG_W,CTDOXY,CTDOXY_FLAG_W,OXYGEN,OXYGEN_FLAG_W,SILCAT,SILCAT_FLAG_W,NITRAT,NITRAT_FLAG_W,NITRIT,NITRIT_FLAG_W,PHSPHT,PHSPHT_FLAG_W,CFC-11,CFC-11_FLAG_W,CFC-12,CFC-12_FLAG_W,CFC113,CFC113_FLAG_W,CCL4,CCL4_FLAG_W,TCARBN,TCARBN_FLAG_W,ALKALI,ALKALI_FLAG_W,DOC,DOC_FLAG_W,TDN,TDN_FLAG_W,TRITUM,TRITUM_FLAG_W,TRITER,HELIUM,HELIUM_FLAG_W,HELIER,DELHE3,DELHE3_FLAG_W,DELHER,NEON,NEON_FLAG_W,NEONER,DELC14,DELC14_FLAG_W,C14ERR,DELC13,DELC13_FLAG_W,CDOM325,CDOM325_FLAG_W,CDOM340,CDOM340_FLAG_W,CDOM380,CDOM380_FLAG_W,CDOM412,CDOM412_FLAG_W,CDOMSL,CDOMSL_FLAG_W,CDOMSN,CDOMSN_FLAG_W,DCNS,DCNS_FLAG_W,ARABI,ARABI_FLAG_W,FUCO,FUCO_FLAG_W,GALA,GALA_FLAG_W,GLUC,GLUC_FLAG_W,MAN,MAN_FLAG_W,RHAM,RHAM_FLAG_W,BRDU,BRDU_FLAG_W,PEUK,PEUK_FLAG_W,PROC,PROC_FLAG_W,SYN,SYN_FLAG_W,THETA,BACT,BACT_FLAG_W,BTL_TIME,BTL_LAT,BTL_LON
,,,,,,,,,,,METERS,DBAR,DBAR,ITS-90,PSS-78,,PSS-78,,UMOL/KG,,UMOL/KG,,UMOL/KG,,UMOL/KG,,UMOL/KG,,UMOL/KG,,PMOL/KG,,PMOL/KG,,PMOL/KG,,PMOL/KG,,UMOL/KG,,UMOL/KG,,UMOL/KG,,UMOL/KG,,TU,,TU,NMOL/KG,,NMOL/KG,PERCNT,,PERCNT,NMOL/KG,,NMOL/KG,/MILLE,,/MILLE,/MILLE,,1/M,,1/M,,1/M,,1/M,,1/NM,,1/NM,,NMOL/KG,,NMOL/KG,,NMOL/KG,,NMOL/KG,,NMOL/KG,,NMOL/KG,,NMOL/KG,,PMOL/L/H,,E6/L,,E7/L,,E6/L,,DEG C,E8/L,,,,
316N200309, A20, 69, 1, 32, 32, 2, 20031016, 1849, 8.4965, -52.8148, 3313,     3.10,      3.1,  29.4656,  33.7783, 2,  33.7815, 2,    190.6, 2,    195.0, 2,     5.58, 2,     0.08, 2,     0.00, 2,     0.02, 2,    1.554, 2,    0.971, 2,    0.114, 2,    1.635, 2,   1895.2, 2,   2232.3, 2,  -999.00, 9,  -999.00, 9, -999.000, 9, -999.000, -999.0000, 9, -999.0000,  -999.00, 9,  -999.00, -999.000, 9, -999.000,     75.5, 2,      3.6,     1.55, 2,    0.3780, 2,    0.2740, 2,    0.1270, 2,    0.0740, 2,    0.0170, 2,    0.0190, 2, -999, 9, -999, 9, -999, 9, -999, 9, -999, 9, -999, 9, -999, 9,  -999.00, 9,  -999.00, 9,  -999.00, 9,  -999.00, 9,  29.4648,  -999.00, 9, 2011,    8.4962,  -52.8148
316N200309, A20, 69, 1, 31, 31, 2, 20031016, 1849, 8.4965, -52.8148, 3313,    24.90,     24.9,  28.9169,  35.5004, 2,  35.1735, 2,    194.6, 2,    198.0, 2,     2.43, 2,     0.13, 2,     0.00, 2,     0.04, 2,    1.601, 6,    1.005, 6,    0.111, 2,    1.445, 2,   -999.0, 9,   -999.0, 9,  -999.00, 9,  -999.00, 9, -999.000, 9, -999.000, -999.0000, 9, -999.0000,  -999.00, 9,  -999.00, -999.000, 9, -999.000,   -999.0, 9,   -999.0,  -999.00, 9,    0.2270, 2,    0.1620, 2,    0.0750, 2,    0.0470, 2,    0.0170, 2,    0.0190, 2, -999, 9, -999, 9, -999, 9, -999, 9, -999, 9, -999, 9, -999, 9,  -999.00, 9,  -999.00, 9,  -999.00, 9,  -999.00, 9,  28.9109,  -999.00, 9, 2010,    8.4962,  -52.8147
316N200309, A20, 69, 1, 30, 30, 2, 20031016, 1849, 8.4965, -52.8148, 3313,    53.50,     53.5,  27.9620,  36.2480, 2,  36.2339, 2,    191.5, 2,    197.9, 2,     0.30, 2,     0.17, 2,     0.00, 2,     0.07, 2,    1.633, 2,    1.021, 2,    0.126, 2,    1.195, 2,   -999.0, 9,   -999.0, 9,  -999.00, 9,  -999.00, 9, -999.000, 9, -999.000, -999.0000, 9, -999.0000,  -999.00, 9,  -999.00, -999.000, 9, -999.000,   -999.0, 9,   -999.0,  -999.00, 9,    0.1440, 2,    0.1040, 2,    0.0520, 2,    0.0380, 2,    0.0140, 2,    0.0170, 2, -999, 9, -999, 9, -999, 9, -999, 9, -999, 9, -999, 9, -999, 9,  -999.00, 9,  -999.00, 9,  -999.00, 9,  -999.00, 9,  27.9493,  -999.00, 9, 2009,    8.4963,  -52.8147
316N200309, A20, 69, 1, 29, 29, 2, 20031016, 1849, 8.4965, -52.8148, 3313,    77.30,     77.3,  27.5108,  36.2519, 2,  36.2556, 2,    184.9, 2,    193.4, 2,     0.29, 2,     0.12, 2,     0.00, 2,     0.08, 2,    1.652, 2,    1.020, 2,    0.102, 2,    1.252, 2,   -999.0, 9,   -999.0, 9,  -999.00, 9,  -999.00, 9, -999.000, 9, -999.000, -999.0000, 9, -999.0000,  -999.00, 9,  -999.00, -999.000, 9, -999.000,   -999.0, 9,   -999.0,  -999.00, 9,    0.1370, 2,    0.1010, 2,    0.0510, 2,    0.0390, 2,    0.0140, 2,    0.0160, 2, -999, 9, -999, 9, -999, 9, -999, 9, -999, 9, -999, 9, -999, 9,  -999.00, 9,  -999.00, 9,  -999.00, 9,  -999.00, 9,  27.4928,  -999.00, 9, 2007,    8.4963,  -52.8146
316N200309, A20, 69, 1, 28, 28, 2, 20031016, 1849, 8.4965, -52.8148, 3313,   101.30,    101.3,  27.2064,  36.2697, 2,  36.2626, 2,    181.2, 2,    184.8, 2,     0.39, 2,     0.72, 2,     0.04, 2,     0.14, 2,    1.659, 2,    1.041, 2,    0.102, 2,    1.206, 2,   -999.0, 9,   -999.0, 9,  -999.00, 9,  -999.00, 9, -999.000, 9, -999.000, -999.0000, 9, -999.0000,  -999.00, 9,  -999.00, -999.000, 9, -999.000,   -999.0, 9,   -999.0,  -999.00, 9,    0.1070, 2,    0.0780, 2,    0.0390, 2,    0.0300, 2,    0.0150, 2,    0.0170, 2, -999, 9, -999, 9, -999, 9, -999, 9, -999, 9, -999, 9, -999, 9,  -999.00, 9,  -999.00, 9,  -999.00, 9,  -999.00, 9,  27.1829,  -999.00, 9, 2006,    8.4964,  -52.8145
316N200309, A20, 69, 1, 27, 27, 2, 20031016, 1849, 8.4965, -52.8148, 3313,   126.60,    126.6,  25.6435,  36.3309, 2,  36.3253, 2,    175.7, 2,    180.4, 2,     0.79, 2,     2.21, 2,     0.03, 2,     0.23, 2,    1.740, 2,    1.060, 2,    0.100, 2,    1.070, 2,   -999.0, 9,   -999.0, 9,  -999.00, 9,  -999.00, 9, -999.000, 9, -999.000, -999.0000, 9, -999.0000,  -999.00, 9,  -999.00, -999.000, 9, -999.000,   -999.0, 9,   -999.0,  -999.00, 9,    0.1100, 2,    0.0810, 2,    0.0410, 2,    0.0320, 2,    0.0150, 2,    0.0170, 2, -999, 9, -999, 9, -999, 9, -999, 9, -999, 9, -999, 9, -999, 9,  -999.00, 9,  -999.00, 9,  -999.00, 9,  -999.00, 9,  25.6154,  -999.00, 9, 2005,    8.4965,  -52.8144
316N200309, A20, 69, 1, 26, 26, 2, 20031016, 1849, 8.4965, -52.8148, 3313,   152.80,    152.8,  19.5099,  36.3994, 2,  36.4053, 2,    141.2, 2,    144.6, 2,     2.80, 2,     9.47, 2,     0.02, 2,     0.59, 2,    1.985, 2,    1.166, 2,    0.032, 2,    0.383, 2,   -999.0, 9,   -999.0, 9,  -999.00, 9,  -999.00, 9, -999.000, 9, -999.000, -999.0000, 9, -999.0000,  -999.00, 9,  -999.00, -999.000, 9, -999.000,   -999.0, 9,   -999.0,  -999.00, 9,    0.1620, 2,    0.1210, 2,    0.0670, 2,    0.0540, 2,    0.0120, 2,    0.0130, 2, -999, 9, -999, 9, -999, 9, -999, 9, -999, 9, -999, 9, -999, 9,  -999.00, 9,  -999.00, 9,  -999.00, 9,  -999.00, 9,  19.4819,  -999.00, 9, 2004,    8.4966,  -52.8143
316N200309, A20, 69, 1, 25, 25, 2, 20031016, 1849, 8.4965, -52.8148, 3313,   177.70,    177.7,  12.9438,  35.4424, 2,  35.4405, 2,    128.9, 2,    126.9, 2,     7.97, 2,    20.64, 2,     0.01, 2,     1.31, 2,    1.738, 2,    0.947, 2,    0.010, 2,    0.376, 2,   -999.0, 9,   -999.0, 9,  -999.00, 9,  -999.00, 9, -999.000, 9, -999.000, -999.0000, 9, -999.0000,  -999.00, 9,  -999.00, -999.000, 9, -999.000,   -999.0, 9,   -999.0,  -999.00, 9,    0.1860, 2,    0.1420, 2,    0.0830, 2,    0.0660, 2,    0.0110, 2,    0.0120, 2, -999, 9, -999, 9, -999, 9, -999, 9, -999, 9, -999, 9, -999, 9,  -999.00, 9,  -999.00, 9,  -999.00, 9,  -999.00, 9,  12.9194,  -999.00, 9, 2002,    8.4967,  -52.8142
316N200309, A20, 69, 1, 24, 24, 2, 20031016, 1849, 8.4965, -52.8148, 3313,   225.70,    225.7,  10.6417,  35.0644, 2,  35.0624, 2,    126.3, 2,    129.6, 2,    10.61, 2,    24.03, 2,     0.01, 2,     1.57, 2,    1.533, 2,    0.815, 2,    0.014, 2,    0.474, 2,   -999.0, 9,   -999.0, 9,  -999.00, 9,  -999.00, 9, -999.000, 9, -999.000, -999.0000, 9, -999.0000,  -999.00, 9,  -999.00, -999.000, 9, -999.000,   -999.0, 9,   -999.0,  -999.00, 9,    0.1440, 2,    0.1050, 2,    0.0580, 2,    0.0470, 2,    0.0120, 2,    0.0140, 2, -999, 9, -999, 9, -999, 9, -999, 9, -999, 9, -999, 9, -999, 9,  -999.00, 9,  -999.00, 9,  -999.00, 9,  -999.00, 9,  10.6144,  -999.00, 9, 2001,    8.4969,  -52.8141
316N200309, A20, 69, 1, 23, 23, 2, 20031016, 1849, 8.4965, -52.8148, 3313,   275.50,    275.5,   9.4047,  34.8881, 2,  34.8849, 2,    130.1, 2,    131.3, 2,    12.85, 2,    26.59, 2,     0.01, 2,     1.73, 2,    1.311, 2,    0.702, 2,    0.007, 2,    0.573, 2,   -999.0, 9,   -999.0, 9,  -999.00, 9,  -999.00, 9, -999.000, 9, -999.000, -999.0000, 9, -999.0000,  -999.00, 9,  -999.00, -999.000, 9, -999.000,   -999.0, 9,   -999.0,  -999.00, 9, -999.0000, 9, -999.0000, 9, -999.0000, 9, -999.0000, 9, -999.0000, 9, -999.0000, 9, -999, 9, -999, 9, -999, 9, -999, 9, -999, 9, -999, 9, -999, 9,  -999.00, 9,  -999.00, 9,  -999.00, 9,  -999.00, 9,   9.3738,  -999.00, 9, 1959,    8.4970,  -52.8140
316N200309, A20, 69, 1, 22, 22, 2, 20031016, 1849, 8.4965, -52.8148, 3313,   350.90,    350.9,   8.4157,  34.7819, 2,  34.7799, 2,    121.6, 2,    127.7, 2,    15.19, 2,    29.04, 2,     0.01, 2,     1.90, 2,    1.030, 2,    0.538, 2,    0.013, 2,    0.580, 2,   -999.0, 9,   -999.0, 9,  -999.00, 9,  -999.00, 9, -999.000, 9, -999.000, -999.0000, 9, -999.0000,  -999.00, 9,  -999.00, -999.000, 9, -999.000,   -999.0, 9,   -999.0,  -999.00, 9, -999.0000, 9, -999.0000, 9, -999.0000, 9, -999.0000, 9, -999.0000, 9, -999.0000, 9, -999, 9, -999, 9, -999, 9, -999, 9, -999, 9, -999, 9, -999, 9,  -999.00, 9,  -999.00, 9,  -999.00, 9,  -999.00, 9,   8.3789,  -999.00, 9, 1957,    8.4971,  -52.8138
316N200309, A20, 69, 1, 21, 21, 2, 20031016, 1849, 8.4965, -52.8148, 3313,   450.50,    450.5,   7.4076,  34.6978, 2,  34.6977, 2,    122.2, 2,    118.6, 2,    18.67, 2,    32.19, 2,     0.01, 2,     2.10, 2,    0.567, 2,    0.301, 2,    0.001, 2,    0.449, 2,   -999.0, 9,   -999.0, 9,  -999.00, 9,  -999.00, 9, -999.000, 9, -999.000, -999.0000, 9, -999.0000,  -999.00, 9,  -999.00, -999.000, 9, -999.000,   -999.0, 9,   -999.0,  -999.00, 9, -999.0000, 9, -999.0000, 9, -999.0000, 9, -999.0000, 9, -999.0000, 9, -999.0000, 9, -999, 9, -999, 9, -999, 9, -999, 9, -999, 9, -999, 9, -999, 9,  -999.00, 9,  -999.00, 9,  -999.00, 9,  -999.00, 9,   7.3635,  -999.00, 9, 1955,    8.4973,  -52.8136
316N200309, A20, 69, 1, 20, 20, 2, 20031016, 1849, 8.4965, -52.8148, 3313,   551.90,    551.9,   6.6599,  34.6377, 2,  34.6282, 2,    123.5, 2,    122.6, 2,    21.34, 2,    33.38, 2,     0.01, 2,     2.20, 2,    0.389, 2,    0.210, 2,    0.007, 2,    0.400, 2,   -999.0, 9,   -999.0, 9,  -999.00, 9,  -999.00, 9, -999.000, 9, -999.000, -999.0000, 9, -999.0000,  -999.00, 9,  -999.00, -999.000, 9, -999.000,   -999.0, 9,   -999.0,  -999.00, 9, -999.0000, 9, -999.0000, 9, -999.0000, 9, -999.0000, 9, -999.0000, 9, -999.0000, 9, -999, 9, -999, 9, -999, 9, -999, 9, -999, 9, -999, 9, -999, 9,  -999.00, 9,  -999.00, 9,  -999.00, 9,  -999.00, 9,   6.6086,  -999.00, 9, 1952,    8.4975,  -52.8134
316N200309, A20, 69, 1, 19, 19, 2, 20031016, 1849, 8.4965, -52.8148, 3313,   602.10,    602.1,   6.2902,  34.6279, 2,  34.6282, 2,    118.5, 2,    119.7, 2,    22.97, 2,    34.29, 2,     0.01, 2,     2.26, 2,    0.229, 2,    0.130, 2,    0.007, 2,    0.285, 2,   -999.0, 9,   -999.0, 9,  -999.00, 9,  -999.00, 9, -999.000, 9, -999.000, -999.0000, 9, -999.0000,  -999.00, 9,  -999.00, -999.000, 9, -999.000,   -999.0, 9,   -999.0,  -999.00, 9, -999.0000, 9, -999.0000, 9, -999.0000, 9, -999.0000, 9, -999.0000, 9, -999.0000, 9, -999, 9, -999, 9, -999, 9, -999, 9, -999, 9, -999, 9, -999, 9,  -999.00, 9,  -999.00, 9,  -999.00, 9,  -999.00, 9,   6.2357,  -999.00, 9, 1950,    8.4976,  -52.8132
316N200309, A20, 69, 1, 18, 18, 2, 20031016, 1849, 8.4965, -52.8148, 3313,   699.30,    699.3,   5.5971,  34.6105, 2,  34.6101, 2,    125.3, 2,    126.5, 2,    26.06, 2,    34.77, 2,     0.01, 2,     2.31, 2,    0.106, 2,    0.067, 2,    0.002, 2,    0.189, 2,   -999.0, 9,   -999.0, 9,  -999.00, 9,  -999.00, 9, -999.000, 9, -999.000, -999.0000, 9, -999.0000,  -999.00, 9,  -999.00, -999.000, 9, -999.000,   -999.0, 9,   -999.0,  -999.00, 9, -999.0000, 9, -999.0000, 9, -999.0000, 9, -999.0000, 9, -999.0000, 9, -999.0000, 9, -999, 9, -999, 9, -999, 9, -999, 9, -999, 9, -999, 9, -999, 9,  -999.00, 9,  -999.00, 9,  -999.00, 9,  -999.00, 9,   5.5370,  -999.00, 9, 1948,    8.4976,  -52.8128
316N200309, A20, 69, 1, 17, 17, 2, 20031016, 1849, 8.4965, -52.8148, 3313,   824.90,    824.9,   4.8493,  34.5908, 2,  34.5902, 2,    145.3, 2,    146.4, 2,    28.94, 2,    33.63, 2,     0.01, 2,     2.27, 2,    0.080, 2,    0.045, 2,   -0.003, 2,    0.188, 2,   -999.0, 9,   -999.0, 9,  -999.00, 9,  -999.00, 9, -999.000, 9, -999.000, -999.0000, 9, -999.0000,  -999.00, 9,  -999.00, -999.000, 9, -999.000,   -999.0, 9,   -999.0,  -999.00, 9, -999.0000, 9, -999.0000, 9, -999.0000, 9, -999.0000, 9, -999.0000, 9, -999.0000, 9, -999, 9, -999, 9, -999, 9, -999, 9, -999, 9, -999, 9, -999, 9,  -999.00, 9,  -999.00, 9,  -999.00, 9,  -999.00, 9,   4.7824,  -999.00, 9, 1945,    8.4977,  -52.8121
316N200309, A20, 69, 1, 16, 16, 2, 20031016, 1849, 8.4965, -52.8148, 3313,   975.10,    975.1,   4.8938,  34.6982, 2,  34.6985, 2,    151.3, 2,    150.6, 2,    27.28, 2,    31.93, 2,     0.01, 2,     2.16, 2,    0.040, 2,    0.026, 2,   -0.002, 2,    0.111, 2,   -999.0, 9,   -999.0, 9,  -999.00, 9,  -999.00, 9, -999.000, 9, -999.000, -999.0000, 9, -999.0000,  -999.00, 9,  -999.00, -999.000, 9, -999.000,   -999.0, 9,   -999.0,  -999.00, 9, -999.0000, 9, -999.0000, 9, -999.0000, 9, -999.0000, 9, -999.0000, 9, -999.0000, 9, -999, 9, -999, 9, -999, 9, -999, 9, -999, 9, -999, 9, -999, 9,  -999.00, 9,  -999.00, 9,  -999.00, 9,  -999.00, 9,   4.8132,  -999.00, 9, 1942,    8.4978,  -52.8113
316N200309, A20, 69, 1, 15, 15, 2, 20031016, 1849, 8.4965, -52.8148, 3313,  1123.60,   1123.6,   4.7622,  34.7948, 2,  34.7940, 2,    168.3, 2,    168.2, 2,    25.01, 2,    29.20, 2,     0.01, 2,     1.96, 2,    0.048, 2,    0.029, 2,   -0.003, 2,    0.120, 2,   -999.0, 9,   -999.0, 9,  -999.00, 9,  -999.00, 9, -999.000, 9, -999.000, -999.0000, 9, -999.0000,  -999.00, 9,  -999.00, -999.000, 9, -999.000,   -999.0, 9,   -999.0,  -999.00, 9, -999.0000, 9, -999.0000, 9, -999.0000, 9, -999.0000, 9, -999.0000, 9, -999.0000, 9, -999, 9, -999, 9, -999, 9, -999, 9, -999, 9, -999, 9, -999, 9,  -999.00, 9,  -999.00, 9,  -999.00, 9,  -999.00, 9,   4.6691,  -999.00, 9, 1939,    8.4980,  -52.8109
316N200309, A20, 69, 1, 14, 14, 2, 20031016, 1849, 8.4965, -52.8148, 3313,  1275.50,   1275.5,   4.8091,  34.9121, 2,  34.9117, 2,    191.8, 2,    192.3, 2,    20.68, 2,    25.37, 2,     0.01, 2,     1.69, 2,    0.137, 2,    0.079, 2,   -0.001, 2,    0.293, 2,   -999.0, 9,   -999.0, 9,  -999.00, 9,  -999.00, 9, -999.000, 9, -999.000, -999.0000, 9, -999.0000,  -999.00, 9,  -999.00, -999.000, 9, -999.000,   -999.0, 9,   -999.0,  -999.00, 9, -999.0000, 9, -999.0000, 9, -999.0000, 9, -999.0000, 9, -999.0000, 9, -999.0000, 9, -999, 9, -999, 9, -999, 9, -999, 9, -999, 9, -999, 9, -999, 9,  -999.00, 9,  -999.00, 9,  -999.00, 9,  -999.00, 9,   4.7013,  -999.00, 9, 1935,    8.4980,  -52.8113
316N200309, A20, 69, 1, 13, 13, 2, 20031016, 1849, 8.4965, -52.8148, 3313,  1399.50,   1399.5,   4.6716,  34.9921, 2,  34.9927, 2,    217.0, 2,    222.8, 2,    16.26, 2,    21.37, 2,     0.01, 2,     1.41, 2,    0.385, 2,    0.215, 2,    0.011, 2,    0.712, 2,   -999.0, 9,   -999.0, 9,  -999.00, 9,  -999.00, 9, -999.000, 9, -999.000, -999.0000, 9, -999.0000,  -999.00, 9,  -999.00, -999.000, 9, -999.000,   -999.0, 9,   -999.0,  -999.00, 9, -999.0000, 9, -999.0000, 9, -999.0000, 9, -999.0000, 9, -999.0000, 9, -999.0000, 9, -999, 9, -999, 9, -999, 9, -999, 9, -999, 9, -999, 9, -999, 9,  -999.00, 9,  -999.00, 9,  -999.00, 9,  -999.00, 9,   4.5534,  -999.00, 9, 1932,    8.4979,  -52.8116
316N200309, A20, 69, 1, 12, 12, 2, 20031016, 1849, 8.4965, -52.8148, 3313,  1499.90,   1499.9,   4.3726,  35.0056, 2,  35.0035, 2,    242.4, 2,    244.3, 2,    13.81, 2,    19.20, 2,     0.01, 2,     1.26, 2,    0.766, 2,    0.399, 2,    0.017, 2,    1.201, 2,   -999.0, 9,   -999.0, 9,  -999.00, 9,  -999.00, 9, -999.000, 9, -999.000, -999.0000, 9, -999.0000,  -999.00, 9,  -999.00, -999.000, 9, -999.000,   -999.0, 9,   -999.0,  -999.00, 9, -999.0000, 9, -999.0000, 9, -999.0000, 9, -999.0000, 9, -999.0000, 9, -999.0000, 9, -999, 9, -999, 9, -999, 9, -999, 9, -999, 9, -999, 9, -999, 9,  -999.00, 9,  -999.00, 9,  -999.00, 9,  -999.00, 9,   4.2482,  -999.00, 9, 1930,    8.4978,  -52.8119
316N200309, A20, 69, 1, 11, 11, 2, 20031016, 1849, 8.4965, -52.8148, 3313,  1600.10,   1600.1,   4.1707,  34.9969, 2,  34.9963, 2,    252.3, 2,    251.2, 2,    13.50, 2,    18.74, 2,     0.01, 2,     1.23, 2,    0.812, 6,    0.417, 6,    0.017, 6,    1.302, 6,   -999.0, 9,   -999.0, 9,  -999.00, 9,  -999.00, 9, -999.000, 9, -999.000, -999.0000, 9, -999.0000,  -999.00, 9,  -999.00, -999.000, 9, -999.000,   -999.0, 9,   -999.0,  -999.00, 9, -999.0000, 9, -999.0000, 9, -999.0000, 9, -999.0000, 9, -999.0000, 9, -999.0000, 9, -999, 9, -999, 9, -999, 9, -999, 9, -999, 9, -999, 9, -999, 9,  -999.00, 9,  -999.00, 9,  -999.00, 9,  -999.00, 9,   4.0392,  -999.00, 9, 1927,    8.4977,  -52.8122
316N200309, A20, 69, 1, 10, 10, 2, 20031016, 1849, 8.4965, -52.8148, 3313,  1700.50,   1700.5,   4.0460,  34.9905, 2,  34.9904, 2,    257.5, 2,    254.2, 2,    13.49, 2,    18.52, 2,     0.00, 2,     1.20, 2,    0.826, 2,    0.430, 2,    0.016, 2,    1.350, 2,   -999.0, 9,   -999.0, 9,  -999.00, 9,  -999.00, 9, -999.000, 9, -999.000, -999.0000, 9, -999.0000,  -999.00, 9,  -999.00, -999.000, 9, -999.000,   -999.0, 9,   -999.0,  -999.00, 9, -999.0000, 9, -999.0000, 9, -999.0000, 9, -999.0000, 9, -999.0000, 9, -999.0000, 9, -999, 9, -999, 9, -999, 9, -999, 9, -999, 9, -999, 9, -999, 9,  -999.00, 9,  -999.00, 9,  -999.00, 9,  -999.00, 9,   3.9066,  -999.00, 9, 1925,    8.4976,  -52.8124
316N200309, A20, 69, 1, 9, 9, 2, 20031016, 1849, 8.4965, -52.8148, 3313,  1824.00,   1824.0,   3.8091,  34.9796, 2,  34.9787, 2,    262.0, 2,    260.3, 2,    13.89, 2,    18.25, 2,     0.00, 2,     1.19, 2,    0.796, 2,    0.410, 2,    0.014, 2,    1.357, 2,   -999.0, 9,   -999.0, 9,  -999.00, 9,  -999.00, 9, -999.000, 9, -999.000, -999.0000, 9, -999.0000,  -999.00, 9,  -999.00, -999.000, 9, -999.000,   -999.0, 9,   -999.0,  -999.00, 9, -999.0000, 9, -999.0000, 9, -999.0000, 9, -999.0000, 9, -999.0000, 9, -999.0000, 9, -999, 9, -999, 9, -999, 9, -999, 9, -999, 9, -999, 9, -999, 9,  -999.00, 9,  -999.00, 9,  -999.00, 9,  -999.00, 9,   3.6612,  -999.00, 9, 1922,    8.4976,  -52.8126
316N200309, A20, 69, 1, 8, 8, 2, 20031016, 1849, 8.4965, -52.8148, 3313,  1974.80,   1974.8,   3.7071,  34.9765, 2,  34.9762, 2,    262.2, 2,    260.2, 2,    14.60, 2,    18.20, 2,     0.00, 2,     1.19, 2,    0.692, 2,    0.369, 2,    0.029, 2,    1.222, 2,   -999.0, 9,   -999.0, 9,  -999.00, 9,  -999.00, 9, -999.000, 9, -999.000, -999.0000, 9, -999.0000,  -999.00, 9,  -999.00, -999.000, 9, -999.000,   -999.0, 9,   -999.0,  -999.00, 9, -999.0000, 9, -999.0000, 9, -999.0000, 9, -999.0000, 9, -999.0000, 9, -999.0000, 9, -999, 9, -999, 9, -999, 9, -999, 9, -999, 9, -999, 9, -999, 9,  -999.00, 9,  -999.00, 9,  -999.00, 9,  -999.00, 9,   3.5463,  -999.00, 9, 1919,    8.4976,  -52.8130
316N200309, A20, 69, 1, 7, 7, 2, 20031016, 1849, 8.4965, -52.8148, 3313,  2149.70,   2149.7,   3.5476,  34.9712, 2,  34.9703, 2,    262.6, 2,    260.9, 2,    15.73, 2,    18.30, 2,     0.00, 2,     1.20, 2,    0.605, 2,    0.309, 2,    0.021, 2,    1.093, 2,   -999.0, 9,   -999.0, 9,  -999.00, 9,  -999.00, 9, -999.000, 9, -999.000, -999.0000, 9, -999.0000,  -999.00, 9,  -999.00, -999.000, 9, -999.000,   -999.0, 9,   -999.0,  -999.00, 9, -999.0000, 9, -999.0000, 9, -999.0000, 9, -999.0000, 9, -999.0000, 9, -999.0000, 9, -999, 9, -999, 9, -999, 9, -999, 9, -999, 9, -999, 9, -999, 9,  -999.00, 9,  -999.00, 9,  -999.00, 9,  -999.00, 9,   3.3724,  -999.00, 9, 1915,    8.4975,  -52.8133