BOTTLE,20220816CCHSIOAMB
EXPOCODE,SECT_ID,STNNBR,CASTNO,SAMPNO,BTLNBR,BTLNBR_FLAG_W,DATE,TIME,LATITUDE,LONGITUDE,DEPTH,CTDRAW,CTDPRS,CTDTMP,CTDSAL,CTDSAL_FLAG_W,SALNTY,SALNTY_FLAG_W,CTDOXY,CTDOXY_FLAG_W,OXYGEN,OXYGEN_FLAG_W,SILCAT,SILCAT_FLAG_W,NITRAT,NITRAT_FLAG_W,NITRIT,NITRIT_FLAG_W,PHSPHT,PHSPHT_FLAG_W,CFC-11,CFC-11_FLAG_W,CFC-12,CFC-12_FLAG_W,CFC113,CFC113_FLAG_W,CCL4,CCL4_FLAG_W,TCARBN,TCARBN_FLAG_W,ALKALI,ALKALI_FLAG_W,DOC,DOC_FLAG_W,TDN,TDN_FLAG_W,TRITUM,TRITUM_FLAG_W,TRITER,HELIUM,HELIUM_FLAG_W,HELIER,DELHE3,DELHE3_FLAG_W,DELHER,NEON,NEON_FLAG_W,NEONER,DELC14,DELC14_FLAG_W,C14ERR,DELC13,DELC13_FLAG_W,CDOM325,CDOM325_FLAG_W,CDOM340,CDOM340_FLAG_W,CDOM380,CDOM380_FLAG_W,CDOM412,CDOM412_FLAG_W,CDOMSL,CDOMSL_FLAG_W,CDOMSN,CDOMSN_FLAG_W,DCNS,DCNS_FLAG_W,ARABI,ARABI_FLAG_W,FUCO,FUCO_FLAG_W,GALA,GALA_FLAG_W,GLUC,GLUC_FLAG_W,MAN,MAN_FLAG_W,RHAM,RHAM_FLAG_W,BRDU,BRDU_FLAG_W,PEUK,PEUK_FLAG_W,PROC,PROC_FLAG_W,SYN,SYN_FLAG_W,THETA,BACT,BACT_FLAG_W,BTL_TIME,BTL_LAT,BTL_LON
,,,,,,,,,,,METERS,DBAR,DBAR,ITS-90,PSS-78,,PSS-78,,UMOL/KG,,UMOL/KG,,UMOL/KG,,UMOL/KG,,UMOL/KG,,UMOL/KG,,PMOL/KG,,PMOL/KG,,PMOL/KG,,PMOL/KG,,UMOL/KG,,UMOL/KG,,UMOL/KG,,UMOL/KG,,TU,,TU,NMOL/KG,,NMOL/KG,PERCNT,,PERCNT,NMOL/KG,,NMOL/KG,/MILLE,,/MILLE,/MILLE,,1/M,,1/M,,1/M,,1/M,,1/NM,,1/NM,,NMOL/KG,,NMOL/KG,,NMOL/KG,,NMOL/KG,,NMOL/KG,,NMOL/KG,,NMOL/KG,,PMOL/L/H,,E6/L,,E7/L,,E6/L,,DEG C,E8/L,,,,
316N200309, A20, 56, 1, 36, 36, 2, 20031013, 0930, 13.5710, -52.3382, 5243,     4.00,      4.0,  28.8956,  36.4288, 2,  36.4285, 2,    189.5, 2,    194.6, 2,     0.33, 2,     0.03, 2,     0.00, 2,     0.01, 2,    1.569, 2,    0.994, 2,    0.149, 2, -999.000, 9,   2012.7, 2,   2381.6, 2,    76.80, 2,     5.60, 2, -999.000, 9, -999.000, -999.0000, 9, -999.0000,  -999.00, 9,  -999.00, -999.000, 9, -999.000,   -999.0, 9,   -999.0,  -999.00, 9, -999.0000, 9, -999.0000, 9, -999.0000, 9, -999.0000, 9, -999.0000, 9, -999.0000, 9, -999, 9, -999, 9, -999, 9, -999, 9, -999, 9, -999, 9, -999, 9,  -999.00, 9,  -999.00, 9,  -999.00, 9,  -999.00, 9,  28.8946,  -999.00, 9, 1134,   13.5836,  -52.3439
316N200309, A20, 56, 1, 35, 35, 2, 20031013, 0930, 13.5710, -52.3382, 5243,    25.60,     25.6,  28.8911,  36.4313, 2, -999.0000, 1,    189.2, 2,    194.6, 2,  -999.00, 1,  -999.00, 1,  -999.00, 1,  -999.00, 1,    1.579, 6,    0.997, 6,    0.155, 6, -999.000, 9,   2014.0, 2,   2387.6, 2,    75.70, 2,     5.30, 2, -999.000, 9, -999.000, -999.0000, 9, -999.0000,  -999.00, 9,  -999.00, -999.000, 9, -999.000,   -999.0, 9,   -999.0,  -999.00, 9, -999.0000, 9, -999.0000, 9, -999.0000, 9, -999.0000, 9, -999.0000, 9, -999.0000, 9, -999, 9, -999, 9, -999, 9, -999, 9, -999, 9, -999, 9, -999, 9,  -999.00, 9,  -999.00, 9,  -999.00, 9,  -999.00, 9,  28.8849,  -999.00, 9, 1132,   13.5835,  -52.3439
316N200309, A20, 56, 1, 34, 34, 2, 20031013, 0930, 13.5710, -52.3382, 5243,    50.40,     50.4,  27.6873,  36.9622, 2,  36.9622, 2,    203.6, 2,    208.9, 2,     0.33, 2,     0.02, 2,     0.00, 2,     0.01, 2,    1.720, 2,    1.075, 2,    0.158, 2, -999.000, 9,   2042.9, 2,   2416.3, 2,    75.80, 2,     5.20, 2, -999.000, 9, -999.000, -999.0000, 9, -999.0000,  -999.00, 9,  -999.00, -999.000, 9, -999.000,   -999.0, 9,   -999.0,  -999.00, 9, -999.0000, 9, -999.0000, 9, -999.0000, 9, -999.0000, 9, -999.0000, 9, -999.0000, 9, -999, 9, -999, 9, -999, 9, -999, 9, -999, 9, -999, 9, -999, 9,  -999.00, 9,  -999.00, 9,  -999.00, 9,  -999.00, 9,  27.6755,  -999.00, 9, 1131,   13.5833,  -52.3439
316N200309, A20, 56, 1, 33, 33, 2, 20031013, 0930, 13.5710, -52.3382, 5243,    75.20,     75.2,  25.5630,  37.0464, 2,  37.0501, 2,    202.6, 2,    207.2, 2,     0.13, 2,     0.01, 2,     0.00, 2,     0.01, 2,    1.889, 2,    1.164, 2,    0.168, 2, -999.000, 9,   2061.3, 2,   2420.1, 2,    70.70, 2,     4.80, 2, -999.000, 9, -999.000, -999.0000, 9, -999.0000,  -999.00, 9,  -999.00, -999.000, 9, -999.000,   -999.0, 9,   -999.0,  -999.00, 9, -999.0000, 9, -999.0000, 9, -999.0000, 9, -999.0000, 9, -999.0000, 9, -999.0000, 9, -999, 9, -999, 9, -999, 9, -999, 9, -999, 9, -999, 9, -999, 9,  -999.00, 9,  -999.00, 9,  -999.00, 9,  -999.00, 9,  25.5463,  -999.00, 9, 1130,   13.5832,  -52.3439
316N200309, A20, 56, 1, 32, 32, 2, 20031013, 0930, 13.5710, -52.3382, 5243,   100.10,    100.1,  23.9507,  37.2070, 2,  37.1992, 2,    188.7, 2,    192.9, 2,     0.02, 2,     0.05, 2,     0.00, 2,     0.01, 2,    1.901, 2,    1.151, 2,    0.149, 2, -999.000, 9,   2095.1, 2,   2429.2, 2,    62.90, 2,     4.60, 2, -999.000, 9, -999.000, -999.0000, 9, -999.0000,  -999.00, 9,  -999.00, -999.000, 9, -999.000,   -999.0, 9,   -999.0,  -999.00, 9, -999.0000, 9, -999.0000, 9, -999.0000, 9, -999.0000, 9, -999.0000, 9, -999.0000, 9, -999, 9, -999, 9, -999, 9, -999, 9, -999, 9, -999, 9, -999, 9,  -999.00, 9,  -999.00, 9,  -999.00, 9,  -999.00, 9,  23.9295,  -999.00, 9, 1128,   13.5831,  -52.3439
316N200309, A20, 56, 1, 31, 31, 2, 20031013, 0930, 13.5710, -52.3382, 5243,   125.20,    125.2,  21.7044,  37.0391, 2,  37.0333, 2,    171.6, 2,    172.4, 2,     0.33, 2,     2.13, 2,     0.07, 2,     0.12, 2,    2.164, 2,    1.262, 2,    0.121, 2, -999.000, 9,   2128.0, 2,   2416.6, 2,    54.70, 2,     7.00, 2, -999.000, 9, -999.000, -999.0000, 9, -999.0000,  -999.00, 9,  -999.00, -999.000, 9, -999.000,   -999.0, 9,   -999.0,  -999.00, 9, -999.0000, 9, -999.0000, 9, -999.0000, 9, -999.0000, 9, -999.0000, 9, -999.0000, 9, -999, 9, -999, 9, -999, 9, -999, 9, -999, 9, -999, 9, -999, 9,  -999.00, 9,  -999.00, 9,  -999.00, 9,  -999.00, 9,  21.6797,  -999.00, 9, 1127,   13.5829,  -52.3439
316N200309, A20, 56, 1, 30, 30, 2, 20031013, 0930, 13.5710, -52.3382, 5243,   174.80,    174.8,  18.8721,  36.6608, 2,  36.6570, 2,    156.7, 2,    159.2, 2,     1.27, 2,     7.11, 2,     0.02, 2,     0.37, 2,    2.183, 2,    1.257, 2,    0.039, 2, -999.000, 9,   2141.7, 2,   2387.2, 2,    46.50, 2,    10.00, 2, -999.000, 9, -999.000, -999.0000, 9, -999.0000,  -999.00, 9,  -999.00, -999.000, 9, -999.000,   -999.0, 9,   -999.0,  -999.00, 9, -999.0000, 9, -999.0000, 9, -999.0000, 9, -999.0000, 9, -999.0000, 9, -999.0000, 9, -999, 9, -999, 9, -999, 9, -999, 9, -999, 9, -999, 9, -999, 9,  -999.00, 9,  -999.00, 9,  -999.00, 9,  -999.00, 9,  18.8408,  -999.00, 9, 1125,   13.5827,  -52.3439
316N200309, A20, 56, 1, 29, 29, 2, 20031013, 0930, 13.5710, -52.3382, 5243,   225.00,    225.0,  16.0313,  36.1829, 2,  36.1777, 2,    133.7, 2,    137.1, 2,     3.56, 2,    13.77, 2,     0.01, 2,     0.79, 2,    2.123, 2,    1.186, 2,    0.024, 2, -999.000, 9,   2163.2, 2,   2361.1, 2,    46.10, 2,    17.10, 2, -999.000, 9, -999.000, -999.0000, 9, -999.0000,  -999.00, 9,  -999.00, -999.000, 9, -999.000,   -999.0, 9,   -999.0,  -999.00, 9, -999.0000, 9, -999.0000, 9, -999.0000, 9, -999.0000, 9, -999.0000, 9, -999.0000, 9, -999, 9, -999, 9, -999, 9, -999, 9, -999, 9, -999, 9, -999, 9,  -999.00, 9,  -999.00, 9,  -999.00, 9,  -999.00, 9,  15.9953,  -999.00, 9, 1123,   13.5825,  -52.3439
316N200309, A20, 56, 1, 28, 28, 2, 20031013, 0930, 13.5710, -52.3382, 5243,   275.60,    275.6,  13.7922,  35.7886, 2,  35.7872, 2,    115.2, 2,    116.7, 2,     6.38, 2,    19.59, 2,     0.01, 2,     1.16, 2,    1.671, 2,    0.909, 2,    0.020, 2, -999.000, 9,   2183.0, 2,   2340.0, 2,    45.80, 2,    23.30, 2, -999.000, 9, -999.000, -999.0000, 9, -999.0000,  -999.00, 9,  -999.00, -999.000, 9, -999.000,   -999.0, 9,   -999.0,  -999.00, 9, -999.0000, 9, -999.0000, 9, -999.0000, 9, -999.0000, 9, -999.0000, 9, -999.0000, 9, -999, 9, -999, 9, -999, 9, -999, 9, -999, 9, -999, 9, -999, 9,  -999.00, 9,  -999.00, 9,  -999.00, 9,  -999.00, 9,  13.7524,  -999.00, 9, 1122,   13.5823,  -52.3439
316N200309, A20, 56, 1, 27, 27, 2, 20031013, 0930, 13.5710, -52.3382, 5243,   350.70,    350.7,  11.6445,  35.4352, 2,  35.4330, 2,    108.8, 2,    108.1, 2,     9.92, 2,    24.34, 2,     0.01, 2,     1.48, 2,    1.170, 2,    0.623, 2,    0.019, 2, -999.000, 9,   2197.9, 2,   2322.0, 2,    42.50, 2,  -999.00, 9, -999.000, 9, -999.000, -999.0000, 9, -999.0000,  -999.00, 9,  -999.00, -999.000, 9, -999.000,   -999.0, 9,   -999.0,  -999.00, 9, -999.0000, 9, -999.0000, 9, -999.0000, 9, -999.0000, 9, -999.0000, 9, -999.0000, 9, -999, 9, -999, 9, -999, 9, -999, 9, -999, 9, -999, 9, -999, 9,  -999.00, 9,  -999.00, 9,  -999.00, 9,  -999.00, 9,  11.5991,  -999.00, 9, 1119,   13.5821,  -52.3439
316N200309, A20, 56, 1, 26, 26, 2, 20031013, 0930, 13.5710, -52.3382, 5243,   450.30,    450.3,   9.4858,  35.1120, 2,  35.1096, 2,    112.8, 2,    114.8, 2,    14.18, 2,    27.84, 2,     0.01, 2,     1.75, 2,    0.726, 2,    0.397, 2,    0.011, 2, -999.000, 9,   2202.6, 2,   2312.1, 2,    43.60, 2,  -999.00, 9, -999.000, 9, -999.000, -999.0000, 9, -999.0000,  -999.00, 9,  -999.00, -999.000, 9, -999.000,   -999.0, 9,   -999.0,  -999.00, 9, -999.0000, 9, -999.0000, 9, -999.0000, 9, -999.0000, 9, -999.0000, 9, -999.0000, 9, -999, 9, -999, 9, -999, 9, -999, 9, -999, 9, -999, 9, -999, 9,  -999.00, 9,  -999.00, 9,  -999.00, 9,  -999.00, 9,   9.4345,  -999.00, 9, 1117,   13.5817,  -52.3438
316N200309, A20, 56, 1, 25, 25, 2, 20031013, 0930, 13.5710, -52.3382, 5243,   549.70,    549.7,   7.8577,  34.8898, 2,  34.8814, 2,    115.0, 2,    118.1, 2,    18.35, 2,    30.82, 2,     0.01, 2,     1.98, 2,    0.444, 2,    0.241, 2,    0.013, 2, -999.000, 9,   2209.8, 2,   2302.3, 2,    42.10, 2,  -999.00, 9, -999.000, 9, -999.000, -999.0000, 9, -999.0000,  -999.00, 9,  -999.00, -999.000, 9, -999.000,   -999.0, 9,   -999.0,  -999.00, 9, -999.0000, 9, -999.0000, 9, -999.0000, 9, -999.0000, 9, -999.0000, 9, -999.0000, 9, -999, 9, -999, 9, -999, 9, -999, 9, -999, 9, -999, 9, -999, 9,  -999.00, 9,  -999.00, 9,  -999.00, 9,  -999.00, 9,   7.8014,  -999.00, 9, 1114,   13.5815,  -52.3438
316N200309, A20, 56, 1, 24, 24, 2, 20031013, 0930, 13.5710, -52.3382, 5243,   673.50,    673.5,   6.5851,  34.7479, 2,  34.7473, 2,    120.7, 2,    118.8, 2,    22.62, 2,    33.23, 2,     0.01, 2,     2.18, 2,    0.164, 2,    0.082, 2,    0.001, 2, -999.000, 9,   2219.2, 2,   2303.0, 2,  -999.00, 5,  -999.00, 9, -999.000, 9, -999.000, -999.0000, 9, -999.0000,  -999.00, 9,  -999.00, -999.000, 9, -999.000,   -999.0, 9,   -999.0,  -999.00, 9, -999.0000, 9, -999.0000, 9, -999.0000, 9, -999.0000, 9, -999.0000, 9, -999.0000, 9, -999, 9, -999, 9, -999, 9, -999, 9, -999, 9, -999, 9, -999, 9,  -999.00, 9,  -999.00, 9,  -999.00, 9,  -999.00, 9,   6.5223,  -999.00, 9, 1111,   13.5811,  -52.3438
316N200309, A20, 56, 1, 23, 23, 2, 20031013, 0930, 13.5710, -52.3382, 5243,   774.80,    774.8,   5.9124,  34.7249, 2,  34.7262, 2,    131.2, 2,    130.9, 2,    24.90, 2,    32.94, 2,     0.00, 2,     2.18, 2,    0.094, 2,    0.059, 2,    0.007, 2, -999.000, 9,   2219.3, 2,   2304.1, 2,    39.30, 2,  -999.00, 9, -999.000, 9, -999.000, -999.0000, 9, -999.0000,  -999.00, 9,  -999.00, -999.000, 9, -999.000,   -999.0, 9,   -999.0,  -999.00, 9, -999.0000, 9, -999.0000, 9, -999.0000, 9, -999.0000, 9, -999.0000, 9, -999.0000, 9, -999, 9, -999, 9, -999, 9, -999, 9, -999, 9, -999, 9, -999, 9,  -999.00, 9,  -999.00, 9,  -999.00, 9,  -999.00, 9,   5.8435,  -999.00, 9, 1108,   13.5808,  -52.3437
316N200309, A20, 56, 1, 22, 22, 2, 20031013, 0930, 13.5710, -52.3382, 5243,   875.40,    875.4,   5.5149,  34.7339, 2,  34.7333, 2,    136.6, 2,    137.1, 2,    25.84, 2,    32.56, 2,     0.00, 2,     2.17, 2,    0.046, 2,    0.031, 2,    0.001, 2, -999.000, 9,   2219.0, 2,   2306.5, 2,    40.40, 2,  -999.00, 9, -999.000, 9, -999.000, -999.0000, 9, -999.0000,  -999.00, 9,  -999.00, -999.000, 9, -999.000,   -999.0, 9,   -999.0,  -999.00, 9, -999.0000, 9, -999.0000, 9, -999.0000, 9, -999.0000, 9, -999.0000, 9, -999.0000, 9, -999, 9, -999, 9, -999, 9, -999, 9, -999, 9, -999, 9, -999, 9,  -999.00, 9,  -999.00, 9,  -999.00, 9,  -999.00, 9,   5.4390,  -999.00, 9, 1106,   13.5805,  -52.3436
316N200309, A20, 56, 1, 21, 21, 2, 20031013, 0930, 13.5710, -52.3382, 5243,   975.00,    975.0,   5.3598,  34.7966, 2,  34.7976, 2,    149.2, 2,    148.9, 2,    25.01, 2,    30.86, 2,     0.00, 2,     2.06, 2,    0.053, 2,    0.035, 2,    0.001, 2, -999.000, 9,   2215.3, 2,   2308.7, 2,    39.50, 2,  -999.00, 9, -999.000, 9, -999.000, -999.0000, 9, -999.0000,  -999.00, 9,  -999.00, -999.000, 9, -999.000,   -999.0, 9,   -999.0,  -999.00, 9, -999.0000, 9, -999.0000, 9, -999.0000, 9, -999.0000, 9, -999.0000, 9, -999.0000, 9, -999, 9, -999, 9, -999, 9, -999, 9, -999, 9, -999, 9, -999, 9,  -999.00, 9,  -999.00, 9,  -999.00, 9,  -999.00, 9,   5.2756,  -999.00, 9, 1103,   13.5802,  -52.3435
316N200309, A20, 56, 1, 20, 20, 2, 20031013, 0930, 13.5710, -52.3382, 5243,  1126.00,   1126.0,   5.1893,  34.9072, 2,  34.9063, 2,    173.0, 2,    175.0, 2,    21.78, 2,    27.05, 2,     0.01, 2,     1.81, 2,    0.100, 2,    0.047, 2,    0.002, 2, -999.000, 9,   2200.6, 2,   2313.3, 2,    40.40, 2,  -999.00, 9, -999.000, 9, -999.000, -999.0000, 9, -999.0000,  -999.00, 9,  -999.00, -999.000, 9, -999.000,   -999.0, 9,   -999.0,  -999.00, 9, -999.0000, 9, -999.0000, 9, -999.0000, 9, -999.0000, 9, -999.0000, 9, -999.0000, 9, -999, 9, -999, 9, -999, 9, -999, 9, -999, 9, -999, 9, -999, 9,  -999.00, 9,  -999.00, 9,  -999.00, 9,  -999.00, 9,   5.0921,  -999.00, 9, 1100,   13.5798,  -52.3434
316N200309, A20, 56, 1, 19, 19, 2, 20031013, 0930, 13.5710, -52.3382, 5243,  1274.20,   1274.2,   5.0196,  34.9790, 2,  34.9799, 2,    202.2, 2,    200.9, 2,    18.55, 2,    23.56, 2,     0.01, 2,     1.56, 2,    0.246, 2,    0.135, 2,    0.014, 2, -999.000, 9,   2187.3, 2,   2313.5, 2,  -999.00, 9,  -999.00, 9, -999.000, 9, -999.000, -999.0000, 9, -999.0000,  -999.00, 9,  -999.00, -999.000, 9, -999.000,   -999.0, 9,   -999.0,  -999.00, 9, -999.0000, 9, -999.0000, 9, -999.0000, 9, -999.0000, 9, -999.0000, 9, -999.0000, 9, -999, 9, -999, 9, -999, 9, -999, 9, -999, 9, -999, 9, -999, 9,  -999.00, 9,  -999.00, 9,  -999.00, 9,  -999.00, 9,   4.9098,  -999.00, 9, 1056,   13.5794,  -52.3433
316N200309, A20, 56, 1, 18, 18, 2, 20031013, 0930, 13.5710, -52.3382, 5243,  1400.60,   1400.6,   4.6571,  35.0063, 2,  35.0067, 2,    225.7, 2,    226.9, 2,    15.95, 2,    20.94, 2,     0.00, 2,     1.39, 2,    0.370, 6,    0.199, 6,    0.017, 2,    0.717, 2,   2175.5, 2,   2314.4, 2,  -999.00, 9,  -999.00, 9, -999.000, 9, -999.000, -999.0000, 9, -999.0000,  -999.00, 9,  -999.00, -999.000, 9, -999.000,   -999.0, 9,   -999.0,  -999.00, 9, -999.0000, 9, -999.0000, 9, -999.0000, 9, -999.0000, 9, -999.0000, 9, -999.0000, 9, -999, 9, -999, 9, -999, 9, -999, 9, -999, 9, -999, 9, -999, 9,  -999.00, 9,  -999.00, 9,  -999.00, 9,  -999.00, 9,   4.5389,  -999.00, 9, 1053,   13.5791,  -52.3433
316N200309, A20, 56, 1, 17, 17, 2, 20031013, 0930, 13.5710, -52.3382, 5243,  1500.40,   1500.4,   4.4541,  35.0076, 2,  35.0059, 2,    237.7, 2,    237.7, 2,    15.03, 2,    19.94, 2,     0.00, 2,     1.32, 2,    0.486, 2,    0.244, 2,    0.021, 2, -999.000, 9,   2169.9, 2,   2312.6, 2,    41.20, 2,  -999.00, 9, -999.000, 9, -999.000, -999.0000, 9, -999.0000,  -999.00, 9,  -999.00, -999.000, 9, -999.000,   -999.0, 9,   -999.0,  -999.00, 9, -999.0000, 9, -999.0000, 9, -999.0000, 9, -999.0000, 9, -999.0000, 9, -999.0000, 9, -999, 9, -999, 9, -999, 9, -999, 9, -999, 9, -999, 9, -999, 9,  -999.00, 9,  -999.00, 9,  -999.00, 9,  -999.00, 9,   4.3287,  -999.00, 9, 1051,   13.5788,  -52.3432
316N200309, A20, 56, 1, 16, 16, 2, 20031013, 0930, 13.5710, -52.3382, 5243,  1625.20,   1625.2,   4.1624,  34.9986, 2,  34.9988, 2,    248.1, 2,    248.6, 2,    14.30, 2,    19.08, 2,     0.00, 2,     1.26, 2,    0.551, 2,    0.280, 2,    0.024, 2, -999.000, 9,   2164.8, 2,   2311.9, 2,  -999.00, 9,  -999.00, 9, -999.000, 9, -999.000, -999.0000, 9, -999.0000,  -999.00, 9,  -999.00, -999.000, 9, -999.000,   -999.0, 9,   -999.0,  -999.00, 9, -999.0000, 9, -999.0000, 9, -999.0000, 9, -999.0000, 9, -999.0000, 9, -999.0000, 9, -999, 9, -999, 9, -999, 9, -999, 9, -999, 9, -999, 9, -999, 9,  -999.00, 9,  -999.00, 9,  -999.00, 9,  -999.00, 9,   4.0286,  -999.00, 9, 1048,   13.5784,  -52.3431
316N200309, A20, 56, 1, 15, 15, 2, 20031013, 0930, 13.5710, -52.3382, 5243,  1874.90,   1874.9,   3.7037,  34.9812, 2,  34.9795, 2,    256.6, 2,    257.3, 2,    15.75, 2,    18.60, 2,     0.00, 2,     1.23, 2,    0.476, 2,    0.240, 2,    0.020, 2, -999.000, 9,   2162.0, 2,   2314.1, 2,    39.70, 2,  -999.00, 9, -999.000, 9, -999.000, -999.0000, 9, -999.0000,  -999.00, 9,  -999.00, -999.000, 9, -999.000,   -999.0, 9,   -999.0,  -999.00, 9, -999.0000, 9, -999.0000, 9, -999.0000, 9, -999.0000, 9, -999.0000, 9, -999.0000, 9, -999, 9, -999, 9, -999, 9, -999, 9, -999, 9, -999, 9, -999, 9,  -999.00, 9,  -999.00, 9,  -999.00, 9,  -999.00, 9,   3.5524,  -999.00, 9, 1043,   13.5778,  -52.3430
316N200309, A20, 56, 1, 14, 14, 2, 20031013, 0930, 13.5710, -52.3382, 5243,  2124.90,   2124.9,   3.3745,  34.9693, 2,  34.9709, 2,    258.5, 2,    258.4, 2,    18.66, 2,    18.74, 2,     0.00, 2,     1.24, 2,    0.267, 2,    0.138, 2,    0.013, 2, -999.000, 9,   2163.6, 2,   2315.6, 2,    40.00, 2,  -999.00, 9, -999.000, 9, -999.000, -999.0000, 9, -999.0000,  -999.00, 9,  -999.00, -999.000, 9, -999.000,   -999.0, 9,   -999.0,  -999.00, 9, -999.0000, 9, -999.0000, 9, -999.0000, 9, -999.0000, 9, -999.0000, 9, -999.0000, 9, -999, 9, -999, 9, -999, 9, -999, 9, -999, 9, -999, 9, -999, 9,  -999.00, 9,  -999.00, 9,  -999.00, 9,  -999.00, 9,   3.2044,  -999.00, 9, 1038,   13.5772,  -52.3428
316N200309, A20, 56, 1, 13, 13, 2, 20031013, 0930, 13.5710, -52.3382, 5243,  2374.60,   2374.6,   3.0894,  34.9539, 2,  34.9540, 2,    256.2, 2,    256.2, 2,    23.24, 2,    19.26, 2,     0.00, 2,     1.28, 2,    0.129, 2,    0.076, 2,    0.008, 2, -999.000, 9,   2164.9, 2,   2319.5, 2,  -999.00, 9,  -999.00, 9, -999.000, 9, -999.000, -999.0000, 9, -999.0000,  -999.00, 9,  -999.00, -999.000, 9, -999.000,   -999.0, 9,   -999.0,  -999.00, 9, -999.0000, 9, -999.0000, 9, -999.0000, 9, -999.0000, 9, -999.0000, 9, -999.0000, 9, -999, 9, -999, 9, -999, 9, -999, 9, -999, 9, -999, 9, -999, 9,  -999.00, 9,  -999.00, 9,  -999.00, 9,  -999.00, 9,   2.9001,  -999.00, 9, 1033,   13.5767,  -52.3426
316N200309, A20, 56, 1, 12, 12, 2, 20031013, 0930, 13.5710, -52.3382, 5243,  2624.90,   2624.9,   2.8976,  34.9414, 2,  34.9398, 2,    255.8, 2,    256.5, 2,    26.04, 2,    19.49, 2,     0.00, 2,     1.31, 2,    0.153, 2,    0.085, 2,    0.013, 2, -999.000, 9,   2176.0, 2,   2322.7, 2,  -999.00, 9,  -999.00, 9, -999.000, 9, -999.000, -999.0000, 9, -999.0000,  -999.00, 9,  -999.00, -999.000, 9, -999.000,   -999.0, 9,   -999.0,  -999.00, 9, -999.0000, 9, -999.0000, 9, -999.0000, 9, -999.0000, 9, -999.0000, 9, -999.0000, 9, -999, 9, -999, 9, -999, 9, -999, 9, -999, 9, -999, 9, -999, 9,  -999.00, 9,  -999.00, 9,  -999.00, 9,  -999.00, 9,   2.6873,  -999.00, 9, 1028,   13.5761,  -52.3424
316N200309, A20, 56, 1, 11, 11, 2, 20031013, 0930, 13.5710, -52.3382, 5243,  2873.60,   2873.6,   2.7680,  34.9319, 2,  34.9303, 2,    253.9, 2,    253.3, 2,    29.79, 2,    19.96, 2,     0.00, 2,     1.34, 2,    0.087, 2,    0.055, 2,    0.008, 2, -999.000, 9,   2176.4, 2,   2326.8, 2,    40.10, 2,  -999.00, 9, -999.000, 9, -999.000, -999.0000, 9, -999.0000,  -999.00, 9,  -999.00, -999.000, 9, -999.000,   -999.0, 9,   -999.0,  -999.00, 9, -999.0000, 9, -999.0000, 9, -999.0000, 9, -999.0000, 9, -999.0000, 9, -999.0000, 9, -999, 9, -999, 9, -999, 9, -999, 9, -999, 9, -999, 9, -999, 9,  -999.00, 9,  -999.00, 9,  -999.00, 9,  -999.00, 9,   2.5353,  -999.00, 9, 1023,   13.5755,  -52.3422