BOTTLE,20220816CCHSIOAMB
EXPOCODE,SECT_ID,STNNBR,CASTNO,SAMPNO,BTLNBR,BTLNBR_FLAG_W,DATE,TIME,LATITUDE,LONGITUDE,DEPTH,CTDRAW,CTDPRS,CTDTMP,CTDSAL,CTDSAL_FLAG_W,SALNTY,SALNTY_FLAG_W,CTDOXY,CTDOXY_FLAG_W,OXYGEN,OXYGEN_FLAG_W,SILCAT,SILCAT_FLAG_W,NITRAT,NITRAT_FLAG_W,NITRIT,NITRIT_FLAG_W,PHSPHT,PHSPHT_FLAG_W,CFC-11,CFC-11_FLAG_W,CFC-12,CFC-12_FLAG_W,CFC113,CFC113_FLAG_W,CCL4,CCL4_FLAG_W,TCARBN,TCARBN_FLAG_W,ALKALI,ALKALI_FLAG_W,DOC,DOC_FLAG_W,TDN,TDN_FLAG_W,TRITUM,TRITUM_FLAG_W,TRITER,HELIUM,HELIUM_FLAG_W,HELIER,DELHE3,DELHE3_FLAG_W,DELHER,NEON,NEON_FLAG_W,NEONER,DELC14,DELC14_FLAG_W,C14ERR,DELC13,DELC13_FLAG_W,CDOM325,CDOM325_FLAG_W,CDOM340,CDOM340_FLAG_W,CDOM380,CDOM380_FLAG_W,CDOM412,CDOM412_FLAG_W,CDOMSL,CDOMSL_FLAG_W,CDOMSN,CDOMSN_FLAG_W,DCNS,DCNS_FLAG_W,ARABI,ARABI_FLAG_W,FUCO,FUCO_FLAG_W,GALA,GALA_FLAG_W,GLUC,GLUC_FLAG_W,MAN,MAN_FLAG_W,RHAM,RHAM_FLAG_W,BRDU,BRDU_FLAG_W,PEUK,PEUK_FLAG_W,PROC,PROC_FLAG_W,SYN,SYN_FLAG_W,THETA,BACT,BACT_FLAG_W,BTL_TIME,BTL_LAT,BTL_LON
,,,,,,,,,,,METERS,DBAR,DBAR,ITS-90,PSS-78,,PSS-78,,UMOL/KG,,UMOL/KG,,UMOL/KG,,UMOL/KG,,UMOL/KG,,UMOL/KG,,PMOL/KG,,PMOL/KG,,PMOL/KG,,PMOL/KG,,UMOL/KG,,UMOL/KG,,UMOL/KG,,UMOL/KG,,TU,,TU,NMOL/KG,,NMOL/KG,PERCNT,,PERCNT,NMOL/KG,,NMOL/KG,/MILLE,,/MILLE,/MILLE,,1/M,,1/M,,1/M,,1/M,,1/NM,,1/NM,,NMOL/KG,,NMOL/KG,,NMOL/KG,,NMOL/KG,,NMOL/KG,,NMOL/KG,,NMOL/KG,,PMOL/L/H,,E6/L,,E7/L,,E6/L,,DEG C,E8/L,,,,
316N200309, A20, 41, 1, 36, 36, 2, 20031008, 1917, 23.4993, -52.3750, 5445,     9.80,      9.8,  28.3966,  37.3200, 2,  37.3224, 2,    192.5, 2,    198.1, 2,     0.89, 2,     0.19, 2,     0.00, 2,     0.02, 2,    1.586, 2,    0.951, 2,    0.087, 2,    1.709, 2,   2056.6, 2,   2438.2, 2,  -999.00, 9,  -999.00, 9, -999.000, 9, -999.000, -999.0000, 9, -999.0000,  -999.00, 9,  -999.00, -999.000, 9, -999.000,     89.1, 2,      3.7,     1.53, 2,    0.0290, 2,    0.0150, 2,    0.0000, 4,   -0.0010, 4,    0.0450, 2,    0.0150, 2, -999, 9, -999, 9, -999, 9, -999, 9, -999, 9, -999, 9, -999, 9,  -999.00, 9,  -999.00, 9,  -999.00, 9,  -999.00, 9,  28.3942,  -999.00, 9, 2132,   23.4858,  -52.4055
316N200309, A20, 41, 1, 35, 35, 2, 20031008, 1917, 23.4993, -52.3750, 5445,    27.10,     27.1,  28.2164,  37.3859, 2,  37.3831, 2,    192.5, 2,    198.2, 2,     0.77, 2,     0.14, 2,     0.00, 2,     0.02, 2,    1.583, 2,    0.964, 2,    0.090, 2,    1.659, 2,   2059.2, 2,   2442.6, 2,  -999.00, 9,  -999.00, 9, -999.000, 9, -999.000, -999.0000, 9, -999.0000,  -999.00, 9,  -999.00, -999.000, 9, -999.000,   -999.0, 9,   -999.0,  -999.00, 9,    0.0310, 2,    0.0170, 2,    0.0020, 2,    0.0010, 2,    0.0410, 2,    0.0180, 2, -999, 9, -999, 9, -999, 9, -999, 9, -999, 9, -999, 9, -999, 9,  -999.00, 9,  -999.00, 9,  -999.00, 9,  -999.00, 9,  28.2099,  -999.00, 9, 2130,   23.4860,  -52.4050
316N200309, A20, 41, 1, 34, 34, 2, 20031008, 1917, 23.4993, -52.3750, 5445,    51.20,     51.2,  28.1952,  37.3958, 2,  37.4034, 2,    194.4, 2,    198.0, 2,     0.86, 2,     0.04, 2,     0.00, 2,     0.02, 2,    1.575, 2,    0.983, 2,    0.100, 2,    1.574, 2,   2061.2, 2,   2443.0, 2,  -999.00, 9,  -999.00, 9, -999.000, 9, -999.000, -999.0000, 9, -999.0000,  -999.00, 9,  -999.00, -999.000, 9, -999.000,   -999.0, 9,   -999.0,  -999.00, 9,    0.0310, 2,    0.0170, 2,    0.0020, 2,    0.0010, 2,    0.0450, 2,    0.0190, 2, -999, 9, -999, 9, -999, 9, -999, 9, -999, 9, -999, 9, -999, 9,  -999.00, 9,  -999.00, 9,  -999.00, 9,  -999.00, 9,  28.1830,  -999.00, 9, 2129,   23.4861,  -52.4047
316N200309, A20, 41, 1, 33, 33, 2, 20031008, 1917, 23.4993, -52.3750, 5445,    75.60,     75.6,  27.0182,  37.2837, 2,  37.2932, 2,    206.5, 2,    209.6, 2,     0.74, 2,     0.09, 2,     0.00, 2,     0.02, 2,    1.712, 2,    1.038, 2,    0.091, 2,    1.338, 2,   2058.8, 2,   2437.2, 2,  -999.00, 9,  -999.00, 9, -999.000, 9, -999.000, -999.0000, 9, -999.0000,  -999.00, 9,  -999.00, -999.000, 9, -999.000,   -999.0, 9,   -999.0,  -999.00, 9,    0.0650, 2,    0.0410, 2,    0.0130, 2,    0.0080, 2,    0.0310, 2,    0.0310, 2, -999, 9, -999, 9, -999, 9, -999, 9, -999, 9, -999, 9, -999, 9,  -999.00, 9,  -999.00, 9,  -999.00, 9,  -999.00, 9,  27.0007,  -999.00, 9, 2127,   23.4862,  -52.4043
316N200309, A20, 41, 1, 32, 32, 2, 20031008, 1917, 23.4993, -52.3750, 5445,   100.10,    100.1,  24.6150,  37.1222, 2,  37.1231, 2,    213.0, 2,    217.1, 2,     0.62, 2,     0.09, 2,     0.00, 2,     0.02, 2,    1.882, 2,    1.189, 2,    0.100, 2,    1.047, 2,   2060.2, 2,   2424.1, 2,  -999.00, 9,  -999.00, 9, -999.000, 9, -999.000, -999.0000, 9, -999.0000,  -999.00, 9,  -999.00, -999.000, 9, -999.000,   -999.0, 9,   -999.0,  -999.00, 9,    0.1130, 2,    0.0750, 2,    0.0270, 2,    0.0170, 2,    0.0270, 2,    0.0270, 2, -999, 9, -999, 9, -999, 9, -999, 9, -999, 9, -999, 9, -999, 9,  -999.00, 9,  -999.00, 9,  -999.00, 9,  -999.00, 9,  24.5934,  -999.00, 9, 2126,   23.4863,  -52.4040
316N200309, A20, 41, 1, 31, 31, 2, 20031008, 1917, 23.4993, -52.3750, 5445,   125.30,    125.3,  23.7604,  37.1012, 2,  37.1082, 2,    207.1, 2,    211.2, 2,     0.51, 2,     0.08, 2,     0.00, 2,     0.02, 2,    1.922, 2,    1.172, 2,    0.118, 2,    1.006, 2,   2070.8, 2,   2423.2, 2,  -999.00, 9,  -999.00, 9, -999.000, 9, -999.000, -999.0000, 9, -999.0000,  -999.00, 9,  -999.00, -999.000, 9, -999.000,   -999.0, 9,   -999.0,  -999.00, 9,    0.1140, 2,    0.0780, 2,    0.0310, 2,    0.0210, 2,    0.0240, 2,    0.0250, 2, -999, 9, -999, 9, -999, 9, -999, 9, -999, 9, -999, 9, -999, 9,  -999.00, 9,  -999.00, 9,  -999.00, 9,  -999.00, 9,  23.7339,  -999.00, 9, 2125,   23.4864,  -52.4037
316N200309, A20, 41, 1, 30, 30, 2, 20031008, 1917, 23.4993, -52.3750, 5445,   179.30,    179.3,  20.7294,  36.8441, 2,  36.8429, 2,    191.1, 2,    190.9, 2,     0.60, 2,     0.76, 2,     0.02, 2,     0.03, 2,    2.129, 2,    1.316, 2,    0.083, 2,    0.685, 2,   2101.5, 2,   2403.0, 2,  -999.00, 9,  -999.00, 9, -999.000, 9, -999.000, -999.0000, 9, -999.0000,  -999.00, 9,  -999.00, -999.000, 9, -999.000,   -999.0, 9,   -999.0,  -999.00, 9, -999.0000, 9, -999.0000, 9, -999.0000, 9, -999.0000, 9, -999.0000, 9, -999.0000, 9, -999, 9, -999, 9, -999, 9, -999, 9, -999, 9, -999, 9, -999, 9,  -999.00, 9,  -999.00, 9,  -999.00, 9,  -999.00, 9,  20.6951,  -999.00, 9, 2123,   23.4866,  -52.4032
316N200309, A20, 41, 1, 29, 29, 2, 20031008, 1917, 23.4993, -52.3750, 5445,   232.80,    232.8,  19.3182,  36.6783, 2,  36.6798, 2,    186.5, 2,    189.0, 2,     0.79, 2,     2.26, 2,     0.01, 2,     0.08, 2,    2.232, 2,    1.344, 2,    0.024, 2,    0.337, 2,   2104.7, 2,   2393.4, 2,  -999.00, 9,  -999.00, 9, -999.000, 9, -999.000, -999.0000, 9, -999.0000,  -999.00, 9,  -999.00, -999.000, 9, -999.000,   -999.0, 9,   -999.0,  -999.00, 9,    0.0880, 2,    0.0640, 2,    0.0300, 2,    0.0230, 2,    0.0200, 2,    0.0210, 2, -999, 9, -999, 9, -999, 9, -999, 9, -999, 9, -999, 9, -999, 9,  -999.00, 9,  -999.00, 9,  -999.00, 9,  -999.00, 9,  19.2757,  -999.00, 9, 2121,   23.4867,  -52.4026
316N200309, A20, 41, 1, 28, 28, 2, 20031008, 1917, 23.4993, -52.3750, 5445,   276.30,    276.3,  18.4965,  36.5748, 2,  36.5767, 2,    191.3, 2,    194.2, 2,     1.19, 2,     3.85, 2,     0.01, 2,     0.18, 2,    2.307, 2,    1.359, 2,    0.009, 2,    0.354, 2,   2102.1, 2,   2387.0, 2,  -999.00, 9,  -999.00, 9, -999.000, 9, -999.000, -999.0000, 9, -999.0000,  -999.00, 9,  -999.00, -999.000, 9, -999.000,   -999.0, 9,   -999.0,  -999.00, 9, -999.0000, 9, -999.0000, 9, -999.0000, 9, -999.0000, 9, -999.0000, 9, -999.0000, 9, -999, 9, -999, 9, -999, 9, -999, 9, -999, 9, -999, 9, -999, 9,  -999.00, 9,  -999.00, 9,  -999.00, 9,  -999.00, 9,  18.4476,  -999.00, 9, 2119,   23.4869,  -52.4022
316N200309, A20, 41, 1, 27, 27, 2, 20031008, 1917, 23.4993, -52.3750, 5445,   352.70,    352.7,  17.8628,  36.4952, 2,  36.4972, 2,    190.2, 2,    192.4, 2,     1.48, 2,     5.20, 2,     0.00, 2,     0.26, 2,    2.264, 2,    1.351, 2,    0.011, 2,    0.375, 2,   2108.2, 2,   2382.5, 2,  -999.00, 9,  -999.00, 9, -999.000, 9, -999.000, -999.0000, 9, -999.0000,  -999.00, 9,  -999.00, -999.000, 9, -999.000,   -999.0, 9,   -999.0,  -999.00, 9,    0.0740, 2,    0.0530, 2,    0.0230, 2,    0.0170, 2,    0.0220, 2,    0.0220, 2, -999, 9, -999, 9, -999, 9, -999, 9, -999, 9, -999, 9, -999, 9,  -999.00, 9,  -999.00, 9,  -999.00, 9,  -999.00, 9,  17.8018,  -999.00, 9, 2117,   23.4872,  -52.4016
316N200309, A20, 41, 1, 26, 26, 2, 20031008, 1917, 23.4993, -52.3750, 5445,   452.90,    452.9,  16.6484,  36.3019, 2,  36.3071, 2,    183.8, 2,    185.2, 2,     2.41, 2,     7.87, 2,     0.00, 2,     0.43, 2,    2.274, 2,    1.296, 2,    0.017, 2,    0.429, 2,   2120.7, 2,   2371.8, 2,  -999.00, 9,  -999.00, 9, -999.000, 9, -999.000, -999.0000, 9, -999.0000,  -999.00, 9,  -999.00, -999.000, 9, -999.000,   -999.0, 9,   -999.0,  -999.00, 9,    0.0780, 2,    0.0550, 2,    0.0240, 2,    0.0170, 2,    0.0220, 2,    0.0220, 2, -999, 9, -999, 9, -999, 9, -999, 9, -999, 9, -999, 9, -999, 9,  -999.00, 9,  -999.00, 9,  -999.00, 9,  -999.00, 9,  16.5735,  -999.00, 9, 2114,   23.4876,  -52.4009
316N200309, A20, 41, 1, 25, 25, 2, 20031008, 1917, 23.4993, -52.3750, 5445,   574.20,    574.2,  14.0653,  35.8919, 2,  35.8957, 2,    166.7, 2,    166.7, 2,     4.90, 2,    13.67, 2,     0.00, 2,     0.80, 2,    1.992, 2,    1.063, 2,    0.014, 2,    0.363, 2,   2147.3, 2,   2349.1, 2,  -999.00, 9,  -999.00, 9, -999.000, 9, -999.000, -999.0000, 9, -999.0000,  -999.00, 9,  -999.00, -999.000, 9, -999.000,   -999.0, 9,   -999.0,  -999.00, 9,    0.0920, 2,    0.0660, 2,    0.0310, 2,    0.0210, 2,    0.0200, 2,    0.0210, 2, -999, 9, -999, 9, -999, 9, -999, 9, -999, 9, -999, 9, -999, 9,  -999.00, 9,  -999.00, 9,  -999.00, 9,  -999.00, 9,  13.9804,  -999.00, 9, 2111,   23.4880,  -52.4001
316N200309, A20, 41, 1, 24, 24, 2, 20031008, 1917, 23.4993, -52.3750, 5445,   702.00,    702.0,  11.8193,  35.5806, 2,  35.5827, 2,    158.3, 2,    157.7, 2,     8.02, 2,    18.29, 2,     0.00, 2,     1.10, 2,    1.419, 2,    0.728, 2,    0.008, 2,    0.316, 2,   2164.8, 2,   2333.9, 2,  -999.00, 9,  -999.00, 9, -999.000, 9, -999.000, -999.0000, 9, -999.0000,  -999.00, 9,  -999.00, -999.000, 9, -999.000,   -999.0, 9,   -999.0,  -999.00, 9, -999.0000, 9, -999.0000, 9, -999.0000, 9, -999.0000, 9, -999.0000, 9, -999.0000, 9, -999, 9, -999, 9, -999, 9, -999, 9, -999, 9, -999, 9, -999, 9,  -999.00, 9,  -999.00, 9,  -999.00, 9,  -999.00, 9,  11.7262,  -999.00, 9, 2107,   23.4884,  -52.3993
316N200309, A20, 41, 1, 23, 23, 2, 20031008, 1917, 23.4993, -52.3750, 5445,   875.00,    875.0,   8.3808,  35.1561, 2,  35.1579, 2,    142.3, 2,    141.9, 2,    16.14, 2,    25.79, 2,     0.00, 2,     1.65, 2,    0.334, 2,    0.186, 2,    0.001, 2,    0.164, 2,   2193.2, 2,   2318.6, 2,  -999.00, 9,  -999.00, 9, -999.000, 9, -999.000, -999.0000, 9, -999.0000,  -999.00, 9,  -999.00, -999.000, 9, -999.000,   -999.0, 9,   -999.0,  -999.00, 9,    0.1030, 2,    0.0730, 2,    0.0360, 2,    0.0240, 2,    0.0190, 2,    0.0200, 2, -999, 9, -999, 9, -999, 9, -999, 9, -999, 9, -999, 9, -999, 9,  -999.00, 9,  -999.00, 9,  -999.00, 9,  -999.00, 9,   8.2857,  -999.00, 9, 2103,   23.4887,  -52.3982
316N200309, A20, 41, 1, 22, 22, 2, 20031008, 1917, 23.4993, -52.3750, 5445,  1001.40,   1001.4,   6.9192,  35.0256, 2,  35.0266, 2,    153.7, 2,    154.5, 2,    18.74, 2,    26.59, 2,     0.00, 2,     1.74, 2,    0.194, 2,    0.103, 2,    0.002, 2,    0.171, 2,   2196.5, 2,   2316.2, 2,  -999.00, 9,  -999.00, 9, -999.000, 9, -999.000, -999.0000, 9, -999.0000,  -999.00, 9,  -999.00, -999.000, 9, -999.000,   -999.0, 9,   -999.0,  -999.00, 9,    0.1080, 2,    0.0760, 2,    0.0380, 2,    0.0260, 2,    0.0180, 2,    0.0190, 2, -999, 9, -999, 9, -999, 9, -999, 9, -999, 9, -999, 9, -999, 9,  -999.00, 9,  -999.00, 9,  -999.00, 9,  -999.00, 9,   6.8205,  -999.00, 9, 2059,   23.4891,  -52.3973
316N200309, A20, 41, 1, 21, 21, 2, 20031008, 1917, 23.4993, -52.3750, 5445,  1125.10,   1125.1,   6.1071,  35.0467, 2,  35.0468, 2,    188.2, 2,    187.5, 2,    16.84, 2,    23.50, 2,     0.00, 2,     1.54, 2,    0.359, 2,    0.184, 2,    0.003, 2,    0.404, 2,   2184.7, 2,   2314.3, 2,  -999.00, 9,  -999.00, 9, -999.000, 9, -999.000, -999.0000, 9, -999.0000,  -999.00, 9,  -999.00, -999.000, 9, -999.000,   -999.0, 9,   -999.0,  -999.00, 9, -999.0000, 9, -999.0000, 9, -999.0000, 9, -999.0000, 9, -999.0000, 9, -999.0000, 9, -999, 9, -999, 9, -999, 9, -999, 9, -999, 9, -999, 9, -999, 9,  -999.00, 9,  -999.00, 9,  -999.00, 9,  -999.00, 9,   6.0020,  -999.00, 9, 2056,   23.4895,  -52.3965
316N200309, A20, 41, 1, 20, 20, 2, 20031008, 1917, 23.4993, -52.3750, 5445,  1277.80,   1277.8,   5.3894,  35.0513, 2,  35.0504, 2,    213.6, 2,    214.1, 2,    15.27, 2,    21.22, 2,     0.00, 2,     1.40, 2,    0.466, 2,    0.233, 2,    0.009, 2,    0.673, 2,   2175.3, 2,   2313.5, 2,  -999.00, 9,  -999.00, 9, -999.000, 9, -999.000, -999.0000, 9, -999.0000,  -999.00, 9,  -999.00, -999.000, 9, -999.000,   -999.0, 9,   -999.0,  -999.00, 9, -999.0000, 9, -999.0000, 9, -999.0000, 9, -999.0000, 9, -999.0000, 9, -999.0000, 9, -999, 9, -999, 9, -999, 9, -999, 9, -999, 9, -999, 9, -999, 9,  -999.00, 9,  -999.00, 9,  -999.00, 9,  -999.00, 9,   5.2756,  -999.00, 9, 2052,   23.4898,  -52.3956
316N200309, A20, 41, 1, 19, 19, 2, 20031008, 1917, 23.4993, -52.3750, 5445,  1401.30,   1401.3,   4.9769,  35.0495, 2,  35.0502, 2,    227.4, 2,    226.9, 2,    15.04, 2,    20.37, 2,     0.00, 2,     1.34, 2,    0.340, 2,    0.187, 2,    0.005, 2,    0.677, 2,   2170.4, 2,   2314.7, 2,  -999.00, 9,  -999.00, 9, -999.000, 9, -999.000, -999.0000, 9, -999.0000,  -999.00, 9,  -999.00, -999.000, 9, -999.000,   -999.0, 9,   -999.0,  -999.00, 9, -999.0000, 9, -999.0000, 9, -999.0000, 9, -999.0000, 9, -999.0000, 9, -999.0000, 9, -999, 9, -999, 9, -999, 9, -999, 9, -999, 9, -999, 9, -999, 9,  -999.00, 9,  -999.00, 9,  -999.00, 9,  -999.00, 9,   4.8551,  -999.00, 9, 2049,   23.4902,  -52.3947
316N200309, A20, 41, 1, 18, 18, 2, 20031008, 1917, 23.4993, -52.3750, 5445,  1502.20,   1502.2,   4.6693,  35.0392, 2,  35.0392, 2,    232.2, 2,    232.7, 2,    15.65, 2,    20.12, 2,     0.00, 2,     1.33, 2,    0.202, 2,    0.113, 2,    0.005, 2,    0.545, 2,   2168.3, 2,   2315.0, 2,  -999.00, 9,  -999.00, 9, -999.000, 9, -999.000, -999.0000, 9, -999.0000,  -999.00, 9,  -999.00, -999.000, 9, -999.000,   -999.0, 9,   -999.0,  -999.00, 9, -999.0000, 9, -999.0000, 9, -999.0000, 9, -999.0000, 9, -999.0000, 9, -999.0000, 9, -999, 9, -999, 9, -999, 9, -999, 9, -999, 9, -999, 9, -999, 9,  -999.00, 9,  -999.00, 9,  -999.00, 9,  -999.00, 9,   4.5412,  -999.00, 9, 2046,   23.4905,  -52.3941
316N200309, A20, 41, 1, 17, 17, 2, 20031008, 1917, 23.4993, -52.3750, 5445,  1627.40,   1627.4,   4.4850,  35.0468, 2,  35.0470, 2,    242.4, 2,    240.8, 2,    15.43, 2,    19.46, 2,     0.00, 2,     1.28, 2,    0.239, 2,    0.132, 2,    0.004, 2,    0.625, 2,   2164.7, 2,   2315.6, 2,  -999.00, 9,  -999.00, 9, -999.000, 9, -999.000, -999.0000, 9, -999.0000,  -999.00, 9,  -999.00, -999.000, 9, -999.000,   -999.0, 9,   -999.0,  -999.00, 9, -999.0000, 9, -999.0000, 9, -999.0000, 9, -999.0000, 9, -999.0000, 9, -999.0000, 9, -999, 9, -999, 9, -999, 9, -999, 9, -999, 9, -999, 9, -999, 9,  -999.00, 9,  -999.00, 9,  -999.00, 9,  -999.00, 9,   4.3469,  -999.00, 9, 2043,   23.4908,  -52.3933
316N200309, A20, 41, 1, 16, 16, 2, 20031008, 1917, 23.4993, -52.3750, 5445,  1878.10,   1878.1,   3.9623,  35.0321, 2,  35.0325, 2,    246.3, 2,    246.6, 2,    18.75, 2,    19.32, 2,     0.00, 2,     1.28, 2,    0.091, 2,    0.061, 2,    0.032, 4,    0.403, 2,   2166.2, 2,   2319.6, 2,  -999.00, 9,  -999.00, 9, -999.000, 9, -999.000, -999.0000, 9, -999.0000,  -999.00, 9,  -999.00, -999.000, 9, -999.000,   -999.0, 9,   -999.0,  -999.00, 9, -999.0000, 9, -999.0000, 9, -999.0000, 9, -999.0000, 9, -999.0000, 9, -999.0000, 9, -999, 9, -999, 9, -999, 9, -999, 9, -999, 9, -999, 9, -999, 9,  -999.00, 9,  -999.00, 9,  -999.00, 9,  -999.00, 9,   3.8069,  -999.00, 9, 2037,   23.4914,  -52.3921
316N200309, A20, 41, 1, 15, 15, 2, 20031008, 1917, 23.4993, -52.3750, 5445,  2124.70,   2124.7,   3.5166,  34.9981, 2,  34.9974, 2,    248.7, 2,    249.5, 2,    22.39, 2,    19.46, 2,     0.00, 2,     1.30, 2,    0.043, 2,    0.028, 2,    0.007, 2,    0.289, 2,   2168.1, 2,   2321.3, 2,  -999.00, 9,  -999.00, 9, -999.000, 9, -999.000, -999.0000, 9, -999.0000,  -999.00, 9,  -999.00, -999.000, 9, -999.000,   -999.0, 9,   -999.0,  -999.00, 9, -999.0000, 9, -999.0000, 9, -999.0000, 9, -999.0000, 9, -999.0000, 9, -999.0000, 9, -999, 9, -999, 9, -999, 9, -999, 9, -999, 9, -999, 9, -999, 9,  -999.00, 9,  -999.00, 9,  -999.00, 9,  -999.00, 9,   3.3442,  -999.00, 9, 2032,   23.4919,  -52.3909
316N200309, A20, 41, 1, 14, 14, 2, 20031008, 1917, 23.4993, -52.3750, 5445,  2374.60,   2374.6,   3.2146,  34.9741, 2,  34.9748, 2,    248.7, 2,    249.4, 2,    26.55, 2,    19.79, 2,     0.00, 2,     1.33, 2,    0.034, 2,    0.024, 2,    0.001, 2,    0.238, 2,   2172.9, 2,   2325.7, 2,  -999.00, 9,  -999.00, 9, -999.000, 9, -999.000, -999.0000, 9, -999.0000,  -999.00, 9,  -999.00, -999.000, 9, -999.000,   -999.0, 9,   -999.0,  -999.00, 9, -999.0000, 9, -999.0000, 9, -999.0000, 9, -999.0000, 9, -999.0000, 9, -999.0000, 9, -999, 9, -999, 9, -999, 9, -999, 9, -999, 9, -999, 9, -999, 9,  -999.00, 9,  -999.00, 9,  -999.00, 9,  -999.00, 9,   3.0230,  -999.00, 9, 2027,   23.4925,  -52.3897
316N200309, A20, 41, 1, 13, 13, 2, 20031008, 1917, 23.4993, -52.3750, 5445,  2625.60,   2625.6,   2.9898,  34.9544, 2,  34.9534, 2,    249.9, 2,    250.4, 2,    29.35, 2,    20.07, 2,     0.00, 2,     1.35, 2,    0.022, 2,    0.016, 2,   -0.001, 2,    0.179, 2,   2174.2, 2,   2327.1, 2,  -999.00, 9,  -999.00, 9, -999.000, 9, -999.000, -999.0000, 9, -999.0000,  -999.00, 9,  -999.00, -999.000, 9, -999.000,   -999.0, 9,   -999.0,  -999.00, 9, -999.0000, 9, -999.0000, 9, -999.0000, 9, -999.0000, 9, -999.0000, 9, -999.0000, 9, -999, 9, -999, 9, -999, 9, -999, 9, -999, 9, -999, 9, -999, 9,  -999.00, 9,  -999.00, 9,  -999.00, 9,  -999.00, 9,   2.7776,  -999.00, 9, 2021,   23.4929,  -52.3886
316N200309, A20, 41, 1, 12, 12, 2, 20031008, 1917, 23.4993, -52.3750, 5445,  2874.90,   2874.9,   2.8147,  34.9393, 2,  34.9384, 2,    249.9, 2,    250.8, 2,    32.16, 2,    20.35, 2,     0.00, 2,     1.37, 2,    0.017, 2,    0.013, 2,    0.003, 2,    0.140, 2,   2177.8, 2,   2329.0, 2,  -999.00, 9,  -999.00, 9, -999.000, 9, -999.000, -999.0000, 9, -999.0000,  -999.00, 9,  -999.00, -999.000, 9, -999.000,   -999.0, 9,   -999.0,  -999.00, 9, -999.0000, 9, -999.0000, 9, -999.0000, 9, -999.0000, 9, -999.0000, 9, -999.0000, 9, -999, 9, -999, 9, -999, 9, -999, 9, -999, 9, -999, 9, -999, 9,  -999.00, 9,  -999.00, 9,  -999.00, 9,  -999.00, 9,   2.5809,  -999.00, 9, 2016,   23.4935,  -52.3874
316N200309, A20, 41, 1, 11, 11, 2, 20031008, 1917, 23.4993, -52.3750, 5445,  3124.70,   3124.7,   2.6833,  34.9276, 2,  34.9274, 2,    250.7, 2,    251.2, 2,    34.45, 2,    20.54, 2,     0.00, 2,     1.38, 2,    0.015, 2,    0.014, 2,    0.001, 2,    0.162, 2,   2178.8, 2,   2330.6, 2,  -999.00, 9,  -999.00, 9, -999.000, 9, -999.000, -999.0000, 9, -999.0000,  -999.00, 9,  -999.00, -999.000, 9, -999.000,   -999.0, 9,   -999.0,  -999.00, 9, -999.0000, 9, -999.0000, 9, -999.0000, 9, -999.0000, 9, -999.0000, 9, -999.0000, 9, -999, 9, -999, 9, -999, 9, -999, 9, -999, 9, -999, 9, -999, 9,  -999.00, 9,  -999.00, 9,  -999.00, 9,  -999.00, 9,   2.4264,  -999.00, 9, 2011,   23.4939,  -52.3863