BOTTLE,20220816CCHSIOAMB
EXPOCODE,SECT_ID,STNNBR,CASTNO,SAMPNO,BTLNBR,BTLNBR_FLAG_W,DATE,TIME,LATITUDE,LONGITUDE,DEPTH,CTDRAW,CTDPRS,CTDTMP,CTDSAL,CTDSAL_FLAG_W,SALNTY,SALNTY_FLAG_W,CTDOXY,CTDOXY_FLAG_W,OXYGEN,OXYGEN_FLAG_W,SILCAT,SILCAT_FLAG_W,NITRAT,NITRAT_FLAG_W,NITRIT,NITRIT_FLAG_W,PHSPHT,PHSPHT_FLAG_W,CFC-11,CFC-11_FLAG_W,CFC-12,CFC-12_FLAG_W,CFC113,CFC113_FLAG_W,CCL4,CCL4_FLAG_W,TCARBN,TCARBN_FLAG_W,ALKALI,ALKALI_FLAG_W,DOC,DOC_FLAG_W,TDN,TDN_FLAG_W,TRITUM,TRITUM_FLAG_W,TRITER,HELIUM,HELIUM_FLAG_W,HELIER,DELHE3,DELHE3_FLAG_W,DELHER,NEON,NEON_FLAG_W,NEONER,DELC14,DELC14_FLAG_W,C14ERR,DELC13,DELC13_FLAG_W,CDOM325,CDOM325_FLAG_W,CDOM340,CDOM340_FLAG_W,CDOM380,CDOM380_FLAG_W,CDOM412,CDOM412_FLAG_W,CDOMSL,CDOMSL_FLAG_W,CDOMSN,CDOMSN_FLAG_W,DCNS,DCNS_FLAG_W,ARABI,ARABI_FLAG_W,FUCO,FUCO_FLAG_W,GALA,GALA_FLAG_W,GLUC,GLUC_FLAG_W,MAN,MAN_FLAG_W,RHAM,RHAM_FLAG_W,BRDU,BRDU_FLAG_W,PEUK,PEUK_FLAG_W,PROC,PROC_FLAG_W,SYN,SYN_FLAG_W,THETA,BACT,BACT_FLAG_W,BTL_TIME,BTL_LAT,BTL_LON
,,,,,,,,,,,METERS,DBAR,DBAR,ITS-90,PSS-78,,PSS-78,,UMOL/KG,,UMOL/KG,,UMOL/KG,,UMOL/KG,,UMOL/KG,,UMOL/KG,,PMOL/KG,,PMOL/KG,,PMOL/KG,,PMOL/KG,,UMOL/KG,,UMOL/KG,,UMOL/KG,,UMOL/KG,,TU,,TU,NMOL/KG,,NMOL/KG,PERCNT,,PERCNT,NMOL/KG,,NMOL/KG,/MILLE,,/MILLE,/MILLE,,1/M,,1/M,,1/M,,1/M,,1/NM,,1/NM,,NMOL/KG,,NMOL/KG,,NMOL/KG,,NMOL/KG,,NMOL/KG,,NMOL/KG,,NMOL/KG,,PMOL/L/H,,E6/L,,E7/L,,E6/L,,DEG C,E8/L,,,,
316N200309, A20, 72, 1, 18, 18, 2, 20031017, 0413, 8.0660, -53.0173, 1284,     3.70,      3.7,  29.2881,  33.4030, 2,  33.4080, 2,    191.9, 2,    194.3, 2,     5.04, 2,     0.15, 2,     0.00, 2,     0.01, 2,    1.558, 2,    0.989, 2,    0.134, 2, -999.000, 9,   1875.4, 2,   2209.2, 2,  -999.00, 9,  -999.00, 9, -999.000, 9, -999.000, -999.0000, 9, -999.0000,  -999.00, 9,  -999.00, -999.000, 9, -999.000,   -999.0, 9,   -999.0,  -999.00, 9, -999.0000, 9, -999.0000, 9, -999.0000, 9, -999.0000, 9, -999.0000, 9, -999.0000, 9, -999, 9, -999, 9, -999, 9, -999, 9, -999, 9, -999, 9, -999, 9,  -999.00, 9,  -999.00, 9,  -999.00, 9,  -999.00, 9,  29.2872,  -999.00, 9,  451,    8.0751,  -53.0105
316N200309, A20, 72, 1, 17, 17, 2, 20031017, 0413, 8.0660, -53.0173, 1284,    25.10,     25.1,  29.0387,  35.0318, 2,  35.1224, 2,    198.4, 2,    197.4, 2,     2.36, 2,     0.10, 2,     0.00, 2,     0.03, 2,    1.623, 6,    1.021, 6,    0.138, 6, -999.000, 9,   1967.2, 2,   2307.2, 2,  -999.00, 9,  -999.00, 9, -999.000, 9, -999.000, -999.0000, 9, -999.0000,  -999.00, 9,  -999.00, -999.000, 9, -999.000,   -999.0, 9,   -999.0,  -999.00, 9, -999.0000, 9, -999.0000, 9, -999.0000, 9, -999.0000, 9, -999.0000, 9, -999.0000, 9, -999, 9, -999, 9, -999, 9, -999, 9, -999, 9, -999, 9, -999, 9,  -999.00, 9,  -999.00, 9,  -999.00, 9,  -999.00, 9,  29.0326,  -999.00, 9,  450,    8.0747,  -53.0108
316N200309, A20, 72, 1, 16, 16, 2, 20031017, 0413, 8.0660, -53.0173, 1284,    49.40,     49.4,  28.0938,  36.2376, 2,  36.2351, 2,    193.5, 2,    197.9, 2,     0.31, 2,     0.20, 2,     0.00, 2,     0.10, 2,    1.663, 2,    1.035, 2,    0.148, 2, -999.000, 9,   2027.5, 2,   2370.8, 2,  -999.00, 9,  -999.00, 9, -999.000, 9, -999.000, -999.0000, 9, -999.0000,  -999.00, 9,  -999.00, -999.000, 9, -999.000,   -999.0, 9,   -999.0,  -999.00, 9, -999.0000, 9, -999.0000, 9, -999.0000, 9, -999.0000, 9, -999.0000, 9, -999.0000, 9, -999, 9, -999, 9, -999, 9, -999, 9, -999, 9, -999, 9, -999, 9,  -999.00, 9,  -999.00, 9,  -999.00, 9,  -999.00, 9,  28.0821,  -999.00, 9,  448,    8.0744,  -53.0111
316N200309, A20, 72, 1, 15, 15, 2, 20031017, 0413, 8.0660, -53.0173, 1284,    74.30,     74.3,  27.3510,  36.2546, 2,  36.2529, 2,    181.8, 2,    187.9, 2,     0.20, 2,     0.10, 2,     0.00, 2,     0.06, 2, -999.000, 9, -999.000, 9, -999.000, 9, -999.000, 9,   2041.3, 2,   2373.3, 2,  -999.00, 9,  -999.00, 9, -999.000, 9, -999.000, -999.0000, 9, -999.0000,  -999.00, 9,  -999.00, -999.000, 9, -999.000,   -999.0, 9,   -999.0,  -999.00, 9, -999.0000, 9, -999.0000, 9, -999.0000, 9, -999.0000, 9, -999.0000, 9, -999.0000, 9, -999, 9, -999, 9, -999, 9, -999, 9, -999, 9, -999, 9, -999, 9,  -999.00, 9,  -999.00, 9,  -999.00, 9,  -999.00, 9,  27.3337,  -999.00, 9,  447,    8.0740,  -53.0114
316N200309, A20, 72, 1, 14, 14, 2, 20031017, 0413, 8.0660, -53.0173, 1284,    99.50,     99.5,  26.8548,  36.2890, 2,  36.2841, 2,    179.9, 2,    184.5, 2,     0.40, 2,     1.08, 2,     0.00, 2,     0.16, 2,    1.710, 2,    1.056, 2,    0.133, 2, -999.000, 9,   2049.9, 2,   2375.6, 2,  -999.00, 9,  -999.00, 9, -999.000, 9, -999.000, -999.0000, 9, -999.0000,  -999.00, 9,  -999.00, -999.000, 9, -999.000,   -999.0, 9,   -999.0,  -999.00, 9, -999.0000, 9, -999.0000, 9, -999.0000, 9, -999.0000, 9, -999.0000, 9, -999.0000, 9, -999, 9, -999, 9, -999, 9, -999, 9, -999, 9, -999, 9, -999, 9,  -999.00, 9,  -999.00, 9,  -999.00, 9,  -999.00, 9,  26.8320,  -999.00, 9,  445,    8.0737,  -53.0117
316N200309, A20, 72, 1, 13, 13, 2, 20031017, 0413, 8.0660, -53.0173, 1284,   124.00,    124.0,  25.5822,  36.3226, 2,  36.3190, 2,    175.1, 2,    179.4, 2,     0.80, 2,     2.25, 2,     0.00, 2,     0.23, 2, -999.000, 9, -999.000, 9, -999.000, 9, -999.000, 9,   -999.0, 9,   -999.0, 9,  -999.00, 9,  -999.00, 9, -999.000, 9, -999.000, -999.0000, 9, -999.0000,  -999.00, 9,  -999.00, -999.000, 9, -999.000,   -999.0, 9,   -999.0,  -999.00, 9, -999.0000, 9, -999.0000, 9, -999.0000, 9, -999.0000, 9, -999.0000, 9, -999.0000, 9, -999, 9, -999, 9, -999, 9, -999, 9, -999, 9, -999, 9, -999, 9,  -999.00, 9,  -999.00, 9,  -999.00, 9,  -999.00, 9,  25.5548,  -999.00, 9,  444,    8.0733,  -53.0121
316N200309, A20, 72, 1, 12, 12, 2, 20031017, 0413, 8.0660, -53.0173, 1284,   153.20,    153.2,  21.9084,  36.4685, 2,  36.4430, 2,    150.9, 2,    157.7, 2,     1.92, 2,     6.17, 2,     0.01, 2,     0.43, 2,    1.944, 2,    1.158, 2,    0.081, 2, -999.000, 9,   2116.3, 2,   2381.2, 2,  -999.00, 9,  -999.00, 9, -999.000, 9, -999.000, -999.0000, 9, -999.0000,  -999.00, 9,  -999.00, -999.000, 9, -999.000,   -999.0, 9,   -999.0,  -999.00, 9, -999.0000, 9, -999.0000, 9, -999.0000, 9, -999.0000, 9, -999.0000, 9, -999.0000, 9, -999, 9, -999, 9, -999, 9, -999, 9, -999, 9, -999, 9, -999, 9,  -999.00, 9,  -999.00, 9,  -999.00, 9,  -999.00, 9,  21.8779,  -999.00, 9,  442,    8.0729,  -53.0124
316N200309, A20, 72, 1, 11, 11, 2, 20031017, 0413, 8.0660, -53.0173, 1284,   201.50,    201.5,  12.1403,  35.3288, 2,  35.3595, 2,    130.8, 2,    130.3, 2,     8.56, 2,    21.22, 2,     0.00, 2,     1.34, 2, -999.000, 9, -999.000, 9, -999.000, 9, -999.000, 9,   -999.0, 9,   -999.0, 9,  -999.00, 9,  -999.00, 9, -999.000, 9, -999.000, -999.0000, 9, -999.0000,  -999.00, 9,  -999.00, -999.000, 9, -999.000,   -999.0, 9,   -999.0,  -999.00, 9, -999.0000, 9, -999.0000, 9, -999.0000, 9, -999.0000, 9, -999.0000, 9, -999.0000, 9, -999, 9, -999, 9, -999, 9, -999, 9, -999, 9, -999, 9, -999, 9,  -999.00, 9,  -999.00, 9,  -999.00, 9,  -999.00, 9,  12.1137,  -999.00, 9,  440,    8.0724,  -53.0128
316N200309, A20, 72, 1, 10, 10, 2, 20031017, 0413, 8.0660, -53.0173, 1284,   272.20,    272.2,   9.3405,  34.8833, 2,  34.8808, 2,    124.3, 2,    133.4, 2,    12.98, 2,    26.58, 2,     0.00, 2,     1.72, 2,    1.335, 2,    0.702, 2,    0.027, 2, -999.000, 9,   2190.2, 2,   2301.5, 2,  -999.00, 9,  -999.00, 9, -999.000, 9, -999.000, -999.0000, 9, -999.0000,  -999.00, 9,  -999.00, -999.000, 9, -999.000,   -999.0, 9,   -999.0,  -999.00, 9, -999.0000, 9, -999.0000, 9, -999.0000, 9, -999.0000, 9, -999.0000, 9, -999.0000, 9, -999, 9, -999, 9, -999, 9, -999, 9, -999, 9, -999, 9, -999, 9,  -999.00, 9,  -999.00, 9,  -999.00, 9,  -999.00, 9,   9.3102,  -999.00, 9,  438,    8.0719,  -53.0132
316N200309, A20, 72, 1, 9, 9, 2, 20031017, 0413, 8.0660, -53.0173, 1284,   327.70,    327.7,   8.9743,  34.9041, 2,  34.8892, 2,    116.5, 2,    115.1, 2,    14.62, 2,    29.37, 2,     0.00, 2,     1.87, 2,    0.915, 2,    0.493, 2,    0.013, 2, -999.000, 9,   -999.0, 9,   -999.0, 9,  -999.00, 9,  -999.00, 9, -999.000, 9, -999.000, -999.0000, 9, -999.0000,  -999.00, 9,  -999.00, -999.000, 9, -999.000,   -999.0, 9,   -999.0,  -999.00, 9, -999.0000, 9, -999.0000, 9, -999.0000, 9, -999.0000, 9, -999.0000, 9, -999.0000, 9, -999, 9, -999, 9, -999, 9, -999, 9, -999, 9, -999, 9, -999, 9,  -999.00, 9,  -999.00, 9,  -999.00, 9,  -999.00, 9,   8.9386,  -999.00, 9,  436,    8.0715,  -53.0135
316N200309, A20, 72, 1, 8, 8, 2, 20031017, 0413, 8.0660, -53.0173, 1284,   405.30,    405.3,   8.1059,  34.8173, 2,  34.8092, 2,    113.0, 2,    111.7, 2,    17.09, 2,    31.51, 2,     0.00, 2,     1.99, 2,    0.621, 2,    0.328, 2,    0.010, 2, -999.000, 9,   2211.9, 2,   2299.5, 2,  -999.00, 9,  -999.00, 9, -999.000, 9, -999.000, -999.0000, 9, -999.0000,  -999.00, 9,  -999.00, -999.000, 9, -999.000,   -999.0, 9,   -999.0,  -999.00, 9, -999.0000, 9, -999.0000, 9, -999.0000, 9, -999.0000, 9, -999.0000, 9, -999.0000, 9, -999, 9, -999, 9, -999, 9, -999, 9, -999, 9, -999, 9, -999, 9,  -999.00, 9,  -999.00, 9,  -999.00, 9,  -999.00, 9,   8.0641,  -999.00, 9,  434,    8.0710,  -53.0140
316N200309, A20, 72, 1, 7, 7, 2, 20031017, 0413, 8.0660, -53.0173, 1284,   502.30,    502.3,   7.5072,  34.7753, 2,  34.7765, 2,    111.0, 2,    108.2, 2,    19.25, 2,    33.13, 2,     0.00, 2,     2.10, 2,    0.368, 6,    0.210, 6,    0.015, 2,    0.322, 2,   -999.0, 9,   -999.0, 9,  -999.00, 9,  -999.00, 9, -999.000, 9, -999.000, -999.0000, 9, -999.0000,  -999.00, 9,  -999.00, -999.000, 9, -999.000,   -999.0, 9,   -999.0,  -999.00, 9, -999.0000, 9, -999.0000, 9, -999.0000, 9, -999.0000, 9, -999.0000, 9, -999.0000, 9, -999, 9, -999, 9, -999, 9, -999, 9, -999, 9, -999, 9, -999, 9,  -999.00, 9,  -999.00, 9,  -999.00, 9,  -999.00, 9,   7.4573,  -999.00, 9,  431,    8.0703,  -53.0145
316N200309, A20, 72, 1, 6, 6, 2, 20031017, 0413, 8.0660, -53.0173, 1284,   625.60,    625.6,   5.8497,  34.5752, 2,  34.5777, 2,    124.3, 2,    130.4, 2,    24.42, 2,    34.33, 2,     0.00, 2,     2.26, 2,    0.269, 2,    0.148, 2,    0.016, 2, -999.000, 9,   2219.2, 2,   2295.9, 2,  -999.00, 9,  -999.00, 9, -999.000, 9, -999.000, -999.0000, 9, -999.0000,  -999.00, 9,  -999.00, -999.000, 9, -999.000,   -999.0, 9,   -999.0,  -999.00, 9, -999.0000, 9, -999.0000, 9, -999.0000, 9, -999.0000, 9, -999.0000, 9, -999.0000, 9, -999, 9, -999, 9, -999, 9, -999, 9, -999, 9, -999, 9, -999, 9,  -999.00, 9,  -999.00, 9,  -999.00, 9,  -999.00, 9,   5.7951,  -999.00, 9,  428,    8.0696,  -53.0150
316N200309, A20, 72, 1, 5, 5, 2, 20031017, 0413, 8.0660, -53.0173, 1284,   751.30,    751.3,   4.9836,  34.5640, 2,  34.5651, 2,    138.2, 2,    141.7, 2,    28.67, 2,    34.32, 2,     0.00, 2,     2.29, 2,    0.108, 2,    0.054, 2,    0.004, 2, -999.000, 9,   -999.0, 9,   -999.0, 9,  -999.00, 9,  -999.00, 9, -999.000, 9, -999.000, -999.0000, 9, -999.0000,  -999.00, 9,  -999.00, -999.000, 9, -999.000,   -999.0, 9,   -999.0,  -999.00, 9, -999.0000, 9, -999.0000, 9, -999.0000, 9, -999.0000, 9, -999.0000, 9, -999.0000, 9, -999, 9, -999, 9, -999, 9, -999, 9, -999, 9, -999, 9, -999, 9,  -999.00, 9,  -999.00, 9,  -999.00, 9,  -999.00, 9,   4.9224,  -999.00, 9,  425,    8.0689,  -53.0156
316N200309, A20, 72, 1, 4, 4, 2, 20031017, 0413, 8.0660, -53.0173, 1284,   899.80,    899.8,   4.9579,  34.6402, 2,  34.6413, 2,    146.0, 2,    144.5, 2,    28.35, 2,    33.25, 2,     0.00, 2,     2.22, 2,    0.053, 2,    0.032, 2,    0.004, 2, -999.000, 9,   2219.4, 2,   2302.0, 2,  -999.00, 9,  -999.00, 9, -999.000, 9, -999.000, -999.0000, 9, -999.0000,  -999.00, 9,  -999.00, -999.000, 9, -999.000,   -999.0, 9,   -999.0,  -999.00, 9, -999.0000, 9, -999.0000, 9, -999.0000, 9, -999.0000, 9, -999.0000, 9, -999.0000, 9, -999, 9, -999, 9, -999, 9, -999, 9, -999, 9, -999, 9, -999, 9,  -999.00, 9,  -999.00, 9,  -999.00, 9,  -999.00, 9,   4.8837,  -999.00, 9,  422,    8.0680,  -53.0161
316N200309, A20, 72, 1, 3, 3, 2, 20031017, 0413, 8.0660, -53.0173, 1284,  1050.60,   1050.6,   5.0199,  34.8046, 2,  34.8058, 2,    163.5, 2,    162.1, 2,    24.70, 2,    29.62, 2,     0.00, 2,     1.96, 2,    0.068, 2,    0.048, 2,    0.001, 2, -999.000, 9,   -999.0, 9,   -999.0, 9,  -999.00, 9,  -999.00, 9, -999.000, 9, -999.000, -999.0000, 9, -999.0000,  -999.00, 9,  -999.00, -999.000, 9, -999.000,   -999.0, 9,   -999.0,  -999.00, 9, -999.0000, 9, -999.0000, 9, -999.0000, 9, -999.0000, 9, -999.0000, 9, -999.0000, 9, -999, 9, -999, 9, -999, 9, -999, 9, -999, 9, -999, 9, -999, 9,  -999.00, 9,  -999.00, 9,  -999.00, 9,  -999.00, 9,   4.9314,  -999.00, 9,  419,    8.0672,  -53.0166
316N200309, A20, 72, 1, 2, 2, 2, 20031017, 0413, 8.0660, -53.0173, 1284,  1174.50,   1174.5,   4.9751,  34.8802, 2,  34.8804, 2,    178.8, 2,    179.0, 2,    22.20, 2,    27.06, 2,     0.00, 2,     1.79, 2,    0.126, 2,    0.072, 2,    0.010, 2, -999.000, 9,   2198.9, 2,   2311.5, 2,  -999.00, 9,  -999.00, 9, -999.000, 9, -999.000, -999.0000, 9, -999.0000,  -999.00, 9,  -999.00, -999.000, 9, -999.000,   -999.0, 9,   -999.0,  -999.00, 9, -999.0000, 9, -999.0000, 9, -999.0000, 9, -999.0000, 9, -999.0000, 9, -999.0000, 9, -999, 9, -999, 9, -999, 9, -999, 9, -999, 9, -999, 9, -999, 9,  -999.00, 9,  -999.00, 9,  -999.00, 9,  -999.00, 9,   4.8753,  -999.00, 9,  416,    8.0666,  -53.0171
316N200309, A20, 72, 1, 1, 1, 2, 20031017, 0413, 8.0660, -53.0173, 1284,  1275.90,   1275.9,   4.8207,  34.9862, 2,  34.9846, 2,    214.3, 2,    214.8, 2,    17.23, 2,    22.17, 2,     0.00, 2,     1.46, 2,    0.438, 2,    0.222, 2,    0.015, 2, -999.000, 9,   2180.0, 2,   2312.9, 2,  -999.00, 9,  -999.00, 9, -999.000, 9, -999.000, -999.0000, 9, -999.0000,  -999.00, 9,  -999.00, -999.000, 9, -999.000,   -999.0, 9,   -999.0,  -999.00, 9, -999.0000, 9, -999.0000, 9, -999.0000, 9, -999.0000, 9, -999.0000, 9, -999.0000, 9, -999, 9, -999, 9, -999, 9, -999, 9, -999, 9, -999, 9, -999, 9,  -999.00, 9,  -999.00, 9,  -999.00, 9,  -999.00, 9,   4.7126,  -999.00, 9,  413,    8.0661,  -53.0174