BOTTLE,20220816CCHSIOAMB
EXPOCODE,SECT_ID,STNNBR,CASTNO,SAMPNO,BTLNBR,BTLNBR_FLAG_W,DATE,TIME,LATITUDE,LONGITUDE,DEPTH,CTDRAW,CTDPRS,CTDTMP,CTDSAL,CTDSAL_FLAG_W,SALNTY,SALNTY_FLAG_W,CTDOXY,CTDOXY_FLAG_W,OXYGEN,OXYGEN_FLAG_W,SILCAT,SILCAT_FLAG_W,NITRAT,NITRAT_FLAG_W,NITRIT,NITRIT_FLAG_W,PHSPHT,PHSPHT_FLAG_W,CFC-11,CFC-11_FLAG_W,CFC-12,CFC-12_FLAG_W,CFC113,CFC113_FLAG_W,CCL4,CCL4_FLAG_W,TCARBN,TCARBN_FLAG_W,ALKALI,ALKALI_FLAG_W,DOC,DOC_FLAG_W,TDN,TDN_FLAG_W,TRITUM,TRITUM_FLAG_W,TRITER,HELIUM,HELIUM_FLAG_W,HELIER,DELHE3,DELHE3_FLAG_W,DELHER,NEON,NEON_FLAG_W,NEONER,DELC14,DELC14_FLAG_W,C14ERR,DELC13,DELC13_FLAG_W,CDOM325,CDOM325_FLAG_W,CDOM340,CDOM340_FLAG_W,CDOM380,CDOM380_FLAG_W,CDOM412,CDOM412_FLAG_W,CDOMSL,CDOMSL_FLAG_W,CDOMSN,CDOMSN_FLAG_W,DCNS,DCNS_FLAG_W,ARABI,ARABI_FLAG_W,FUCO,FUCO_FLAG_W,GALA,GALA_FLAG_W,GLUC,GLUC_FLAG_W,MAN,MAN_FLAG_W,RHAM,RHAM_FLAG_W,BRDU,BRDU_FLAG_W,PEUK,PEUK_FLAG_W,PROC,PROC_FLAG_W,SYN,SYN_FLAG_W,THETA,BACT,BACT_FLAG_W,BTL_TIME,BTL_LAT,BTL_LON
,,,,,,,,,,,METERS,DBAR,DBAR,ITS-90,PSS-78,,PSS-78,,UMOL/KG,,UMOL/KG,,UMOL/KG,,UMOL/KG,,UMOL/KG,,UMOL/KG,,PMOL/KG,,PMOL/KG,,PMOL/KG,,PMOL/KG,,UMOL/KG,,UMOL/KG,,UMOL/KG,,UMOL/KG,,TU,,TU,NMOL/KG,,NMOL/KG,PERCNT,,PERCNT,NMOL/KG,,NMOL/KG,/MILLE,,/MILLE,/MILLE,,1/M,,1/M,,1/M,,1/M,,1/NM,,1/NM,,NMOL/KG,,NMOL/KG,,NMOL/KG,,NMOL/KG,,NMOL/KG,,NMOL/KG,,NMOL/KG,,PMOL/L/H,,E6/L,,E7/L,,E6/L,,DEG C,E8/L,,,,
316N200309, A20, 55, 1, 10, 10, 2, 20031013, 0200, 14.2637, -52.3462, 5165,  2999.90,   2999.9,   2.7114,  34.9265, 2,  34.9264, 2,    252.0, 2,    251.5, 2,    33.27, 2,    20.49, 2,     0.00, 2,     1.38, 2,    0.059, 6,    0.038, 6,    0.001, 6,    0.236, 6,   -999.0, 9,   -999.0, 9,  -999.00, 9,  -999.00, 9, -999.000, 9, -999.000, -999.0000, 9, -999.0000,  -999.00, 9,  -999.00, -999.000, 9, -999.000,   -999.0, 9,   -999.0,  -999.00, 9, -999.0000, 9, -999.0000, 9, -999.0000, 9, -999.0000, 9, -999.0000, 9, -999.0000, 9, -999, 9, -999, 9, -999, 9, -999, 9, -999, 9, -999, 9, -999, 9,  -999.00, 9,  -999.00, 9,  -999.00, 9,  -999.00, 9,   2.4670,  -999.00, 9,  250,   14.2706,  -52.3469
316N200309, A20, 55, 1, 9, 9, 2, 20031013, 0200, 14.2637, -52.3462, 5165,  3251.10,   3251.1,   2.5899,  34.9156, 2,  34.9148, 2,    250.5, 2,    250.0, 2,    37.04, 2,    20.92, 2,     0.00, 2,     1.42, 2,    0.029, 2,    0.023, 2,    0.000, 2,    0.172, 2,   -999.0, 9,   -999.0, 9,  -999.00, 9,  -999.00, 9, -999.000, 9, -999.000, -999.0000, 9, -999.0000,  -999.00, 9,  -999.00, -999.000, 9, -999.000,   -999.0, 9,   -999.0,  -999.00, 9,    0.1300, 2,    0.0920, 2,    0.0440, 2,    0.0310, 2,    0.0170, 2,    0.0190, 2, -999, 9, -999, 9, -999, 9, -999, 9, -999, 9, -999, 9, -999, 9,  -999.00, 9,  -999.00, 9,  -999.00, 9,  -999.00, 9,   2.3219,  -999.00, 9,  245,   14.2698,  -52.3468
316N200309, A20, 55, 1, 8, 8, 2, 20031013, 0200, 14.2637, -52.3462, 5165,  3500.20,   3500.2,   2.5067,  34.9110, 2,  34.9113, 2,    257.5, 2,    257.8, 2,    32.54, 2,    19.81, 2,     0.00, 2,     1.34, 2,    0.139, 2,    0.078, 2,    0.004, 2,    0.376, 2,   -999.0, 9,   -999.0, 9,  -999.00, 9,  -999.00, 9, -999.000, 9, -999.000, -999.0000, 9, -999.0000,  -999.00, 9,  -999.00, -999.000, 9, -999.000,   -999.0, 9,   -999.0,  -999.00, 9, -999.0000, 9, -999.0000, 9, -999.0000, 9, -999.0000, 9, -999.0000, 9, -999.0000, 9, -999, 9, -999, 9, -999, 9, -999, 9, -999, 9, -999, 9, -999, 9,  -999.00, 9,  -999.00, 9,  -999.00, 9,  -999.00, 9,   2.2141,  -999.00, 9,  240,   14.2690,  -52.3468
316N200309, A20, 55, 1, 7, 7, 2, 20031013, 0200, 14.2637, -52.3462, 5165,  3750.50,   3750.5,   2.3700,  34.9020, 2,  34.9010, 2,    260.8, 2,    261.7, 2,    32.02, 2,    19.33, 2,     0.00, 2,     1.31, 2,    0.201, 2,    0.120, 2,   -0.003, 2,    0.517, 2,   -999.0, 9,   -999.0, 9,  -999.00, 9,  -999.00, 9, -999.000, 9, -999.000, -999.0000, 9, -999.0000,  -999.00, 9,  -999.00, -999.000, 9, -999.000,   -999.0, 9,   -999.0,  -999.00, 9,    0.1380, 2,    0.0960, 2,    0.0450, 2,    0.0350, 2,    0.0150, 3,    0.0180, 3, -999, 9, -999, 9, -999, 9, -999, 9, -999, 9, -999, 9, -999, 9,  -999.00, 9,  -999.00, 9,  -999.00, 9,  -999.00, 9,   2.0534,  -999.00, 9,  235,   14.2683,  -52.3468
316N200309, A20, 55, 1, 6, 6, 2, 20031013, 0200, 14.2637, -52.3462, 5165,  4000.00,   4000.0,   2.2961,  34.8955, 2,  34.8947, 2,    261.1, 2,    263.1, 2,    32.85, 2,    19.37, 2,     0.00, 2,     1.31, 2,    0.226, 2,    0.116, 2,    0.004, 2,    0.620, 2,   -999.0, 9,   -999.0, 9,  -999.00, 9,  -999.00, 9, -999.000, 9, -999.000, -999.0000, 9, -999.0000,  -999.00, 9,  -999.00, -999.000, 9, -999.000,   -999.0, 9,   -999.0,  -999.00, 9, -999.0000, 9, -999.0000, 9, -999.0000, 9, -999.0000, 9, -999.0000, 9, -999.0000, 9, -999, 9, -999, 9, -999, 9, -999, 9, -999, 9, -999, 9, -999, 9,  -999.00, 9,  -999.00, 9,  -999.00, 9,  -999.00, 9,   1.9536,  -999.00, 9,  230,   14.2676,  -52.3467
316N200309, A20, 55, 1, 5, 5, 2, 20031013, 0200, 14.2637, -52.3462, 5165,  4250.10,   4250.1,   2.2455,  34.8881, 2,  34.8877, 2,    259.6, 2,    260.5, 2,    35.99, 2,    19.84, 2,     0.00, 2,     1.34, 2,    0.190, 6,    0.113, 6,   -0.002, 6,    0.570, 6,   -999.0, 9,   -999.0, 9,  -999.00, 9,  -999.00, 9, -999.000, 9, -999.000, -999.0000, 9, -999.0000,  -999.00, 9,  -999.00, -999.000, 9, -999.000,   -999.0, 9,   -999.0,  -999.00, 9,    0.1340, 2,    0.0930, 2,    0.0440, 2,    0.0280, 2,    0.0180, 2,    0.0200, 2, -999, 9, -999, 9, -999, 9, -999, 9, -999, 9, -999, 9, -999, 9,  -999.00, 9,  -999.00, 9,  -999.00, 9,  -999.00, 9,   1.8756,  -999.00, 9,  225,   14.2671,  -52.3467
316N200309, A20, 55, 1, 4, 4, 2, 20031013, 0200, 14.2637, -52.3462, 5165,  4500.10,   4500.1,   2.1772,  34.8772, 2,  34.8839, 3,    257.1, 2,    257.1, 2,    41.32, 2,    20.56, 2,     0.00, 2,     1.40, 2,    0.153, 2,    0.097, 2,    0.007, 2,    0.538, 2,   -999.0, 9,   -999.0, 9,  -999.00, 9,  -999.00, 9, -999.000, 9, -999.000, -999.0000, 9, -999.0000,  -999.00, 9,  -999.00, -999.000, 9, -999.000,   -999.0, 9,   -999.0,  -999.00, 9, -999.0000, 9, -999.0000, 9, -999.0000, 9, -999.0000, 9, -999.0000, 9, -999.0000, 9, -999, 9, -999, 9, -999, 9, -999, 9, -999, 9, -999, 9, -999, 9,  -999.00, 9,  -999.00, 9,  -999.00, 9,  -999.00, 9,   1.7799,  -999.00, 9,  219,   14.2664,  -52.3467
316N200309, A20, 55, 1, 3, 3, 2, 20031013, 0200, 14.2637, -52.3462, 5165,  4750.40,   4750.4,   1.9700,  34.8488, 2,  34.8489, 2,    248.8, 2,    249.5, 2,    54.53, 2,    22.60, 2,     0.00, 2,     1.54, 2,    0.096, 2,    0.063, 2,    0.004, 2,    0.359, 2,   -999.0, 9,   -999.0, 9,  -999.00, 9,  -999.00, 9, -999.000, 9, -999.000, -999.0000, 9, -999.0000,  -999.00, 9,  -999.00, -999.000, 9, -999.000,   -999.0, 9,   -999.0,  -999.00, 9,    0.1350, 2,    0.0940, 2,    0.0450, 2,    0.0320, 2,    0.0170, 2,    0.0190, 2, -999, 9, -999, 9, -999, 9, -999, 9, -999, 9, -999, 9, -999, 9,  -999.00, 9,  -999.00, 9,  -999.00, 9,  -999.00, 9,   1.5493,  -999.00, 9,  213,   14.2655,  -52.3466
316N200309, A20, 55, 1, 2, 2, 2, 20031013, 0200, 14.2637, -52.3462, 5165,  4999.60,   4999.6,   1.8477,  34.8305, 2,  34.8306, 2,    244.5, 2,    243.3, 2,    62.51, 2,    23.74, 2,     0.00, 2,     1.65, 2,    0.080, 2,    0.046, 2,   -0.005, 2,    0.328, 2,   -999.0, 9,   -999.0, 9,  -999.00, 9,  -999.00, 9, -999.000, 9, -999.000, -999.0000, 9, -999.0000,  -999.00, 9,  -999.00, -999.000, 9, -999.000,   -999.0, 9,   -999.0,  -999.00, 9, -999.0000, 9, -999.0000, 9, -999.0000, 9, -999.0000, 9, -999.0000, 9, -999.0000, 9, -999, 9, -999, 9, -999, 9, -999, 9, -999, 9, -999, 9, -999, 9,  -999.00, 9,  -999.00, 9,  -999.00, 9,  -999.00, 9,   1.4007,  -999.00, 9,  207,   14.2647,  -52.3464
316N200309, A20, 55, 1, 1, 1, 2, 20031013, 0200, 14.2637, -52.3462, 5165,  5235.10,   5235.1,   1.7860,  34.8194, 2,  34.8202, 2,    242.1, 2,    242.6, 2,    67.16, 2,    24.51, 2,     0.00, 2,     1.68, 2,    0.077, 2,    0.046, 2,    0.010, 2,    0.293, 2,   -999.0, 9,   -999.0, 9,  -999.00, 9,  -999.00, 9, -999.000, 9, -999.000, -999.0000, 9, -999.0000,  -999.00, 9,  -999.00, -999.000, 9, -999.000,   -999.0, 9,   -999.0,  -999.00, 9,    0.1560, 2,    0.1130, 2,    0.0580, 2,    0.0430, 2,    0.0140, 2,    0.0160, 2, -999, 9, -999, 9, -999, 9, -999, 9, -999, 9, -999, 9, -999, 9,  -999.00, 9,  -999.00, 9,  -999.00, 9,  -999.00, 9,   1.3118,  -999.00, 9,  201,   14.2637,  -52.3463