BOTTLE,20220816CCHSIOAMB
EXPOCODE,SECT_ID,STNNBR,CASTNO,SAMPNO,BTLNBR,BTLNBR_FLAG_W,DATE,TIME,LATITUDE,LONGITUDE,DEPTH,CTDRAW,CTDPRS,CTDTMP,CTDSAL,CTDSAL_FLAG_W,SALNTY,SALNTY_FLAG_W,CTDOXY,CTDOXY_FLAG_W,OXYGEN,OXYGEN_FLAG_W,SILCAT,SILCAT_FLAG_W,NITRAT,NITRAT_FLAG_W,NITRIT,NITRIT_FLAG_W,PHSPHT,PHSPHT_FLAG_W,CFC-11,CFC-11_FLAG_W,CFC-12,CFC-12_FLAG_W,CFC113,CFC113_FLAG_W,CCL4,CCL4_FLAG_W,TCARBN,TCARBN_FLAG_W,ALKALI,ALKALI_FLAG_W,DOC,DOC_FLAG_W,TDN,TDN_FLAG_W,TRITUM,TRITUM_FLAG_W,TRITER,HELIUM,HELIUM_FLAG_W,HELIER,DELHE3,DELHE3_FLAG_W,DELHER,NEON,NEON_FLAG_W,NEONER,DELC14,DELC14_FLAG_W,C14ERR,DELC13,DELC13_FLAG_W,CDOM325,CDOM325_FLAG_W,CDOM340,CDOM340_FLAG_W,CDOM380,CDOM380_FLAG_W,CDOM412,CDOM412_FLAG_W,CDOMSL,CDOMSL_FLAG_W,CDOMSN,CDOMSN_FLAG_W,DCNS,DCNS_FLAG_W,ARABI,ARABI_FLAG_W,FUCO,FUCO_FLAG_W,GALA,GALA_FLAG_W,GLUC,GLUC_FLAG_W,MAN,MAN_FLAG_W,RHAM,RHAM_FLAG_W,BRDU,BRDU_FLAG_W,PEUK,PEUK_FLAG_W,PROC,PROC_FLAG_W,SYN,SYN_FLAG_W,THETA,BACT,BACT_FLAG_W,BTL_TIME,BTL_LAT,BTL_LON
,,,,,,,,,,,METERS,DBAR,DBAR,ITS-90,PSS-78,,PSS-78,,UMOL/KG,,UMOL/KG,,UMOL/KG,,UMOL/KG,,UMOL/KG,,UMOL/KG,,PMOL/KG,,PMOL/KG,,PMOL/KG,,PMOL/KG,,UMOL/KG,,UMOL/KG,,UMOL/KG,,UMOL/KG,,TU,,TU,NMOL/KG,,NMOL/KG,PERCNT,,PERCNT,NMOL/KG,,NMOL/KG,/MILLE,,/MILLE,/MILLE,,1/M,,1/M,,1/M,,1/M,,1/NM,,1/NM,,NMOL/KG,,NMOL/KG,,NMOL/KG,,NMOL/KG,,NMOL/KG,,NMOL/KG,,NMOL/KG,,PMOL/L/H,,E6/L,,E7/L,,E6/L,,DEG C,E8/L,,,,
316N200309, A20, 63, 1, 36, 36, 2, 20031015, 0858, 9.6478, -52.3513, 4874,     3.30,      3.3,  28.9531,  35.2541, 2,  35.2509, 2,    191.6, 2,    195.4, 2,     3.14, 2,     0.09, 2,     0.00, 2,     0.06, 2,    1.549, 2,    0.976, 2,    0.098, 2,    1.559, 2,   1973.8, 2,   2320.1, 2,  -999.00, 9,  -999.00, 9, -999.000, 9, -999.000, -999.0000, 9, -999.0000,  -999.00, 9,  -999.00, -999.000, 9, -999.000,   -999.0, 9,   -999.0,  -999.00, 9, -999.0000, 9, -999.0000, 9, -999.0000, 9, -999.0000, 9, -999.0000, 9, -999.0000, 9, -999, 9, -999, 9, -999, 9, -999, 9, -999, 9, -999, 9, -999, 9,  -999.00, 9,  -999.00, 9,  -999.00, 9,  -999.00, 9,  28.9523,  -999.00, 9, 1053,    9.6660,  -52.3522
316N200309, A20, 63, 1, 35, 35, 2, 20031015, 0858, 9.6478, -52.3513, 4874,    25.30,     25.3,  29.4691,  36.4261, 2,  36.4237, 2,    197.2, 2,    203.3, 2,     0.43, 2,     0.08, 2,     0.00, 2,     0.02, 2,    1.575, 2,    0.963, 2,    0.096, 2,    1.955, 4,   -999.0, 9,   -999.0, 9,  -999.00, 9,  -999.00, 9, -999.000, 9, -999.000, -999.0000, 9, -999.0000,  -999.00, 9,  -999.00, -999.000, 9, -999.000,   -999.0, 9,   -999.0,  -999.00, 9, -999.0000, 9, -999.0000, 9, -999.0000, 9, -999.0000, 9, -999.0000, 9, -999.0000, 9, -999, 9, -999, 9, -999, 9, -999, 9, -999, 9, -999, 9, -999, 9,  -999.00, 9,  -999.00, 9,  -999.00, 9,  -999.00, 9,  29.4629,  -999.00, 9, 1052,    9.6657,  -52.3522
316N200309, A20, 63, 1, 34, 34, 2, 20031015, 0858, 9.6478, -52.3513, 4874,    49.60,     49.6,  27.5502,  36.3198, 2,  36.3265, 2,    186.9, 2,    200.6, 2,     1.47, 2,     0.08, 2,     0.00, 2,     0.05, 2,    1.652, 2,    1.030, 2,    0.099, 2,    1.029, 2,   -999.0, 9,   -999.0, 9,  -999.00, 9,  -999.00, 9, -999.000, 9, -999.000, -999.0000, 9, -999.0000,  -999.00, 9,  -999.00, -999.000, 9, -999.000,   -999.0, 9,   -999.0,  -999.00, 9, -999.0000, 9, -999.0000, 9, -999.0000, 9, -999.0000, 9, -999.0000, 9, -999.0000, 9, -999, 9, -999, 9, -999, 9, -999, 9, -999, 9, -999, 9, -999, 9,  -999.00, 9,  -999.00, 9,  -999.00, 9,  -999.00, 9,  27.5386,  -999.00, 9, 1051,    9.6655,  -52.3523
316N200309, A20, 63, 1, 33, 33, 2, 20031015, 0858, 9.6478, -52.3513, 4874,    74.80,     74.8,  25.4033,  36.4869, 2,  36.4903, 2,    179.9, 2,    181.7, 2,     1.05, 2,     0.96, 2,     0.07, 2,     0.11, 2,    1.737, 2,    1.061, 2,    0.106, 2,    0.941, 2,   -999.0, 9,   -999.0, 9,  -999.00, 9,  -999.00, 9, -999.000, 9, -999.000, -999.0000, 9, -999.0000,  -999.00, 9,  -999.00, -999.000, 9, -999.000,   -999.0, 9,   -999.0,  -999.00, 9, -999.0000, 9, -999.0000, 9, -999.0000, 9, -999.0000, 9, -999.0000, 9, -999.0000, 9, -999, 9, -999, 9, -999, 9, -999, 9, -999, 9, -999, 9, -999, 9,  -999.00, 9,  -999.00, 9,  -999.00, 9,  -999.00, 9,  25.3868,  -999.00, 9, 1050,    9.6653,  -52.3523
316N200309, A20, 63, 1, 32, 32, 2, 20031015, 0858, 9.6478, -52.3513, 4874,    99.60,     99.6,  22.0146,  36.4159, 2,  36.3928, 2,    153.1, 2,    151.6, 2,     3.24, 2,     7.09, 2,     0.02, 2,     0.51, 2,    1.868, 2,    1.115, 2,    0.075, 2,    0.530, 2,   -999.0, 9,   -999.0, 9,  -999.00, 9,  -999.00, 9, -999.000, 9, -999.000, -999.0000, 9, -999.0000,  -999.00, 9,  -999.00, -999.000, 9, -999.000,   -999.0, 9,   -999.0,  -999.00, 9, -999.0000, 9, -999.0000, 9, -999.0000, 9, -999.0000, 9, -999.0000, 9, -999.0000, 9, -999, 9, -999, 9, -999, 9, -999, 9, -999, 9, -999, 9, -999, 9,  -999.00, 9,  -999.00, 9,  -999.00, 9,  -999.00, 9,  21.9947,  -999.00, 9, 1049,    9.6651,  -52.3523
316N200309, A20, 63, 1, 31, 31, 2, 20031015, 0858, 9.6478, -52.3513, 4874,   124.40,    124.4,  18.0626,  36.1824, 2,  36.1949, 2,    140.4, 2,    140.5, 2,     4.18, 2,    11.61, 2,     0.01, 2,     0.75, 2,    1.969, 2,    1.119, 2,    0.019, 2,    0.343, 2,   -999.0, 9,   -999.0, 9,  -999.00, 9,  -999.00, 9, -999.000, 9, -999.000, -999.0000, 9, -999.0000,  -999.00, 9,  -999.00, -999.000, 9, -999.000,   -999.0, 9,   -999.0,  -999.00, 9, -999.0000, 9, -999.0000, 9, -999.0000, 9, -999.0000, 9, -999.0000, 9, -999.0000, 9, -999, 9, -999, 9, -999, 9, -999, 9, -999, 9, -999, 9, -999, 9,  -999.00, 9,  -999.00, 9,  -999.00, 9,  -999.00, 9,  18.0410,  -999.00, 9, 1047,    9.6648,  -52.3523
316N200309, A20, 63, 1, 30, 30, 2, 20031015, 0858, 9.6478, -52.3513, 4874,   149.50,    149.5,  14.8481,  35.7501, 2,  35.7501, 2,    128.8, 2,    128.8, 2,     6.56, 2,    17.51, 2,     0.01, 2,     1.09, 2,    1.827, 2,    1.027, 2,    0.009, 2,    0.394, 2,   -999.0, 9,   -999.0, 9,  -999.00, 9,  -999.00, 9, -999.000, 9, -999.000, -999.0000, 9, -999.0000,  -999.00, 9,  -999.00, -999.000, 9, -999.000,   -999.0, 9,   -999.0,  -999.00, 9, -999.0000, 9, -999.0000, 9, -999.0000, 9, -999.0000, 9, -999.0000, 9, -999.0000, 9, -999, 9, -999, 9, -999, 9, -999, 9, -999, 9, -999, 9, -999, 9,  -999.00, 9,  -999.00, 9,  -999.00, 9,  -999.00, 9,  14.8255,  -999.00, 9, 1046,    9.6646,  -52.3523
316N200309, A20, 63, 1, 29, 29, 2, 20031015, 0858, 9.6478, -52.3513, 4874,   200.30,    200.3,  10.8547,  35.0481, 2,  35.0482, 2,    143.8, 2,    145.5, 2,    10.41, 2,    22.23, 2,     0.00, 2,     1.49, 2,    1.729, 2,    0.916, 2,    0.034, 2,    0.619, 2,   -999.0, 9,   -999.0, 9,  -999.00, 9,  -999.00, 9, -999.000, 9, -999.000, -999.0000, 9, -999.0000,  -999.00, 9,  -999.00, -999.000, 9, -999.000,   -999.0, 9,   -999.0,  -999.00, 9, -999.0000, 9, -999.0000, 9, -999.0000, 9, -999.0000, 9, -999.0000, 9, -999.0000, 9, -999, 9, -999, 9, -999, 9, -999, 9, -999, 9, -999, 9, -999, 9,  -999.00, 9,  -999.00, 9,  -999.00, 9,  -999.00, 9,  10.8302,  -999.00, 9, 1045,    9.6643,  -52.3523
316N200309, A20, 63, 1, 28, 28, 2, 20031015, 0858, 9.6478, -52.3513, 4874,   250.40,    250.4,   9.8577,  34.9307, 2,  34.9309, 2,    125.7, 2,    142.1, 2,    12.18, 2,    24.52, 2,     0.00, 2,     1.62, 2,    1.544, 2,    0.839, 2,    0.017, 2,    0.660, 2,   -999.0, 9,   -999.0, 9,  -999.00, 9,  -999.00, 9, -999.000, 9, -999.000, -999.0000, 9, -999.0000,  -999.00, 9,  -999.00, -999.000, 9, -999.000,   -999.0, 9,   -999.0,  -999.00, 9, -999.0000, 9, -999.0000, 9, -999.0000, 9, -999.0000, 9, -999.0000, 9, -999.0000, 9, -999, 9, -999, 9, -999, 9, -999, 9, -999, 9, -999, 9, -999, 9,  -999.00, 9,  -999.00, 9,  -999.00, 9,  -999.00, 9,   9.8288,  -999.00, 9, 1043,    9.6639,  -52.3523
316N200309, A20, 63, 1, 27, 27, 2, 20031015, 0858, 9.6478, -52.3513, 4874,   300.60,    300.6,   9.2412,  34.8621, 2,  34.8621, 2,    137.3, 2,    132.5, 2,    13.84, 2,    27.01, 2,     0.00, 2,     1.76, 2,    1.277, 2,    0.668, 2,    0.016, 2,    0.592, 2,   -999.0, 9,   -999.0, 9,  -999.00, 9,  -999.00, 9, -999.000, 9, -999.000, -999.0000, 9, -999.0000,  -999.00, 9,  -999.00, -999.000, 9, -999.000,   -999.0, 9,   -999.0,  -999.00, 9, -999.0000, 9, -999.0000, 9, -999.0000, 9, -999.0000, 9, -999.0000, 9, -999.0000, 9, -999, 9, -999, 9, -999, 9, -999, 9, -999, 9, -999, 9, -999, 9,  -999.00, 9,  -999.00, 9,  -999.00, 9,  -999.00, 9,   9.2079,  -999.00, 9, 1041,    9.6636,  -52.3522
316N200309, A20, 63, 1, 26, 26, 2, 20031015, 0858, 9.6478, -52.3513, 4874,   425.80,    425.8,   7.8997,  34.7328, 2,  34.7321, 2,    120.6, 2,    124.5, 2,    17.37, 2,    30.63, 2,     0.00, 2,     1.99, 2,    0.815, 2,    0.444, 2,    0.007, 2,    0.557, 2,   -999.0, 9,   -999.0, 9,  -999.00, 9,  -999.00, 9, -999.000, 9, -999.000, -999.0000, 9, -999.0000,  -999.00, 9,  -999.00, -999.000, 9, -999.000,   -999.0, 9,   -999.0,  -999.00, 9, -999.0000, 9, -999.0000, 9, -999.0000, 9, -999.0000, 9, -999.0000, 9, -999.0000, 9, -999, 9, -999, 9, -999, 9, -999, 9, -999, 9, -999, 9, -999, 9,  -999.00, 9,  -999.00, 9,  -999.00, 9,  -999.00, 9,   7.8565,  -999.00, 9, 1038,    9.6630,  -52.3522
316N200309, A20, 63, 1, 25, 25, 2, 20031015, 0858, 9.6478, -52.3513, 4874,   501.10,    501.1,   7.3489,  34.6939, 2,  34.6905, 2,    122.6, 2,    120.1, 2,    19.45, 2,    32.30, 2,     0.00, 2,     2.10, 2,    0.583, 6,    0.311, 6,    0.007, 6,    0.454, 6,   -999.0, 9,   -999.0, 9,  -999.00, 9,  -999.00, 9, -999.000, 9, -999.000, -999.0000, 9, -999.0000,  -999.00, 9,  -999.00, -999.000, 9, -999.000,   -999.0, 9,   -999.0,  -999.00, 9, -999.0000, 9, -999.0000, 9, -999.0000, 9, -999.0000, 9, -999.0000, 9, -999.0000, 9, -999, 9, -999, 9, -999, 9, -999, 9, -999, 9, -999, 9, -999, 9,  -999.00, 9,  -999.00, 9,  -999.00, 9,  -999.00, 9,   7.2998,  -999.00, 9, 1035,    9.6626,  -52.3522
316N200309, A20, 63, 1, 24, 24, 2, 20031015, 0858, 9.6478, -52.3513, 4874,   625.50,    625.5,   6.4352,  34.6403, 2,  34.6425, 2,    118.5, 2,    116.5, 2,    23.19, 2,    34.44, 2,     0.00, 2,     2.26, 2,    0.239, 2,    0.146, 2,    0.012, 2,    0.336, 2,   -999.0, 9,   -999.0, 9,  -999.00, 9,  -999.00, 9, -999.000, 9, -999.000, -999.0000, 9, -999.0000,  -999.00, 9,  -999.00, -999.000, 9, -999.000,   -999.0, 9,   -999.0,  -999.00, 9, -999.0000, 9, -999.0000, 9, -999.0000, 9, -999.0000, 9, -999.0000, 9, -999.0000, 9, -999, 9, -999, 9, -999, 9, -999, 9, -999, 9, -999, 9, -999, 9,  -999.00, 9,  -999.00, 9,  -999.00, 9,  -999.00, 9,   6.3778,  -999.00, 9, 1033,    9.6620,  -52.3522
316N200309, A20, 63, 1, 23, 23, 2, 20031015, 0858, 9.6478, -52.3513, 4874,   751.20,    751.2,   5.3633,  34.5501, 2,  34.5510, 2,    140.0, 2,    138.9, 2,    27.24, 2,    34.21, 2,     0.00, 2,     2.30, 2,    0.213, 2,    0.126, 2,    0.005, 2,    0.380, 2,   -999.0, 9,   -999.0, 9,  -999.00, 9,  -999.00, 9, -999.000, 9, -999.000, -999.0000, 9, -999.0000,  -999.00, 9,  -999.00, -999.000, 9, -999.000,   -999.0, 9,   -999.0,  -999.00, 9, -999.0000, 9, -999.0000, 9, -999.0000, 9, -999.0000, 9, -999.0000, 9, -999.0000, 9, -999, 9, -999, 9, -999, 9, -999, 9, -999, 9, -999, 9, -999, 9,  -999.00, 9,  -999.00, 9,  -999.00, 9,  -999.00, 9,   5.2999,  -999.00, 9, 1029,    9.6614,  -52.3522
316N200309, A20, 63, 1, 22, 22, 2, 20031015, 0858, 9.6478, -52.3513, 4874,   902.40,    902.4,   5.5583,  34.6966, 2,  34.6948, 2,    132.3, 2,    129.1, 2,    26.61, 2,    33.73, 2,     0.00, 2,     2.25, 2,    0.041, 2,    0.029, 2,    0.001, 2,    0.122, 2,   -999.0, 9,   -999.0, 9,  -999.00, 9,  -999.00, 9, -999.000, 9, -999.000, -999.0000, 9, -999.0000,  -999.00, 9,  -999.00, -999.000, 9, -999.000,   -999.0, 9,   -999.0,  -999.00, 9, -999.0000, 9, -999.0000, 9, -999.0000, 9, -999.0000, 9, -999.0000, 9, -999.0000, 9, -999, 9, -999, 9, -999, 9, -999, 9, -999, 9, -999, 9, -999, 9,  -999.00, 9,  -999.00, 9,  -999.00, 9,  -999.00, 9,   5.4796,  -999.00, 9, 1026,    9.6607,  -52.3522
316N200309, A20, 63, 1, 21, 21, 2, 20031015, 0858, 9.6478, -52.3513, 4874,  1051.40,   1051.4,   5.2056,  34.7819, 2,  34.7826, 2,    145.4, 2,    150.9, 2,    25.78, 2,    31.01, 2,     0.00, 2,     2.07, 2,    0.051, 2,    0.033, 2,    0.004, 2,    0.141, 2,   -999.0, 9,   -999.0, 9,  -999.00, 9,  -999.00, 9, -999.000, 9, -999.000, -999.0000, 9, -999.0000,  -999.00, 9,  -999.00, -999.000, 9, -999.000,   -999.0, 9,   -999.0,  -999.00, 9, -999.0000, 9, -999.0000, 9, -999.0000, 9, -999.0000, 9, -999.0000, 9, -999.0000, 9, -999, 9, -999, 9, -999, 9, -999, 9, -999, 9, -999, 9, -999, 9,  -999.00, 9,  -999.00, 9,  -999.00, 9,  -999.00, 9,   5.1155,  -999.00, 9, 1022,    9.6599,  -52.3524
316N200309, A20, 63, 1, 20, 20, 2, 20031015, 0858, 9.6478, -52.3513, 4874,  1200.10,   1200.1,   5.1508,  34.8846, 2,  34.8831, 2,    172.8, 2,    172.8, 2,    22.77, 2,    27.43, 2,     0.00, 2,     1.84, 2,    0.104, 2,    0.063, 2,    0.002, 2,    0.242, 2,   -999.0, 9,   -999.0, 9,  -999.00, 9,  -999.00, 9, -999.000, 9, -999.000, -999.0000, 9, -999.0000,  -999.00, 9,  -999.00, -999.000, 9, -999.000,   -999.0, 9,   -999.0,  -999.00, 9, -999.0000, 9, -999.0000, 9, -999.0000, 9, -999.0000, 9, -999.0000, 9, -999.0000, 9, -999, 9, -999, 9, -999, 9, -999, 9, -999, 9, -999, 9, -999, 9,  -999.00, 9,  -999.00, 9,  -999.00, 9,  -999.00, 9,   5.0470,  -999.00, 9, 1019,    9.6591,  -52.3526
316N200309, A20, 63, 1, 19, 19, 2, 20031015, 0858, 9.6478, -52.3513, 4874,  1324.80,   1324.8,   4.9883,  34.9693, 2,  34.9691, 2,    201.7, 2,    202.4, 2,    18.93, 2,    23.51, 2,     0.00, 2,     1.56, 2,    0.292, 2,    0.156, 2,    0.005, 2,    0.573, 2,   -999.0, 9,   -999.0, 9,  -999.00, 9,  -999.00, 9, -999.000, 9, -999.000, -999.0000, 9, -999.0000,  -999.00, 9,  -999.00, -999.000, 9, -999.000,   -999.0, 9,   -999.0,  -999.00, 9, -999.0000, 9, -999.0000, 9, -999.0000, 9, -999.0000, 9, -999.0000, 9, -999.0000, 9, -999, 9, -999, 9, -999, 9, -999, 9, -999, 9, -999, 9, -999, 9,  -999.00, 9,  -999.00, 9,  -999.00, 9,  -999.00, 9,   4.8740,  -999.00, 9, 1016,    9.6585,  -52.3528
316N200309, A20, 63, 1, 18, 18, 2, 20031015, 0858, 9.6478, -52.3513, 4874,  1450.30,   1450.3,   4.7000,  34.9976, 2,  34.9976, 2,    225.2, 2,    225.0, 2,    16.44, 2,    21.07, 2,     0.00, 2,     1.40, 2,    0.485, 2,    0.254, 2,    0.016, 2,    0.826, 2,   -999.0, 9,   -999.0, 9,  -999.00, 9,  -999.00, 9, -999.000, 9, -999.000, -999.0000, 9, -999.0000,  -999.00, 9,  -999.00, -999.000, 9, -999.000,   -999.0, 9,   -999.0,  -999.00, 9, -999.0000, 9, -999.0000, 9, -999.0000, 9, -999.0000, 9, -999.0000, 9, -999.0000, 9, -999, 9, -999, 9, -999, 9, -999, 9, -999, 9, -999, 9, -999, 9,  -999.00, 9,  -999.00, 9,  -999.00, 9,  -999.00, 9,   4.5766,  -999.00, 9, 1013,    9.6578,  -52.3529
316N200309, A20, 63, 1, 17, 17, 2, 20031015, 0858, 9.6478, -52.3513, 4874,  1574.60,   1574.6,   4.4120,  35.0066, 2,  35.0067, 2,    239.8, 2,    243.0, 2,    14.37, 2,    19.20, 2,     0.00, 2,     1.25, 2,    0.759, 2,    0.399, 2,    0.014, 2,    1.260, 2,   -999.0, 9,   -999.0, 9,  -999.00, 9,  -999.00, 9, -999.000, 9, -999.000, -999.0000, 9, -999.0000,  -999.00, 9,  -999.00, -999.000, 9, -999.000,   -999.0, 9,   -999.0,  -999.00, 9, -999.0000, 9, -999.0000, 9, -999.0000, 9, -999.0000, 9, -999.0000, 9, -999.0000, 9, -999, 9, -999, 9, -999, 9, -999, 9, -999, 9, -999, 9, -999, 9,  -999.00, 9,  -999.00, 9,  -999.00, 9,  -999.00, 9,   4.2800,  -999.00, 9, 1010,    9.6573,  -52.3531
316N200309, A20, 63, 1, 16, 16, 2, 20031015, 0858, 9.6478, -52.3513, 4874,  1700.70,   1700.7,   4.1488,  34.9948, 2,  34.9972, 2,    251.6, 2,    251.7, 2,    14.06, 2,    18.65, 2,     0.00, 2,     1.23, 2,    0.833, 2,    0.422, 2,    0.026, 2,    1.357, 2,   -999.0, 9,   -999.0, 9,  -999.00, 9,  -999.00, 9, -999.000, 9, -999.000, -999.0000, 9, -999.0000,  -999.00, 9,  -999.00, -999.000, 9, -999.000,   -999.0, 9,   -999.0,  -999.00, 9, -999.0000, 9, -999.0000, 9, -999.0000, 9, -999.0000, 9, -999.0000, 9, -999.0000, 9, -999, 9, -999, 9, -999, 9, -999, 9, -999, 9, -999, 9, -999, 9,  -999.00, 9,  -999.00, 9,  -999.00, 9,  -999.00, 9,   4.0081,  -999.00, 9, 1007,    9.6568,  -52.3531
316N200309, A20, 63, 1, 15, 15, 2, 20031015, 0858, 9.6478, -52.3513, 4874,  1850.50,   1850.5,   3.9519,  34.9852, 2,  34.9835, 2,    256.5, 2,    256.3, 2,    14.16, 2,    18.32, 2,     0.00, 2,     1.21, 2,    0.832, 2,    0.415, 2,    0.021, 2,    1.380, 2,   -999.0, 9,   -999.0, 9,  -999.00, 9,  -999.00, 9, -999.000, 9, -999.000, -999.0000, 9, -999.0000,  -999.00, 9,  -999.00, -999.000, 9, -999.000,   -999.0, 9,   -999.0,  -999.00, 9, -999.0000, 9, -999.0000, 9, -999.0000, 9, -999.0000, 9, -999.0000, 9, -999.0000, 9, -999, 9, -999, 9, -999, 9, -999, 9, -999, 9, -999, 9, -999, 9,  -999.00, 9,  -999.00, 9,  -999.00, 9,  -999.00, 9,   3.7995,  -999.00, 9, 1004,    9.6563,  -52.3529
316N200309, A20, 63, 1, 14, 14, 2, 20031015, 0858, 9.6478, -52.3513, 4874,  1998.80,   1998.8,   3.7452,  34.9780, 2,  34.9784, 2,    259.4, 2,    259.6, 2,    15.10, 2,    18.27, 2,     0.00, 2,     1.20, 2,    0.691, 2,    0.349, 2,    0.018, 2,    1.228, 2,   -999.0, 9,   -999.0, 9,  -999.00, 9,  -999.00, 9, -999.000, 9, -999.000, -999.0000, 9, -999.0000,  -999.00, 9,  -999.00, -999.000, 9, -999.000,   -999.0, 9,   -999.0,  -999.00, 9, -999.0000, 9, -999.0000, 9, -999.0000, 9, -999.0000, 9, -999.0000, 9, -999.0000, 9, -999, 9, -999, 9, -999, 9, -999, 9, -999, 9, -999, 9, -999, 9,  -999.00, 9,  -999.00, 9,  -999.00, 9,  -999.00, 9,   3.5816,  -999.00, 9, 1000,    9.6557,  -52.3528
316N200309, A20, 63, 1, 13, 13, 2, 20031015, 0858, 9.6478, -52.3513, 4874,  2248.80,   2248.8,   3.4165,  34.9678, 2,  34.9681, 2,    259.8, 2,    259.9, 2,    17.69, 2,    18.41, 2,     0.00, 2,     1.22, 2,    0.420, 2,    0.220, 2,    0.005, 2,    0.899, 2,   -999.0, 9,   -999.0, 9,  -999.00, 9,  -999.00, 9, -999.000, 9, -999.000, -999.0000, 9, -999.0000,  -999.00, 9,  -999.00, -999.000, 9, -999.000,   -999.0, 9,   -999.0,  -999.00, 9, -999.0000, 9, -999.0000, 9, -999.0000, 9, -999.0000, 9, -999.0000, 9, -999.0000, 9, -999, 9, -999, 9, -999, 9, -999, 9, -999, 9, -999, 9, -999, 9,  -999.00, 9,  -999.00, 9,  -999.00, 9,  -999.00, 9,   3.2337,  -999.00, 9,  955,    9.6549,  -52.3525
316N200309, A20, 63, 1, 12, 12, 2, 20031015, 0858, 9.6478, -52.3513, 4874,  2499.60,   2499.6,   3.1177,  34.9532, 2,  34.9534, 2,    260.2, 2,    258.8, 2,    20.49, 2,    18.58, 2,     0.00, 2,     1.23, 2,    0.310, 2,    0.160, 2,    0.003, 2,    0.734, 2,   -999.0, 9,   -999.0, 9,  -999.00, 9,  -999.00, 9, -999.000, 9, -999.000, -999.0000, 9, -999.0000,  -999.00, 9,  -999.00, -999.000, 9, -999.000,   -999.0, 9,   -999.0,  -999.00, 9, -999.0000, 9, -999.0000, 9, -999.0000, 9, -999.0000, 9, -999.0000, 9, -999.0000, 9, -999, 9, -999, 9, -999, 9, -999, 9, -999, 9, -999, 9, -999, 9,  -999.00, 9,  -999.00, 9,  -999.00, 9,  -999.00, 9,   2.9156,  -999.00, 9,  950,    9.6541,  -52.3523
316N200309, A20, 63, 1, 11, 11, 2, 20031015, 0858, 9.6478, -52.3513, 4874,  2750.30,   2750.3,   2.9531,  34.9430, 2,  34.9416, 2,    259.9, 2,    258.7, 2,    22.56, 2,    18.66, 2,     0.00, 2,     1.25, 2,    0.281, 2,    0.143, 2,    0.005, 2,    0.680, 2,   -999.0, 9,   -999.0, 9,  -999.00, 9,  -999.00, 9, -999.000, 9, -999.000, -999.0000, 9, -999.0000,  -999.00, 9,  -999.00, -999.000, 9, -999.000,   -999.0, 9,   -999.0,  -999.00, 9, -999.0000, 9, -999.0000, 9, -999.0000, 9, -999.0000, 9, -999.0000, 9, -999.0000, 9, -999, 9, -999, 9, -999, 9, -999, 9, -999, 9, -999, 9, -999, 9,  -999.00, 9,  -999.00, 9,  -999.00, 9,  -999.00, 9,   2.7290,  -999.00, 9,  945,    9.6534,  -52.3522