BOTTLE,20220816CCHSIOAMB
EXPOCODE,SECT_ID,STNNBR,CASTNO,SAMPNO,BTLNBR,BTLNBR_FLAG_W,DATE,TIME,LATITUDE,LONGITUDE,DEPTH,CTDRAW,CTDPRS,CTDTMP,CTDSAL,CTDSAL_FLAG_W,SALNTY,SALNTY_FLAG_W,CTDOXY,CTDOXY_FLAG_W,OXYGEN,OXYGEN_FLAG_W,SILCAT,SILCAT_FLAG_W,NITRAT,NITRAT_FLAG_W,NITRIT,NITRIT_FLAG_W,PHSPHT,PHSPHT_FLAG_W,CFC-11,CFC-11_FLAG_W,CFC-12,CFC-12_FLAG_W,CFC113,CFC113_FLAG_W,CCL4,CCL4_FLAG_W,TCARBN,TCARBN_FLAG_W,ALKALI,ALKALI_FLAG_W,DOC,DOC_FLAG_W,TDN,TDN_FLAG_W,TRITUM,TRITUM_FLAG_W,TRITER,HELIUM,HELIUM_FLAG_W,HELIER,DELHE3,DELHE3_FLAG_W,DELHER,NEON,NEON_FLAG_W,NEONER,DELC14,DELC14_FLAG_W,C14ERR,DELC13,DELC13_FLAG_W,CDOM325,CDOM325_FLAG_W,CDOM340,CDOM340_FLAG_W,CDOM380,CDOM380_FLAG_W,CDOM412,CDOM412_FLAG_W,CDOMSL,CDOMSL_FLAG_W,CDOMSN,CDOMSN_FLAG_W,DCNS,DCNS_FLAG_W,ARABI,ARABI_FLAG_W,FUCO,FUCO_FLAG_W,GALA,GALA_FLAG_W,GLUC,GLUC_FLAG_W,MAN,MAN_FLAG_W,RHAM,RHAM_FLAG_W,BRDU,BRDU_FLAG_W,PEUK,PEUK_FLAG_W,PROC,PROC_FLAG_W,SYN,SYN_FLAG_W,THETA,BACT,BACT_FLAG_W,BTL_TIME,BTL_LAT,BTL_LON
,,,,,,,,,,,METERS,DBAR,DBAR,ITS-90,PSS-78,,PSS-78,,UMOL/KG,,UMOL/KG,,UMOL/KG,,UMOL/KG,,UMOL/KG,,UMOL/KG,,PMOL/KG,,PMOL/KG,,PMOL/KG,,PMOL/KG,,UMOL/KG,,UMOL/KG,,UMOL/KG,,UMOL/KG,,TU,,TU,NMOL/KG,,NMOL/KG,PERCNT,,PERCNT,NMOL/KG,,NMOL/KG,/MILLE,,/MILLE,/MILLE,,1/M,,1/M,,1/M,,1/M,,1/NM,,1/NM,,NMOL/KG,,NMOL/KG,,NMOL/KG,,NMOL/KG,,NMOL/KG,,NMOL/KG,,NMOL/KG,,PMOL/L/H,,E6/L,,E7/L,,E6/L,,DEG C,E8/L,,,,
316N200309, A20, 18, 1, 10, 10, 2, 20030929, 0223, 39.3178, -51.9663, 5325,  3000.40,   3000.4,   2.9665,  34.9384, 2,  34.9380, 2,    266.2, 2,    266.7, 2,    19.63, 2,    17.93, 2,     0.01, 2,     1.20, 2,    0.692, 2,    0.341, 6,    0.029, 2,    1.177, 2,   -999.0, 9,   -999.0, 9,  -999.00, 9,  -999.00, 9,    0.296, 2,    0.002,   1.8821, 2,   0.0094,     5.21, 2,     0.20,    8.041, 2,    0.040,   -999.0, 9,   -999.0,  -999.00, 9,    0.1130, 2,    0.0880, 2,    0.0450, 2,    0.0300, 2,    0.0160, 2,    0.0160, 2, -999, 9, -999, 9, -999, 9, -999, 9, -999, 9, -999, 9, -999, 9,  -999.00, 9,  -999.00, 9,  -999.00, 9,  -999.00, 9,   2.7164,  -999.00, 9,  317,   39.3028,  -51.9561
316N200309, A20, 18, 1, 9, 9, 2, 20030929, 0223, 39.3178, -51.9663, 5325,  3199.90,   3199.9,   2.7945,  34.9291, 2,  34.9286, 2,    267.1, 2,    267.6, 2,    20.75, 2,    17.88, 2,     0.01, 2,     1.20, 2,    0.704, 2,    0.350, 2,    0.034, 2, -999.000, 9,   -999.0, 9,   -999.0, 9,  -999.00, 9,  -999.00, 9, -999.000, 9, -999.000, -999.0000, 9, -999.0000,  -999.00, 9,  -999.00, -999.000, 9, -999.000,   -999.0, 9,   -999.0,  -999.00, 9, -999.0000, 9, -999.0000, 9, -999.0000, 9, -999.0000, 9, -999.0000, 9, -999.0000, 9, -999, 9, -999, 9, -999, 9, -999, 9, -999, 9, -999, 9, -999, 9,  -999.00, 9,  -999.00, 9,  -999.00, 9,  -999.00, 9,   2.5272,  -999.00, 9,  312,   39.3039,  -51.9569
316N200309, A20, 18, 1, 8, 8, 2, 20030929, 0223, 39.3178, -51.9663, 5325,  3403.40,   3403.4,   2.6501,  34.9210, 2,  34.9219, 2,    268.6, 2,    268.8, 2,    21.99, 2,    17.88, 2,     0.00, 2,     1.20, 2,    0.715, 2,    0.358, 2,    0.040, 2, -999.000, 9,   -999.0, 9,   -999.0, 9,  -999.00, 9,  -999.00, 9,    0.285, 2,    0.002,   1.8857, 2,   0.0094,     4.78, 2,     0.20,    8.070, 2,    0.040,   -999.0, 9,   -999.0,  -999.00, 9, -999.0000, 9, -999.0000, 9, -999.0000, 9, -999.0000, 9, -999.0000, 9, -999.0000, 9, -999, 9, -999, 9, -999, 9, -999, 9, -999, 9, -999, 9, -999, 9,  -999.00, 9,  -999.00, 9,  -999.00, 9,  -999.00, 9,   2.3644,  -999.00, 9,  308,   39.3051,  -51.9577
316N200309, A20, 18, 1, 7, 7, 2, 20030929, 0223, 39.3178, -51.9663, 5325,  3602.40,   3602.4,   2.5133,  34.9119, 2,  34.9117, 2,    270.0, 2,    275.4, 3,    23.12, 2,    17.72, 2,     0.01, 2,     1.20, 2,    0.848, 2,    0.421, 2,    0.044, 2, -999.000, 9,   -999.0, 9,   -999.0, 9,  -999.00, 9,  -999.00, 9, -999.000, 9, -999.000, -999.0000, 9, -999.0000,  -999.00, 9,  -999.00, -999.000, 9, -999.000,   -999.0, 9,   -999.0,  -999.00, 9, -999.0000, 9, -999.0000, 9, -999.0000, 9, -999.0000, 9, -999.0000, 9, -999.0000, 9, -999, 9, -999, 9, -999, 9, -999, 9, -999, 9, -999, 9, -999, 9,  -999.00, 9,  -999.00, 9,  -999.00, 9,  -999.00, 9,   2.2093,  -999.00, 9,  303,   39.3064,  -51.9586
316N200309, A20, 18, 1, 6, 6, 2, 20030929, 0223, 39.3178, -51.9663, 5325,  3802.90,   3802.9,   2.4025,  34.9041, 2,  34.9048, 2,    269.9, 2,    274.0, 3,    24.87, 2,    17.98, 2,     0.01, 2,     1.21, 2,    0.881, 2,    0.444, 2,    0.055, 2, -999.000, 9,   -999.0, 9,   -999.0, 9,  -999.00, 9,  -999.00, 9, -999.000, 9, -999.000, -999.0000, 9, -999.0000,  -999.00, 9,  -999.00, -999.000, 9, -999.000,   -999.0, 9,   -999.0,  -999.00, 9, -999.0000, 9, -999.0000, 9, -999.0000, 9, -999.0000, 9, -999.0000, 9, -999.0000, 9, -999, 9, -999, 9, -999, 9, -999, 9, -999, 9, -999, 9, -999, 9,  -999.00, 9,  -999.00, 9,  -999.00, 9,  -999.00, 9,   2.0793,  -999.00, 9,  259,   39.3074,  -51.9593
316N200309, A20, 18, 1, 5, 5, 2, 20030929, 0223, 39.3178, -51.9663, 5325,  4000.70,   4000.7,   2.3439,  34.8992, 2,  34.9012, 2,    269.3, 2,    270.8, 2,    26.94, 2,    18.23, 2,     0.00, 2,     1.23, 2,    0.821, 6,    0.408, 6,    0.041, 6, -999.000, 9,   -999.0, 9,   -999.0, 9,  -999.00, 9,  -999.00, 9,    0.306, 2,    0.002,   1.8767, 2,   0.0094,     5.31, 2,     0.20,    8.087, 2,    0.040,   -999.0, 9,   -999.0,  -999.00, 9,    0.1120, 2,    0.0870, 2,    0.0440, 2,    0.0280, 2,    0.0170, 2,    0.0170, 2, -999, 9, -999, 9, -999, 9, -999, 9, -999, 9, -999, 9, -999, 9,  -999.00, 9,  -999.00, 9,  -999.00, 9,  -999.00, 9,   1.9999,  -999.00, 9,  254,   39.3085,  -51.9600
316N200309, A20, 18, 1, 4, 4, 2, 20030929, 0223, 39.3178, -51.9663, 5325,  4350.10,   4350.1,   2.2889,  34.8922, 2,  34.8924, 2,    267.6, 2,    268.8, 2,    29.53, 2,    18.53, 2,     0.00, 2,     1.26, 2,    0.823, 2,    0.415, 2,    0.054, 2, -999.000, 9,   -999.0, 9,   -999.0, 9,  -999.00, 9,  -999.00, 9,    0.310, 2,    0.002,   1.9065, 2,   0.0095,     5.03, 2,     0.20,    8.147, 2,    0.041,   -999.0, 9,   -999.0,  -999.00, 9, -999.0000, 9, -999.0000, 9, -999.0000, 9, -999.0000, 9, -999.0000, 9, -999.0000, 9, -999, 9, -999, 9, -999, 9, -999, 9, -999, 9, -999, 9, -999, 9,  -999.00, 9,  -999.00, 9,  -999.00, 9,  -999.00, 9,   1.9060,  -999.00, 9,  248,   39.3103,  -51.9612
316N200309, A20, 18, 1, 3, 3, 2, 20030929, 0223, 39.3178, -51.9663, 5325,  4697.70,   4697.7,   2.2727,  34.8869, 2,  34.8888, 2,    266.3, 2,    266.8, 2,    31.81, 2,    18.88, 2,     0.00, 2,     1.28, 2,    0.823, 2,    0.418, 2,    0.053, 2, -999.000, 9,   -999.0, 9,   -999.0, 9,  -999.00, 9,  -999.00, 9, -999.000, 9, -999.000, -999.0000, 9, -999.0000,  -999.00, 9,  -999.00, -999.000, 9, -999.000,   -999.0, 9,   -999.0,  -999.00, 9, -999.0000, 9, -999.0000, 9, -999.0000, 9, -999.0000, 9, -999.0000, 9, -999.0000, 9, -999, 9, -999, 9, -999, 9, -999, 9, -999, 9, -999, 9, -999, 9,  -999.00, 9,  -999.00, 9,  -999.00, 9,  -999.00, 9,   1.8485,  -999.00, 9,  241,   39.3124,  -51.9625
316N200309, A20, 18, 1, 2, 2, 2, 20030929, 0223, 39.3178, -51.9663, 5325,  5048.20,   5048.2,   2.2681,  34.8820, 2,  34.8821, 2,    264.9, 2,    265.2, 2,    33.78, 2,    19.18, 2,     0.00, 2,     1.30, 2,    0.861, 2,    0.433, 2,    0.059, 2, -999.000, 9,   -999.0, 9,   -999.0, 9,  -999.00, 9,  -999.00, 9,    0.308, 2,    0.002,   1.9080, 2,   0.0095,     4.54, 2,     0.20,    8.145, 2,    0.041,   -999.0, 9,   -999.0,  -999.00, 9, -999.0000, 9, -999.0000, 9, -999.0000, 9, -999.0000, 9, -999.0000, 9, -999.0000, 9, -999, 9, -999, 9, -999, 9, -999, 9, -999, 9, -999, 9, -999, 9,  -999.00, 9,  -999.00, 9,  -999.00, 9,  -999.00, 9,   1.8004,  -999.00, 9,  233,   39.3149,  -51.9643
316N200309, A20, 18, 1, 1, 1, 2, 20030929, 0223, 39.3178, -51.9663, 5325,  5410.00,   5410.0,   2.2628,  34.8747, 2,  34.8873, 3,    260.9, 2,    260.2, 2,    39.28, 2,    20.03, 2,     0.01, 2,     1.38, 2,    0.621, 2,    0.317, 2,    0.041, 2, -999.000, 9,   -999.0, 9,   -999.0, 9,  -999.00, 9,  -999.00, 9,    0.213, 2,    0.002,   1.8953, 2,   0.0095,     4.17, 2,     0.20,    8.111, 2,    0.041,   -999.0, 9,   -999.0,  -999.00, 9,    0.1100, 2,    0.0870, 2,    0.0460, 2,    0.0280, 2,    0.0160, 2,    0.0160, 2, -999, 9, -999, 9, -999, 9, -999, 9, -999, 9, -999, 9, -999, 9,  -999.00, 9,  -999.00, 9,  -999.00, 9,  -999.00, 9,   1.7488,  -999.00, 9,  224,   39.3176,  -51.9661