BOTTLE,20220816CCHSIOAMB
EXPOCODE,SECT_ID,STNNBR,CASTNO,SAMPNO,BTLNBR,BTLNBR_FLAG_W,DATE,TIME,LATITUDE,LONGITUDE,DEPTH,CTDRAW,CTDPRS,CTDTMP,CTDSAL,CTDSAL_FLAG_W,SALNTY,SALNTY_FLAG_W,CTDOXY,CTDOXY_FLAG_W,OXYGEN,OXYGEN_FLAG_W,SILCAT,SILCAT_FLAG_W,NITRAT,NITRAT_FLAG_W,NITRIT,NITRIT_FLAG_W,PHSPHT,PHSPHT_FLAG_W,CFC-11,CFC-11_FLAG_W,CFC-12,CFC-12_FLAG_W,CFC113,CFC113_FLAG_W,CCL4,CCL4_FLAG_W,TCARBN,TCARBN_FLAG_W,ALKALI,ALKALI_FLAG_W,DOC,DOC_FLAG_W,TDN,TDN_FLAG_W,TRITUM,TRITUM_FLAG_W,TRITER,HELIUM,HELIUM_FLAG_W,HELIER,DELHE3,DELHE3_FLAG_W,DELHER,NEON,NEON_FLAG_W,NEONER,DELC14,DELC14_FLAG_W,C14ERR,DELC13,DELC13_FLAG_W,CDOM325,CDOM325_FLAG_W,CDOM340,CDOM340_FLAG_W,CDOM380,CDOM380_FLAG_W,CDOM412,CDOM412_FLAG_W,CDOMSL,CDOMSL_FLAG_W,CDOMSN,CDOMSN_FLAG_W,DCNS,DCNS_FLAG_W,ARABI,ARABI_FLAG_W,FUCO,FUCO_FLAG_W,GALA,GALA_FLAG_W,GLUC,GLUC_FLAG_W,MAN,MAN_FLAG_W,RHAM,RHAM_FLAG_W,BRDU,BRDU_FLAG_W,PEUK,PEUK_FLAG_W,PROC,PROC_FLAG_W,SYN,SYN_FLAG_W,THETA,BACT,BACT_FLAG_W,BTL_TIME,BTL_LAT,BTL_LON
,,,,,,,,,,,METERS,DBAR,DBAR,ITS-90,PSS-78,,PSS-78,,UMOL/KG,,UMOL/KG,,UMOL/KG,,UMOL/KG,,UMOL/KG,,UMOL/KG,,PMOL/KG,,PMOL/KG,,PMOL/KG,,PMOL/KG,,UMOL/KG,,UMOL/KG,,UMOL/KG,,UMOL/KG,,TU,,TU,NMOL/KG,,NMOL/KG,PERCNT,,PERCNT,NMOL/KG,,NMOL/KG,/MILLE,,/MILLE,/MILLE,,1/M,,1/M,,1/M,,1/M,,1/NM,,1/NM,,NMOL/KG,,NMOL/KG,,NMOL/KG,,NMOL/KG,,NMOL/KG,,NMOL/KG,,NMOL/KG,,PMOL/L/H,,E6/L,,E7/L,,E6/L,,DEG C,E8/L,,,,
316N200309, A20, 13, 1, 9, 9, 2, 20030927, 1455, 41.3062, -51.7898, 4756,  3202.20,   3202.2,   2.7503,  34.9262, 2,  34.9252, 2,    268.7, 2,    268.7, 2,    20.29, 2,    17.82, 2,     0.00, 2,     1.19, 2,    0.747, 2,    0.398, 2,    0.033, 2,    1.229, 2,   2163.4, 2,   2311.7, 2,  -999.00, 9,  -999.00, 9, -999.000, 9, -999.000, -999.0000, 9, -999.0000,  -999.00, 9,  -999.00, -999.000, 9, -999.000,   -999.0, 9,   -999.0,  -999.00, 9, -999.0000, 9, -999.0000, 9, -999.0000, 9, -999.0000, 9, -999.0000, 9, -999.0000, 9, -999, 9, -999, 9, -999, 9, -999, 9, -999, 9, -999, 9, -999, 9,  -999.00, 9,  -999.00, 9,  -999.00, 9,  -999.00, 9,   2.4838,  -999.00, 9, 1537,   41.3130,  -51.7890
316N200309, A20, 13, 1, 8, 8, 2, 20030927, 1455, 41.3062, -51.7898, 4756,  3402.80,   3402.8,   2.5982,  34.9177, 2,  34.9195, 2,    269.0, 2,    269.0, 2,    21.73, 2,    17.82, 2,     0.00, 2,     1.19, 2,    0.737, 2,    0.402, 2,    0.036, 2,    1.259, 2,   2164.9, 2,   2311.5, 2,  -999.00, 9,  -999.00, 9, -999.000, 9, -999.000, -999.0000, 9, -999.0000,  -999.00, 9,  -999.00, -999.000, 9, -999.000,   -999.0, 9,   -999.0,  -999.00, 9, -999.0000, 9, -999.0000, 9, -999.0000, 9, -999.0000, 9, -999.0000, 9, -999.0000, 9, -999, 9, -999, 9, -999, 9, -999, 9, -999, 9, -999, 9, -999, 9,  -999.00, 9,  -999.00, 9,  -999.00, 9,  -999.00, 9,   2.3139,  -999.00, 9, 1532,   41.3122,  -51.7889
316N200309, A20, 13, 1, 7, 7, 2, 20030927, 1455, 41.3062, -51.7898, 4756,  3600.80,   3600.8,   2.4742,  34.9097, 2,  34.9111, 2,    269.2, 2,    269.8, 2,    23.07, 2,    17.91, 2,     0.00, 2,     1.19, 2,    0.817, 2,    0.450, 2,    0.043, 2,    1.358, 2,   2166.6, 2,   2310.9, 2,    42.10, 2,  -999.00, 9, -999.000, 9, -999.000, -999.0000, 9, -999.0000,  -999.00, 9,  -999.00, -999.000, 9, -999.000,   -999.0, 9,   -999.0,  -999.00, 9, -999.0000, 9, -999.0000, 9, -999.0000, 9, -999.0000, 9, -999.0000, 9, -999.0000, 9, -999, 9, -999, 9, -999, 9, -999, 9, -999, 9, -999, 9, -999, 9,  -999.00, 9,  -999.00, 9,  -999.00, 9,  -999.00, 9,   2.1715,  -999.00, 9, 1527,   41.3114,  -51.7888
316N200309, A20, 13, 1, 6, 6, 2, 20030927, 1455, 41.3062, -51.7898, 4756,  3802.70,   3802.7,   2.3723,  34.9018, 2,  34.9010, 2,    270.0, 2,    270.5, 2,    24.20, 2,    17.96, 2,     0.00, 2,     1.20, 2,    0.947, 2,    0.512, 2,    0.050, 2,    1.482, 2,   2169.9, 2,   2314.5, 2,  -999.00, 9,  -999.00, 9, -999.000, 9, -999.000, -999.0000, 9, -999.0000,  -999.00, 9,  -999.00, -999.000, 9, -999.000,   -999.0, 9,   -999.0,  -999.00, 9, -999.0000, 9, -999.0000, 9, -999.0000, 9, -999.0000, 9, -999.0000, 9, -999.0000, 9, -999, 9, -999, 9, -999, 9, -999, 9, -999, 9, -999, 9, -999, 9,  -999.00, 9,  -999.00, 9,  -999.00, 9,  -999.00, 9,   2.0499,  -999.00, 9, 1522,   41.3106,  -51.7888
316N200309, A20, 13, 1, 5, 5, 2, 20030927, 1455, 41.3062, -51.7898, 4756,  4001.80,   4001.8,   2.3066,  34.8967, 2,  34.8959, 2,    268.4, 2,    268.2, 2,    27.72, 2,    18.45, 2,     0.00, 2,     1.24, 2,    0.758, 2,    0.410, 2,    0.042, 2,    1.251, 2,   2171.6, 2,   2315.0, 2,  -999.00, 9,  -999.00, 9, -999.000, 9, -999.000, -999.0000, 9, -999.0000,  -999.00, 9,  -999.00, -999.000, 9, -999.000,   -999.0, 9,   -999.0,  -999.00, 9, -999.0000, 9, -999.0000, 9, -999.0000, 9, -999.0000, 9, -999.0000, 9, -999.0000, 9, -999, 9, -999, 9, -999, 9, -999, 9, -999, 9, -999, 9, -999, 9,  -999.00, 9,  -999.00, 9,  -999.00, 9,  -999.00, 9,   1.9636,  -999.00, 9, 1517,   41.3099,  -51.7889
316N200309, A20, 13, 1, 4, 4, 2, 20030927, 1455, 41.3062, -51.7898, 4756,  4251.20,   4251.2,   2.2666,  34.8914, 2,  34.8898, 2,    270.6, 2,    268.1, 2,    28.75, 2,    18.55, 2,     0.00, 2,     1.25, 2,    0.887, 2,    0.489, 2,    0.053, 2,    1.363, 2,   2173.4, 2,   2319.9, 2,  -999.00, 9,  -999.00, 9, -999.000, 9, -999.000, -999.0000, 9, -999.0000,  -999.00, 9,  -999.00, -999.000, 9, -999.000,   -999.0, 9,   -999.0,  -999.00, 9, -999.0000, 9, -999.0000, 9, -999.0000, 9, -999.0000, 9, -999.0000, 9, -999.0000, 9, -999, 9, -999, 9, -999, 9, -999, 9, -999, 9, -999, 9, -999, 9,  -999.00, 9,  -999.00, 9,  -999.00, 9,  -999.00, 9,   1.8959,  -999.00, 9, 1511,   41.3090,  -51.7891
316N200309, A20, 13, 1, 3, 3, 2, 20030927, 1455, 41.3062, -51.7898, 4756,  4508.40,   4508.4,   2.2391,  34.8866, 2,  34.8861, 2,    267.3, 2,    268.5, 2,    29.47, 2,    18.55, 2,     0.00, 2,     1.25, 2,    1.057, 2,    0.568, 2,    0.061, 2,    1.521, 2,   2176.7, 2,   2316.9, 2,  -999.00, 9,  -999.00, 9, -999.000, 9, -999.000, -999.0000, 9, -999.0000,  -999.00, 9,  -999.00, -999.000, 9, -999.000,   -999.0, 9,   -999.0,  -999.00, 9, -999.0000, 9, -999.0000, 9, -999.0000, 9, -999.0000, 9, -999.0000, 9, -999.0000, 9, -999, 9, -999, 9, -999, 9, -999, 9, -999, 9, -999, 9, -999, 9,  -999.00, 9,  -999.00, 9,  -999.00, 9,  -999.00, 9,   1.8389,  -999.00, 9, 1505,   41.3081,  -51.7893
316N200309, A20, 13, 1, 2, 2, 2, 20030927, 1455, 41.3062, -51.7898, 4756,  4773.20,   4773.2,   2.2305,  34.8832, 2,  34.8827, 2,    269.1, 2,    268.8, 2,    29.88, 2,    18.55, 2,     0.00, 2,     1.25, 2,    1.212, 6,    0.622, 6,    0.072, 2,    1.599, 2,   2177.0, 2,   2319.7, 2,    43.50, 2,  -999.00, 9, -999.000, 9, -999.000, -999.0000, 9, -999.0000,  -999.00, 9,  -999.00, -999.000, 9, -999.000,   -999.0, 9,   -999.0,  -999.00, 9, -999.0000, 9, -999.0000, 9, -999.0000, 9, -999.0000, 9, -999.0000, 9, -999.0000, 9, -999, 9, -999, 9, -999, 9, -999, 9, -999, 9, -999, 9, -999, 9,  -999.00, 9,  -999.00, 9,  -999.00, 9,  -999.00, 9,   1.7984,  -999.00, 9, 1458,   41.3067,  -51.7897
316N200309, A20, 13, 1, 1, 1, 2, 20030927, 1455, 41.3062, -51.7898, 4756,  4858.50,   4858.5,   2.2274,  34.8819, 2,  34.8821, 2,    269.5, 2,    269.0, 2,    30.07, 2,    18.54, 2,     0.00, 2,     1.25, 2,    1.255, 2,    0.653, 2,    0.075, 2,    1.616, 2,   2178.4, 2,   2320.7, 2,  -999.00, 9,  -999.00, 9, -999.000, 9, -999.000, -999.0000, 9, -999.0000,  -999.00, 9,  -999.00, -999.000, 9, -999.000,   -999.0, 9,   -999.0,  -999.00, 9, -999.0000, 9, -999.0000, 9, -999.0000, 9, -999.0000, 9, -999.0000, 9, -999.0000, 9, -999, 9, -999, 9, -999, 9, -999, 9, -999, 9, -999, 9, -999, 9,  -999.00, 9,  -999.00, 9,  -999.00, 9,  -999.00, 9,   1.7849,  -999.00, 9, 1455,   41.3062,  -51.7898