BOTTLE,20220816CCHSIOAMB
EXPOCODE,SECT_ID,STNNBR,CASTNO,SAMPNO,BTLNBR,BTLNBR_FLAG_W,DATE,TIME,LATITUDE,LONGITUDE,DEPTH,CTDRAW,CTDPRS,CTDTMP,CTDSAL,CTDSAL_FLAG_W,SALNTY,SALNTY_FLAG_W,CTDOXY,CTDOXY_FLAG_W,OXYGEN,OXYGEN_FLAG_W,SILCAT,SILCAT_FLAG_W,NITRAT,NITRAT_FLAG_W,NITRIT,NITRIT_FLAG_W,PHSPHT,PHSPHT_FLAG_W,CFC-11,CFC-11_FLAG_W,CFC-12,CFC-12_FLAG_W,CFC113,CFC113_FLAG_W,CCL4,CCL4_FLAG_W,TCARBN,TCARBN_FLAG_W,ALKALI,ALKALI_FLAG_W,DOC,DOC_FLAG_W,TDN,TDN_FLAG_W,TRITUM,TRITUM_FLAG_W,TRITER,HELIUM,HELIUM_FLAG_W,HELIER,DELHE3,DELHE3_FLAG_W,DELHER,NEON,NEON_FLAG_W,NEONER,DELC14,DELC14_FLAG_W,C14ERR,DELC13,DELC13_FLAG_W,CDOM325,CDOM325_FLAG_W,CDOM340,CDOM340_FLAG_W,CDOM380,CDOM380_FLAG_W,CDOM412,CDOM412_FLAG_W,CDOMSL,CDOMSL_FLAG_W,CDOMSN,CDOMSN_FLAG_W,DCNS,DCNS_FLAG_W,ARABI,ARABI_FLAG_W,FUCO,FUCO_FLAG_W,GALA,GALA_FLAG_W,GLUC,GLUC_FLAG_W,MAN,MAN_FLAG_W,RHAM,RHAM_FLAG_W,BRDU,BRDU_FLAG_W,PEUK,PEUK_FLAG_W,PROC,PROC_FLAG_W,SYN,SYN_FLAG_W,THETA,BACT,BACT_FLAG_W,BTL_TIME,BTL_LAT,BTL_LON
,,,,,,,,,,,METERS,DBAR,DBAR,ITS-90,PSS-78,,PSS-78,,UMOL/KG,,UMOL/KG,,UMOL/KG,,UMOL/KG,,UMOL/KG,,UMOL/KG,,PMOL/KG,,PMOL/KG,,PMOL/KG,,PMOL/KG,,UMOL/KG,,UMOL/KG,,UMOL/KG,,UMOL/KG,,TU,,TU,NMOL/KG,,NMOL/KG,PERCNT,,PERCNT,NMOL/KG,,NMOL/KG,/MILLE,,/MILLE,/MILLE,,1/M,,1/M,,1/M,,1/M,,1/NM,,1/NM,,NMOL/KG,,NMOL/KG,,NMOL/KG,,NMOL/KG,,NMOL/KG,,NMOL/KG,,NMOL/KG,,PMOL/L/H,,E6/L,,E7/L,,E6/L,,DEG C,E8/L,,,,
316N200309, A20, 63, 1, 10, 10, 2, 20031015, 0858, 9.6478, -52.3513, 4874,  3000.30,   3000.3,   2.8054,  34.9330, 2,  34.9305, 2,    258.9, 2,    258.4, 2,    25.68, 2,    19.07, 2,     0.00, 2,     1.28, 2,    0.253, 2,    0.135, 2,    0.002, 2,    0.644, 2,   -999.0, 9,   -999.0, 9,  -999.00, 9,  -999.00, 9, -999.000, 9, -999.000, -999.0000, 9, -999.0000,  -999.00, 9,  -999.00, -999.000, 9, -999.000,   -999.0, 9,   -999.0,  -999.00, 9, -999.0000, 9, -999.0000, 9, -999.0000, 9, -999.0000, 9, -999.0000, 9, -999.0000, 9, -999, 9, -999, 9, -999, 9, -999, 9, -999, 9, -999, 9, -999, 9,  -999.00, 9,  -999.00, 9,  -999.00, 9,  -999.00, 9,   2.5588,  -999.00, 9,  940,    9.6527,  -52.3520
316N200309, A20, 63, 1, 9, 9, 2, 20031015, 0858, 9.6478, -52.3513, 4874,  3200.10,   3200.1,   2.7009,  34.9251, 2,  34.9246, 2,    256.2, 2,    257.0, 2,    29.62, 2,    19.71, 2,     0.00, 2,     1.32, 2,    0.138, 2,    0.076, 2,    0.005, 2,    0.411, 2,   -999.0, 9,   -999.0, 9,  -999.00, 9,  -999.00, 9, -999.000, 9, -999.000, -999.0000, 9, -999.0000,  -999.00, 9,  -999.00, -999.000, 9, -999.000,   -999.0, 9,   -999.0,  -999.00, 9, -999.0000, 9, -999.0000, 9, -999.0000, 9, -999.0000, 9, -999.0000, 9, -999.0000, 9, -999, 9, -999, 9, -999, 9, -999, 9, -999, 9, -999, 9, -999, 9,  -999.00, 9,  -999.00, 9,  -999.00, 9,  -999.00, 9,   2.4358,  -999.00, 9,  936,    9.6522,  -52.3518
316N200309, A20, 63, 1, 8, 8, 2, 20031015, 0858, 9.6478, -52.3513, 4874,  3400.40,   3400.4,   2.5785,  34.9163, 2,  34.9176, 2,    257.8, 2,    258.8, 2,    30.23, 2,    19.51, 2,     0.00, 2,     1.31, 2,    0.194, 2,    0.109, 2,    0.002, 2,    0.510, 2,   -999.0, 9,   -999.0, 9,  -999.00, 9,  -999.00, 9, -999.000, 9, -999.000, -999.0000, 9, -999.0000,  -999.00, 9,  -999.00, -999.000, 9, -999.000,   -999.0, 9,   -999.0,  -999.00, 9, -999.0000, 9, -999.0000, 9, -999.0000, 9, -999.0000, 9, -999.0000, 9, -999.0000, 9, -999, 9, -999, 9, -999, 9, -999, 9, -999, 9, -999, 9, -999, 9,  -999.00, 9,  -999.00, 9,  -999.00, 9,  -999.00, 9,   2.2948,  -999.00, 9,  931,    9.6517,  -52.3516
316N200309, A20, 63, 1, 7, 7, 2, 20031015, 0858, 9.6478, -52.3513, 4874,  3600.20,   3600.2,   2.4773,  34.9088, 2,  34.9087, 2,    260.6, 2,    260.3, 2,    31.17, 2,    19.51, 2,     0.00, 2,     1.31, 2,    0.204, 2,    0.115, 2,    0.002, 2,    0.551, 2,   -999.0, 9,   -999.0, 9,  -999.00, 9,  -999.00, 9, -999.000, 9, -999.000, -999.0000, 9, -999.0000,  -999.00, 9,  -999.00, -999.000, 9, -999.000,   -999.0, 9,   -999.0,  -999.00, 9, -999.0000, 9, -999.0000, 9, -999.0000, 9, -999.0000, 9, -999.0000, 9, -999.0000, 9, -999, 9, -999, 9, -999, 9, -999, 9, -999, 9, -999, 9, -999, 9,  -999.00, 9,  -999.00, 9,  -999.00, 9,  -999.00, 9,   2.1746,  -999.00, 9,  927,    9.6512,  -52.3516
316N200309, A20, 63, 1, 6, 6, 2, 20031015, 0858, 9.6478, -52.3513, 4874,  3799.40,   3799.4,   2.3814,  34.9025, 2,  34.9028, 2,    262.8, 2,    263.2, 2,    30.55, 2,    19.05, 2,     0.00, 2,     1.29, 2,    0.279, 2,    0.152, 2,    0.003, 2,    0.735, 2,   -999.0, 9,   -999.0, 9,  -999.00, 9,  -999.00, 9, -999.000, 9, -999.000, -999.0000, 9, -999.0000,  -999.00, 9,  -999.00, -999.000, 9, -999.000,   -999.0, 9,   -999.0,  -999.00, 9, -999.0000, 9, -999.0000, 9, -999.0000, 9, -999.0000, 9, -999.0000, 9, -999.0000, 9, -999, 9, -999, 9, -999, 9, -999, 9, -999, 9, -999, 9, -999, 9,  -999.00, 9,  -999.00, 9,  -999.00, 9,  -999.00, 9,   2.0591,  -999.00, 9,  923,    9.6508,  -52.3516
316N200309, A20, 63, 1, 5, 5, 2, 20031015, 0858, 9.6478, -52.3513, 4874,  4000.40,   4000.4,   2.3213,  34.8975, 2,  34.8973, 2,    263.4, 2,    264.0, 2,    31.38, 2,    19.04, 2,     0.00, 2,     1.29, 2,    0.287, 2,    0.165, 2,    0.007, 2,    0.715, 2,   -999.0, 9,   -999.0, 9,  -999.00, 9,  -999.00, 9, -999.000, 9, -999.000, -999.0000, 9, -999.0000,  -999.00, 9,  -999.00, -999.000, 9, -999.000,   -999.0, 9,   -999.0,  -999.00, 9, -999.0000, 9, -999.0000, 9, -999.0000, 9, -999.0000, 9, -999.0000, 9, -999.0000, 9, -999, 9, -999, 9, -999, 9, -999, 9, -999, 9, -999, 9, -999, 9,  -999.00, 9,  -999.00, 9,  -999.00, 9,  -999.00, 9,   1.9780,  -999.00, 9,  919,    9.6502,  -52.3515
316N200309, A20, 63, 1, 4, 4, 2, 20031015, 0858, 9.6478, -52.3513, 4874,  4250.60,   4250.6,   2.2744,  34.8914, 2,  34.8920, 2,    262.7, 2,    262.7, 2,    33.66, 2,    19.36, 2,     0.00, 2,     1.31, 2,    0.278, 2,    0.145, 2,    0.006, 2,    0.722, 2,   -999.0, 9,   -999.0, 9,  -999.00, 9,  -999.00, 9, -999.000, 9, -999.000, -999.0000, 9, -999.0000,  -999.00, 9,  -999.00, -999.000, 9, -999.000,   -999.0, 9,   -999.0,  -999.00, 9, -999.0000, 9, -999.0000, 9, -999.0000, 9, -999.0000, 9, -999.0000, 9, -999.0000, 9, -999, 9, -999, 9, -999, 9, -999, 9, -999, 9, -999, 9, -999, 9,  -999.00, 9,  -999.00, 9,  -999.00, 9,  -999.00, 9,   1.9036,  -999.00, 9,  914,    9.6495,  -52.3514
316N200309, A20, 63, 1, 3, 3, 2, 20031015, 0858, 9.6478, -52.3513, 4874,  4500.20,   4500.2,   2.2202,  34.8827, 2,  34.8818, 2,    259.5, 2,    259.8, 2,    38.13, 2,    20.08, 2,     0.00, 2,     1.36, 2,    0.198, 2,    0.119, 2,    0.007, 2,    0.577, 2,   -999.0, 9,   -999.0, 9,  -999.00, 9,  -999.00, 9, -999.000, 9, -999.000, -999.0000, 9, -999.0000,  -999.00, 9,  -999.00, -999.000, 9, -999.000,   -999.0, 9,   -999.0,  -999.00, 9, -999.0000, 9, -999.0000, 9, -999.0000, 9, -999.0000, 9, -999.0000, 9, -999.0000, 9, -999, 9, -999, 9, -999, 9, -999, 9, -999, 9, -999, 9, -999, 9,  -999.00, 9,  -999.00, 9,  -999.00, 9,  -999.00, 9,   1.8216,  -999.00, 9,  909,    9.6490,  -52.3514
316N200309, A20, 63, 1, 2, 2, 2, 20031015, 0858, 9.6478, -52.3513, 4874,  4749.90,   4749.9,   2.0786,  34.8623, 2,  34.8617, 2,    252.7, 2,    251.6, 2,    48.52, 2,    21.68, 2,     0.00, 2,     1.48, 2,    0.123, 6,    0.077, 6,    0.001, 2,    0.397, 2,   -999.0, 9,   -999.0, 9,  -999.00, 9,  -999.00, 9, -999.000, 9, -999.000, -999.0000, 9, -999.0000,  -999.00, 9,  -999.00, -999.000, 9, -999.000,   -999.0, 9,   -999.0,  -999.00, 9, -999.0000, 9, -999.0000, 9, -999.0000, 9, -999.0000, 9, -999.0000, 9, -999.0000, 9, -999, 9, -999, 9, -999, 9, -999, 9, -999, 9, -999, 9, -999, 9,  -999.00, 9,  -999.00, 9,  -999.00, 9,  -999.00, 9,   1.6545,  -999.00, 9,  903,    9.6483,  -52.3512
316N200309, A20, 63, 1, 1, 1, 2, 20031015, 0858, 9.6478, -52.3513, 4874,  4927.20,   4927.2,   1.8042,  34.8260, 2,  34.8265, 2,    241.3, 2,    241.5, 2,    66.17, 2,    24.24, 2,     0.00, 2,     1.66, 2,    0.074, 2,    0.055, 2,    0.015, 2,    0.325, 2,   -999.0, 9,   -999.0, 9,  -999.00, 9,  -999.00, 9, -999.000, 9, -999.000, -999.0000, 9, -999.0000,  -999.00, 9,  -999.00, -999.000, 9, -999.000,   -999.0, 9,   -999.0,  -999.00, 9, -999.0000, 9, -999.0000, 9, -999.0000, 9, -999.0000, 9, -999.0000, 9, -999.0000, 9, -999, 9, -999, 9, -999, 9, -999, 9, -999, 9, -999, 9, -999, 9,  -999.00, 9,  -999.00, 9,  -999.00, 9,  -999.00, 9,   1.3676,  -999.00, 9,  858,    9.6478,  -52.3513