BOTTLE,20220816CCHSIOAMB
EXPOCODE,SECT_ID,STNNBR,CASTNO,SAMPNO,BTLNBR,BTLNBR_FLAG_W,DATE,TIME,LATITUDE,LONGITUDE,DEPTH,CTDRAW,CTDPRS,CTDTMP,CTDSAL,CTDSAL_FLAG_W,SALNTY,SALNTY_FLAG_W,CTDOXY,CTDOXY_FLAG_W,OXYGEN,OXYGEN_FLAG_W,SILCAT,SILCAT_FLAG_W,NITRAT,NITRAT_FLAG_W,NITRIT,NITRIT_FLAG_W,PHSPHT,PHSPHT_FLAG_W,CFC-11,CFC-11_FLAG_W,CFC-12,CFC-12_FLAG_W,CFC113,CFC113_FLAG_W,CCL4,CCL4_FLAG_W,TCARBN,TCARBN_FLAG_W,ALKALI,ALKALI_FLAG_W,DOC,DOC_FLAG_W,TDN,TDN_FLAG_W,TRITUM,TRITUM_FLAG_W,TRITER,HELIUM,HELIUM_FLAG_W,HELIER,DELHE3,DELHE3_FLAG_W,DELHER,NEON,NEON_FLAG_W,NEONER,DELC14,DELC14_FLAG_W,C14ERR,DELC13,DELC13_FLAG_W,CDOM325,CDOM325_FLAG_W,CDOM340,CDOM340_FLAG_W,CDOM380,CDOM380_FLAG_W,CDOM412,CDOM412_FLAG_W,CDOMSL,CDOMSL_FLAG_W,CDOMSN,CDOMSN_FLAG_W,DCNS,DCNS_FLAG_W,ARABI,ARABI_FLAG_W,FUCO,FUCO_FLAG_W,GALA,GALA_FLAG_W,GLUC,GLUC_FLAG_W,MAN,MAN_FLAG_W,RHAM,RHAM_FLAG_W,BRDU,BRDU_FLAG_W,PEUK,PEUK_FLAG_W,PROC,PROC_FLAG_W,SYN,SYN_FLAG_W,THETA,BACT,BACT_FLAG_W,BTL_TIME,BTL_LAT,BTL_LON
,,,,,,,,,,,METERS,DBAR,DBAR,ITS-90,PSS-78,,PSS-78,,UMOL/KG,,UMOL/KG,,UMOL/KG,,UMOL/KG,,UMOL/KG,,UMOL/KG,,PMOL/KG,,PMOL/KG,,PMOL/KG,,PMOL/KG,,UMOL/KG,,UMOL/KG,,UMOL/KG,,UMOL/KG,,TU,,TU,NMOL/KG,,NMOL/KG,PERCNT,,PERCNT,NMOL/KG,,NMOL/KG,/MILLE,,/MILLE,/MILLE,,1/M,,1/M,,1/M,,1/M,,1/NM,,1/NM,,NMOL/KG,,NMOL/KG,,NMOL/KG,,NMOL/KG,,NMOL/KG,,NMOL/KG,,NMOL/KG,,PMOL/L/H,,E6/L,,E7/L,,E6/L,,DEG C,E8/L,,,,
316N200309, A20, 53, 1, 10, 10, 2, 20031012, 1134, 15.5897, -52.3307, 5078,  3099.50,   3099.5,   2.6710,  34.9227, 2,  34.9225, 2,    251.4, 2,    251.7, 2,    34.39, 2,    20.47, 2,     0.00, 2,     1.38, 2,    0.042, 2,    0.033, 2,    0.000, 2,    0.235, 2,   -999.0, 9,   -999.0, 9,  -999.00, 9,  -999.00, 9, -999.000, 9, -999.000, -999.0000, 9, -999.0000,  -999.00, 9,  -999.00, -999.000, 9, -999.000,   -999.0, 9,   -999.0,  -999.00, 9, -999.0000, 9, -999.0000, 9, -999.0000, 9, -999.0000, 9, -999.0000, 9, -999.0000, 9, -999, 9, -999, 9, -999, 9, -999, 9, -999, 9, -999, 9, -999, 9,  -999.00, 9,  -999.00, 9,  -999.00, 9,  -999.00, 9,   2.4171,  -999.00, 9, 1220,   15.5940,  -52.3306
316N200309, A20, 53, 1, 9, 9, 2, 20031012, 1134, 15.5897, -52.3307, 5078,  3299.60,   3299.6,   2.6108,  34.9170, 2,  34.9162, 2,    251.8, 2,    251.7, 2,    35.75, 2,    20.61, 2,     0.00, 2,     1.39, 2,    0.044, 2,    0.031, 2,    0.005, 2,    0.247, 2,   -999.0, 9,   -999.0, 9,  -999.00, 9,  -999.00, 9, -999.000, 9, -999.000, -999.0000, 9, -999.0000,  -999.00, 9,  -999.00, -999.000, 9, -999.000,   -999.0, 9,   -999.0,  -999.00, 9, -999.0000, 9, -999.0000, 9, -999.0000, 9, -999.0000, 9, -999.0000, 9, -999.0000, 9, -999, 9, -999, 9, -999, 9, -999, 9, -999, 9, -999, 9, -999, 9,  -999.00, 9,  -999.00, 9,  -999.00, 9,  -999.00, 9,   2.3372,  -999.00, 9, 1215,   15.5934,  -52.3307
316N200309, A20, 53, 1, 8, 8, 2, 20031012, 1134, 15.5897, -52.3307, 5078,  3499.40,   3499.4,   2.5347,  34.9106, 2,  34.9097, 2,    253.1, 2,    253.9, 2,    35.96, 2,    20.41, 2,     0.00, 2,     1.39, 2,    0.072, 2,    0.044, 2,    0.002, 2,    0.339, 2,   -999.0, 9,   -999.0, 9,  -999.00, 9,  -999.00, 9, -999.000, 9, -999.000, -999.0000, 9, -999.0000,  -999.00, 9,  -999.00, -999.000, 9, -999.000,   -999.0, 9,   -999.0,  -999.00, 9, -999.0000, 9, -999.0000, 9, -999.0000, 9, -999.0000, 9, -999.0000, 9, -999.0000, 9, -999, 9, -999, 9, -999, 9, -999, 9, -999, 9, -999, 9, -999, 9,  -999.00, 9,  -999.00, 9,  -999.00, 9,  -999.00, 9,   2.2415,  -999.00, 9, 1211,   15.5930,  -52.3308
316N200309, A20, 53, 1, 7, 7, 2, 20031012, 1134, 15.5897, -52.3307, 5078,  3700.40,   3700.4,   2.4522,  34.9056, 2,  34.9052, 2,    258.5, 2,    258.9, 2,    33.66, 2,    19.79, 2,     0.00, 2,     1.34, 2,    0.150, 2,    0.087, 2,    0.000, 2,    0.514, 2,   -999.0, 9,   -999.0, 9,  -999.00, 9,  -999.00, 9, -999.000, 9, -999.000, -999.0000, 9, -999.0000,  -999.00, 9,  -999.00, -999.000, 9, -999.000,   -999.0, 9,   -999.0,  -999.00, 9, -999.0000, 9, -999.0000, 9, -999.0000, 9, -999.0000, 9, -999.0000, 9, -999.0000, 9, -999, 9, -999, 9, -999, 9, -999, 9, -999, 9, -999, 9, -999, 9,  -999.00, 9,  -999.00, 9,  -999.00, 9,  -999.00, 9,   2.1390,  -999.00, 9, 1207,   15.5927,  -52.3308
316N200309, A20, 53, 1, 6, 6, 2, 20031012, 1134, 15.5897, -52.3307, 5078,  3898.90,   3898.9,   2.3746,  34.8993, 2,  34.8985, 2,    259.6, 2,    260.5, 2,    34.49, 2,    19.74, 2,     0.00, 2,     1.34, 2,    0.150, 2,    0.084, 2,    0.001, 2,    0.506, 2,   -999.0, 9,   -999.0, 9,  -999.00, 9,  -999.00, 9, -999.000, 9, -999.000, -999.0000, 9, -999.0000,  -999.00, 9,  -999.00, -999.000, 9, -999.000,   -999.0, 9,   -999.0,  -999.00, 9, -999.0000, 9, -999.0000, 9, -999.0000, 9, -999.0000, 9, -999.0000, 9, -999.0000, 9, -999, 9, -999, 9, -999, 9, -999, 9, -999, 9, -999, 9, -999, 9,  -999.00, 9,  -999.00, 9,  -999.00, 9,  -999.00, 9,   2.0413,  -999.00, 9, 1203,   15.5922,  -52.3309
316N200309, A20, 53, 1, 5, 5, 2, 20031012, 1134, 15.5897, -52.3307, 5078,  4124.40,   4124.4,   2.3138,  34.8947, 2,  34.8938, 2,    261.6, 2,    261.7, 2,    34.18, 2,    19.50, 2,     0.00, 2,     1.33, 2,    0.182, 2,    0.112, 2,    0.016, 2,    0.562, 2,   -999.0, 9,   -999.0, 9,  -999.00, 9,  -999.00, 9, -999.000, 9, -999.000, -999.0000, 9, -999.0000,  -999.00, 9,  -999.00, -999.000, 9, -999.000,   -999.0, 9,   -999.0,  -999.00, 9, -999.0000, 9, -999.0000, 9, -999.0000, 9, -999.0000, 9, -999.0000, 9, -999.0000, 9, -999, 9, -999, 9, -999, 9, -999, 9, -999, 9, -999, 9, -999, 9,  -999.00, 9,  -999.00, 9,  -999.00, 9,  -999.00, 9,   1.9565,  -999.00, 9, 1158,   15.5917,  -52.3308
316N200309, A20, 53, 1, 4, 4, 2, 20031012, 1134, 15.5897, -52.3307, 5078,  4374.90,   4374.9,   2.2512,  34.8858, 2,  34.8875, 2,    259.2, 2,    259.4, 2,    38.03, 2,    20.06, 2,     0.00, 2,     1.37, 2,    0.161, 2,    0.101, 2,   -0.002, 2,    0.542, 2,   -999.0, 9,   -999.0, 9,  -999.00, 9,  -999.00, 9, -999.000, 9, -999.000, -999.0000, 9, -999.0000,  -999.00, 9,  -999.00, -999.000, 9, -999.000,   -999.0, 9,   -999.0,  -999.00, 9, -999.0000, 9, -999.0000, 9, -999.0000, 9, -999.0000, 9, -999.0000, 9, -999.0000, 9, -999, 9, -999, 9, -999, 9, -999, 9, -999, 9, -999, 9, -999, 9,  -999.00, 9,  -999.00, 9,  -999.00, 9,  -999.00, 9,   1.8665,  -999.00, 9, 1153,   15.5911,  -52.3307
316N200309, A20, 53, 1, 3, 3, 2, 20031012, 1134, 15.5897, -52.3307, 5078,  4626.00,   4626.0,   2.1715,  34.8738, 2,  34.8737, 2,    256.4, 2,    256.2, 2,    43.36, 2,    20.91, 2,     0.00, 2,     1.43, 2,    0.132, 6,    0.082, 6,    0.001, 2,    0.459, 2,   -999.0, 9,   -999.0, 9,  -999.00, 9,  -999.00, 9, -999.000, 9, -999.000, -999.0000, 9, -999.0000,  -999.00, 9,  -999.00, -999.000, 9, -999.000,   -999.0, 9,   -999.0,  -999.00, 9, -999.0000, 9, -999.0000, 9, -999.0000, 9, -999.0000, 9, -999.0000, 9, -999.0000, 9, -999, 9, -999, 9, -999, 9, -999, 9, -999, 9, -999, 9, -999, 9,  -999.00, 9,  -999.00, 9,  -999.00, 9,  -999.00, 9,   1.7594,  -999.00, 9, 1147,   15.5907,  -52.3306
316N200309, A20, 53, 1, 2, 2, 2, 20031012, 1134, 15.5897, -52.3307, 5078,  4875.10,   4875.1,   1.8950,  34.8380, 2,  34.8379, 2,    247.6, 2,    246.9, 2,    59.49, 2,    23.22, 2,     0.01, 2,     1.59, 2,    0.092, 2,    0.060, 2,   -0.001, 2,    0.356, 2,   -999.0, 9,   -999.0, 9,  -999.00, 9,  -999.00, 9, -999.000, 9, -999.000, -999.0000, 9, -999.0000,  -999.00, 9,  -999.00, -999.000, 9, -999.000,   -999.0, 9,   -999.0,  -999.00, 9, -999.0000, 9, -999.0000, 9, -999.0000, 9, -999.0000, 9, -999.0000, 9, -999.0000, 9, -999, 9, -999, 9, -999, 9, -999, 9, -999, 9, -999, 9, -999, 9,  -999.00, 9,  -999.00, 9,  -999.00, 9,  -999.00, 9,   1.4617,  -999.00, 9, 1141,   15.5902,  -52.3306
316N200309, A20, 53, 1, 1, 1, 2, 20031012, 1134, 15.5897, -52.3307, 5078,  5157.20,   5157.2,   1.8775,  34.8310, 2,  34.8316, 2,    245.6, 2,    245.5, 2,    62.32, 2,    23.65, 2,     0.00, 2,     1.64, 2,    0.083, 2,    0.060, 2,    0.006, 2,    0.323, 2,   -999.0, 9,   -999.0, 9,  -999.00, 9,  -999.00, 9, -999.000, 9, -999.000, -999.0000, 9, -999.0000,  -999.00, 9,  -999.00, -999.000, 9, -999.000,   -999.0, 9,   -999.0,  -999.00, 9, -999.0000, 9, -999.0000, 9, -999.0000, 9, -999.0000, 9, -999.0000, 9, -999.0000, 9, -999, 9, -999, 9, -999, 9, -999, 9, -999, 9, -999, 9, -999, 9,  -999.00, 9,  -999.00, 9,  -999.00, 9,  -999.00, 9,   1.4098,  -999.00, 9, 1135,   15.5897,  -52.3307