BOTTLE,20220816CCHSIOAMB
EXPOCODE,SECT_ID,STNNBR,CASTNO,SAMPNO,BTLNBR,BTLNBR_FLAG_W,DATE,TIME,LATITUDE,LONGITUDE,DEPTH,CTDRAW,CTDPRS,CTDTMP,CTDSAL,CTDSAL_FLAG_W,SALNTY,SALNTY_FLAG_W,CTDOXY,CTDOXY_FLAG_W,OXYGEN,OXYGEN_FLAG_W,SILCAT,SILCAT_FLAG_W,NITRAT,NITRAT_FLAG_W,NITRIT,NITRIT_FLAG_W,PHSPHT,PHSPHT_FLAG_W,CFC-11,CFC-11_FLAG_W,CFC-12,CFC-12_FLAG_W,CFC113,CFC113_FLAG_W,CCL4,CCL4_FLAG_W,TCARBN,TCARBN_FLAG_W,ALKALI,ALKALI_FLAG_W,DOC,DOC_FLAG_W,TDN,TDN_FLAG_W,TRITUM,TRITUM_FLAG_W,TRITER,HELIUM,HELIUM_FLAG_W,HELIER,DELHE3,DELHE3_FLAG_W,DELHER,NEON,NEON_FLAG_W,NEONER,DELC14,DELC14_FLAG_W,C14ERR,DELC13,DELC13_FLAG_W,CDOM325,CDOM325_FLAG_W,CDOM340,CDOM340_FLAG_W,CDOM380,CDOM380_FLAG_W,CDOM412,CDOM412_FLAG_W,CDOMSL,CDOMSL_FLAG_W,CDOMSN,CDOMSN_FLAG_W,DCNS,DCNS_FLAG_W,ARABI,ARABI_FLAG_W,FUCO,FUCO_FLAG_W,GALA,GALA_FLAG_W,GLUC,GLUC_FLAG_W,MAN,MAN_FLAG_W,RHAM,RHAM_FLAG_W,BRDU,BRDU_FLAG_W,PEUK,PEUK_FLAG_W,PROC,PROC_FLAG_W,SYN,SYN_FLAG_W,THETA,BACT,BACT_FLAG_W,BTL_TIME,BTL_LAT,BTL_LON
,,,,,,,,,,,METERS,DBAR,DBAR,ITS-90,PSS-78,,PSS-78,,UMOL/KG,,UMOL/KG,,UMOL/KG,,UMOL/KG,,UMOL/KG,,UMOL/KG,,PMOL/KG,,PMOL/KG,,PMOL/KG,,PMOL/KG,,UMOL/KG,,UMOL/KG,,UMOL/KG,,UMOL/KG,,TU,,TU,NMOL/KG,,NMOL/KG,PERCNT,,PERCNT,NMOL/KG,,NMOL/KG,/MILLE,,/MILLE,/MILLE,,1/M,,1/M,,1/M,,1/M,,1/NM,,1/NM,,NMOL/KG,,NMOL/KG,,NMOL/KG,,NMOL/KG,,NMOL/KG,,NMOL/KG,,NMOL/KG,,PMOL/L/H,,E6/L,,E7/L,,E6/L,,DEG C,E8/L,,,,
316N200309, A20, 32, 1, 36, 36, 2, 20031004, 1654, 27.5148, -52.3290, 6001,     8.50,      8.5,  27.8223,  37.3919, 2,  37.3909, 2,    196.6, 2,    220.7, 4,     0.99, 2,     0.17, 2,     0.01, 2,     0.02, 2,    1.681, 2,    1.034, 2,    0.141, 2, -999.000, 9,   2062.6, 2,   2444.3, 2,  -999.00, 9,  -999.00, 9, -999.000, 9, -999.000, -999.0000, 9, -999.0000,  -999.00, 9,  -999.00, -999.000, 9, -999.000,     83.3, 2,      2.9,     1.48, 2,    0.0570, 2,    0.0380, 2,    0.0130, 2,    0.0080, 2,    0.0270, 2,    0.0280, 2, -999, 9, -999, 9, -999, 9, -999, 9, -999, 9, -999, 9, -999, 9,  -999.00, 9,  -999.00, 9,  -999.00, 9,  -999.00, 9,  27.8203,  -999.00, 9, 1916,   27.5057,  -52.3118
316N200309, A20, 32, 1, 35, 35, 2, 20031004, 1654, 27.5148, -52.3290, 6001,    23.60,     23.6,  27.8192,  37.3906, 2,  37.3891, 2,    197.3, 2,    216.4, 4,     0.90, 2,     0.12, 2,     0.01, 2,     0.02, 2,    1.756, 2,    1.086, 2,    0.185, 2, -999.000, 9,   -999.0, 9,   -999.0, 9,  -999.00, 9,  -999.00, 9, -999.000, 9, -999.000, -999.0000, 9, -999.0000,  -999.00, 9,  -999.00, -999.000, 9, -999.000,   -999.0, 9,   -999.0,  -999.00, 9,    0.0520, 2,    0.0340, 2,    0.0110, 2,    0.0060, 2,    0.0300, 2,    0.0310, 2, -999, 9, -999, 9, -999, 9, -999, 9, -999, 9, -999, 9, -999, 9,  -999.00, 9,  -999.00, 9,  -999.00, 9,  -999.00, 9,  27.8136,  -999.00, 9, 1915,   27.5059,  -52.3121
316N200309, A20, 32, 1, 34, 34, 2, 20031004, 1654, 27.5148, -52.3290, 6001,    49.40,     49.4,  27.7786,  37.3873, 2,  37.3829, 2,    197.1, 2,    217.1, 2,     0.98, 2,     0.11, 2,     0.01, 2,     0.02, 2,    1.653, 2,    1.022, 2,    0.144, 2, -999.000, 9,   2061.6, 2,   2442.1, 2,  -999.00, 9,  -999.00, 9, -999.000, 9, -999.000, -999.0000, 9, -999.0000,  -999.00, 9,  -999.00, -999.000, 9, -999.000,   -999.0, 9,   -999.0,  -999.00, 9,    0.0590, 2,    0.0390, 2,    0.0150, 2,    0.0090, 2,    0.0270, 2,    0.0280, 2, -999, 9, -999, 9, -999, 9, -999, 9, -999, 9, -999, 9, -999, 9,  -999.00, 9,  -999.00, 9,  -999.00, 9,  -999.00, 9,  27.7669,  -999.00, 9, 1913,   27.5061,  -52.3124
316N200309, A20, 32, 1, 33, 33, 2, 20031004, 1654, 27.5148, -52.3290, 6001,    99.00,     99.0,  23.8546,  37.1710, 2,  37.1694, 2,    218.6, 2,    239.5, 2,     0.68, 2,     0.11, 2,     0.01, 2,     0.02, 2,    2.159, 2,    1.279, 2,    0.227, 2, -999.000, 9,   2071.2, 2,   2425.7, 2,  -999.00, 9,  -999.00, 9, -999.000, 9, -999.000, -999.0000, 9, -999.0000,  -999.00, 9,  -999.00, -999.000, 9, -999.000,   -999.0, 9,   -999.0,  -999.00, 9,    0.1300, 2,    0.0890, 2,    0.0360, 2,    0.0230, 2,    0.0230, 2,    0.0240, 2, -999, 9, -999, 9, -999, 9, -999, 9, -999, 9, -999, 9, -999, 9,  -999.00, 9,  -999.00, 9,  -999.00, 9,  -999.00, 9,  23.8337,  -999.00, 9, 1911,   27.5063,  -52.3128
316N200309, A20, 32, 1, 32, 32, 2, 20031004, 1654, 27.5148, -52.3290, 6001,   149.90,    149.9,  21.3277,  36.9070, 2,  36.9064, 2,    201.2, 2,    214.5, 2,     0.68, 2,     0.13, 2,     0.08, 2,     0.02, 2,    2.214, 2,    1.312, 2,    0.156, 2, -999.000, 9,   -999.0, 9,   -999.0, 9,  -999.00, 9,  -999.00, 9, -999.000, 9, -999.000, -999.0000, 9, -999.0000,  -999.00, 9,  -999.00, -999.000, 9, -999.000,   -999.0, 9,   -999.0,  -999.00, 9,    0.1340, 2,    0.0960, 2,    0.0450, 2,    0.0320, 2,    0.0170, 2,    0.0190, 2, -999, 9, -999, 9, -999, 9, -999, 9, -999, 9, -999, 9, -999, 9,  -999.00, 9,  -999.00, 9,  -999.00, 9,  -999.00, 9,  21.2984,  -999.00, 9, 1909,   27.5066,  -52.3131
316N200309, A20, 32, 1, 31, 31, 2, 20031004, 1654, 27.5148, -52.3290, 6001,   199.30,    199.3,  19.4236,  36.7068, 2,  36.7095, 2,    190.6, 2,    191.9, 2,     0.97, 2,     1.77, 2,     0.02, 2,     0.06, 2,    2.395, 2,    1.400, 2,    0.090, 2, -999.000, 9,   2108.4, 2,   2396.4, 2,  -999.00, 9,  -999.00, 9, -999.000, 9, -999.000, -999.0000, 9, -999.0000,  -999.00, 9,  -999.00, -999.000, 9, -999.000,   -999.0, 9,   -999.0,  -999.00, 9,    0.1130, 2,    0.0820, 2,    0.0380, 2,    0.0280, 2,    0.0170, 2,    0.0190, 2, -999, 9, -999, 9, -999, 9, -999, 9, -999, 9, -999, 9, -999, 9,  -999.00, 9,  -999.00, 9,  -999.00, 9,  -999.00, 9,  19.3871,  -999.00, 9, 1907,   27.5069,  -52.3133
316N200309, A20, 32, 1, 30, 30, 2, 20031004, 1654, 27.5148, -52.3290, 6001,   249.70,    249.7,  18.6384,  36.6140, 2,  36.6136, 2,    191.5, 2,    242.2, 4,     1.25, 2,     3.25, 2,     0.01, 2,     0.15, 2,    2.401, 2,    1.398, 2,    0.058, 2, -999.000, 9,   -999.0, 9,   -999.0, 9,  -999.00, 9,  -999.00, 9, -999.000, 9, -999.000, -999.0000, 9, -999.0000,  -999.00, 9,  -999.00, -999.000, 9, -999.000,   -999.0, 9,   -999.0,  -999.00, 9, -999.0000, 9, -999.0000, 9, -999.0000, 9, -999.0000, 9, -999.0000, 9, -999.0000, 9, -999, 9, -999, 9, -999, 9, -999, 9, -999, 9, -999, 9, -999, 9,  -999.00, 9,  -999.00, 9,  -999.00, 9,  -999.00, 9,  18.5940,  -999.00, 9, 1905,   27.5070,  -52.3139
316N200309, A20, 32, 1, 29, 29, 2, 20031004, 1654, 27.5148, -52.3290, 6001,   300.40,    300.4,  18.0252,  36.5233, 2,  36.5238, 2,    190.4, 2,    239.0, 4,     1.53, 2,     4.53, 2,     0.01, 2,     0.22, 2,    2.454, 2,    1.402, 2,    0.047, 2, -999.000, 9,   2111.1, 2,   2384.1, 2,  -999.00, 9,  -999.00, 9, -999.000, 9, -999.000, -999.0000, 9, -999.0000,  -999.00, 9,  -999.00, -999.000, 9, -999.000,   -999.0, 9,   -999.0,  -999.00, 9, -999.0000, 9, -999.0000, 9, -999.0000, 9, -999.0000, 9, -999.0000, 9, -999.0000, 9, -999, 9, -999, 9, -999, 9, -999, 9, -999, 9, -999, 9, -999, 9,  -999.00, 9,  -999.00, 9,  -999.00, 9,  -999.00, 9,  17.9730,  -999.00, 9, 1904,   27.5071,  -52.3142
316N200309, A20, 32, 1, 28, 28, 2, 20031004, 1654, 27.5148, -52.3290, 6001,   398.70,    398.7,  17.1160,  36.3849, 2,  36.3827, 2,    189.5, 2,    229.7, 4,     2.11, 2,     6.51, 2,     0.01, 2,     0.35, 2,    2.436, 2,    1.364, 2,    0.046, 2, -999.000, 9,   -999.0, 9,   -999.0, 9,  -999.00, 9,  -999.00, 9, -999.000, 9, -999.000, -999.0000, 9, -999.0000,  -999.00, 9,  -999.00, -999.000, 9, -999.000,   -999.0, 9,   -999.0,  -999.00, 9, -999.0000, 9, -999.0000, 9, -999.0000, 9, -999.0000, 9, -999.0000, 9, -999.0000, 9, -999, 9, -999, 9, -999, 9, -999, 9, -999, 9, -999, 9, -999, 9,  -999.00, 9,  -999.00, 9,  -999.00, 9,  -999.00, 9,  17.0490,  -999.00, 9, 1901,   27.5072,  -52.3148
316N200309, A20, 32, 1, 27, 27, 2, 20031004, 1654, 27.5148, -52.3290, 6001,   502.50,    502.5,  15.4398,  36.0995, 2,  36.0995, 2,    184.6, 2,    224.7, 4,     3.55, 2,    10.07, 2,     0.01, 2,     0.58, 2,    2.344, 2,    1.282, 2,    0.042, 2, -999.000, 9,   2133.4, 2,   2361.0, 2,  -999.00, 9,  -999.00, 9, -999.000, 9, -999.000, -999.0000, 9, -999.0000,  -999.00, 9,  -999.00, -999.000, 9, -999.000,   -999.0, 9,   -999.0,  -999.00, 9, -999.0000, 9, -999.0000, 9, -999.0000, 9, -999.0000, 9, -999.0000, 9, -999.0000, 9, -999, 9, -999, 9, -999, 9, -999, 9, -999, 9, -999, 9, -999, 9,  -999.00, 9,  -999.00, 9,  -999.00, 9,  -999.00, 9,  15.3608,  -999.00, 9, 1858,   27.5075,  -52.3153
316N200309, A20, 32, 1, 26, 26, 2, 20031004, 1654, 27.5148, -52.3290, 6001,   628.00,    628.0,  13.2619,  35.7701, 2,  35.7683, 2,    171.5, 2,    213.6, 4,     5.88, 2,    14.46, 2,     0.00, 2,     0.86, 2,    2.048, 2,    1.097, 2,    0.037, 2, -999.000, 9,   -999.0, 9,   -999.0, 9,  -999.00, 9,  -999.00, 9, -999.000, 9, -999.000, -999.0000, 9, -999.0000,  -999.00, 9,  -999.00, -999.000, 9, -999.000,   -999.0, 9,   -999.0,  -999.00, 9, -999.0000, 9, -999.0000, 9, -999.0000, 9, -999.0000, 9, -999.0000, 9, -999.0000, 9, -999, 9, -999, 9, -999, 9, -999, 9, -999, 9, -999, 9, -999, 9,  -999.00, 9,  -999.00, 9,  -999.00, 9,  -999.00, 9,  13.1724,  -999.00, 9, 1853,   27.5079,  -52.3160
316N200309, A20, 32, 1, 25, 25, 2, 20031004, 1654, 27.5148, -52.3290, 6001,   749.20,    749.2,  11.0735,  35.4905, 2,  35.4878, 2,    166.4, 2,    202.3, 4,     9.09, 2,    18.71, 2,     0.00, 2,     1.15, 2,    1.419, 2,    0.735, 2,    0.023, 2, -999.000, 9,   2166.9, 2,   2330.5, 2,  -999.00, 9,  -999.00, 9, -999.000, 9, -999.000, -999.0000, 9, -999.0000,  -999.00, 9,  -999.00, -999.000, 9, -999.000,   -999.0, 9,   -999.0,  -999.00, 9, -999.0000, 9, -999.0000, 9, -999.0000, 9, -999.0000, 9, -999.0000, 9, -999.0000, 9, -999, 9, -999, 9, -999, 9, -999, 9, -999, 9, -999, 9, -999, 9,  -999.00, 9,  -999.00, 9,  -999.00, 9,  -999.00, 9,  10.9780,  -999.00, 9, 1850,   27.5084,  -52.3165
316N200309, A20, 32, 1, 24, 24, 2, 20031004, 1654, 27.5148, -52.3290, 6001,   850.50,    850.5,   9.3629,  35.3103, 2,  35.3086, 2,    161.4, 2,    191.6, 4,    12.40, 2,    21.78, 2,     0.00, 2,     1.38, 2,    0.874, 2,    0.455, 2,    0.021, 2, -999.000, 9,   2179.9, 2,   2326.0, 2,  -999.00, 9,  -999.00, 9, -999.000, 9, -999.000, -999.0000, 9, -999.0000,  -999.00, 9,  -999.00, -999.000, 9, -999.000,   -999.0, 9,   -999.0,  -999.00, 9, -999.0000, 9, -999.0000, 9, -999.0000, 9, -999.0000, 9, -999.0000, 9, -999.0000, 9, -999, 9, -999, 9, -999, 9, -999, 9, -999, 9, -999, 9, -999, 9,  -999.00, 9,  -999.00, 9,  -999.00, 9,  -999.00, 9,   9.2645,  -999.00, 9, 1847,   27.5090,  -52.3167
316N200309, A20, 32, 1, 23, 23, 2, 20031004, 1654, 27.5148, -52.3290, 6001,  1014.60,   1014.6,   7.1756,  35.1426, 2,  35.1437, 2,    174.4, 2,    185.5, 4,    15.72, 2,    23.35, 2,     0.00, 2,     1.51, 2,    0.493, 2,    0.233, 2,    0.019, 2, -999.000, 9,   2186.8, 2,   2320.6, 2,  -999.00, 9,  -999.00, 9, -999.000, 9, -999.000, -999.0000, 9, -999.0000,  -999.00, 9,  -999.00, -999.000, 9, -999.000,   -999.0, 9,   -999.0,  -999.00, 9, -999.0000, 9, -999.0000, 9, -999.0000, 9, -999.0000, 9, -999.0000, 9, -999.0000, 9, -999, 9, -999, 9, -999, 9, -999, 9, -999, 9, -999, 9, -999, 9,  -999.00, 9,  -999.00, 9,  -999.00, 9,  -999.00, 9,   7.0734,  -999.00, 9, 1843,   27.5096,  -52.3173
316N200309, A20, 32, 1, 22, 22, 2, 20031004, 1654, 27.5148, -52.3290, 6001,  1198.80,   1198.8,   6.0895,  35.1530, 2,  35.1508, 2,    205.2, 2,    206.0, 2,    14.54, 2,    20.82, 2,     0.00, 2,     1.36, 2,    0.600, 2,    0.305, 2,    0.023, 2, -999.000, 9,   -999.0, 9,   -999.0, 9,  -999.00, 9,  -999.00, 9, -999.000, 9, -999.000, -999.0000, 9, -999.0000,  -999.00, 9,  -999.00, -999.000, 9, -999.000,   -999.0, 9,   -999.0,  -999.00, 9, -999.0000, 9, -999.0000, 9, -999.0000, 9, -999.0000, 9, -999.0000, 9, -999.0000, 9, -999, 9, -999, 9, -999, 9, -999, 9, -999, 9, -999, 9, -999, 9,  -999.00, 9,  -999.00, 9,  -999.00, 9,  -999.00, 9,   5.9769,  -999.00, 9, 1839,   27.5102,  -52.3178
316N200309, A20, 32, 1, 21, 21, 2, 20031004, 1654, 27.5148, -52.3290, 6001,  1349.20,   1349.2,   5.4311,  35.1320, 2,  35.1319, 2,    228.1, 2,    282.6, 4,    13.46, 2,    19.21, 2,     0.00, 2,     1.25, 2,    0.993, 2,    0.496, 2,    0.041, 2, -999.000, 9,   -999.0, 9,   -999.0, 9,  -999.00, 9,  -999.00, 9, -999.000, 9, -999.000, -999.0000, 9, -999.0000,  -999.00, 9,  -999.00, -999.000, 9, -999.000,   -999.0, 9,   -999.0,  -999.00, 9, -999.0000, 9, -999.0000, 9, -999.0000, 9, -999.0000, 9, -999.0000, 9, -999.0000, 9, -999, 9, -999, 9, -999, 9, -999, 9, -999, 9, -999, 9, -999, 9,  -999.00, 9,  -999.00, 9,  -999.00, 9,  -999.00, 9,   5.3097,  -999.00, 9, 1835,   27.5106,  -52.3181
316N200309, A20, 32, 1, 20, 20, 2, 20031004, 1654, 27.5148, -52.3290, 6001,  1500.70,   1500.7,   5.0525,  35.1286, 2,  35.1287, 2,    235.2, 2,    275.2, 4,    15.11, 2,    19.26, 2,     0.00, 2,     1.26, 2,    0.516, 2,    0.263, 2,    0.014, 2, -999.000, 9,   -999.0, 9,   -999.0, 9,  -999.00, 9,  -999.00, 9, -999.000, 9, -999.000, -999.0000, 9, -999.0000,  -999.00, 9,  -999.00, -999.000, 9, -999.000,   -999.0, 9,   -999.0,  -999.00, 9, -999.0000, 9, -999.0000, 9, -999.0000, 9, -999.0000, 9, -999.0000, 9, -999.0000, 9, -999, 9, -999, 9, -999, 9, -999, 9, -999, 9, -999, 9, -999, 9,  -999.00, 9,  -999.00, 9,  -999.00, 9,  -999.00, 9,   4.9201,  -999.00, 9, 1832,   27.5110,  -52.3186
316N200309, A20, 32, 1, 19, 19, 2, 20031004, 1654, 27.5148, -52.3290, 6001,  1649.50,   1649.5,   4.5426,  35.0843, 2,  35.0827, 2,    242.3, 2,    289.0, 4,    15.99, 2,    18.95, 2,     0.00, 2,     1.25, 2,    0.478, 2,    0.246, 2,    0.012, 2, -999.000, 9,   -999.0, 9,   -999.0, 9,  -999.00, 9,  -999.00, 9, -999.000, 9, -999.000, -999.0000, 9, -999.0000,  -999.00, 9,  -999.00, -999.000, 9, -999.000,   -999.0, 9,   -999.0,  -999.00, 9, -999.0000, 9, -999.0000, 9, -999.0000, 9, -999.0000, 9, -999.0000, 9, -999.0000, 9, -999, 9, -999, 9, -999, 9, -999, 9, -999, 9, -999, 9, -999, 9,  -999.00, 9,  -999.00, 9,  -999.00, 9,  -999.00, 9,   4.4016,  -999.00, 9, 1829,   27.5113,  -52.3190
316N200309, A20, 32, 1, 18, 18, 2, 20031004, 1654, 27.5148, -52.3290, 6001,  1801.30,   1801.3,   4.2236,  35.0591, 2,  35.0587, 2,    247.2, 2,    296.5, 4,    17.26, 2,    18.90, 2,     0.00, 2,     1.24, 2,    0.398, 2,    0.216, 2,    0.005, 2, -999.000, 9,   -999.0, 9,   -999.0, 9,  -999.00, 9,  -999.00, 9, -999.000, 9, -999.000, -999.0000, 9, -999.0000,  -999.00, 9,  -999.00, -999.000, 9, -999.000,   -999.0, 9,   -999.0,  -999.00, 9, -999.0000, 9, -999.0000, 9, -999.0000, 9, -999.0000, 9, -999.0000, 9, -999.0000, 9, -999, 9, -999, 9, -999, 9, -999, 9, -999, 9, -999, 9, -999, 9,  -999.00, 9,  -999.00, 9,  -999.00, 9,  -999.00, 9,   4.0721,  -999.00, 9, 1825,   27.5116,  -52.3197
316N200309, A20, 32, 1, 17, 17, 2, 20031004, 1654, 27.5148, -52.3290, 6001,  2000.30,   2000.3,   3.8009,  35.0255, 2,  35.0252, 2,    249.0, 2,    292.4, 4,    20.29, 2,    19.09, 2,     0.00, 2,     1.27, 2,    0.227, 2,    0.119, 2,    0.006, 2, -999.000, 9,   -999.0, 9,   -999.0, 9,  -999.00, 9,  -999.00, 9, -999.000, 9, -999.000, -999.0000, 9, -999.0000,  -999.00, 9,  -999.00, -999.000, 9, -999.000,   -999.0, 9,   -999.0,  -999.00, 9, -999.0000, 9, -999.0000, 9, -999.0000, 9, -999.0000, 9, -999.0000, 9, -999.0000, 9, -999, 9, -999, 9, -999, 9, -999, 9, -999, 9, -999, 9, -999, 9,  -999.00, 9,  -999.00, 9,  -999.00, 9,  -999.00, 9,   3.6361,  -999.00, 9, 1821,   27.5119,  -52.3201
316N200309, A20, 32, 1, 16, 16, 2, 20031004, 1654, 27.5148, -52.3290, 6001,  2248.80,   2248.8,   3.4209,  34.9935, 2,  34.9923, 2,    250.5, 2,    281.0, 4,    24.21, 2,    19.40, 2,     0.00, 2,     1.30, 2,    0.114, 2,    0.063, 2,    0.001, 2, -999.000, 9,   -999.0, 9,   -999.0, 9,  -999.00, 9,  -999.00, 9, -999.000, 9, -999.000, -999.0000, 9, -999.0000,  -999.00, 9,  -999.00, -999.000, 9, -999.000,   -999.0, 9,   -999.0,  -999.00, 9, -999.0000, 9, -999.0000, 9, -999.0000, 9, -999.0000, 9, -999.0000, 9, -999.0000, 9, -999, 9, -999, 9, -999, 9, -999, 9, -999, 9, -999, 9, -999, 9,  -999.00, 9,  -999.00, 9,  -999.00, 9,  -999.00, 9,   3.2380,  -999.00, 9, 1816,   27.5123,  -52.3208
316N200309, A20, 32, 1, 15, 15, 2, 20031004, 1654, 27.5148, -52.3290, 6001,  2500.30,   2500.3,   3.1809,  34.9722, 2,  34.9713, 2,    250.8, 2,    251.9, 4,    27.46, 2,    19.75, 2,     0.00, 2,     1.32, 2,    0.078, 2,    0.049, 2,    0.002, 2, -999.000, 9,   -999.0, 9,   -999.0, 9,  -999.00, 9,  -999.00, 9, -999.000, 9, -999.000, -999.0000, 9, -999.0000,  -999.00, 9,  -999.00, -999.000, 9, -999.000,   -999.0, 9,   -999.0,  -999.00, 9, -999.0000, 9, -999.0000, 9, -999.0000, 9, -999.0000, 9, -999.0000, 9, -999.0000, 9, -999, 9, -999, 9, -999, 9, -999, 9, -999, 9, -999, 9, -999, 9,  -999.00, 9,  -999.00, 9,  -999.00, 9,  -999.00, 9,   2.9775,  -999.00, 9, 1811,   27.5128,  -52.3215
316N200309, A20, 32, 1, 14, 14, 2, 20031004, 1654, 27.5148, -52.3290, 6001,  2749.70,   2749.7,   2.9838,  34.9552, 2,  34.9534, 2,    251.2, 2,    249.8, 2,    30.21, 2,    20.09, 2,     0.00, 2,     1.34, 2,    0.037, 2,    0.026, 2, -999.000, 9, -999.000, 9,   -999.0, 9,   -999.0, 9,  -999.00, 9,  -999.00, 9, -999.000, 9, -999.000, -999.0000, 9, -999.0000,  -999.00, 9,  -999.00, -999.000, 9, -999.000,   -999.0, 9,   -999.0,  -999.00, 9, -999.0000, 9, -999.0000, 9, -999.0000, 9, -999.0000, 9, -999.0000, 9, -999.0000, 9, -999, 9, -999, 9, -999, 9, -999, 9, -999, 9, -999, 9, -999, 9,  -999.00, 9,  -999.00, 9,  -999.00, 9,  -999.00, 9,   2.7592,  -999.00, 9, 1806,   27.5130,  -52.3224
316N200309, A20, 32, 1, 13, 13, 2, 20031004, 1654, 27.5148, -52.3290, 6001,  2999.30,   2999.3,   2.8445,  34.9427, 2,  34.9418, 2,    252.3, 2,    251.2, 2,    32.08, 2,    20.19, 2,     0.00, 2,     1.36, 2,    0.012, 2,    0.004, 2,    0.005, 2, -999.000, 9,   -999.0, 9,   -999.0, 9,  -999.00, 9,  -999.00, 9, -999.000, 9, -999.000, -999.0000, 9, -999.0000,  -999.00, 9,  -999.00, -999.000, 9, -999.000,   -999.0, 9,   -999.0,  -999.00, 9, -999.0000, 9, -999.0000, 9, -999.0000, 9, -999.0000, 9, -999.0000, 9, -999.0000, 9, -999, 9, -999, 9, -999, 9, -999, 9, -999, 9, -999, 9, -999, 9,  -999.00, 9,  -999.00, 9,  -999.00, 9,  -999.00, 9,   2.5971,  -999.00, 9, 1801,   27.5131,  -52.3231
316N200309, A20, 32, 1, 12, 12, 2, 20031004, 1654, 27.5148, -52.3290, 6001,  3249.30,   3249.3,   2.6947,  34.9301, 2,  34.9300, 2,    255.0, 2,    295.3, 4,    32.57, 2,    20.04, 2,     0.00, 2,     1.35, 2,    0.009, 2,    0.001, 2,    0.006, 2, -999.000, 9,   -999.0, 9,   -999.0, 9,  -999.00, 9,  -999.00, 9, -999.000, 9, -999.000, -999.0000, 9, -999.0000,  -999.00, 9,  -999.00, -999.000, 9, -999.000,   -999.0, 9,   -999.0,  -999.00, 9, -999.0000, 9, -999.0000, 9, -999.0000, 9, -999.0000, 9, -999.0000, 9, -999.0000, 9, -999, 9, -999, 9, -999, 9, -999, 9, -999, 9, -999, 9, -999, 9,  -999.00, 9,  -999.00, 9,  -999.00, 9,  -999.00, 9,   2.4244,  -999.00, 9, 1756,   27.5134,  -52.3238
316N200309, A20, 32, 1, 11, 11, 2, 20031004, 1654, 27.5148, -52.3290, 6001,  3501.40,   3501.4,   2.5382,  34.9173, 2,  34.9164, 2,    258.7, 2,    291.1, 4,    33.25, 2,    19.89, 2,     0.00, 2,     1.35, 2,    0.012, 2,    0.006, 2,    0.001, 2, -999.000, 9,   -999.0, 9,   -999.0, 9,  -999.00, 9,  -999.00, 9, -999.000, 9, -999.000, -999.0000, 9, -999.0000,  -999.00, 9,  -999.00, -999.000, 9, -999.000,   -999.0, 9,   -999.0,  -999.00, 9, -999.0000, 9, -999.0000, 9, -999.0000, 9, -999.0000, 9, -999.0000, 9, -999.0000, 9, -999, 9, -999, 9, -999, 9, -999, 9, -999, 9, -999, 9, -999, 9,  -999.00, 9,  -999.00, 9,  -999.00, 9,  -999.00, 9,   2.2447,  -999.00, 9, 1751,   27.5138,  -52.3242