BOTTLE,20220816CCHSIOAMB
EXPOCODE,SECT_ID,STNNBR,CASTNO,SAMPNO,BTLNBR,BTLNBR_FLAG_W,DATE,TIME,LATITUDE,LONGITUDE,DEPTH,CTDRAW,CTDPRS,CTDTMP,CTDSAL,CTDSAL_FLAG_W,SALNTY,SALNTY_FLAG_W,CTDOXY,CTDOXY_FLAG_W,OXYGEN,OXYGEN_FLAG_W,SILCAT,SILCAT_FLAG_W,NITRAT,NITRAT_FLAG_W,NITRIT,NITRIT_FLAG_W,PHSPHT,PHSPHT_FLAG_W,CFC-11,CFC-11_FLAG_W,CFC-12,CFC-12_FLAG_W,CFC113,CFC113_FLAG_W,CCL4,CCL4_FLAG_W,TCARBN,TCARBN_FLAG_W,ALKALI,ALKALI_FLAG_W,DOC,DOC_FLAG_W,TDN,TDN_FLAG_W,TRITUM,TRITUM_FLAG_W,TRITER,HELIUM,HELIUM_FLAG_W,HELIER,DELHE3,DELHE3_FLAG_W,DELHER,NEON,NEON_FLAG_W,NEONER,DELC14,DELC14_FLAG_W,C14ERR,DELC13,DELC13_FLAG_W,CDOM325,CDOM325_FLAG_W,CDOM340,CDOM340_FLAG_W,CDOM380,CDOM380_FLAG_W,CDOM412,CDOM412_FLAG_W,CDOMSL,CDOMSL_FLAG_W,CDOMSN,CDOMSN_FLAG_W,DCNS,DCNS_FLAG_W,ARABI,ARABI_FLAG_W,FUCO,FUCO_FLAG_W,GALA,GALA_FLAG_W,GLUC,GLUC_FLAG_W,MAN,MAN_FLAG_W,RHAM,RHAM_FLAG_W,BRDU,BRDU_FLAG_W,PEUK,PEUK_FLAG_W,PROC,PROC_FLAG_W,SYN,SYN_FLAG_W,THETA,BACT,BACT_FLAG_W,BTL_TIME,BTL_LAT,BTL_LON
,,,,,,,,,,,METERS,DBAR,DBAR,ITS-90,PSS-78,,PSS-78,,UMOL/KG,,UMOL/KG,,UMOL/KG,,UMOL/KG,,UMOL/KG,,UMOL/KG,,PMOL/KG,,PMOL/KG,,PMOL/KG,,PMOL/KG,,UMOL/KG,,UMOL/KG,,UMOL/KG,,UMOL/KG,,TU,,TU,NMOL/KG,,NMOL/KG,PERCNT,,PERCNT,NMOL/KG,,NMOL/KG,/MILLE,,/MILLE,/MILLE,,1/M,,1/M,,1/M,,1/M,,1/NM,,1/NM,,NMOL/KG,,NMOL/KG,,NMOL/KG,,NMOL/KG,,NMOL/KG,,NMOL/KG,,NMOL/KG,,PMOL/L/H,,E6/L,,E7/L,,E6/L,,DEG C,E8/L,,,,
316N200309, A20, 58, 1, 36, 36, 2, 20031014, 0042, 12.2112, -52.3422, 5049,     2.40,      2.4,  29.2153,  35.8943, 2,  35.8927, 2,    185.2, 2,    192.7, 2,     0.49, 2,     0.14, 2,     0.00, 2,     0.02, 2,    1.531, 2,    0.971, 2,    0.121, 2, -999.000, 9,   1982.4, 2,   -999.0, 1,    79.10, 2,     5.30, 2, -999.000, 9, -999.000, -999.0000, 9, -999.0000,  -999.00, 9,  -999.00, -999.000, 9, -999.000,   -999.0, 9,   -999.0,  -999.00, 9,    0.0760, 2,    0.0490, 2,    0.0170, 2,    0.0130, 2,    0.0290, 2,    0.0290, 2, 3962, 4, 131, 2, 596, 2, 859, 2, 1050, 4, 927, 2, 398, 2,     0.88, 2,     1.22, 2,     6.71, 2,    14.40, 2,  29.2147,     4.23, 2,  245,   12.2155,  -52.3455
316N200309, A20, 58, 1, 35, 35, 2, 20031014, 0042, 12.2112, -52.3422, 5049,    26.50,     26.5,  29.0986,  36.0730, 2,  36.0892, 2,    187.2, 2,    195.1, 2,     0.48, 2,     0.13, 2,     0.00, 2,     0.01, 2,    1.585, 2,    1.011, 2,    0.146, 2, -999.000, 9,   1996.9, 2,   2364.2, 2,    77.00, 2,     4.80, 2, -999.000, 9, -999.000, -999.0000, 9, -999.0000,  -999.00, 9,  -999.00, -999.000, 9, -999.000,   -999.0, 9,   -999.0,  -999.00, 9,    0.0550, 2,    0.0350, 2,    0.0110, 2,    0.0090, 2,    0.0300, 2,    0.0300, 2, -999, 9, -999, 9, -999, 9, -999, 9, -999, 9, -999, 9, -999, 9,     0.75, 2,     0.00, 2,     0.00, 2,     0.00, 2,  29.0922,     0.00, 2,  243,   12.2155,  -52.3456
316N200309, A20, 58, 1, 34, 34, 2, 20031014, 0042, 12.2112, -52.3422, 5049,    51.80,     51.8,  27.5530,  36.5721, 2,  36.5741, 2,    204.3, 2,    210.9, 2,     0.46, 2,     0.08, 2,     0.00, 2,     0.02, 2,    1.708, 2,    1.075, 2,    0.146, 2, -999.000, 9,   2026.5, 2,   2392.8, 2,    75.80, 2,     4.70, 2, -999.000, 9, -999.000, -999.0000, 9, -999.0000,  -999.00, 9,  -999.00, -999.000, 9, -999.000,   -999.0, 9,   -999.0,  -999.00, 9,    0.1200, 2,    0.0800, 2,    0.0340, 2,    0.0240, 2,    0.0230, 2,    0.0240, 2, 2007, 4, 111, 2, 303, 2, 492, 2, 342, 2, 573, 2, 187, 2,     0.38, 2,     0.94, 2,    19.43, 2,     2.17, 2,  27.5409,     3.21, 2,  242,   12.2155,  -52.3456
316N200309, A20, 58, 1, 33, 33, 2, 20031014, 0042, 12.2112, -52.3422, 5049,    76.40,     76.4,  25.7515,  36.8499, 2,  36.8564, 2,    198.0, 2,    199.9, 2,     0.34, 2,     0.08, 2,     0.00, 2,     0.02, 2,    1.872, 2,    1.155, 2,    0.154, 2, -999.000, 9,   2093.8, 3,   2409.3, 2,    70.10, 2,     4.60, 2, -999.000, 9, -999.000, -999.0000, 9, -999.0000,  -999.00, 9,  -999.00, -999.000, 9, -999.000,   -999.0, 9,   -999.0,  -999.00, 9,    0.1540, 2,    0.1080, 2,    0.0500, 2,    0.0360, 2,    0.0160, 2,    0.0190, 2, 1589, 4, 49, 2, 185, 2, 313, 2, 599, 2, 327, 2, 117, 2,     0.45, 2,     2.29, 2,    21.86, 2,     1.16, 2,  25.7345,     3.15, 2,  240,   12.2155,  -52.3456
316N200309, A20, 58, 1, 32, 32, 2, 20031014, 0042, 12.2112, -52.3422, 5049,   101.30,    101.3,  24.3069,  37.2146, 2,  37.2095, 2,    188.1, 2,    194.1, 2,     0.02, 2,     0.02, 2,     0.01, 2,     0.02, 2,    1.973, 2,    1.205, 2,    0.151, 2, -999.000, 9,   2060.1, 3,   2430.3, 2,    65.90, 2,     3.80, 2, -999.000, 9, -999.000, -999.0000, 9, -999.0000,  -999.00, 9,  -999.00, -999.000, 9, -999.000,   -999.0, 9,   -999.0,  -999.00, 9,    0.1470, 2,    0.1040, 2,    0.0490, 2,    0.0390, 2,    0.0140, 2,    0.0170, 2, 1038, 4, 135, 2, 146, 2, 208, 2, 231, 2, 218, 2, 101, 2,     0.13, 2,     2.04, 2,     8.84, 2,     0.19, 2,  24.2852,     2.58, 2,  239,   12.2155,  -52.3456
316N200309, A20, 58, 1, 31, 31, 2, 20031014, 0042, 12.2112, -52.3422, 5049,   126.00,    126.0,  22.0885,  37.0925, 2,  37.0644, 2,    167.7, 2,    169.0, 2,     0.32, 2,     2.48, 2,     0.03, 2,     0.14, 2,    2.063, 6,    1.243, 6,    0.095, 2,    0.603, 2,   2131.8, 2,   2418.1, 2,    55.30, 2,     6.10, 2, -999.000, 9, -999.000, -999.0000, 9, -999.0000,  -999.00, 9,  -999.00, -999.000, 9, -999.000,   -999.0, 9,   -999.0,  -999.00, 9,    0.1440, 2,    0.1060, 2,    0.0520, 2,    0.0420, 2,    0.0140, 2,    0.0160, 2, -999, 9, -999, 9, -999, 9, -999, 9, -999, 9, -999, 9, -999, 9,     0.11, 2,     1.03, 2,     2.98, 2,     0.00, 2,  22.0632,     1.55, 2,  237,   12.2154,  -52.3456
316N200309, A20, 58, 1, 30, 30, 2, 20031014, 0042, 12.2112, -52.3422, 5049,   151.20,    151.2,  19.3417,  36.7181, 2,  36.7042, 2,    152.8, 2,    151.2, 2,     1.44, 2,     7.51, 2,     0.02, 2,     0.40, 2,    2.221, 2,    1.291, 2,    0.026, 2, -999.000, 9,   2150.0, 2,   2393.3, 2,    52.30, 2,    10.90, 2, -999.000, 9, -999.000, -999.0000, 9, -999.0000,  -999.00, 9,  -999.00, -999.000, 9, -999.000,   -999.0, 9,   -999.0,  -999.00, 9,    0.1440, 2,    0.1070, 2,    0.0560, 2,    0.0460, 2,    0.0130, 2,    0.0150, 2, -999, 9, -999, 9, -999, 9, -999, 9, -999, 9, -999, 9, -999, 9,     0.09, 2,     0.73, 2,     0.00, 2,     0.00, 2,  19.3141,     1.21, 2,  236,   12.2154,  -52.3456
316N200309, A20, 58, 1, 29, 29, 2, 20031014, 0042, 12.2112, -52.3422, 5049,   200.90,    200.9,  16.0608,  36.1912, 2,  36.1870, 2,    140.1, 2,    142.5, 2,     3.41, 2,    13.26, 2,     0.01, 2,     0.76, 2,    2.130, 2,    1.198, 2,    0.010, 2, -999.000, 9,   2159.4, 2,   2363.1, 2,    47.20, 2,    16.60, 2, -999.000, 9, -999.000, -999.0000, 9, -999.0000,  -999.00, 9,  -999.00, -999.000, 9, -999.000,   -999.0, 9,   -999.0,  -999.00, 9,    0.1350, 2,    0.0990, 2,    0.0520, 2,    0.0430, 2,    0.0120, 2,    0.0150, 2, 353, 4, 47, 2, 50, 2, 75, 2, 63, 2, 81, 2, 36, 2,     0.06, 2,     0.03, 2,     0.00, 2,     0.00, 2,  16.0287,     0.78, 2,  234,   12.2154,  -52.3455
316N200309, A20, 58, 1, 28, 28, 2, 20031014, 0042, 12.2112, -52.3422, 5049,   250.50,    250.5,  13.0876,  35.6163, 2,  35.6111, 2,    122.5, 2,    126.8, 2,     7.64, 2,    20.17, 2,     0.00, 2,     1.23, 2,    1.675, 2,    0.923, 2,    0.013, 2, -999.000, 9,   2179.5, 2,   2333.9, 2,    44.10, 2,    23.40, 2, -999.000, 9, -999.000, -999.0000, 9, -999.0000,  -999.00, 9,  -999.00, -999.000, 9, -999.000,   -999.0, 9,   -999.0,  -999.00, 9,    0.1530, 2,    0.1130, 2,    0.0620, 2,    0.0530, 2,    0.0110, 3,    0.0130, 3, -999, 9, -999, 9, -999, 9, -999, 9, -999, 9, -999, 9, -999, 9,  -999.00, 9,  -999.00, 9,  -999.00, 9,  -999.00, 9,  13.0527,  -999.00, 9,  232,   12.2153,  -52.3455
316N200309, A20, 58, 1, 27, 27, 2, 20031014, 0042, 12.2112, -52.3422, 5049,   333.20,    333.2,  10.4938,  35.1675, 2,  35.1666, 2,    115.3, 2,    117.2, 2,    11.88, 2,    25.75, 2,     0.00, 2,     1.63, 2,    1.171, 2,    0.631, 2,    0.043, 2, -999.000, 9,   2197.3, 2,   2314.6, 2,    45.10, 2,  -999.00, 9, -999.000, 9, -999.000, -999.0000, 9, -999.0000,  -999.00, 9,  -999.00, -999.000, 9, -999.000,   -999.0, 9,   -999.0,  -999.00, 9,    0.1380, 2,    0.1000, 2,    0.0550, 2,    0.0460, 2,    0.0120, 2,    0.0140, 2, 2655, 4, 36, 4, 253, 4, 366, 4, 1245, 4, 446, 4, 309, 4,  -999.00, 9,  -999.00, 9,  -999.00, 9,  -999.00, 9,  10.4536,  -999.00, 9,  230,   12.2152,  -52.3454
316N200309, A20, 58, 1, 26, 26, 2, 20031014, 0042, 12.2112, -52.3422, 5049,   399.90,    399.9,   9.2412,  34.9837, 2,  34.9813, 2,    114.5, 2,    117.1, 2,    14.36, 2,    28.24, 2,     0.00, 2,     1.81, 2,    0.929, 2,    0.499, 2,    0.030, 2, -999.000, 9,   2202.5, 2,   2306.0, 2,    42.60, 2,  -999.00, 9, -999.000, 9, -999.000, -999.0000, 9, -999.0000,  -999.00, 9,  -999.00, -999.000, 9, -999.000,   -999.0, 9,   -999.0,  -999.00, 9,    0.1480, 2,    0.1080, 2,    0.0620, 2,    0.0520, 2,    0.0110, 2,    0.0130, 2, -999, 9, -999, 9, -999, 9, -999, 9, -999, 9, -999, 9, -999, 9,  -999.00, 9,  -999.00, 9,  -999.00, 9,  -999.00, 9,   9.1965,  -999.00, 9,  228,   12.2151,  -52.3455
316N200309, A20, 58, 1, 25, 25, 2, 20031014, 0042, 12.2112, -52.3422, 5049,   500.30,    500.3,   7.8911,  34.8065, 2,  34.8055, 2,    117.4, 2,    118.3, 2,    17.76, 2,    30.99, 2,     0.00, 2,     2.00, 2,    0.631, 2,    0.330, 2,    0.023, 2, -999.000, 9,   2208.7, 2,   2300.8, 2,    45.20, 2,  -999.00, 9, -999.000, 9, -999.000, -999.0000, 9, -999.0000,  -999.00, 9,  -999.00, -999.000, 9, -999.000,   -999.0, 9,   -999.0,  -999.00, 9,    0.1650, 2,    0.1210, 2,    0.0710, 2,    0.0580, 2,    0.0110, 3,    0.0130, 3, 471, 4, 24, 2, 33, 2, 54, 2, 238, 4, 94, 2, 28, 2,  -999.00, 9,  -999.00, 9,  -999.00, 9,  -999.00, 9,   7.8401,  -999.00, 9,  225,   12.2151,  -52.3455
316N200309, A20, 58, 1, 24, 24, 2, 20031014, 0042, 12.2112, -52.3422, 5049,   625.20,    625.2,   6.7622,  34.7067, 2,  34.7089, 2,    120.5, 2,    118.4, 2,    21.80, 2,    33.13, 2,     0.00, 2,     2.18, 2,    0.287, 2,    0.153, 2,    0.012, 2, -999.000, 9,   2219.4, 2,   2299.2, 2,    42.90, 2,  -999.00, 9, -999.000, 9, -999.000, -999.0000, 9, -999.0000,  -999.00, 9,  -999.00, -999.000, 9, -999.000,   -999.0, 9,   -999.0,  -999.00, 9,    0.1430, 2,    0.1030, 2,    0.0580, 2,    0.0490, 2,    0.0110, 2,    0.0130, 2, -999, 9, -999, 9, -999, 9, -999, 9, -999, 9, -999, 9, -999, 9,  -999.00, 9,  -999.00, 9,  -999.00, 9,  -999.00, 9,   6.7032,  -999.00, 9,  222,   12.2149,  -52.3455
316N200309, A20, 58, 1, 23, 23, 2, 20031014, 0042, 12.2112, -52.3422, 5049,   750.70,    750.7,   6.0006,  34.6609, 2,  34.6614, 2,    126.7, 2,    125.8, 2,    24.79, 2,    33.75, 2,     0.00, 2,     2.25, 2,    0.146, 2,    0.088, 2,    0.004, 2, -999.000, 9,   2220.2, 2,   2300.2, 2,    41.00, 2,  -999.00, 9, -999.000, 9, -999.000, -999.0000, 9, -999.0000,  -999.00, 9,  -999.00, -999.000, 9, -999.000,   -999.0, 9,   -999.0,  -999.00, 9,    0.1400, 2,    0.1000, 2,    0.0560, 2,    0.0470, 2,    0.0110, 2,    0.0140, 2, 325, 4, 48, 2, 30, 2, 49, 2, 123, 2, 49, 2, 26, 2,  -999.00, 9,  -999.00, 9,  -999.00, 9,  -999.00, 9,   5.9335,  -999.00, 9,  219,   12.2149,  -52.3455
316N200309, A20, 58, 1, 22, 22, 2, 20031014, 0042, 12.2112, -52.3422, 5049,   900.60,    900.6,   5.2568,  34.6684, 2,  34.6675, 2,    139.0, 2,    138.6, 2,    27.37, 2,    33.17, 2,     0.00, 2,     2.24, 2,    0.043, 2,    0.028, 2,    0.010, 2, -999.000, 9,   2221.8, 2,   2302.0, 2,    40.00, 2,  -999.00, 9, -999.000, 9, -999.000, -999.0000, 9, -999.0000,  -999.00, 9,  -999.00, -999.000, 9, -999.000,   -999.0, 9,   -999.0,  -999.00, 9,    0.1360, 2,    0.0970, 2,    0.0530, 2,    0.0430, 2,    0.0120, 2,    0.0140, 2, -999, 9, -999, 9, -999, 9, -999, 9, -999, 9, -999, 9, -999, 9,  -999.00, 9,  -999.00, 9,  -999.00, 9,  -999.00, 9,   5.1804,  -999.00, 9,  215,   12.2148,  -52.3455
316N200309, A20, 58, 1, 21, 21, 2, 20031014, 0042, 12.2112, -52.3422, 5049,  1050.40,   1050.4,   5.2923,  34.8180, 2,  34.8171, 2,    154.2, 2,    156.0, 2,    24.55, 2,    29.88, 2,     0.00, 2,     2.00, 2,    0.070, 6,    0.038, 6,    0.005, 6, -999.000, 9,   2212.4, 2,   2305.4, 2,    40.40, 2,  -999.00, 9, -999.000, 9, -999.000, -999.0000, 9, -999.0000,  -999.00, 9,  -999.00, -999.000, 9, -999.000,   -999.0, 9,   -999.0,  -999.00, 9,    0.1390, 2,    0.0990, 2,    0.0530, 2,    0.0430, 2,    0.0120, 2,    0.0150, 2, -999, 9, -999, 9, -999, 9, -999, 9, -999, 9, -999, 9, -999, 9,  -999.00, 9,  -999.00, 9,  -999.00, 9,  -999.00, 9,   5.2016,  -999.00, 9,  212,   12.2147,  -52.3455
316N200309, A20, 58, 1, 20, 20, 2, 20031014, 0042, 12.2112, -52.3422, 5049,  1200.90,   1200.9,   5.1736,  34.9510, 2,  34.9504, 2,    189.5, 2,    189.3, 2,    19.98, 2,    24.93, 2,     0.00, 2,     1.66, 2,    0.202, 2,    0.112, 2,    0.007, 2, -999.000, 9,   2193.9, 2,   2312.3, 2,    42.60, 2,  -999.00, 9, -999.000, 9, -999.000, -999.0000, 9, -999.0000,  -999.00, 9,  -999.00, -999.000, 9, -999.000,   -999.0, 9,   -999.0,  -999.00, 9,    0.1580, 2,    0.1140, 2,    0.0610, 2,    0.0490, 2,    0.0120, 3,    0.0140, 3, -999, 9, -999, 9, -999, 9, -999, 9, -999, 9, -999, 9, -999, 9,  -999.00, 9,  -999.00, 9,  -999.00, 9,  -999.00, 9,   5.0694,  -999.00, 9,  208,   12.2146,  -52.3454
316N200309, A20, 58, 1, 19, 19, 2, 20031014, 0042, 12.2112, -52.3422, 5049,  1325.80,   1325.8,   4.8891,  35.0051, 2,  35.0051, 2,    221.6, 2,    218.6, 2,    16.44, 2,    21.54, 2,     0.00, 2,     1.44, 2,    0.470, 2,    0.232, 2,    0.020, 2, -999.000, 9,   2177.9, 2,   2314.5, 2,    42.60, 2,  -999.00, 9, -999.000, 9, -999.000, -999.0000, 9, -999.0000,  -999.00, 9,  -999.00, -999.000, 9, -999.000,   -999.0, 9,   -999.0,  -999.00, 9,    0.1260, 2,    0.0890, 2,    0.0440, 2,    0.0350, 2,    0.0140, 2,    0.0170, 2, -999, 9, -999, 9, -999, 9, -999, 9, -999, 9, -999, 9, -999, 9,  -999.00, 9,  -999.00, 9,  -999.00, 9,  -999.00, 9,   4.7756,  -999.00, 9,  205,   12.2146,  -52.3454
316N200309, A20, 58, 1, 18, 18, 2, 20031014, 0042, 12.2112, -52.3422, 5049,  1450.60,   1450.6,   4.5302,  35.0115, 2,  35.0102, 2,    238.5, 2,    239.3, 2,    14.35, 2,    19.58, 2,     0.00, 2,     1.29, 2,    0.684, 2,    0.344, 2,    0.033, 2, -999.000, 9,   2169.6, 2,   2312.5, 2,  -999.00, 9,  -999.00, 9, -999.000, 9, -999.000, -999.0000, 9, -999.0000,  -999.00, 9,  -999.00, -999.000, 9, -999.000,   -999.0, 9,   -999.0,  -999.00, 9, -999.0000, 9, -999.0000, 9, -999.0000, 9, -999.0000, 9, -999.0000, 9, -999.0000, 9, -999, 9, -999, 9, -999, 9, -999, 9, -999, 9, -999, 9, -999, 9,  -999.00, 9,  -999.00, 9,  -999.00, 9,  -999.00, 9,   4.4086,  -999.00, 9,  202,   12.2146,  -52.3453
316N200309, A20, 58, 1, 17, 17, 2, 20031014, 0042, 12.2112, -52.3422, 5049,  1575.30,   1575.3,   4.2036,  34.9992, 2,  34.9990, 2,    250.7, 2,    250.7, 2,    13.61, 2,    18.77, 2,     0.00, 2,     1.24, 2,    0.760, 2,    0.378, 2,    0.047, 2, -999.000, 9,   2165.5, 2,   2310.9, 2,    43.10, 2,  -999.00, 9, -999.000, 9, -999.000, -999.0000, 9, -999.0000,  -999.00, 9,  -999.00, -999.000, 9, -999.000,   -999.0, 9,   -999.0,  -999.00, 9,    0.1280, 2,    0.0900, 2,    0.0430, 2,    0.0330, 2,    0.0160, 2,    0.0180, 2, -999, 9, -999, 9, -999, 9, -999, 9, -999, 9, -999, 9, -999, 9,  -999.00, 9,  -999.00, 9,  -999.00, 9,  -999.00, 9,   4.0740,  -999.00, 9,  159,   12.2146,  -52.3453
316N200309, A20, 58, 1, 16, 16, 2, 20031014, 0042, 12.2112, -52.3422, 5049,  1700.00,   1700.0,   3.9411,  34.9875, 2,  34.9888, 2,    254.4, 2,    255.4, 2,    14.23, 2,    18.62, 2,     0.00, 2,     1.22, 2,    0.619, 2,    0.313, 2,    0.028, 2, -999.000, 9,   2164.1, 2,   2310.1, 2,  -999.00, 9,  -999.00, 9, -999.000, 9, -999.000, -999.0000, 9, -999.0000,  -999.00, 9,  -999.00, -999.000, 9, -999.000,   -999.0, 9,   -999.0,  -999.00, 9, -999.0000, 9, -999.0000, 9, -999.0000, 9, -999.0000, 9, -999.0000, 9, -999.0000, 9, -999, 9, -999, 9, -999, 9, -999, 9, -999, 9, -999, 9, -999, 9,  -999.00, 9,  -999.00, 9,  -999.00, 9,  -999.00, 9,   3.8031,  -999.00, 9,  156,   12.2145,  -52.3453
316N200309, A20, 58, 1, 15, 15, 2, 20031014, 0042, 12.2112, -52.3422, 5049,  1849.60,   1849.6,   3.6461,  34.9730, 2,  34.9827, 3,    260.0, 2,    261.1, 2,    14.83, 2,    18.15, 2,     0.00, 2,     1.20, 2,    0.720, 2,    0.361, 2,    0.036, 2, -999.000, 9,   2155.1, 2,   2311.5, 2,  -999.00, 9,  -999.00, 9, -999.000, 9, -999.000, -999.0000, 9, -999.0000,  -999.00, 9,  -999.00, -999.000, 9, -999.000,   -999.0, 9,   -999.0,  -999.00, 9, -999.0000, 9, -999.0000, 9, -999.0000, 9, -999.0000, 9, -999.0000, 9, -999.0000, 9, -999, 9, -999, 9, -999, 9, -999, 9, -999, 9, -999, 9, -999, 9,  -999.00, 9,  -999.00, 9,  -999.00, 9,  -999.00, 9,   3.4981,  -999.00, 9,  153,   12.2144,  -52.3452
316N200309, A20, 58, 1, 14, 14, 2, 20031014, 0042, 12.2112, -52.3422, 5049,  2000.10,   2000.1,   3.5234,  34.9732, 2,  34.9756, 2,    257.8, 2,    259.1, 2,    16.79, 2,    18.53, 2,     0.00, 2,     1.22, 2,    0.417, 2,    0.225, 2,    0.017, 2, -999.000, 9,   2163.7, 2,   2311.2, 2,    44.10, 2,  -999.00, 9, -999.000, 9, -999.000, -999.0000, 9, -999.0000,  -999.00, 9,  -999.00, -999.000, 9, -999.000,   -999.0, 9,   -999.0,  -999.00, 9,    0.1270, 2,    0.0900, 2,    0.0430, 2,    0.0340, 2,    0.0150, 2,    0.0180, 2, -999, 9, -999, 9, -999, 9, -999, 9, -999, 9, -999, 9, -999, 9,  -999.00, 9,  -999.00, 9,  -999.00, 9,  -999.00, 9,   3.3629,  -999.00, 9,  149,   12.2144,  -52.3451
316N200309, A20, 58, 1, 13, 13, 2, 20031014, 0042, 12.2112, -52.3422, 5049,  2250.50,   2250.5,   3.2188,  34.9591, 2,  34.9595, 2,    258.9, 2,    260.3, 2,    19.26, 2,    18.58, 2,     0.00, 2,     1.24, 2,    0.336, 2,    0.166, 2,    0.021, 2, -999.000, 9,   2165.3, 2,   2312.1, 2,  -999.00, 9,  -999.00, 9, -999.000, 9, -999.000, -999.0000, 9, -999.0000,  -999.00, 9,  -999.00, -999.000, 9, -999.000,   -999.0, 9,   -999.0,  -999.00, 9, -999.0000, 9, -999.0000, 9, -999.0000, 9, -999.0000, 9, -999.0000, 9, -999.0000, 9, -999, 9, -999, 9, -999, 9, -999, 9, -999, 9, -999, 9, -999, 9,  -999.00, 9,  -999.00, 9,  -999.00, 9,  -999.00, 9,   3.0393,  -999.00, 9,  144,   12.2143,  -52.3450
316N200309, A20, 58, 1, 12, 12, 2, 20031014, 0042, 12.2112, -52.3422, 5049,  2499.60,   2499.6,   3.0268,  34.9483, 2,  34.9494, 2,    257.3, 2,    258.6, 2,    22.77, 2,    19.09, 2,     0.00, 2,     1.27, 2,    0.234, 2,    0.104, 2,    0.018, 2, -999.000, 9,   2170.0, 2,   2318.1, 2,    43.20, 2,  -999.00, 9, -999.000, 9, -999.000, -999.0000, 9, -999.0000,  -999.00, 9,  -999.00, -999.000, 9, -999.000,   -999.0, 9,   -999.0,  -999.00, 9,    0.1450, 2,    0.1040, 2,    0.0530, 2,    0.0400, 2,    0.0140, 2,    0.0160, 2, -999, 9, -999, 9, -999, 9, -999, 9, -999, 9, -999, 9, -999, 9,  -999.00, 9,  -999.00, 9,  -999.00, 9,  -999.00, 9,   2.8263,  -999.00, 9,  139,   12.2143,  -52.3449
316N200309, A20, 58, 1, 11, 11, 2, 20031014, 0042, 12.2112, -52.3422, 5049,  2749.40,   2749.4,   2.8533,  34.9368, 2,  34.9376, 2,    255.5, 2,    255.0, 2,    26.08, 2,    19.42, 2,     0.00, 2,     1.30, 2,    0.169, 2,    0.089, 2,    0.010, 2, -999.000, 9,   2172.6, 2,   2322.4, 2,  -999.00, 9,  -999.00, 9, -999.000, 9, -999.000, -999.0000, 9, -999.0000,  -999.00, 9,  -999.00, -999.000, 9, -999.000,   -999.0, 9,   -999.0,  -999.00, 9, -999.0000, 9, -999.0000, 9, -999.0000, 9, -999.0000, 9, -999.0000, 9, -999.0000, 9, -999, 9, -999, 9, -999, 9, -999, 9, -999, 9, -999, 9, -999, 9,  -999.00, 9,  -999.00, 9,  -999.00, 9,  -999.00, 9,   2.6313,  -999.00, 9,  134,   12.2142,  -52.3447