BOTTLE,20220816CCHSIOAMB
EXPOCODE,SECT_ID,STNNBR,CASTNO,SAMPNO,BTLNBR,BTLNBR_FLAG_W,DATE,TIME,LATITUDE,LONGITUDE,DEPTH,CTDRAW,CTDPRS,CTDTMP,CTDSAL,CTDSAL_FLAG_W,SALNTY,SALNTY_FLAG_W,CTDOXY,CTDOXY_FLAG_W,OXYGEN,OXYGEN_FLAG_W,SILCAT,SILCAT_FLAG_W,NITRAT,NITRAT_FLAG_W,NITRIT,NITRIT_FLAG_W,PHSPHT,PHSPHT_FLAG_W,CFC-11,CFC-11_FLAG_W,CFC-12,CFC-12_FLAG_W,CFC113,CFC113_FLAG_W,CCL4,CCL4_FLAG_W,TCARBN,TCARBN_FLAG_W,ALKALI,ALKALI_FLAG_W,DOC,DOC_FLAG_W,TDN,TDN_FLAG_W,TRITUM,TRITUM_FLAG_W,TRITER,HELIUM,HELIUM_FLAG_W,HELIER,DELHE3,DELHE3_FLAG_W,DELHER,NEON,NEON_FLAG_W,NEONER,DELC14,DELC14_FLAG_W,C14ERR,DELC13,DELC13_FLAG_W,CDOM325,CDOM325_FLAG_W,CDOM340,CDOM340_FLAG_W,CDOM380,CDOM380_FLAG_W,CDOM412,CDOM412_FLAG_W,CDOMSL,CDOMSL_FLAG_W,CDOMSN,CDOMSN_FLAG_W,DCNS,DCNS_FLAG_W,ARABI,ARABI_FLAG_W,FUCO,FUCO_FLAG_W,GALA,GALA_FLAG_W,GLUC,GLUC_FLAG_W,MAN,MAN_FLAG_W,RHAM,RHAM_FLAG_W,BRDU,BRDU_FLAG_W,PEUK,PEUK_FLAG_W,PROC,PROC_FLAG_W,SYN,SYN_FLAG_W,THETA,BACT,BACT_FLAG_W,BTL_TIME,BTL_LAT,BTL_LON
,,,,,,,,,,,METERS,DBAR,DBAR,ITS-90,PSS-78,,PSS-78,,UMOL/KG,,UMOL/KG,,UMOL/KG,,UMOL/KG,,UMOL/KG,,UMOL/KG,,PMOL/KG,,PMOL/KG,,PMOL/KG,,PMOL/KG,,UMOL/KG,,UMOL/KG,,UMOL/KG,,UMOL/KG,,TU,,TU,NMOL/KG,,NMOL/KG,PERCNT,,PERCNT,NMOL/KG,,NMOL/KG,/MILLE,,/MILLE,/MILLE,,1/M,,1/M,,1/M,,1/M,,1/NM,,1/NM,,NMOL/KG,,NMOL/KG,,NMOL/KG,,NMOL/KG,,NMOL/KG,,NMOL/KG,,NMOL/KG,,PMOL/L/H,,E6/L,,E7/L,,E6/L,,DEG C,E8/L,,,,
316N200309, A20, 75, 1, 16, 16, 2, 20031017, 1101, 7.6975, -53.1992, 999,     3.50,      3.5,  29.3033,  33.6563, 2,  33.6934, 2,    189.6, 2,    193.7, 2,     5.07, 2,     0.03, 2,     0.00, 2,     0.01, 2,    1.520, 2,    0.974, 2,    0.119, 2,    1.673, 2,   1892.9, 2,   2227.4, 2,  -999.00, 9,  -999.00, 9,    0.588, 2,    0.003,   1.7370, 2,   0.0087,    -1.07, 2,     0.20,    6.670, 2,    0.033,   -999.0, 9,   -999.0,  -999.00, 9, -999.0000, 9, -999.0000, 9, -999.0000, 9, -999.0000, 9, -999.0000, 9, -999.0000, 9, -999, 9, -999, 9, -999, 9, -999, 9, -999, 9, -999, 9, -999, 9,  -999.00, 9,  -999.00, 9,  -999.00, 9,  -999.00, 9,  29.3024,  -999.00, 9, 1133,    7.7044,  -53.1924
316N200309, A20, 75, 1, 15, 15, 2, 20031017, 1101, 7.6975, -53.1992, 999,    25.30,     25.3,  28.8401,  35.8751, 2,  35.9325, 2,    194.8, 2,    200.4, 2,     0.98, 2,     0.07, 2,     0.00, 2,     0.05, 2, -999.000, 9, -999.000, 9, -999.000, 9, -999.000, 9,   -999.0, 9,   -999.0, 9,  -999.00, 9,  -999.00, 9, -999.000, 9, -999.000, -999.0000, 9, -999.0000,  -999.00, 9,  -999.00, -999.000, 9, -999.000,   -999.0, 9,   -999.0,  -999.00, 9, -999.0000, 9, -999.0000, 9, -999.0000, 9, -999.0000, 9, -999.0000, 9, -999.0000, 9, -999, 9, -999, 9, -999, 9, -999, 9, -999, 9, -999, 9, -999, 9,  -999.00, 9,  -999.00, 9,  -999.00, 9,  -999.00, 9,  28.8340,  -999.00, 9, 1131,    7.7037,  -53.1924
316N200309, A20, 75, 1, 14, 14, 2, 20031017, 1101, 7.6975, -53.1992, 999,    52.90,     52.9,  27.5362,  36.2481, 2,  36.2471, 2,    187.2, 2,    192.1, 2,     0.27, 2,     0.07, 2,     0.00, 2,     0.07, 2,    1.634, 2,    1.014, 2,    0.110, 2,    1.236, 2,   -999.0, 9,   -999.0, 9,  -999.00, 9,  -999.00, 9,    0.496, 2,    0.003,   1.7217, 2,   0.0086,    -1.43, 2,     0.20,    6.689, 2,    0.033,   -999.0, 9,   -999.0,  -999.00, 9, -999.0000, 9, -999.0000, 9, -999.0000, 9, -999.0000, 9, -999.0000, 9, -999.0000, 9, -999, 9, -999, 9, -999, 9, -999, 9, -999, 9, -999, 9, -999, 9,  -999.00, 9,  -999.00, 9,  -999.00, 9,  -999.00, 9,  27.5238,  -999.00, 9, 1130,    7.7032,  -53.1926
316N200309, A20, 75, 1, 13, 13, 2, 20031017, 1101, 7.6975, -53.1992, 999,    76.90,     76.9,  27.2895,  36.2539, 2,  36.2539, 2,    182.3, 2,    185.5, 2,     0.38, 2,     0.17, 2,     0.03, 2,     0.11, 2, -999.000, 9, -999.000, 9, -999.000, 9, -999.000, 9,   -999.0, 9,   -999.0, 9,  -999.00, 9,  -999.00, 9, -999.000, 9, -999.000, -999.0000, 9, -999.0000,  -999.00, 9,  -999.00, -999.000, 9, -999.000,   -999.0, 9,   -999.0,  -999.00, 9, -999.0000, 9, -999.0000, 9, -999.0000, 9, -999.0000, 9, -999.0000, 9, -999.0000, 9, -999, 9, -999, 9, -999, 9, -999, 9, -999, 9, -999, 9, -999, 9,  -999.00, 9,  -999.00, 9,  -999.00, 9,  -999.00, 9,  27.2716,  -999.00, 9, 1128,    7.7028,  -53.1928
316N200309, A20, 75, 1, 12, 12, 2, 20031017, 1101, 7.6975, -53.1992, 999,   101.00,    101.0,  26.5225,  36.2790, 2,  36.2796, 2,    178.6, 2,    181.1, 2,     0.60, 2,     1.55, 2,     0.03, 2,     0.19, 2,    1.660, 2,    1.032, 2,    0.111, 2,    1.163, 2,   -999.0, 9,   -999.0, 9,  -999.00, 9,  -999.00, 9,    0.495, 2,    0.004,   1.7244, 2,   0.0086,    -0.31, 2,     0.20,    6.679, 2,    0.033,   -999.0, 9,   -999.0,  -999.00, 9, -999.0000, 9, -999.0000, 9, -999.0000, 9, -999.0000, 9, -999.0000, 9, -999.0000, 9, -999, 9, -999, 9, -999, 9, -999, 9, -999, 9, -999, 9, -999, 9,  -999.00, 9,  -999.00, 9,  -999.00, 9,  -999.00, 9,  26.4996,  -999.00, 9, 1127,    7.7025,  -53.1932
316N200309, A20, 75, 1, 11, 11, 2, 20031017, 1101, 7.6975, -53.1992, 999,   126.40,    126.4,  22.6031,  36.4822, 2,  36.4743, 2,    155.8, 2,    157.6, 2,     2.14, 2,     5.55, 2,     0.02, 2,     0.41, 2,    1.889, 2,    1.119, 2,    0.073, 2,    0.636, 2,   -999.0, 9,   -999.0, 9,  -999.00, 9,  -999.00, 9, -999.000, 9, -999.000, -999.0000, 9, -999.0000,  -999.00, 9,  -999.00, -999.000, 9, -999.000,   -999.0, 9,   -999.0,  -999.00, 9, -999.0000, 9, -999.0000, 9, -999.0000, 9, -999.0000, 9, -999.0000, 9, -999.0000, 9, -999, 9, -999, 9, -999, 9, -999, 9, -999, 9, -999, 9, -999, 9,  -999.00, 9,  -999.00, 9,  -999.00, 9,  -999.00, 9,  22.5774,  -999.00, 9, 1126,    7.7023,  -53.1935
316N200309, A20, 75, 1, 10, 10, 2, 20031017, 1101, 7.6975, -53.1992, 999,   150.40,    150.4,  19.8176,  36.5162, 2,  36.5196, 2,    139.6, 2,    143.8, 2,     2.34, 2,     8.49, 2,     0.02, 2,     0.53, 2,    1.986, 2,    1.174, 2,    0.047, 2,    0.450, 2,   -999.0, 9,   -999.0, 9,  -999.00, 9,  -999.00, 9,    0.639, 2,    0.004,   1.7516, 2,   0.0088,     0.29, 2,     0.20,    6.970, 2,    0.035,   -999.0, 9,   -999.0,  -999.00, 9, -999.0000, 9, -999.0000, 9, -999.0000, 9, -999.0000, 9, -999.0000, 9, -999.0000, 9, -999, 9, -999, 9, -999, 9, -999, 9, -999, 9, -999, 9, -999, 9,  -999.00, 9,  -999.00, 9,  -999.00, 9,  -999.00, 9,  19.7898,  -999.00, 9, 1124,    7.7020,  -53.1938
316N200309, A20, 75, 1, 9, 9, 2, 20031017, 1101, 7.6975, -53.1992, 999,   202.00,    202.0,  13.6591,  35.5773, 2,  35.5817, 2,    125.2, 2,    132.5, 2,     7.16, 2,    18.63, 2,     0.00, 2,     1.19, 2,    1.803, 2,    1.013, 2,    0.016, 2,    0.414, 2,   -999.0, 9,   -999.0, 9,  -999.00, 9,  -999.00, 9,    0.476, 2,    0.003,   1.7917, 2,   0.0090,     2.74, 2,     0.20,    7.276, 2,    0.036,   -999.0, 9,   -999.0,  -999.00, 9, -999.0000, 9, -999.0000, 9, -999.0000, 9, -999.0000, 9, -999.0000, 9, -999.0000, 9, -999, 9, -999, 9, -999, 9, -999, 9, -999, 9, -999, 9, -999, 9,  -999.00, 9,  -999.00, 9,  -999.00, 9,  -999.00, 9,  13.6302,  -999.00, 9, 1123,    7.7017,  -53.1943
316N200309, A20, 75, 1, 8, 8, 2, 20031017, 1101, 7.6975, -53.1992, 999,   252.80,    252.8,  10.7535,  35.0940, 2,  35.0935, 2,    133.4, 2,    132.0, 2,    10.56, 2,    23.71, 2,     0.00, 2,     1.54, 2,    1.552, 2,    0.832, 2,    0.017, 2,    0.519, 2,   -999.0, 9,   -999.0, 9,  -999.00, 9,  -999.00, 9, -999.000, 9, -999.000, -999.0000, 9, -999.0000,  -999.00, 9,  -999.00, -999.000, 9, -999.000,   -999.0, 9,   -999.0,  -999.00, 9, -999.0000, 9, -999.0000, 9, -999.0000, 9, -999.0000, 9, -999.0000, 9, -999.0000, 9, -999, 9, -999, 9, -999, 9, -999, 9, -999, 9, -999, 9, -999, 9,  -999.00, 9,  -999.00, 9,  -999.00, 9,  -999.00, 9,  10.7227,  -999.00, 9, 1121,    7.7014,  -53.1947
316N200309, A20, 75, 1, 7, 7, 2, 20031017, 1101, 7.6975, -53.1992, 999,   302.70,    302.7,   9.4625,  34.9174, 2,  34.9215, 2,    126.3, 2,    129.2, 2,    12.94, 2,    26.68, 2,     0.00, 2,     1.73, 2,    1.269, 2,    0.676, 2,    0.005, 2,    0.562, 2,   -999.0, 9,   -999.0, 9,  -999.00, 9,  -999.00, 9, -999.000, 9, -999.000, -999.0000, 9, -999.0000,  -999.00, 9,  -999.00, -999.000, 9, -999.000,   -999.0, 9,   -999.0,  -999.00, 9, -999.0000, 9, -999.0000, 9, -999.0000, 9, -999.0000, 9, -999.0000, 9, -999.0000, 9, -999, 9, -999, 9, -999, 9, -999, 9, -999, 9, -999, 9, -999, 9,  -999.00, 9,  -999.00, 9,  -999.00, 9,  -999.00, 9,   9.4284,  -999.00, 9, 1119,    7.7010,  -53.1952
316N200309, A20, 75, 1, 6, 6, 2, 20031017, 1101, 7.6975, -53.1992, 999,   402.30,    402.3,   8.4761,  34.8071, 2,  34.8041, 2,    128.7, 2,    130.8, 2,    15.32, 2,    28.64, 2,     0.00, 2,     1.87, 2,    1.051, 2,    0.581, 2,    0.075, 4,    0.570, 2,   -999.0, 9,   -999.0, 9,  -999.00, 9,  -999.00, 9,    0.185, 2,    0.002,   1.8309, 2,   0.0092,     3.01, 2,     0.20,    7.611, 2,    0.038,   -999.0, 9,   -999.0,  -999.00, 9, -999.0000, 9, -999.0000, 9, -999.0000, 9, -999.0000, 9, -999.0000, 9, -999.0000, 9, -999, 9, -999, 9, -999, 9, -999, 9, -999, 9, -999, 9, -999, 9,  -999.00, 9,  -999.00, 9,  -999.00, 9,  -999.00, 9,   8.4335,  -999.00, 9, 1116,    7.7005,  -53.1958
316N200309, A20, 75, 1, 5, 5, 2, 20031017, 1101, 7.6975, -53.1992, 999,   502.30,    502.3,   8.3747,  34.8890, 2,  34.8938, 2,     96.2, 2,     94.6, 2,    16.87, 2,    32.59, 2,     0.00, 2,     2.05, 2,    0.410, 2,    0.233, 2,   -0.002, 2,    0.289, 2,   -999.0, 9,   -999.0, 9,  -999.00, 9,  -999.00, 9, -999.000, 9, -999.000, -999.0000, 9, -999.0000,  -999.00, 9,  -999.00, -999.000, 9, -999.000,   -999.0, 9,   -999.0,  -999.00, 9, -999.0000, 9, -999.0000, 9, -999.0000, 9, -999.0000, 9, -999.0000, 9, -999.0000, 9, -999, 9, -999, 9, -999, 9, -999, 9, -999, 9, -999, 9, -999, 9,  -999.00, 9,  -999.00, 9,  -999.00, 9,  -999.00, 9,   8.3216,  -999.00, 9, 1114,    7.6999,  -53.1964
316N200309, A20, 75, 1, 4, 4, 2, 20031017, 1101, 7.6975, -53.1992, 999,   626.70,    626.7,   6.3094,  34.6202, 2,  34.6217, 2,    129.3, 2,    129.1, 2,    22.68, 2,    33.39, 2,     0.00, 2,     2.20, 2,    0.346, 2,    0.212, 2,    0.002, 2,    0.433, 2,   -999.0, 9,   -999.0, 9,  -999.00, 9,  -999.00, 9,    0.106, 2,    0.001,   1.8316, 2,   0.0092,     2.58, 2,     0.20,    7.722, 2,    0.039,   -999.0, 9,   -999.0,  -999.00, 9, -999.0000, 9, -999.0000, 9, -999.0000, 9, -999.0000, 9, -999.0000, 9, -999.0000, 9, -999, 9, -999, 9, -999, 9, -999, 9, -999, 9, -999, 9, -999, 9,  -999.00, 9,  -999.00, 9,  -999.00, 9,  -999.00, 9,   6.2525,  -999.00, 9, 1110,    7.6993,  -53.1971
316N200309, A20, 75, 1, 3, 3, 2, 20031017, 1101, 7.6975, -53.1992, 999,   749.60,    749.6,   5.5399,  34.6024, 2,  34.6036, 2,    133.5, 2,    134.8, 2,    26.22, 2,    33.96, 2,     0.00, 2,     2.26, 2,    0.162, 2,    0.109, 2,   -0.003, 2,    0.279, 2,   -999.0, 9,   -999.0, 9,  -999.00, 9,  -999.00, 9, -999.000, 9, -999.000, -999.0000, 9, -999.0000,  -999.00, 9,  -999.00, -999.000, 9, -999.000,   -999.0, 9,   -999.0,  -999.00, 9, -999.0000, 9, -999.0000, 9, -999.0000, 9, -999.0000, 9, -999.0000, 9, -999.0000, 9, -999, 9, -999, 9, -999, 9, -999, 9, -999, 9, -999, 9, -999, 9,  -999.00, 9,  -999.00, 9,  -999.00, 9,  -999.00, 9,   5.4756,  -999.00, 9, 1108,    7.6987,  -53.1978
316N200309, A20, 75, 1, 2, 2, 2, 20031017, 1101, 7.6975, -53.1992, 999,   881.20,    881.2,   5.1086,  34.6446, 2,  34.6456, 2,    142.3, 2,    143.1, 2,    27.78, 2,    33.15, 2,     0.00, 2,     2.23, 2,    0.078, 2,    0.052, 2,   -0.001, 2,    0.208, 2,   -999.0, 9,   -999.0, 9,  -999.00, 9,  -999.00, 9, -999.000, 9, -999.000, -999.0000, 9, -999.0000,  -999.00, 9,  -999.00, -999.000, 9, -999.000,   -999.0, 9,   -999.0,  -999.00, 9, -999.0000, 9, -999.0000, 9, -999.0000, 9, -999.0000, 9, -999.0000, 9, -999.0000, 9, -999, 9, -999, 9, -999, 9, -999, 9, -999, 9, -999, 9, -999, 9,  -999.00, 9,  -999.00, 9,  -999.00, 9,  -999.00, 9,   5.0350,  -999.00, 9, 1104,    7.6981,  -53.1985
316N200309, A20, 75, 1, 1, 1, 2, 20031017, 1101, 7.6975, -53.1992, 999,   987.50,    987.5,   5.2030,  34.8714, 2,  34.8735, 2,    173.7, 2,    171.2, 2,    22.80, 2,    27.65, 2,     0.00, 2,     1.85, 2,    0.148, 2,    0.094, 2,    0.000, 2,    0.315, 2,   -999.0, 9,   -999.0, 9,  -999.00, 9,  -999.00, 9,    0.090, 2,    0.001,   1.8764, 2,   0.0094,     2.97, 2,     0.20,    7.858, 2,    0.039,   -999.0, 9,   -999.0,  -999.00, 9, -999.0000, 9, -999.0000, 9, -999.0000, 9, -999.0000, 9, -999.0000, 9, -999.0000, 9, -999, 9, -999, 9, -999, 9, -999, 9, -999, 9, -999, 9, -999, 9,  -999.00, 9,  -999.00, 9,  -999.00, 9,  -999.00, 9,   5.1187,  -999.00, 9, 1102,    7.6976,  -53.1991