BOTTLE,20220816CCHSIOAMB
EXPOCODE,SECT_ID,STNNBR,CASTNO,SAMPNO,BTLNBR,BTLNBR_FLAG_W,DATE,TIME,LATITUDE,LONGITUDE,DEPTH,CTDRAW,CTDPRS,CTDTMP,CTDSAL,CTDSAL_FLAG_W,SALNTY,SALNTY_FLAG_W,CTDOXY,CTDOXY_FLAG_W,OXYGEN,OXYGEN_FLAG_W,SILCAT,SILCAT_FLAG_W,NITRAT,NITRAT_FLAG_W,NITRIT,NITRIT_FLAG_W,PHSPHT,PHSPHT_FLAG_W,CFC-11,CFC-11_FLAG_W,CFC-12,CFC-12_FLAG_W,CFC113,CFC113_FLAG_W,CCL4,CCL4_FLAG_W,TCARBN,TCARBN_FLAG_W,ALKALI,ALKALI_FLAG_W,DOC,DOC_FLAG_W,TDN,TDN_FLAG_W,TRITUM,TRITUM_FLAG_W,TRITER,HELIUM,HELIUM_FLAG_W,HELIER,DELHE3,DELHE3_FLAG_W,DELHER,NEON,NEON_FLAG_W,NEONER,DELC14,DELC14_FLAG_W,C14ERR,DELC13,DELC13_FLAG_W,CDOM325,CDOM325_FLAG_W,CDOM340,CDOM340_FLAG_W,CDOM380,CDOM380_FLAG_W,CDOM412,CDOM412_FLAG_W,CDOMSL,CDOMSL_FLAG_W,CDOMSN,CDOMSN_FLAG_W,DCNS,DCNS_FLAG_W,ARABI,ARABI_FLAG_W,FUCO,FUCO_FLAG_W,GALA,GALA_FLAG_W,GLUC,GLUC_FLAG_W,MAN,MAN_FLAG_W,RHAM,RHAM_FLAG_W,BRDU,BRDU_FLAG_W,PEUK,PEUK_FLAG_W,PROC,PROC_FLAG_W,SYN,SYN_FLAG_W,THETA,BACT,BACT_FLAG_W,BTL_TIME,BTL_LAT,BTL_LON
,,,,,,,,,,,METERS,DBAR,DBAR,ITS-90,PSS-78,,PSS-78,,UMOL/KG,,UMOL/KG,,UMOL/KG,,UMOL/KG,,UMOL/KG,,UMOL/KG,,PMOL/KG,,PMOL/KG,,PMOL/KG,,PMOL/KG,,UMOL/KG,,UMOL/KG,,UMOL/KG,,UMOL/KG,,TU,,TU,NMOL/KG,,NMOL/KG,PERCNT,,PERCNT,NMOL/KG,,NMOL/KG,/MILLE,,/MILLE,/MILLE,,1/M,,1/M,,1/M,,1/M,,1/NM,,1/NM,,NMOL/KG,,NMOL/KG,,NMOL/KG,,NMOL/KG,,NMOL/KG,,NMOL/KG,,NMOL/KG,,PMOL/L/H,,E6/L,,E7/L,,E6/L,,DEG C,E8/L,,,,
316N200309, A20, 37, 1, 9, 9, 2, 20031006, 1026, 30.8932, -52.3452, 5404,  3496.90,   3496.9,   2.6134,  34.9211, 2,  34.9193, 2,    258.5, 2,    260.6, 2,    31.63, 2,    19.56, 2,     0.00, 2,     1.34, 2,    0.071, 2,    0.051, 2,    0.002, 2,    0.333, 2,   2177.8, 2,   2326.1, 2,    41.70, 2,  -999.00, 9, -999.000, 9, -999.000, -999.0000, 9, -999.0000,  -999.00, 9,  -999.00, -999.000, 9, -999.000,   -999.0, 9,   -999.0,  -999.00, 9,    0.1020, 2,    0.0690, 2,    0.0320, 2,    0.0210, 2,    0.0210, 2,    0.0220, 2, -999, 9, -999, 9, -999, 9, -999, 9, -999, 9, -999, 9, -999, 9,  -999.00, 9,  -999.00, 9,  -999.00, 9,  -999.00, 9,   2.3185,  -999.00, 9, 1110,   30.9015,  -52.3370
316N200309, A20, 37, 1, 8, 8, 2, 20031006, 1026, 30.8932, -52.3452, 5404,  3749.70,   3749.7,   2.4629,  34.9094, 2,  34.9075, 2,    261.5, 2,    261.8, 2,    31.62, 2,    19.25, 2,     0.00, 2,     1.32, 2,    0.108, 2,    0.081, 2,    0.005, 2,    0.399, 2,   2176.0, 2,   2324.9, 2,  -999.00, 9,  -999.00, 9, -999.000, 9, -999.000, -999.0000, 9, -999.0000,  -999.00, 9,  -999.00, -999.000, 9, -999.000,   -999.0, 9,   -999.0,  -999.00, 9, -999.0000, 9, -999.0000, 9, -999.0000, 9, -999.0000, 9, -999.0000, 9, -999.0000, 9, -999, 9, -999, 9, -999, 9, -999, 9, -999, 9, -999, 9, -999, 9,  -999.00, 9,  -999.00, 9,  -999.00, 9,  -999.00, 9,   2.1439,  -999.00, 9, 1106,   30.9003,  -52.3378
316N200309, A20, 37, 1, 7, 7, 2, 20031006, 1026, 30.8932, -52.3452, 5404,  3958.10,   3958.1,   2.3734,  34.9017, 2,  34.8995, 2,    263.1, 2,    262.9, 2,    32.49, 2,    19.29, 2,     0.00, 2,     1.32, 2,    0.144, 2,    0.101, 2,   -0.003, 2,    0.517, 2,   2176.0, 2,   2324.1, 2,    41.80, 2,  -999.00, 9, -999.000, 9, -999.000, -999.0000, 9, -999.0000,  -999.00, 9,  -999.00, -999.000, 9, -999.000,   -999.0, 9,   -999.0,  -999.00, 9, -999.0000, 9, -999.0000, 9, -999.0000, 9, -999.0000, 9, -999.0000, 9, -999.0000, 9, -999, 9, -999, 9, -999, 9, -999, 9, -999, 9, -999, 9, -999, 9,  -999.00, 9,  -999.00, 9,  -999.00, 9,  -999.00, 9,   2.0335,  -999.00, 9, 1101,   30.8994,  -52.3386
316N200309, A20, 37, 1, 6, 6, 2, 20031006, 1026, 30.8932, -52.3452, 5404,  4249.50,   4249.5,   2.2809,  34.8913, 2,  34.8900, 2,    262.8, 2,    262.5, 2,    35.64, 2,    19.71, 2,     0.00, 2,     1.35, 2, -999.000, 1, -999.000, 1, -999.000, 1, -999.000, 9,   2179.6, 2,   2327.2, 2,  -999.00, 9,  -999.00, 9, -999.000, 9, -999.000, -999.0000, 9, -999.0000,  -999.00, 9,  -999.00, -999.000, 9, -999.000,   -999.0, 9,   -999.0,  -999.00, 9, -999.0000, 9, -999.0000, 9, -999.0000, 9, -999.0000, 9, -999.0000, 9, -999.0000, 9, -999, 9, -999, 9, -999, 9, -999, 9, -999, 9, -999, 9, -999, 9,  -999.00, 9,  -999.00, 9,  -999.00, 9,  -999.00, 9,   1.9101,  -999.00, 9, 1056,   30.8984,  -52.3399
316N200309, A20, 37, 1, 5, 5, 2, 20031006, 1026, 30.8932, -52.3452, 5404,  4499.80,   4499.8,   2.2161,  34.8817, 2,  34.8829, 2,    259.8, 2,    259.5, 2,    39.18, 2,    20.16, 2,     0.00, 2,     1.39, 2, -999.000, 1, -999.000, 1, -999.000, 1, -999.000, 9,   2185.0, 2,   2329.2, 2,  -999.00, 9,  -999.00, 9, -999.000, 9, -999.000, -999.0000, 9, -999.0000,  -999.00, 9,  -999.00, -999.000, 9, -999.000,   -999.0, 9,   -999.0,  -999.00, 9, -999.0000, 9, -999.0000, 9, -999.0000, 9, -999.0000, 9, -999.0000, 9, -999.0000, 9, -999, 9, -999, 9, -999, 9, -999, 9, -999, 9, -999, 9, -999, 9,  -999.00, 9,  -999.00, 9,  -999.00, 9,  -999.00, 9,   1.8177,  -999.00, 9, 1050,   30.8973,  -52.3409
316N200309, A20, 37, 1, 4, 4, 2, 20031006, 1026, 30.8932, -52.3452, 5404,  4749.10,   4749.1,   2.1322,  34.8683, 2,  34.8847, 3,    255.1, 2,    254.6, 2,    46.09, 2,    21.23, 2,     0.00, 2,     1.46, 2,    0.107, 6,    0.066, 6,   -0.004, 6,    0.328, 6,   2192.0, 2,   2335.9, 2,  -999.00, 9,  -999.00, 9, -999.000, 9, -999.000, -999.0000, 9, -999.0000,  -999.00, 9,  -999.00, -999.000, 9, -999.000,   -999.0, 9,   -999.0,  -999.00, 9, -999.0000, 9, -999.0000, 9, -999.0000, 9, -999.0000, 9, -999.0000, 9, -999.0000, 9, -999, 9, -999, 9, -999, 9, -999, 9, -999, 9, -999, 9, -999, 9,  -999.00, 9,  -999.00, 9,  -999.00, 9,  -999.00, 9,   1.7064,  -999.00, 9, 1044,   30.8963,  -52.3421
316N200309, A20, 37, 1, 3, 3, 2, 20031006, 1026, 30.8932, -52.3452, 5404,  4998.50,   4998.5,   2.1031,  34.8610, 2,  34.8595, 2,    252.3, 2,    252.7, 2,    49.95, 2,    21.89, 2,     0.00, 2,     1.49, 2,    0.064, 2,    0.052, 2,    0.001, 2,    0.290, 2,   2196.6, 2,   2338.4, 2,    41.70, 2,  -999.00, 9, -999.000, 9, -999.000, -999.0000, 9, -999.0000,  -999.00, 9,  -999.00, -999.000, 9, -999.000,   -999.0, 9,   -999.0,  -999.00, 9,    0.1050, 2,    0.0740, 2,    0.0360, 2,    0.0310, 3,    0.0140, 3,    0.0170, 3, -999, 9, -999, 9, -999, 9, -999, 9, -999, 9, -999, 9, -999, 9,  -999.00, 9,  -999.00, 9,  -999.00, 9,  -999.00, 9,   1.6474,  -999.00, 9, 1039,   30.8953,  -52.3432
316N200309, A20, 37, 1, 2, 2, 2, 20031006, 1026, 30.8932, -52.3452, 5404,  5247.80,   5247.8,   2.1194,  34.8587, 2,  34.8582, 2,    251.1, 2,    252.0, 2,    51.04, 2,    21.93, 2,     0.00, 2,     1.52, 2,    0.067, 6,    0.042, 6,    0.006, 2,    0.257, 2,   2198.8, 2,   2340.5, 2,  -999.00, 9,  -999.00, 9, -999.000, 9, -999.000, -999.0000, 9, -999.0000,  -999.00, 9,  -999.00, -999.000, 9, -999.000,   -999.0, 9,   -999.0,  -999.00, 9, -999.0000, 9, -999.0000, 9, -999.0000, 9, -999.0000, 9, -999.0000, 9, -999.0000, 9, -999, 9, -999, 9, -999, 9, -999, 9, -999, 9, -999, 9, -999, 9,  -999.00, 9,  -999.00, 9,  -999.00, 9,  -999.00, 9,   1.6317,  -999.00, 9, 1033,   30.8943,  -52.3440
316N200309, A20, 37, 1, 1, 1, 2, 20031006, 1026, 30.8932, -52.3452, 5404,  5507.20,   5507.2,   2.1423,  34.8568, 2,  34.8568, 2,    250.7, 2,    251.5, 2,    51.82, 2,    22.14, 2,     0.00, 2,     1.52, 2,    0.051, 2,    0.050, 2,    0.004, 2,    0.212, 2,   2199.8, 2,   2339.6, 2,    42.30, 2,  -999.00, 9, -999.000, 9, -999.000, -999.0000, 9, -999.0000,  -999.00, 9,  -999.00, -999.000, 9, -999.000,   -999.0, 9,   -999.0,  -999.00, 9,    0.1200, 2,    0.0870, 2,    0.0460, 2,    0.0390, 3,    0.0120, 3,    0.0140, 3, -999, 9, -999, 9, -999, 9, -999, 9, -999, 9, -999, 9, -999, 9,  -999.00, 9,  -999.00, 9,  -999.00, 9,  -999.00, 9,   1.6201,  -999.00, 9, 1027,   30.8934,  -52.3451
316N200309, A20, 37, 2, 4, 4, 9, 20031006, 0812, 30.8693, -52.3435, 5410,    13.30,     13.3,  25.4273,  36.8646, 2, -999.0000, 9,    203.7, 2,   -999.0, 9,  -999.00, 9,  -999.00, 9,  -999.00, 9,  -999.00, 9, -999.000, 9, -999.000, 9, -999.000, 9, -999.000, 9,   -999.0, 9,   -999.0, 9,  -999.00, 9,  -999.00, 9, -999.000, 9, -999.000, -999.0000, 9, -999.0000,  -999.00, 9,  -999.00, -999.000, 9, -999.000,   -999.0, 9,   -999.0,  -999.00, 9, -999.0000, 9, -999.0000, 9, -999.0000, 9, -999.0000, 9, -999.0000, 9, -999.0000, 9, -999.0, 9, -999.0, 9, -999.0, 9, -999.0, 9, -999.0, 9, -999.0, 9, -999.0, 9,  -999.00, 9,  -999.00, 9,  -999.00, 9,  -999.00, 9,  25.4243,  -999.00, 9,  816,   30.8698,  -52.3438
316N200309, A20, 37, 2, 5, 5, 9, 20031006, 0812, 30.8693, -52.3435, 5410,    13.30,     13.3,  25.4283,  36.8646, 2, -999.0000, 9,    203.7, 2,   -999.0, 9,  -999.00, 9,  -999.00, 9,  -999.00, 9,  -999.00, 9, -999.000, 9, -999.000, 9, -999.000, 9, -999.000, 9,   -999.0, 9,   -999.0, 9,  -999.00, 9,  -999.00, 9, -999.000, 9, -999.000, -999.0000, 9, -999.0000,  -999.00, 9,  -999.00, -999.000, 9, -999.000,   -999.0, 9,   -999.0,  -999.00, 9, -999.0000, 9, -999.0000, 9, -999.0000, 9, -999.0000, 9, -999.0000, 9, -999.0000, 9, -999.0, 9, -999.0, 9, -999.0, 9, -999.0, 9, -999.0, 9, -999.0, 9, -999.0, 9,  -999.00, 9,  -999.00, 9,  -999.00, 9,  -999.00, 9,  25.4253,  -999.00, 9,  816,   30.8698,  -52.3438
316N200309, A20, 37, 2, 6, 6, 9, 20031006, 0812, 30.8693, -52.3435, 5410,    13.40,     13.4,  25.4295,  36.8646, 2, -999.0000, 9,    203.7, 2,   -999.0, 9,  -999.00, 9,  -999.00, 9,  -999.00, 9,  -999.00, 9, -999.000, 9, -999.000, 9, -999.000, 9, -999.000, 9,   -999.0, 9,   -999.0, 9,  -999.00, 9,  -999.00, 9, -999.000, 9, -999.000, -999.0000, 9, -999.0000,  -999.00, 9,  -999.00, -999.000, 9, -999.000,   -999.0, 9,   -999.0,  -999.00, 9, -999.0000, 9, -999.0000, 9, -999.0000, 9, -999.0000, 9, -999.0000, 9, -999.0000, 9, -999.0, 9, -999.0, 9, -999.0, 9, -999.0, 9, -999.0, 9, -999.0, 9, -999.0, 9,  -999.00, 9,  -999.00, 9,  -999.00, 9,  -999.00, 9,  25.4266,  -999.00, 9,  816,   30.8698,  -52.3438
316N200309, A20, 37, 2, 2, 2, 9, 20031006, 0812, 30.8693, -52.3435, 5410,   202.50,    202.5,  18.9325,  36.6121, 2, -999.0000, 9,    193.6, 2,   -999.0, 9,  -999.00, 9,  -999.00, 9,  -999.00, 9,  -999.00, 9, -999.000, 9, -999.000, 9, -999.000, 9, -999.000, 9,   -999.0, 9,   -999.0, 9,  -999.00, 9,  -999.00, 9, -999.000, 9, -999.000, -999.0000, 9, -999.0000,  -999.00, 9,  -999.00, -999.000, 9, -999.000,   -999.0, 9,   -999.0,  -999.00, 9, -999.0000, 9, -999.0000, 9, -999.0000, 9, -999.0000, 9, -999.0000, 9, -999.0000, 9, -999.0, 9, -999.0, 9, -999.0, 9, -999.0, 9, -999.0, 9, -999.0, 9, -999.0, 9,  -999.00, 9,  -999.00, 9,  -999.00, 9,  -999.00, 9,  18.8961,  -999.00, 9,  813,   30.8693,  -52.3435
316N200309, A20, 37, 2, 3, 3, 9, 20031006, 0812, 30.8693, -52.3435, 5410,   202.70,    202.7,  18.9312,  36.6124, 2, -999.0000, 9,    193.6, 2,   -999.0, 9,  -999.00, 9,  -999.00, 9,  -999.00, 9,  -999.00, 9, -999.000, 9, -999.000, 9, -999.000, 9, -999.000, 9,   -999.0, 9,   -999.0, 9,  -999.00, 9,  -999.00, 9, -999.000, 9, -999.000, -999.0000, 9, -999.0000,  -999.00, 9,  -999.00, -999.000, 9, -999.000,   -999.0, 9,   -999.0,  -999.00, 9, -999.0000, 9, -999.0000, 9, -999.0000, 9, -999.0000, 9, -999.0000, 9, -999.0000, 9, -999.0, 9, -999.0, 9, -999.0, 9, -999.0, 9, -999.0, 9, -999.0, 9, -999.0, 9,  -999.00, 9,  -999.00, 9,  -999.00, 9,  -999.00, 9,  18.8948,  -999.00, 9,  813,   30.8693,  -52.3435
316N200309, A20, 37, 2, 1, 1, 9, 20031006, 0812, 30.8693, -52.3435, 5410,   202.80,    202.8,  18.9284,  36.6118, 2, -999.0000, 9,    193.6, 2,   -999.0, 9,  -999.00, 9,  -999.00, 9,  -999.00, 9,  -999.00, 9, -999.000, 9, -999.000, 9, -999.000, 9, -999.000, 9,   -999.0, 9,   -999.0, 9,  -999.00, 9,  -999.00, 9, -999.000, 9, -999.000, -999.0000, 9, -999.0000,  -999.00, 9,  -999.00, -999.000, 9, -999.000,   -999.0, 9,   -999.0,  -999.00, 9, -999.0000, 9, -999.0000, 9, -999.0000, 9, -999.0000, 9, -999.0000, 9, -999.0000, 9, -999.0, 9, -999.0, 9, -999.0, 9, -999.0, 9, -999.0, 9, -999.0, 9, -999.0, 9,  -999.00, 9,  -999.00, 9,  -999.00, 9,  -999.00, 9,  18.8920,  -999.00, 9,  812,   30.8693,  -52.3435