BOTTLE,20220517CCHSIOLMM
EXPOCODE,SECT_ID,STNNBR,CASTNO,SAMPNO,BTLNBR,BTLNBR_FLAG_W,DATE,TIME,LATITUDE,LONGITUDE,DEPTH,CTDPRS,CTDTMP,CTDSAL,CTDSAL_FLAG_W,SALNTY,SALNTY_FLAG_W,CTDOXY,CTDOXY_FLAG_W,OXYGEN,OXYGEN_FLAG_W,SILCAT,SILCAT_FLAG_W,NITRAT,NITRAT_FLAG_W,NITRIT,NITRIT_FLAG_W,PHSPHT,PHSPHT_FLAG_W,CFC-11,CFC-11_FLAG_W,CFC-12,CFC-12_FLAG_W,CFC113,CFC113_FLAG_W,TCARBN,TCARBN_FLAG_W,ALKALI,ALKALI_FLAG_W,TRITUM,TRITUM_FLAG_W,HELIUM,HELIUM_FLAG_W,DELHE3,DELHE3_FLAG_W,DELC13,DELC13_FLAG_W,DELC14,DELC14_FLAG_W,C14ERR,CCL4,CCL4_FLAG_W,DOC,DOC_FLAG_W,TDN,TDN_FLAG_W,CTDRAW,BTL_TIME,BTL_LAT,BTL_LON,TRITER,HELIER,DELHER,CDOM325,CDOM325_FLAG_W,CDOM340,CDOM340_FLAG_W,CDOM380,CDOM380_FLAG_W,CDOM412,CDOM412_FLAG_W,CDOMSL,CDOMSL_FLAG_W,CDOMSN,CDOMSN_FLAG_W,THETA,BACT,BACT_FLAG_W,PROC,PROC_FLAG_W,SYN,SYN_FLAG_W,PEUK,PEUK_FLAG_W
,,,,,,,,,,,METERS,DBAR,ITS-90,PSS-78,,PSS-78,,UMOL/KG,,UMOL/KG,,UMOL/KG,,UMOL/KG,,UMOL/KG,,UMOL/KG,,PMOL/KG,,PMOL/KG,,PMOL/KG,,UMOL/KG,,UMOL/KG,,TU,,NMOL/KG,,PERCNT,,/MILLE,,/MILLE,,/MILLE,PMOL/KG,,UMOL/KG,,UMOL/KG,,DBAR,,,,TU,NMOL/KG,PERCNT,1/M,,1/M,,1/M,,1/M,,1/NM,,1/NM,,DEG C,E8/L,,E7/L,,E6/L,,E6/L,
 316N200310,        A22,      57,          1,          4,          4,2,20031107,       1644,    32.7362,   -65.9950,       4964,  4375.4,   2.2578,  34.8895,2,  34.8890,2,    262.7,2,   263.0,2,   33.00,2,   19.14,2,    0.00,2,    1.29,2,   0.497,2,   0.252,2,   0.037,2,    -999,9,    -999,9,   0.246,2,   1.8891,2,    3.07,2,    -999,9,    -999,9,    -999,    -999,9,    -999,9,    -999,9, 4375.40,     1659,  32.7348, -65.9934,   0.010,   0.0094,    0.15,     -999,9,     -999,9,     -999,9,     -999,9,     -999,9,     -999,9,   1.8729,    -999,9,       -999,9,    -999,9,    -999,9
 316N200310,        A22,      57,          1,          3,          3,2,20031107,       1644,    32.7362,   -65.9950,       4964,  4624.6,   2.2611,  34.8867,2,  34.8859,2,    261.5,2,   261.7,2,   34.78,2,   19.43,2,    0.00,2,    1.31,2,   0.461,6,   0.235,6,   0.028,6,  2177.8,2,    -999,9,    -999,9,     -999,9,    -999,9,    -999,9,    -999,9,    -999,    -999,9,    -999,9,    -999,9, 4624.60,     1654,  32.7353, -65.9940,    -999,     -999,    -999,     -999,9,     -999,9,     -999,9,     -999,9,     -999,9,     -999,9,   1.8461,    -999,9,       -999,9,    -999,9,    -999,9
 316N200310,        A22,      57,          1,          2,          2,2,20031107,       1644,    32.7362,   -65.9950,       4964,  4874.1,   2.2812,  34.8853,2,  34.8857,2,    261.3,2,   261.3,2,   35.49,2,   19.53,2,    0.00,2,    1.32,2,   0.427,6,   0.215,6,   0.033,6,  2179.8,2,    -999,9,    -999,9,     -999,9,    -999,9,    -999,9,    -999,9,    -999,    -999,9,    -999,9,    -999,9, 4874.10,     1649,  32.7358, -65.9945,    -999,     -999,    -999,     -999,9,     -999,9,     -999,9,     -999,9,     -999,9,     -999,9,   1.8350,    -999,9,       -999,9,    -999,9,    -999,9
 316N200310,        A22,      57,          1,          1,          1,2,20031107,       1644,    32.7362,   -65.9950,       4964,  5033.9,   2.2923,  34.8843,2,  34.8835,2,    260.2,2,   260.9,2,   36.00,2,   19.58,2,    0.00,2,    1.33,2,   0.408,6,   0.211,6,   0.032,6,  2180.4,2,    -999,9,   0.184,2,   1.8761,2,    2.63,2,    -999,9,    -999,9,    -999,    -999,9,   56.90,4,    -999,9, 5033.90,     1645,  32.7361, -65.9949,   0.010,   0.0094,    0.15,   0.1510,2,   0.1070,2,   0.0510,2,   0.0330,2,   0.0170,2,   0.0190,2,   1.8256,    -999,9,       -999,9,    -999,9,    -999,9
 316N200310,        A22,      57,          2,          3,          3,2,20031107,       1252,    32.7417,   -65.9930,       4961,  4624.8,   2.2648,  34.8869,2,     -999,5,    262.0,2,   282.9,3,   34.26,2,   19.22,2,    0.00,2,    1.31,2,    -999,9,    -999,9,    -999,9,  2176.6,2,    -999,9,    -999,9,     -999,9,    -999,9,    -999,9,    -999,9,    -999,    -999,9,    -999,9,    -999,9, 4624.80,     1301,  32.7413, -65.9922,    -999,     -999,    -999,     -999,9,     -999,9,     -999,9,     -999,9,     -999,9,     -999,9,   1.8498,    -999,9,       -999,9,    -999,9,    -999,9
 316N200310,        A22,      57,          2,          2,          2,2,20031107,       1252,    32.7417,   -65.9930,       4961,  4874.9,   2.2800,  34.8852,2,  34.8851,2,    260.8,2,   261.2,2,   35.40,2,   19.42,2,    0.00,2,    1.33,2,    -999,9,    -999,9,    -999,9,  2178.6,2,    -999,9,    -999,9,     -999,9,    -999,9,    -999,9,    -999,9,    -999,    -999,9,    -999,9,    -999,9, 4874.90,     1256,  32.7415, -65.9927,    -999,     -999,    -999,     -999,9,     -999,9,     -999,9,     -999,9,     -999,9,     -999,9,   1.8337,    -999,9,       -999,9,    -999,9,    -999,9
 316N200310,        A22,      57,          2,          1,          1,2,20031107,       1252,    32.7417,   -65.9930,       4961,  5032.7,   2.2897,  34.8840,2,  34.8845,2,    260.5,2,   260.6,2,   36.12,2,   19.57,2,    0.00,2,    1.33,2,    -999,9,    -999,9,    -999,9,  2179.0,6,    -999,9,    -999,9,     -999,9,    -999,9,    -999,9,    -999,9,    -999,    -999,9,    -999,9,    -999,9, 5032.70,     1252,  32.7417, -65.9930,    -999,     -999,    -999,     -999,9,     -999,9,     -999,9,     -999,9,     -999,9,     -999,9,   1.8233,    -999,9,       -999,9,    -999,9,    -999,9