BOTTLE,20220517CCHSIOLMM
EXPOCODE,SECT_ID,STNNBR,CASTNO,SAMPNO,BTLNBR,BTLNBR_FLAG_W,DATE,TIME,LATITUDE,LONGITUDE,DEPTH,CTDPRS,CTDTMP,CTDSAL,CTDSAL_FLAG_W,SALNTY,SALNTY_FLAG_W,CTDOXY,CTDOXY_FLAG_W,OXYGEN,OXYGEN_FLAG_W,SILCAT,SILCAT_FLAG_W,NITRAT,NITRAT_FLAG_W,NITRIT,NITRIT_FLAG_W,PHSPHT,PHSPHT_FLAG_W,CFC-11,CFC-11_FLAG_W,CFC-12,CFC-12_FLAG_W,CFC113,CFC113_FLAG_W,TCARBN,TCARBN_FLAG_W,ALKALI,ALKALI_FLAG_W,TRITUM,TRITUM_FLAG_W,HELIUM,HELIUM_FLAG_W,DELHE3,DELHE3_FLAG_W,DELC13,DELC13_FLAG_W,DELC14,DELC14_FLAG_W,C14ERR,CCL4,CCL4_FLAG_W,DOC,DOC_FLAG_W,TDN,TDN_FLAG_W,CTDRAW,BTL_TIME,BTL_LAT,BTL_LON,TRITER,HELIER,DELHER,CDOM325,CDOM325_FLAG_W,CDOM340,CDOM340_FLAG_W,CDOM380,CDOM380_FLAG_W,CDOM412,CDOM412_FLAG_W,CDOMSL,CDOMSL_FLAG_W,CDOMSN,CDOMSN_FLAG_W,THETA,BACT,BACT_FLAG_W,PROC,PROC_FLAG_W,SYN,SYN_FLAG_W,PEUK,PEUK_FLAG_W
,,,,,,,,,,,METERS,DBAR,ITS-90,PSS-78,,PSS-78,,UMOL/KG,,UMOL/KG,,UMOL/KG,,UMOL/KG,,UMOL/KG,,UMOL/KG,,PMOL/KG,,PMOL/KG,,PMOL/KG,,UMOL/KG,,UMOL/KG,,TU,,NMOL/KG,,PERCNT,,/MILLE,,/MILLE,,/MILLE,PMOL/KG,,UMOL/KG,,UMOL/KG,,DBAR,,,,TU,NMOL/KG,PERCNT,1/M,,1/M,,1/M,,1/M,,1/NM,,1/NM,,DEG C,E8/L,,E7/L,,E6/L,,E6/L,
 316N200310,        A22,      34,          1,         36,         36,2,20031031,       0050,    19.6808,   -66.0032,       7498,     2.5,  29.2562,  35.2720,2,  35.2694,2,    196.9,2,   195.2,2,    0.82,2,    0.12,2,    0.00,2,    0.00,2,   1.527,2,   0.908,2,   0.093,2,  1970.4,2,  2322.6,6,    -999,9,     -999,9,    -999,9,    -999,9,    -999,9,    -999,   1.655,2,   77.80,2,    4.80,2,    2.50,      323,  19.6704, -66.0154,    -999,     -999,    -999,     -999,9,     -999,9,     -999,9,     -999,9,     -999,9,     -999,9,  29.2555,    -999,9,       -999,9,    -999,9,    -999,9
 316N200310,        A22,      34,          1,         35,         35,2,20031031,       0050,    19.6808,   -66.0032,       7498,    24.7,  29.1965,  35.3616,2,  35.3516,2,    197.2,2,   195.4,2,    0.71,2,    0.11,2,    0.00,2,    0.00,2,   1.772,4,   1.487,4,   0.159,4,  1973.0,2,  2329.7,2,    -999,9,     -999,9,    -999,9,    -999,9,    -999,9,    -999,   1.714,4,   80.10,2,    5.00,2,   24.70,      322,  19.6706, -66.0152,    -999,     -999,    -999,     -999,9,     -999,9,     -999,9,     -999,9,     -999,9,     -999,9,  29.1905,    -999,9,       -999,9,    -999,9,    -999,9
 316N200310,        A22,      34,          1,         34,         34,2,20031031,       0050,    19.6808,   -66.0032,       7498,    50.1,  28.9554,  36.5221,2,  36.5182,2,    199.0,2,   197.5,2,    0.91,2,    0.06,2,    0.00,2,    0.00,2,   1.566,2,   0.934,2,   0.074,2,  2019.9,2,  2392.6,2,    -999,9,     -999,9,    -999,9,    -999,9,    -999,9,    -999,   1.644,2,   77.20,2,    3.90,2,   50.10,      320,  19.6708, -66.0149,    -999,     -999,    -999,     -999,9,     -999,9,     -999,9,     -999,9,     -999,9,     -999,9,  28.9433,    -999,9,       -999,9,    -999,9,    -999,9
 316N200310,        A22,      34,          1,         33,         33,2,20031031,       0050,    19.6808,   -66.0032,       7498,   101.1,  26.0128,  36.8936,2,  36.8899,2,    207.2,2,   209.0,2,    0.61,2,    0.01,2,    0.00,2,    0.00,2,   1.804,2,   1.112,2,   0.073,2,  2048.1,2,  2412.0,2,    -999,9,     -999,9,    -999,9,    -999,9,    -999,9,    -999,   1.097,2,   71.80,2,    4.80,2,  101.10,      317,  19.6712, -66.0145,    -999,     -999,    -999,     -999,9,     -999,9,     -999,9,     -999,9,     -999,9,     -999,9,  25.9900,    -999,9,       -999,9,    -999,9,    -999,9
 316N200310,        A22,      34,          1,         32,         32,2,20031031,       0050,    19.6808,   -66.0032,       7498,   150.1,  24.1842,  37.2531,2,  37.2493,2,    188.4,2,   188.6,2,    0.51,2,    0.79,2,    0.04,2,    0.03,2,   1.917,2,   1.168,2,   0.113,2,  2098.5,2,  2432.0,2,    -999,9,     -999,9,    -999,9,    -999,9,    -999,9,    -999,   0.608,2,   60.80,2,    4.80,2,  150.10,      315,  19.6715, -66.0142,    -999,     -999,    -999,     -999,9,     -999,9,     -999,9,     -999,9,     -999,9,     -999,9,  24.1522,    -999,9,       -999,9,    -999,9,    -999,9
 316N200310,        A22,      34,          1,         31,         31,2,20031031,       0050,    19.6808,   -66.0032,       7498,   201.1,  21.1903,  36.9828,2,  36.9798,2,    177.0,2,   177.6,2,    0.51,2,    1.74,2,    0.01,2,    0.06,2,   2.121,2,   1.265,2,   0.039,2,  2118.4,2,  2413.0,2,    -999,9,     -999,9,    -999,9,    -999,9,    -999,9,    -999,   0.201,2,   54.60,2,    5.70,2,  201.10,      313,  19.6718, -66.0139,    -999,     -999,    -999,     -999,9,     -999,9,     -999,9,     -999,9,     -999,9,     -999,9,  21.1512,    -999,9,       -999,9,    -999,9,    -999,9
 316N200310,        A22,      34,          1,         30,         30,2,20031031,       0050,    19.6808,   -66.0032,       7498,   249.5,  19.2796,  36.7222,2,  36.7238,2,    172.7,2,   174.6,2,    1.00,2,    4.23,2,    0.01,2,    0.19,2,   2.249,2,   1.320,2,   0.012,2,  2125.0,2,  2395.0,2,    -999,9,     -999,9,    -999,9,    -999,9,    -999,9,    -999,   0.272,2,   48.50,2,    7.10,2,  249.50,      311,  19.6721, -66.0135,    -999,     -999,    -999,     -999,9,     -999,9,     -999,9,     -999,9,     -999,9,     -999,9,  19.2341,    -999,9,       -999,9,    -999,9,    -999,9
 316N200310,        A22,      34,          1,         29,         29,2,20031031,       0050,    19.6808,   -66.0032,       7498,   300.6,  17.9296,  36.5072,2,  36.5062,2,    169.7,2,   166.9,2,    1.90,2,    7.52,2,    0.01,2,    0.39,2,   2.244,2,   1.290,2,   0.011,2,  2134.7,2,  2382.8,2,    -999,9,     -999,9,    -999,9,    -999,9,    -999,9,    -999,   0.297,2,   49.30,2,   10.80,2,  300.60,      309,  19.6723, -66.0133,    -999,     -999,    -999,     -999,9,     -999,9,     -999,9,     -999,9,     -999,9,     -999,9,  17.8775,    -999,9,       -999,9,    -999,9,    -999,9
 316N200310,        A22,      34,          1,         28,         28,2,20031031,       0050,    19.6808,   -66.0032,       7498,   400.8,  15.6847,  36.1300,2,  36.1308,2,    155.9,2,   159.8,2,    3.60,2,   11.88,2,    0.01,2,    0.67,2,   2.146,2,   1.182,2,   0.015,2,  2148.0,2,  2360.9,2,    -999,9,     -999,9,    -999,9,    -999,9,    -999,9,    -999,   0.314,2,   46.10,2,    -999,9,  400.80,      307,  19.6726, -66.0129,    -999,     -999,    -999,     -999,9,     -999,9,     -999,9,     -999,9,     -999,9,     -999,9,  15.6212,    -999,9,       -999,9,    -999,9,    -999,9
 316N200310,        A22,      34,          1,         27,         27,2,20031031,       0050,    19.6808,   -66.0032,       7498,   500.9,  13.1524,  35.7195,2,  35.7183,2,    146.9,2,   144.5,2,    6.71,2,   17.62,2,    0.00,2,    1.04,2,   1.681,2,   0.884,2,   0.013,2,  2168.4,2,  2341.4,2,    -999,9,     -999,9,    -999,9,    -999,9,    -999,9,    -999,   0.272,2,   47.20,2,    -999,9,  500.90,      304,  19.6729, -66.0125,    -999,     -999,    -999,     -999,9,     -999,9,     -999,9,     -999,9,     -999,9,     -999,9,  13.0818,    -999,9,       -999,9,    -999,9,    -999,9
 316N200310,        A22,      34,          1,         26,         26,2,20031031,       0050,    19.6808,   -66.0032,       7498,   626.3,  10.9050,  35.3852,2,  35.3851,2,    137.2,2,   137.6,2,   10.63,2,   22.42,2,    0.00,2,    1.37,2,   1.062,2,   0.568,2,   0.006,2,  2183.1,2,  2326.0,2,    -999,9,     -999,9,    -999,9,    -999,9,    -999,9,    -999,   0.233,2,    -999,9,    -999,9,  626.30,      301,  19.6733, -66.0121,    -999,     -999,    -999,     -999,9,     -999,9,     -999,9,     -999,9,     -999,9,     -999,9,  10.8263,    -999,9,       -999,9,    -999,9,    -999,9
 316N200310,        A22,      34,          1,         25,         25,2,20031031,       0050,    19.6808,   -66.0032,       7498,   751.4,   8.8120,  35.1067,2,  35.1063,2,    132.5,2,   132.6,2,   15.67,2,   26.90,2,    0.00,2,    1.70,2,   0.530,2,   0.285,2,   0.004,2,  2198.2,2,  2317.5,2,    -999,9,     -999,9,    -999,9,    -999,9,    -999,9,    -999,   0.193,2,   44.60,2,    -999,9,  751.40,      258,  19.6736, -66.0118,    -999,     -999,    -999,     -999,9,     -999,9,     -999,9,     -999,9,     -999,9,     -999,9,   8.7287,    -999,9,       -999,9,    -999,9,    -999,9
 316N200310,        A22,      34,          1,         24,         24,2,20031031,       0050,    19.6808,   -66.0032,       7498,   901.2,   7.0586,  34.9845,2,  34.9839,2,    146.7,2,   146.4,2,   19.21,2,   27.82,2,    0.00,2,    1.80,2,   0.239,2,   0.138,2,   0.005,2,  2200.0,2,  2315.5,6,    -999,9,     -999,9,    -999,9,    -999,9,    -999,9,    -999,   0.163,2,    -999,9,    -999,9,  901.20,      255,  19.6741, -66.0114,    -999,     -999,    -999,     -999,9,     -999,9,     -999,9,     -999,9,     -999,9,     -999,9,   6.9696,    -999,9,       -999,9,    -999,9,    -999,9
 316N200310,        A22,      34,          1,         23,         23,2,20031031,       0050,    19.6808,   -66.0032,       7498,  1051.5,   6.0963,  35.0138,2,  35.0140,2,    183.5,2,   181.5,2,   17.79,2,   24.40,2,    0.00,2,    1.58,2,   0.397,2,   0.213,2,   0.007,2,  2190.2,2,  2318.3,2,    -999,9,     -999,9,    -999,9,    -999,9,    -999,9,    -999,   0.425,2,   42.50,2,    -999,9, 1051.50,      251,  19.6745, -66.0110,    -999,     -999,    -999,     -999,9,     -999,9,     -999,9,     -999,9,     -999,9,     -999,9,   5.9988,    -999,9,       -999,9,    -999,9,    -999,9
 316N200310,        A22,      34,          1,         22,         22,2,20031031,       0050,    19.6808,   -66.0032,       7498,  1200.8,   5.1602,  35.0229,2,  35.0232,2,    212.7,2,   213.0,2,   16.37,2,   21.71,2,    0.00,2,    1.42,2,   0.451,2,   0.227,2,   0.028,2,  2180.0,2,  2331.5,3,    -999,9,     -999,9,    -999,9,    -999,9,    -999,9,    -999,   0.664,2,   41.10,2,    -999,9, 1200.80,      247,  19.6748, -66.0107,    -999,     -999,    -999,     -999,9,     -999,9,     -999,9,     -999,9,     -999,9,     -999,9,   5.0560,    -999,9,       -999,9,    -999,9,    -999,9
 316N200310,        A22,      34,          1,         21,         21,2,20031031,       0050,    19.6808,   -66.0032,       7498,  1350.7,   4.6936,  35.0284,2,  35.0289,2,    236.7,2,   237.9,2,   13.85,2,   19.43,2,    0.00,2,    1.26,2,   0.705,2,   0.363,2,   0.021,2,  2169.7,2,  2312.7,2,    -999,9,     -999,9,    -999,9,    -999,9,    -999,9,    -999,   1.132,2,    -999,9,    -999,9, 1350.70,      244,  19.6751, -66.0104,    -999,     -999,    -999,     -999,9,     -999,9,     -999,9,     -999,9,     -999,9,     -999,9,   4.5797,    -999,9,       -999,9,    -999,9,    -999,9
 316N200310,        A22,      34,          1,         20,         20,2,20031031,       0050,    19.6808,   -66.0032,       7498,  1500.5,   4.2714,  35.0037,2,  35.0049,2,    250.8,2,   252.4,2,   12.84,2,   18.37,2,    0.00,2,    1.19,2,   1.102,2,   0.543,2,   0.035,2,  2162.9,2,  2309.1,2,    -999,9,     -999,9,    -999,9,    -999,9,    -999,9,    -999,   1.647,2,   45.00,2,    -999,9, 1500.50,      240,  19.6754, -66.0102,    -999,     -999,    -999,     -999,9,     -999,9,     -999,9,     -999,9,     -999,9,     -999,9,   4.1480,    -999,9,       -999,9,    -999,9,    -999,9
 316N200310,        A22,      34,          1,         19,         19,2,20031031,       0050,    19.6808,   -66.0032,       7498,  1651.4,   3.9332,  34.9822,2,  34.9835,2,    259.0,2,   259.4,2,   13.24,2,   18.02,2,    0.00,2,    1.17,2,   1.109,2,   0.558,2,   0.042,2,  2160.5,2,  2308.8,2,    -999,9,     -999,9,    -999,9,    -999,9,    -999,9,    -999,   1.689,2,    -999,9,    -999,9, 1651.40,      237,  19.6756, -66.0100,    -999,     -999,    -999,     -999,9,     -999,9,     -999,9,     -999,9,     -999,9,     -999,9,   3.7998,    -999,9,       -999,9,    -999,9,    -999,9
 316N200310,        A22,      34,          1,         18,         18,2,20031031,       0050,    19.6808,   -66.0032,       7498,  1798.0,   3.6956,  34.9710,2,  34.9721,2,    261.8,2,   262.2,2,   14.24,2,   17.92,2,    0.00,2,    1.17,2,   0.984,2,   0.486,2,   0.036,2,  2161.7,2,  2310.8,2,    -999,9,     -999,9,    -999,9,    -999,9,    -999,9,    -999,   1.564,2,   44.80,2,    -999,9, 1798.00,      233,  19.6759, -66.0097,    -999,     -999,    -999,     -999,9,     -999,9,     -999,9,     -999,9,     -999,9,     -999,9,   3.5517,    -999,9,       -999,9,    -999,9,    -999,9
 316N200310,        A22,      34,          1,         17,         17,2,20031031,       0050,    19.6808,   -66.0032,       7498,  2001.4,   3.4971,  34.9666,2,  34.9669,2,    262.2,2,   262.8,2,   15.86,2,   18.01,2,    0.00,2,    1.18,2,   0.740,6,   0.368,6,   0.037,6,  2162.3,2,  2312.2,2,    -999,9,     -999,9,    -999,9,    -999,9,    -999,9,    -999,   1.287,2,   43.20,2,    -999,9, 2001.40,      229,  19.6762, -66.0094,    -999,     -999,    -999,     -999,9,     -999,9,     -999,9,     -999,9,     -999,9,     -999,9,   3.3369,    -999,9,       -999,9,    -999,9,    -999,9
 316N200310,        A22,      34,          1,         16,         16,2,20031031,       0050,    19.6808,   -66.0032,       7498,  2251.1,   3.2071,  34.9575,2,  34.9579,2,    261.8,2,   262.4,2,   18.59,2,   18.16,2,    0.00,2,    1.20,2,   0.485,2,   0.244,2,   0.012,2,  2164.0,2,  2314.5,2,    -999,9,     -999,9,    -999,9,    -999,9,    -999,9,    -999,   0.941,2,    -999,9,    -999,9, 2251.10,      224,  19.6764, -66.0090,    -999,     -999,    -999,     -999,9,     -999,9,     -999,9,     -999,9,     -999,9,     -999,9,   3.0277,    -999,9,       -999,9,    -999,9,    -999,9
 316N200310,        A22,      34,          1,         15,         15,2,20031031,       0050,    19.6808,   -66.0032,       7498,  2500.4,   3.0856,  34.9510,2,  34.9516,2,    262.3,2,   262.4,2,   19.70,2,   18.21,2,    0.00,2,    1.21,2,   0.451,2,   0.207,2,   0.014,2,  2166.2,2,  2315.6,2,    -999,9,     -999,9,    -999,9,    -999,9,    -999,9,    -999,   0.855,2,   41.90,2,    -999,9, 2500.40,      219,  19.6767, -66.0087,    -999,     -999,    -999,     -999,9,     -999,9,     -999,9,     -999,9,     -999,9,     -999,9,   2.8840,    -999,9,       -999,9,    -999,9,    -999,9
 316N200310,        A22,      34,          1,         14,         14,2,20031031,       0050,    19.6808,   -66.0032,       7498,  2750.9,   2.9253,  34.9412,2,  34.9414,2,    263.4,2,   263.9,2,   21.01,2,   18.21,2,    0.00,2,    1.21,2,   0.461,2,   0.227,2,   0.016,2,  2165.8,2,  2316.7,2,    -999,9,     -999,9,    -999,9,    -999,9,    -999,9,    -999,   0.846,2,    -999,9,    -999,9, 2750.90,      214,  19.6771, -66.0083,    -999,     -999,    -999,     -999,9,     -999,9,     -999,9,     -999,9,     -999,9,     -999,9,   2.7018,    -999,9,       -999,9,    -999,9,    -999,9
 316N200310,        A22,      34,          1,         13,         13,2,20031031,       0050,    19.6808,   -66.0032,       7498,  3001.0,   2.7246,  34.9286,2,  34.9286,2,    265.1,2,   265.2,2,   22.33,2,   18.00,2,    0.00,2,    1.20,2,   0.521,2,   0.254,2,   0.018,2,  2165.3,2,  2323.1,2,    -999,9,     -999,9,    -999,9,    -999,9,    -999,9,    -999,   0.908,2,   43.10,2,    -999,9, 3001.00,      209,  19.6773, -66.0080,    -999,     -999,    -999,     -999,9,     -999,9,     -999,9,     -999,9,     -999,9,     -999,9,   2.4797,    -999,9,       -999,9,    -999,9,    -999,9
 316N200310,        A22,      34,          1,         12,         12,2,20031031,       0050,    19.6808,   -66.0032,       7498,  3250.4,   2.5871,  34.9194,2,  34.9193,2,    266.6,2,   266.8,2,   23.45,2,   18.10,2,    0.00,2,    1.21,2,   0.578,2,   0.264,2,   0.016,2,  2170.3,2,  2321.7,2,    -999,9,     -999,9,    -999,9,    -999,9,    -999,9,    -999,   0.966,2,   43.30,2,    -999,9, 3250.40,      204,  19.6776, -66.0076,    -999,     -999,    -999,     -999,9,     -999,9,     -999,9,     -999,9,     -999,9,     -999,9,   2.3193,    -999,9,       -999,9,    -999,9,    -999,9
 316N200310,        A22,      34,          1,         11,         11,2,20031031,       0050,    19.6808,   -66.0032,       7498,  3499.2,   2.4907,  34.9123,2,  34.9126,2,    267.4,2,   267.5,2,   24.46,2,   18.05,2,    0.00,2,    1.20,2,   0.609,2,   0.297,2,   0.020,2,  2170.3,2,  2320.2,2,    -999,9,     -999,9,    -999,9,    -999,9,    -999,9,    -999,   1.045,2,   43.50,2,    -999,9, 3499.20,      159,  19.6779, -66.0073,    -999,     -999,    -999,     -999,9,     -999,9,     -999,9,     -999,9,     -999,9,     -999,9,   2.1986,    -999,9,       -999,9,    -999,9,    -999,9
 316N200310,        A22,      34,          1,         10,         10,2,20031031,       0050,    19.6808,   -66.0032,       7498,  3749.9,   2.4166,  34.9065,2,  34.9063,2,    267.7,2,   267.8,2,   25.88,2,   18.20,2,    0.00,2,    1.21,2,   0.617,2,   0.292,2,   0.025,2,  2173.0,2,  2323.1,2,    -999,9,     -999,9,    -999,9,    -999,9,    -999,9,    -999,   1.063,2,   41.10,2,    -999,9, 3749.90,      154,  19.6781, -66.0069,    -999,     -999,    -999,     -999,9,     -999,9,     -999,9,     -999,9,     -999,9,     -999,9,   2.0989,    -999,9,       -999,9,    -999,9,    -999,9
 316N200310,        A22,      34,          1,          9,          9,2,20031031,       0050,    19.6808,   -66.0032,       7498,  4000.2,   2.3557,  34.9009,2,  34.9004,2,    267.4,2,   266.8,2,   27.61,2,   18.40,2,    0.00,2,    1.23,2,   0.613,6,   0.301,6,   0.021,6,  2174.8,2,  2325.5,2,    -999,9,     -999,9,    -999,9,    -999,9,    -999,9,    -999,   1.033,6,   43.10,3,    -999,9, 4000.20,      149,  19.6783, -66.0065,    -999,     -999,    -999,     -999,9,     -999,9,     -999,9,     -999,9,     -999,9,     -999,9,   2.0114,    -999,9,       -999,9,    -999,9,    -999,9
 316N200310,        A22,      34,          1,          8,          8,2,20031031,       0050,    19.6808,   -66.0032,       7498,  4250.2,   2.3216,  34.8967,2,  34.8981,2,    266.5,2,   265.9,2,   29.53,2,   18.65,2,    0.00,2,    1.25,2,   0.016,4,  -0.002,4,   0.007,4,  2180.0,2,  2326.1,2,    -999,9,     -999,9,    -999,9,    -999,9,    -999,9,    -999,  -0.019,4,   41.10,2,    -999,9, 4250.20,      144,  19.6785, -66.0062,    -999,     -999,    -999,     -999,9,     -999,9,     -999,9,     -999,9,     -999,9,     -999,9,   1.9494,    -999,9,       -999,9,    -999,9,    -999,9
 316N200310,        A22,      34,          1,          7,          7,2,20031031,       0050,    19.6808,   -66.0032,       7498,  4499.2,   2.3054,  34.8929,2,  34.8928,2,    265.2,2,   264.6,2,   31.67,2,   18.90,2,    0.00,2,    1.27,2,   0.006,4,  -0.001,4,   0.006,4,  2184.1,2,  2326.8,2,    -999,9,     -999,9,    -999,9,    -999,9,    -999,9,    -999,  -0.040,4,   43.60,2,    -999,9, 4499.20,      139,  19.6786, -66.0059,    -999,     -999,    -999,     -999,9,     -999,9,     -999,9,     -999,9,     -999,9,     -999,9,   1.9042,    -999,9,       -999,9,    -999,9,    -999,9
 316N200310,        A22,      34,          1,          6,          6,2,20031031,       0050,    19.6808,   -66.0032,       7498,  4750.4,   2.2992,  34.8894,2,  34.8881,2,    263.9,2,   263.7,2,   33.72,2,   19.25,2,    0.00,2,    1.30,2,   0.006,4,  -0.001,4,   0.000,4,  2191.5,2,  2327.3,3,    -999,9,     -999,9,    -999,9,    -999,9,    -999,9,    -999,  -0.042,4,   40.80,2,    -999,9, 4750.40,      133,  19.6789, -66.0055,    -999,     -999,    -999,     -999,9,     -999,9,     -999,9,     -999,9,     -999,9,     -999,9,   1.8677,    -999,9,       -999,9,    -999,9,    -999,9
 316N200310,        A22,      34,          1,          5,          5,2,20031031,       0050,    19.6808,   -66.0032,       7498,  5000.0,   2.2872,  34.8848,2,  34.8851,2,    261.7,2,   261.0,2,   36.36,2,   19.66,2,    0.00,2,    1.33,2,   0.004,4,  -0.001,4,   0.000,4,  2189.4,2,  2330.1,2,    -999,9,     -999,9,    -999,9,    -999,9,    -999,9,    -999,  -0.042,4,   41.90,2,    -999,9, 5000.00,      127,  19.6792, -66.0051,    -999,     -999,    -999,     -999,9,     -999,9,     -999,9,     -999,9,     -999,9,     -999,9,   1.8250,    -999,9,       -999,9,    -999,9,    -999,9