BOTTLE,20220517CCHSIOLMM
EXPOCODE,SECT_ID,STNNBR,CASTNO,SAMPNO,BTLNBR,BTLNBR_FLAG_W,DATE,TIME,LATITUDE,LONGITUDE,DEPTH,CTDPRS,CTDTMP,CTDSAL,CTDSAL_FLAG_W,SALNTY,SALNTY_FLAG_W,CTDOXY,CTDOXY_FLAG_W,OXYGEN,OXYGEN_FLAG_W,SILCAT,SILCAT_FLAG_W,NITRAT,NITRAT_FLAG_W,NITRIT,NITRIT_FLAG_W,PHSPHT,PHSPHT_FLAG_W,CFC-11,CFC-11_FLAG_W,CFC-12,CFC-12_FLAG_W,CFC113,CFC113_FLAG_W,TCARBN,TCARBN_FLAG_W,ALKALI,ALKALI_FLAG_W,TRITUM,TRITUM_FLAG_W,HELIUM,HELIUM_FLAG_W,DELHE3,DELHE3_FLAG_W,DELC13,DELC13_FLAG_W,DELC14,DELC14_FLAG_W,C14ERR,CCL4,CCL4_FLAG_W,DOC,DOC_FLAG_W,TDN,TDN_FLAG_W,CTDRAW,BTL_TIME,BTL_LAT,BTL_LON,TRITER,HELIER,DELHER,CDOM325,CDOM325_FLAG_W,CDOM340,CDOM340_FLAG_W,CDOM380,CDOM380_FLAG_W,CDOM412,CDOM412_FLAG_W,CDOMSL,CDOMSL_FLAG_W,CDOMSN,CDOMSN_FLAG_W,THETA,BACT,BACT_FLAG_W,PROC,PROC_FLAG_W,SYN,SYN_FLAG_W,PEUK,PEUK_FLAG_W
,,,,,,,,,,,METERS,DBAR,ITS-90,PSS-78,,PSS-78,,UMOL/KG,,UMOL/KG,,UMOL/KG,,UMOL/KG,,UMOL/KG,,UMOL/KG,,PMOL/KG,,PMOL/KG,,PMOL/KG,,UMOL/KG,,UMOL/KG,,TU,,NMOL/KG,,PERCNT,,/MILLE,,/MILLE,,/MILLE,PMOL/KG,,UMOL/KG,,UMOL/KG,,DBAR,,,,TU,NMOL/KG,PERCNT,1/M,,1/M,,1/M,,1/M,,1/NM,,1/NM,,DEG C,E8/L,,E7/L,,E6/L,,E6/L,
 316N200310,        A22,      45,          1,         36,         36,2,20031103,       1000,    26.2110,   -66.0072,       5271,     3.2,  27.5938,  36.8252,2,  36.8218,2,    195.4,2,   198.8,2,    0.61,2,    0.24,2,    0.00,2,    0.01,2,   1.648,2,   1.002,2,   0.130,2,  2033.8,2,  2403.2,2,    -999,9,     -999,9,    -999,9,    -999,9,    -999,9,    -999,    -999,9,    -999,9,    -999,9,    3.20,     1207,  26.2080, -66.0140,    -999,     -999,    -999,   0.0420,2,   0.0250,2,   0.0060,2,   0.0040,2,   0.0360,2,   0.0360,2,  27.5931,    -999,9,       -999,9,    -999,9,    -999,9
 316N200310,        A22,      45,          1,         35,         35,2,20031103,       1000,    26.2110,   -66.0072,       5271,    25.5,  27.6006,  36.8400,2,  36.8357,2,    197.0,2,   198.4,2,    0.58,2,    0.24,2,    0.00,2,    0.01,2,   1.636,2,   1.001,2,   0.136,2,    -999,9,    -999,9,    -999,9,     -999,9,    -999,9,    -999,9,    -999,9,    -999,    -999,9,    -999,9,    -999,9,   25.50,     1206,  26.2080, -66.0140,    -999,     -999,    -999,   0.0300,2,   0.0170,2,   0.0020,2,   0.0010,2,   0.0410,2,   0.0180,2,  27.5946,    -999,9,       -999,9,    -999,9,    -999,9
 316N200310,        A22,      45,          1,         34,         34,2,20031103,       1000,    26.2110,   -66.0072,       5271,    75.2,  24.9761,  36.7567,2,  36.7542,2,    218.7,2,   220.5,2,    0.45,2,    0.23,2,    0.00,2,    0.01,2,   1.878,2,   1.142,2,   0.143,2,    -999,9,    -999,9,    -999,9,     -999,9,    -999,9,    -999,9,    -999,9,    -999,    -999,9,    -999,9,    -999,9,   75.20,     1204,  26.2080, -66.0141,    -999,     -999,    -999,   0.1030,2,   0.0670,2,   0.0240,2,   0.0150,2,   0.0270,2,   0.0280,2,  24.9597,    -999,9,       -999,9,    -999,9,    -999,9
 316N200310,        A22,      45,          1,         33,         33,2,20031103,       1000,    26.2110,   -66.0072,       5271,    99.5,  23.1666,  36.8595,2,  36.8528,2,    209.6,2,   211.4,2,    0.31,2,    0.23,2,    0.00,2,    0.01,2,   2.012,2,   1.201,2,   0.149,2,    -999,9,    -999,9,    -999,9,     -999,9,    -999,9,    -999,9,    -999,9,    -999,    -999,9,    -999,9,    -999,9,   99.50,     1202,  26.2079, -66.0141,    -999,     -999,    -999,   0.1290,2,   0.0890,2,   0.0370,2,   0.0250,2,   0.0210,2,   0.0230,2,  23.1460,    -999,9,       -999,9,    -999,9,    -999,9
 316N200310,        A22,      45,          1,         32,         32,2,20031103,       1000,    26.2110,   -66.0072,       5271,   125.1,  21.8670,  36.7789,2,  36.7726,2,    209.6,2,   210.4,2,    0.28,2,    0.22,2,    0.06,2,    0.01,2,   2.103,2,   1.244,2,   0.164,2,    -999,9,    -999,9,    -999,9,     -999,9,    -999,9,    -999,9,    -999,9,    -999,    -999,9,    -999,9,    -999,9,  125.10,     1201,  26.2079, -66.0142,    -999,     -999,    -999,   0.1210,2,   0.0850,2,   0.0370,2,   0.0260,2,   0.0200,2,   0.0210,2,  21.8422,    -999,9,       -999,9,    -999,9,    -999,9
 316N200310,        A22,      45,          1,         31,         31,2,20031103,       1000,    26.2110,   -66.0072,       5271,   175.2,  19.7790,  36.6408,2,  36.6360,2,    203.9,2,   204.8,2,    0.45,2,    0.81,2,    0.01,2,    0.02,2,   2.165,6,   1.284,6,   0.130,6,  2086.3,2,  2390.2,2,    -999,9,     -999,9,    -999,9,    -999,9,    -999,9,    -999,    -999,9,    -999,9,    -999,9,  175.20,     1159,  26.2079, -66.0142,    -999,     -999,    -999,   0.0940,2,   0.0660,2,   0.0300,2,   0.0220,2,   0.0220,2,   0.0220,2,  19.7466,    -999,9,       -999,9,    -999,9,    -999,9
 316N200310,        A22,      45,          1,         30,         30,2,20031103,       1000,    26.2110,   -66.0072,       5271,   224.8,  19.0504,  36.6021,2,  36.5987,2,    208.8,2,   208.6,2,    0.41,2,    2.07,2,    0.01,2,    0.07,2,   2.294,2,   1.352,2,   0.069,2,  2088.7,2,  2387.8,2,    -999,9,     -999,9,    -999,9,    -999,9,    -999,9,    -999,    -999,9,    -999,9,    -999,9,  224.80,     1157,  26.2078, -66.0142,    -999,     -999,    -999,     -999,9,     -999,9,     -999,9,     -999,9,     -999,9,     -999,9,  19.0098,    -999,9,       -999,9,    -999,9,    -999,9
 316N200310,        A22,      45,          1,         29,         29,2,20031103,       1000,    26.2110,   -66.0072,       5271,   275.2,  18.8141,  36.5961,2,  36.5930,2,    211.2,2,   209.3,2,    0.58,2,    2.61,2,    0.01,2,    0.10,2,   2.302,2,   1.355,2,   0.087,2,  2090.6,2,  2387.8,2,    -999,9,     -999,9,    -999,9,    -999,9,    -999,9,    -999,    -999,9,    -999,9,    -999,9,  275.20,     1155,  26.2078, -66.0142,    -999,     -999,    -999,     -999,9,     -999,9,     -999,9,     -999,9,     -999,9,     -999,9,  18.7648,    -999,9,       -999,9,    -999,9,    -999,9
 316N200310,        A22,      45,          1,         28,         28,2,20031103,       1000,    26.2110,   -66.0072,       5271,   350.3,  18.2280,  36.5436,2,  36.5404,2,    197.0,2,   195.4,2,    0.94,2,    4.73,2,    0.00,2,    0.20,2,   2.272,2,   1.312,2,   0.025,2,    -999,9,    -999,9,    -999,9,     -999,9,    -999,9,    -999,9,    -999,9,    -999,    -999,9,    -999,9,    -999,9,  350.30,     1153,  26.2078, -66.0141,    -999,     -999,    -999,     -999,9,     -999,9,     -999,9,     -999,9,     -999,9,     -999,9,  18.1665,    -999,9,       -999,9,    -999,9,    -999,9
 316N200310,        A22,      45,          1,         27,         27,2,20031103,       1000,    26.2110,   -66.0072,       5271,   465.2,  17.1201,  36.3865,2,  36.3829,2,    194.5,2,   193.5,2,    1.59,2,    6.92,2,    0.00,2,    0.33,2,   2.295,2,   1.296,2,   0.036,2,    -999,9,    -999,9,    -999,9,     -999,9,    -999,9,    -999,9,    -999,9,    -999,    -999,9,    -999,9,    -999,9,  465.20,     1150,  26.2078, -66.0140,    -999,     -999,    -999,     -999,9,     -999,9,     -999,9,     -999,9,     -999,9,     -999,9,  17.0417,    -999,9,       -999,9,    -999,9,    -999,9
 316N200310,        A22,      45,          1,         26,         26,2,20031103,       1000,    26.2110,   -66.0072,       5271,   575.0,  15.4569,  36.1010,2,  36.1011,2,    180.0,2,   175.3,2,    3.12,2,   11.10,2,    0.00,2,    0.60,2,   2.162,2,   1.172,2,   0.026,2,    -999,9,    -999,9,    -999,9,     -999,9,    -999,9,    -999,9,    -999,9,    -999,    -999,9,    -999,9,    -999,9,  575.00,     1147,  26.2078, -66.0138,    -999,     -999,    -999,     -999,9,     -999,9,     -999,9,     -999,9,     -999,9,     -999,9,  15.3663,    -999,9,       -999,9,    -999,9,    -999,9
 316N200310,        A22,      45,          1,         25,         25,2,20031103,       1000,    26.2110,   -66.0072,       5271,   699.9,  12.9305,  35.7190,2,  35.7195,2,    161.6,2,   160.7,2,    6.14,2,   16.42,2,    0.01,2,    0.95,2,   1.682,2,   0.872,2,   0.025,2,    -999,9,    -999,9,    -999,9,     -999,9,    -999,9,    -999,9,    -999,9,    -999,    -999,9,    -999,9,    -999,9,  699.90,     1144,  26.2080, -66.0134,    -999,     -999,    -999,     -999,9,     -999,9,     -999,9,     -999,9,     -999,9,     -999,9,  12.8321,    -999,9,       -999,9,    -999,9,    -999,9
 316N200310,        A22,      45,          1,         24,         24,2,20031103,       1000,    26.2110,   -66.0072,       5271,   825.2,  10.4552,  35.3767,2,  35.3717,2,    152.1,2,   149.5,2,   10.66,2,   21.50,2,    0.01,2,    1.33,2,   1.033,2,   0.529,2,   0.019,2,  2177.7,2,  2324.0,2,    -999,9,     -999,9,    -999,9,    -999,9,    -999,9,    -999,    -999,9,    -999,9,    -999,9,  825.20,     1141,  26.2081, -66.0131,    -999,     -999,    -999,     -999,9,     -999,9,     -999,9,     -999,9,     -999,9,     -999,9,  10.3533,    -999,9,       -999,9,    -999,9,    -999,9
 316N200310,        A22,      45,          1,         23,         23,2,20031103,       1000,    26.2110,   -66.0072,       5271,   899.9,   9.0297,  35.2296,2,  35.2286,2,    154.9,2,   152.6,2,   13.11,2,   23.17,2,    0.01,2,    1.47,2,   0.771,2,   0.393,2,   0.013,2,  2184.9,2,  2320.6,2,    -999,9,     -999,9,    -999,9,    -999,9,    -999,9,    -999,    -999,9,    -999,9,    -999,9,  899.90,     1138,  26.2082, -66.0131,    -999,     -999,    -999,     -999,9,     -999,9,     -999,9,     -999,9,     -999,9,     -999,9,   8.9275,    -999,9,       -999,9,    -999,9,    -999,9
 316N200310,        A22,      45,          1,         22,         22,2,20031103,       1000,    26.2110,   -66.0072,       5271,   999.8,   7.3628,  35.0627,2,  35.0616,2,    153.5,2,   153.5,2,   17.05,2,   25.70,2,    0.00,2,    1.67,2,   0.307,6,   0.164,6,   0.006,2,  2195.9,2,  2315.9,2,    -999,9,     -999,9,    -999,9,    -999,9,    -999,9,    -999,   0.202,2,    -999,9,    -999,9,  999.80,     1135,  26.2083, -66.0131,    -999,     -999,    -999,     -999,9,     -999,9,     -999,9,     -999,9,     -999,9,     -999,9,   7.2610,    -999,9,       -999,9,    -999,9,    -999,9
 316N200310,        A22,      45,          1,         21,         21,2,20031103,       1000,    26.2110,   -66.0072,       5271,  1124.2,   6.3334,  35.0734,2,  35.0738,2,    181.5,2,   187.0,2,   15.62,2,   22.93,2,    0.00,2,    1.48,2,   0.450,2,   0.220,2,   0.008,2,  2185.2,2,  2317.0,2,    -999,9,     -999,9,    -999,9,    -999,9,    -999,9,    -999,    -999,9,    -999,9,    -999,9, 1124.20,     1132,  26.2085, -66.0132,    -999,     -999,    -999,     -999,9,     -999,9,     -999,9,     -999,9,     -999,9,     -999,9,   6.2265,    -999,9,       -999,9,    -999,9,    -999,9
 316N200310,        A22,      45,          1,         20,         20,2,20031103,       1000,    26.2110,   -66.0072,       5271,  1274.3,   5.4490,  35.0797,2,  35.0803,2,    211.9,2,   218.6,2,   13.80,2,   20.52,2,    0.00,2,    1.32,2,   0.551,2,   0.268,2,   0.017,2,    -999,9,    -999,9,    -999,9,     -999,9,    -999,9,    -999,9,    -999,9,    -999,    -999,9,    -999,9,    -999,9, 1274.30,     1128,  26.2087, -66.0132,    -999,     -999,    -999,     -999,9,     -999,9,     -999,9,     -999,9,     -999,9,     -999,9,   5.3348,    -999,9,       -999,9,    -999,9,    -999,9
 316N200310,        A22,      45,          1,         19,         19,2,20031103,       1000,    26.2110,   -66.0072,       5271,  1426.2,   4.9379,  35.0669,2,  35.0677,2,    233.3,2,   235.1,2,   13.27,2,   19.46,2,    0.00,2,    1.25,2,   0.577,2,   0.302,2,   0.021,2,    -999,9,    -999,9,    -999,9,     -999,9,    -999,9,    -999,9,    -999,9,    -999,    -999,9,    -999,9,    -999,9, 1426.20,     1125,  26.2090, -66.0132,    -999,     -999,    -999,     -999,9,     -999,9,     -999,9,     -999,9,     -999,9,     -999,9,   4.8141,    -999,9,       -999,9,    -999,9,    -999,9
 316N200310,        A22,      45,          1,         18,         18,2,20031103,       1000,    26.2110,   -66.0072,       5271,  1576.1,   4.5783,  35.0570,2,  35.0573,2,    243.5,2,   243.5,2,   13.64,2,   19.03,2,    0.00,2,    1.22,2,   0.530,2,   0.268,2,   0.016,2,    -999,9,    -999,9,    -999,9,     -999,9,    -999,9,    -999,9,    -999,9,    -999,    -999,9,    -999,9,    -999,9, 1576.10,     1121,  26.2091, -66.0132,    -999,     -999,    -999,     -999,9,     -999,9,     -999,9,     -999,9,     -999,9,     -999,9,   4.4441,    -999,9,       -999,9,    -999,9,    -999,9
 316N200310,        A22,      45,          1,         17,         17,2,20031103,       1000,    26.2110,   -66.0072,       5271,  1725.0,   4.2679,  35.0382,2,  35.0388,2,    249.4,2,   249.1,2,   14.40,2,   18.87,2,    0.00,2,    1.21,2,   0.426,2,   0.203,2,   0.013,2,    -999,9,    -999,9,    -999,9,     -999,9,    -999,9,    -999,9,    -999,9,    -999,    -999,9,    -999,9,    -999,9, 1725.00,     1117,  26.2092, -66.0132,    -999,     -999,    -999,     -999,9,     -999,9,     -999,9,     -999,9,     -999,9,     -999,9,   4.1232,    -999,9,       -999,9,    -999,9,    -999,9
 316N200310,        A22,      45,          1,         16,         16,2,20031103,       1000,    26.2110,   -66.0072,       5271,  1900.6,   3.9647,  35.0258,2,  35.0260,2,    250.8,2,   250.4,2,   16.65,2,   18.92,2,    0.00,2,    1.23,2,   0.258,2,   0.128,2,   0.007,2,    -999,9,    -999,9,    -999,9,     -999,9,    -999,9,    -999,9,    -999,9,    -999,    -999,9,    -999,9,    -999,9, 1900.60,     1113,  26.2094, -66.0132,    -999,     -999,    -999,     -999,9,     -999,9,     -999,9,     -999,9,     -999,9,     -999,9,   3.8072,    -999,9,       -999,9,    -999,9,    -999,9
 316N200310,        A22,      45,          1,         15,         15,2,20031103,       1000,    26.2110,   -66.0072,       5271,  2099.4,   3.6449,  35.0020,2,  35.0031,2,    253.1,2,   252.9,2,   18.71,2,   19.01,2,    0.00,2,    1.24,2,   0.168,2,   0.086,2,   0.003,2,    -999,9,    -999,9,    -999,9,     -999,9,    -999,9,    -999,9,    -999,9,    -999,    -999,9,    -999,9,    -999,9, 2099.40,     1109,  26.2096, -66.0132,    -999,     -999,    -999,     -999,9,     -999,9,     -999,9,     -999,9,     -999,9,     -999,9,   3.4729,    -999,9,       -999,9,    -999,9,    -999,9
 316N200310,        A22,      45,          1,         14,         14,2,20031103,       1000,    26.2110,   -66.0072,       5271,  2250.3,   3.4061,  34.9777,2,  34.9780,2,    257.8,2,   257.6,2,   18.87,2,   18.77,2,    0.00,2,    1.23,2,   0.274,2,   0.126,2,   0.010,2,    -999,9,    -999,9,    -999,9,     -999,9,    -999,9,    -999,9,    -999,9,    -999,    -999,9,    -999,9,    -999,9, 2250.30,     1105,  26.2097, -66.0131,    -999,     -999,    -999,     -999,9,     -999,9,     -999,9,     -999,9,     -999,9,     -999,9,   3.2234,    -999,9,       -999,9,    -999,9,    -999,9
 316N200310,        A22,      45,          1,         13,         13,2,20031103,       1000,    26.2110,   -66.0072,       5271,  2498.4,   3.1937,  34.9683,2,  34.9675,2,    256.2,2,   254.6,2,   23.03,2,   19.30,2,    0.00,2,    1.26,2,   0.119,2,   0.062,2,   0.006,2,    -999,9,    -999,9,    -999,9,     -999,9,    -999,9,    -999,9,    -999,9,    -999,    -999,9,    -999,9,    -999,9, 2498.40,     1100,  26.2099, -66.0126,    -999,     -999,    -999,     -999,9,     -999,9,     -999,9,     -999,9,     -999,9,     -999,9,   2.9902,    -999,9,       -999,9,    -999,9,    -999,9
 316N200310,        A22,      45,          1,         12,         12,2,20031103,       1000,    26.2110,   -66.0072,       5271,  2625.7,   3.0751,  34.9616,2,  34.9616,2,    253.1,2,   252.6,2,   26.19,2,   19.64,2,    0.00,2,    1.30,2,   0.043,2,   0.029,2,   0.001,2,    -999,9,    -999,9,    -999,9,     -999,9,    -999,9,    -999,9,    -999,9,    -999,    -999,9,    -999,9,    -999,9, 2625.70,     1057,  26.2100, -66.0123,    -999,     -999,    -999,     -999,9,     -999,9,     -999,9,     -999,9,     -999,9,     -999,9,   2.8612,    -999,9,       -999,9,    -999,9,    -999,9
 316N200310,        A22,      45,          1,         11,         11,2,20031103,       1000,    26.2110,   -66.0072,       5271,  2875.3,   2.8936,  34.9453,2,  34.9445,2,    255.3,2,   255.3,2,   27.17,2,   19.63,2,    0.00,2,    1.30,2,   0.087,2,   0.050,2,   0.005,2,    -999,9,    -999,9,    -999,9,     -999,9,    -999,9,    -999,9,    -999,9,    -999,    -999,9,    -999,9,    -999,9, 2875.30,     1052,  26.2102, -66.0117,    -999,     -999,    -999,     -999,9,     -999,9,     -999,9,     -999,9,     -999,9,     -999,9,   2.6581,    -999,9,       -999,9,    -999,9,    -999,9
 316N200310,        A22,      45,          1,         10,         10,2,20031103,       1000,    26.2110,   -66.0072,       5271,  3126.6,   2.7303,  34.9317,2,  34.9309,2,    257.7,2,   258.7,2,   27.43,2,   19.38,2,    0.00,2,    1.28,2,   0.145,2,   0.068,2,   0.012,2,    -999,9,    -999,9,    -999,9,     -999,9,    -999,9,    -999,9,    -999,9,    -999,    -999,9,    -999,9,    -999,9, 3126.60,     1047,  26.2103, -66.0111,    -999,     -999,    -999,     -999,9,     -999,9,     -999,9,     -999,9,     -999,9,     -999,9,   2.4722,    -999,9,       -999,9,    -999,9,    -999,9
 316N200310,        A22,      45,          1,          9,          9,2,20031103,       1000,    26.2110,   -66.0072,       5271,  3374.4,   2.5826,  34.9205,2,  34.9197,2,    261.7,2,   261.5,2,   27.79,2,   19.19,2,    0.00,2,    1.27,2,   0.196,2,   0.098,2,   0.015,2,    -999,9,    -999,9,    -999,9,     -999,9,    -999,9,    -999,9,    -999,9,    -999,    -999,9,    -999,9,    -999,9, 3374.40,     1041,  26.2103, -66.0107,    -999,     -999,    -999,     -999,9,     -999,9,     -999,9,     -999,9,     -999,9,     -999,9,   2.3017,    -999,9,       -999,9,    -999,9,    -999,9
 316N200310,        A22,      45,          1,          8,          8,2,20031103,       1000,    26.2110,   -66.0072,       5271,  3625.4,   2.4545,  34.9114,2,  34.9109,2,    264.0,2,   264.8,2,   27.27,2,   18.75,2,    0.00,2,    1.24,2,   0.288,2,   0.137,2,   0.021,2,    -999,9,    -999,9,    -999,9,     -999,9,    -999,9,    -999,9,    -999,9,    -999,    -999,9,    -999,9,    -999,9, 3625.40,     1036,  26.2103, -66.0103,    -999,     -999,    -999,     -999,9,     -999,9,     -999,9,     -999,9,     -999,9,     -999,9,   2.1495,    -999,9,       -999,9,    -999,9,    -999,9
 316N200310,        A22,      45,          1,          7,          7,2,20031103,       1000,    26.2110,   -66.0072,       5271,  3875.8,   2.3769,  34.9046,2,  34.9036,2,    264.5,2,   264.5,2,   29.34,2,   19.03,2,    0.00,2,    1.26,2,   0.227,2,   0.116,2,   0.012,2,    -999,9,    -999,9,    -999,9,     -999,9,    -999,9,    -999,9,    -999,9,    -999,    -999,9,    -999,9,    -999,9, 3875.80,     1031,  26.2104, -66.0099,    -999,     -999,    -999,     -999,9,     -999,9,     -999,9,     -999,9,     -999,9,     -999,9,   2.0461,    -999,9,       -999,9,    -999,9,    -999,9
 316N200310,        A22,      45,          1,          6,          6,2,20031103,       1000,    26.2110,   -66.0072,       5271,  4124.9,   2.3279,  34.8996,2,  34.8985,2,    264.5,2,   264.3,2,   30.71,2,   19.13,2,    0.00,2,    1.27,2,   0.224,2,   0.120,2,   0.014,2,    -999,9,    -999,9,    -999,9,     -999,9,    -999,9,    -999,9,    -999,9,    -999,    -999,9,    -999,9,    -999,9, 4124.90,     1026,  26.2105, -66.0094,    -999,     -999,    -999,     -999,9,     -999,9,     -999,9,     -999,9,     -999,9,     -999,9,   1.9701,    -999,9,       -999,9,    -999,9,    -999,9
 316N200310,        A22,      45,          1,          5,          5,2,20031103,       1000,    26.2110,   -66.0072,       5271,  4374.3,   2.2952,  34.8947,2,  34.8939,2,    263.9,2,   264.4,2,   32.08,2,   19.22,2,    0.00,2,    1.28,2,   0.206,2,   0.113,2,   0.008,2,    -999,9,    -999,9,    -999,9,     -999,9,    -999,9,    -999,9,    -999,9,    -999,    -999,9,    -999,9,    -999,9, 4374.30,     1021,  26.2107, -66.0088,    -999,     -999,    -999,     -999,9,     -999,9,     -999,9,     -999,9,     -999,9,     -999,9,   1.9092,    -999,9,       -999,9,    -999,9,    -999,9