BOTTLE,20220517CCHSIOLMM
EXPOCODE,SECT_ID,STNNBR,CASTNO,SAMPNO,BTLNBR,BTLNBR_FLAG_W,DATE,TIME,LATITUDE,LONGITUDE,DEPTH,CTDPRS,CTDTMP,CTDSAL,CTDSAL_FLAG_W,SALNTY,SALNTY_FLAG_W,CTDOXY,CTDOXY_FLAG_W,OXYGEN,OXYGEN_FLAG_W,SILCAT,SILCAT_FLAG_W,NITRAT,NITRAT_FLAG_W,NITRIT,NITRIT_FLAG_W,PHSPHT,PHSPHT_FLAG_W,CFC-11,CFC-11_FLAG_W,CFC-12,CFC-12_FLAG_W,CFC113,CFC113_FLAG_W,TCARBN,TCARBN_FLAG_W,ALKALI,ALKALI_FLAG_W,TRITUM,TRITUM_FLAG_W,HELIUM,HELIUM_FLAG_W,DELHE3,DELHE3_FLAG_W,DELC13,DELC13_FLAG_W,DELC14,DELC14_FLAG_W,C14ERR,CCL4,CCL4_FLAG_W,DOC,DOC_FLAG_W,TDN,TDN_FLAG_W,CTDRAW,BTL_TIME,BTL_LAT,BTL_LON,TRITER,HELIER,DELHER,CDOM325,CDOM325_FLAG_W,CDOM340,CDOM340_FLAG_W,CDOM380,CDOM380_FLAG_W,CDOM412,CDOM412_FLAG_W,CDOMSL,CDOMSL_FLAG_W,CDOMSN,CDOMSN_FLAG_W,THETA,BACT,BACT_FLAG_W,PROC,PROC_FLAG_W,SYN,SYN_FLAG_W,PEUK,PEUK_FLAG_W
,,,,,,,,,,,METERS,DBAR,ITS-90,PSS-78,,PSS-78,,UMOL/KG,,UMOL/KG,,UMOL/KG,,UMOL/KG,,UMOL/KG,,UMOL/KG,,PMOL/KG,,PMOL/KG,,PMOL/KG,,UMOL/KG,,UMOL/KG,,TU,,NMOL/KG,,PERCNT,,/MILLE,,/MILLE,,/MILLE,PMOL/KG,,UMOL/KG,,UMOL/KG,,DBAR,,,,TU,NMOL/KG,PERCNT,1/M,,1/M,,1/M,,1/M,,1/NM,,1/NM,,DEG C,E8/L,,E7/L,,E6/L,,E6/L,
 316N200310,        A22,      62,          1,         35,         35,2,20031109,       0426,    35.2345,   -66.8913,       5093,     3.6,  24.2017,  36.4744,2,  36.4750,2,    209.9,2,   209.3,2,    0.24,2,    0.05,2,    0.00,2,    0.01,2,   1.854,2,   1.111,2,   0.112,2,  2035.5,2,  2377.6,6,    -999,9,     -999,9,    -999,9,    -999,9,    -999,9,    -999,   1.822,2,   66.00,2,    4.20,2,    3.60,      620,  35.2444, -66.9206,    -999,     -999,    -999,   0.0710,2,   0.0460,2,   0.0160,2,   0.0100,2,   0.0290,2,   0.0290,2,  24.2010,    -999,9,       -999,9,    -999,9,    -999,9
 316N200310,        A22,      62,          1,         36,         36,9,20031109,       0426,    35.2345,   -66.8913,       5093,     3.7,  24.2022,  36.4745,2,  36.4703,2,    209.9,2,    -999,9,    0.50,2,    0.10,2,    0.00,2,    0.02,2,    -999,9,    -999,9,    -999,9,    -999,9,  2377.9,2,    -999,9,     -999,9,    -999,9,    -999,9,    -999,9,    -999,    -999,9,    -999,9,    -999,9,    3.70,      620,  35.2444, -66.9206,    -999,     -999,    -999,     -999,9,     -999,9,     -999,9,     -999,9,     -999,9,     -999,9,  24.2014,    -999,9,       -999,9,    -999,9,    -999,9
 316N200310,        A22,      62,          1,         34,         34,2,20031109,       0426,    35.2345,   -66.8913,       5093,    25.1,  24.2192,  36.4739,2,  36.4719,2,    209.3,2,   209.3,2,    0.30,2,    0.05,2,    0.00,2,    0.01,2,   1.862,2,   1.137,2,   0.103,2,  2035.9,2,  2377.4,2,    -999,9,     -999,9,    -999,9,    -999,9,    -999,9,    -999,   1.815,2,    -999,9,    -999,9,   25.10,      618,  35.2443, -66.9201,    -999,     -999,    -999,     -999,9,     -999,9,     -999,9,     -999,9,     -999,9,     -999,9,  24.2138,    -999,9,       -999,9,    -999,9,    -999,9
 316N200310,        A22,      62,          1,         33,         33,2,20031109,       0426,    35.2345,   -66.8913,       5093,    49.9,  24.2190,  36.4736,2,  36.4733,2,    209.8,2,   209.2,2,    0.25,2,    0.05,2,    0.00,2,    0.01,2,   1.824,2,   1.077,2,   0.106,2,  2035.1,2,  2384.2,2,    -999,9,     -999,9,    -999,9,    -999,9,    -999,9,    -999,   1.819,2,   65.90,2,    4.30,2,   49.90,      617,  35.2441, -66.9197,    -999,     -999,    -999,   0.0630,2,   0.0410,2,   0.0140,2,   0.0090,2,   0.0300,2,   0.0300,2,  24.2084,    -999,9,       -999,9,    -999,9,    -999,9
 316N200310,        A22,      62,          1,         32,         32,2,20031109,       0426,    35.2345,   -66.8913,       5093,    70.7,  22.6196,  36.6172,2,  36.6177,2,    226.8,2,   224.4,2,    0.10,2,    0.05,2,    0.00,2,    0.01,2,   2.144,2,   1.214,2,   0.086,2,  2057.2,2,  2388.1,2,    -999,9,     -999,9,    -999,9,    -999,9,    -999,9,    -999,   1.082,2,   62.70,2,    4.50,2,   70.70,      616,  35.2440, -66.9195,    -999,     -999,    -999,   0.1530,2,   0.1040,2,   0.0440,2,   0.0290,2,   0.0200,2,   0.0220,2,  22.6052,    -999,9,       -999,9,    -999,9,    -999,9
 316N200310,        A22,      62,          1,         31,         31,2,20031109,       0426,    35.2345,   -66.8913,       5093,    99.3,  21.0246,  36.6546,2,  36.6528,2,    211.5,2,   201.7,2,    0.36,2,    0.54,2,    0.10,2,    0.02,2,   2.152,2,   1.278,2,   0.100,2,  2081.9,2,    -999,9,    -999,9,     -999,9,    -999,9,    -999,9,    -999,9,    -999,   0.845,2,   59.20,2,    5.70,2,   99.30,      615,  35.2439, -66.9192,    -999,     -999,    -999,   0.1360,2,   0.0990,2,   0.0470,2,   0.0350,2,   0.0160,2,   0.0180,2,  21.0054,    -999,9,       -999,9,    -999,9,    -999,9
 316N200310,        A22,      62,          1,         30,         30,2,20031109,       0426,    35.2345,   -66.8913,       5093,   124.9,  19.9851,  36.6423,2,  36.6423,2,    200.4,2,   207.3,2,    0.31,2,    0.84,2,    0.04,2,    0.04,2,   2.220,2,   1.293,2,   0.108,2,  2084.6,2,    -999,9,    -999,9,     -999,9,    -999,9,    -999,9,    -999,9,    -999,   0.827,2,   55.00,2,    4.70,2,  124.90,      614,  35.2438, -66.9189,    -999,     -999,    -999,   0.1240,2,   0.0900,2,   0.0420,2,   0.0310,2,   0.0170,2,   0.0190,2,  19.9618,    -999,9,       -999,9,    -999,9,    -999,9
 316N200310,        A22,      62,          1,         29,         29,2,20031109,       0426,    35.2345,   -66.8913,       5093,   152.6,  19.4301,  36.6277,2,  36.6281,2,    197.1,2,   204.1,2,    0.36,2,    1.45,2,    0.02,2,    0.06,2,   2.249,2,   1.300,2,   0.097,2,  2088.0,2,  2384.9,2,    -999,9,     -999,9,    -999,9,    -999,9,    -999,9,    -999,   0.733,2,   54.40,2,    4.80,2,  152.60,      613,  35.2438, -66.9186,    -999,     -999,    -999,   0.1080,2,   0.0780,2,   0.0370,2,   0.0270,2,   0.0170,2,   0.0190,2,  19.4022,    -999,9,       -999,9,    -999,9,    -999,9
 316N200310,        A22,      62,          1,         28,         28,2,20031109,       0426,    35.2345,   -66.8913,       5093,   200.5,  19.0433,  36.6164,2,  36.6142,2,    201.0,2,   203.2,2,    0.52,2,    2.39,2,    0.01,2,    0.10,2,   2.290,2,   1.346,2,   0.048,2,  2091.0,2,  2394.4,2,    -999,9,     -999,9,    -999,9,    -999,9,    -999,9,    -999,   0.583,2,   52.80,2,    5.30,2,  200.50,      612,  35.2437, -66.9181,    -999,     -999,    -999,   0.0900,2,   0.0640,2,   0.0290,2,   0.0210,2,   0.0220,2,   0.0220,2,  19.0072,    -999,9,       -999,9,    -999,9,    -999,9
 316N200310,        A22,      62,          1,         27,         27,2,20031109,       0426,    35.2345,   -66.8913,       5093,   250.5,  18.7785,  36.5986,2,  36.5967,2,    205.9,2,   205.4,2,    0.57,2,    2.74,2,    0.01,2,    0.12,2,   2.273,2,   1.300,2,   0.062,2,  2091.8,2,  2393.7,2,    -999,9,     -999,9,    -999,9,    -999,9,    -999,9,    -999,   0.589,2,   51.30,2,    6.50,2,  250.50,      610,  35.2435, -66.9176,    -999,     -999,    -999,   0.0870,2,   0.0610,2,   0.0270,2,   0.0190,2,   0.0220,2,   0.0220,2,  18.7337,    -999,9,       -999,9,    -999,9,    -999,9
 316N200310,        A22,      62,          1,         26,         26,2,20031109,       0426,    35.2345,   -66.8913,       5093,   301.6,  18.5769,  36.5820,2,  36.5817,2,    204.1,2,   204.1,2,    0.83,2,    3.13,2,    0.01,2,    0.14,2,   2.297,2,   1.292,2,   0.057,2,  2095.0,2,  2392.1,2,    -999,9,     -999,9,    -999,9,    -999,9,    -999,9,    -999,   0.616,2,   50.90,2,    6.80,2,  301.60,      609,  35.2435, -66.9171,    -999,     -999,    -999,   0.0930,3,   0.0680,3,   0.0350,3,   0.0270,3,   0.0170,3,   0.0180,3,  18.5233,    -999,9,       -999,9,    -999,9,    -999,9
 316N200310,        A22,      62,          1,         25,         25,2,20031109,       0426,    35.2345,   -66.8913,       5093,   402.4,  17.9917,  36.5102,2,  36.5073,2,    192.8,2,   193.7,2,    1.39,2,    5.01,2,    0.00,2,    0.24,2,   2.322,2,   1.304,2,   0.025,2,  2106.8,2,  2388.8,2,    -999,9,     -999,9,    -999,9,    -999,9,    -999,9,    -999,   0.455,2,   49.00,2,    -999,9,  402.40,      607,  35.2432, -66.9165,    -999,     -999,    -999,   0.0840,2,   0.0590,2,   0.0250,2,   0.0180,2,   0.0230,2,   0.0230,2,  17.9216,    -999,9,       -999,9,    -999,9,    -999,9
 316N200310,        A22,      62,          1,         24,         24,2,20031109,       0426,    35.2345,   -66.8913,       5093,   501.5,  17.2098,  36.3927,2,  36.3909,2,    187.9,2,   190.4,2,    1.95,2,    6.63,2,    0.01,2,    0.34,2,   2.298,2,   1.275,2,   0.031,2,  2115.6,2,  2339.2,3,    -999,9,     -999,9,    -999,9,    -999,9,    -999,9,    -999,   0.469,2,   48.80,2,    -999,9,  501.50,      604,  35.2427, -66.9158,    -999,     -999,    -999,   0.0850,2,   0.0590,2,   0.0250,2,   0.0170,2,   0.0230,2,   0.0240,2,  17.1249,    -999,9,       -999,9,    -999,9,    -999,9
 316N200310,        A22,      62,          1,         23,         23,2,20031109,       0426,    35.2345,   -66.8913,       5093,   625.4,  15.5437,  36.0982,2,  36.0968,2,    181.4,2,   173.1,2,    3.75,2,   10.99,2,    0.01,2,    0.62,2,   2.106,6,   1.160,6,   0.045,6,  2137.9,2,    -999,9,    -999,9,     -999,9,    -999,9,    -999,9,    -999,9,    -999,   0.405,2,   47.40,2,    -999,9,  625.40,      601,  35.2422, -66.9149,    -999,     -999,    -999,   0.0960,2,   0.0660,2,   0.0290,2,   0.0190,2,   0.0220,2,   0.0230,2,  15.4446,    -999,9,       -999,9,    -999,9,    -999,9
 316N200310,        A22,      62,          1,         22,         22,2,20031109,       0426,    35.2345,   -66.8913,       5093,   749.3,  13.0259,  35.6890,2,  35.6925,2,    156.3,2,   154.5,2,    7.00,2,   16.82,2,    0.01,2,    1.02,2,   1.687,2,   0.886,2,   0.037,2,  2162.6,2,    -999,9,    -999,9,     -999,9,    -999,9,    -999,9,    -999,9,    -999,   0.353,2,   47.90,2,    -999,9,  749.30,      558,  35.2420, -66.9143,    -999,     -999,    -999,   0.1060,2,   0.0730,2,   0.0330,2,   0.0220,2,   0.0210,2,   0.0220,2,  12.9200,    -999,9,       -999,9,    -999,9,    -999,9
 316N200310,        A22,      62,          1,         21,         21,2,20031109,       0426,    35.2345,   -66.8913,       5093,   899.6,   9.5779,  35.2483,2,  35.2491,2,    143.2,2,   144.0,2,   12.98,2,   23.40,2,    0.01,2,    1.49,2,   0.970,2,   0.508,2,   0.015,2,  2188.8,2,  2317.0,6,    -999,9,     -999,9,    -999,9,    -999,9,    -999,9,    -999,   0.351,2,    -999,9,    -999,9,  899.60,      555,  35.2414, -66.9133,    -999,     -999,    -999,     -999,9,     -999,9,     -999,9,     -999,9,     -999,9,     -999,9,   9.4722,    -999,9,       -999,9,    -999,9,    -999,9
 316N200310,        A22,      62,          1,         20,         20,2,20031109,       0426,    35.2345,   -66.8913,       5093,  1049.3,   7.1468,  35.1071,2,  35.1073,2,    181.4,2,   182.0,2,   13.36,2,   21.99,2,    0.01,2,    1.43,2,   1.204,2,   0.592,2,   0.037,2,  2183.9,2,    -999,9,    -999,9,     -999,9,    -999,9,    -999,9,    -999,9,    -999,   0.853,2,   44.30,2,    -999,9, 1049.30,      552,  35.2411, -66.9124,    -999,     -999,    -999,   0.1240,2,   0.0860,2,   0.0400,2,   0.0260,2,   0.0190,2,   0.0210,2,   7.0413,    -999,9,       -999,9,    -999,9,    -999,9
 316N200310,        A22,      62,          1,         19,         19,2,20031109,       0426,    35.2345,   -66.8913,       5093,  1201.2,   5.7505,  35.0694,2,  35.0705,2,    217.2,2,   217.8,2,   12.37,2,   19.73,2,    0.01,2,    1.28,2,   1.630,2,   0.798,2,   0.072,2,  2175.3,2,  2309.3,2,    -999,9,     -999,9,    -999,9,    -999,9,    -999,9,    -999,   1.459,2,    -999,9,    -999,9, 1201.20,      549,  35.2409, -66.9116,    -999,     -999,    -999,     -999,9,     -999,9,     -999,9,     -999,9,     -999,9,     -999,9,   5.6409,    -999,9,       -999,9,    -999,9,    -999,9
 316N200310,        A22,      62,          1,         18,         18,2,20031109,       0426,    35.2345,   -66.8913,       5093,  1351.3,   4.9832,  35.0371,2,  35.0380,2,    238.2,2,   238.9,2,   11.70,2,   18.57,2,    0.01,2,    1.21,2,   1.870,2,   0.898,2,   0.090,2,  2168.6,2,    -999,9,    -999,9,     -999,9,    -999,9,    -999,9,    -999,9,    -999,   1.854,2,    -999,9,    -999,9, 1351.30,      546,  35.2407, -66.9107,    -999,     -999,    -999,     -999,9,     -999,9,     -999,9,     -999,9,     -999,9,     -999,9,   4.8662,    -999,9,       -999,9,    -999,9,    -999,9
 316N200310,        A22,      62,          1,         17,         17,2,20031109,       0426,    35.2345,   -66.8913,       5093,  1498.6,   4.5848,  35.0109,2,  35.0144,2,    248.7,2,   248.6,2,   11.65,2,   18.27,2,    0.00,2,    1.19,2,   1.835,2,   0.901,2,   0.090,2,  2165.2,2,  2305.5,2,    -999,9,     -999,9,    -999,9,    -999,9,    -999,9,    -999,   1.951,2,   43.10,2,    -999,9, 1498.60,      542,  35.2401, -66.9100,    -999,     -999,    -999,   0.1260,2,   0.0880,2,   0.0400,2,   0.0260,2,   0.0200,2,   0.0210,2,   4.4581,    -999,9,       -999,9,    -999,9,    -999,9
 316N200310,        A22,      62,          1,         16,         16,2,20031109,       0426,    35.2345,   -66.8913,       5093,  1654.0,   4.2817,  34.9884,2,  34.9890,2,    257.0,2,   255.9,2,   11.70,2,   18.02,2,    0.00,2,    1.18,2,   1.872,2,   0.904,2,   0.097,2,  2163.1,2,  2306.6,2,    -999,9,     -999,9,    -999,9,    -999,9,    -999,9,    -999,   2.126,2,    -999,9,    -999,9, 1654.00,      539,  35.2400, -66.9092,    -999,     -999,    -999,     -999,9,     -999,9,     -999,9,     -999,9,     -999,9,     -999,9,   4.1437,    -999,9,       -999,9,    -999,9,    -999,9
 316N200310,        A22,      62,          1,         15,         15,2,20031109,       0426,    35.2345,   -66.8913,       5093,  1801.4,   4.0577,  34.9735,2,  34.9748,2,    261.6,2,   260.8,2,   11.86,2,   17.81,2,    0.00,2,    1.16,2,   1.811,2,   0.902,2,   0.100,2,  2160.8,2,    -999,9,    -999,9,     -999,9,    -999,9,    -999,9,    -999,9,    -999,   2.166,2,   44.90,2,    -999,9, 1801.40,      535,  35.2396, -66.9085,    -999,     -999,    -999,     -999,9,     -999,9,     -999,9,     -999,9,     -999,9,     -999,9,   3.9086,    -999,9,       -999,9,    -999,9,    -999,9
 316N200310,        A22,      62,          1,         14,         14,2,20031109,       0426,    35.2345,   -66.8913,       5093,  2000.2,   3.8433,  34.9633,2,  34.9663,2,    265.8,2,   263.8,2,   12.44,2,   17.76,2,    0.00,2,    1.16,2,   1.571,2,   0.766,2,   0.080,2,  2159.9,2,    -999,9,    -999,9,     -999,9,    -999,9,    -999,9,    -999,9,    -999,   2.025,2,   45.90,2,    -999,9, 2000.20,      531,  35.2394, -66.9075,    -999,     -999,    -999,   0.1230,2,   0.0860,2,   0.0390,2,   0.0250,2,   0.0200,2,   0.0210,2,   3.6781,    -999,9,       -999,9,    -999,9,    -999,9
 316N200310,        A22,      62,          1,         13,         13,2,20031109,       0426,    35.2345,   -66.8913,       5093,  2247.4,   3.5890,  34.9490,2,  34.9500,2,    267.8,2,   267.5,2,   13.33,2,   17.66,2,    0.00,2,    1.15,2,   1.457,2,   0.717,2,   0.069,2,  2158.7,2,  2305.8,2,    -999,9,     -999,9,    -999,9,    -999,9,    -999,9,    -999,   1.945,2,   45.00,2,    -999,9, 2247.40,      526,  35.2390, -66.9064,    -999,     -999,    -999,     -999,9,     -999,9,     -999,9,     -999,9,     -999,9,     -999,9,   3.4037,    -999,9,       -999,9,    -999,9,    -999,9
 316N200310,        A22,      62,          1,         12,         12,2,20031109,       0426,    35.2345,   -66.8913,       5093,  2500.1,   3.4358,  34.9562,2,  34.9571,2,    265.2,2,   265.0,2,   15.60,2,   17.85,2,    0.00,2,    1.17,2,   0.965,2,   0.477,2,   0.031,2,  2160.6,2,  2309.7,2,    -999,9,     -999,9,    -999,9,    -999,9,    -999,9,    -999,   1.456,2,   44.30,2,    -999,9, 2500.10,      521,  35.2386, -66.9050,    -999,     -999,    -999,     -999,9,     -999,9,     -999,9,     -999,9,     -999,9,     -999,9,   3.2278,    -999,9,       -999,9,    -999,9,    -999,9
 316N200310,        A22,      62,          1,         11,         11,2,20031109,       0426,    35.2345,   -66.8913,       5093,  2751.7,   3.2431,  34.9531,2,  34.9540,2,    263.9,2,   263.5,2,   17.76,2,   18.05,2,    0.00,2,    1.19,2,   0.682,2,   0.328,2,   0.027,2,  2162.6,2,  2313.2,2,    -999,9,     -999,9,    -999,9,    -999,9,    -999,9,    -999,   1.092,2,    -999,9,    -999,9, 2751.70,      516,  35.2380, -66.9036,    -999,     -999,    -999,     -999,9,     -999,9,     -999,9,     -999,9,     -999,9,     -999,9,   3.0131,    -999,9,       -999,9,    -999,9,    -999,9
 316N200310,        A22,      62,          1,         10,         10,2,20031109,       0426,    35.2345,   -66.8913,       5093,  2999.9,   3.0341,  34.9440,2,  34.9443,2,    263.9,2,   264.0,2,   19.60,2,   18.10,2,    0.00,2,    1.20,2,   0.551,2,   0.260,2,   0.010,2,  2162.6,2,  2313.5,2,    -999,9,     -999,9,    -999,9,    -999,9,    -999,9,    -999,   0.926,2,   43.60,2,    -999,9, 2999.90,      510,  35.2377, -66.9025,    -999,     -999,    -999,   0.1240,2,   0.0860,2,   0.0390,2,   0.0250,2,   0.0200,2,   0.0210,2,   2.7826,    -999,9,       -999,9,    -999,9,    -999,9
 316N200310,        A22,      62,          1,          9,          9,2,20031109,       0426,    35.2345,   -66.8913,       5093,  3248.6,   2.8220,  34.9323,2,  34.9337,2,    265.8,2,   265.9,2,   20.83,2,   17.99,2,    0.00,2,    1.20,2,   0.535,2,   0.272,2,   0.017,2,  2163.3,2,  2313.9,2,    -999,9,     -999,9,    -999,9,    -999,9,    -999,9,    -999,   0.911,2,    -999,9,    -999,9, 3248.60,      505,  35.2373, -66.9009,    -999,     -999,    -999,     -999,9,     -999,9,     -999,9,     -999,9,     -999,9,     -999,9,   2.5489,    -999,9,       -999,9,    -999,9,    -999,9
 316N200310,        A22,      62,          1,          8,          8,2,20031109,       0426,    35.2345,   -66.8913,       5093,  3498.6,   2.5957,  34.9180,2,  34.9181,2,    268.0,2,   268.3,2,   22.15,2,   17.89,2,    0.00,2,    1.19,2,   0.669,2,   0.345,2,   0.014,2,  2164.3,2,  2313.8,2,    -999,9,     -999,9,    -999,9,    -999,9,    -999,9,    -999,   1.106,2,   51.80,4,    -999,9, 3498.60,      500,  35.2371, -66.8995,    -999,     -999,    -999,     -999,9,     -999,9,     -999,9,     -999,9,     -999,9,     -999,9,   2.3010,    -999,9,       -999,9,    -999,9,    -999,9
 316N200310,        A22,      62,          1,          7,          7,2,20031109,       0426,    35.2345,   -66.8913,       5093,  3748.9,   2.4524,  34.9086,2,  34.9089,2,    268.2,2,   268.2,2,   24.54,2,   18.04,2,    0.00,2,    1.21,2,   0.653,2,   0.304,2,   0.024,2,  2168.7,2,  2317.0,2,    -999,9,     -999,9,    -999,9,    -999,9,    -999,9,    -999,   1.069,2,    -999,9,    -999,9, 3748.90,      455,  35.2367, -66.8981,    -999,     -999,    -999,     -999,9,     -999,9,     -999,9,     -999,9,     -999,9,     -999,9,   2.1339,    -999,9,       -999,9,    -999,9,    -999,9
 316N200310,        A22,      62,          1,          6,          6,2,20031109,       0426,    35.2345,   -66.8913,       5093,  3998.0,   2.3544,  34.9008,2,  34.9018,2,    267.0,2,   267.7,2,   27.04,2,   18.33,2,    0.00,2,    1.22,2,   0.611,2,   0.317,2,   0.031,2,  2171.8,2,  2322.1,2,    -999,9,     -999,9,    -999,9,    -999,9,    -999,9,    -999,   1.059,2,   42.00,2,    -999,9, 3998.00,      451,  35.2364, -66.8967,    -999,     -999,    -999,   0.1320,2,   0.0930,2,   0.0440,2,   0.0280,2,   0.0190,2,   0.0200,2,   2.0105,    -999,9,       -999,9,    -999,9,    -999,9
 316N200310,        A22,      62,          1,          5,          5,2,20031109,       0426,    35.2345,   -66.8913,       5093,  4248.9,   2.3017,  34.8951,2,  34.8969,2,    265.7,2,   265.6,2,   29.66,2,   18.69,2,    0.00,2,    1.26,2,   0.546,2,   0.249,2,   0.020,2,  2172.2,2,  2331.4,2,    -999,9,     -999,9,    -999,9,    -999,9,    -999,9,    -999,   0.939,2,    -999,9,    -999,9, 4248.90,      446,  35.2360, -66.8954,    -999,     -999,    -999,     -999,9,     -999,9,     -999,9,     -999,9,     -999,9,     -999,9,   1.9303,    -999,9,       -999,9,    -999,9,    -999,9