BOTTLE,20220517CCHSIOLMM
EXPOCODE,SECT_ID,STNNBR,CASTNO,SAMPNO,BTLNBR,BTLNBR_FLAG_W,DATE,TIME,LATITUDE,LONGITUDE,DEPTH,CTDPRS,CTDTMP,CTDSAL,CTDSAL_FLAG_W,SALNTY,SALNTY_FLAG_W,CTDOXY,CTDOXY_FLAG_W,OXYGEN,OXYGEN_FLAG_W,SILCAT,SILCAT_FLAG_W,NITRAT,NITRAT_FLAG_W,NITRIT,NITRIT_FLAG_W,PHSPHT,PHSPHT_FLAG_W,CFC-11,CFC-11_FLAG_W,CFC-12,CFC-12_FLAG_W,CFC113,CFC113_FLAG_W,TCARBN,TCARBN_FLAG_W,ALKALI,ALKALI_FLAG_W,TRITUM,TRITUM_FLAG_W,HELIUM,HELIUM_FLAG_W,DELHE3,DELHE3_FLAG_W,DELC13,DELC13_FLAG_W,DELC14,DELC14_FLAG_W,C14ERR,CCL4,CCL4_FLAG_W,DOC,DOC_FLAG_W,TDN,TDN_FLAG_W,CTDRAW,BTL_TIME,BTL_LAT,BTL_LON,TRITER,HELIER,DELHER,CDOM325,CDOM325_FLAG_W,CDOM340,CDOM340_FLAG_W,CDOM380,CDOM380_FLAG_W,CDOM412,CDOM412_FLAG_W,CDOMSL,CDOMSL_FLAG_W,CDOMSN,CDOMSN_FLAG_W,THETA,BACT,BACT_FLAG_W,PROC,PROC_FLAG_W,SYN,SYN_FLAG_W,PEUK,PEUK_FLAG_W
,,,,,,,,,,,METERS,DBAR,ITS-90,PSS-78,,PSS-78,,UMOL/KG,,UMOL/KG,,UMOL/KG,,UMOL/KG,,UMOL/KG,,UMOL/KG,,PMOL/KG,,PMOL/KG,,PMOL/KG,,UMOL/KG,,UMOL/KG,,TU,,NMOL/KG,,PERCNT,,/MILLE,,/MILLE,,/MILLE,PMOL/KG,,UMOL/KG,,UMOL/KG,,DBAR,,,,TU,NMOL/KG,PERCNT,1/M,,1/M,,1/M,,1/M,,1/NM,,1/NM,,DEG C,E8/L,,E7/L,,E6/L,,E6/L,
 316N200310,        A22,      31,          1,         31,         31,2,20031030,       0817,    18.9795,   -66.0062,       3427,     2.9,  29.1898,  35.3287,2,  35.3263,2,    195.2,2,   193.6,2,    0.67,2,    0.12,2,    0.00,2,    0.01,2,   1.538,2,   0.951,2,   0.140,2,  1970.7,2,  2323.0,2,    -999,9,     -999,9,    -999,9,    1.40,6,    71.9,6,     3.2,    -999,9,    -999,9,    -999,9,    2.90,      951,  18.9840, -66.0027,    -999,     -999,    -999,     -999,9,     -999,9,     -999,9,     -999,9,     -999,9,     -999,9,  29.1891,    -999,9,       -999,9,    -999,9,    -999,9
 316N200310,        A22,      31,          1,         30,         30,2,20031030,       0817,    18.9795,   -66.0062,       3427,    25.2,  29.2760,  35.7696,2,  35.7493,2,    195.5,2,   195.1,2,    0.67,2,    0.06,2,    0.00,2,    0.01,2,   1.537,2,   0.954,2,   0.119,2,    -999,9,    -999,9,    -999,9,     -999,9,    -999,9,    -999,9,    -999,9,    -999,    -999,9,    -999,9,    -999,9,   25.20,      949,  18.9839, -66.0028,    -999,     -999,    -999,     -999,9,     -999,9,     -999,9,     -999,9,     -999,9,     -999,9,  29.2698,    -999,9,       -999,9,    -999,9,    -999,9
 316N200310,        A22,      31,          1,         29,         29,2,20031030,       0817,    18.9795,   -66.0062,       3427,    50.6,  28.0236,  36.5901,2,  36.5688,2,    204.9,2,   203.1,2,    0.68,2,    0.11,2,    0.00,2,    0.01,2,   1.661,2,   1.012,2,   0.129,2,    -999,9,    -999,9,    -999,9,     -999,9,    -999,9,    -999,9,    -999,9,    -999,    -999,9,    -999,9,    -999,9,   50.60,      947,  18.9838, -66.0029,    -999,     -999,    -999,     -999,9,     -999,9,     -999,9,     -999,9,     -999,9,     -999,9,  28.0117,    -999,9,       -999,9,    -999,9,    -999,9
 316N200310,        A22,      31,          1,         28,         28,2,20031030,       0817,    18.9795,   -66.0062,       3427,    75.5,  26.1208,  36.9618,2,  36.9485,2,    205.0,2,   205.6,2,    0.49,2,    0.15,2,    0.00,2,    0.01,2,   1.767,2,   1.085,2,   0.139,2,    -999,9,    -999,9,    -999,9,     -999,9,    -999,9,    -999,9,    -999,9,    -999,    -999,9,    -999,9,    -999,9,   75.50,      946,  18.9838, -66.0029,    -999,     -999,    -999,     -999,9,     -999,9,     -999,9,     -999,9,     -999,9,     -999,9,  26.1038,    -999,9,       -999,9,    -999,9,    -999,9
 316N200310,        A22,      31,          1,         27,         27,2,20031030,       0817,    18.9795,   -66.0062,       3427,   100.2,  24.8920,  37.2532,2,  37.2487,2,    190.0,2,   190.2,2,    0.29,2,    0.54,2,    0.05,2,    0.03,2,   1.851,6,   1.131,6,   0.151,2,    -999,9,    -999,9,    -999,9,     -999,9,    -999,9,    -999,9,    -999,9,    -999,   0.653,2,    -999,9,    -999,9,  100.20,      945,  18.9837, -66.0029,    -999,     -999,    -999,     -999,9,     -999,9,     -999,9,     -999,9,     -999,9,     -999,9,  24.8701,    -999,9,       -999,9,    -999,9,    -999,9
 316N200310,        A22,      31,          1,         26,         26,2,20031030,       0817,    18.9795,   -66.0062,       3427,   125.1,  23.5314,  37.2167,2,  37.2097,2,    186.8,2,   189.3,2,    0.20,2,    0.75,2,    0.03,2,    0.04,2,   1.941,2,   1.161,2,   0.146,2,    -999,9,    -999,9,    -999,9,     -999,9,    -999,9,    -999,9,    -999,9,    -999,    -999,9,    -999,9,    -999,9,  125.10,      943,  18.9836, -66.0030,    -999,     -999,    -999,     -999,9,     -999,9,     -999,9,     -999,9,     -999,9,     -999,9,  23.5052,    -999,9,       -999,9,    -999,9,    -999,9
 316N200310,        A22,      31,          1,         25,         25,2,20031030,       0817,    18.9795,   -66.0062,       3427,   150.2,  22.4984,  37.1646,2,  37.1592,2,    184.0,2,   182.9,2,    0.20,2,    1.11,2,    0.02,2,    0.05,2,   2.009,2,   1.207,2,   0.096,2,    -999,9,    -999,9,    -999,9,     -999,9,    -999,9,    -999,9,    -999,9,    -999,    -999,9,    -999,9,    -999,9,  150.20,      941,  18.9835, -66.0030,    -999,     -999,    -999,     -999,9,     -999,9,     -999,9,     -999,9,     -999,9,     -999,9,  22.4679,    -999,9,       -999,9,    -999,9,    -999,9
 316N200310,        A22,      31,          1,         24,         24,2,20031030,       0817,    18.9795,   -66.0062,       3427,   210.7,  18.8785,  36.6273,2,  36.6241,2,    187.2,2,   189.3,2,    0.70,2,    3.30,2,    0.01,2,    0.14,2,   2.283,2,   1.303,2,   0.022,2,    -999,9,    -999,9,    -999,9,     -999,9,    -999,9,    -999,9,    -999,9,    -999,    -999,9,    -999,9,    -999,9,  210.70,      939,  18.9834, -66.0030,    -999,     -999,    -999,     -999,9,     -999,9,     -999,9,     -999,9,     -999,9,     -999,9,  18.8407,    -999,9,       -999,9,    -999,9,    -999,9
 316N200310,        A22,      31,          1,         23,         23,2,20031030,       0817,    18.9795,   -66.0062,       3427,   260.3,  18.2320,  36.5331,2,  36.5315,2,    196.7,2,   196.8,2,    0.70,2,    3.79,2,    0.01,2,    0.18,2,   2.342,6,   1.345,6,   0.028,6,    -999,9,    -999,9,    -999,9,     -999,9,    -999,9,    -999,9,    -999,9,    -999,    -999,9,    -999,9,    -999,9,  260.30,      937,  18.9834, -66.0031,    -999,     -999,    -999,     -999,9,     -999,9,     -999,9,     -999,9,     -999,9,     -999,9,  18.1864,    -999,9,       -999,9,    -999,9,    -999,9
 316N200310,        A22,      31,          1,         22,         22,2,20031030,       0817,    18.9795,   -66.0062,       3427,   310.9,  17.7795,  36.4813,2,  36.4774,2,    202.4,2,   200.1,2,    0.91,2,    4.49,2,    0.01,2,    0.21,2,   2.351,2,   1.335,2,   0.020,2,    -999,9,    -999,9,    -999,9,     -999,9,    -999,9,    -999,9,    -999,9,    -999,    -999,9,    -999,9,    -999,9,  310.90,      935,  18.9833, -66.0031,    -999,     -999,    -999,     -999,9,     -999,9,     -999,9,     -999,9,     -999,9,     -999,9,  17.7259,    -999,9,       -999,9,    -999,9,    -999,9
 316N200310,        A22,      31,          1,         21,         21,2,20031030,       0817,    18.9795,   -66.0062,       3427,   399.9,  15.6837,  36.1311,2,  36.1270,2,    167.5,2,   164.8,2,    3.51,2,   11.46,2,    0.01,2,    0.65,2,   2.091,2,   1.114,2,   0.024,2,    -999,9,    -999,9,    -999,9,     -999,9,    -999,9,    -999,9,    -999,9,    -999,    -999,9,    -999,9,    -999,9,  399.90,      933,  18.9832, -66.0033,    -999,     -999,    -999,     -999,9,     -999,9,     -999,9,     -999,9,     -999,9,     -999,9,  15.6204,    -999,9,       -999,9,    -999,9,    -999,9
 316N200310,        A22,      31,          1,         20,         20,2,20031030,       0817,    18.9795,   -66.0062,       3427,   501.4,  13.0094,  35.6960,2,  35.6932,2,    148.2,2,   147.2,2,    6.74,2,   17.59,2,    0.01,2,    1.05,2,   1.640,2,   0.852,2,   0.019,2,    -999,9,    -999,9,    -999,9,     -999,9,    -999,9,    -999,9,    -999,9,    -999,    -999,9,    -999,9,    -999,9,  501.40,      930,  18.9831, -66.0034,    -999,     -999,    -999,     -999,9,     -999,9,     -999,9,     -999,9,     -999,9,     -999,9,  12.9392,    -999,9,       -999,9,    -999,9,    -999,9
 316N200310,        A22,      31,          1,         19,         19,2,20031030,       0817,    18.9795,   -66.0062,       3427,   625.2,  10.6709,  35.3605,2,  35.3593,2,    137.5,2,   137.1,2,   10.97,2,   22.77,2,    0.01,2,    1.41,2,   0.974,2,   0.505,2,   0.013,2,    -999,9,    -999,9,    -999,9,     -999,9,    -999,9,    -999,9,    -999,9,    -999,    -999,9,    -999,9,    -999,9,  625.20,      926,  18.9829, -66.0035,    -999,     -999,    -999,     -999,9,     -999,9,     -999,9,     -999,9,     -999,9,     -999,9,  10.5934,    -999,9,       -999,9,    -999,9,    -999,9
 316N200310,        A22,      31,          1,         18,         18,2,20031030,       0817,    18.9795,   -66.0062,       3427,   749.5,   8.5915,  35.1062,2,  35.1010,2,    134.3,2,   134.8,2,   16.02,2,   26.96,2,    0.01,2,    1.71,2,   0.435,2,   0.224,2,   0.003,2,    -999,9,    -999,9,    -999,9,     -999,9,    -999,9,    -999,9,    -999,9,    -999,    -999,9,    -999,9,    -999,9,  749.50,      923,  18.9827, -66.0037,    -999,     -999,    -999,     -999,9,     -999,9,     -999,9,     -999,9,     -999,9,     -999,9,   8.5096,    -999,9,       -999,9,    -999,9,    -999,9
 316N200310,        A22,      31,          1,         17,         17,2,20031030,       0817,    18.9795,   -66.0062,       3427,   899.5,   6.9027,  34.9987,2,  34.9969,2,    151.0,2,   153.5,2,   18.66,2,   26.96,2,    0.01,2,    1.76,2,   0.275,2,   0.144,2,   0.004,2,    -999,9,    -999,9,    -999,9,     -999,9,    -999,9,    -999,9,    -999,9,    -999,    -999,9,    -999,9,    -999,9,  899.50,      920,  18.9825, -66.0038,    -999,     -999,    -999,     -999,9,     -999,9,     -999,9,     -999,9,     -999,9,     -999,9,   6.8148,    -999,9,       -999,9,    -999,9,    -999,9
 316N200310,        A22,      31,          1,         16,         16,2,20031030,       0817,    18.9795,   -66.0062,       3427,  1049.9,   5.8908,  35.0478,2,  35.0480,2,    196.1,2,   197.2,2,   15.63,2,   22.46,2,    0.01,2,    1.46,2,   0.576,2,   0.285,2,   0.022,2,    -999,9,    -999,9,    -999,9,     -999,9,    -999,9,    -999,9,    -999,9,    -999,    -999,9,    -999,9,    -999,9, 1049.90,      916,  18.9822, -66.0040,    -999,     -999,    -999,     -999,9,     -999,9,     -999,9,     -999,9,     -999,9,     -999,9,   5.7950,    -999,9,       -999,9,    -999,9,    -999,9
 316N200310,        A22,      31,          1,         15,         15,2,20031030,       0817,    18.9795,   -66.0062,       3427,  1200.0,   5.0121,  35.0349,2,  35.0340,2,    226.8,2,   228.0,2,   14.02,2,   20.04,2,    0.01,2,    1.31,2,   0.872,2,   0.420,2,   0.038,2,    -999,9,    -999,9,    -999,9,     -999,9,    -999,9,    -999,9,    -999,9,    -999,    -999,9,    -999,9,    -999,9, 1200.00,      913,  18.9820, -66.0042,    -999,     -999,    -999,     -999,9,     -999,9,     -999,9,     -999,9,     -999,9,     -999,9,   4.9092,    -999,9,       -999,9,    -999,9,    -999,9
 316N200310,        A22,      31,          1,         14,         14,2,20031030,       0817,    18.9795,   -66.0062,       3427,  1325.5,   4.6708,  35.0301,2,  35.0295,2,    243.2,2,   242.1,2,   12.71,2,   18.91,2,    0.01,2,    1.24,2,   1.044,2,   0.517,2,   0.048,2,    -999,9,    -999,9,    -999,9,     -999,9,    -999,9,    -999,9,    -999,9,    -999,    -999,9,    -999,9,    -999,9, 1325.50,      909,  18.9819, -66.0043,    -999,     -999,    -999,     -999,9,     -999,9,     -999,9,     -999,9,     -999,9,     -999,9,   4.5594,    -999,9,       -999,9,    -999,9,    -999,9
 316N200310,        A22,      31,          1,         13,         13,2,20031030,       0817,    18.9795,   -66.0062,       3427,  1449.8,   4.2354,  35.0017,2,  35.0020,2,    252.7,2,   253.0,2,   12.71,2,   18.29,2,    0.01,2,    1.20,2,   1.132,2,   0.565,2,   0.059,2,    -999,9,    -999,9,    -999,9,     -999,9,    -999,9,    -999,9,    -999,9,    -999,    -999,9,    -999,9,    -999,9, 1449.80,      906,  18.9818, -66.0044,    -999,     -999,    -999,     -999,9,     -999,9,     -999,9,     -999,9,     -999,9,     -999,9,   4.1171,    -999,9,       -999,9,    -999,9,    -999,9
 316N200310,        A22,      31,          1,         12,         12,2,20031030,       0817,    18.9795,   -66.0062,       3427,  1551.2,   4.0061,  34.9854,2,  34.9843,2,    257.3,2,   258.2,2,   12.91,2,   18.14,2,    0.00,2,    1.19,2,   1.160,2,   0.586,2,   0.049,2,    -999,9,    -999,9,    -999,9,     -999,9,    -999,9,    -999,9,    -999,9,    -999,    -999,9,    -999,9,    -999,9, 1551.20,      904,  18.9816, -66.0045,    -999,     -999,    -999,     -999,9,     -999,9,     -999,9,     -999,9,     -999,9,     -999,9,   3.8811,    -999,9,       -999,9,    -999,9,    -999,9
 316N200310,        A22,      31,          1,         11,         11,2,20031030,       0817,    18.9795,   -66.0062,       3427,  1649.7,   3.8776,  34.9779,2,  34.9758,2,    259.8,2,   260.2,2,   13.22,2,   17.98,2,    0.00,2,    1.19,2,   1.116,2,   0.537,2,   0.047,2,    -999,9,    -999,9,    -999,9,     -999,9,    -999,9,    -999,9,    -999,9,    -999,    -999,9,    -999,9,    -999,9, 1649.70,      901,  18.9814, -66.0046,    -999,     -999,    -999,     -999,9,     -999,9,     -999,9,     -999,9,     -999,9,     -999,9,   3.7451,    -999,9,       -999,9,    -999,9,    -999,9
 316N200310,        A22,      31,          1,         10,         10,2,20031030,       0817,    18.9795,   -66.0062,       3427,  1774.9,   3.7762,  34.9730,2,  34.9713,2,    261.4,2,   261.5,2,   13.63,2,   17.97,2,    0.00,2,    1.18,2,   1.066,2,   0.513,2,   0.046,2,    -999,9,    -999,9,    -999,9,     -999,9,    -999,9,    -999,9,    -999,9,    -999,    -999,9,    -999,9,    -999,9, 1774.90,      858,  18.9813, -66.0048,    -999,     -999,    -999,     -999,9,     -999,9,     -999,9,     -999,9,     -999,9,     -999,9,   3.6334,    -999,9,       -999,9,    -999,9,    -999,9
 316N200310,        A22,      31,          1,          9,          9,2,20031030,       0817,    18.9795,   -66.0062,       3427,  1899.8,   3.7073,  34.9703,2,  34.9687,2,    262.0,2,   262.4,2,   14.04,2,   17.91,2,    0.00,2,    1.19,2,   0.992,2,   0.490,2,   0.041,2,    -999,9,    -999,9,    -999,9,     -999,9,    -999,9,    -999,9,    -999,9,    -999,    -999,9,    -999,9,    -999,9, 1899.80,      855,  18.9811, -66.0049,    -999,     -999,    -999,     -999,9,     -999,9,     -999,9,     -999,9,     -999,9,     -999,9,   3.5537,    -999,9,       -999,9,    -999,9,    -999,9
 316N200310,        A22,      31,          1,          8,          8,2,20031030,       0817,    18.9795,   -66.0062,       3427,  2049.9,   3.6277,  34.9686,2,  34.9683,2,    262.5,2,   262.6,2,   14.65,2,   17.96,2,    0.00,2,    1.19,2,   0.895,2,   0.421,2,   0.036,2,    -999,9,    -999,9,    -999,9,     -999,9,    -999,9,    -999,9,    -999,9,    -999,    -999,9,    -999,9,    -999,9, 2049.90,      851,  18.9809, -66.0051,    -999,     -999,    -999,     -999,9,     -999,9,     -999,9,     -999,9,     -999,9,     -999,9,   3.4609,    -999,9,       -999,9,    -999,9,    -999,9
 316N200310,        A22,      31,          1,          7,          7,2,20031030,       0817,    18.9795,   -66.0062,       3427,  2250.7,   3.4913,  34.9650,2,  34.9650,2,    262.7,2,   262.7,2,   15.87,2,   18.01,2,    0.00,2,    1.19,2,   0.734,2,   0.368,2,   0.030,2,    -999,9,    -999,9,    -999,9,     -999,9,    -999,9,    -999,9,    -999,9,    -999,    -999,9,    -999,9,    -999,9, 2250.70,      847,  18.9807, -66.0053,    -999,     -999,    -999,     -999,9,     -999,9,     -999,9,     -999,9,     -999,9,     -999,9,   3.3072,    -999,9,       -999,9,    -999,9,    -999,9
 316N200310,        A22,      31,          1,          6,          6,2,20031030,       0817,    18.9795,   -66.0062,       3427,  2500.1,   3.2830,  34.9594,2,  34.9577,2,    262.5,2,   262.2,2,   18.00,2,   18.16,2,    0.00,2,    1.21,2,   0.524,2,   0.253,2,   0.020,2,    -999,9,    -999,9,    -999,9,     -999,9,    -999,9,    -999,9,    -999,9,    -999,    -999,9,    -999,9,    -999,9, 2500.10,      841,  18.9804, -66.0055,    -999,     -999,    -999,     -999,9,     -999,9,     -999,9,     -999,9,     -999,9,     -999,9,   3.0778,    -999,9,       -999,9,    -999,9,    -999,9
 316N200310,        A22,      31,          1,          5,          5,2,20031030,       0817,    18.9795,   -66.0062,       3427,  2749.8,   3.0295,  34.9465,2,  34.9453,2,    263.0,2,   263.1,2,   20.03,2,   18.21,2,    0.00,2,    1.22,2,   0.471,2,   0.233,2,   0.018,2,    -999,9,    -999,9,    -999,9,     -999,9,    -999,9,    -999,9,    -999,9,    -999,    -999,9,    -999,9,    -999,9, 2749.80,      836,  18.9803, -66.0057,    -999,     -999,    -999,     -999,9,     -999,9,     -999,9,     -999,9,     -999,9,     -999,9,   2.8040,    -999,9,       -999,9,    -999,9,    -999,9
 316N200310,        A22,      31,          1,          4,          4,2,20031030,       0817,    18.9795,   -66.0062,       3427,  2999.5,   2.8268,  34.9343,2,  34.9343,2,    264.4,2,   264.4,2,   21.56,2,   18.15,2,    0.00,2,    1.22,2,   0.496,2,   0.235,2,   0.026,2,    -999,9,    -999,9,    -999,9,     -999,9,    -999,9,    -999,9,    -999,9,    -999,    -999,9,    -999,9,    -999,9, 2999.50,      831,  18.9801, -66.0059,    -999,     -999,    -999,     -999,9,     -999,9,     -999,9,     -999,9,     -999,9,     -999,9,   2.5798,    -999,9,       -999,9,    -999,9,    -999,9
 316N200310,        A22,      31,          1,          3,          3,2,20031030,       0817,    18.9795,   -66.0062,       3427,  3200.3,   2.6874,  34.9254,2,  34.9248,2,    266.1,2,   265.9,2,   22.38,2,   18.04,2,    0.00,2,    1.22,2,   0.538,2,   0.264,2,   0.020,2,    -999,9,    -999,9,    -999,9,     -999,9,    -999,9,    -999,9,    -999,9,    -999,    -999,9,    -999,9,    -999,9, 3200.30,      826,  18.9799, -66.0061,    -999,     -999,    -999,     -999,9,     -999,9,     -999,9,     -999,9,     -999,9,     -999,9,   2.4225,    -999,9,       -999,9,    -999,9,    -999,9
 316N200310,        A22,      31,          1,          2,          2,2,20031030,       0817,    18.9795,   -66.0062,       3427,  3425.2,   2.5326,  34.9152,2,  34.9142,2,    267.4,2,   266.9,2,   24.01,2,   18.04,2,    0.00,2,    1.22,2,   0.592,2,   0.284,2,   0.026,2,    -999,9,    -999,9,    -999,9,     -999,9,    -999,9,    -999,9,    -999,9,    -999,    -999,9,    -999,9,    -999,9, 3425.20,      822,  18.9796, -66.0062,    -999,     -999,    -999,     -999,9,     -999,9,     -999,9,     -999,9,     -999,9,     -999,9,   2.2475,    -999,9,       -999,9,    -999,9,    -999,9
 316N200310,        A22,      31,          1,          1,          1,2,20031030,       0817,    18.9795,   -66.0062,       3427,  3626.1,   2.4725,  34.9103,2,  34.9097,2,    267.3,2,   267.7,2,   24.93,2,   18.14,2,    0.00,2,    1.22,2,   0.601,2,   0.296,2,   0.035,2,    -999,9,    -999,9,    -999,9,     -999,9,    -999,9,    -999,9,    -999,9,    -999,    -999,9,    -999,9,    -999,9, 3626.10,      817,  18.9795, -66.0062,    -999,     -999,    -999,     -999,9,     -999,9,     -999,9,     -999,9,     -999,9,     -999,9,   2.1670,    -999,9,       -999,9,    -999,9,    -999,9