BOTTLE,20220517CCHSIOLMM
EXPOCODE,SECT_ID,STNNBR,CASTNO,SAMPNO,BTLNBR,BTLNBR_FLAG_W,DATE,TIME,LATITUDE,LONGITUDE,DEPTH,CTDPRS,CTDTMP,CTDSAL,CTDSAL_FLAG_W,SALNTY,SALNTY_FLAG_W,CTDOXY,CTDOXY_FLAG_W,OXYGEN,OXYGEN_FLAG_W,SILCAT,SILCAT_FLAG_W,NITRAT,NITRAT_FLAG_W,NITRIT,NITRIT_FLAG_W,PHSPHT,PHSPHT_FLAG_W,CFC-11,CFC-11_FLAG_W,CFC-12,CFC-12_FLAG_W,CFC113,CFC113_FLAG_W,TCARBN,TCARBN_FLAG_W,ALKALI,ALKALI_FLAG_W,TRITUM,TRITUM_FLAG_W,HELIUM,HELIUM_FLAG_W,DELHE3,DELHE3_FLAG_W,DELC13,DELC13_FLAG_W,DELC14,DELC14_FLAG_W,C14ERR,CCL4,CCL4_FLAG_W,DOC,DOC_FLAG_W,TDN,TDN_FLAG_W,CTDRAW,BTL_TIME,BTL_LAT,BTL_LON,TRITER,HELIER,DELHER,CDOM325,CDOM325_FLAG_W,CDOM340,CDOM340_FLAG_W,CDOM380,CDOM380_FLAG_W,CDOM412,CDOM412_FLAG_W,CDOMSL,CDOMSL_FLAG_W,CDOMSN,CDOMSN_FLAG_W,THETA,BACT,BACT_FLAG_W,PROC,PROC_FLAG_W,SYN,SYN_FLAG_W,PEUK,PEUK_FLAG_W
,,,,,,,,,,,METERS,DBAR,ITS-90,PSS-78,,PSS-78,,UMOL/KG,,UMOL/KG,,UMOL/KG,,UMOL/KG,,UMOL/KG,,UMOL/KG,,PMOL/KG,,PMOL/KG,,PMOL/KG,,UMOL/KG,,UMOL/KG,,TU,,NMOL/KG,,PERCNT,,/MILLE,,/MILLE,,/MILLE,PMOL/KG,,UMOL/KG,,UMOL/KG,,DBAR,,,,TU,NMOL/KG,PERCNT,1/M,,1/M,,1/M,,1/M,,1/NM,,1/NM,,DEG C,E8/L,,E7/L,,E6/L,,E6/L,
 316N200310,        A22,      65,          1,         35,         35,2,20031110,       0020,    36.6690,   -67.7575,       4954,     3.5,  23.5910,  36.4918,2,  36.4929,2,    197.1,2,   210.3,2,    0.36,2,    0.00,2,    0.00,2,    0.01,2,   1.863,2,   1.118,2,   0.155,2,  2039.6,2,  2387.4,6,    -999,9,     -999,9,    -999,9,    -999,9,    -999,9,    -999,    -999,9,    -999,9,    -999,9,    3.50,      215,  36.6796, -67.7865,    -999,     -999,    -999,     -999,9,     -999,9,     -999,9,     -999,9,     -999,9,     -999,9,  23.5903,    -999,9,       -999,9,    -999,9,    -999,9
 316N200310,        A22,      65,          1,         34,         34,2,20031110,       0020,    36.6690,   -67.7575,       4954,    40.0,  23.6156,  36.4922,2,  36.4899,2,    210.5,2,   210.8,2,    0.35,2,    0.00,2,    0.00,2,    0.01,2,   1.857,2,   1.121,2,   0.144,2,    -999,9,    -999,9,    -999,9,     -999,9,    -999,9,    -999,9,    -999,9,    -999,    -999,9,    -999,9,    -999,9,   40.00,      213,  36.6795, -67.7858,    -999,     -999,    -999,     -999,9,     -999,9,     -999,9,     -999,9,     -999,9,     -999,9,  23.6072,    -999,9,       -999,9,    -999,9,    -999,9
 316N200310,        A22,      65,          1,         33,         33,2,20031110,       0020,    36.6690,   -67.7575,       4954,    86.8,  23.6129,  36.4928,2,  36.4917,2,    209.9,2,   210.3,2,    0.34,2,    0.00,2,    0.00,2,    0.01,2,   1.867,2,   1.124,2,   0.154,2,  2040.6,2,  2387.2,2,    -999,9,     -999,9,    -999,9,    -999,9,    -999,9,    -999,    -999,9,    -999,9,    -999,9,   86.80,      211,  36.6794, -67.7850,    -999,     -999,    -999,     -999,9,     -999,9,     -999,9,     -999,9,     -999,9,     -999,9,  23.5947,    -999,9,       -999,9,    -999,9,    -999,9
 316N200310,        A22,      65,          1,         32,         32,2,20031110,       0020,    36.6690,   -67.7575,       4954,   100.1,  21.8265,  36.6053,2,  36.6025,2,    221.7,2,   220.8,2,    0.33,2,   -0.01,2,    0.01,2,    0.02,2,   2.110,2,   1.247,2,   0.140,2,    -999,9,    -999,9,    -999,9,     -999,9,    -999,9,    -999,9,    -999,9,    -999,    -999,9,    -999,9,    -999,9,  100.10,      209,  36.6793, -67.7846,    -999,     -999,    -999,     -999,9,     -999,9,     -999,9,     -999,9,     -999,9,     -999,9,  21.8067,    -999,9,       -999,9,    -999,9,    -999,9
 316N200310,        A22,      65,          1,         31,         31,2,20031110,       0020,    36.6690,   -67.7575,       4954,   125.8,  20.2536,  36.6316,2,  36.6294,2,    212.0,2,   212.6,2,    0.42,2,    0.36,2,    0.07,2,    0.03,2,   2.134,2,   1.250,2,   0.130,2,  2079.8,2,  2395.2,2,    -999,9,     -999,9,    -999,9,    -999,9,    -999,9,    -999,    -999,9,    -999,9,    -999,9,  125.80,      208,  36.6793, -67.7842,    -999,     -999,    -999,     -999,9,     -999,9,     -999,9,     -999,9,     -999,9,     -999,9,  20.2300,    -999,9,       -999,9,    -999,9,    -999,9
 316N200310,        A22,      65,          1,         30,         30,2,20031110,       0020,    36.6690,   -67.7575,       4954,   175.4,  19.1561,  36.6216,2,  36.6191,2,    201.9,2,   203.8,2,    0.61,2,    1.89,2,    0.01,2,    0.08,2,   2.232,2,   1.308,2,   0.075,2,    -999,9,    -999,9,    -999,9,     -999,9,    -999,9,    -999,9,    -999,9,    -999,    -999,9,    -999,9,    -999,9,  175.40,      207,  36.6793, -67.7838,    -999,     -999,    -999,     -999,9,     -999,9,     -999,9,     -999,9,     -999,9,     -999,9,  19.1244,    -999,9,       -999,9,    -999,9,    -999,9
 316N200310,        A22,      65,          1,         29,         29,2,20031110,       0020,    36.6690,   -67.7575,       4954,   226.9,  18.7755,  36.5994,2,  36.5981,2,    202.5,2,   203.4,2,    0.79,2,    2.73,2,    0.01,2,    0.13,2,   2.251,2,   1.316,2,   0.062,2,  2094.1,2,  2392.6,2,    -999,9,     -999,9,    -999,9,    -999,9,    -999,9,    -999,    -999,9,    -999,9,    -999,9,  226.90,      205,  36.6792, -67.7835,    -999,     -999,    -999,     -999,9,     -999,9,     -999,9,     -999,9,     -999,9,     -999,9,  18.7350,    -999,9,       -999,9,    -999,9,    -999,9
 316N200310,        A22,      65,          1,         28,         28,2,20031110,       0020,    36.6690,   -67.7575,       4954,   275.2,  18.5355,  36.5746,2,  36.5722,2,    205.2,2,   202.9,2,    0.88,2,    3.22,2,    0.01,2,    0.15,2,   2.269,2,   1.326,2,   0.064,2,    -999,9,    -999,9,    -999,9,     -999,9,    -999,9,    -999,9,    -999,9,    -999,    -999,9,    -999,9,    -999,9,  275.20,      203,  36.6788, -67.7832,    -999,     -999,    -999,     -999,9,     -999,9,     -999,9,     -999,9,     -999,9,     -999,9,  18.4867,    -999,9,       -999,9,    -999,9,    -999,9
 316N200310,        A22,      65,          1,         27,         27,2,20031110,       0020,    36.6690,   -67.7575,       4954,   350.5,  18.2243,  36.5398,2,  36.5385,2,    203.7,2,   202.1,2,    1.17,2,    3.86,2,    0.01,2,    0.19,2,   2.319,6,   1.357,6,   0.080,6,  2101.1,2,  2380.9,2,    -999,9,     -999,9,    -999,9,    -999,9,    -999,9,    -999,   0.663,2,    -999,9,    -999,9,  350.50,      201,  36.6781, -67.7829,    -999,     -999,    -999,     -999,9,     -999,9,     -999,9,     -999,9,     -999,9,     -999,9,  18.1628,    -999,9,       -999,9,    -999,9,    -999,9
 316N200310,        A22,      65,          1,         26,         26,2,20031110,       0020,    36.6690,   -67.7575,       4954,   450.5,  17.5756,  36.4502,2,  36.4507,2,    190.4,2,   193.3,2,    1.55,2,    5.64,2,    0.00,2,    0.29,2,   2.291,2,   1.308,2,   0.046,2,    -999,9,    -999,9,    -999,9,     -999,9,    -999,9,    -999,9,    -999,9,    -999,    -999,9,    -999,9,    -999,9,  450.50,      159,  36.6775, -67.7825,    -999,     -999,    -999,     -999,9,     -999,9,     -999,9,     -999,9,     -999,9,     -999,9,  17.4983,    -999,9,       -999,9,    -999,9,    -999,9
 316N200310,        A22,      65,          1,         25,         25,2,20031110,       0020,    36.6690,   -67.7575,       4954,   550.6,  16.7088,  36.3051,2,  36.3020,2,    186.4,2,   185.3,2,    2.34,2,    7.87,2,    0.00,2,    0.43,2,   2.200,2,   1.231,2,   0.041,2,  2122.4,2,  2367.6,2,    -999,9,     -999,9,    -999,9,    -999,9,    -999,9,    -999,    -999,9,    -999,9,    -999,9,  550.60,      156,  36.6771, -67.7819,    -999,     -999,    -999,     -999,9,     -999,9,     -999,9,     -999,9,     -999,9,     -999,9,  16.6174,    -999,9,       -999,9,    -999,9,    -999,9
 316N200310,        A22,      65,          1,         24,         24,2,20031110,       0020,    36.6690,   -67.7575,       4954,   678.2,  14.6524,  35.9441,2,  35.9451,2,    163.7,2,   163.7,2,    4.74,2,   13.29,2,    0.00,2,    0.77,2,   1.883,2,   1.033,2,   0.035,2,  2148.0,2,  2349.0,2,    -999,9,     -999,9,    -999,9,    -999,9,    -999,9,    -999,    -999,9,    -999,9,    -999,9,  678.20,      153,  36.6767, -67.7814,    -999,     -999,    -999,     -999,9,     -999,9,     -999,9,     -999,9,     -999,9,     -999,9,  14.5490,    -999,9,       -999,9,    -999,9,    -999,9
 316N200310,        A22,      65,          1,         23,         23,2,20031110,       0020,    36.6690,   -67.7575,       4954,   825.5,  11.2921,  35.4557,2,  35.4555,2,    145.5,2,   149.6,2,    9.55,2,   19.95,2,    0.00,2,    1.23,2,   1.326,2,   0.715,2,   0.020,2,  2175.0,2,  2327.3,3,    -999,9,     -999,9,    -999,9,    -999,9,    -999,9,    -999,    -999,9,    -999,9,    -999,9,  825.50,      150,  36.6763, -67.7807,    -999,     -999,    -999,     -999,9,     -999,9,     -999,9,     -999,9,     -999,9,     -999,9,  11.1852,    -999,9,       -999,9,    -999,9,    -999,9
 316N200310,        A22,      65,          1,         22,         22,2,20031110,       0020,    36.6690,   -67.7575,       4954,   977.3,   8.6118,  35.1753,2,  35.1752,2,    162.2,2,   155.5,2,   13.30,2,   23.16,2,    0.00,2,    1.48,2,   0.997,2,   0.513,2,   0.030,2,  2188.2,2,  2317.3,2,    -999,9,     -999,9,    -999,9,    -999,9,    -999,9,    -999,    -999,9,    -999,9,    -999,9,  977.30,      146,  36.6761, -67.7800,    -999,     -999,    -999,     -999,9,     -999,9,     -999,9,     -999,9,     -999,9,     -999,9,   8.5034,    -999,9,       -999,9,    -999,9,    -999,9
 316N200310,        A22,      65,          1,         21,         21,2,20031110,       0020,    36.6690,   -67.7575,       4954,  1126.7,   6.4817,  35.0880,2,  35.0882,2,    198.3,2,   199.1,2,   12.78,2,   20.79,2,    0.00,2,    1.35,2,   1.409,2,   0.710,2,   0.055,2,  2181.4,2,  2310.0,2,    -999,9,     -999,9,    -999,9,    -999,9,    -999,9,    -999,    -999,9,    -999,9,    -999,9, 1126.70,      143,  36.6757, -67.7791,    -999,     -999,    -999,     -999,9,     -999,9,     -999,9,     -999,9,     -999,9,     -999,9,   6.3733,    -999,9,       -999,9,    -999,9,    -999,9
 316N200310,        A22,      65,          1,         20,         20,2,20031110,       0020,    36.6690,   -67.7575,       4954,  1268.4,   5.5208,  35.0658,2,  35.0663,2,    222.9,2,   225.1,2,   11.96,2,   19.23,2,    0.00,2,    1.25,2,   1.660,2,   0.838,2,   0.084,2,    -999,9,    -999,9,    -999,9,     -999,9,    -999,9,    -999,9,    -999,9,    -999,    -999,9,    -999,9,    -999,9, 1268.40,      139,  36.6754, -67.7783,    -999,     -999,    -999,     -999,9,     -999,9,     -999,9,     -999,9,     -999,9,     -999,9,   5.4066,    -999,9,       -999,9,    -999,9,    -999,9
 316N200310,        A22,      65,          1,         19,         19,2,20031110,       0020,    36.6690,   -67.7575,       4954,  1401.9,   4.9445,  35.0347,2,  35.0354,2,    237.7,2,   239.1,2,   11.64,2,   18.57,2,    0.00,2,    1.21,2,   1.795,2,   0.894,2,   0.089,2,    -999,9,    -999,9,    -999,9,     -999,9,    -999,9,    -999,9,    -999,9,    -999,    -999,9,    -999,9,    -999,9, 1401.90,      136,  36.6752, -67.7777,    -999,     -999,    -999,     -999,9,     -999,9,     -999,9,     -999,9,     -999,9,     -999,9,   4.8231,    -999,9,       -999,9,    -999,9,    -999,9
 316N200310,        A22,      65,          1,         18,         18,2,20031110,       0020,    36.6690,   -67.7575,       4954,  1502.2,   4.6651,  35.0182,2,  35.0185,2,    245.7,2,    -999,5,   11.63,2,   18.27,2,    0.00,2,    1.19,2,   1.759,2,   0.877,2,   0.098,2,    -999,9,    -999,9,    -999,9,     -999,9,    -999,9,    -999,9,    -999,9,    -999,    -999,9,    -999,9,    -999,9, 1502.20,      134,  36.6751, -67.7771,    -999,     -999,    -999,     -999,9,     -999,9,     -999,9,     -999,9,     -999,9,     -999,9,   4.5371,    -999,9,       -999,9,    -999,9,    -999,9
 316N200310,        A22,      65,          1,         17,         17,2,20031110,       0020,    36.6690,   -67.7575,       4954,  1628.4,   4.3502,  34.9898,2,  34.9902,2,    252.6,2,   253.9,2,   11.52,2,   18.01,2,    0.00,2,    1.17,2,   1.899,2,   0.941,2,   0.106,2,    -999,9,    -999,9,    -999,9,     -999,9,    -999,9,    -999,9,    -999,9,    -999,    -999,9,    -999,9,    -999,9, 1628.40,      130,  36.6749, -67.7763,    -999,     -999,    -999,     -999,9,     -999,9,     -999,9,     -999,9,     -999,9,     -999,9,   4.2138,    -999,9,       -999,9,    -999,9,    -999,9
 316N200310,        A22,      65,          1,         16,         16,2,20031110,       0020,    36.6690,   -67.7575,       4954,  1777.0,   4.1354,  34.9768,2,  34.9778,2,    259.1,2,   258.4,2,   11.71,2,   17.85,2,    0.00,2,    1.17,2,   1.782,2,   0.886,2,   0.093,2,    -999,9,    -999,9,    -999,9,     -999,9,    -999,9,    -999,9,    -999,9,    -999,    -999,9,    -999,9,    -999,9, 1777.00,      127,  36.6745, -67.7754,    -999,     -999,    -999,     -999,9,     -999,9,     -999,9,     -999,9,     -999,9,     -999,9,   3.9876,    -999,9,       -999,9,    -999,9,    -999,9
 316N200310,        A22,      65,          1,         15,         15,2,20031110,       0020,    36.6690,   -67.7575,       4954,  1927.4,   3.9225,  34.9616,2,  34.9624,2,    262.4,2,   262.6,2,   12.00,2,   17.70,2,    0.00,2,    1.16,2,   1.680,2,   0.828,2,   0.090,2,    -999,9,    -999,9,    -999,9,     -999,9,    -999,9,    -999,9,    -999,9,    -999,    -999,9,    -999,9,    -999,9, 1927.40,      123,  36.6744, -67.7745,    -999,     -999,    -999,     -999,9,     -999,9,     -999,9,     -999,9,     -999,9,     -999,9,   3.7632,    -999,9,       -999,9,    -999,9,    -999,9
 316N200310,        A22,      65,          1,         14,         14,2,20031110,       0020,    36.6690,   -67.7575,       4954,  2127.4,   3.7322,  34.9445,2,  34.9453,2,    266.2,2,   266.3,2,   12.20,2,   17.60,2,    0.00,2,    1.16,2,   1.860,2,   0.914,2,   0.114,2,    -999,9,    -999,9,    -999,9,     -999,9,    -999,9,    -999,9,    -999,9,    -999,    -999,9,    -999,9,    -999,9, 2127.40,      118,  36.6742, -67.7732,    -999,     -999,    -999,     -999,9,     -999,9,     -999,9,     -999,9,     -999,9,     -999,9,   3.5563,    -999,9,       -999,9,    -999,9,    -999,9
 316N200310,        A22,      65,          1,         13,         13,2,20031110,       0020,    36.6690,   -67.7575,       4954,  2375.0,   3.5366,  34.9367,2,  34.9378,2,    269.0,2,   269.0,2,   12.90,2,   17.49,2,    0.00,2,    1.15,2,   1.657,2,   0.796,2,   0.082,2,    -999,9,    -999,9,    -999,9,     -999,9,    -999,9,    -999,9,    -999,9,    -999,    -999,9,    -999,9,    -999,9, 2375.00,      113,  36.6737, -67.7719,    -999,     -999,    -999,     -999,9,     -999,9,     -999,9,     -999,9,     -999,9,     -999,9,   3.3395,    -999,9,       -999,9,    -999,9,    -999,9
 316N200310,        A22,      65,          1,         12,         12,2,20031110,       0020,    36.6690,   -67.7575,       4954,  2623.1,   3.4678,  34.9515,2,  34.9526,2,    265.7,2,   265.5,2,   14.72,2,   17.74,2,    0.00,2,    1.17,2,   1.082,2,   0.525,2,   0.056,2,    -999,9,    -999,9,    -999,9,     -999,9,    -999,9,    -999,9,    -999,9,    -999,    -999,9,    -999,9,    -999,9, 2623.10,      108,  36.6731, -67.7705,    -999,     -999,    -999,     -999,9,     -999,9,     -999,9,     -999,9,     -999,9,     -999,9,   3.2467,    -999,9,       -999,9,    -999,9,    -999,9
 316N200310,        A22,      65,          1,         11,         11,2,20031110,       0020,    36.6690,   -67.7575,       4954,  2874.0,   3.2558,  34.9473,2,  34.9473,2,    265.3,2,   264.8,2,   16.54,2,   17.73,2,    0.00,2,    1.17,2,   0.823,2,   0.398,2,   0.042,2,    -999,9,    -999,9,    -999,9,     -999,9,    -999,9,    -999,9,    -999,9,    -999,    -999,9,    -999,9,    -999,9, 2874.00,      103,  36.6727, -67.7690,    -999,     -999,    -999,     -999,9,     -999,9,     -999,9,     -999,9,     -999,9,     -999,9,   3.0129,    -999,9,       -999,9,    -999,9,    -999,9
 316N200310,        A22,      65,          1,         10,         10,2,20031110,       0020,    36.6690,   -67.7575,       4954,  3097.7,   3.0540,  34.9391,2,  34.9388,2,    265.6,2,   265.7,2,   17.96,2,   17.77,2,    0.00,2,    1.18,2,   0.792,2,   0.387,2,   0.036,2,    -999,9,    -999,9,    -999,9,     -999,9,    -999,9,    -999,9,    -999,9,    -999,    -999,9,    -999,9,    -999,9, 3097.70,       59,  36.6721, -67.7677,    -999,     -999,    -999,     -999,9,     -999,9,     -999,9,     -999,9,     -999,9,     -999,9,   2.7917,    -999,9,       -999,9,    -999,9,    -999,9
 316N200310,        A22,      65,          1,          9,          9,2,20031110,       0020,    36.6690,   -67.7575,       4954,  3300.5,   2.9092,  34.9322,2,  34.9349,2,    267.2,2,   266.7,2,   18.87,2,   17.76,2,    0.00,2,    1.18,2,   0.782,2,   0.381,2,   0.036,2,    -999,9,    -999,9,    -999,9,     -999,9,    -999,9,    -999,9,    -999,9,    -999,    -999,9,    -999,9,    -999,9, 3300.50,       55,  36.6719, -67.7664,    -999,     -999,    -999,     -999,9,     -999,9,     -999,9,     -999,9,     -999,9,     -999,9,   2.6284,    -999,9,       -999,9,    -999,9,    -999,9
 316N200310,        A22,      65,          1,          8,          8,2,20031110,       0020,    36.6690,   -67.7575,       4954,  3500.0,   2.7380,  34.9209,2,  34.9209,2,    268.7,2,   269.4,2,   19.06,2,   17.41,2,    0.00,2,    1.16,2,   0.976,2,   0.484,2,   0.049,2,    -999,9,    -999,9,    -999,9,     -999,9,    -999,9,    -999,9,    -999,9,    -999,    -999,9,    -999,9,    -999,9, 3500.00,       51,  36.6716, -67.7653,    -999,     -999,    -999,     -999,9,     -999,9,     -999,9,     -999,9,     -999,9,     -999,9,   2.4396,    -999,9,       -999,9,    -999,9,    -999,9
 316N200310,        A22,      65,          1,          7,          7,2,20031110,       0020,    36.6690,   -67.7575,       4954,  3699.9,   2.5999,  34.9160,2,  34.9158,2,    268.5,2,   268.3,2,   21.63,2,   17.71,2,    0.00,2,    1.19,2,   0.756,2,   0.371,2,   0.036,2,    -999,9,    -999,9,    -999,9,     -999,9,    -999,9,    -999,9,    -999,9,    -999,    -999,9,    -999,9,    -999,9, 3699.90,       47,  36.6711, -67.7644,    -999,     -999,    -999,     -999,9,     -999,9,     -999,9,     -999,9,     -999,9,     -999,9,   2.2829,    -999,9,       -999,9,    -999,9,    -999,9
 316N200310,        A22,      65,          1,          6,          6,2,20031110,       0020,    36.6690,   -67.7575,       4954,  3900.8,   2.4743,  34.9069,2,  34.9073,2,    269.6,2,   269.7,2,   22.12,2,   17.65,2,    0.00,2,    1.18,2,   0.981,2,   0.473,2,   0.050,2,    -999,9,    -999,9,    -999,9,     -999,9,    -999,9,    -999,9,    -999,9,    -999,    -999,9,    -999,9,    -999,9, 3900.80,       43,  36.6709, -67.7637,    -999,     -999,    -999,     -999,9,     -999,9,     -999,9,     -999,9,     -999,9,     -999,9,   2.1381,    -999,9,       -999,9,    -999,9,    -999,9
 316N200310,        A22,      65,          1,          5,          5,2,20031110,       0020,    36.6690,   -67.7575,       4954,  4124.8,   2.3791,  34.9005,2,  34.9004,2,    268.3,2,   268.3,2,   25.10,2,   18.00,2,    0.00,2,    1.21,2,   0.855,2,   0.424,2,   0.048,2,    -999,9,    -999,9,    -999,9,     -999,9,    -999,9,    -999,9,    -999,9,    -999,    -999,9,    -999,9,    -999,9, 4124.80,       39,  36.6707, -67.7627,    -999,     -999,    -999,     -999,9,     -999,9,     -999,9,     -999,9,     -999,9,     -999,9,   2.0198,    -999,9,       -999,9,    -999,9,    -999,9
 316N200310,        A22,      65,          1,          4,          4,2,20031110,       0020,    36.6690,   -67.7575,       4954,  4367.7,   2.3133,  34.8939,2,  34.8943,2,    267.0,2,   267.2,2,   27.47,2,   18.29,2,    0.00,2,    1.23,2,   0.878,2,   0.427,2,   0.049,2,    -999,9,    -999,9,    -999,9,     -999,9,    -999,9,    -999,9,    -999,9,    -999,    -999,9,    -999,9,    -999,9, 4367.70,       34,  36.6706, -67.7613,    -999,     -999,    -999,     -999,9,     -999,9,     -999,9,     -999,9,     -999,9,     -999,9,   1.9276,    -999,9,       -999,9,    -999,9,    -999,9