BOTTLE,20220517CCHSIOLMM
EXPOCODE,SECT_ID,STNNBR,CASTNO,SAMPNO,BTLNBR,BTLNBR_FLAG_W,DATE,TIME,LATITUDE,LONGITUDE,DEPTH,CTDPRS,CTDTMP,CTDSAL,CTDSAL_FLAG_W,SALNTY,SALNTY_FLAG_W,CTDOXY,CTDOXY_FLAG_W,OXYGEN,OXYGEN_FLAG_W,SILCAT,SILCAT_FLAG_W,NITRAT,NITRAT_FLAG_W,NITRIT,NITRIT_FLAG_W,PHSPHT,PHSPHT_FLAG_W,CFC-11,CFC-11_FLAG_W,CFC-12,CFC-12_FLAG_W,CFC113,CFC113_FLAG_W,TCARBN,TCARBN_FLAG_W,ALKALI,ALKALI_FLAG_W,TRITUM,TRITUM_FLAG_W,HELIUM,HELIUM_FLAG_W,DELHE3,DELHE3_FLAG_W,DELC13,DELC13_FLAG_W,DELC14,DELC14_FLAG_W,C14ERR,CCL4,CCL4_FLAG_W,DOC,DOC_FLAG_W,TDN,TDN_FLAG_W,CTDRAW,BTL_TIME,BTL_LAT,BTL_LON,TRITER,HELIER,DELHER,CDOM325,CDOM325_FLAG_W,CDOM340,CDOM340_FLAG_W,CDOM380,CDOM380_FLAG_W,CDOM412,CDOM412_FLAG_W,CDOMSL,CDOMSL_FLAG_W,CDOMSN,CDOMSN_FLAG_W,THETA,BACT,BACT_FLAG_W,PROC,PROC_FLAG_W,SYN,SYN_FLAG_W,PEUK,PEUK_FLAG_W
,,,,,,,,,,,METERS,DBAR,ITS-90,PSS-78,,PSS-78,,UMOL/KG,,UMOL/KG,,UMOL/KG,,UMOL/KG,,UMOL/KG,,UMOL/KG,,PMOL/KG,,PMOL/KG,,PMOL/KG,,UMOL/KG,,UMOL/KG,,TU,,NMOL/KG,,PERCNT,,/MILLE,,/MILLE,,/MILLE,PMOL/KG,,UMOL/KG,,UMOL/KG,,DBAR,,,,TU,NMOL/KG,PERCNT,1/M,,1/M,,1/M,,1/M,,1/NM,,1/NM,,DEG C,E8/L,,E7/L,,E6/L,,E6/L,
 316N200310,        A22,      69,          1,          4,          4,2,20031110,       2208,    37.6157,   -68.3238,       4611,  4124.1,   2.2505,  34.8911,2,  34.8922,2,    268.0,2,   267.8,2,   29.01,2,   18.45,2,    0.00,2,    1.24,2,   0.861,2,   0.426,2,   0.045,2,    -999,9,    -999,9,    -999,9,     -999,9,    -999,9,    -999,9,    -999,9,    -999,    -999,9,    -999,9,    -999,9, 4124.10,     2221,  37.6142, -68.3189,    -999,     -999,    -999,     -999,9,     -999,9,     -999,9,     -999,9,     -999,9,     -999,9,   1.8951,    -999,9,       -999,9,    -999,9,    -999,9
 316N200310,        A22,      69,          1,          3,          3,2,20031110,       2208,    37.6157,   -68.3238,       4611,  4371.8,   2.2322,  34.8869,2,  34.8855,2,    266.2,2,   265.3,2,   32.21,2,   18.94,2,    0.00,2,    1.28,2,   0.715,2,   0.356,2,   0.037,2,    -999,9,    -999,9,    -999,9,     -999,9,    -999,9,    -999,9,    -999,9,    -999,    -999,9,    -999,9,    -999,9, 4371.80,     2216,  37.6148, -68.3208,    -999,     -999,    -999,     -999,9,     -999,9,     -999,9,     -999,9,     -999,9,     -999,9,   1.8484,    -999,9,       -999,9,    -999,9,    -999,9
 316N200310,        A22,      69,          1,          2,          2,2,20031110,       2208,    37.6157,   -68.3238,       4611,  4495.9,   2.2289,  34.8852,2,  34.8859,2,    264.6,2,   264.2,2,   33.45,2,   19.13,2,    0.00,2,    1.30,2,   0.699,2,   0.347,2,   0.040,2,    -999,9,    -999,9,    -999,9,     -999,9,    -999,9,    -999,9,    -999,9,    -999,    -999,9,    -999,9,    -999,9, 4495.90,     2213,  37.6152, -68.3220,    -999,     -999,    -999,     -999,9,     -999,9,     -999,9,     -999,9,     -999,9,     -999,9,   1.8305,    -999,9,       -999,9,    -999,9,    -999,9
 316N200310,        A22,      69,          1,          1,          1,2,20031110,       2208,    37.6157,   -68.3238,       4611,  4671.1,   2.2206,  34.8819,2,  34.8816,2,    263.1,2,   262.4,2,   35.73,2,   19.48,2,    0.00,2,    1.32,2,   0.620,2,   0.312,2,   0.034,2,    -999,9,    -999,9,    -999,9,     -999,9,    -999,9,    -999,9,    -999,9,    -999,    -999,9,    -999,9,    -999,9, 4671.10,     2209,  37.6157, -68.3236,    -999,     -999,    -999,   0.1690,2,   0.1250,2,   0.0670,2,   0.0450,2,   0.0150,2,   0.0160,2,   1.8013,    -999,9,       -999,9,    -999,9,    -999,9