BOTTLE,20220517CCHSIOLMM
EXPOCODE,SECT_ID,STNNBR,CASTNO,SAMPNO,BTLNBR,BTLNBR_FLAG_W,DATE,TIME,LATITUDE,LONGITUDE,DEPTH,CTDPRS,CTDTMP,CTDSAL,CTDSAL_FLAG_W,SALNTY,SALNTY_FLAG_W,CTDOXY,CTDOXY_FLAG_W,OXYGEN,OXYGEN_FLAG_W,SILCAT,SILCAT_FLAG_W,NITRAT,NITRAT_FLAG_W,NITRIT,NITRIT_FLAG_W,PHSPHT,PHSPHT_FLAG_W,CFC-11,CFC-11_FLAG_W,CFC-12,CFC-12_FLAG_W,CFC113,CFC113_FLAG_W,TCARBN,TCARBN_FLAG_W,ALKALI,ALKALI_FLAG_W,TRITUM,TRITUM_FLAG_W,HELIUM,HELIUM_FLAG_W,DELHE3,DELHE3_FLAG_W,DELC13,DELC13_FLAG_W,DELC14,DELC14_FLAG_W,C14ERR,CCL4,CCL4_FLAG_W,DOC,DOC_FLAG_W,TDN,TDN_FLAG_W,CTDRAW,BTL_TIME,BTL_LAT,BTL_LON,TRITER,HELIER,DELHER,CDOM325,CDOM325_FLAG_W,CDOM340,CDOM340_FLAG_W,CDOM380,CDOM380_FLAG_W,CDOM412,CDOM412_FLAG_W,CDOMSL,CDOMSL_FLAG_W,CDOMSN,CDOMSN_FLAG_W,THETA,BACT,BACT_FLAG_W,PROC,PROC_FLAG_W,SYN,SYN_FLAG_W,PEUK,PEUK_FLAG_W
,,,,,,,,,,,METERS,DBAR,ITS-90,PSS-78,,PSS-78,,UMOL/KG,,UMOL/KG,,UMOL/KG,,UMOL/KG,,UMOL/KG,,UMOL/KG,,PMOL/KG,,PMOL/KG,,PMOL/KG,,UMOL/KG,,UMOL/KG,,TU,,NMOL/KG,,PERCNT,,/MILLE,,/MILLE,,/MILLE,PMOL/KG,,UMOL/KG,,UMOL/KG,,DBAR,,,,TU,NMOL/KG,PERCNT,1/M,,1/M,,1/M,,1/M,,1/NM,,1/NM,,DEG C,E8/L,,E7/L,,E6/L,,E6/L,
 316N200310,        A22,      50,          1,          4,          4,2,20031104,       2046,    29.5540,   -66.0078,       5048,  4250.9,   2.2728,  34.8942,2,  34.8969,4,    264.7,2,   264.3,2,   31.28,2,   19.17,2,    0.00,2,    1.27,2,   0.376,2,   0.198,2,   0.020,2,  2173.6,2,  2330.6,2,    -999,9,     -999,9,    -999,9,    -999,9,    -999,9,    -999,   0.778,2,    -999,9,    -999,9, 4250.90,     2104,  29.5544, -66.0083,    -999,     -999,    -999,     -999,9,     -999,9,     -999,9,     -999,9,     -999,9,     -999,9,   1.9020,    -999,9,       -999,9,    -999,9,    -999,9
 316N200310,        A22,      50,          1,          3,          3,2,20031104,       2046,    29.5540,   -66.0078,       5048,  4501.7,   2.2485,  34.8882,2,  34.8908,4,    262.2,2,   262.0,2,   34.48,2,   19.66,2,    0.00,2,    1.31,2,   0.337,2,   0.181,2,   0.023,2,  2177.2,2,  2334.1,2,    -999,9,     -999,9,    -999,9,    -999,9,    -999,9,    -999,   0.689,2,   42.40,2,    -999,9, 4501.70,     2059,  29.5542, -66.0081,    -999,     -999,    -999,     -999,9,     -999,9,     -999,9,     -999,9,     -999,9,     -999,9,   1.8488,    -999,9,       -999,9,    -999,9,    -999,9
 316N200310,        A22,      50,          1,          2,          2,2,20031104,       2046,    29.5540,   -66.0078,       5048,  4751.8,   2.2211,  34.8814,2,  34.8851,4,    259.5,2,   259.1,2,   38.49,2,   20.19,2,    0.00,2,    1.38,2,   0.257,2,   0.129,2,   0.019,2,  2182.5,2,  2338.8,2,    -999,9,     -999,9,    -999,9,    -999,9,    -999,9,    -999,   0.547,2,   41.80,2,    -999,9, 4751.80,     2054,  29.5541, -66.0080,    -999,     -999,    -999,     -999,9,     -999,9,     -999,9,     -999,9,     -999,9,     -999,9,   1.7920,    -999,9,       -999,9,    -999,9,    -999,9
 316N200310,        A22,      50,          1,          1,          1,2,20031104,       2046,    29.5540,   -66.0078,       5048,  5121.2,   2.1984,  34.8726,2,  34.8753,4,    255.5,2,   255.8,2,   43.32,2,   20.97,2,    0.00,2,    1.42,2,   0.160,2,   0.099,2,   0.013,2,  2188.4,2,  2340.3,6,    -999,9,     -999,9,    -999,9,    -999,9,    -999,9,    -999,   0.401,2,   43.80,2,    -999,9, 5121.20,     2047,  29.5539, -66.0079,    -999,     -999,    -999,     -999,9,     -999,9,     -999,9,     -999,9,     -999,9,     -999,9,   1.7240,    -999,9,       -999,9,    -999,9,    -999,9