BOTTLE,20220517CCHSIOLMM
EXPOCODE,SECT_ID,STNNBR,CASTNO,SAMPNO,BTLNBR,BTLNBR_FLAG_W,DATE,TIME,LATITUDE,LONGITUDE,DEPTH,CTDPRS,CTDTMP,CTDSAL,CTDSAL_FLAG_W,SALNTY,SALNTY_FLAG_W,CTDOXY,CTDOXY_FLAG_W,OXYGEN,OXYGEN_FLAG_W,SILCAT,SILCAT_FLAG_W,NITRAT,NITRAT_FLAG_W,NITRIT,NITRIT_FLAG_W,PHSPHT,PHSPHT_FLAG_W,CFC-11,CFC-11_FLAG_W,CFC-12,CFC-12_FLAG_W,CFC113,CFC113_FLAG_W,TCARBN,TCARBN_FLAG_W,ALKALI,ALKALI_FLAG_W,TRITUM,TRITUM_FLAG_W,HELIUM,HELIUM_FLAG_W,DELHE3,DELHE3_FLAG_W,DELC13,DELC13_FLAG_W,DELC14,DELC14_FLAG_W,C14ERR,CCL4,CCL4_FLAG_W,DOC,DOC_FLAG_W,TDN,TDN_FLAG_W,CTDRAW,BTL_TIME,BTL_LAT,BTL_LON,TRITER,HELIER,DELHER,CDOM325,CDOM325_FLAG_W,CDOM340,CDOM340_FLAG_W,CDOM380,CDOM380_FLAG_W,CDOM412,CDOM412_FLAG_W,CDOMSL,CDOMSL_FLAG_W,CDOMSN,CDOMSN_FLAG_W,THETA,BACT,BACT_FLAG_W,PROC,PROC_FLAG_W,SYN,SYN_FLAG_W,PEUK,PEUK_FLAG_W
,,,,,,,,,,,METERS,DBAR,ITS-90,PSS-78,,PSS-78,,UMOL/KG,,UMOL/KG,,UMOL/KG,,UMOL/KG,,UMOL/KG,,UMOL/KG,,PMOL/KG,,PMOL/KG,,PMOL/KG,,UMOL/KG,,UMOL/KG,,TU,,NMOL/KG,,PERCNT,,/MILLE,,/MILLE,,/MILLE,PMOL/KG,,UMOL/KG,,UMOL/KG,,DBAR,,,,TU,NMOL/KG,PERCNT,1/M,,1/M,,1/M,,1/M,,1/NM,,1/NM,,DEG C,E8/L,,E7/L,,E6/L,,E6/L,
 316N200310,        A22,      46,          1,          4,          4,2,20031103,       1714,    26.8860,   -65.9982,       4829,  3999.1,   2.3565,  34.9031,2,  34.9050,2,    266.2,2,   266.4,2,   27.91,2,   18.88,2,    0.00,2,    1.25,2,   0.326,2,   0.160,2,   0.017,2,  2169.0,2,  2329.2,2,    -999,9,     -999,9,    -999,9,    -999,9,    -999,9,    -999,   0.754,2,   42.20,2,    -999,9, 3999.10,     1732,  26.8883, -65.9963,    -999,     -999,    -999,   0.1480,2,   0.1050,2,   0.0500,2,   0.0330,2,   0.0170,2,   0.0190,2,   2.0124,    -999,9,       -999,9,    -999,9,    -999,9
 316N200310,        A22,      46,          1,          3,          3,2,20031103,       1714,    26.8860,   -65.9982,       4829,  4248.6,   2.3124,  34.8977,2,  34.8987,2,    265.2,2,   264.6,2,   30.48,2,   19.26,2,    0.00,2,    1.27,2,   0.251,2,   0.127,2,   0.016,2,  2172.6,2,  2330.3,2,    -999,9,     -999,9,    -999,9,    -999,9,    -999,9,    -999,   0.668,2,   42.30,2,    -999,9, 4248.60,     1726,  26.8877, -65.9968,    -999,     -999,    -999,   0.1370,2,   0.0970,2,   0.0470,2,   0.0310,2,   0.0170,2,   0.0190,2,   1.9406,    -999,9,       -999,9,    -999,9,    -999,9
 316N200310,        A22,      46,          1,          2,          2,2,20031103,       1714,    26.8860,   -65.9982,       4829,  4497.1,   2.2481,  34.8882,2,  34.8875,2,    261.9,2,   261.3,2,   35.25,2,   19.93,2,    0.00,2,    1.32,2,    -999,9,    -999,9,    -999,9,  2179.0,2,  2331.6,2,    -999,9,     -999,9,    -999,9,    -999,9,    -999,9,    -999,    -999,9,   41.00,2,    -999,9, 4497.10,     1721,  26.8869, -65.9974,    -999,     -999,    -999,   0.1260,2,   0.0880,2,   0.0410,2,   0.0270,2,   0.0190,2,   0.0200,2,   1.8490,    -999,9,       -999,9,    -999,9,    -999,9
 316N200310,        A22,      46,          1,          1,          1,2,20031103,       1714,    26.8860,   -65.9982,       4829,  4855.1,   2.1867,  34.8755,2,  34.8759,2,    256.4,2,   257.1,2,   41.73,2,   20.84,2,    0.00,2,    1.40,2,   0.144,2,   0.090,2,   0.013,2,  2186.9,2,  2332.6,6,    -999,9,     -999,9,    -999,9,    -999,9,    -999,9,    -999,   0.416,2,   41.30,2,    -999,9, 4855.10,     1715,  26.8859, -65.9982,    -999,     -999,    -999,   0.1350,2,   0.0950,2,   0.0460,2,   0.0300,2,   0.0180,2,   0.0190,2,   1.7459,    -999,9,       -999,9,    -999,9,    -999,9