BOTTLE,20220517CCHSIOLMM
EXPOCODE,SECT_ID,STNNBR,CASTNO,SAMPNO,BTLNBR,BTLNBR_FLAG_W,DATE,TIME,LATITUDE,LONGITUDE,DEPTH,CTDPRS,CTDTMP,CTDSAL,CTDSAL_FLAG_W,SALNTY,SALNTY_FLAG_W,CTDOXY,CTDOXY_FLAG_W,OXYGEN,OXYGEN_FLAG_W,SILCAT,SILCAT_FLAG_W,NITRAT,NITRAT_FLAG_W,NITRIT,NITRIT_FLAG_W,PHSPHT,PHSPHT_FLAG_W,CFC-11,CFC-11_FLAG_W,CFC-12,CFC-12_FLAG_W,CFC113,CFC113_FLAG_W,TCARBN,TCARBN_FLAG_W,ALKALI,ALKALI_FLAG_W,TRITUM,TRITUM_FLAG_W,HELIUM,HELIUM_FLAG_W,DELHE3,DELHE3_FLAG_W,DELC13,DELC13_FLAG_W,DELC14,DELC14_FLAG_W,C14ERR,CCL4,CCL4_FLAG_W,DOC,DOC_FLAG_W,TDN,TDN_FLAG_W,CTDRAW,BTL_TIME,BTL_LAT,BTL_LON,TRITER,HELIER,DELHER,CDOM325,CDOM325_FLAG_W,CDOM340,CDOM340_FLAG_W,CDOM380,CDOM380_FLAG_W,CDOM412,CDOM412_FLAG_W,CDOMSL,CDOMSL_FLAG_W,CDOMSN,CDOMSN_FLAG_W,THETA,BACT,BACT_FLAG_W,PROC,PROC_FLAG_W,SYN,SYN_FLAG_W,PEUK,PEUK_FLAG_W
,,,,,,,,,,,METERS,DBAR,ITS-90,PSS-78,,PSS-78,,UMOL/KG,,UMOL/KG,,UMOL/KG,,UMOL/KG,,UMOL/KG,,UMOL/KG,,PMOL/KG,,PMOL/KG,,PMOL/KG,,UMOL/KG,,UMOL/KG,,TU,,NMOL/KG,,PERCNT,,/MILLE,,/MILLE,,/MILLE,PMOL/KG,,UMOL/KG,,UMOL/KG,,DBAR,,,,TU,NMOL/KG,PERCNT,1/M,,1/M,,1/M,,1/M,,1/NM,,1/NM,,DEG C,E8/L,,E7/L,,E6/L,,E6/L,
 316N200310,        A22,      37,          1,         33,         33,2,20031031,       2043,    20.8440,   -65.9962,       5446,     3.0,  29.1013,  35.2416,2,  35.2412,2,    163.5,2,   195.5,2,    0.96,2,    0.07,2,    0.00,2,    0.01,2,   1.570,2,   0.979,2,   0.135,2,  1965.3,2,  2319.1,6,    -999,9,     -999,9,    -999,9,    -999,9,    -999,9,    -999,    -999,9,    -999,9,    -999,9,    3.00,     2244,  20.8287, -65.9968,    -999,     -999,    -999,   0.0720,2,   0.0460,2,   0.0140,2,   0.0080,2,   0.0310,2,   0.0310,2,  29.1006,    -999,9,       -999,9,    -999,9,    -999,9
 316N200310,        A22,      37,          1,         32,         32,2,20031031,       2043,    20.8440,   -65.9962,       5446,    25.2,  28.7018,  35.8889,2,  35.9026,2,    195.8,2,   195.4,2,    1.05,2,    0.07,2,    0.00,2,    0.01,2,   1.572,6,   0.978,6,   0.139,6,    -999,9,    -999,9,    -999,9,     -999,9,    -999,9,    -999,9,    -999,9,    -999,   1.558,2,    -999,9,    -999,9,   25.20,     2243,  20.8289, -65.9967,    -999,     -999,    -999,     -999,9,     -999,9,     -999,9,     -999,9,     -999,9,     -999,9,  28.6957,    -999,9,       -999,9,    -999,9,    -999,9
 316N200310,        A22,      37,          1,         31,         31,2,20031031,       2043,    20.8440,   -65.9962,       5446,    75.7,  27.7474,  36.6463,2,  36.6403,2,    205.0,2,   205.5,2,    1.04,2,    0.02,2,    0.00,2,    0.01,2,   1.713,2,   1.049,2,   0.151,2,  2028.1,2,  2399.8,2,    -999,9,     -999,9,    -999,9,    -999,9,    -999,9,    -999,    -999,9,    -999,9,    -999,9,   75.70,     2241,  20.8291, -65.9966,    -999,     -999,    -999,   0.1050,2,   0.0680,2,   0.0250,2,   0.0160,2,   0.0280,2,   0.0280,2,  27.7296,    -999,9,       -999,9,    -999,9,    -999,9
 316N200310,        A22,      37,          1,         30,         30,2,20031031,       2043,    20.8440,   -65.9962,       5446,   126.2,  25.2522,  37.1906,2,  37.1861,2,    196.6,2,   191.1,2,    0.73,2,    0.33,2,    0.07,2,    0.02,2,   1.833,6,   1.124,6,   0.136,6,    -999,9,    -999,9,    -999,9,     -999,9,    -999,9,    -999,9,    -999,9,    -999,    -999,9,    -999,9,    -999,9,  126.20,     2239,  20.8294, -65.9964,    -999,     -999,    -999,     -999,9,     -999,9,     -999,9,     -999,9,     -999,9,     -999,9,  25.2244,    -999,9,       -999,9,    -999,9,    -999,9
 316N200310,        A22,      37,          1,         29,         29,2,20031031,       2043,    20.8440,   -65.9962,       5446,   175.3,  22.8558,  37.1966,2,  37.1938,2,    178.1,2,   179.8,2,    0.53,2,    1.19,2,    0.02,2,    0.06,2,   2.015,2,   1.210,2,   0.095,2,  2115.6,2,  2426.8,2,    -999,9,     -999,9,    -999,9,    -999,9,    -999,9,    -999,    -999,9,    -999,9,    -999,9,  175.30,     2238,  20.8296, -65.9963,    -999,     -999,    -999,   0.1170,2,   0.0840,2,   0.0380,2,   0.0280,2,   0.0170,2,   0.0200,2,  22.8198,    -999,9,       -999,9,    -999,9,    -999,9
 316N200310,        A22,      37,          1,         28,         28,2,20031031,       2043,    20.8440,   -65.9962,       5446,   225.5,  21.2291,  37.0118,2,  37.0078,2,    173.7,2,   176.7,2,    0.62,2,    1.87,2,    0.01,2,    0.08,2,   2.115,2,   1.267,2,   0.052,2,    -999,9,    -999,9,    -999,9,     -999,9,    -999,9,    -999,9,    -999,9,    -999,    -999,9,    -999,9,    -999,9,  225.50,     2236,  20.8299, -65.9962,    -999,     -999,    -999,     -999,9,     -999,9,     -999,9,     -999,9,     -999,9,     -999,9,  21.1851,    -999,9,       -999,9,    -999,9,    -999,9
 316N200310,        A22,      37,          1,         27,         27,2,20031031,       2043,    20.8440,   -65.9962,       5446,   275.7,  19.2568,  36.7168,2,  36.7137,2,    171.7,2,   177.0,2,    1.11,2,    3.99,2,    0.01,2,    0.19,2,   2.251,2,   1.312,2,   0.024,2,  2121.3,2,  2397.4,2,    -999,9,     -999,9,    -999,9,    -999,9,    -999,9,    -999,    -999,9,    -999,9,    -999,9,  275.70,     2234,  20.8301, -65.9961,    -999,     -999,    -999,   0.0960,2,   0.0690,2,   0.0310,2,   0.0230,2,   0.0210,2,   0.0220,2,  19.2065,    -999,9,       -999,9,    -999,9,    -999,9
 316N200310,        A22,      37,          1,         26,         26,2,20031031,       2043,    20.8440,   -65.9962,       5446,   351.4,  17.3904,  36.4333,2,  36.4299,2,    176.5,2,   173.7,2,    2.00,2,    7.57,2,    0.01,2,    0.41,2,   2.307,2,   1.291,2,   0.031,2,    -999,9,    -999,9,    -999,9,     -999,9,    -999,9,    -999,9,    -999,9,    -999,    -999,9,    -999,9,    -999,9,  351.40,     2232,  20.8304, -65.9960,    -999,     -999,    -999,     -999,9,     -999,9,     -999,9,     -999,9,     -999,9,     -999,9,  17.3307,    -999,9,       -999,9,    -999,9,    -999,9
 316N200310,        A22,      37,          1,         25,         25,2,20031031,       2043,    20.8440,   -65.9962,       5446,   451.8,  15.3389,  36.0829,2,  36.0831,2,    164.9,2,   164.2,2,    3.70,2,   11.77,2,    0.01,2,    0.67,2,   2.175,2,   1.191,2,   0.032,2,  2147.0,2,  2365.2,2,    -999,9,     -999,9,    -999,9,    -999,9,    -999,9,    -999,    -999,9,    -999,9,    -999,9,  451.80,     2230,  20.8307, -65.9959,    -999,     -999,    -999,   0.0950,2,   0.0660,2,   0.0290,2,   0.0190,2,   0.0220,2,   0.0230,2,  15.2683,    -999,9,       -999,9,    -999,9,    -999,9
 316N200310,        A22,      37,          1,         24,         24,2,20031031,       2043,    20.8440,   -65.9962,       5446,   576.0,  12.6955,  35.6567,2,  35.6581,2,    146.3,2,   144.6,2,    7.30,2,   18.25,2,    0.01,2,    1.09,2,   1.551,2,   0.815,2,   0.016,2,    -999,9,    -999,9,    -999,9,     -999,9,    -999,9,    -999,9,    -999,9,    -999,    -999,9,    -999,9,    -999,9,  576.00,     2227,  20.8311, -65.9958,    -999,     -999,    -999,     -999,9,     -999,9,     -999,9,     -999,9,     -999,9,     -999,9,  12.6159,    -999,9,       -999,9,    -999,9,    -999,9
 316N200310,        A22,      37,          1,         23,         23,2,20031031,       2043,    20.8440,   -65.9962,       5446,   701.4,  10.0830,  35.3012,2,  35.3047,2,    137.0,2,   138.8,2,   12.22,2,   23.44,2,    0.01,2,    1.47,2,   0.805,2,   0.417,2,   0.009,2,  2186.2,2,  2328.8,2,    -999,9,     -999,9,    -999,9,    -999,9,    -999,9,    -999,    -999,9,    -999,9,    -999,9,  701.40,     2224,  20.8315, -65.9956,    -999,     -999,    -999,     -999,9,     -999,9,     -999,9,     -999,9,     -999,9,     -999,9,   9.9988,    -999,9,       -999,9,    -999,9,    -999,9
 316N200310,        A22,      37,          1,         22,         22,2,20031031,       2043,    20.8440,   -65.9962,       5446,   825.4,   8.2589,  35.0912,2,  35.0902,2,    134.1,2,   138.3,2,   16.65,2,   26.77,2,    0.00,2,    1.71,2,   0.384,2,   0.195,2,   0.018,2,    -999,9,    -999,9,    -999,9,     -999,9,    -999,9,    -999,9,    -999,9,    -999,    -999,9,    -999,9,    -999,9,  825.40,     2221,  20.8318, -65.9955,    -999,     -999,    -999,   0.1100,2,   0.0750,2,   0.0360,2,   0.0240,2,   0.0190,2,   0.0210,2,   8.1703,    -999,9,       -999,9,    -999,9,    -999,9
 316N200310,        A22,      37,          1,         21,         21,2,20031031,       2043,    20.8440,   -65.9962,       5446,   975.7,   6.7680,  34.9763,2,  34.9768,2,    154.3,2,   152.0,2,   19.47,2,   27.31,2,    0.00,2,    1.79,2,   0.241,2,   0.123,2,   0.012,2,  2201.5,2,  2320.4,2,    -999,9,     -999,9,    -999,9,    -999,9,    -999,9,    -999,    -999,9,    -999,9,    -999,9,  975.70,     2218,  20.8321, -65.9954,    -999,     -999,    -999,     -999,9,     -999,9,     -999,9,     -999,9,     -999,9,     -999,9,   6.6732,    -999,9,       -999,9,    -999,9,    -999,9
 316N200310,        A22,      37,          1,         20,         20,2,20031031,       2043,    20.8440,   -65.9962,       5446,  1125.5,   5.9223,  35.0233,2,  35.0230,2,    192.9,2,   189.9,2,   17.13,2,   23.35,2,    0.00,2,    1.53,2,   0.453,2,   0.225,2,   0.009,2,    -999,9,    -999,9,    -999,9,     -999,9,    -999,9,    -999,9,    -999,9,    -999,    -999,9,    -999,9,    -999,9, 1125.50,     2214,  20.8325, -65.9953,    -999,     -999,    -999,   0.1230,2,   0.0850,2,   0.0410,2,   0.0270,2,   0.0180,2,   0.0200,2,   5.8188,    -999,9,       -999,9,    -999,9,    -999,9
 316N200310,        A22,      37,          1,         19,         19,2,20031031,       2043,    20.8440,   -65.9962,       5446,  1276.5,   5.2351,  35.0549,2,  35.0553,2,    224.5,2,   224.9,2,   13.79,2,   19.85,2,    0.00,2,    1.30,2,   0.895,2,   0.442,2,   0.036,2,  2174.0,2,  2320.1,2,    -999,9,     -999,9,    -999,9,    -999,9,    -999,9,    -999,    -999,9,    -999,9,    -999,9, 1276.50,     2211,  20.8328, -65.9952,    -999,     -999,    -999,     -999,9,     -999,9,     -999,9,     -999,9,     -999,9,     -999,9,   5.1229,    -999,9,       -999,9,    -999,9,    -999,9
 316N200310,        A22,      37,          1,         18,         18,2,20031031,       2043,    20.8440,   -65.9962,       5446,  1425.2,   4.5684,  35.0258,2,  35.0281,2,    244.9,2,   244.8,2,   12.98,2,   18.65,2,    0.00,2,    1.23,2,   0.939,2,   0.462,2,   0.038,2,    -999,9,    -999,9,    -999,9,     -999,9,    -999,9,    -999,9,    -999,9,    -999,    -999,9,    -999,9,    -999,9, 1425.20,     2207,  20.8332, -65.9951,    -999,     -999,    -999,     -999,9,     -999,9,     -999,9,     -999,9,     -999,9,     -999,9,   4.4487,    -999,9,       -999,9,    -999,9,    -999,9
 316N200310,        A22,      37,          1,         17,         17,2,20031031,       2043,    20.8440,   -65.9962,       5446,  1575.7,   4.1395,  34.9960,2,  34.9965,2,    255.8,2,   256.1,2,   12.77,2,   18.00,2,    0.00,2,    1.19,2,   1.097,2,   0.541,2,   0.043,2,  2163.8,2,  2310.4,2,    -999,9,     -999,9,    -999,9,    -999,9,    -999,9,    -999,    -999,9,    -999,9,    -999,9, 1575.70,     2204,  20.8336, -65.9951,    -999,     -999,    -999,   0.1190,2,   0.0820,2,   0.0370,2,   0.0240,2,   0.0200,2,   0.0210,2,   4.0107,    -999,9,       -999,9,    -999,9,    -999,9
 316N200310,        A22,      37,          1,         16,         16,2,20031031,       2043,    20.8440,   -65.9962,       5446,  1725.4,   3.8868,  34.9822,2,  34.9837,2,    260.0,2,   259.7,2,   13.47,2,   17.91,2,    0.00,2,    1.18,2,   0.942,2,   0.455,2,   0.043,2,    -999,9,    -999,9,    -999,9,     -999,9,    -999,9,    -999,9,    -999,9,    -999,    -999,9,    -999,9,    -999,9, 1725.40,     2200,  20.8342, -65.9951,    -999,     -999,    -999,     -999,9,     -999,9,     -999,9,     -999,9,     -999,9,     -999,9,   3.7471,    -999,9,       -999,9,    -999,9,    -999,9
 316N200310,        A22,      37,          1,         15,         15,2,20031031,       2043,    20.8440,   -65.9962,       5446,  1900.5,   3.6970,  34.9761,2,  34.9770,2,    261.1,2,   261.0,2,   14.66,2,   17.96,2,    0.00,2,    1.18,2,   0.797,2,   0.401,2,   0.042,2,    -999,9,    -999,9,    -999,9,     -999,9,    -999,9,    -999,9,    -999,9,    -999,    -999,9,    -999,9,    -999,9, 1900.50,     2157,  20.8347, -65.9950,    -999,     -999,    -999,   0.1220,2,   0.0850,2,   0.0400,2,   0.0260,2,   0.0190,2,   0.0210,2,   3.5434,    -999,9,       -999,9,    -999,9,    -999,9
 316N200310,        A22,      37,          1,         14,         14,2,20031031,       2043,    20.8440,   -65.9962,       5446,  2125.8,   3.4756,  34.9712,2,  34.9723,2,    260.2,2,   261.1,2,   16.68,2,   18.15,2,    0.00,2,    1.20,2,   0.554,2,   0.273,2,   0.026,2,    -999,9,    -999,9,    -999,9,     -999,9,    -999,9,    -999,9,    -999,9,    -999,    -999,9,    -999,9,    -999,9, 2125.80,     2152,  20.8354, -65.9950,    -999,     -999,    -999,     -999,9,     -999,9,     -999,9,     -999,9,     -999,9,     -999,9,   3.3039,    -999,9,       -999,9,    -999,9,    -999,9
 316N200310,        A22,      37,          1,         13,         13,2,20031031,       2043,    20.8440,   -65.9962,       5446,  2376.1,   3.2312,  34.9619,2,  34.9632,2,    261.2,2,   260.0,2,   19.29,2,   18.30,2,    0.00,2,    1.22,2,   0.344,2,   0.167,2,   0.017,2,    -999,9,    -999,9,    -999,9,     -999,9,    -999,9,    -999,9,    -999,9,    -999,    -999,9,    -999,9,    -999,9, 2376.10,     2147,  20.8362, -65.9950,    -999,     -999,    -999,   0.1240,2,   0.0870,2,   0.0400,2,   0.0260,2,   0.0190,2,   0.0200,2,   3.0392,    -999,9,       -999,9,    -999,9,    -999,9
 316N200310,        A22,      37,          1,         12,         12,2,20031031,       2043,    20.8440,   -65.9962,       5446,  2628.9,   2.9638,  34.9445,2,  34.9453,2,    262.4,2,   262.9,2,   20.80,2,   18.20,2,    0.00,2,    1.21,2,   0.438,2,   0.217,2,   0.016,2,    -999,9,    -999,9,    -999,9,     -999,9,    -999,9,    -999,9,    -999,9,    -999,    -999,9,    -999,9,    -999,9, 2628.90,     2142,  20.8369, -65.9950,    -999,     -999,    -999,     -999,9,     -999,9,     -999,9,     -999,9,     -999,9,     -999,9,   2.7517,    -999,9,       -999,9,    -999,9,    -999,9
 316N200310,        A22,      37,          1,         11,         11,2,20031031,       2043,    20.8440,   -65.9962,       5446,  2875.4,   2.7732,  34.9323,2,  34.9321,2,    264.0,2,   264.6,2,   22.10,2,   18.15,2,    0.00,2,    1.21,2,   0.481,2,   0.240,2,   0.017,2,    -999,9,    -999,9,    -999,9,     -999,9,    -999,9,    -999,9,    -999,9,    -999,    -999,9,    -999,9,    -999,9, 2875.40,     2137,  20.8376, -65.9951,    -999,     -999,    -999,     -999,9,     -999,9,     -999,9,     -999,9,     -999,9,     -999,9,   2.5402,    -999,9,       -999,9,    -999,9,    -999,9
 316N200310,        A22,      37,          1,         10,         10,2,20031031,       2043,    20.8440,   -65.9962,       5446,  3125.4,   2.5962,  34.9208,2,  34.9229,2,    266.1,2,   266.7,2,   23.10,2,   18.00,2,    0.00,2,    1.20,2,   0.559,2,   0.281,2,   0.030,2,    -999,9,    -999,9,    -999,9,     -999,9,    -999,9,    -999,9,    -999,9,    -999,    -999,9,    -999,9,    -999,9, 3125.40,     2131,  20.8383, -65.9951,    -999,     -999,    -999,     -999,9,     -999,9,     -999,9,     -999,9,     -999,9,     -999,9,   2.3413,    -999,9,       -999,9,    -999,9,    -999,9
 316N200310,        A22,      37,          1,          9,          9,2,20031031,       2043,    20.8440,   -65.9962,       5446,  3376.8,   2.4487,  34.9109,2,  34.9107,2,    267.0,2,   267.4,2,   24.72,2,   18.10,2,    0.00,2,    1.21,2,   0.621,2,   0.306,2,   0.031,2,    -999,9,    -999,9,    -999,9,     -999,9,    -999,9,    -999,9,    -999,9,    -999,    -999,9,    -999,9,    -999,9, 3376.80,     2127,  20.8390, -65.9952,    -999,     -999,    -999,   0.1280,2,   0.0900,2,   0.0420,2,   0.0270,2,   0.0190,2,   0.0200,2,   2.1708,    -999,9,       -999,9,    -999,9,    -999,9
 316N200310,        A22,      37,          1,          8,          8,2,20031031,       2043,    20.8440,   -65.9962,       5446,  3626.4,   2.3733,  34.9046,2,  34.9056,2,    267.0,2,   267.4,2,   26.32,2,   18.20,2,    0.00,2,    1.22,2,   0.625,2,   0.303,2,   0.034,2,    -999,9,    -999,9,    -999,9,     -999,9,    -999,9,    -999,9,    -999,9,    -999,    -999,9,    -999,9,    -999,9, 3626.40,     2122,  20.8396, -65.9953,    -999,     -999,    -999,     -999,9,     -999,9,     -999,9,     -999,9,     -999,9,     -999,9,   2.0703,    -999,9,       -999,9,    -999,9,    -999,9
 316N200310,        A22,      37,          1,          7,          7,2,20031031,       2043,    20.8440,   -65.9962,       5446,  3875.4,   2.3278,  34.9000,2,  34.9006,2,    266.5,2,   266.9,2,   27.93,2,   18.39,2,    0.00,2,    1.24,2,   0.593,2,   0.287,2,   0.027,2,    -999,9,    -999,9,    -999,9,     -999,9,    -999,9,    -999,9,    -999,9,    -999,    -999,9,    -999,9,    -999,9, 3875.40,     2117,  20.8402, -65.9954,    -999,     -999,    -999,     -999,9,     -999,9,     -999,9,     -999,9,     -999,9,     -999,9,   1.9984,    -999,9,       -999,9,    -999,9,    -999,9
 316N200310,        A22,      37,          1,          6,          6,2,20031031,       2043,    20.8440,   -65.9962,       5446,  4125.9,   2.3094,  34.8967,2,  34.8963,2,    265.6,2,   266.5,2,   29.44,2,   18.55,2,    0.00,2,    1.25,2,   0.556,2,   0.276,2,   0.038,2,    -999,9,    -999,9,    -999,9,     -999,9,    -999,9,    -999,9,    -999,9,    -999,    -999,9,    -999,9,    -999,9, 4125.90,     2112,  20.8409, -65.9956,    -999,     -999,    -999,     -999,9,     -999,9,     -999,9,     -999,9,     -999,9,     -999,9,   1.9520,    -999,9,       -999,9,    -999,9,    -999,9
 316N200310,        A22,      37,          1,          5,          5,2,20031031,       2043,    20.8440,   -65.9962,       5446,  4375.1,   2.3038,  34.8938,2,  34.8932,2,    264.7,2,   264.8,2,   30.85,2,   18.70,2,    0.00,2,    1.27,2,   0.537,2,   0.268,2,   0.038,2,    -999,9,    -999,9,    -999,9,     -999,9,    -999,9,    -999,9,    -999,9,    -999,    -999,9,    -999,9,    -999,9, 4375.10,     2107,  20.8415, -65.9957,    -999,     -999,    -999,   0.1590,3,   0.1160,3,   0.0590,3,   0.0390,3,   0.0160,3,   0.0170,3,   1.9175,    -999,9,       -999,9,    -999,9,    -999,9
 316N200310,        A22,      37,          1,          4,          4,2,20031031,       2043,    20.8440,   -65.9962,       5446,  4626.2,   2.2882,  34.8899,2,  34.8906,2,    263.4,2,   263.1,2,   33.18,2,   19.04,2,    0.00,2,    1.29,2,   0.445,2,   0.227,2,   0.036,2,    -999,9,    -999,9,    -999,9,     -999,9,    -999,9,    -999,9,    -999,9,    -999,    -999,9,    -999,9,    -999,9, 4626.20,     2102,  20.8420, -65.9959,    -999,     -999,    -999,     -999,9,     -999,9,     -999,9,     -999,9,     -999,9,     -999,9,   1.8722,    -999,9,       -999,9,    -999,9,    -999,9
 316N200310,        A22,      37,          1,          3,          3,2,20031031,       2043,    20.8440,   -65.9962,       5446,  4901.5,   2.2721,  34.8845,2,  34.8861,2,    260.8,2,   260.7,2,   36.42,2,   19.65,2,    0.00,2,    1.33,2,   0.355,2,   0.174,2,   0.026,2,    -999,9,    -999,9,    -999,9,     -999,9,    -999,9,    -999,9,    -999,9,    -999,    -999,9,    -999,9,    -999,9, 4901.50,     2056,  20.8426, -65.9960,    -999,     -999,    -999,     -999,9,     -999,9,     -999,9,     -999,9,     -999,9,     -999,9,   1.8228,    -999,9,       -999,9,    -999,9,    -999,9
 316N200310,        A22,      37,          1,          2,          2,2,20031031,       2043,    20.8440,   -65.9962,       5446,  5200.4,   2.1953,  34.8708,2,  34.8701,2,    256.0,2,   255.7,2,   43.84,2,   20.80,2,    0.00,2,    1.42,2,   0.226,2,   0.126,2,   0.022,2,    -999,9,    -999,9,    -999,9,     -999,9,    -999,9,    -999,9,    -999,9,    -999,    -999,9,    -999,9,    -999,9, 5200.40,     2051,  20.8432, -65.9961,    -999,     -999,    -999,     -999,9,     -999,9,     -999,9,     -999,9,     -999,9,     -999,9,   1.7108,    -999,9,       -999,9,    -999,9,    -999,9