BOTTLE,20220517CCHSIOLMM
EXPOCODE,SECT_ID,STNNBR,CASTNO,SAMPNO,BTLNBR,BTLNBR_FLAG_W,DATE,TIME,LATITUDE,LONGITUDE,DEPTH,CTDPRS,CTDTMP,CTDSAL,CTDSAL_FLAG_W,SALNTY,SALNTY_FLAG_W,CTDOXY,CTDOXY_FLAG_W,OXYGEN,OXYGEN_FLAG_W,SILCAT,SILCAT_FLAG_W,NITRAT,NITRAT_FLAG_W,NITRIT,NITRIT_FLAG_W,PHSPHT,PHSPHT_FLAG_W,CFC-11,CFC-11_FLAG_W,CFC-12,CFC-12_FLAG_W,CFC113,CFC113_FLAG_W,TCARBN,TCARBN_FLAG_W,ALKALI,ALKALI_FLAG_W,TRITUM,TRITUM_FLAG_W,HELIUM,HELIUM_FLAG_W,DELHE3,DELHE3_FLAG_W,DELC13,DELC13_FLAG_W,DELC14,DELC14_FLAG_W,C14ERR,CCL4,CCL4_FLAG_W,DOC,DOC_FLAG_W,TDN,TDN_FLAG_W,CTDRAW,BTL_TIME,BTL_LAT,BTL_LON,TRITER,HELIER,DELHER,CDOM325,CDOM325_FLAG_W,CDOM340,CDOM340_FLAG_W,CDOM380,CDOM380_FLAG_W,CDOM412,CDOM412_FLAG_W,CDOMSL,CDOMSL_FLAG_W,CDOMSN,CDOMSN_FLAG_W,THETA,BACT,BACT_FLAG_W,PROC,PROC_FLAG_W,SYN,SYN_FLAG_W,PEUK,PEUK_FLAG_W
,,,,,,,,,,,METERS,DBAR,ITS-90,PSS-78,,PSS-78,,UMOL/KG,,UMOL/KG,,UMOL/KG,,UMOL/KG,,UMOL/KG,,UMOL/KG,,PMOL/KG,,PMOL/KG,,PMOL/KG,,UMOL/KG,,UMOL/KG,,TU,,NMOL/KG,,PERCNT,,/MILLE,,/MILLE,,/MILLE,PMOL/KG,,UMOL/KG,,UMOL/KG,,DBAR,,,,TU,NMOL/KG,PERCNT,1/M,,1/M,,1/M,,1/M,,1/NM,,1/NM,,DEG C,E8/L,,E7/L,,E6/L,,E6/L,
 316N200310,        A22,      13,          1,         36,         36,2,20031026,       2305,    15.0263,   -66.0000,       4779,     2.5,  29.7777,  33.4801,2,  33.4795,2,    199.6,2,   198.1,2,    4.90,2,    0.10,2,    0.00,2,    0.02,2,   1.399,2,   0.888,2,   0.093,2,  1882.3,2,  2205.9,6,    -999,9,     -999,9,    -999,9,    -999,9,    -999,9,    -999,   1.202,2,    -999,9,    -999,9,    2.50,      100,  15.0402, -65.9994,    -999,     -999,    -999,   0.5310,2,   0.3850,2,   0.1730,2,   0.0940,2,   0.0190,2,   0.0200,2,  29.7771,    -999,9,       -999,9,    -999,9,    -999,9
 316N200310,        A22,      13,          1,         35,         35,2,20031026,       2305,    15.0263,   -66.0000,       4779,    25.6,  29.9992,  34.7750,2,  34.7184,2,    202.6,2,   200.0,2,    2.18,2,    0.09,2,    0.00,2,    0.02,2,   1.440,2,   0.894,2,   0.080,2,    -999,9,    -999,9,    -999,9,     -999,9,    -999,9,    -999,9,    -999,9,    -999,   1.094,2,    -999,9,    -999,9,   25.60,       58,  15.0399, -65.9995,    -999,     -999,    -999,   0.2710,2,   0.1950,2,   0.0900,2,   0.0560,2,   0.0170,2,   0.0190,2,  29.9928,    -999,9,       -999,9,    -999,9,    -999,9
 316N200310,        A22,      13,          1,         34,         34,2,20031026,       2305,    15.0263,   -66.0000,       4779,    50.6,  28.1466,  36.1505,2,  36.1670,2,    197.7,2,   199.6,2,    0.67,2,    0.06,2,    0.03,2,    0.03,2,   1.484,2,   0.954,2,   0.078,2,    -999,9,    -999,9,    -999,9,     -999,9,    -999,9,    -999,9,    -999,9,    -999,   0.713,2,    -999,9,    -999,9,   50.60,       56,  15.0397, -65.9995,    -999,     -999,    -999,   0.1600,2,   0.1140,2,   0.0530,2,   0.0360,2,   0.0170,2,   0.0190,2,  28.1346,    -999,9,       -999,9,    -999,9,    -999,9
 316N200310,        A22,      13,          1,         33,         33,2,20031026,       2305,    15.0263,   -66.0000,       4779,    75.6,  26.9409,  36.6491,2,  36.6564,2,    193.7,2,   191.1,2,    0.58,2,    0.24,2,    0.19,2,    0.04,2,   1.524,2,   0.972,2,   0.081,2,    -999,9,    -999,9,    -999,9,     -999,9,    -999,9,    -999,9,    -999,9,    -999,   0.672,2,    -999,9,    -999,9,   75.60,       54,  15.0394, -65.9995,    -999,     -999,    -999,   0.1430,2,   0.1030,2,   0.0490,2,   0.0340,2,   0.0160,2,   0.0180,2,  26.9235,    -999,9,       -999,9,    -999,9,    -999,9
 316N200310,        A22,      13,          1,         32,         32,2,20031026,       2305,    15.0263,   -66.0000,       4779,   100.8,  25.5450,  36.8713,2,  36.8720,2,    179.8,2,   181.2,2,    0.59,2,    1.39,2,    0.04,2,    0.10,2,   1.604,2,   1.026,2,   0.087,2,  1976.0,3,  2411.1,3,    -999,9,     -999,9,    -999,9,    -999,9,    -999,9,    -999,   0.458,2,    -999,9,    -999,9,  100.80,       53,  15.0391, -65.9995,    -999,     -999,    -999,   0.1350,2,   0.0980,2,   0.0480,2,   0.0360,2,   0.0150,2,   0.0170,2,  25.5226,    -999,9,       -999,9,    -999,9,    -999,9
 316N200310,        A22,      13,          1,         31,         31,2,20031026,       2305,    15.0263,   -66.0000,       4779,   125.8,  24.2816,  37.2153,2,  37.2089,2,    187.7,2,   187.1,2,    0.28,2,    1.13,2,    0.05,2,    0.07,2,   1.693,2,   1.070,2,   0.088,2,    -999,9,    -999,9,    -999,9,     -999,9,    -999,9,    -999,9,    -999,9,    -999,   0.426,2,    -999,9,    -999,9,  125.80,       51,  15.0389, -65.9996,    -999,     -999,    -999,   0.1370,2,   0.1010,2,   0.0500,2,   0.0370,2,   0.0150,2,   0.0170,2,  24.2547,    -999,9,       -999,9,    -999,9,    -999,9
 316N200310,        A22,      13,          1,         30,         30,2,20031026,       2305,    15.0263,   -66.0000,       4779,   175.4,  20.8634,  36.8123,2,  36.8064,2,    155.6,2,   153.4,2,    1.59,2,    6.11,2,    0.02,2,    0.34,2,   1.844,2,   1.120,2,   0.024,2,  2141.2,2,  2405.5,2,    -999,9,     -999,9,    -999,9,    -999,9,    -999,9,    -999,   0.146,2,    -999,9,    -999,9,  175.40,       49,  15.0386, -65.9996,    -999,     -999,    -999,   0.1500,2,   0.1120,2,   0.0590,2,   0.0450,2,   0.0130,2,   0.0150,2,  20.8297,    -999,9,       -999,9,    -999,9,    -999,9
 316N200310,        A22,      13,          1,         29,         29,2,20031026,       2305,    15.0263,   -66.0000,       4779,   225.5,  18.1379,  36.4738,2,  36.4703,2,    143.8,2,   148.0,2,    2.59,2,    9.72,2,    0.01,2,    0.54,2,   1.905,2,   1.131,2,   0.007,2,    -999,9,    -999,9,    -999,9,     -999,9,    -999,9,    -999,9,    -999,9,    -999,   0.177,2,    -999,9,    -999,9,  225.50,       47,  15.0383, -65.9997,    -999,     -999,    -999,     -999,9,     -999,9,     -999,9,     -999,9,     -999,9,     -999,9,  18.0986,    -999,9,       -999,9,    -999,9,    -999,9
 316N200310,        A22,      13,          1,         28,         28,2,20031026,       2305,    15.0263,   -66.0000,       4779,   275.4,  16.3965,  36.1682,2,  36.1636,2,    144.0,2,   143.4,2,    3.99,2,   12.92,2,    0.01,2,    0.76,2,   1.836,2,   1.055,2,   0.006,2,  2158.5,2,  2365.4,2,    -999,9,     -999,9,    -999,9,    -999,9,    -999,9,    -999,   0.188,2,    -999,9,    -999,9,  275.40,       45,  15.0381, -65.9997,    -999,     -999,    -999,     -999,9,     -999,9,     -999,9,     -999,9,     -999,9,     -999,9,  16.3517,    -999,9,       -999,9,    -999,9,    -999,9
 316N200310,        A22,      13,          1,         27,         27,2,20031026,       2305,    15.0263,   -66.0000,       4779,   351.1,  14.0478,  35.7717,2,  35.7677,2,    132.1,2,   132.2,2,    6.61,2,   17.95,2,    0.01,2,    1.09,2,   1.497,2,   0.848,2,   0.011,2,    -999,9,    -999,9,    -999,9,     -999,9,    -999,9,    -999,9,    -999,9,    -999,   0.185,2,    -999,9,    -999,9,  351.10,       43,  15.0378, -65.9997,    -999,     -999,    -999,   0.1260,2,   0.0910,2,   0.0470,2,   0.0350,2,   0.0140,2,   0.0160,2,  13.9964,    -999,9,       -999,9,    -999,9,    -999,9
 316N200310,        A22,      13,          1,         26,         26,2,20031026,       2305,    15.0263,   -66.0000,       4779,   450.7,  11.4224,  35.3645,2,  35.3599,2,    125.5,2,   125.8,2,   10.32,2,   23.15,2,    0.00,2,    1.45,2,   1.033,2,   0.588,2,   0.006,2,    -999,9,    -999,9,    -999,9,     -999,9,    -999,9,    -999,9,    -999,9,    -999,   0.164,2,    -999,9,    -999,9,  450.70,       41,  15.0375, -65.9996,    -999,     -999,    -999,     -999,9,     -999,9,     -999,9,     -999,9,     -999,9,     -999,9,  11.3646,    -999,9,       -999,9,    -999,9,    -999,9
 316N200310,        A22,      13,          1,         25,         25,2,20031026,       2305,    15.0263,   -66.0000,       4779,   550.9,   8.9859,  34.9937,2,  34.9911,2,    120.0,2,   120.5,2,   15.35,2,   28.40,2,    0.00,2,    1.83,2,   0.629,2,   0.365,2,   0.009,2,  2203.1,2,  2310.1,2,    -999,9,     -999,9,    -999,9,    -999,9,    -999,9,    -999,   0.200,2,    -999,9,    -999,9,  550.90,       38,  15.0372, -65.9994,    -999,     -999,    -999,   0.1730,3,   0.1290,3,   0.0700,2,   0.0490,2,   0.0140,3,   0.0150,3,   8.9249,    -999,9,       -999,9,    -999,9,    -999,9
 316N200310,        A22,      13,          1,         24,         24,2,20031026,       2305,    15.0263,   -66.0000,       4779,   725.9,   6.6464,  34.7739,2,  34.7734,2,    127.5,2,   128.6,2,   22.20,2,   31.80,2,    0.00,2,    2.10,2,   0.175,2,   0.105,2,   0.002,2,  2214.3,2,    -999,9,    -999,9,     -999,9,    -999,9,    -999,9,    -999,9,    -999,   0.147,2,    -999,9,    -999,9,  725.90,       34,  15.0368, -65.9992,    -999,     -999,    -999,     -999,9,     -999,9,     -999,9,     -999,9,     -999,9,     -999,9,   6.5780,    -999,9,       -999,9,    -999,9,    -999,9
 316N200310,        A22,      13,          1,         23,         23,2,20031026,       2305,    15.0263,   -66.0000,       4779,   850.8,   5.9118,  34.8296,2,  34.8300,2,    146.2,2,   147.1,2,   23.50,2,   29.95,2,    0.00,2,    2.00,2,   0.105,2,   0.065,2,   0.001,2,    -999,9,    -999,9,    -999,9,     -999,9,    -999,9,    -999,9,    -999,9,    -999,   0.089,2,    -999,9,    -999,9,  850.80,       31,  15.0365, -65.9991,    -999,     -999,    -999,   0.1740,2,   0.1290,2,   0.0700,2,   0.0490,2,   0.0140,2,   0.0150,2,   5.8355,    -999,9,       -999,9,    -999,9,    -999,9
 316N200310,        A22,      13,          1,         22,         22,2,20031026,       2305,    15.0263,   -66.0000,       4779,   975.9,   5.4029,  34.9135,2,  34.9130,2,    171.6,2,   171.1,2,   23.50,2,   26.82,2,    0.00,2,    1.81,2,   0.078,2,   0.048,2,   0.017,4,    -999,9,    -999,9,    -999,9,     -999,9,    -999,9,    -999,9,    -999,9,    -999,   0.097,2,    -999,9,    -999,9,  975.90,       28,  15.0362, -65.9990,    -999,     -999,    -999,     -999,9,     -999,9,     -999,9,     -999,9,     -999,9,     -999,9,   5.3181,    -999,9,       -999,9,    -999,9,    -999,9
 316N200310,        A22,      13,          1,         21,         21,2,20031026,       2305,    15.0263,   -66.0000,       4779,  1126.0,   4.7530,  34.9523,2,  34.9542,2,    193.4,2,   194.3,2,   24.21,2,   24.38,2,    0.00,2,    1.65,2,   0.054,2,   0.033,2,   0.001,2,    -999,9,    -999,9,    -999,9,     -999,9,    -999,9,    -999,9,    -999,9,    -999,   0.095,2,    -999,9,    -999,9, 1126.00,       25,  15.0358, -65.9989,    -999,     -999,    -999,   0.1740,2,   0.1290,2,   0.0700,2,   0.0490,2,   0.0140,2,   0.0150,2,   4.6595,    -999,9,       -999,9,    -999,9,    -999,9
 316N200310,        A22,      13,          1,         20,         20,2,20031026,       2305,    15.0263,   -66.0000,       4779,  1275.6,   4.4521,  34.9632,2,  34.9626,2,    203.1,2,   202.1,2,   25.11,2,   23.46,2,    0.00,2,    1.60,2,   0.041,2,   0.033,2,  -0.002,2,    -999,9,    -999,9,    -999,9,     -999,9,    -999,9,    -999,9,    -999,9,    -999,   0.085,2,    -999,9,    -999,9, 1275.60,       21,  15.0354, -65.9989,    -999,     -999,    -999,     -999,9,     -999,9,     -999,9,     -999,9,     -999,9,     -999,9,   4.3477,    -999,9,       -999,9,    -999,9,    -999,9
 316N200310,        A22,      13,          1,         19,         19,2,20031026,       2305,    15.0263,   -66.0000,       4779,  1401.3,   4.3189,  34.9683,2,  34.9695,2,    206.6,2,   206.6,2,   25.51,2,   23.05,2,    0.00,2,    1.56,2,   0.040,2,   0.025,2,   0.000,2,    -999,9,    -999,9,    -999,9,     -999,9,    -999,9,    -999,9,    -999,9,    -999,   0.085,2,    -999,9,    -999,9, 1401.30,       18,  15.0350, -65.9990,    -999,     -999,    -999,     -999,9,     -999,9,     -999,9,     -999,9,     -999,9,     -999,9,   4.2042,    -999,9,       -999,9,    -999,9,    -999,9
 316N200310,        A22,      13,          1,         18,         18,2,20031026,       2305,    15.0263,   -66.0000,       4779,  1500.7,   4.2475,  34.9704,2,  34.9719,2,    208.5,2,   208.8,2,   26.02,2,   22.86,2,    0.00,2,    1.55,2,   0.034,2,   0.025,2,   0.000,2,    -999,9,    -999,9,    -999,9,     -999,9,    -999,9,    -999,9,    -999,9,    -999,   0.083,2,    -999,9,    -999,9, 1500.70,       16,  15.0347, -65.9990,    -999,     -999,    -999,   0.1720,2,   0.1280,2,   0.0690,2,   0.0480,2,   0.0140,2,   0.0150,2,   4.1244,    -999,9,       -999,9,    -999,9,    -999,9
 316N200310,        A22,      13,          1,         17,         17,2,20031026,       2305,    15.0263,   -66.0000,       4779,  1625.8,   4.1898,  34.9726,2,  34.9734,2,    210.5,2,   210.8,2,   26.22,2,   22.70,2,    0.00,2,    1.53,2,   0.027,2,   0.026,2,   0.001,2,    -999,9,    -999,9,    -999,9,     -999,9,    -999,9,    -999,9,    -999,9,    -999,   0.070,2,    -999,9,    -999,9, 1625.80,       12,  15.0342, -65.9989,    -999,     -999,    -999,     -999,9,     -999,9,     -999,9,     -999,9,     -999,9,     -999,9,   4.0557,    -999,9,       -999,9,    -999,9,    -999,9
 316N200310,        A22,      13,          1,         16,         16,2,20031026,       2305,    15.0263,   -66.0000,       4779,  1776.1,   4.1438,  34.9738,2,  34.9766,2,    212.3,2,   212.2,2,   26.63,2,   22.49,2,    0.00,2,    1.52,2,   0.024,2,   0.021,2,   0.001,2,    -999,9,    -999,9,    -999,9,     -999,9,    -999,9,    -999,9,    -999,9,    -999,   0.078,2,    -999,9,    -999,9, 1776.10,        9,  15.0338, -65.9987,    -999,     -999,    -999,     -999,9,     -999,9,     -999,9,     -999,9,     -999,9,     -999,9,   3.9960,    -999,9,       -999,9,    -999,9,    -999,9
 316N200310,        A22,      13,          1,         15,         15,2,20031026,       2305,    15.0263,   -66.0000,       4779,  1926.5,   4.1189,  34.9748,2,  34.9752,2,    213.3,2,   213.6,2,   26.93,2,   22.39,2,    0.00,2,    1.51,2,   0.022,2,   0.023,2,   0.001,2,  2196.7,2,  2334.0,2,    -999,9,     -999,9,    -999,9,    -999,9,    -999,9,    -999,   0.060,2,    -999,9,    -999,9, 1926.50,        5,  15.0335, -65.9985,    -999,     -999,    -999,     -999,9,     -999,9,     -999,9,     -999,9,     -999,9,     -999,9,   3.9569,    -999,9,       -999,9,    -999,9,    -999,9
 316N200310,        A22,      13,          1,         14,         14,2,20031026,       2305,    15.0263,   -66.0000,       4779,  2126.4,   4.1085,  34.9755,2,  34.9756,2,    214.3,2,   214.8,2,   27.03,2,   22.29,2,    0.00,2,    1.50,2,   0.029,6,   0.023,6,   0.005,6,    -999,9,    -999,9,    -999,9,     -999,9,    -999,9,    -999,9,    -999,9,    -999,   0.065,2,    -999,9,    -999,9, 2126.40,        1,  15.0330, -65.9985,    -999,     -999,    -999,   0.1720,2,   0.1270,2,   0.0680,2,   0.0470,2,   0.0140,2,   0.0150,2,   3.9268,    -999,9,       -999,9,    -999,9,    -999,9
 316N200310,        A22,      13,          1,         13,         13,2,20031026,       2305,    15.0263,   -66.0000,       4779,  2375.5,   4.1119,  34.9760,2,  34.9774,2,    214.7,2,   215.0,2,   27.33,2,   22.08,2,    0.00,2,    1.50,2,   0.021,2,   0.036,2,   0.003,2,    -999,9,    -999,9,    -999,9,     -999,9,    -999,9,    -999,9,    -999,9,    -999,   0.068,2,    -999,9,    -999,9, 2375.50,     2356,  15.0324, -65.9985,    -999,     -999,    -999,     -999,9,     -999,9,     -999,9,     -999,9,     -999,9,     -999,9,   3.9047,    -999,9,       -999,9,    -999,9,    -999,9
 316N200310,        A22,      13,          1,         12,         12,2,20031026,       2305,    15.0263,   -66.0000,       4779,  2625.9,   4.1280,  34.9762,2,  34.9768,2,    214.8,2,   215.0,2,   27.73,2,   22.08,2,    0.00,2,    1.50,2,   0.020,2,   0.026,2,   0.000,2,    -999,9,    -999,9,    -999,9,     -999,9,    -999,9,    -999,9,    -999,9,    -999,   0.061,2,    -999,9,    -999,9, 2625.90,     2351,  15.0317, -65.9984,    -999,     -999,    -999,     -999,9,     -999,9,     -999,9,     -999,9,     -999,9,     -999,9,   3.8940,    -999,9,       -999,9,    -999,9,    -999,9
 316N200310,        A22,      13,          1,         11,         11,2,20031026,       2305,    15.0263,   -66.0000,       4779,  2876.0,   4.1496,  34.9764,2,  34.9758,2,    214.8,2,   214.6,2,   27.94,2,   22.07,2,    0.00,2,    1.50,2,   0.017,2,   0.024,2,   0.005,2,    -999,9,    -999,9,    -999,9,     -999,9,    -999,9,    -999,9,    -999,9,    -999,   0.055,2,    -999,9,    -999,9, 2876.00,     2346,  15.0311, -65.9984,    -999,     -999,    -999,   0.1710,2,   0.1270,2,   0.0680,2,   0.0470,2,   0.0140,2,   0.0150,2,   3.8879,    -999,9,       -999,9,    -999,9,    -999,9
 316N200310,        A22,      13,          1,         10,         10,2,20031026,       2305,    15.0263,   -66.0000,       4779,  3100.8,   4.1720,  34.9766,2,  34.9774,2,    214.9,2,   214.9,2,   27.94,2,   22.07,2,    0.00,2,    1.50,2,   0.019,2,   0.020,2,   0.001,2,    -999,9,    -999,9,    -999,9,     -999,9,    -999,9,    -999,9,    -999,9,    -999,   0.049,2,    -999,9,    -999,9, 3100.80,     2341,  15.0306, -65.9985,    -999,     -999,    -999,     -999,9,     -999,9,     -999,9,     -999,9,     -999,9,     -999,9,   3.8847,    -999,9,       -999,9,    -999,9,    -999,9
 316N200310,        A22,      13,          1,          9,          9,2,20031026,       2305,    15.0263,   -66.0000,       4779,  3300.1,   4.1929,  34.9767,2,  34.9766,2,    215.2,2,   215.4,2,   27.94,2,   22.03,2,    0.00,2,    1.50,2,   0.020,2,   0.020,2,   0.003,2,    -999,9,    -999,9,    -999,9,     -999,9,    -999,9,    -999,9,    -999,9,    -999,   0.054,2,    -999,9,    -999,9, 3300.10,     2337,  15.0302, -65.9990,    -999,     -999,    -999,     -999,9,     -999,9,     -999,9,     -999,9,     -999,9,     -999,9,   3.8822,    -999,9,       -999,9,    -999,9,    -999,9
 316N200310,        A22,      13,          1,          8,          8,2,20031026,       2305,    15.0263,   -66.0000,       4779,  3500.0,   4.2151,  34.9768,2,  34.9778,2,    215.3,2,   215.3,2,   27.94,2,   22.03,2,    0.00,2,    1.49,2,   0.021,2,   0.029,2,   0.002,2,    -999,9,    -999,9,    -999,9,     -999,9,    -999,9,    -999,9,    -999,9,    -999,   0.054,2,    -999,9,    -999,9, 3500.00,     2333,  15.0298, -65.9998,    -999,     -999,    -999,     -999,9,     -999,9,     -999,9,     -999,9,     -999,9,     -999,9,   3.8802,    -999,9,       -999,9,    -999,9,    -999,9
 316N200310,        A22,      13,          1,          7,          7,2,20031026,       2305,    15.0263,   -66.0000,       4779,  3700.5,   4.2378,  34.9770,2,  34.9764,2,    215.5,2,   215.7,2,   27.94,2,   22.03,2,    0.00,2,    1.50,2,   0.021,6,   0.025,6,   0.004,6,    -999,9,    -999,9,    -999,9,     -999,9,    -999,9,    -999,9,    -999,9,    -999,   0.057,6,    -999,9,    -999,9, 3700.50,     2329,  15.0295, -66.0006,    -999,     -999,    -999,   0.1580,2,   0.1140,2,   0.0580,2,   0.0390,2,   0.0150,2,   0.0170,2,   3.8783,    -999,9,       -999,9,    -999,9,    -999,9
 316N200310,        A22,      13,          1,          6,          6,2,20031026,       2305,    15.0263,   -66.0000,       4779,  3900.6,   4.2619,  34.9771,2,  34.9764,2,    215.6,2,   215.8,2,   28.03,2,   21.97,2,    0.00,2,    1.49,2,   0.022,2,   0.029,2,   0.004,2,    -999,9,    -999,9,    -999,9,     -999,9,    -999,9,    -999,9,    -999,9,    -999,   0.056,2,    -999,9,    -999,9, 3900.60,     2325,  15.0290, -66.0009,    -999,     -999,    -999,     -999,9,     -999,9,     -999,9,     -999,9,     -999,9,     -999,9,   3.8772,    -999,9,       -999,9,    -999,9,    -999,9
 316N200310,        A22,      13,          1,          5,          5,2,20031026,       2305,    15.0263,   -66.0000,       4779,  4125.4,   4.2889,  34.9773,2,  34.9784,2,    215.8,2,   215.9,2,   28.03,2,   21.97,2,    0.00,2,    1.49,2,   0.024,2,   0.023,2,   0.002,2,    -999,9,    -999,9,    -999,9,     -999,9,    -999,9,    -999,9,    -999,9,    -999,   0.064,2,    -999,9,    -999,9, 4125.40,     2320,  15.0284, -66.0008,    -999,     -999,    -999,     -999,9,     -999,9,     -999,9,     -999,9,     -999,9,     -999,9,   3.8752,    -999,9,       -999,9,    -999,9,    -999,9