BOTTLE,20220517CCHSIOLMM
EXPOCODE,SECT_ID,STNNBR,CASTNO,SAMPNO,BTLNBR,BTLNBR_FLAG_W,DATE,TIME,LATITUDE,LONGITUDE,DEPTH,CTDPRS,CTDTMP,CTDSAL,CTDSAL_FLAG_W,SALNTY,SALNTY_FLAG_W,CTDOXY,CTDOXY_FLAG_W,OXYGEN,OXYGEN_FLAG_W,SILCAT,SILCAT_FLAG_W,NITRAT,NITRAT_FLAG_W,NITRIT,NITRIT_FLAG_W,PHSPHT,PHSPHT_FLAG_W,CFC-11,CFC-11_FLAG_W,CFC-12,CFC-12_FLAG_W,CFC113,CFC113_FLAG_W,TCARBN,TCARBN_FLAG_W,ALKALI,ALKALI_FLAG_W,TRITUM,TRITUM_FLAG_W,HELIUM,HELIUM_FLAG_W,DELHE3,DELHE3_FLAG_W,DELC13,DELC13_FLAG_W,DELC14,DELC14_FLAG_W,C14ERR,CCL4,CCL4_FLAG_W,DOC,DOC_FLAG_W,TDN,TDN_FLAG_W,CTDRAW,BTL_TIME,BTL_LAT,BTL_LON,TRITER,HELIER,DELHER,CDOM325,CDOM325_FLAG_W,CDOM340,CDOM340_FLAG_W,CDOM380,CDOM380_FLAG_W,CDOM412,CDOM412_FLAG_W,CDOMSL,CDOMSL_FLAG_W,CDOMSN,CDOMSN_FLAG_W,THETA,BACT,BACT_FLAG_W,PROC,PROC_FLAG_W,SYN,SYN_FLAG_W,PEUK,PEUK_FLAG_W
,,,,,,,,,,,METERS,DBAR,ITS-90,PSS-78,,PSS-78,,UMOL/KG,,UMOL/KG,,UMOL/KG,,UMOL/KG,,UMOL/KG,,UMOL/KG,,PMOL/KG,,PMOL/KG,,PMOL/KG,,UMOL/KG,,UMOL/KG,,TU,,NMOL/KG,,PERCNT,,/MILLE,,/MILLE,,/MILLE,PMOL/KG,,UMOL/KG,,UMOL/KG,,DBAR,,,,TU,NMOL/KG,PERCNT,1/M,,1/M,,1/M,,1/M,,1/NM,,1/NM,,DEG C,E8/L,,E7/L,,E6/L,,E6/L,
 316N200310,        A22,      41,          1,         36,         36,2,20031102,       0456,    23.5372,   -65.9972,       5833,     2.5,  28.2392,  36.5880,2,  36.5862,2,    198.2,2,   197.2,2,    0.70,2,    0.20,2,    0.00,2,    0.01,2,   1.568,2,   0.961,2,   0.137,2,  2022.3,2,  2397.8,2,    -999,9,     -999,9,    -999,9,    1.50,2,    78.6,2,     3.6,    -999,9,    -999,9,    -999,9,    2.50,      708,  23.5464, -65.9990,    -999,     -999,    -999,   0.0450,2,   0.0270,2,   0.0070,2,   0.0040,2,   0.0340,2,   0.0340,2,  28.2386,    -999,9,       -999,9,    -999,9,    -999,9
 316N200310,        A22,      41,          1,         35,         35,2,20031102,       0456,    23.5372,   -65.9972,       5833,    25.0,  28.2503,  36.5880,2,  36.5878,2,    198.7,2,   196.6,2,    0.60,2,    0.20,2,    0.00,2,    0.01,2,   1.571,2,   0.967,2,   0.137,2,    -999,9,    -999,9,    -999,9,     -999,9,    -999,9,    -999,9,    -999,9,    -999,    -999,9,    -999,9,    -999,9,   25.00,      706,  23.5463, -65.9990,    -999,     -999,    -999,   0.0490,2,   0.0310,2,   0.0100,2,   0.0070,2,   0.0310,2,   0.0320,2,  28.2443,    -999,9,       -999,9,    -999,9,    -999,9
 316N200310,        A22,      41,          1,         34,         34,2,20031102,       0456,    23.5372,   -65.9972,       5833,    50.5,  27.5158,  36.9932,2,  36.9824,2,    209.0,2,   207.2,2,    0.59,2,    0.25,2,    0.00,2,    0.01,2,   1.677,2,   1.021,2,   0.138,2,  2043.5,2,  2420.3,2,    -999,9,     -999,9,    -999,9,    -999,9,    -999,9,    -999,    -999,9,    -999,9,    -999,9,   50.50,      705,  23.5462, -65.9990,    -999,     -999,    -999,   0.0710,2,   0.0450,2,   0.0140,2,   0.0090,2,   0.0310,2,   0.0310,2,  27.5039,    -999,9,       -999,9,    -999,9,    -999,9
 316N200310,        A22,      41,          1,         33,         33,2,20031102,       0456,    23.5372,   -65.9972,       5833,    74.3,  26.4934,  37.0407,2,  37.0168,2,    207.2,2,   211.7,2,    0.49,2,    0.25,2,    0.00,2,    0.01,2,   1.761,6,   1.081,6,   0.135,6,    -999,9,    -999,9,    -999,9,     -999,9,    -999,9,    -999,9,    -999,9,    -999,    -999,9,    -999,9,    -999,9,   74.30,      704,  23.5461, -65.9990,    -999,     -999,    -999,   0.0960,2,   0.0620,2,   0.0230,2,   0.0140,2,   0.0280,2,   0.0280,2,  26.4765,    -999,9,       -999,9,    -999,9,    -999,9
 316N200310,        A22,      41,          1,         32,         32,2,20031102,       0456,    23.5372,   -65.9972,       5833,   125.0,  23.5932,  37.0366,2,  37.0305,2,    197.2,2,   197.1,2,    0.38,2,    0.21,2,    0.10,2,    0.01,2,   1.951,2,   1.167,2,   0.143,2,  2083.1,2,  2419.4,2,    -999,9,     -999,9,    -999,9,    -999,9,    -999,9,    -999,    -999,9,    -999,9,    -999,9,  125.00,      702,  23.5460, -65.9989,    -999,     -999,    -999,   0.1210,2,   0.0850,2,   0.0370,2,   0.0280,2,   0.0190,2,   0.0210,2,  23.5669,    -999,9,       -999,9,    -999,9,    -999,9
 316N200310,        A22,      41,          1,         31,         31,2,20031102,       0456,    23.5372,   -65.9972,       5833,   175.4,  21.0611,  36.9142,2,  36.9133,2,    183.0,2,   183.7,2,    0.48,2,    1.32,2,    0.02,2,    0.04,2,   2.085,6,   1.258,6,   0.064,6,  2107.6,2,  2410.0,2,    -999,9,     -999,9,    -999,9,    -999,9,    -999,9,    -999,   0.359,2,    -999,9,    -999,9,  175.40,      700,  23.5459, -65.9989,    -999,     -999,    -999,     -999,9,     -999,9,     -999,9,     -999,9,     -999,9,     -999,9,  21.0271,    -999,9,       -999,9,    -999,9,    -999,9
 316N200310,        A22,      41,          1,         30,         30,2,20031102,       0456,    23.5372,   -65.9972,       5833,   224.9,  19.3841,  36.6875,2,  36.6806,2,    185.7,2,   186.3,2,    0.66,2,    2.96,2,    0.01,2,    0.10,2,   2.246,2,   1.307,2,   0.025,2,    -999,9,    -999,9,    -999,9,     -999,9,    -999,9,    -999,9,    -999,9,    -999,    -999,9,    -999,9,    -999,9,  224.90,      658,  23.5457, -65.9989,    -999,     -999,    -999,     -999,9,     -999,9,     -999,9,     -999,9,     -999,9,     -999,9,  19.3430,    -999,9,       -999,9,    -999,9,    -999,9
 316N200310,        A22,      41,          1,         29,         29,2,20031102,       0456,    23.5372,   -65.9972,       5833,   274.0,  18.7103,  36.6386,2,  36.6429,2,    171.3,2,   170.3,2,    1.26,2,    5.98,2,    0.01,2,    0.28,2,   2.228,2,   1.279,2,   0.024,2,  2129.0,3,  2393.6,2,    -999,9,     -999,9,    -999,9,    -999,9,    -999,9,    -999,    -999,9,    -999,9,    -999,9,  274.00,      656,  23.5456, -65.9989,    -999,     -999,    -999,   0.1070,2,   0.0760,2,   0.0360,2,   0.0260,2,   0.0190,2,   0.0200,2,  18.6614,    -999,9,       -999,9,    -999,9,    -999,9
 316N200310,        A22,      41,          1,         28,         28,2,20031102,       0456,    23.5372,   -65.9972,       5833,   349.4,  17.2621,  36.4111,2,  36.4117,2,    176.0,2,   177.3,2,    1.84,2,    7.92,2,    0.01,2,    0.40,2,   2.270,2,   1.262,2,   0.022,2,  2128.1,3,  2381.0,2,    -999,9,     -999,9,    -999,9,    -999,9,    -999,9,    -999,    -999,9,    -999,9,    -999,9,  349.40,      654,  23.5455, -65.9989,    -999,     -999,    -999,     -999,9,     -999,9,     -999,9,     -999,9,     -999,9,     -999,9,  17.2030,    -999,9,       -999,9,    -999,9,    -999,9
 316N200310,        A22,      41,          1,         27,         27,2,20031102,       0456,    23.5372,   -65.9972,       5833,   449.7,  15.4584,  36.1084,2,  36.1084,2,    167.8,2,   165.7,2,    3.32,2,   11.89,2,    0.01,2,    0.65,2,   2.150,2,   1.174,2,   0.024,2,    -999,9,    -999,9,    -999,9,     -999,9,    -999,9,    -999,9,    -999,9,    -999,    -999,9,    -999,9,    -999,9,  449.70,      652,  23.5454, -65.9989,    -999,     -999,    -999,     -999,9,     -999,9,     -999,9,     -999,9,     -999,9,     -999,9,  15.3878,    -999,9,       -999,9,    -999,9,    -999,9
 316N200310,        A22,      41,          1,         26,         26,2,20031102,       0456,    23.5372,   -65.9972,       5833,   575.8,  13.1326,  35.7532,2,  35.7533,2,    158.5,2,   157.5,2,    5.89,2,   16.32,2,    0.01,2,    0.95,2,   1.740,2,   0.918,2,   0.027,2,  2158.2,2,  2345.9,2,    -999,9,     -999,9,    -999,9,    -999,9,    -999,9,    -999,    -999,9,    -999,9,    -999,9,  575.80,      649,  23.5453, -65.9989,    -999,     -999,    -999,   0.1050,2,   0.0720,2,   0.0330,2,   0.0220,2,   0.0210,2,   0.0220,2,  13.0512,    -999,9,       -999,9,    -999,9,    -999,9
 316N200310,        A22,      41,          1,         25,         25,2,20031102,       0456,    23.5372,   -65.9972,       5833,   699.6,  10.6528,  35.3737,2,  35.3713,2,    141.1,2,   139.6,2,   10.85,2,   22.53,2,    0.01,2,    1.38,2,   0.927,2,   0.479,2,   0.003,2,    -999,9,    -999,9,    -999,9,     -999,9,    -999,9,    -999,9,    -999,9,    -999,    -999,9,    -999,9,    -999,9,  699.60,      646,  23.5452, -65.9989,    -999,     -999,    -999,     -999,9,     -999,9,     -999,9,     -999,9,     -999,9,     -999,9,  10.5659,    -999,9,       -999,9,    -999,9,    -999,9
 316N200310,        A22,      41,          1,         24,         24,2,20031102,       0456,    23.5372,   -65.9972,       5833,   831.3,   8.6965,  35.1632,2,  35.1589,2,    143.8,2,   142.2,2,   14.93,2,   25.36,2,    0.00,2,    1.60,2,   0.449,2,   0.250,2,   0.006,2,  2191.7,2,  2323.1,2,    -999,9,     -999,9,    -999,9,    -999,9,    -999,9,    -999,    -999,9,    -999,9,    -999,9,  831.30,      643,  23.5451, -65.9988,    -999,     -999,    -999,     -999,9,     -999,9,     -999,9,     -999,9,     -999,9,     -999,9,   8.6045,    -999,9,       -999,9,    -999,9,    -999,9
 316N200310,        A22,      41,          1,         23,         23,2,20031102,       0456,    23.5372,   -65.9972,       5833,   974.7,   6.9768,  35.0412,2,  35.0403,2,    158.5,2,   160.1,2,   17.33,2,   25.65,2,    0.00,2,    1.66,2,   0.327,2,   0.174,2,   0.014,2,    -999,9,    -999,9,    -999,9,     -999,9,    -999,9,    -999,9,    -999,9,    -999,    -999,9,    -999,9,    -999,9,  974.70,      640,  23.5450, -65.9988,    -999,     -999,    -999,   0.1300,2,   0.0920,2,   0.0460,2,   0.0320,2,   0.0160,2,   0.0180,2,   6.8805,    -999,9,       -999,9,    -999,9,    -999,9
 316N200310,        A22,      41,          1,         22,         22,2,20031102,       0456,    23.5372,   -65.9972,       5833,  1126.3,   5.8319,  35.0310,2,  35.0303,2,    187.2,2,   192.7,2,   16.61,2,   23.33,2,    0.00,2,    1.51,2,   0.391,2,   0.219,2,   0.006,2,  2184.1,2,  2320.5,2,    -999,9,     -999,9,    -999,9,    -999,9,    -999,9,    -999,    -999,9,    -999,9,    -999,9, 1126.30,      637,  23.5447, -65.9987,    -999,     -999,    -999,     -999,9,     -999,9,     -999,9,     -999,9,     -999,9,     -999,9,   5.7291,    -999,9,       -999,9,    -999,9,    -999,9
 316N200310,        A22,      41,          1,         21,         21,2,20031102,       0456,    23.5372,   -65.9972,       5833,  1275.0,   5.1664,  35.0513,2,  35.0524,2,    223.2,2,   224.8,2,   13.91,2,   20.42,2,    0.00,2,    1.32,2,   0.662,2,   0.331,2,   0.015,2,    -999,9,    -999,9,    -999,9,     -999,9,    -999,9,    -999,9,    -999,9,    -999,    -999,9,    -999,9,    -999,9, 1275.00,      633,  23.5445, -65.9987,    -999,     -999,    -999,   0.1190,2,   0.0830,2,   0.0380,2,   0.0250,2,   0.0200,2,   0.0210,2,   5.0549,    -999,9,       -999,9,    -999,9,    -999,9
 316N200310,        A22,      41,          1,         20,         20,2,20031102,       0456,    23.5372,   -65.9972,       5833,  1426.7,   4.6313,  35.0325,2,  35.0323,2,    242.3,2,   243.4,2,   12.71,2,   19.10,2,    0.00,2,    1.23,2,   0.834,2,   0.416,2,   0.029,2,    -999,9,    -999,9,    -999,9,     -999,9,    -999,9,    -999,9,    -999,9,    -999,    -999,9,    -999,9,    -999,9, 1426.70,      630,  23.5443, -65.9986,    -999,     -999,    -999,     -999,9,     -999,9,     -999,9,     -999,9,     -999,9,     -999,9,   4.5108,    -999,9,       -999,9,    -999,9,    -999,9
 316N200310,        A22,      41,          1,         19,         19,2,20031102,       0456,    23.5372,   -65.9972,       5833,  1573.9,   4.2549,  35.0117,2,  35.0112,2,    253.3,2,   252.4,2,   12.90,2,   18.73,2,    0.00,2,    1.20,2,   0.872,2,   0.430,2,   0.036,2,    -999,9,    -999,9,    -999,9,     -999,9,    -999,9,    -999,9,    -999,9,    -999,    -999,9,    -999,9,    -999,9, 1573.90,      627,  23.5441, -65.9986,    -999,     -999,    -999,     -999,9,     -999,9,     -999,9,     -999,9,     -999,9,     -999,9,   4.1248,    -999,9,       -999,9,    -999,9,    -999,9
 316N200310,        A22,      41,          1,         18,         18,2,20031102,       0456,    23.5372,   -65.9972,       5833,  1725.1,   3.9679,  34.9904,2,  34.9913,2,    258.5,2,   258.3,2,   13.29,2,   18.47,2,    0.00,2,    1.18,2,   0.908,2,   0.452,2,   0.037,2,    -999,9,    -999,9,    -999,9,     -999,9,    -999,9,    -999,9,    -999,9,    -999,    -999,9,    -999,9,    -999,9, 1725.10,      623,  23.5439, -65.9985,    -999,     -999,    -999,     -999,9,     -999,9,     -999,9,     -999,9,     -999,9,     -999,9,   3.8272,    -999,9,       -999,9,    -999,9,    -999,9
 316N200310,        A22,      41,          1,         17,         17,2,20031102,       0456,    23.5372,   -65.9972,       5833,  1900.2,   3.7485,  34.9831,2,  34.9827,2,    259.7,2,   260.0,2,   14.58,2,   18.46,2,    0.00,2,    1.19,2,   0.719,2,   0.361,2,   0.035,2,    -999,9,    -999,9,    -999,9,     -999,9,    -999,9,    -999,9,    -999,9,    -999,    -999,9,    -999,9,    -999,9, 1900.20,      620,  23.5438, -65.9984,    -999,     -999,    -999,   0.1150,2,   0.0790,2,   0.0350,2,   0.0220,2,   0.0210,2,   0.0220,2,   3.5942,    -999,9,       -999,9,    -999,9,    -999,9
 316N200310,        A22,      41,          1,         16,         16,2,20031102,       0456,    23.5372,   -65.9972,       5833,  2126.1,   3.5109,  34.9757,2,  34.9770,2,    260.4,2,   259.8,2,   16.66,2,   18.55,2,    0.00,2,    1.20,2,   0.483,2,   0.238,2,   0.015,2,    -999,9,    -999,9,    -999,9,     -999,9,    -999,9,    -999,9,    -999,9,    -999,    -999,9,    -999,9,    -999,9, 2126.10,      615,  23.5437, -65.9983,    -999,     -999,    -999,     -999,9,     -999,9,     -999,9,     -999,9,     -999,9,     -999,9,   3.3385,    -999,9,       -999,9,    -999,9,    -999,9
 316N200310,        A22,      41,          1,         15,         15,2,20031102,       0456,    23.5372,   -65.9972,       5833,  2374.9,   3.2891,  34.9685,2,  34.9681,2,    258.9,2,   258.3,2,   19.66,2,   18.88,2,    0.00,2,    1.23,2,   0.271,2,   0.133,2,   0.006,2,    -999,9,    -999,9,    -999,9,     -999,9,    -999,9,    -999,9,    -999,9,    -999,    -999,9,    -999,9,    -999,9, 2374.90,      610,  23.5437, -65.9981,    -999,     -999,    -999,     -999,9,     -999,9,     -999,9,     -999,9,     -999,9,     -999,9,   3.0962,    -999,9,       -999,9,    -999,9,    -999,9
 316N200310,        A22,      41,          1,         14,         14,2,20031102,       0456,    23.5372,   -65.9972,       5833,  2625.9,   3.0635,  34.9545,2,  34.9536,2,    261.9,2,   259.1,2,   22.05,2,   19.03,2,    0.00,2,    1.24,2,   0.241,2,   0.123,2,   0.012,2,    -999,9,    -999,9,    -999,9,     -999,9,    -999,9,    -999,9,    -999,9,    -999,    -999,9,    -999,9,    -999,9, 2625.90,      605,  23.5436, -65.9980,    -999,     -999,    -999,     -999,9,     -999,9,     -999,9,     -999,9,     -999,9,     -999,9,   2.8498,    -999,9,       -999,9,    -999,9,    -999,9
 316N200310,        A22,      41,          1,         13,         13,2,20031102,       0456,    23.5372,   -65.9972,       5833,  2876.3,   2.8887,  34.9430,2,  34.9433,2,    258.0,2,   258.3,2,   24.65,2,   19.31,2,    0.00,2,    1.26,2,   0.199,2,   0.098,2,   0.006,2,    -999,9,    -999,9,    -999,9,     -999,9,    -999,9,    -999,9,    -999,9,    -999,    -999,9,    -999,9,    -999,9, 2876.30,      600,  23.5438, -65.9977,    -999,     -999,    -999,   0.1150,2,   0.0790,2,   0.0350,2,   0.0220,2,   0.0210,2,   0.0220,2,   2.6532,    -999,9,       -999,9,    -999,9,    -999,9
 316N200310,        A22,      41,          1,         12,         12,2,20031102,       0456,    23.5372,   -65.9972,       5833,  3123.2,   2.6847,  34.9275,2,  34.9270,2,    262.0,2,   262.7,2,   24.64,2,   18.95,2,    0.00,2,    1.24,2,   0.322,2,   0.166,2,   0.007,2,    -999,9,    -999,9,    -999,9,     -999,9,    -999,9,    -999,9,    -999,9,    -999,    -999,9,    -999,9,    -999,9, 3123.20,      555,  23.5431, -65.9977,    -999,     -999,    -999,     -999,9,     -999,9,     -999,9,     -999,9,     -999,9,     -999,9,   2.4280,    -999,9,       -999,9,    -999,9,    -999,9
 316N200310,        A22,      41,          1,         11,         11,2,20031102,       0456,    23.5372,   -65.9972,       5833,  3374.2,   2.5682,  34.9192,2,  34.9193,2,    262.9,2,   263.4,2,   26.23,2,   18.99,2,    0.00,2,    1.25,2,   0.306,2,   0.158,2,   0.013,2,    -999,9,    -999,9,    -999,9,     -999,9,    -999,9,    -999,9,    -999,9,    -999,    -999,9,    -999,9,    -999,9, 3374.20,      550,  23.5421, -65.9978,    -999,     -999,    -999,     -999,9,     -999,9,     -999,9,     -999,9,     -999,9,     -999,9,   2.2876,    -999,9,       -999,9,    -999,9,    -999,9
 316N200310,        A22,      41,          1,         10,         10,2,20031102,       0456,    23.5372,   -65.9972,       5833,  3625.0,   2.4367,  34.9097,2,  34.9091,2,    263.3,2,   265.0,2,   27.53,2,   18.92,2,    0.00,2,    1.25,2,   0.326,2,   0.160,2,   0.008,2,    -999,9,    -999,9,    -999,9,     -999,9,    -999,9,    -999,9,    -999,9,    -999,    -999,9,    -999,9,    -999,9, 3625.00,      545,  23.5414, -65.9978,    -999,     -999,    -999,     -999,9,     -999,9,     -999,9,     -999,9,     -999,9,     -999,9,   2.1322,    -999,9,       -999,9,    -999,9,    -999,9
 316N200310,        A22,      41,          1,          9,          9,2,20031102,       0456,    23.5372,   -65.9972,       5833,  3874.9,   2.3555,  34.9032,2,  34.9036,2,    266.0,2,   265.8,2,   27.92,2,   18.91,2,    0.00,2,    1.25,2,   0.376,2,   0.185,2,   0.021,2,    -999,9,    -999,9,    -999,9,     -999,9,    -999,9,    -999,9,    -999,9,    -999,    -999,9,    -999,9,    -999,9, 3874.90,      540,  23.5407, -65.9978,    -999,     -999,    -999,   0.1270,2,   0.0890,2,   0.0410,2,   0.0260,2,   0.0200,2,   0.0210,2,   2.0254,    -999,9,       -999,9,    -999,9,    -999,9
 316N200310,        A22,      41,          1,          8,          8,2,20031102,       0456,    23.5372,   -65.9972,       5833,  4125.7,   2.3195,  34.8985,2,  34.8979,2,    265.6,2,   266.4,2,   28.92,2,   18.95,2,    0.00,2,    1.25,2,   0.450,2,   0.230,2,   0.025,2,    -999,9,    -999,9,    -999,9,     -999,9,    -999,9,    -999,9,    -999,9,    -999,    -999,9,    -999,9,    -999,9, 4125.70,      535,  23.5402, -65.9978,    -999,     -999,    -999,     -999,9,     -999,9,     -999,9,     -999,9,     -999,9,     -999,9,   1.9619,    -999,9,       -999,9,    -999,9,    -999,9
 316N200310,        A22,      41,          1,          7,          7,2,20031102,       0456,    23.5372,   -65.9972,       5833,  4375.1,   2.3034,  34.8950,2,  34.8936,2,    264.4,2,   264.7,2,   30.62,2,   19.13,2,    0.00,2,    1.27,2,   0.409,2,   0.207,2,   0.020,2,    -999,9,    -999,9,    -999,9,     -999,9,    -999,9,    -999,9,    -999,9,    -999,    -999,9,    -999,9,    -999,9, 4375.10,      530,  23.5398, -65.9977,    -999,     -999,    -999,     -999,9,     -999,9,     -999,9,     -999,9,     -999,9,     -999,9,   1.9170,    -999,9,       -999,9,    -999,9,    -999,9
 316N200310,        A22,      41,          1,          6,          6,2,20031102,       0456,    23.5372,   -65.9972,       5833,  4624.3,   2.2925,  34.8912,2,  34.8894,2,    263.0,2,   263.4,2,   32.72,2,   19.47,2,    0.00,2,    1.29,2,   0.364,2,   0.179,2,   0.016,2,    -999,9,    -999,9,    -999,9,     -999,9,    -999,9,    -999,9,    -999,9,    -999,    -999,9,    -999,9,    -999,9, 4624.30,      525,  23.5394, -65.9976,    -999,     -999,    -999,     -999,9,     -999,9,     -999,9,     -999,9,     -999,9,     -999,9,   1.8766,    -999,9,       -999,9,    -999,9,    -999,9
 316N200310,        A22,      41,          1,          5,          5,2,20031102,       0456,    23.5372,   -65.9972,       5833,  4874.8,   2.2681,  34.8854,2,  34.8851,2,    260.7,2,   261.4,2,   36.24,2,   19.96,2,    0.00,2,    1.34,2,   0.262,2,   0.138,2,   0.017,2,    -999,9,    -999,9,    -999,9,     -999,9,    -999,9,    -999,9,    -999,9,    -999,    -999,9,    -999,9,    -999,9, 4874.80,      520,  23.5391, -65.9976,    -999,     -999,    -999,   0.1260,2,   0.0880,2,   0.0390,2,   0.0250,2,   0.0200,2,   0.0210,2,   1.8222,    -999,9,       -999,9,    -999,9,    -999,9