BOTTLE,20220517CCHSIOLMM
EXPOCODE,SECT_ID,STNNBR,CASTNO,SAMPNO,BTLNBR,BTLNBR_FLAG_W,DATE,TIME,LATITUDE,LONGITUDE,DEPTH,CTDPRS,CTDTMP,CTDSAL,CTDSAL_FLAG_W,SALNTY,SALNTY_FLAG_W,CTDOXY,CTDOXY_FLAG_W,OXYGEN,OXYGEN_FLAG_W,SILCAT,SILCAT_FLAG_W,NITRAT,NITRAT_FLAG_W,NITRIT,NITRIT_FLAG_W,PHSPHT,PHSPHT_FLAG_W,CFC-11,CFC-11_FLAG_W,CFC-12,CFC-12_FLAG_W,CFC113,CFC113_FLAG_W,TCARBN,TCARBN_FLAG_W,ALKALI,ALKALI_FLAG_W,TRITUM,TRITUM_FLAG_W,HELIUM,HELIUM_FLAG_W,DELHE3,DELHE3_FLAG_W,DELC13,DELC13_FLAG_W,DELC14,DELC14_FLAG_W,C14ERR,CCL4,CCL4_FLAG_W,DOC,DOC_FLAG_W,TDN,TDN_FLAG_W,CTDRAW,BTL_TIME,BTL_LAT,BTL_LON,TRITER,HELIER,DELHER,CDOM325,CDOM325_FLAG_W,CDOM340,CDOM340_FLAG_W,CDOM380,CDOM380_FLAG_W,CDOM412,CDOM412_FLAG_W,CDOMSL,CDOMSL_FLAG_W,CDOMSN,CDOMSN_FLAG_W,THETA,BACT,BACT_FLAG_W,PROC,PROC_FLAG_W,SYN,SYN_FLAG_W,PEUK,PEUK_FLAG_W
,,,,,,,,,,,METERS,DBAR,ITS-90,PSS-78,,PSS-78,,UMOL/KG,,UMOL/KG,,UMOL/KG,,UMOL/KG,,UMOL/KG,,UMOL/KG,,PMOL/KG,,PMOL/KG,,PMOL/KG,,UMOL/KG,,UMOL/KG,,TU,,NMOL/KG,,PERCNT,,/MILLE,,/MILLE,,/MILLE,PMOL/KG,,UMOL/KG,,UMOL/KG,,DBAR,,,,TU,NMOL/KG,PERCNT,1/M,,1/M,,1/M,,1/M,,1/NM,,1/NM,,DEG C,E8/L,,E7/L,,E6/L,,E6/L,
 316N200310,        A22,      72,          1,          3,          3,2,20031111,       1349,    38.3295,   -68.8737,       3799,  3575.1,   2.1980,  34.8916,2,  34.8973,4,    271.4,2,   271.2,2,   25.69,2,   17.73,2,    0.00,2,    1.20,2,   1.281,2,   0.641,2,   0.063,2,  2169.6,2,  2319.1,2,    -999,9,     -999,9,    -999,9,    -999,9,    -999,9,    -999,   1.629,2,   41.90,2,    -999,9, 3575.10,     1358,  38.3299, -68.8749,    -999,     -999,    -999,   0.1420,2,   0.0990,2,   0.0460,2,   0.0300,2,   0.0180,2,   0.0200,2,   1.9051,    -999,9,       -999,9,    -999,9,    -999,9
 316N200310,        A22,      72,          1,          2,          2,2,20031111,       1349,    38.3295,   -68.8737,       3799,  3699.7,   2.1645,  34.8877,2,  34.8930,4,    268.5,2,   266.4,2,   30.75,2,   18.59,2,    0.00,2,    1.26,2,   0.865,2,   0.445,2,   0.047,2,  2176.1,2,  2324.5,2,    -999,9,     -999,9,    -999,9,    -999,9,    -999,9,    -999,   1.228,2,   45.20,2,    -999,9, 3699.70,     1354,  38.3297, -68.8744,    -999,     -999,    -999,   0.1340,2,   0.0940,2,   0.0440,2,   0.0280,2,   0.0190,2,   0.0210,2,   1.8590,    -999,9,       -999,9,    -999,9,    -999,9
 316N200310,        A22,      72,          1,          1,          1,2,20031111,       1349,    38.3295,   -68.8737,       3799,  3844.4,   2.1451,  34.8842,2,  34.8890,4,    264.6,2,   263.6,2,   33.95,2,   19.14,2,    0.00,2,    1.30,2,   0.707,2,   0.370,2,   0.039,2,  2178.9,2,  2328.4,6,    -999,9,     -999,9,    -999,9,    -999,9,    -999,9,    -999,   1.039,2,   43.90,2,    -999,9, 3844.40,     1351,  38.3295, -68.8738,    -999,     -999,    -999,   0.1570,2,   0.1130,2,   0.0570,2,   0.0380,2,   0.0160,2,   0.0170,2,   1.8243,    -999,9,       -999,9,    -999,9,    -999,9