BOTTLE,20220517CCHSIOLMM
EXPOCODE,SECT_ID,STNNBR,CASTNO,SAMPNO,BTLNBR,BTLNBR_FLAG_W,DATE,TIME,LATITUDE,LONGITUDE,DEPTH,CTDPRS,CTDTMP,CTDSAL,CTDSAL_FLAG_W,SALNTY,SALNTY_FLAG_W,CTDOXY,CTDOXY_FLAG_W,OXYGEN,OXYGEN_FLAG_W,SILCAT,SILCAT_FLAG_W,NITRAT,NITRAT_FLAG_W,NITRIT,NITRIT_FLAG_W,PHSPHT,PHSPHT_FLAG_W,CFC-11,CFC-11_FLAG_W,CFC-12,CFC-12_FLAG_W,CFC113,CFC113_FLAG_W,TCARBN,TCARBN_FLAG_W,ALKALI,ALKALI_FLAG_W,TRITUM,TRITUM_FLAG_W,HELIUM,HELIUM_FLAG_W,DELHE3,DELHE3_FLAG_W,DELC13,DELC13_FLAG_W,DELC14,DELC14_FLAG_W,C14ERR,CCL4,CCL4_FLAG_W,DOC,DOC_FLAG_W,TDN,TDN_FLAG_W,CTDRAW,BTL_TIME,BTL_LAT,BTL_LON,TRITER,HELIER,DELHER,CDOM325,CDOM325_FLAG_W,CDOM340,CDOM340_FLAG_W,CDOM380,CDOM380_FLAG_W,CDOM412,CDOM412_FLAG_W,CDOMSL,CDOMSL_FLAG_W,CDOMSN,CDOMSN_FLAG_W,THETA,BACT,BACT_FLAG_W,PROC,PROC_FLAG_W,SYN,SYN_FLAG_W,PEUK,PEUK_FLAG_W
,,,,,,,,,,,METERS,DBAR,ITS-90,PSS-78,,PSS-78,,UMOL/KG,,UMOL/KG,,UMOL/KG,,UMOL/KG,,UMOL/KG,,UMOL/KG,,PMOL/KG,,PMOL/KG,,PMOL/KG,,UMOL/KG,,UMOL/KG,,TU,,NMOL/KG,,PERCNT,,/MILLE,,/MILLE,,/MILLE,PMOL/KG,,UMOL/KG,,UMOL/KG,,DBAR,,,,TU,NMOL/KG,PERCNT,1/M,,1/M,,1/M,,1/M,,1/NM,,1/NM,,DEG C,E8/L,,E7/L,,E6/L,,E6/L,
 316N200310,        A22,      21,          1,         21,         21,2,20031028,       1812,    17.6968,   -66.0012,       1446,     2.6,  29.3767,  34.8665,2,  34.8491,2,    159.7,2,   194.3,2,    1.31,2,    0.00,2,    0.00,2,    0.01,2,    -999,9,    -999,9,    -999,9,    -999,9,    -999,9,    -999,9,     -999,9,    -999,9,    -999,9,    -999,9,    -999,    -999,9,    -999,9,    -999,9,    2.60,     1858,  17.6971, -66.0018,    -999,     -999,    -999,     -999,9,     -999,9,     -999,9,     -999,9,     -999,9,     -999,9,  29.3760,    -999,9,       -999,9,    -999,9,    -999,9
 316N200310,        A22,      21,          1,         20,         20,2,20031028,       1812,    17.6968,   -66.0012,       1446,     2.6,  29.3781,  34.8679,2,  34.8507,2,    159.7,2,   193.7,2,    1.30,2,    0.00,2,    0.00,2,    0.01,2,   1.385,2,   0.867,2,   0.101,2,  1947.6,2,  2291.9,6,    -999,9,     -999,9,    -999,9,    -999,9,    -999,9,    -999,   1.183,2,   71.30,2,    4.90,2,    2.60,     1858,  17.6971, -66.0018,    -999,     -999,    -999,   0.0970,2,   0.0650,2,   0.0240,2,   0.0140,2,   0.0270,2,   0.0270,2,  29.3774,    -999,9,       -999,9,    -999,9,    -999,9
 316N200310,        A22,      21,          1,         19,         19,2,20031028,       1812,    17.6968,   -66.0012,       1446,    25.1,  29.2678,  35.0904,2,  35.0868,2,    195.0,2,   193.8,2,    1.00,2,    0.00,2,    0.00,2,    0.01,2,   1.546,2,   0.958,2,   0.093,2,  1960.1,2,  2316.7,2,    -999,9,     -999,9,    -999,9,    -999,9,    -999,9,    -999,   1.561,2,   72.70,2,    4.70,2,   25.10,     1856,  17.6971, -66.0015,    -999,     -999,    -999,   0.0760,2,   0.0470,2,   0.0150,2,   0.0080,2,   0.0310,2,   0.0310,2,  29.2616,    -999,9,       -999,9,    -999,9,    -999,9
 316N200310,        A22,      21,          1,         18,         18,2,20031028,       1812,    17.6968,   -66.0012,       1446,    50.1,  28.1370,  36.3857,2,  36.3736,2,    199.6,2,   199.4,2,    0.79,2,    0.00,2,    0.00,2,    0.01,2,   1.663,2,   1.056,2,   0.071,2,  2017.7,2,  2393.5,2,    -999,9,     -999,9,    -999,9,    -999,9,    -999,9,    -999,   1.054,2,   70.20,2,    4.60,2,   50.10,     1854,  17.6970, -66.0014,    -999,     -999,    -999,   0.1410,2,   0.0960,2,   0.0410,2,   0.0270,2,   0.0200,2,   0.0220,2,  28.1251,    -999,9,       -999,9,    -999,9,    -999,9
 316N200310,        A22,      21,          1,         17,         17,2,20031028,       1812,    17.6968,   -66.0012,       1446,    75.2,  26.9965,  36.8374,2,  36.8395,2,    202.6,2,   201.5,2,    0.68,2,    0.00,2,    0.00,2,    0.01,2,   1.720,2,   1.091,2,   0.079,2,  2043.2,2,  2418.4,2,    -999,9,     -999,9,    -999,9,    -999,9,    -999,9,    -999,   0.947,2,   70.00,2,    4.60,2,   75.20,     1853,  17.6969, -66.0012,    -999,     -999,    -999,   0.1230,2,   0.0830,2,   0.0340,2,   0.0230,2,   0.0230,2,   0.0240,2,  26.9791,    -999,9,       -999,9,    -999,9,    -999,9
 316N200310,        A22,      21,          1,         16,         16,2,20031028,       1812,    17.6968,   -66.0012,       1446,   100.2,  25.6916,  37.0996,2,  37.0793,2,    192.1,2,   192.3,2,    0.59,2,    0.14,2,    0.14,2,    0.02,2,   1.775,2,   1.117,2,   0.097,2,  2071.4,2,  2432.2,2,    -999,9,     -999,9,    -999,9,    -999,9,    -999,9,    -999,   0.748,2,   63.40,2,    4.40,2,  100.20,     1851,  17.6969, -66.0012,    -999,     -999,    -999,   0.1550,2,   0.1120,2,   0.0540,2,   0.0390,2,   0.0150,2,   0.0170,2,  25.6692,    -999,9,       -999,9,    -999,9,    -999,9
 316N200310,        A22,      21,          1,         15,         15,2,20031028,       1812,    17.6968,   -66.0012,       1446,   124.6,  24.5304,  37.2615,2,  37.2515,2,    189.2,2,   188.8,2,    0.38,2,    0.58,2,    0.04,2,    0.04,2,   1.859,6,   1.147,6,   0.145,2,  2094.4,2,  2441.9,2,    -999,9,     -999,9,    -999,9,    -999,9,    -999,9,    -999,   0.635,2,   61.20,2,    4.80,2,  124.60,     1849,  17.6969, -66.0012,    -999,     -999,    -999,   0.1140,2,   0.0790,2,   0.0330,2,   0.0230,2,   0.0220,2,   0.0230,2,  24.5036,    -999,9,       -999,9,    -999,9,    -999,9
 316N200310,        A22,      21,          1,         14,         14,2,20031028,       1812,    17.6968,   -66.0012,       1446,   150.0,  23.4277,  37.2108,2,  37.2012,2,    185.4,2,   184.0,2,    0.37,2,    0.94,2,    0.03,2,    0.06,2,   1.934,2,   1.209,2,   0.094,2,  2106.8,2,  2434.4,2,    -999,9,     -999,9,    -999,9,    -999,9,    -999,9,    -999,   0.453,2,   57.20,2,    5.50,2,  150.00,     1848,  17.6969, -66.0012,    -999,     -999,    -999,   0.1270,2,   0.0910,2,   0.0420,2,   0.0310,2,   0.0170,2,   0.0190,2,  23.3964,    -999,9,       -999,9,    -999,9,    -999,9
 316N200310,        A22,      21,          1,         13,         13,2,20031028,       1812,    17.6968,   -66.0012,       1446,   199.8,  20.7958,  36.9488,2,  36.9409,2,    176.6,2,   178.7,2,    0.47,2,    1.99,2,    0.01,2,    0.09,2,   2.117,2,   1.292,2,   0.034,2,  2119.9,2,    -999,9,    -999,9,     -999,9,    -999,9,    -999,9,    -999,9,    -999,   0.254,2,    -999,9,    -999,9,  199.80,     1846,  17.6969, -66.0012,    -999,     -999,    -999,     -999,9,     -999,9,     -999,9,     -999,9,     -999,9,     -999,9,  20.7574,    -999,9,       -999,9,    -999,9,    -999,9
 316N200310,        A22,      21,          1,         12,         12,2,20031028,       1812,    17.6968,   -66.0012,       1446,   250.0,  19.1297,  36.6943,2,  36.6889,2,    181.8,2,   183.7,2,    0.66,2,    3.37,2,    0.01,2,    0.15,2,   2.230,2,   1.343,2,   0.017,2,  2116.7,2,  2402.5,2,    -999,9,     -999,9,    -999,9,    -999,9,    -999,9,    -999,   0.301,2,   48.70,2,    7.80,2,  250.00,     1844,  17.6969, -66.0012,    -999,     -999,    -999,   0.1020,2,   0.0730,2,   0.0330,2,   0.0240,2,   0.0200,2,   0.0210,2,  19.0844,    -999,9,       -999,9,    -999,9,    -999,9
 316N200310,        A22,      21,          1,         11,         11,2,20031028,       1812,    17.6968,   -66.0012,       1446,   349.6,  16.8174,  36.3319,2,  36.3251,2,    173.2,2,   169.6,2,    2.35,2,    9.04,2,    0.01,2,    0.50,2,   2.221,2,   1.277,2,   0.012,2,  2136.5,2,  2381.8,2,    -999,9,     -999,9,    -999,9,    -999,9,    -999,9,    -999,   0.350,2,    -999,9,    -999,9,  349.60,     1841,  17.6969, -66.0012,    -999,     -999,    -999,     -999,9,     -999,9,     -999,9,     -999,9,     -999,9,     -999,9,  16.7594,    -999,9,       -999,9,    -999,9,    -999,9
 316N200310,        A22,      21,          1,         10,         10,2,20031028,       1812,    17.6968,   -66.0012,       1446,   449.1,  14.2478,  35.8908,2,  35.8874,2,    146.2,2,   146.1,2,    5.25,2,   15.56,2,    0.01,2,    0.92,2,   1.886,2,   1.037,2,   0.014,4,  2162.3,2,  2357.7,2,    -999,9,     -999,9,    -999,9,    -999,9,    -999,9,    -999,   0.289,2,    -999,9,    -999,9,  449.10,     1839,  17.6969, -66.0012,    -999,     -999,    -999,     -999,9,     -999,9,     -999,9,     -999,9,     -999,9,     -999,9,  14.1811,    -999,9,       -999,9,    -999,9,    -999,9
 316N200310,        A22,      21,          1,          9,          9,2,20031028,       1812,    17.6968,   -66.0012,       1446,   550.2,  11.7173,  35.4683,2,  35.4612,2,    132.6,2,   132.9,2,    9.45,2,   21.58,2,    0.01,2,    1.33,2,   1.312,2,   0.697,2,   0.011,2,  2182.4,2,    -999,9,    -999,9,     -999,9,    -999,9,    -999,9,    -999,9,    -999,   0.246,2,   42.00,2,    -999,9,  550.20,     1836,  17.6969, -66.0012,    -999,     -999,    -999,   0.1220,2,   0.0860,2,   0.0430,2,   0.0310,2,   0.0160,2,   0.0180,2,  11.6452,    -999,9,       -999,9,    -999,9,    -999,9
 316N200310,        A22,      21,          1,          8,          8,2,20031028,       1812,    17.6968,   -66.0012,       1446,   650.0,   9.6176,  35.1766,2,  35.1744,2,    128.0,2,   128.3,2,   13.97,2,   25.89,2,    0.00,2,    1.64,2,   0.760,2,   0.413,2,   0.007,2,  2194.8,2,    -999,9,    -999,9,     -999,9,    -999,9,    -999,9,    -999,9,    -999,   0.219,2,    -999,9,    -999,9,  650.00,     1834,  17.6969, -66.0012,    -999,     -999,    -999,     -999,9,     -999,9,     -999,9,     -999,9,     -999,9,     -999,9,   9.5420,    -999,9,       -999,9,    -999,9,    -999,9
 316N200310,        A22,      21,          1,          7,          7,2,20031028,       1812,    17.6968,   -66.0012,       1446,   749.5,   7.8154,  34.9590,2,  34.9494,2,    129.8,2,   129.8,2,   18.77,2,   29.07,2,    0.00,2,    1.90,2,   0.378,6,   0.214,6,   0.006,6,  2205.8,2,    -999,9,    -999,9,     -999,9,    -999,9,    -999,9,    -999,9,    -999,   0.189,6,   39.20,3,    -999,9,  749.50,     1831,  17.6969, -66.0012,    -999,     -999,    -999,   0.1400,2,   0.1010,2,   0.0550,2,   0.0410,2,   0.0130,2,   0.0150,2,   7.7379,    -999,9,       -999,9,    -999,9,    -999,9
 316N200310,        A22,      21,          1,          6,          6,2,20031028,       1812,    17.6968,   -66.0012,       1446,   849.2,   6.6423,  34.8842,2,  34.8814,2,    139.8,2,   140.5,2,   21.49,2,   29.49,2,    0.00,2,    1.95,2,   0.192,2,   0.122,2,   0.002,2,  2207.6,2,    -999,9,    -999,9,     -999,9,    -999,9,    -999,9,    -999,9,    -999,   0.159,2,    -999,9,    -999,9,  849.20,     1828,  17.6969, -66.0012,    -999,     -999,    -999,     -999,9,     -999,9,     -999,9,     -999,9,     -999,9,     -999,9,   6.5614,    -999,9,       -999,9,    -999,9,    -999,9
 316N200310,        A22,      21,          1,          5,          5,2,20031028,       1812,    17.6968,   -66.0012,       1446,   949.6,   5.8602,  34.9160,2,  34.9150,2,    162.1,2,   162.8,2,   22.39,2,   27.27,2,    0.00,2,    1.82,2,   0.157,2,   0.093,2,   0.005,2,  2202.9,2,    -999,9,    -999,9,     -999,9,    -999,9,    -999,9,    -999,9,    -999,   0.164,2,    -999,9,    -999,9,  949.60,     1826,  17.6969, -66.0012,    -999,     -999,    -999,     -999,9,     -999,9,     -999,9,     -999,9,     -999,9,     -999,9,   5.7746,    -999,9,       -999,9,    -999,9,    -999,9
 316N200310,        A22,      21,          1,          4,          4,2,20031028,       1812,    17.6968,   -66.0012,       1446,  1074.3,   5.1810,  34.9519,2,  34.9518,2,    185.4,2,   185.8,2,   22.79,2,   24.87,2,    0.00,2,    1.67,2,   0.152,2,   0.092,2,   0.005,2,  2196.6,2,    -999,9,    -999,9,     -999,9,    -999,9,    -999,9,    -999,9,    -999,   0.222,2,   42.40,2,    -999,9, 1074.30,     1822,  17.6969, -66.0012,    -999,     -999,    -999,   0.1360,2,   0.0960,2,   0.0480,2,   0.0330,2,   0.0160,2,   0.0180,2,   5.0886,    -999,9,       -999,9,    -999,9,    -999,9
 316N200310,        A22,      21,          1,          3,          3,2,20031028,       1812,    17.6968,   -66.0012,       1446,  1224.4,   4.6143,  34.9687,2,  34.9681,2,    204.8,2,   204.6,2,   23.18,2,   23.02,2,    0.00,2,    1.55,2,   0.175,2,   0.103,2,   0.007,2,  2192.5,2,    -999,9,    -999,9,     -999,9,    -999,9,    -999,9,    -999,9,    -999,   0.286,2,    -999,9,    -999,9, 1224.40,     1819,  17.6969, -66.0012,    -999,     -999,    -999,     -999,9,     -999,9,     -999,9,     -999,9,     -999,9,     -999,9,   4.5130,    -999,9,       -999,9,    -999,9,    -999,9
 316N200310,        A22,      21,          1,          2,          2,2,20031028,       1812,    17.6968,   -66.0012,       1446,  1374.7,   4.4190,  34.9720,2,  34.9715,2,    211.1,2,   210.3,2,   23.68,2,   22.54,2,    0.00,2,    1.52,2,   0.180,2,   0.101,2,   0.004,2,  2190.5,2,    -999,9,    -999,9,     -999,9,    -999,9,    -999,9,    -999,9,    -999,   0.312,2,    -999,9,    -999,9, 1374.70,     1816,  17.6969, -66.0012,    -999,     -999,    -999,     -999,9,     -999,9,     -999,9,     -999,9,     -999,9,     -999,9,   4.3057,    -999,9,       -999,9,    -999,9,    -999,9
 316N200310,        A22,      21,          1,          1,          1,2,20031028,       1812,    17.6968,   -66.0012,       1446,  1453.5,   4.3119,  34.9731,2,  34.9746,2,    214.3,2,   213.7,2,   23.98,2,   22.28,2,    0.00,2,    1.52,2,   0.162,2,   0.100,2,   0.009,2,  2191.3,2,  2328.6,6,    -999,9,     -999,9,    -999,9,    -999,9,    -999,9,    -999,   0.228,2,   40.40,2,    -999,9, 1453.50,     1813,  17.6969, -66.0012,    -999,     -999,    -999,   0.1390,2,   0.0990,2,   0.0490,2,   0.0330,2,   0.0170,2,   0.0180,2,   4.1925,    -999,9,       -999,9,    -999,9,    -999,9
 316N200310,        A22,      22,          1,         11,         11,2,20031028,       2043,    17.9383,   -65.9997,        323,     2.7,  29.6564,  34.6499,2,  34.6568,2,    193.4,2,   191.5,2,    2.14,2,    0.07,2,    0.00,2,    0.02,2,   1.490,2,   0.941,2,   0.113,2,  1943.2,2,    -999,9,    -999,9,     -999,9,    -999,9,    -999,9,    -999,9,    -999,    -999,9,   68.60,2,    4.50,2,    2.70,     2059,  17.9389, -65.9987,    -999,     -999,    -999,     -999,9,     -999,9,     -999,9,     -999,9,     -999,9,     -999,9,  29.6557,    -999,9,       -999,9,    -999,9,    -999,9
 316N200310,        A22,      22,          1,         10,         10,2,20031028,       2043,    17.9383,   -65.9997,        323,    25.9,  29.4199,  35.0288,2,  35.1087,2,    192.1,2,   191.0,2,    1.13,2,    0.01,2,    0.00,2,    0.02,2,   1.515,2,   0.945,2,   0.113,2,  1963.8,2,  2304.7,2,    -999,9,     -999,9,    -999,9,    -999,9,    -999,9,    -999,    -999,9,    -999,9,    -999,9,   25.90,     2057,  17.9390, -65.9990,    -999,     -999,    -999,     -999,9,     -999,9,     -999,9,     -999,9,     -999,9,     -999,9,  29.4135,    -999,9,       -999,9,    -999,9,    -999,9
 316N200310,        A22,      22,          1,          9,          9,2,20031028,       2043,    17.9383,   -65.9997,        323,    51.1,  28.2521,  36.2527,2,  36.2626,2,    196.6,2,   195.6,2,    0.73,2,    0.01,2,    0.01,2,    0.02,2,   1.616,6,   1.002,6,   0.124,6,  2017.3,2,  2372.9,2,    -999,9,     -999,9,    -999,9,    -999,9,    -999,9,    -999,    -999,9,   71.60,2,    4.40,2,   51.10,     2056,  17.9390, -65.9993,    -999,     -999,    -999,     -999,9,     -999,9,     -999,9,     -999,9,     -999,9,     -999,9,  28.2400,    -999,9,       -999,9,    -999,9,    -999,9
 316N200310,        A22,      22,          1,          8,          8,2,20031028,       2043,    17.9383,   -65.9997,        323,    75.9,  27.0818,  36.7828,2,  36.7822,2,    194.3,2,   193.8,2,    0.72,2,    0.09,2,    0.08,2,    0.02,2,   1.692,2,   1.022,2,   0.129,2,  2049.7,2,  2404.2,2,    -999,9,     -999,9,    -999,9,    -999,9,    -999,9,    -999,    -999,9,   70.10,2,    4.60,2,   75.90,     2055,  17.9390, -65.9996,    -999,     -999,    -999,     -999,9,     -999,9,     -999,9,     -999,9,     -999,9,     -999,9,  27.0642,    -999,9,       -999,9,    -999,9,    -999,9
 316N200310,        A22,      22,          1,          7,          7,2,20031028,       2043,    17.9383,   -65.9997,        323,   100.8,  26.0036,  37.0353,2,  37.0380,2,    192.7,2,   192.6,2,    0.62,2,    0.17,2,    0.19,2,    0.03,2,   1.751,6,   1.098,6,   0.139,2,  2068.9,2,  2420.1,2,    -999,9,     -999,9,    -999,9,    -999,9,    -999,9,    -999,   0.759,2,   66.00,2,    4.30,2,  100.80,     2053,  17.9390, -65.9998,    -999,     -999,    -999,     -999,9,     -999,9,     -999,9,     -999,9,     -999,9,     -999,9,  25.9809,    -999,9,       -999,9,    -999,9,    -999,9
 316N200310,        A22,      22,          1,          6,          6,2,20031028,       2043,    17.9383,   -65.9997,        323,   125.8,  24.5615,  37.2118,2,  37.2065,2,    188.6,2,   188.0,2,    0.42,2,    0.64,2,    0.06,2,    0.04,2,   1.848,2,   1.131,2,   0.127,2,  2093.6,2,  2427.6,2,    -999,9,     -999,9,    -999,9,    -999,9,    -999,9,    -999,    -999,9,    -999,9,    -999,9,  125.80,     2052,  17.9388, -66.0001,    -999,     -999,    -999,     -999,9,     -999,9,     -999,9,     -999,9,     -999,9,     -999,9,  24.5343,    -999,9,       -999,9,    -999,9,    -999,9
 316N200310,        A22,      22,          1,          5,          5,2,20031028,       2043,    17.9383,   -65.9997,        323,   150.7,  22.8918,  37.1582,2,  37.1501,2,    183.1,2,   182.8,2,    0.32,2,    1.01,2,    0.03,2,    0.05,2,   1.974,2,   1.184,2,   0.103,2,  2109.7,2,  2422.8,2,    -999,9,     -999,9,    -999,9,    -999,9,    -999,9,    -999,    -999,9,    -999,9,    -999,9,  150.70,     2051,  17.9386, -66.0003,    -999,     -999,    -999,     -999,9,     -999,9,     -999,9,     -999,9,     -999,9,     -999,9,  22.8608,    -999,9,       -999,9,    -999,9,    -999,9
 316N200310,        A22,      22,          1,          4,          4,2,20031028,       2043,    17.9383,   -65.9997,        323,   200.3,  20.3252,  36.8734,2,  36.8693,2,    177.0,2,   177.3,2,    0.61,2,    2.76,2,    0.02,2,    0.13,2,   2.141,2,   1.256,2,   0.034,2,  2121.8,2,  2405.2,2,    -999,9,     -999,9,    -999,9,    -999,9,    -999,9,    -999,    -999,9,   52.30,2,    6.80,2,  200.30,     2049,  17.9383, -66.0004,    -999,     -999,    -999,     -999,9,     -999,9,     -999,9,     -999,9,     -999,9,     -999,9,  20.2873,    -999,9,       -999,9,    -999,9,    -999,9
 316N200310,        A22,      22,          1,          3,          3,2,20031028,       2043,    17.9383,   -65.9997,        323,   250.8,  18.7905,  36.6429,2,  36.6281,2,    179.8,2,   180.3,2,    1.01,2,    4.64,2,    0.01,2,    0.23,2,   2.245,2,   1.276,2,   0.011,2,  2119.9,2,  2389.4,2,    -999,9,     -999,9,    -999,9,    -999,9,    -999,9,    -999,    -999,9,    -999,9,    -999,9,  250.80,     2047,  17.9382, -66.0003,    -999,     -999,    -999,     -999,9,     -999,9,     -999,9,     -999,9,     -999,9,     -999,9,  18.7457,    -999,9,       -999,9,    -999,9,    -999,9
 316N200310,        A22,      22,          1,          2,          2,2,20031028,       2043,    17.9383,   -65.9997,        323,   300.7,  17.3285,  36.4127,2,  36.4077,2,    174.7,2,   174.5,2,    1.91,2,    7.70,2,    0.01,2,    0.42,2,   2.238,2,   1.253,2,   0.018,2,  2130.7,2,  2376.1,2,    -999,9,     -999,9,    -999,9,    -999,9,    -999,9,    -999,    -999,9,    -999,9,    -999,9,  300.70,     2045,  17.9382, -66.0001,    -999,     -999,    -999,     -999,9,     -999,9,     -999,9,     -999,9,     -999,9,     -999,9,  17.2775,    -999,9,       -999,9,    -999,9,    -999,9
 316N200310,        A22,      22,          1,          1,          1,2,20031028,       2043,    17.9383,   -65.9997,        323,   333.1,  16.8020,  36.3235,2,  36.3330,2,    169.9,2,   170.2,2,    2.31,2,    8.89,2,    0.01,2,    0.49,2,   2.191,2,   1.235,2,   0.020,2,  2135.6,2,  2372.8,2,    -999,9,     -999,9,    -999,9,    -999,9,    -999,9,    -999,    -999,9,   49.10,2,    -999,9,  333.10,     2043,  17.9383, -65.9998,    -999,     -999,    -999,     -999,9,     -999,9,     -999,9,     -999,9,     -999,9,     -999,9,  16.7468,    -999,9,       -999,9,    -999,9,    -999,9