BOTTLE,20220517CCHSIOLMM
EXPOCODE,SECT_ID,STNNBR,CASTNO,SAMPNO,BTLNBR,BTLNBR_FLAG_W,DATE,TIME,LATITUDE,LONGITUDE,DEPTH,CTDPRS,CTDTMP,CTDSAL,CTDSAL_FLAG_W,SALNTY,SALNTY_FLAG_W,CTDOXY,CTDOXY_FLAG_W,OXYGEN,OXYGEN_FLAG_W,SILCAT,SILCAT_FLAG_W,NITRAT,NITRAT_FLAG_W,NITRIT,NITRIT_FLAG_W,PHSPHT,PHSPHT_FLAG_W,CFC-11,CFC-11_FLAG_W,CFC-12,CFC-12_FLAG_W,CFC113,CFC113_FLAG_W,TCARBN,TCARBN_FLAG_W,ALKALI,ALKALI_FLAG_W,TRITUM,TRITUM_FLAG_W,HELIUM,HELIUM_FLAG_W,DELHE3,DELHE3_FLAG_W,DELC13,DELC13_FLAG_W,DELC14,DELC14_FLAG_W,C14ERR,CCL4,CCL4_FLAG_W,DOC,DOC_FLAG_W,TDN,TDN_FLAG_W,CTDRAW,BTL_TIME,BTL_LAT,BTL_LON,TRITER,HELIER,DELHER,CDOM325,CDOM325_FLAG_W,CDOM340,CDOM340_FLAG_W,CDOM380,CDOM380_FLAG_W,CDOM412,CDOM412_FLAG_W,CDOMSL,CDOMSL_FLAG_W,CDOMSN,CDOMSN_FLAG_W,THETA,BACT,BACT_FLAG_W,PROC,PROC_FLAG_W,SYN,SYN_FLAG_W,PEUK,PEUK_FLAG_W
,,,,,,,,,,,METERS,DBAR,ITS-90,PSS-78,,PSS-78,,UMOL/KG,,UMOL/KG,,UMOL/KG,,UMOL/KG,,UMOL/KG,,UMOL/KG,,PMOL/KG,,PMOL/KG,,PMOL/KG,,UMOL/KG,,UMOL/KG,,TU,,NMOL/KG,,PERCNT,,/MILLE,,/MILLE,,/MILLE,PMOL/KG,,UMOL/KG,,UMOL/KG,,DBAR,,,,TU,NMOL/KG,PERCNT,1/M,,1/M,,1/M,,1/M,,1/NM,,1/NM,,DEG C,E8/L,,E7/L,,E6/L,,E6/L,
 316N200310,        A22,      27,          1,         20,         20,2,20031029,       2027,    18.6535,   -66.0003,       1542,     3.1,  29.2834,  35.3704,2,  35.3689,2,    195.3,2,   193.9,2,    0.85,2,    0.06,2,    0.00,2,    0.01,2,   1.508,2,   0.936,2,   0.125,2,  1971.6,2,  2323.3,2,    -999,9,     -999,9,    -999,9,    -999,9,    -999,9,    -999,    -999,9,    -999,9,    -999,9,    3.10,     2109,  18.6539, -66.0003,    -999,     -999,    -999,     -999,9,     -999,9,     -999,9,     -999,9,     -999,9,     -999,9,  29.2826,    -999,9,       -999,9,    -999,9,    -999,9
 316N200310,        A22,      27,          1,         19,         19,2,20031029,       2027,    18.6535,   -66.0003,       1542,    25.4,  29.3196,  35.6271,2,  35.5723,2,    195.2,2,   194.1,2,    0.85,2,    0.00,2,    0.00,2,    0.01,2,   1.514,6,   0.948,6,   0.120,6,    -999,9,    -999,9,   0.785,2,   1.7099,2,   -1.98,2,    -999,9,    -999,9,    -999,    -999,9,    -999,9,    -999,9,   25.40,     2107,  18.6539, -66.0004,   0.013,   0.0085,    0.15,     -999,9,     -999,9,     -999,9,     -999,9,     -999,9,     -999,9,  29.3134,    -999,9,       -999,9,    -999,9,    -999,9
 316N200310,        A22,      27,          1,         18,         18,2,20031029,       2027,    18.6535,   -66.0003,       1542,    50.4,  29.1421,  36.2562,2,  36.2269,2,    200.1,2,   198.6,2,    0.86,2,    0.00,2,    0.00,2,    0.02,2,   1.563,2,   0.971,2,   0.128,2,    -999,9,    -999,9,    -999,9,     -999,9,    -999,9,    -999,9,    -999,9,    -999,    -999,9,    -999,9,    -999,9,   50.40,     2106,  18.6539, -66.0004,    -999,     -999,    -999,     -999,9,     -999,9,     -999,9,     -999,9,     -999,9,     -999,9,  29.1299,    -999,9,       -999,9,    -999,9,    -999,9
 316N200310,        A22,      27,          1,         17,         17,2,20031029,       2027,    18.6535,   -66.0003,       1542,    73.6,  27.8367,  36.6952,2,  36.6871,2,    208.2,2,   207.8,2,    0.86,2,    0.00,2,    0.00,2,    0.01,2,   1.680,6,   1.023,6,   0.138,2,    -999,9,    -999,9,   0.897,2,   1.7298,2,   -1.98,2,    -999,9,    -999,9,    -999,   1.084,2,    -999,9,    -999,9,   73.60,     2105,  18.6539, -66.0005,   0.013,   0.0086,    0.15,     -999,9,     -999,9,     -999,9,     -999,9,     -999,9,     -999,9,  27.8193,    -999,9,       -999,9,    -999,9,    -999,9
 316N200310,        A22,      27,          1,         16,         16,2,20031029,       2027,    18.6535,   -66.0003,       1542,   100.2,  26.4489,  36.8634,2,  36.8578,2,    202.5,2,   203.9,2,    0.76,2,    0.00,2,    0.00,2,    0.01,2,   1.751,2,   1.068,2,   0.137,2,    -999,9,    -999,9,   1.027,2,   1.7505,2,   -1.93,2,    -999,9,    -999,9,    -999,    -999,9,    -999,9,    -999,9,  100.20,     2103,  18.6539, -66.0005,   0.014,   0.0088,    0.15,     -999,9,     -999,9,     -999,9,     -999,9,     -999,9,     -999,9,  26.4261,    -999,9,       -999,9,    -999,9,    -999,9
 316N200310,        A22,      27,          1,         15,         15,2,20031029,       2027,    18.6535,   -66.0003,       1542,   125.4,  25.4879,  37.0351,2,  37.0281,2,    203.9,2,   204.3,2,    0.57,2,    0.04,2,    0.06,2,    0.02,2,   1.807,2,   1.104,2,   0.139,2,    -999,9,    -999,9,   1.101,2,   1.7806,2,   -1.82,2,    -999,9,    -999,9,    -999,    -999,9,    -999,9,    -999,9,  125.40,     2102,  18.6538, -66.0005,   0.014,   0.0089,    0.15,     -999,9,     -999,9,     -999,9,     -999,9,     -999,9,     -999,9,  25.4601,    -999,9,       -999,9,    -999,9,    -999,9
 316N200310,        A22,      27,          1,         14,         14,2,20031029,       2027,    18.6535,   -66.0003,       1542,   150.6,  24.4652,  37.1944,2,  37.1849,2,    194.9,2,   194.0,2,    0.37,2,    0.13,2,    0.13,2,    0.02,2,   1.871,2,   1.125,2,   0.140,2,    -999,9,    -999,9,   1.123,2,   1.7610,2,   -0.45,2,    -999,9,    -999,9,    -999,    -999,9,    -999,9,    -999,9,  150.60,     2101,  18.6538, -66.0005,   0.014,   0.0088,    0.15,     -999,9,     -999,9,     -999,9,     -999,9,     -999,9,     -999,9,  24.4328,    -999,9,       -999,9,    -999,9,    -999,9
 316N200310,        A22,      27,          1,         13,         13,2,20031029,       2027,    18.6535,   -66.0003,       1542,   201.1,  21.2733,  37.0171,2,  37.0152,2,    173.0,2,   172.9,2,    0.57,2,    2.24,2,    0.01,2,    0.10,2,   2.079,2,   1.233,2,   0.040,2,    -999,9,    -999,9,   1.210,2,   1.7649,2,    0.71,2,    -999,9,    -999,9,    -999,    -999,9,    -999,9,    -999,9,  201.10,     2059,  18.6538, -66.0005,   0.014,   0.0088,    0.15,     -999,9,     -999,9,     -999,9,     -999,9,     -999,9,     -999,9,  21.2340,    -999,9,       -999,9,    -999,9,    -999,9
 316N200310,        A22,      27,          1,         12,         12,2,20031029,       2027,    18.6535,   -66.0003,       1542,   249.9,  19.0299,  36.6843,2,  36.6802,2,    172.2,2,   174.3,2,    1.06,2,    4.75,2,    0.01,2,    0.22,2,   2.223,2,   1.296,2,   0.028,2,    -999,9,    -999,9,   1.236,2,   1.7807,2,    4.11,2,    -999,9,    -999,9,    -999,    -999,9,    -999,9,    -999,9,  249.90,     2057,  18.6538, -66.0005,   0.014,   0.0089,    0.15,     -999,9,     -999,9,     -999,9,     -999,9,     -999,9,     -999,9,  18.9848,    -999,9,       -999,9,    -999,9,    -999,9
 316N200310,        A22,      27,          1,         11,         11,2,20031029,       2027,    18.6535,   -66.0003,       1542,   301.1,  18.0324,  36.5277,2,  36.5248,2,    186.1,2,   186.5,2,    1.27,2,    5.24,2,    0.01,2,    0.26,2,    -999,9,    -999,9,    -999,9,    -999,9,    -999,9,   1.124,2,   1.7758,2,    6.13,2,    -999,9,    -999,9,    -999,    -999,9,    -999,9,    -999,9,  301.10,     2056,  18.6537, -66.0005,   0.014,   0.0089,    0.15,     -999,9,     -999,9,     -999,9,     -999,9,     -999,9,     -999,9,  17.9799,    -999,9,       -999,9,    -999,9,    -999,9
 316N200310,        A22,      27,          1,         10,         10,2,20031029,       2027,    18.6535,   -66.0003,       1542,   401.2,  16.0734,  36.1977,2,  36.1791,2,    167.9,2,   166.4,2,    3.05,2,   10.65,2,    0.01,2,    0.60,2,   2.144,2,   1.167,2,   0.024,2,    -999,9,    -999,9,   0.783,2,   1.7930,2,    7.43,2,    -999,9,    -999,9,    -999,    -999,9,    -999,9,    -999,9,  401.20,     2053,  18.6537, -66.0005,   0.013,   0.0090,    0.15,     -999,9,     -999,9,     -999,9,     -999,9,     -999,9,     -999,9,  16.0088,    -999,9,       -999,9,    -999,9,    -999,9
 316N200310,        A22,      27,          1,          9,          9,2,20031029,       2027,    18.6535,   -66.0003,       1542,   500.7,  13.6874,  35.8121,2,  35.8117,2,    152.4,2,   151.6,2,    5.63,2,   15.85,2,    0.01,2,    0.93,2,   1.807,2,   0.954,2,   0.020,2,    -999,9,    -999,9,   0.369,2,     -999,9,    -999,9,    -999,9,    -999,9,    -999,    -999,9,    -999,9,    -999,9,  500.70,     2051,  18.6536, -66.0005,   0.011,     -999,    -999,     -999,9,     -999,9,     -999,9,     -999,9,     -999,9,     -999,9,  13.6149,    -999,9,       -999,9,    -999,9,    -999,9
 316N200310,        A22,      27,          1,          8,          8,2,20031029,       2027,    18.6535,   -66.0003,       1542,   626.2,  10.5778,  35.3446,2,  35.3445,2,    135.4,2,   136.0,2,   11.32,2,   23.25,2,    0.01,2,    1.44,2,   0.934,2,   0.486,2,   0.004,2,    -999,9,    -999,9,   0.243,2,   1.8351,2,    1.81,2,    -999,9,    -999,9,    -999,    -999,9,    -999,9,    -999,9,  626.20,     2048,  18.6536, -66.0004,   0.011,   0.0092,    0.15,     -999,9,     -999,9,     -999,9,     -999,9,     -999,9,     -999,9,  10.5006,    -999,9,       -999,9,    -999,9,    -999,9
 316N200310,        A22,      27,          1,          7,          7,2,20031029,       2027,    18.6535,   -66.0003,       1542,   750.9,   8.4318,  35.0952,2,  35.0917,2,    135.8,2,   135.9,2,   16.42,2,   26.93,2,    0.01,2,    1.72,2,   0.421,2,   0.213,2,   0.010,2,    -999,9,    -999,9,    -999,9,     -999,9,    -999,9,    -999,9,    -999,9,    -999,    -999,9,    -999,9,    -999,9,  750.90,     2045,  18.6535, -66.0004,    -999,     -999,    -999,     -999,9,     -999,9,     -999,9,     -999,9,     -999,9,     -999,9,   8.3507,    -999,9,       -999,9,    -999,9,    -999,9
 316N200310,        A22,      27,          1,          6,          6,2,20031029,       2027,    18.6535,   -66.0003,       1542,   899.8,   6.7772,  35.0021,2,  35.0006,2,    156.0,2,   158.3,2,   18.52,2,   26.58,2,    0.00,2,    1.73,2,   0.296,2,   0.160,2,   0.009,2,    -999,9,    -999,9,    -999,9,     -999,9,    -999,9,    -999,9,    -999,9,    -999,    -999,9,    -999,9,    -999,9,  899.80,     2041,  18.6534, -66.0004,    -999,     -999,    -999,     -999,9,     -999,9,     -999,9,     -999,9,     -999,9,     -999,9,   6.6902,    -999,9,       -999,9,    -999,9,    -999,9
 316N200310,        A22,      27,          1,          5,          5,2,20031029,       2027,    18.6535,   -66.0003,       1542,  1050.3,   5.9288,  35.0351,2,  35.0348,2,    193.8,2,   193.7,2,   16.21,2,   22.96,2,    0.00,2,    1.49,2,   0.550,2,   0.280,2,   0.013,2,    -999,9,    -999,9,    -999,9,     -999,9,    -999,9,    -999,9,    -999,9,    -999,    -999,9,    -999,9,    -999,9, 1050.30,     2038,  18.6534, -66.0004,    -999,     -999,    -999,     -999,9,     -999,9,     -999,9,     -999,9,     -999,9,     -999,9,   5.8327,    -999,9,       -999,9,    -999,9,    -999,9
 316N200310,        A22,      27,          1,          4,          4,2,20031029,       2027,    18.6535,   -66.0003,       1542,  1198.7,   5.1574,  35.0346,2,  35.0354,2,    223.6,2,   223.1,2,   14.32,2,   20.42,2,    0.00,2,    1.34,2,   0.844,2,   0.429,2,   0.028,2,    -999,9,    -999,9,    -999,9,     -999,9,    -999,9,    -999,9,    -999,9,    -999,    -999,9,    -999,9,    -999,9, 1198.70,     2035,  18.6534, -66.0004,    -999,     -999,    -999,     -999,9,     -999,9,     -999,9,     -999,9,     -999,9,     -999,9,   5.0534,    -999,9,       -999,9,    -999,9,    -999,9
 316N200310,        A22,      27,          1,          3,          3,2,20031029,       2027,    18.6535,   -66.0003,       1542,  1325.7,   4.5985,  35.0171,2,  35.0179,2,    241.4,2,   241.4,2,   13.32,2,   19.00,2,    0.00,2,    1.25,2,   1.031,2,   0.519,2,   0.050,2,    -999,9,    -999,9,    -999,9,     -999,9,    -999,9,    -999,9,    -999,9,    -999,    -999,9,    -999,9,    -999,9, 1325.70,     2032,  18.6534, -66.0004,    -999,     -999,    -999,     -999,9,     -999,9,     -999,9,     -999,9,     -999,9,     -999,9,   4.4878,    -999,9,       -999,9,    -999,9,    -999,9
 316N200310,        A22,      27,          1,          2,          2,2,20031029,       2027,    18.6535,   -66.0003,       1542,  1437.2,   4.2712,  35.0023,2,  35.0028,2,    251.2,2,   251.8,2,   12.82,2,   18.35,2,    0.00,2,    1.20,2,   1.136,2,   0.566,2,   0.041,2,    -999,9,    -999,9,    -999,9,     -999,9,    -999,9,    -999,9,    -999,9,    -999,    -999,9,    -999,9,    -999,9, 1437.20,     2029,  18.6534, -66.0003,    -999,     -999,    -999,     -999,9,     -999,9,     -999,9,     -999,9,     -999,9,     -999,9,   4.1537,    -999,9,       -999,9,    -999,9,    -999,9
 316N200310,        A22,      27,          1,          1,          1,2,20031029,       2027,    18.6535,   -66.0003,       1542,  1499.6,   4.1725,  34.9956,2,  34.9955,2,    254.9,2,   254.2,2,   12.92,2,   18.19,2,    0.00,2,    1.20,2,   1.141,2,   0.558,2,   0.053,2,    -999,9,    -999,9,    -999,9,     -999,9,    -999,9,    -999,9,    -999,9,    -999,    -999,9,    -999,9,    -999,9, 1499.60,     2027,  18.6534, -66.0003,    -999,     -999,    -999,     -999,9,     -999,9,     -999,9,     -999,9,     -999,9,     -999,9,   4.0503,    -999,9,       -999,9,    -999,9,    -999,9