BOTTLE,20220517CCHSIOLMM
EXPOCODE,SECT_ID,STNNBR,CASTNO,SAMPNO,BTLNBR,BTLNBR_FLAG_W,DATE,TIME,LATITUDE,LONGITUDE,DEPTH,CTDPRS,CTDTMP,CTDSAL,CTDSAL_FLAG_W,SALNTY,SALNTY_FLAG_W,CTDOXY,CTDOXY_FLAG_W,OXYGEN,OXYGEN_FLAG_W,SILCAT,SILCAT_FLAG_W,NITRAT,NITRAT_FLAG_W,NITRIT,NITRIT_FLAG_W,PHSPHT,PHSPHT_FLAG_W,CFC-11,CFC-11_FLAG_W,CFC-12,CFC-12_FLAG_W,CFC113,CFC113_FLAG_W,TCARBN,TCARBN_FLAG_W,ALKALI,ALKALI_FLAG_W,TRITUM,TRITUM_FLAG_W,HELIUM,HELIUM_FLAG_W,DELHE3,DELHE3_FLAG_W,DELC13,DELC13_FLAG_W,DELC14,DELC14_FLAG_W,C14ERR,CCL4,CCL4_FLAG_W,DOC,DOC_FLAG_W,TDN,TDN_FLAG_W,CTDRAW,BTL_TIME,BTL_LAT,BTL_LON,TRITER,HELIER,DELHER,CDOM325,CDOM325_FLAG_W,CDOM340,CDOM340_FLAG_W,CDOM380,CDOM380_FLAG_W,CDOM412,CDOM412_FLAG_W,CDOMSL,CDOMSL_FLAG_W,CDOMSN,CDOMSN_FLAG_W,THETA,BACT,BACT_FLAG_W,PROC,PROC_FLAG_W,SYN,SYN_FLAG_W,PEUK,PEUK_FLAG_W
,,,,,,,,,,,METERS,DBAR,ITS-90,PSS-78,,PSS-78,,UMOL/KG,,UMOL/KG,,UMOL/KG,,UMOL/KG,,UMOL/KG,,UMOL/KG,,PMOL/KG,,PMOL/KG,,PMOL/KG,,UMOL/KG,,UMOL/KG,,TU,,NMOL/KG,,PERCNT,,/MILLE,,/MILLE,,/MILLE,PMOL/KG,,UMOL/KG,,UMOL/KG,,DBAR,,,,TU,NMOL/KG,PERCNT,1/M,,1/M,,1/M,,1/M,,1/NM,,1/NM,,DEG C,E8/L,,E7/L,,E6/L,,E6/L,
 316N200310,        A22,      71,          1,         33,         33,2,20031111,       0905,    38.0820,   -68.6937,       4109,     3.7,  18.8837,  34.9958,2,  35.0150,2,    191.6,2,   228.6,2,    0.75,2,    0.09,2,    0.00,2,    0.05,2,   2.269,2,   1.355,2,   0.172,2,  2016.9,2,  2319.4,6,    -999,9,     -999,9,    -999,9,    -999,9,    -999,9,    -999,    -999,9,    -999,9,    -999,9,    3.70,     1049,  38.0668, -68.6820,    -999,     -999,    -999,     -999,9,     -999,9,     -999,9,     -999,9,     -999,9,     -999,9,  18.8830,    -999,9,       -999,9,    -999,9,    -999,9
 316N200310,        A22,      71,          1,         32,         32,2,20031111,       0905,    38.0820,   -68.6937,       4109,    25.3,  18.8539,  35.0986,2,  35.0963,2,    230.0,2,   229.0,2,    0.44,2,    0.08,2,    0.00,2,    0.04,2,   2.287,2,   1.364,2,   0.170,2,    -999,9,    -999,9,    -999,9,     -999,9,    -999,9,    -999,9,    -999,9,    -999,    -999,9,    -999,9,    -999,9,   25.30,     1048,  38.0671, -68.6822,    -999,     -999,    -999,     -999,9,     -999,9,     -999,9,     -999,9,     -999,9,     -999,9,  18.8494,    -999,9,       -999,9,    -999,9,    -999,9
 316N200310,        A22,      71,          1,         31,         31,2,20031111,       0905,    38.0820,   -68.6937,       4109,    50.2,  18.8090,  35.0972,2,  35.0943,2,    230.3,2,   227.8,2,    0.43,2,    0.16,2,    0.02,2,    0.05,2,    -999,9,    -999,9,    -999,9,    -999,9,    -999,9,    -999,9,     -999,9,    -999,9,    -999,9,    -999,9,    -999,    -999,9,    -999,9,    -999,9,   50.20,     1046,  38.0673, -68.6824,    -999,     -999,    -999,     -999,9,     -999,9,     -999,9,     -999,9,     -999,9,     -999,9,  18.8002,    -999,9,       -999,9,    -999,9,    -999,9
 316N200310,        A22,      71,          1,         30,         30,2,20031111,       0905,    38.0820,   -68.6937,       4109,    75.8,  15.1772,  35.4453,2,  35.4218,2,    183.2,2,   182.3,2,    3.99,2,    8.23,2,    0.04,2,    0.58,2,   2.568,2,   1.466,2,   0.132,2,    -999,9,    -999,9,    -999,9,     -999,9,    -999,9,    -999,9,    -999,9,    -999,    -999,9,    -999,9,    -999,9,   75.80,     1045,  38.0676, -68.6826,    -999,     -999,    -999,     -999,9,     -999,9,     -999,9,     -999,9,     -999,9,     -999,9,  15.1656,    -999,9,       -999,9,    -999,9,    -999,9
 316N200310,        A22,      71,          1,         29,         29,2,20031111,       0905,    38.0820,   -68.6937,       4109,   100.6,  14.2055,  35.5517,2,  35.5206,2,    174.6,2,   169.9,2,    5.36,2,   11.83,2,    0.02,2,    0.76,2,   2.458,2,   1.361,2,   0.107,2,    -999,9,    -999,9,    -999,9,     -999,9,    -999,9,    -999,9,    -999,9,    -999,    -999,9,    -999,9,    -999,9,  100.60,     1044,  38.0678, -68.6827,    -999,     -999,    -999,     -999,9,     -999,9,     -999,9,     -999,9,     -999,9,     -999,9,  14.1907,    -999,9,       -999,9,    -999,9,    -999,9
 316N200310,        A22,      71,          1,         28,         28,2,20031111,       0905,    38.0820,   -68.6937,       4109,   124.4,  13.2793,  35.5506,2,  35.5433,2,    168.2,2,   169.0,2,    6.35,2,   13.86,2,    0.02,2,    0.87,2,    -999,9,    -999,9,    -999,9,    -999,9,    -999,9,    -999,9,     -999,9,    -999,9,    -999,9,    -999,9,    -999,    -999,9,    -999,9,    -999,9,  124.40,     1042,  38.0681, -68.6829,    -999,     -999,    -999,     -999,9,     -999,9,     -999,9,     -999,9,     -999,9,     -999,9,  13.2619,    -999,9,       -999,9,    -999,9,    -999,9
 316N200310,        A22,      71,          1,         27,         27,2,20031111,       0905,    38.0820,   -68.6937,       4109,   150.3,  12.7074,  35.5080,2,  35.5083,2,    162.4,2,   172.1,2,    7.05,2,   14.65,2,    0.02,2,    0.92,2,   2.294,2,   1.284,2,   0.110,2,    -999,9,    -999,9,    -999,9,     -999,9,    -999,9,    -999,9,    -999,9,    -999,    -999,9,    -999,9,    -999,9,  150.30,     1041,  38.0684, -68.6831,    -999,     -999,    -999,     -999,9,     -999,9,     -999,9,     -999,9,     -999,9,     -999,9,  12.6870,    -999,9,       -999,9,    -999,9,    -999,9
 316N200310,        A22,      71,          1,         26,         26,2,20031111,       0905,    38.0820,   -68.6937,       4109,   200.3,  11.6185,  35.4586,2,  35.4586,2,    149.3,2,   152.3,2,    9.33,2,   19.31,2,    0.01,2,    1.19,2,   1.631,2,   0.906,2,   0.068,2,    -999,9,    -999,9,    -999,9,     -999,9,    -999,9,    -999,9,    -999,9,    -999,    -999,9,    -999,9,    -999,9,  200.30,     1039,  38.0687, -68.6834,    -999,     -999,    -999,     -999,9,     -999,9,     -999,9,     -999,9,     -999,9,     -999,9,  11.5928,    -999,9,       -999,9,    -999,9,    -999,9
 316N200310,        A22,      71,          1,         25,         25,2,20031111,       0905,    38.0820,   -68.6937,       4109,   250.4,  10.0191,  35.2845,2,  35.2867,2,    135.7,2,   134.6,2,   12.85,2,   23.90,2,    0.01,2,    1.50,2,   0.935,2,   0.498,2,   0.022,2,  2188.8,2,  2324.2,2,    -999,9,     -999,9,    -999,9,    -999,9,    -999,9,    -999,    -999,9,    -999,9,    -999,9,  250.40,     1037,  38.0692, -68.6836,    -999,     -999,    -999,     -999,9,     -999,9,     -999,9,     -999,9,     -999,9,     -999,9,   9.9898,    -999,9,       -999,9,    -999,9,    -999,9
 316N200310,        A22,      71,          1,         24,         24,2,20031111,       0905,    38.0820,   -68.6937,       4109,   299.8,   8.9446,  35.1713,2,  35.1701,2,    141.2,2,   137.1,2,   14.87,2,   25.35,2,    0.01,2,    1.61,2,   0.770,2,   0.408,2,   0.022,2,    -999,9,    -999,9,    -999,9,     -999,9,    -999,9,    -999,9,    -999,9,    -999,    -999,9,    -999,9,    -999,9,  299.80,     1035,  38.0696, -68.6838,    -999,     -999,    -999,     -999,9,     -999,9,     -999,9,     -999,9,     -999,9,     -999,9,   8.9119,    -999,9,       -999,9,    -999,9,    -999,9
 316N200310,        A22,      71,          1,         23,         23,2,20031111,       0905,    38.0820,   -68.6937,       4109,   380.3,   7.7695,  35.1206,2,  35.1205,2,    166.4,2,   162.2,2,   14.54,2,   23.91,2,    0.01,2,    1.52,2,   0.852,2,   0.427,2,   0.020,2,    -999,9,    -999,9,    -999,9,     -999,9,    -999,9,    -999,9,    -999,9,    -999,    -999,9,    -999,9,    -999,9,  380.30,     1033,  38.0701, -68.6841,    -999,     -999,    -999,     -999,9,     -999,9,     -999,9,     -999,9,     -999,9,     -999,9,   7.7311,    -999,9,       -999,9,    -999,9,    -999,9
 316N200310,        A22,      71,          1,         22,         22,2,20031111,       0905,    38.0820,   -68.6937,       4109,   500.9,   5.8131,  35.0660,2,  35.0667,2,    208.0,2,   211.3,2,   12.92,2,   20.53,2,    0.00,2,    1.33,2,   1.321,2,   0.658,2,   0.051,2,    -999,9,    -999,9,    -999,9,     -999,9,    -999,9,    -999,9,    -999,9,    -999,    -999,9,    -999,9,    -999,9,  500.90,     1030,  38.0707, -68.6843,    -999,     -999,    -999,     -999,9,     -999,9,     -999,9,     -999,9,     -999,9,     -999,9,   5.7695,    -999,9,       -999,9,    -999,9,    -999,9
 316N200310,        A22,      71,          1,         21,         21,2,20031111,       0905,    38.0820,   -68.6937,       4109,   625.1,   4.9723,  35.0210,2,  35.0213,2,    231.8,2,   236.3,2,   12.00,2,   19.04,2,    0.00,2,    1.24,2,   1.860,2,   0.942,2,   0.094,2,    -999,9,    -999,9,    -999,9,     -999,9,    -999,9,    -999,9,    -999,9,    -999,    -999,9,    -999,9,    -999,9,  625.10,     1027,  38.0713, -68.6846,    -999,     -999,    -999,     -999,9,     -999,9,     -999,9,     -999,9,     -999,9,     -999,9,   4.9216,    -999,9,       -999,9,    -999,9,    -999,9
 316N200310,        A22,      71,          1,         20,         20,2,20031111,       0905,    38.0820,   -68.6937,       4109,   751.9,   4.5414,  34.9935,2,  34.9935,2,    247.3,2,   248.4,2,   11.58,2,   18.40,2,    0.00,2,    1.20,2,   2.097,2,   1.046,2,   0.097,2,    -999,9,    -999,9,    -999,9,     -999,9,    -999,9,    -999,9,    -999,9,    -999,    -999,9,    -999,9,    -999,9,  751.90,     1024,  38.0719, -68.6850,    -999,     -999,    -999,     -999,9,     -999,9,     -999,9,     -999,9,     -999,9,     -999,9,   4.4822,    -999,9,       -999,9,    -999,9,    -999,9
 316N200310,        A22,      71,          1,         19,         19,2,20031111,       0905,    38.0820,   -68.6937,       4109,   901.7,   4.2638,  34.9841,2,  34.9833,2,    255.9,2,   254.6,2,   11.68,2,   18.15,2,    0.00,2,    1.18,2,   1.924,2,   0.966,2,   0.106,2,    -999,9,    -999,9,    -999,9,     -999,9,    -999,9,    -999,9,    -999,9,    -999,    -999,9,    -999,9,    -999,9,  901.70,     1020,  38.0725, -68.6855,    -999,     -999,    -999,     -999,9,     -999,9,     -999,9,     -999,9,     -999,9,     -999,9,   4.1936,    -999,9,       -999,9,    -999,9,    -999,9
 316N200310,        A22,      71,          1,         18,         18,2,20031111,       0905,    38.0820,   -68.6937,       4109,  1052.2,   4.0692,  34.9708,2,  34.9711,2,    260.4,2,   259.6,2,   11.77,2,   17.96,2,    0.00,2,    1.18,2,   1.899,2,   0.947,2,   0.097,2,    -999,9,    -999,9,    -999,9,     -999,9,    -999,9,    -999,9,    -999,9,    -999,    -999,9,    -999,9,    -999,9, 1052.20,     1016,  38.0732, -68.6860,    -999,     -999,    -999,     -999,9,     -999,9,     -999,9,     -999,9,     -999,9,     -999,9,   3.9878,    -999,9,       -999,9,    -999,9,    -999,9
 316N200310,        A22,      71,          1,         17,         17,2,20031111,       0905,    38.0820,   -68.6937,       4109,  1201.5,   3.9028,  34.9608,2,  34.9618,2,    263.6,2,   263.2,2,   11.96,2,   17.86,2,    0.00,2,    1.17,2,   1.812,2,   0.899,2,   0.098,2,    -999,9,    -999,9,    -999,9,     -999,9,    -999,9,    -999,9,    -999,9,    -999,    -999,9,    -999,9,    -999,9, 1201.50,     1012,  38.0738, -68.6867,    -999,     -999,    -999,     -999,9,     -999,9,     -999,9,     -999,9,     -999,9,     -999,9,   3.8101,    -999,9,       -999,9,    -999,9,    -999,9
 316N200310,        A22,      71,          1,         16,         16,2,20031111,       0905,    38.0820,   -68.6937,       4109,  1326.3,   3.7571,  34.9514,2,  34.9506,2,    265.9,2,   266.0,2,   12.15,2,   17.67,2,    0.00,2,    1.16,2,   1.767,2,   0.864,2,   0.091,2,    -999,9,    -999,9,    -999,9,     -999,9,    -999,9,    -999,9,    -999,9,    -999,    -999,9,    -999,9,    -999,9, 1326.30,     1009,  38.0743, -68.6871,    -999,     -999,    -999,     -999,9,     -999,9,     -999,9,     -999,9,     -999,9,     -999,9,   3.6550,    -999,9,       -999,9,    -999,9,    -999,9
 316N200310,        A22,      71,          1,         15,         15,2,20031111,       0905,    38.0820,   -68.6937,       4109,  1451.2,   3.6551,  34.9467,2,  34.9461,2,    267.7,2,   267.5,2,   12.45,2,   17.71,2,    0.00,2,    1.16,2,   1.701,2,   0.842,2,   0.095,2,    -999,9,    -999,9,    -999,9,     -999,9,    -999,9,    -999,9,    -999,9,    -999,    -999,9,    -999,9,    -999,9, 1451.20,     1006,  38.0748, -68.6875,    -999,     -999,    -999,     -999,9,     -999,9,     -999,9,     -999,9,     -999,9,     -999,9,   3.5432,    -999,9,       -999,9,    -999,9,    -999,9
 316N200310,        A22,      71,          1,         14,         14,2,20031111,       0905,    38.0820,   -68.6937,       4109,  1575.6,   3.5717,  34.9418,2,  34.9418,2,    269.6,2,   268.6,2,   12.63,2,   17.67,2,    0.00,2,    1.15,2,   1.666,2,   0.821,2,   0.091,2,    -999,9,    -999,9,    -999,9,     -999,9,    -999,9,    -999,9,    -999,9,    -999,    -999,9,    -999,9,    -999,9, 1575.60,     1003,  38.0753, -68.6880,    -999,     -999,    -999,     -999,9,     -999,9,     -999,9,     -999,9,     -999,9,     -999,9,   3.4497,    -999,9,       -999,9,    -999,9,    -999,9
 316N200310,        A22,      71,          1,         13,         13,2,20031111,       0905,    38.0820,   -68.6937,       4109,  1700.7,   3.4800,  34.9399,2,  34.9400,2,    270.2,2,   269.5,2,   13.13,2,   17.62,2,    0.00,2,    1.15,2,   1.592,2,   0.785,2,   0.085,2,    -999,9,    -999,9,    -999,9,     -999,9,    -999,9,    -999,9,    -999,9,    -999,    -999,9,    -999,9,    -999,9, 1700.70,      959,  38.0757, -68.6886,    -999,     -999,    -999,     -999,9,     -999,9,     -999,9,     -999,9,     -999,9,     -999,9,   3.3480,    -999,9,       -999,9,    -999,9,    -999,9
 316N200310,        A22,      71,          1,         12,         12,2,20031111,       0905,    38.0820,   -68.6937,       4109,  1850.2,   3.4039,  34.9408,2,  34.9416,2,    270.0,2,   269.4,2,   13.82,2,   17.72,2,    0.00,2,    1.16,2,   1.378,2,   0.678,2,   0.062,2,    -999,9,    -999,9,    -999,9,     -999,9,    -999,9,    -999,9,    -999,9,    -999,    -999,9,    -999,9,    -999,9, 1850.20,      956,  38.0762, -68.6892,    -999,     -999,    -999,     -999,9,     -999,9,     -999,9,     -999,9,     -999,9,     -999,9,   3.2592,    -999,9,       -999,9,    -999,9,    -999,9
 316N200310,        A22,      71,          1,         11,         11,2,20031111,       0905,    38.0820,   -68.6937,       4109,  2000.0,   3.3558,  34.9467,2,  34.9461,2,    268.0,2,   267.5,2,   14.83,2,   17.82,2,    0.00,2,    1.17,2,   1.121,2,   0.550,2,   0.044,2,    -999,9,    -999,9,    -999,9,     -999,9,    -999,9,    -999,9,    -999,9,    -999,    -999,9,    -999,9,    -999,9, 2000.00,      952,  38.0767, -68.6898,    -999,     -999,    -999,     -999,9,     -999,9,     -999,9,     -999,9,     -999,9,     -999,9,   3.1979,    -999,9,       -999,9,    -999,9,    -999,9
 316N200310,        A22,      71,          1,         10,         10,2,20031111,       0905,    38.0820,   -68.6937,       4109,  2250.5,   3.1361,  34.9398,2,  34.9402,2,    268.1,2,   267.9,2,   16.24,2,   17.68,2,    0.00,2,    1.17,2,   1.019,2,   0.504,2,   0.039,2,    -999,9,    -999,9,    -999,9,     -999,9,    -999,9,    -999,9,    -999,9,    -999,    -999,9,    -999,9,    -999,9, 2250.50,      947,  38.0773, -68.6904,    -999,     -999,    -999,     -999,9,     -999,9,     -999,9,     -999,9,     -999,9,     -999,9,   2.9579,    -999,9,       -999,9,    -999,9,    -999,9
 316N200310,        A22,      71,          1,          9,          9,2,20031111,       0905,    38.0820,   -68.6937,       4109,  2500.7,   2.9656,  34.9374,2,  34.9374,2,    267.7,2,   267.5,2,   18.06,2,   17.82,2,    0.00,2,    1.18,2,   0.780,2,   0.384,2,   0.030,2,    -999,9,    -999,9,    -999,9,     -999,9,    -999,9,    -999,9,    -999,9,    -999,    -999,9,    -999,9,    -999,9, 2500.70,      942,  38.0779, -68.6910,    -999,     -999,    -999,     -999,9,     -999,9,     -999,9,     -999,9,     -999,9,     -999,9,   2.7663,    -999,9,       -999,9,    -999,9,    -999,9
 316N200310,        A22,      71,          1,          8,          8,2,20031111,       0905,    38.0820,   -68.6937,       4109,  2750.3,   2.6962,  34.9205,2,  34.9221,2,    271.8,2,   271.7,2,   18.35,2,   17.43,2,    0.00,2,    1.15,2,   1.167,2,   0.564,2,   0.059,2,    -999,9,    -999,9,    -999,9,     -999,9,    -999,9,    -999,9,    -999,9,    -999,    -999,9,    -999,9,    -999,9, 2750.30,      937,  38.0785, -68.6916,    -999,     -999,    -999,     -999,9,     -999,9,     -999,9,     -999,9,     -999,9,     -999,9,   2.4774,    -999,9,       -999,9,    -999,9,    -999,9
 316N200310,        A22,      71,          1,          7,          7,2,20031111,       0905,    38.0820,   -68.6937,       4109,  3000.7,   2.4963,  34.9112,2,  34.9118,2,    272.6,2,   271.9,2,   20.07,2,   17.48,2,    0.00,2,    1.16,2,   1.136,6,   0.560,6,   0.064,2,    -999,9,    -999,9,    -999,9,     -999,9,    -999,9,    -999,9,    -999,9,    -999,   1.529,2,    -999,9,    -999,9, 3000.70,      931,  38.0790, -68.6922,    -999,     -999,    -999,     -999,9,     -999,9,     -999,9,     -999,9,     -999,9,     -999,9,   2.2565,    -999,9,       -999,9,    -999,9,    -999,9
 316N200310,        A22,      71,          1,          6,          6,2,20031111,       0905,    38.0820,   -68.6937,       4109,  3200.3,   2.3758,  34.9056,2,  34.9056,2,    270.6,2,   270.7,2,   22.93,2,   17.83,2,    0.00,2,    1.19,2,   0.925,2,   0.452,2,   0.062,2,    -999,9,    -999,9,    -999,9,     -999,9,    -999,9,    -999,9,    -999,9,    -999,    -999,9,    -999,9,    -999,9, 3200.30,      927,  38.0795, -68.6926,    -999,     -999,    -999,     -999,9,     -999,9,     -999,9,     -999,9,     -999,9,     -999,9,   2.1182,    -999,9,       -999,9,    -999,9,    -999,9
 316N200310,        A22,      71,          1,          5,          5,2,20031111,       0905,    38.0820,   -68.6937,       4109,  3400.4,   2.2658,  34.8972,2,  34.8973,2,    271.9,2,   272.0,2,   23.74,2,   17.73,2,    0.00,2,    1.19,2,   1.230,2,   0.616,2,   0.080,2,    -999,9,    -999,9,    -999,9,     -999,9,    -999,9,    -999,9,    -999,9,    -999,    -999,9,    -999,9,    -999,9, 3400.40,      923,  38.0800, -68.6929,    -999,     -999,    -999,     -999,9,     -999,9,     -999,9,     -999,9,     -999,9,     -999,9,   1.9899,    -999,9,       -999,9,    -999,9,    -999,9
 316N200310,        A22,      71,          1,          4,          4,2,20031111,       0905,    38.0820,   -68.6937,       4109,  3600.6,   2.2268,  34.8936,2,  34.8941,2,    270.4,2,   270.6,2,   25.78,2,   17.99,2,    0.00,2,    1.21,2,   1.110,2,   0.543,2,   0.065,2,    -999,9,    -999,9,    -999,9,     -999,9,    -999,9,    -999,9,    -999,9,    -999,    -999,9,    -999,9,    -999,9, 3600.60,      918,  38.0806, -68.6931,    -999,     -999,    -999,     -999,9,     -999,9,     -999,9,     -999,9,     -999,9,     -999,9,   1.9304,    -999,9,       -999,9,    -999,9,    -999,9
 316N200310,        A22,      71,          1,          3,          3,2,20031111,       0905,    38.0820,   -68.6937,       4109,  3800.4,   2.1977,  34.8898,2,  34.8912,2,    268.7,2,   268.4,2,   28.75,2,   18.44,2,    0.00,2,    1.24,2,   0.948,2,   0.466,2,   0.054,2,    -999,9,    -999,9,    -999,9,     -999,9,    -999,9,    -999,9,    -999,9,    -999,    -999,9,    -999,9,    -999,9, 3800.40,      914,  38.0811, -68.6933,    -999,     -999,    -999,     -999,9,     -999,9,     -999,9,     -999,9,     -999,9,     -999,9,   1.8803,    -999,9,       -999,9,    -999,9,    -999,9
 316N200310,        A22,      71,          1,          2,          2,2,20031111,       0905,    38.0820,   -68.6937,       4109,  4000.5,   2.1728,  34.8853,2,  34.8857,2,    264.6,2,   264.0,2,   33.28,2,   19.19,2,    0.00,2,    1.30,2,   0.682,2,   0.341,2,   0.046,2,    -999,9,    -999,9,    -999,9,     -999,9,    -999,9,    -999,9,    -999,9,    -999,    -999,9,    -999,9,    -999,9, 4000.50,      909,  38.0816, -68.6935,    -999,     -999,    -999,     -999,9,     -999,9,     -999,9,     -999,9,     -999,9,     -999,9,   1.8338,    -999,9,       -999,9,    -999,9,    -999,9