BOTTLE,20220517CCHSIOLMM
EXPOCODE,SECT_ID,STNNBR,CASTNO,SAMPNO,BTLNBR,BTLNBR_FLAG_W,DATE,TIME,LATITUDE,LONGITUDE,DEPTH,CTDPRS,CTDTMP,CTDSAL,CTDSAL_FLAG_W,SALNTY,SALNTY_FLAG_W,CTDOXY,CTDOXY_FLAG_W,OXYGEN,OXYGEN_FLAG_W,SILCAT,SILCAT_FLAG_W,NITRAT,NITRAT_FLAG_W,NITRIT,NITRIT_FLAG_W,PHSPHT,PHSPHT_FLAG_W,CFC-11,CFC-11_FLAG_W,CFC-12,CFC-12_FLAG_W,CFC113,CFC113_FLAG_W,TCARBN,TCARBN_FLAG_W,ALKALI,ALKALI_FLAG_W,TRITUM,TRITUM_FLAG_W,HELIUM,HELIUM_FLAG_W,DELHE3,DELHE3_FLAG_W,DELC13,DELC13_FLAG_W,DELC14,DELC14_FLAG_W,C14ERR,CCL4,CCL4_FLAG_W,DOC,DOC_FLAG_W,TDN,TDN_FLAG_W,CTDRAW,BTL_TIME,BTL_LAT,BTL_LON,TRITER,HELIER,DELHER,CDOM325,CDOM325_FLAG_W,CDOM340,CDOM340_FLAG_W,CDOM380,CDOM380_FLAG_W,CDOM412,CDOM412_FLAG_W,CDOMSL,CDOMSL_FLAG_W,CDOMSN,CDOMSN_FLAG_W,THETA,BACT,BACT_FLAG_W,PROC,PROC_FLAG_W,SYN,SYN_FLAG_W,PEUK,PEUK_FLAG_W
,,,,,,,,,,,METERS,DBAR,ITS-90,PSS-78,,PSS-78,,UMOL/KG,,UMOL/KG,,UMOL/KG,,UMOL/KG,,UMOL/KG,,UMOL/KG,,PMOL/KG,,PMOL/KG,,PMOL/KG,,UMOL/KG,,UMOL/KG,,TU,,NMOL/KG,,PERCNT,,/MILLE,,/MILLE,,/MILLE,PMOL/KG,,UMOL/KG,,UMOL/KG,,DBAR,,,,TU,NMOL/KG,PERCNT,1/M,,1/M,,1/M,,1/M,,1/NM,,1/NM,,DEG C,E8/L,,E7/L,,E6/L,,E6/L,
 316N200310,        A22,      56,          1,         36,         36,2,20031107,       0625,    32.2248,   -65.9958,       4881,     3.1,  25.2766,  36.3204,2,  36.3170,2,    201.7,2,   203.5,2,    0.74,2,    0.00,2,    0.00,2,    0.01,2,   1.751,2,   1.052,2,   0.115,2,  2026.2,2,  2377.0,6,    -999,9,     -999,9,    -999,9,    -999,9,    -999,9,    -999,   1.542,2,    -999,9,    -999,9,    3.10,      823,  32.2265, -65.9903,    -999,     -999,    -999,     -999,9,     -999,9,     -999,9,     -999,9,     -999,9,     -999,9,  25.2759,    -999,9,       -999,9,    -999,9,    -999,9
 316N200310,        A22,      56,          1,         35,         35,2,20031107,       0625,    32.2248,   -65.9958,       4881,    25.0,  25.2897,  36.3201,2,  36.3166,2,    204.8,2,   203.8,2,    0.73,2,    0.00,2,    0.00,2,    0.01,2,   1.741,2,   1.079,2,   0.115,2,  2026.2,2,  2373.8,2,    -999,9,     -999,9,    -999,9,    -999,9,    -999,9,    -999,   1.479,2,    -999,9,    -999,9,   25.00,      821,  32.2265, -65.9904,    -999,     -999,    -999,     -999,9,     -999,9,     -999,9,     -999,9,     -999,9,     -999,9,  25.2842,    -999,9,       -999,9,    -999,9,    -999,9
 316N200310,        A22,      56,          1,         34,         34,2,20031107,       0625,    32.2248,   -65.9958,       4881,    74.5,  25.2543,  36.3315,2,  36.3263,2,    203.4,2,   202.7,2,    0.73,2,    0.00,2,    0.00,2,    0.01,2,   1.729,2,   1.056,2,   0.107,2,  2028.3,2,  2374.6,2,    -999,9,     -999,9,    -999,9,    -999,9,    -999,9,    -999,   1.511,2,    -999,9,    -999,9,   74.50,      819,  32.2265, -65.9905,    -999,     -999,    -999,     -999,9,     -999,9,     -999,9,     -999,9,     -999,9,     -999,9,  25.2380,    -999,9,       -999,9,    -999,9,    -999,9
 316N200310,        A22,      56,          1,         33,         33,2,20031107,       0625,    32.2248,   -65.9958,       4881,    99.9,  25.1882,  36.3666,2,  36.3625,2,    202.5,2,   200.6,2,    0.73,2,   -0.05,2,    0.05,2,    0.01,2,   1.766,2,   1.079,2,   0.109,2,  2033.2,2,  2380.1,2,    -999,9,     -999,9,    -999,9,    -999,9,    -999,9,    -999,   1.483,2,    -999,9,    -999,9,   99.90,      818,  32.2265, -65.9906,    -999,     -999,    -999,     -999,9,     -999,9,     -999,9,     -999,9,     -999,9,     -999,9,  25.1663,    -999,9,       -999,9,    -999,9,    -999,9
 316N200310,        A22,      56,          1,         32,         32,2,20031107,       0625,    32.2248,   -65.9958,       4881,   125.4,  24.1518,  36.5858,2,  36.5868,2,    195.4,2,   195.0,2,    0.62,2,    0.18,2,    0.14,2,    0.03,2,   1.926,2,   1.165,2,   0.091,2,  2063.5,2,  2391.5,2,    -999,9,     -999,9,    -999,9,    -999,9,    -999,9,    -999,   0.852,2,    -999,9,    -999,9,  125.40,      816,  32.2265, -65.9907,    -999,     -999,    -999,     -999,9,     -999,9,     -999,9,     -999,9,     -999,9,     -999,9,  24.1251,    -999,9,       -999,9,    -999,9,    -999,9
 316N200310,        A22,      56,          1,         31,         31,2,20031107,       0625,    32.2248,   -65.9958,       4881,   150.2,  22.3839,  36.6760,2,  36.6746,2,    191.1,2,   194.3,2,    0.72,2,    0.90,2,    0.03,2,    0.06,2,   2.024,2,   1.216,2,   0.084,2,  2079.9,2,  2395.4,2,    -999,9,     -999,9,    -999,9,    -999,9,    -999,9,    -999,   0.668,2,    -999,9,    -999,9,  150.20,      815,  32.2265, -65.9908,    -999,     -999,    -999,     -999,9,     -999,9,     -999,9,     -999,9,     -999,9,     -999,9,  22.3536,    -999,9,       -999,9,    -999,9,    -999,9
 316N200310,        A22,      56,          1,         30,         30,2,20031107,       0625,    32.2248,   -65.9958,       4881,   199.7,  20.0196,  36.6525,2,  36.6487,2,    200.3,2,   201.0,2,    0.61,2,    1.07,2,    0.01,2,    0.07,2,   2.194,2,   1.336,2,   0.077,2,  2089.4,2,  2393.3,2,    -999,9,     -999,9,    -999,9,    1.00,2,    88.6,2,     3.5,   0.626,2,    -999,9,    -999,9,  199.70,      813,  32.2266, -65.9910,    -999,     -999,    -999,     -999,9,     -999,9,     -999,9,     -999,9,     -999,9,     -999,9,  19.9823,    -999,9,       -999,9,    -999,9,    -999,9
 316N200310,        A22,      56,          1,         29,         29,2,20031107,       0625,    32.2248,   -65.9958,       4881,   250.2,  18.9721,  36.6112,2,  36.6080,2,    202.6,2,   199.5,2,    1.02,2,    2.12,2,    0.01,2,    0.13,2,   2.283,2,   1.364,2,   0.061,2,  2095.9,2,  2390.9,2,    -999,9,     -999,9,    -999,9,    0.90,2,    87.2,2,     3.5,   0.538,2,    -999,9,    -999,9,  250.20,      811,  32.2266, -65.9911,    -999,     -999,    -999,     -999,9,     -999,9,     -999,9,     -999,9,     -999,9,     -999,9,  18.9271,    -999,9,       -999,9,    -999,9,    -999,9
 316N200310,        A22,      56,          1,         28,         28,2,20031107,       0625,    32.2248,   -65.9958,       4881,   300.4,  18.5961,  36.5821,2,  36.5785,2,    201.3,2,   200.7,2,    1.02,2,    2.79,2,    0.01,2,    0.15,2,   2.305,2,   1.347,2,   0.052,2,  2099.0,2,  2388.4,2,    -999,9,     -999,9,    -999,9,    0.90,2,    91.3,2,     3.5,   0.540,2,    -999,9,    -999,9,  300.40,      810,  32.2266, -65.9912,    -999,     -999,    -999,     -999,9,     -999,9,     -999,9,     -999,9,     -999,9,     -999,9,  18.5427,    -999,9,       -999,9,    -999,9,    -999,9
 316N200310,        A22,      56,          1,         27,         27,2,20031107,       0625,    32.2248,   -65.9958,       4881,   400.8,  17.9154,  36.5025,2,  36.4992,2,    196.5,2,   196.8,2,    1.51,2,    4.40,2,    0.01,2,    0.24,2,   2.307,6,   1.337,6,   0.054,2,  2106.9,2,  2384.3,2,    -999,9,     -999,9,    -999,9,    0.90,2,    87.8,2,     3.8,   0.555,2,    -999,9,    -999,9,  400.80,      807,  32.2265, -65.9914,    -999,     -999,    -999,     -999,9,     -999,9,     -999,9,     -999,9,     -999,9,     -999,9,  17.8458,    -999,9,       -999,9,    -999,9,    -999,9
 316N200310,        A22,      56,          1,         26,         26,2,20031107,       0625,    32.2248,   -65.9958,       4881,   500.0,  16.7667,  36.3136,2,  36.3107,2,    185.5,2,   187.8,2,    2.41,2,    7.11,2,    0.01,2,    0.41,2,   2.314,2,   1.328,2,   0.034,2,  2121.1,2,  2373.8,2,    -999,9,     -999,9,    -999,9,    0.90,2,    95.3,2,     2.9,   0.532,2,    -999,9,    -999,9,  500.00,      804,  32.2265, -65.9916,    -999,     -999,    -999,     -999,9,     -999,9,     -999,9,     -999,9,     -999,9,     -999,9,  16.6835,    -999,9,       -999,9,    -999,9,    -999,9
 316N200310,        A22,      56,          1,         25,         25,2,20031107,       0625,    32.2248,   -65.9958,       4881,   624.8,  14.4500,  35.9104,2,  35.9042,2,    174.9,2,   173.4,2,    4.73,2,   12.27,2,    0.01,2,    0.74,2,   2.094,6,   1.149,6,   0.040,6,  2143.8,2,  2352.2,2,    -999,9,     -999,9,    -999,9,    0.90,2,    61.0,2,     2.5,   0.510,6,    -999,9,    -999,9,  624.80,      801,  32.2265, -65.9917,    -999,     -999,    -999,     -999,9,     -999,9,     -999,9,     -999,9,     -999,9,     -999,9,  14.3557,    -999,9,       -999,9,    -999,9,    -999,9
 316N200310,        A22,      56,          1,         24,         24,2,20031107,       0625,    32.2248,   -65.9958,       4881,   749.7,  11.7198,  35.5101,2,  35.5066,2,    154.7,2,   153.3,2,    8.98,2,   18.83,2,    0.01,2,    1.17,2,   1.550,2,   0.817,2,   0.028,2,  2169.9,2,  2335.6,2,    -999,9,     -999,9,    -999,9,    0.80,2,    21.4,2,     2.4,   0.422,2,    -999,9,    -999,9,  749.70,      758,  32.2264, -65.9919,    -999,     -999,    -999,     -999,9,     -999,9,     -999,9,     -999,9,     -999,9,     -999,9,  11.6207,    -999,9,       -999,9,    -999,9,    -999,9
 316N200310,        A22,      56,          1,         23,         23,2,20031107,       0625,    32.2248,   -65.9958,       4881,   849.8,   9.0930,  35.2199,2,  35.2142,2,    149.7,2,   154.5,2,   12.96,2,   22.69,2,    0.01,2,    1.44,2,   1.137,2,   0.587,2,   0.025,2,  2186.2,2,  2321.8,6,    -999,9,     -999,9,    -999,9,    0.80,2,   -16.2,2,     2.7,   0.518,2,    -999,9,    -999,9,  849.80,      755,  32.2264, -65.9920,    -999,     -999,    -999,     -999,9,     -999,9,     -999,9,     -999,9,     -999,9,     -999,9,   8.9964,    -999,9,       -999,9,    -999,9,    -999,9
 316N200310,        A22,      56,          1,         22,         22,2,20031107,       0625,    32.2248,   -65.9958,       4881,  1024.5,   6.4268,  35.0839,2,  35.0827,2,    198.6,2,   200.6,2,   12.85,2,   20.56,2,    0.00,2,    1.34,2,   1.561,2,   0.780,2,   0.070,2,  2179.5,2,  2317.6,2,    -999,9,     -999,9,    -999,9,    0.90,2,   -21.5,2,     2.1,   1.280,2,    -999,9,    -999,9, 1024.50,      752,  32.2264, -65.9923,    -999,     -999,    -999,     -999,9,     -999,9,     -999,9,     -999,9,     -999,9,     -999,9,   6.3294,    -999,9,       -999,9,    -999,9,    -999,9
 316N200310,        A22,      56,          1,         21,         21,2,20031107,       0625,    32.2248,   -65.9958,       4881,  1175.1,   5.3730,  35.0638,2,  35.0638,2,    228.4,2,   229.9,2,   12.33,2,   18.97,2,    0.00,2,    1.24,2,   1.697,2,   0.846,2,   0.076,2,    -999,9,    -999,9,    -999,9,     -999,9,    -999,9,    1.00,2,   -30.9,2,     2.2,   1.671,2,    -999,9,    -999,9, 1175.10,      748,  32.2264, -65.9925,    -999,     -999,    -999,     -999,9,     -999,9,     -999,9,     -999,9,     -999,9,     -999,9,   5.2693,    -999,9,       -999,9,    -999,9,    -999,9
 316N200310,        A22,      56,          1,         20,         20,2,20031107,       0625,    32.2248,   -65.9958,       4881,  1299.8,   4.8043,  35.0280,2,  35.0274,2,    243.9,2,   243.9,2,   11.92,2,   18.32,2,    0.00,2,    1.20,2,   1.887,2,   0.929,2,   0.091,2,  2168.3,2,  2313.1,2,    -999,9,     -999,9,    -999,9,    -999,9,    -999,9,    -999,   2.014,2,    -999,9,    -999,9, 1299.80,      745,  32.2263, -65.9926,    -999,     -999,    -999,     -999,9,     -999,9,     -999,9,     -999,9,     -999,9,     -999,9,   4.6940,    -999,9,       -999,9,    -999,9,    -999,9
 316N200310,        A22,      56,          1,         19,         19,2,20031107,       0625,    32.2248,   -65.9958,       4881,  1424.9,   4.5452,  35.0157,2,  35.0154,2,    250.8,2,   249.9,2,   11.91,2,   18.05,2,    0.00,2,    1.18,2,   1.861,2,   0.906,2,   0.079,2,    -999,9,    -999,9,    -999,9,     -999,9,    -999,9,    -999,9,    -999,9,    -999,   2.017,2,    -999,9,    -999,9, 1424.90,      742,  32.2263, -65.9927,    -999,     -999,    -999,     -999,9,     -999,9,     -999,9,     -999,9,     -999,9,     -999,9,   4.4258,    -999,9,       -999,9,    -999,9,    -999,9
 316N200310,        A22,      56,          1,         18,         18,2,20031107,       0625,    32.2248,   -65.9958,       4881,  1549.9,   4.2033,  34.9799,2,  34.9793,2,    257.7,2,   257.8,2,   11.80,2,   17.73,2,    0.00,2,    1.16,2,   1.945,2,   0.936,2,   0.089,2,  2163.3,2,  2309.3,2,    -999,9,     -999,9,    -999,9,    1.10,2,   -27.0,2,     2.3,   2.171,2,    -999,9,    -999,9, 1549.90,      739,  32.2262, -65.9929,    -999,     -999,    -999,     -999,9,     -999,9,     -999,9,     -999,9,     -999,9,     -999,9,   4.0761,    -999,9,       -999,9,    -999,9,    -999,9
 316N200310,        A22,      56,          1,         17,         17,2,20031107,       0625,    32.2248,   -65.9958,       4881,  1699.3,   4.0915,  34.9903,2,  34.9906,2,    260.0,2,   259.6,2,   12.31,2,   17.71,2,    0.00,2,    1.16,2,   1.636,2,   0.785,2,   0.068,2,  2163.3,2,    -999,9,    -999,9,     -999,9,    -999,9,    -999,9,    -999,9,    -999,   1.959,2,    -999,9,    -999,9, 1699.30,      736,  32.2262, -65.9930,    -999,     -999,    -999,     -999,9,     -999,9,     -999,9,     -999,9,     -999,9,     -999,9,   3.9516,    -999,9,       -999,9,    -999,9,    -999,9
 316N200310,        A22,      56,          1,         16,         16,2,20031107,       0625,    32.2248,   -65.9958,       4881,  1875.9,   3.7794,  34.9622,2,  34.9628,2,    265.5,2,   265.2,2,   12.72,2,   17.60,2,    0.00,2,    1.15,2,   1.560,2,   0.728,2,   0.047,2,  2161.1,2,  2310.4,2,    -999,9,     -999,9,    -999,9,    -999,9,    -999,9,    -999,   1.971,2,    -999,9,    -999,9, 1875.90,      732,  32.2262, -65.9931,    -999,     -999,    -999,     -999,9,     -999,9,     -999,9,     -999,9,     -999,9,     -999,9,   3.6271,    -999,9,       -999,9,    -999,9,    -999,9
 316N200310,        A22,      56,          1,         15,         15,2,20031107,       0625,    32.2248,   -65.9958,       4881,  2048.8,   3.6151,  34.9543,2,  34.9547,2,    268.6,2,   266.5,2,   13.53,2,   17.53,2,    0.00,2,    1.15,2,   1.416,2,   0.668,2,   0.047,2,  2160.3,2,  2310.1,2,    -999,9,     -999,9,    -999,9,    1.10,2,   -38.6,2,     3.3,   1.870,2,    -999,9,    -999,9, 2048.80,      728,  32.2261, -65.9932,    -999,     -999,    -999,     -999,9,     -999,9,     -999,9,     -999,9,     -999,9,     -999,9,   3.4487,    -999,9,       -999,9,    -999,9,    -999,9
 316N200310,        A22,      56,          1,         14,         14,2,20031107,       0625,    32.2248,   -65.9958,       4881,  2200.2,   3.5998,  34.9747,2,  34.9744,2,    263.2,2,   261.2,2,   15.68,2,   17.88,2,    0.00,2,    1.18,2,   0.879,2,   0.419,2,   0.033,2,  2162.9,2,  2315.3,2,    -999,9,     -999,9,    -999,9,    -999,9,    -999,9,    -999,   1.276,2,    -999,9,    -999,9, 2200.20,      725,  32.2260, -65.9934,    -999,     -999,    -999,     -999,9,     -999,9,     -999,9,     -999,9,     -999,9,     -999,9,   3.4188,    -999,9,       -999,9,    -999,9,    -999,9
 316N200310,        A22,      56,          1,         13,         13,2,20031107,       0625,    32.2248,   -65.9958,       4881,  2400.0,   3.3641,  34.9574,2,  34.9579,2,    265.7,2,   263.9,2,   16.60,2,   17.83,2,    0.00,2,    1.18,2,   0.826,2,   0.395,2,   0.002,4,  2163.3,2,  2314.8,2,    -999,9,     -999,9,    -999,9,    -999,9,    -999,9,    -999,   1.226,2,    -999,9,    -999,9, 2400.00,      720,  32.2258, -65.9935,    -999,     -999,    -999,     -999,9,     -999,9,     -999,9,     -999,9,     -999,9,     -999,9,   3.1674,    -999,9,       -999,9,    -999,9,    -999,9
 316N200310,        A22,      56,          1,         12,         12,2,20031107,       0625,    32.2248,   -65.9958,       4881,  2549.3,   3.2988,  34.9637,2,  34.9648,2,    261.5,2,   260.9,2,   18.75,2,   18.18,2,    0.00,2,    1.20,2,   0.496,2,   0.244,2,   0.010,2,  2164.4,2,  2317.6,2,    -999,9,     -999,9,    -999,9,    1.20,2,   -64.0,2,     3.1,   0.867,2,    -999,9,    -999,9, 2549.30,      717,  32.2257, -65.9937,    -999,     -999,    -999,     -999,9,     -999,9,     -999,9,     -999,9,     -999,9,     -999,9,   3.0884,    -999,9,       -999,9,    -999,9,    -999,9
 316N200310,        A22,      56,          1,         11,         11,2,20031107,       0625,    32.2248,   -65.9958,       4881,  2749.5,   3.0960,  34.9516,2,  34.9510,2,    263.0,2,   261.6,2,   20.41,2,   18.22,2,    0.00,2,    1.21,2,   0.469,2,   0.225,2,   0.009,2,  2165.8,2,  2318.4,2,    -999,9,     -999,9,    -999,9,    -999,9,    -999,9,    -999,   0.809,2,    -999,9,    -999,9, 2749.50,      713,  32.2257, -65.9939,    -999,     -999,    -999,     -999,9,     -999,9,     -999,9,     -999,9,     -999,9,     -999,9,   2.8692,    -999,9,       -999,9,    -999,9,    -999,9
 316N200310,        A22,      56,          1,         10,         10,2,20031107,       0625,    32.2248,   -65.9958,       4881,  3000.2,   2.8628,  34.9369,2,  34.9368,2,    264.6,2,   263.8,2,   21.54,2,   18.10,2,    0.00,2,    1.20,2,   0.467,2,   0.223,2,   0.004,2,  2166.4,2,  2319.5,2,    -999,9,     -999,9,    -999,9,    1.20,2,   -86.0,2,     3.2,   0.830,2,    -999,9,    -999,9, 3000.20,      707,  32.2256, -65.9941,    -999,     -999,    -999,     -999,9,     -999,9,     -999,9,     -999,9,     -999,9,     -999,9,   2.6150,    -999,9,       -999,9,    -999,9,    -999,9
 316N200310,        A22,      56,          1,          9,          9,2,20031107,       0625,    32.2248,   -65.9958,       4881,  3248.7,   2.6517,  34.9242,2,  34.9237,2,    267.3,2,   266.7,2,   22.46,2,   17.93,2,    0.00,2,    1.20,2,   0.477,2,   0.227,2,   0.007,2,  2165.5,2,  2319.9,2,    -999,9,     -999,9,    -999,9,    -999,9,    -999,9,    -999,   0.868,2,    -999,9,    -999,9, 3248.70,      702,  32.2256, -65.9943,    -999,     -999,    -999,     -999,9,     -999,9,     -999,9,     -999,9,     -999,9,     -999,9,   2.3825,    -999,9,       -999,9,    -999,9,    -999,9
 316N200310,        A22,      56,          1,          8,          8,2,20031107,       0625,    32.2248,   -65.9958,       4881,  3499.9,   2.4780,  34.9125,2,  34.9115,2,    268.1,2,   267.2,2,   24.63,2,   18.03,2,    0.00,2,    1.21,2,   0.531,2,   0.265,2,   0.021,2,    -999,9,    -999,9,    -999,9,     -999,9,    -999,9,    1.20,2,   -66.5,2,     2.5,   0.940,2,    -999,9,    -999,9, 3499.90,      657,  32.2254, -65.9945,    -999,     -999,    -999,     -999,9,     -999,9,     -999,9,     -999,9,     -999,9,     -999,9,   2.1862,    -999,9,       -999,9,    -999,9,    -999,9
 316N200310,        A22,      56,          1,          7,          7,2,20031107,       0625,    32.2248,   -65.9958,       4881,  3749.3,   2.3521,  34.9024,2,  34.9022,2,    267.7,2,   266.8,2,   27.22,2,   18.23,2,    0.00,2,    1.23,2,   0.593,2,   0.291,2,   0.028,2,  2170.1,2,  2322.2,2,    -999,9,     -999,9,    -999,9,    -999,9,    -999,9,    -999,   0.999,2,    -999,9,    -999,9, 3749.30,      652,  32.2253, -65.9947,    -999,     -999,    -999,     -999,9,     -999,9,     -999,9,     -999,9,     -999,9,     -999,9,   2.0362,    -999,9,       -999,9,    -999,9,    -999,9
 316N200310,        A22,      56,          1,          6,          6,2,20031107,       0625,    32.2248,   -65.9958,       4881,  3922.8,   2.2986,  34.8979,2,  34.8975,2,    266.8,2,   266.1,2,   28.99,2,   18.42,2,    0.00,2,    1.25,2,   0.532,2,   0.264,2,   0.020,2,    -999,9,    -999,9,    -999,9,     -999,9,    -999,9,    -999,9,    -999,9,    -999,   0.952,2,    -999,9,    -999,9, 3922.80,      646,  32.2252, -65.9950,    -999,     -999,    -999,     -999,9,     -999,9,     -999,9,     -999,9,     -999,9,     -999,9,   1.9647,    -999,9,       -999,9,    -999,9,    -999,9
 316N200310,        A22,      56,          1,          5,          5,2,20031107,       0625,    32.2248,   -65.9958,       4881,  3999.6,   2.2815,  34.8959,2,  34.8957,2,    266.4,2,   266.1,2,   29.81,2,   18.57,2,    0.00,2,    1.25,2,   0.529,2,   0.255,2,   0.025,2,  2173.9,2,  2324.6,2,    -999,9,     -999,9,    -999,9,    -999,9,    -999,9,    -999,   0.936,2,    -999,9,    -999,9, 3999.60,      645,  32.2251, -65.9950,    -999,     -999,    -999,     -999,9,     -999,9,     -999,9,     -999,9,     -999,9,     -999,9,   1.9394,    -999,9,       -999,9,    -999,9,    -999,9