BOTTLE,20220517CCHSIOLMM
EXPOCODE,SECT_ID,STNNBR,CASTNO,SAMPNO,BTLNBR,BTLNBR_FLAG_W,DATE,TIME,LATITUDE,LONGITUDE,DEPTH,CTDPRS,CTDTMP,CTDSAL,CTDSAL_FLAG_W,SALNTY,SALNTY_FLAG_W,CTDOXY,CTDOXY_FLAG_W,OXYGEN,OXYGEN_FLAG_W,SILCAT,SILCAT_FLAG_W,NITRAT,NITRAT_FLAG_W,NITRIT,NITRIT_FLAG_W,PHSPHT,PHSPHT_FLAG_W,CFC-11,CFC-11_FLAG_W,CFC-12,CFC-12_FLAG_W,CFC113,CFC113_FLAG_W,TCARBN,TCARBN_FLAG_W,ALKALI,ALKALI_FLAG_W,TRITUM,TRITUM_FLAG_W,HELIUM,HELIUM_FLAG_W,DELHE3,DELHE3_FLAG_W,DELC13,DELC13_FLAG_W,DELC14,DELC14_FLAG_W,C14ERR,CCL4,CCL4_FLAG_W,DOC,DOC_FLAG_W,TDN,TDN_FLAG_W,CTDRAW,BTL_TIME,BTL_LAT,BTL_LON,TRITER,HELIER,DELHER,CDOM325,CDOM325_FLAG_W,CDOM340,CDOM340_FLAG_W,CDOM380,CDOM380_FLAG_W,CDOM412,CDOM412_FLAG_W,CDOMSL,CDOMSL_FLAG_W,CDOMSN,CDOMSN_FLAG_W,THETA,BACT,BACT_FLAG_W,PROC,PROC_FLAG_W,SYN,SYN_FLAG_W,PEUK,PEUK_FLAG_W
,,,,,,,,,,,METERS,DBAR,ITS-90,PSS-78,,PSS-78,,UMOL/KG,,UMOL/KG,,UMOL/KG,,UMOL/KG,,UMOL/KG,,UMOL/KG,,PMOL/KG,,PMOL/KG,,PMOL/KG,,UMOL/KG,,UMOL/KG,,TU,,NMOL/KG,,PERCNT,,/MILLE,,/MILLE,,/MILLE,PMOL/KG,,UMOL/KG,,UMOL/KG,,DBAR,,,,TU,NMOL/KG,PERCNT,1/M,,1/M,,1/M,,1/M,,1/NM,,1/NM,,DEG C,E8/L,,E7/L,,E6/L,,E6/L,
 316N200310,        A22,      14,          1,          4,          4,2,20031027,       0654,    15.7037,   -66.0158,       4615,  4048.2,   4.2789,  34.9772,2,  34.9780,2,    215.9,2,   215.8,2,   28.28,2,   22.01,2,    0.00,2,    1.49,2,   0.035,2,   0.026,2,   0.003,2,  2199.2,2,  2342.7,2,    -999,9,     -999,9,    -999,9,    -999,9,    -999,9,    -999,    -999,9,   41.30,2,    -999,9, 4048.20,      710,  15.7070, -66.0183,    -999,     -999,    -999,   0.1500,2,   0.1100,2,   0.0580,2,   0.0400,2,   0.0150,2,   0.0160,2,   3.8753,    -999,9,       -999,9,    -999,9,    -999,9
 316N200310,        A22,      14,          1,          3,          3,2,20031027,       0654,    15.7037,   -66.0158,       4615,  4298.7,   4.3101,  34.9775,2,  34.9770,2,    216.3,2,   216.0,2,   28.28,2,   22.00,2,    0.00,2,    1.49,2,   0.030,2,   0.030,2,   0.005,2,  2200.1,2,  2343.2,2,    -999,9,     -999,9,    -999,9,    -999,9,    -999,9,    -999,    -999,9,    -999,9,    -999,9, 4298.70,      705,  15.7059, -66.0175,    -999,     -999,    -999,     -999,9,     -999,9,     -999,9,     -999,9,     -999,9,     -999,9,   3.8737,    -999,9,       -999,9,    -999,9,    -999,9
 316N200310,        A22,      14,          1,          2,          2,2,20031027,       0654,    15.7037,   -66.0158,       4615,  4498.9,   4.3360,  34.9779,2,  34.9778,2,    216.6,2,   216.5,2,   28.49,2,   22.00,2,    0.00,2,    1.48,2,   0.042,2,   0.046,2,    -999,9,  2199.0,2,    -999,9,    -999,9,     -999,9,    -999,9,    -999,9,    -999,9,    -999,    -999,9,    -999,9,    -999,9, 4498.90,      700,  15.7049, -66.0168,    -999,     -999,    -999,     -999,9,     -999,9,     -999,9,     -999,9,     -999,9,     -999,9,   3.8728,    -999,9,       -999,9,    -999,9,    -999,9
 316N200310,        A22,      14,          1,          1,          1,2,20031027,       0654,    15.7037,   -66.0158,       4615,  4673.9,   4.3597,  34.9779,2,  34.9774,2,    216.6,2,   216.6,2,   28.49,2,   22.00,2,    0.00,2,    1.48,2,   0.046,2,   0.047,2,   0.005,2,  2198.0,2,  2338.8,2,    -999,9,     -999,9,    -999,9,    -999,9,    -999,9,    -999,    -999,9,   40.70,2,    -999,9, 4673.90,      656,  15.7039, -66.0160,    -999,     -999,    -999,   0.1450,2,   0.1060,2,   0.0550,2,   0.0380,2,   0.0150,2,   0.0160,2,   3.8726,    -999,9,       -999,9,    -999,9,    -999,9
 316N200310,        A22,      14,          2,          3,          3,9,20031027,       0456,    15.6853,   -65.9992,       4614,     3.5,  29.5114,  33.8712,2,     -999,9,    193.6,2,    -999,9,    -999,9,    -999,9,    -999,9,    -999,9,    -999,9,    -999,9,    -999,9,    -999,9,    -999,9,    -999,9,     -999,9,    -999,9,    -999,9,    -999,9,    -999,    -999,9,    -999,9,    -999,9,    3.50,      502,  15.6850, -65.9984,    -999,     -999,    -999,     -999,9,     -999,9,     -999,9,     -999,9,     -999,9,     -999,9,  29.5106,    -999,9,       -999,9,    -999,9,    -999,9
 316N200310,        A22,      14,          2,          2,          2,9,20031027,       0456,    15.6853,   -65.9992,       4614,     3.5,  29.5104,  33.8715,2,     -999,9,    193.6,2,    -999,9,    -999,9,    -999,9,    -999,9,    -999,9,    -999,9,    -999,9,    -999,9,    -999,9,    -999,9,    -999,9,     -999,9,    -999,9,    -999,9,    -999,9,    -999,    -999,9,    -999,9,    -999,9,    3.50,      502,  15.6851, -65.9984,    -999,     -999,    -999,     -999,9,     -999,9,     -999,9,     -999,9,     -999,9,     -999,9,  29.5095,    -999,9,       -999,9,    -999,9,    -999,9
 316N200310,        A22,      14,          2,          4,          4,9,20031027,       0456,    15.6853,   -65.9992,       4614,     3.5,  29.5140,  33.8713,2,     -999,9,    193.6,2,    -999,9,    -999,9,    -999,9,    -999,9,    -999,9,    -999,9,    -999,9,    -999,9,    -999,9,    -999,9,    -999,9,     -999,9,    -999,9,    -999,9,    -999,9,    -999,    -999,9,    -999,9,    -999,9,    3.50,      502,  15.6850, -65.9983,    -999,     -999,    -999,     -999,9,     -999,9,     -999,9,     -999,9,     -999,9,     -999,9,  29.5131,    -999,9,       -999,9,    -999,9,    -999,9
 316N200310,        A22,      14,          2,          1,          1,9,20031027,       0456,    15.6853,   -65.9992,       4614,   250.7,  17.3485,  36.3181,2,     -999,9,    145.6,2,    -999,9,    -999,9,    -999,9,    -999,9,    -999,9,    -999,9,    -999,9,    -999,9,    -999,9,    -999,9,    -999,9,     -999,9,    -999,9,    -999,9,    -999,9,    -999,    -999,9,    -999,9,    -999,9,  250.70,      456,  15.6854, -65.9992,    -999,     -999,    -999,     -999,9,     -999,9,     -999,9,     -999,9,     -999,9,     -999,9,  17.3061,    -999,9,       -999,9,    -999,9,    -999,9