BOTTLE,20220517CCHSIOLMM
EXPOCODE,SECT_ID,STNNBR,CASTNO,SAMPNO,BTLNBR,BTLNBR_FLAG_W,DATE,TIME,LATITUDE,LONGITUDE,DEPTH,CTDPRS,CTDTMP,CTDSAL,CTDSAL_FLAG_W,SALNTY,SALNTY_FLAG_W,CTDOXY,CTDOXY_FLAG_W,OXYGEN,OXYGEN_FLAG_W,SILCAT,SILCAT_FLAG_W,NITRAT,NITRAT_FLAG_W,NITRIT,NITRIT_FLAG_W,PHSPHT,PHSPHT_FLAG_W,CFC-11,CFC-11_FLAG_W,CFC-12,CFC-12_FLAG_W,CFC113,CFC113_FLAG_W,TCARBN,TCARBN_FLAG_W,ALKALI,ALKALI_FLAG_W,TRITUM,TRITUM_FLAG_W,HELIUM,HELIUM_FLAG_W,DELHE3,DELHE3_FLAG_W,DELC13,DELC13_FLAG_W,DELC14,DELC14_FLAG_W,C14ERR,CCL4,CCL4_FLAG_W,DOC,DOC_FLAG_W,TDN,TDN_FLAG_W,CTDRAW,BTL_TIME,BTL_LAT,BTL_LON,TRITER,HELIER,DELHER,CDOM325,CDOM325_FLAG_W,CDOM340,CDOM340_FLAG_W,CDOM380,CDOM380_FLAG_W,CDOM412,CDOM412_FLAG_W,CDOMSL,CDOMSL_FLAG_W,CDOMSN,CDOMSN_FLAG_W,THETA,BACT,BACT_FLAG_W,PROC,PROC_FLAG_W,SYN,SYN_FLAG_W,PEUK,PEUK_FLAG_W
,,,,,,,,,,,METERS,DBAR,ITS-90,PSS-78,,PSS-78,,UMOL/KG,,UMOL/KG,,UMOL/KG,,UMOL/KG,,UMOL/KG,,UMOL/KG,,PMOL/KG,,PMOL/KG,,PMOL/KG,,UMOL/KG,,UMOL/KG,,TU,,NMOL/KG,,PERCNT,,/MILLE,,/MILLE,,/MILLE,PMOL/KG,,UMOL/KG,,UMOL/KG,,DBAR,,,,TU,NMOL/KG,PERCNT,1/M,,1/M,,1/M,,1/M,,1/NM,,1/NM,,DEG C,E8/L,,E7/L,,E6/L,,E6/L,
 316N200310,        A22,      10,          1,         36,         36,2,20031026,       0210,    13.1815,   -66.0077,       5015,     2.5,  29.7311,  33.6811,2,  33.6833,2,    197.0,2,   193.7,2,    4.70,2,    0.04,2,    0.00,2,    0.01,2,   1.496,2,   0.954,2,   0.122,2,  1895.6,2,    -999,9,    -999,9,     -999,9,    -999,9,    -999,9,    -999,9,    -999,    -999,9,   82.80,2,    5.50,2,    2.50,      413,  13.2000, -66.0057,    -999,     -999,    -999,     -999,9,     -999,9,     -999,9,     -999,9,     -999,9,     -999,9,  29.7305,    -999,9,       -999,9,    -999,9,    -999,9
 316N200310,        A22,      10,          1,         35,         35,2,20031026,       0210,    13.1815,   -66.0077,       5015,    25.6,  29.6385,  35.1735,2,  35.3760,2,    197.2,2,   195.4,2,    1.21,2,    0.04,2,    0.00,2,    0.01,2,   1.535,2,   0.969,2,   0.129,2,  1960.9,2,  2323.4,2,    -999,9,     -999,9,    -999,9,    -999,9,    -999,9,    -999,    -999,9,   75.90,2,    4.90,2,   25.60,      411,  13.1995, -66.0055,    -999,     -999,    -999,     -999,9,     -999,9,     -999,9,     -999,9,     -999,9,     -999,9,  29.6322,    -999,9,       -999,9,    -999,9,    -999,9
 316N200310,        A22,      10,          1,         34,         34,2,20031026,       0210,    13.1815,   -66.0077,       5015,    50.5,  27.1396,  36.3900,2,  36.3976,2,    195.4,2,   193.8,2,    0.52,2,    0.04,2,    0.00,2,    0.01,2,   1.674,2,   1.027,2,   0.138,2,  2029.8,2,  2381.0,2,    -999,9,     -999,9,    -999,9,    -999,9,    -999,9,    -999,    -999,9,   68.40,2,    4.30,2,   50.50,      409,  13.1992, -66.0054,    -999,     -999,    -999,     -999,9,     -999,9,     -999,9,     -999,9,     -999,9,     -999,9,  27.1279,    -999,9,       -999,9,    -999,9,    -999,9
 316N200310,        A22,      10,          1,         33,         33,2,20031026,       0210,    13.1815,   -66.0077,       5015,    75.6,  26.0844,  36.7545,2,  36.7718,2,    181.5,2,   181.7,2,    0.62,2,    0.67,2,    0.11,2,    0.05,2,   1.730,6,   1.048,6,   0.134,6,  2055.9,2,  2401.4,2,    -999,9,     -999,9,    -999,9,    -999,9,    -999,9,    -999,    -999,9,   65.00,2,    4.70,2,   75.60,      408,  13.1988, -66.0052,    -999,     -999,    -999,     -999,9,     -999,9,     -999,9,     -999,9,     -999,9,     -999,9,  26.0674,    -999,9,       -999,9,    -999,9,    -999,9
 316N200310,        A22,      10,          1,         32,         32,2,20031026,       0210,    13.1815,   -66.0077,       5015,   100.5,  24.8193,  37.2668,2,  37.2606,2,    186.0,2,   188.0,2,    0.13,2,    0.79,2,    0.05,2,    0.04,2,   1.823,2,   1.116,2,   0.132,2,  2078.5,2,  2430.6,2,    -999,9,     -999,9,    -999,9,    -999,9,    -999,9,    -999,    -999,9,   69.40,3,    4.80,2,  100.50,      406,  13.1985, -66.0050,    -999,     -999,    -999,     -999,9,     -999,9,     -999,9,     -999,9,     -999,9,     -999,9,  24.7974,    -999,9,       -999,9,    -999,9,    -999,9
 316N200310,        A22,      10,          1,         31,         31,2,20031026,       0210,    13.1815,   -66.0077,       5015,   125.4,  21.6217,  36.8592,2,  36.8720,2,    150.2,2,   153.7,2,    1.34,2,    5.33,2,    0.02,2,    0.30,2,   1.979,6,   1.164,6,   0.049,6,  2134.6,2,  2403.2,2,    -999,9,     -999,9,    -999,9,    -999,9,    -999,9,    -999,    -999,9,   56.90,2,    8.40,2,  125.40,      404,  13.1982, -66.0049,    -999,     -999,    -999,     -999,9,     -999,9,     -999,9,     -999,9,     -999,9,     -999,9,  21.5970,    -999,9,       -999,9,    -999,9,    -999,9
 316N200310,        A22,      10,          1,         30,         30,2,20031026,       0210,    13.1815,   -66.0077,       5015,   150.4,  20.4964,  36.8230,2,  36.8155,2,    154.9,2,   153.8,2,    1.24,2,    5.84,2,    0.02,2,    0.30,2,   2.051,2,   1.194,2,   0.029,2,  2139.5,2,  2399.9,2,    -999,9,     -999,9,    -999,9,    -999,9,    -999,9,    -999,    -999,9,   55.60,2,    9.30,2,  150.40,      403,  13.1979, -66.0048,    -999,     -999,    -999,     -999,9,     -999,9,     -999,9,     -999,9,     -999,9,     -999,9,  20.4678,    -999,9,       -999,9,    -999,9,    -999,9
 316N200310,        A22,      10,          1,         29,         29,2,20031026,       0210,    13.1815,   -66.0077,       5015,   201.2,  17.2792,  36.3410,2,  36.3503,2,    147.1,2,   147.7,2,    2.85,2,   10.72,2,    0.01,2,    0.60,2,   2.060,2,   1.159,2,   0.020,2,  2150.4,2,  2372.9,2,    -999,9,     -999,9,    -999,9,    -999,9,    -999,9,    -999,    -999,9,   51.70,2,   13.50,2,  201.20,      401,  13.1975, -66.0046,    -999,     -999,    -999,     -999,9,     -999,9,     -999,9,     -999,9,     -999,9,     -999,9,  17.2453,    -999,9,       -999,9,    -999,9,    -999,9
 316N200310,        A22,      10,          1,         28,         28,2,20031026,       0210,    13.1815,   -66.0077,       5015,   250.4,  15.0463,  35.9456,2,  35.9412,2,    140.3,2,   137.0,2,    5.15,2,   15.56,2,    0.01,2,    0.94,2,   1.872,2,   1.016,2,   0.028,2,  2165.2,2,  2350.9,2,    -999,9,     -999,9,    -999,9,    -999,9,    -999,9,    -999,    -999,9,   47.00,2,   18.70,2,  250.40,      359,  13.1972, -66.0046,    -999,     -999,    -999,     -999,9,     -999,9,     -999,9,     -999,9,     -999,9,     -999,9,  15.0079,    -999,9,       -999,9,    -999,9,    -999,9
 316N200310,        A22,      10,          1,         27,         27,2,20031026,       0210,    13.1815,   -66.0077,       5015,   300.7,  13.3736,  35.6518,2,  35.6504,2,    130.9,2,   130.4,2,    7.26,2,   19.11,2,    0.00,2,    1.17,2,    -999,9,    -999,9,    -999,9,  2175.9,2,  2336.8,2,    -999,9,     -999,9,    -999,9,    -999,9,    -999,9,    -999,    -999,9,   47.90,2,   22.10,2,  300.70,      357,  13.1968, -66.0045,    -999,     -999,    -999,     -999,9,     -999,9,     -999,9,     -999,9,     -999,9,     -999,9,  13.3311,    -999,9,       -999,9,    -999,9,    -999,9
 316N200310,        A22,      10,          1,         26,         26,2,20031026,       0210,    13.1815,   -66.0077,       5015,   401.0,  10.5311,  35.1982,2,  35.2016,2,    121.3,2,   121.8,2,   11.69,2,   25.01,2,    0.00,2,    1.59,2,   1.136,2,   0.606,2,   0.013,2,  2191.4,2,  2316.8,6,    -999,9,     -999,9,    -999,9,    -999,9,    -999,9,    -999,    -999,9,   45.80,2,    -999,9,  401.00,      355,  13.1964, -66.0044,    -999,     -999,    -999,     -999,9,     -999,9,     -999,9,     -999,9,     -999,9,     -999,9,  10.4824,    -999,9,       -999,9,    -999,9,    -999,9
 316N200310,        A22,      10,          1,         25,         25,2,20031026,       0210,    13.1815,   -66.0077,       5015,   501.5,   8.5751,  34.9261,2,  34.9254,2,    117.7,2,   119.7,2,   16.12,2,   29.08,2,    0.00,2,    1.88,2,   0.700,2,   0.371,2,   0.001,2,  2204.5,2,  2305.7,2,    -999,9,     -999,9,    -999,9,    -999,9,    -999,9,    -999,    -999,9,   44.90,2,    -999,9,  501.50,      352,  13.1959, -66.0043,    -999,     -999,    -999,     -999,9,     -999,9,     -999,9,     -999,9,     -999,9,     -999,9,   8.5213,    -999,9,       -999,9,    -999,9,    -999,9
 316N200310,        A22,      10,          1,         24,         24,2,20031026,       0210,    13.1815,   -66.0077,       5015,   626.6,   7.3477,  34.7997,2,  34.7994,2,    120.9,2,   123.3,2,   19.65,2,   31.18,2,    0.00,2,    2.05,2,   0.430,2,   0.222,2,   0.009,2,  2210.5,2,  2302.7,2,    -999,9,     -999,9,    -999,9,    -999,9,    -999,9,    -999,    -999,9,   43.60,2,    -999,9,  626.60,      349,  13.1954, -66.0045,    -999,     -999,    -999,     -999,9,     -999,9,     -999,9,     -999,9,     -999,9,     -999,9,   7.2858,    -999,9,       -999,9,    -999,9,    -999,9
 316N200310,        A22,      10,          1,         23,         23,2,20031026,       0210,    13.1815,   -66.0077,       5015,   751.0,   6.4203,  34.7547,2,  34.7537,2,    128.9,2,   130.1,2,   22.79,2,   31.84,2,    0.00,2,    2.12,2,   0.203,2,   0.114,2,   0.011,2,  2214.3,2,  2304.3,2,    -999,9,     -999,9,    -999,9,    -999,9,    -999,9,    -999,    -999,9,   41.10,2,    -999,9,  751.00,      346,  13.1949, -66.0050,    -999,     -999,    -999,     -999,9,     -999,9,     -999,9,     -999,9,     -999,9,     -999,9,   6.3506,    -999,9,       -999,9,    -999,9,    -999,9
 316N200310,        A22,      10,          1,         22,         22,2,20031026,       0210,    13.1815,   -66.0077,       5015,   900.9,   5.7132,  34.8302,2,  34.8294,2,    153.3,2,   151.0,2,   23.91,2,   29.50,2,    0.00,2,    1.97,2,   0.104,2,   0.066,2,   0.001,2,  2206.7,2,  2312.8,2,    -999,9,     -999,9,    -999,9,    -999,9,    -999,9,    -999,    -999,9,   42.80,2,    -999,9,  900.90,      342,  13.1943, -66.0056,    -999,     -999,    -999,     -999,9,     -999,9,     -999,9,     -999,9,     -999,9,     -999,9,   5.6335,    -999,9,       -999,9,    -999,9,    -999,9
 316N200310,        A22,      10,          1,         21,         21,2,20031026,       0210,    13.1815,   -66.0077,       5015,  1051.2,   5.0986,  34.9201,2,  34.9227,2,    178.3,2,   178.6,2,   24.33,2,   26.00,2,    0.00,2,    1.76,2,   0.053,2,   0.028,2,   0.009,2,  2196.6,2,  2321.5,2,    -999,9,     -999,9,    -999,9,    -999,9,    -999,9,    -999,    -999,9,   41.70,2,    -999,9, 1051.20,      339,  13.1937, -66.0056,    -999,     -999,    -999,     -999,9,     -999,9,     -999,9,     -999,9,     -999,9,     -999,9,   5.0091,    -999,9,       -999,9,    -999,9,    -999,9
 316N200310,        A22,      10,          1,         20,         20,2,20031026,       0210,    13.1815,   -66.0077,       5015,  1201.1,   4.7348,  34.9481,2,  34.9479,2,    192.2,2,   191.6,2,   24.45,2,   24.48,2,    0.00,2,    1.66,2,   0.047,2,   0.036,2,   0.009,2,  2179.9,3,    -999,9,    -999,9,     -999,9,    -999,9,    -999,9,    -999,9,    -999,    -999,9,    -999,9,    -999,9, 1201.10,      335,  13.1931, -66.0056,    -999,     -999,    -999,     -999,9,     -999,9,     -999,9,     -999,9,     -999,9,     -999,9,   4.6345,    -999,9,       -999,9,    -999,9,    -999,9
 316N200310,        A22,      10,          1,         19,         19,2,20031026,       0210,    13.1815,   -66.0077,       5015,  1325.9,   4.5179,  34.9607,2,  34.9610,2,    199.6,2,   200.3,2,    -999,5,    -999,5,    -999,5,    -999,5,   0.051,2,   0.031,2,   0.009,2,  2197.1,2,  2332.1,2,    -999,9,     -999,9,    -999,9,    -999,9,    -999,9,    -999,    -999,9,    -999,9,    -999,9, 1325.90,      332,  13.1925, -66.0055,    -999,     -999,    -999,     -999,9,     -999,9,     -999,9,     -999,9,     -999,9,     -999,9,   4.4081,    -999,9,       -999,9,    -999,9,    -999,9
 316N200310,        A22,      10,          1,         18,         18,2,20031026,       0210,    13.1815,   -66.0077,       5015,  1450.5,   4.3492,  34.9669,2,  34.9681,2,    205.3,2,   205.3,2,   25.27,2,   23.13,2,    0.00,2,    1.56,2,   0.044,2,   0.040,2,   0.009,2,  2195.6,2,  2333.5,2,    -999,9,     -999,9,    -999,9,    -999,9,    -999,9,    -999,    -999,9,   41.10,2,    -999,9, 1450.50,      329,  13.1920, -66.0054,    -999,     -999,    -999,     -999,9,     -999,9,     -999,9,     -999,9,     -999,9,     -999,9,   4.2297,    -999,9,       -999,9,    -999,9,    -999,9
 316N200310,        A22,      10,          1,         17,         17,2,20031026,       0210,    13.1815,   -66.0077,       5015,  1575.9,   4.2592,  34.9701,2,  34.9713,2,    207.6,2,   207.3,2,   25.78,2,   22.82,2,    0.00,2,    1.54,2,   0.029,2,   0.026,2,   0.005,2,  2196.8,2,  2334.7,2,    -999,9,     -999,9,    -999,9,    -999,9,    -999,9,    -999,    -999,9,    -999,9,    -999,9, 1575.90,      327,  13.1915, -66.0053,    -999,     -999,    -999,     -999,9,     -999,9,     -999,9,     -999,9,     -999,9,     -999,9,   4.1290,    -999,9,       -999,9,    -999,9,    -999,9
 316N200310,        A22,      10,          1,         16,         16,2,20031026,       0210,    13.1815,   -66.0077,       5015,  1700.9,   4.2009,  34.9720,2,  34.9721,2,    209.7,2,   209.8,2,   26.20,2,   22.58,2,    0.00,2,    1.53,2,   0.028,2,   0.034,2,   0.002,2,  2198.1,2,  2336.4,2,    -999,9,     -999,9,    -999,9,    -999,9,    -999,9,    -999,    -999,9,    -999,9,    -999,9, 1700.90,      323,  13.1910, -66.0053,    -999,     -999,    -999,     -999,9,     -999,9,     -999,9,     -999,9,     -999,9,     -999,9,   4.0596,    -999,9,       -999,9,    -999,9,    -999,9
 316N200310,        A22,      10,          1,         15,         15,2,20031026,       0210,    13.1815,   -66.0077,       5015,  1851.0,   4.1482,  34.9738,2,  34.9746,2,    211.7,2,   212.1,2,   26.62,2,   22.38,2,    0.00,2,    1.51,2,   0.038,2,   0.024,2,   0.007,2,  2197.3,2,  2332.3,2,    -999,9,     -999,9,    -999,9,    -999,9,    -999,9,    -999,    -999,9,   40.60,2,    -999,9, 1851.00,      320,  13.1905, -66.0053,    -999,     -999,    -999,     -999,9,     -999,9,     -999,9,     -999,9,     -999,9,     -999,9,   3.9931,    -999,9,       -999,9,    -999,9,    -999,9
 316N200310,        A22,      10,          1,         14,         14,2,20031026,       0210,    13.1815,   -66.0077,       5015,  2001.1,   4.1275,  34.9747,2,  34.9774,2,    212.8,2,   213.2,2,   26.84,2,   22.29,2,    0.00,2,    1.50,2,   0.036,2,   0.028,2,   0.002,2,  2197.5,2,  2332.8,2,    -999,9,     -999,9,    -999,9,    -999,9,    -999,9,    -999,    -999,9,    -999,9,    -999,9, 2001.10,      317,  13.1900, -66.0052,    -999,     -999,    -999,     -999,9,     -999,9,     -999,9,     -999,9,     -999,9,     -999,9,   3.9579,    -999,9,       -999,9,    -999,9,    -999,9
 316N200310,        A22,      10,          1,         13,         13,2,20031026,       0210,    13.1815,   -66.0077,       5015,  2251.0,   4.1143,  34.9755,2,  34.9770,2,    213.9,2,   214.3,2,   27.16,2,   22.19,2,    0.00,2,    1.50,2,   0.027,2,   0.036,2,  -0.001,2,  2199.6,2,  2332.6,3,    -999,9,     -999,9,    -999,9,    -999,9,    -999,9,    -999,    -999,9,   40.10,2,    -999,9, 2251.00,      312,  13.1893, -66.0052,    -999,     -999,    -999,     -999,9,     -999,9,     -999,9,     -999,9,     -999,9,     -999,9,   3.9198,    -999,9,       -999,9,    -999,9,    -999,9
 316N200310,        A22,      10,          1,         12,         12,2,20031026,       0210,    13.1815,   -66.0077,       5015,  2500.5,   4.1199,  34.9759,2,  34.9766,2,    214.5,2,   214.8,2,   27.58,2,   22.19,2,    0.00,2,    1.50,2,   0.029,2,   0.030,2,   0.004,2,  2198.5,2,  2334.6,2,    -999,9,     -999,9,    -999,9,    -999,9,    -999,9,    -999,    -999,9,    -999,9,    -999,9, 2500.50,      307,  13.1885, -66.0052,    -999,     -999,    -999,     -999,9,     -999,9,     -999,9,     -999,9,     -999,9,     -999,9,   3.8994,    -999,9,       -999,9,    -999,9,    -999,9
 316N200310,        A22,      10,          1,         11,         11,2,20031026,       0210,    13.1815,   -66.0077,       5015,  2750.9,   4.1388,  34.9762,2,  34.9770,2,    214.8,2,   214.0,2,   27.70,2,   22.09,2,    0.00,2,    1.49,2,   0.026,2,   0.028,2,   0.004,2,  2198.5,2,  2335.5,2,    -999,9,     -999,9,    -999,9,    -999,9,    -999,9,    -999,    -999,9,   39.60,2,    -999,9, 2750.90,      301,  13.1878, -66.0053,    -999,     -999,    -999,     -999,9,     -999,9,     -999,9,     -999,9,     -999,9,     -999,9,   3.8911,    -999,9,       -999,9,    -999,9,    -999,9
 316N200310,        A22,      10,          1,         10,         10,2,20031026,       0210,    13.1815,   -66.0077,       5015,  3001.3,   4.1613,  34.9764,2,  34.9766,2,    214.8,2,   215.0,2,   27.81,2,   21.99,2,    0.00,2,    1.49,2,   0.021,2,   0.031,2,   0.001,2,  2199.3,2,  2336.3,2,    -999,9,     -999,9,    -999,9,    -999,9,    -999,9,    -999,    -999,9,    -999,9,    -999,9, 3001.30,      256,  13.1870, -66.0054,    -999,     -999,    -999,     -999,9,     -999,9,     -999,9,     -999,9,     -999,9,     -999,9,   3.8854,    -999,9,       -999,9,    -999,9,    -999,9
 316N200310,        A22,      10,          1,          9,          9,2,20031026,       0210,    13.1815,   -66.0077,       5015,  3200.9,   4.1814,  34.9765,2,  34.9782,2,    215.3,2,   215.5,2,   27.93,2,   22.05,2,    0.00,2,    1.49,2,   0.033,2,   0.022,2,   0.002,2,  2199.4,2,  2336.0,2,    -999,9,     -999,9,    -999,9,    -999,9,    -999,9,    -999,    -999,9,   41.00,2,    -999,9, 3200.90,      252,  13.1865, -66.0056,    -999,     -999,    -999,     -999,9,     -999,9,     -999,9,     -999,9,     -999,9,     -999,9,   3.8823,    -999,9,       -999,9,    -999,9,    -999,9
 316N200310,        A22,      10,          1,          8,          8,2,20031026,       0210,    13.1815,   -66.0077,       5015,  3400.7,   4.2024,  34.9767,2,  34.9780,2,    215.2,2,   215.2,2,   27.84,2,   22.00,2,    0.00,2,    1.49,2,   0.033,2,   0.028,2,   0.003,2,  2198.0,2,  2336.7,2,    -999,9,     -999,9,    -999,9,    -999,9,    -999,9,    -999,    -999,9,    -999,9,    -999,9, 3400.70,      248,  13.1861, -66.0059,    -999,     -999,    -999,     -999,9,     -999,9,     -999,9,     -999,9,     -999,9,     -999,9,   3.8796,    -999,9,       -999,9,    -999,9,    -999,9
 316N200310,        A22,      10,          1,          7,          7,2,20031026,       0210,    13.1815,   -66.0077,       5015,  3600.3,   4.2243,  34.9768,2,  34.9762,2,    215.4,2,   215.5,2,   28.06,2,   21.95,2,    0.00,2,    1.49,2,    -999,9,    -999,9,    -999,9,  2198.6,2,  2344.5,2,    -999,9,     -999,9,    -999,9,    -999,9,    -999,9,    -999,    -999,9,    -999,9,    -999,9, 3600.30,      244,  13.1857, -66.0063,    -999,     -999,    -999,     -999,9,     -999,9,     -999,9,     -999,9,     -999,9,     -999,9,   3.8772,    -999,9,       -999,9,    -999,9,    -999,9
 316N200310,        A22,      10,          1,          6,          6,2,20031026,       0210,    13.1815,   -66.0077,       5015,  3800.3,   4.2477,  34.9770,2,  34.9776,2,    215.6,2,   215.6,2,   27.97,2,   22.00,2,    0.00,2,    1.49,2,   0.025,2,   0.026,2,   0.003,2,  2199.1,2,  2340.6,2,    -999,9,     -999,9,    -999,9,    -999,9,    -999,9,    -999,    -999,9,   40.90,2,    -999,9, 3800.30,      239,  13.1851, -66.0067,    -999,     -999,    -999,     -999,9,     -999,9,     -999,9,     -999,9,     -999,9,     -999,9,   3.8758,    -999,9,       -999,9,    -999,9,    -999,9
 316N200310,        A22,      10,          1,          5,          5,2,20031026,       0210,    13.1815,   -66.0077,       5015,  4000.3,   4.2720,  34.9771,2,  34.9784,2,    215.8,2,   215.7,2,   27.99,2,   21.95,2,    0.00,2,    1.49,2,   0.028,2,   0.029,2,   0.003,2,  2196.1,2,  2340.2,2,    -999,9,     -999,9,    -999,9,    -999,9,    -999,9,    -999,    -999,9,    -999,9,    -999,9, 4000.30,      235,  13.1845, -66.0071,    -999,     -999,    -999,     -999,9,     -999,9,     -999,9,     -999,9,     -999,9,     -999,9,   3.8746,    -999,9,       -999,9,    -999,9,    -999,9