BOTTLE,20220517CCHSIOLMM
EXPOCODE,SECT_ID,STNNBR,CASTNO,SAMPNO,BTLNBR,BTLNBR_FLAG_W,DATE,TIME,LATITUDE,LONGITUDE,DEPTH,CTDPRS,CTDTMP,CTDSAL,CTDSAL_FLAG_W,SALNTY,SALNTY_FLAG_W,CTDOXY,CTDOXY_FLAG_W,OXYGEN,OXYGEN_FLAG_W,SILCAT,SILCAT_FLAG_W,NITRAT,NITRAT_FLAG_W,NITRIT,NITRIT_FLAG_W,PHSPHT,PHSPHT_FLAG_W,CFC-11,CFC-11_FLAG_W,CFC-12,CFC-12_FLAG_W,CFC113,CFC113_FLAG_W,TCARBN,TCARBN_FLAG_W,ALKALI,ALKALI_FLAG_W,TRITUM,TRITUM_FLAG_W,HELIUM,HELIUM_FLAG_W,DELHE3,DELHE3_FLAG_W,DELC13,DELC13_FLAG_W,DELC14,DELC14_FLAG_W,C14ERR,CCL4,CCL4_FLAG_W,DOC,DOC_FLAG_W,TDN,TDN_FLAG_W,CTDRAW,BTL_TIME,BTL_LAT,BTL_LON,TRITER,HELIER,DELHER,CDOM325,CDOM325_FLAG_W,CDOM340,CDOM340_FLAG_W,CDOM380,CDOM380_FLAG_W,CDOM412,CDOM412_FLAG_W,CDOMSL,CDOMSL_FLAG_W,CDOMSN,CDOMSN_FLAG_W,THETA,BACT,BACT_FLAG_W,PROC,PROC_FLAG_W,SYN,SYN_FLAG_W,PEUK,PEUK_FLAG_W
,,,,,,,,,,,METERS,DBAR,ITS-90,PSS-78,,PSS-78,,UMOL/KG,,UMOL/KG,,UMOL/KG,,UMOL/KG,,UMOL/KG,,UMOL/KG,,PMOL/KG,,PMOL/KG,,PMOL/KG,,UMOL/KG,,UMOL/KG,,TU,,NMOL/KG,,PERCNT,,/MILLE,,/MILLE,,/MILLE,PMOL/KG,,UMOL/KG,,UMOL/KG,,DBAR,,,,TU,NMOL/KG,PERCNT,1/M,,1/M,,1/M,,1/M,,1/NM,,1/NM,,DEG C,E8/L,,E7/L,,E6/L,,E6/L,
 316N200310,        A22,      17,          1,          4,          4,2,20031028,       0251,    17.3597,   -65.9960,       4593,  4250.4,   4.2986,  34.9780,2,  34.9784,2,    220.4,2,   220.4,2,   26.97,2,   21.37,2,    0.00,2,    1.46,2,   0.107,2,   0.080,2,   0.005,2,  2194.8,2,  2342.2,2,    -999,9,     -999,9,    -999,9,    -999,9,    -999,9,    -999,   0.160,2,   41.80,2,    -999,9, 4250.40,      306,  17.3593, -65.9952,    -999,     -999,    -999,     -999,9,     -999,9,     -999,9,     -999,9,     -999,9,     -999,9,   3.8687,    -999,9,       -999,9,    -999,9,    -999,9
 316N200310,        A22,      17,          1,          3,          3,2,20031028,       0251,    17.3597,   -65.9960,       4593,  4400.5,   4.3155,  34.9781,2,  34.9726,2,    222.1,2,   222.3,2,   26.23,2,   21.28,2,    0.00,2,    1.45,2,   0.139,2,   0.090,2,   0.007,2,  2193.5,2,  2329.0,2,    -999,9,     -999,9,    -999,9,    -999,9,    -999,9,    -999,   0.199,2,   41.10,2,    -999,9, 4400.50,      258,  17.3595, -65.9956,    -999,     -999,    -999,     -999,9,     -999,9,     -999,9,     -999,9,     -999,9,     -999,9,   3.8658,    -999,9,       -999,9,    -999,9,    -999,9
 316N200310,        A22,      17,          1,          2,          2,2,20031028,       0251,    17.3597,   -65.9960,       4593,  4535.0,   4.3339,  34.9781,2,  34.9726,3,    222.0,2,   222.0,2,   26.31,2,   21.30,2,    0.00,2,    1.45,2,   0.143,2,   0.094,2,   0.009,2,    -999,9,    -999,9,    -999,9,     -999,9,    -999,9,    -999,9,    -999,9,    -999,   0.200,2,    -999,9,    -999,9, 4535.00,      255,  17.3596, -65.9958,    -999,     -999,    -999,     -999,9,     -999,9,     -999,9,     -999,9,     -999,9,     -999,9,   3.8659,    -999,9,       -999,9,    -999,9,    -999,9
 316N200310,        A22,      17,          1,          1,          1,2,20031028,       0251,    17.3597,   -65.9960,       4593,  4648.2,   4.3499,  34.9781,2,  34.9766,2,    221.2,2,   221.6,2,   26.39,2,   21.37,2,    0.00,2,    1.45,2,   0.132,2,   0.089,2,   0.006,2,    -999,9,    -999,9,    -999,9,     -999,9,    -999,9,    -999,9,    -999,9,    -999,   0.192,2,   42.50,2,    -999,9, 4648.20,      252,  17.3596, -65.9959,    -999,     -999,    -999,     -999,9,     -999,9,     -999,9,     -999,9,     -999,9,     -999,9,   3.8664,    -999,9,       -999,9,    -999,9,    -999,9