BOTTLE,20220517CCHSIOLMM
EXPOCODE,SECT_ID,STNNBR,CASTNO,SAMPNO,BTLNBR,BTLNBR_FLAG_W,DATE,TIME,LATITUDE,LONGITUDE,DEPTH,CTDPRS,CTDTMP,CTDSAL,CTDSAL_FLAG_W,SALNTY,SALNTY_FLAG_W,CTDOXY,CTDOXY_FLAG_W,OXYGEN,OXYGEN_FLAG_W,SILCAT,SILCAT_FLAG_W,NITRAT,NITRAT_FLAG_W,NITRIT,NITRIT_FLAG_W,PHSPHT,PHSPHT_FLAG_W,CFC-11,CFC-11_FLAG_W,CFC-12,CFC-12_FLAG_W,CFC113,CFC113_FLAG_W,TCARBN,TCARBN_FLAG_W,ALKALI,ALKALI_FLAG_W,TRITUM,TRITUM_FLAG_W,HELIUM,HELIUM_FLAG_W,DELHE3,DELHE3_FLAG_W,DELC13,DELC13_FLAG_W,DELC14,DELC14_FLAG_W,C14ERR,CCL4,CCL4_FLAG_W,DOC,DOC_FLAG_W,TDN,TDN_FLAG_W,CTDRAW,BTL_TIME,BTL_LAT,BTL_LON,TRITER,HELIER,DELHER,CDOM325,CDOM325_FLAG_W,CDOM340,CDOM340_FLAG_W,CDOM380,CDOM380_FLAG_W,CDOM412,CDOM412_FLAG_W,CDOMSL,CDOMSL_FLAG_W,CDOMSN,CDOMSN_FLAG_W,THETA,BACT,BACT_FLAG_W,PROC,PROC_FLAG_W,SYN,SYN_FLAG_W,PEUK,PEUK_FLAG_W
,,,,,,,,,,,METERS,DBAR,ITS-90,PSS-78,,PSS-78,,UMOL/KG,,UMOL/KG,,UMOL/KG,,UMOL/KG,,UMOL/KG,,UMOL/KG,,PMOL/KG,,PMOL/KG,,PMOL/KG,,UMOL/KG,,UMOL/KG,,TU,,NMOL/KG,,PERCNT,,/MILLE,,/MILLE,,/MILLE,PMOL/KG,,UMOL/KG,,UMOL/KG,,DBAR,,,,TU,NMOL/KG,PERCNT,1/M,,1/M,,1/M,,1/M,,1/NM,,1/NM,,DEG C,E8/L,,E7/L,,E6/L,,E6/L,
 316N200310,        A22,      58,          1,         34,         34,2,20031107,       2330,    33.2558,   -65.9935,       4990,     3.0,  25.4485,  36.2945,2,  36.2917,4,    200.4,2,   202.9,2,    0.81,2,    0.05,2,    0.00,2,    0.01,2,   1.742,2,   1.049,2,   0.118,2,  2023.9,2,  2368.5,6,    -999,9,     -999,9,    -999,9,    -999,9,    -999,9,    -999,   1.594,2,   66.60,2,    4.20,2,    3.00,      128,  33.2415, -65.9844,    -999,     -999,    -999,   0.0760,2,   0.0500,2,   0.0200,2,   0.0130,2,   0.0260,2,   0.0270,2,  25.4478,    -999,9,       -999,9,    -999,9,    -999,9
 316N200310,        A22,      58,          1,         33,         33,2,20031107,       2330,    33.2558,   -65.9935,       4990,    49.9,  25.4501,  36.2979,2,  36.2938,4,    203.0,2,   202.8,2,    0.80,2,    0.05,2,    0.00,2,    0.01,2,   1.728,2,   1.062,2,   0.115,2,  2022.7,2,  2370.5,2,    -999,9,     -999,9,    -999,9,    -999,9,    -999,9,    -999,   1.598,2,   65.80,2,    4.10,2,   49.90,      125,  33.2419, -65.9849,    -999,     -999,    -999,   0.0750,2,   0.0500,2,   0.0200,2,   0.0130,2,   0.0260,2,   0.0270,2,  25.4390,    -999,9,       -999,9,    -999,9,    -999,9
 316N200310,        A22,      58,          1,         32,         32,2,20031107,       2330,    33.2558,   -65.9935,       4990,   100.8,  25.3066,  36.3505,2,  36.3481,4,    202.4,2,   199.8,2,    0.69,2,   -0.07,2,    0.06,2,    0.01,2,   1.746,2,   1.065,2,   0.110,2,  2030.5,2,  2383.3,2,    -999,9,     -999,9,    -999,9,    -999,9,    -999,9,    -999,   1.510,2,   61.60,2,    4.90,2,  100.80,      123,  33.2424, -65.9852,    -999,     -999,    -999,   0.0800,2,   0.0540,2,   0.0220,2,   0.0150,2,   0.0250,2,   0.0250,2,  25.2845,    -999,9,       -999,9,    -999,9,    -999,9
 316N200310,        A22,      58,          1,         31,         31,2,20031107,       2330,    33.2558,   -65.9935,       4990,   125.1,  23.7091,  36.6355,2,  36.6344,4,    185.1,2,   192.9,2,    0.59,2,    0.24,2,    0.12,2,    0.04,2,   1.935,2,   1.143,2,   0.085,2,  2070.0,2,  2400.5,2,    -999,9,     -999,9,    -999,9,    -999,9,    -999,9,    -999,   0.760,2,   60.40,2,    4.40,2,  125.10,      121,  33.2425, -65.9856,    -999,     -999,    -999,     -999,9,     -999,9,     -999,9,     -999,9,     -999,9,     -999,9,  23.6828,    -999,9,       -999,9,    -999,9,    -999,9
 316N200310,        A22,      58,          1,         30,         30,2,20031107,       2330,    33.2558,   -65.9935,       4990,   150.7,  22.4884,  36.7096,2,  36.7060,4,    191.1,2,   189.2,2,    0.67,2,    1.03,2,    0.02,2,    0.08,2,   2.026,2,   1.201,2,   0.082,2,  2082.1,2,  2404.5,2,    -999,9,     -999,9,    -999,9,    -999,9,    -999,9,    -999,   0.581,2,   56.80,2,    5.80,2,  150.70,      120,  33.2427, -65.9858,    -999,     -999,    -999,   0.1190,2,   0.0860,2,   0.0390,2,   0.0280,2,   0.0180,2,   0.0200,2,  22.4579,    -999,9,       -999,9,    -999,9,    -999,9
 316N200310,        A22,      58,          1,         29,         29,2,20031107,       2330,    33.2558,   -65.9935,       4990,   201.1,  19.8462,  36.6270,2,  36.6251,4,    205.2,2,   208.9,2,    0.47,2,    0.56,2,    0.01,2,    0.05,2,   2.230,2,   1.331,2,   0.098,2,  2082.8,2,  2396.3,2,    -999,9,     -999,9,    -999,9,    -999,9,    -999,9,    -999,   0.772,2,   58.70,2,    5.50,2,  201.10,      118,  33.2430, -65.9861,    -999,     -999,    -999,   0.1200,2,   0.0870,2,   0.0400,2,   0.0280,2,   0.0180,2,   0.0190,2,  19.8088,    -999,9,       -999,9,    -999,9,    -999,9
 316N200310,        A22,      58,          1,         28,         28,2,20031107,       2330,    33.2558,   -65.9935,       4990,   250.7,  19.1774,  36.6190,2,  36.6195,4,    209.4,2,   204.5,2,    0.76,2,    1.40,2,    0.01,2,    0.09,2,   2.232,2,   1.319,2,   0.076,2,  2088.6,2,  2388.7,2,    -999,9,     -999,9,    -999,9,    -999,9,    -999,9,    -999,   0.609,2,   53.30,2,    6.00,2,  250.70,      116,  33.2433, -65.9863,    -999,     -999,    -999,     -999,9,     -999,9,     -999,9,     -999,9,     -999,9,     -999,9,  19.1319,    -999,9,       -999,9,    -999,9,    -999,9
 316N200310,        A22,      58,          1,         27,         27,2,20031107,       2330,    33.2558,   -65.9935,       4990,   300.2,  18.8682,  36.6069,2,  36.6051,4,    210.2,2,   208.1,2,    0.86,2,    1.81,2,    0.01,2,    0.11,2,   2.268,2,   1.337,2,   0.096,2,  2088.2,2,  2388.4,2,    -999,9,     -999,9,    -999,9,    -999,9,    -999,9,    -999,   0.657,2,   55.70,2,    6.80,2,  300.20,      114,  33.2437, -65.9866,    -999,     -999,    -999,   0.1070,2,   0.0770,2,   0.0380,2,   0.0280,2,   0.0170,2,   0.0190,2,  18.8143,    -999,9,       -999,9,    -999,9,    -999,9
 316N200310,        A22,      58,          1,         26,         26,2,20031107,       2330,    33.2558,   -65.9935,       4990,   399.5,  18.4277,  36.5649,2,  36.5620,4,    201.0,2,   197.8,2,    1.15,2,    3.33,2,    0.01,2,    0.19,2,   2.264,2,   1.343,2,   0.043,2,  2101.2,2,  2385.0,2,    -999,9,     -999,9,    -999,9,    -999,9,    -999,9,    -999,   0.522,2,   48.60,2,    -999,9,  399.50,      112,  33.2440, -65.9869,    -999,     -999,    -999,   0.0910,2,   0.0650,2,   0.0300,2,   0.0210,2,   0.0210,2,   0.0210,2,  18.3570,    -999,9,       -999,9,    -999,9,    -999,9
 316N200310,        A22,      58,          1,         25,         25,2,20031107,       2330,    33.2558,   -65.9935,       4990,   500.2,  17.7369,  36.4710,2,  36.4683,4,    192.3,2,   188.8,2,    1.65,2,    5.25,2,    0.01,2,    0.29,2,   2.277,6,   1.297,6,   0.035,2,  2112.7,2,  2379.4,2,    -999,9,     -999,9,    -999,9,    -999,9,    -999,9,    -999,   0.410,2,   50.30,2,    -999,9,  500.20,      110,  33.2444, -65.9871,    -999,     -999,    -999,   0.0960,2,   0.0680,2,   0.0320,2,   0.0220,2,   0.0200,2,   0.0210,2,  17.6504,    -999,9,       -999,9,    -999,9,    -999,9
 316N200310,        A22,      58,          1,         24,         24,2,20031107,       2330,    33.2558,   -65.9935,       4990,   626.0,  16.4207,  36.2610,2,  36.2588,4,    188.8,2,   190.2,2,    2.55,2,    7.35,2,    0.01,2,    0.44,2,   2.276,2,   1.298,2,   0.047,2,  2122.3,2,  2370.1,2,    -999,9,     -999,9,    -999,9,    -999,9,    -999,9,    -999,   0.606,2,    -999,9,    -999,9,  626.00,      107,  33.2449, -65.9873,    -999,     -999,    -999,   0.1040,2,   0.0750,2,   0.0360,2,   0.0250,2,   0.0190,2,   0.0200,2,  16.3178,    -999,9,       -999,9,    -999,9,    -999,9
 316N200310,        A22,      58,          1,         23,         23,2,20031107,       2330,    33.2558,   -65.9935,       4990,   750.9,  14.3511,  35.8939,2,  35.8929,4,    169.5,2,   170.3,2,    4.98,2,   12.59,2,    0.01,2,    0.77,2,   2.021,2,   1.114,2,   0.038,2,  2144.8,2,  2350.3,2,    -999,9,     -999,9,    -999,9,    -999,9,    -999,9,    -999,   0.454,2,   46.40,2,    -999,9,  750.90,      104,  33.2454, -65.9876,    -999,     -999,    -999,   0.1230,2,   0.0880,2,   0.0430,2,   0.0310,2,   0.0160,2,   0.0180,2,  14.2379,    -999,9,       -999,9,    -999,9,    -999,9
 316N200310,        A22,      58,          1,         22,         22,2,20031107,       2330,    33.2558,   -65.9935,       4990,   901.5,  10.1780,  35.3176,2,  35.3175,4,    150.7,2,   147.3,2,   11.63,2,   21.77,2,    0.01,2,    1.39,2,   1.209,2,   0.613,2,   0.044,2,  2183.9,2,  2324.8,6,    -999,9,     -999,9,    -999,9,    -999,9,    -999,9,    -999,   0.408,2,    -999,9,    -999,9,  901.50,      100,  33.2460, -65.9879,    -999,     -999,    -999,     -999,9,     -999,9,     -999,9,     -999,9,     -999,9,     -999,9,  10.0681,    -999,9,       -999,9,    -999,9,    -999,9
 316N200310,        A22,      58,          1,         21,         21,2,20031107,       2330,    33.2558,   -65.9935,       4990,  1051.0,   7.1689,  35.1117,2,  35.1116,4,    183.7,2,   185.5,2,   12.96,2,   21.27,2,    0.01,2,    1.39,2,   1.363,2,   0.675,2,   0.049,2,  2183.0,2,  2320.8,2,    -999,9,     -999,9,    -999,9,    -999,9,    -999,9,    -999,   0.973,2,   42.30,2,    -999,9, 1051.00,       57,  33.2464, -65.9881,    -999,     -999,    -999,   0.1750,2,   0.1280,2,   0.0690,2,   0.0490,2,   0.0140,2,   0.0150,2,   7.0630,    -999,9,       -999,9,    -999,9,    -999,9
 316N200310,        A22,      58,          1,         20,         20,2,20031107,       2330,    33.2558,   -65.9935,       4990,  1200.7,   5.7417,  35.0711,2,  35.0720,4,    218.6,2,   218.8,2,   12.23,2,   19.46,2,    0.01,2,    1.28,2,   1.675,2,   0.828,2,   0.070,2,  2174.9,2,  2322.3,2,    -999,9,     -999,9,    -999,9,    -999,9,    -999,9,    -999,   1.511,2,    -999,9,    -999,9, 1200.70,       53,  33.2468, -65.9884,    -999,     -999,    -999,     -999,9,     -999,9,     -999,9,     -999,9,     -999,9,     -999,9,   5.6322,    -999,9,       -999,9,    -999,9,    -999,9
 316N200310,        A22,      58,          1,         19,         19,2,20031107,       2330,    33.2558,   -65.9935,       4990,  1325.9,   5.2350,  35.0646,2,  35.0659,4,    232.3,2,   232.1,2,   12.12,2,   18.81,2,    0.00,2,    1.24,2,   1.593,2,   0.773,2,   0.074,2,  2170.4,2,  2320.5,2,    -999,9,     -999,9,    -999,9,    -999,9,    -999,9,    -999,   1.579,2,    -999,9,    -999,9, 1325.90,       50,  33.2473, -65.9887,    -999,     -999,    -999,     -999,9,     -999,9,     -999,9,     -999,9,     -999,9,     -999,9,   5.1179,    -999,9,       -999,9,    -999,9,    -999,9
 316N200310,        A22,      58,          1,         18,         18,2,20031107,       2330,    33.2558,   -65.9935,       4990,  1450.4,   4.7754,  35.0377,2,  35.0392,4,    243.3,2,   243.5,2,   11.91,2,   18.31,2,    0.00,2,    1.21,2,   1.484,6,   0.743,6,   0.067,6,  2167.5,2,  2318.1,2,    -999,9,     -999,9,    -999,9,    -999,9,    -999,9,    -999,   1.359,6,    -999,9,    -999,9, 1450.40,       47,  33.2477, -65.9888,    -999,     -999,    -999,     -999,9,     -999,9,     -999,9,     -999,9,     -999,9,     -999,9,   4.6511,    -999,9,       -999,9,    -999,9,    -999,9
 316N200310,        A22,      58,          1,         17,         17,2,20031107,       2330,    33.2558,   -65.9935,       4990,  1574.6,   4.4124,  35.0104,2,  35.0130,4,    251.0,2,   252.0,2,   12.01,2,   18.03,2,    0.00,2,    1.19,2,   1.617,2,   0.818,2,   0.078,2,  2165.3,2,  2316.4,2,    -999,9,     -999,9,    -999,9,    -999,9,    -999,9,    -999,   1.894,2,    -999,9,    -999,9, 1574.60,       44,  33.2482, -65.9891,    -999,     -999,    -999,     -999,9,     -999,9,     -999,9,     -999,9,     -999,9,     -999,9,   4.2804,    -999,9,       -999,9,    -999,9,    -999,9
 316N200310,        A22,      58,          1,         16,         16,2,20031107,       2330,    33.2558,   -65.9935,       4990,  1698.8,   4.1516,  34.9896,2,  34.9904,4,    256.4,2,   257.4,2,   12.09,2,   17.80,2,    0.01,2,    1.17,2,   1.578,2,   0.768,2,   0.083,2,  2163.3,2,  2315.0,2,    -999,9,     -999,9,    -999,9,    -999,9,    -999,9,    -999,   1.939,2,    -999,9,    -999,9, 1698.80,       41,  33.2487, -65.9892,    -999,     -999,    -999,     -999,9,     -999,9,     -999,9,     -999,9,     -999,9,     -999,9,   4.0110,    -999,9,       -999,9,    -999,9,    -999,9
 316N200310,        A22,      58,          1,         15,         15,2,20031107,       2330,    33.2558,   -65.9935,       4990,  1851.1,   3.9251,  34.9737,2,  34.9750,4,    261.2,2,   261.7,2,   12.51,2,   17.68,2,    0.01,2,    1.17,2,   1.499,2,   0.741,2,   0.075,2,  2161.3,2,  2309.5,2,    -999,9,     -999,9,    -999,9,    -999,9,    -999,9,    -999,   1.960,2,    -999,9,    -999,9, 1851.10,       38,  33.2492, -65.9894,    -999,     -999,    -999,     -999,9,     -999,9,     -999,9,     -999,9,     -999,9,     -999,9,   3.7730,    -999,9,       -999,9,    -999,9,    -999,9
 316N200310,        A22,      58,          1,         14,         14,2,20031107,       2330,    33.2558,   -65.9935,       4990,  2001.4,   3.7503,  34.9624,2,  34.9636,4,    263.4,2,   264.0,2,   13.00,2,   17.66,2,    0.01,2,    1.16,2,   1.421,2,   0.700,2,   0.074,2,  2160.4,2,  2308.2,2,    -999,9,     -999,9,    -999,9,    -999,9,    -999,9,    -999,   1.913,2,   43.60,2,    -999,9, 2001.40,       35,  33.2496, -65.9896,    -999,     -999,    -999,   0.1270,2,   0.0890,2,   0.0420,2,   0.0280,2,   0.0180,2,   0.0200,2,   3.5863,    -999,9,       -999,9,    -999,9,    -999,9
 316N200310,        A22,      58,          1,         13,         13,2,20031107,       2330,    33.2558,   -65.9935,       4990,  2251.7,   3.5677,  34.9624,2,  34.9640,4,    263.4,2,   263.9,2,   14.75,2,   17.75,2,    0.00,2,    1.18,2,   1.052,2,   0.523,2,   0.046,2,  2160.3,2,  2310.9,2,    -999,9,     -999,9,    -999,9,    -999,9,    -999,9,    -999,   1.511,2,    -999,9,    -999,9, 2251.70,       29,  33.2502, -65.9898,    -999,     -999,    -999,     -999,9,     -999,9,     -999,9,     -999,9,     -999,9,     -999,9,   3.3822,    -999,9,       -999,9,    -999,9,    -999,9
 316N200310,        A22,      58,          1,         12,         12,2,20031107,       2330,    33.2558,   -65.9935,       4990,  2500.7,   3.3747,  34.9633,2,  34.9650,4,    261.5,2,   261.8,2,   17.34,2,   17.99,2,    0.00,2,    1.20,2,   0.640,2,   0.325,2,   0.016,2,  2162.5,2,  2314.7,2,    -999,9,     -999,9,    -999,9,    -999,9,    -999,9,    -999,   1.075,2,    -999,9,    -999,9, 2500.70,       24,  33.2507, -65.9901,    -999,     -999,    -999,     -999,9,     -999,9,     -999,9,     -999,9,     -999,9,     -999,9,   3.1678,    -999,9,       -999,9,    -999,9,    -999,9
 316N200310,        A22,      58,          1,         11,         11,2,20031107,       2330,    33.2558,   -65.9935,       4990,  2748.0,   3.1680,  34.9539,2,  34.9543,4,    261.8,2,   261.8,2,   19.10,2,   18.13,2,    0.00,2,    1.21,2,   0.488,2,   0.251,2,   0.011,2,  2163.8,2,  2316.7,2,    -999,9,     -999,9,    -999,9,    -999,9,    -999,9,    -999,   0.875,2,    -999,9,    -999,9, 2748.00,       19,  33.2513, -65.9903,    -999,     -999,    -999,     -999,9,     -999,9,     -999,9,     -999,9,     -999,9,     -999,9,   2.9398,    -999,9,       -999,9,    -999,9,    -999,9
 316N200310,        A22,      58,          1,         10,         10,2,20031107,       2330,    33.2558,   -65.9935,       4990,  3001.1,   2.9276,  34.9406,2,  34.9410,4,    263.1,2,   263.5,2,   20.86,2,   18.06,2,    0.00,2,    1.21,2,   0.440,2,   0.229,2,   0.017,2,  2165.4,2,  2317.2,2,    -999,9,     -999,9,    -999,9,    -999,9,    -999,9,    -999,   0.801,2,   42.60,2,    -999,9, 3001.10,       14,  33.2516, -65.9905,    -999,     -999,    -999,   0.1340,2,   0.0950,2,   0.0460,2,   0.0310,2,   0.0170,2,   0.0190,2,   2.6782,    -999,9,       -999,9,    -999,9,    -999,9
 316N200310,        A22,      58,          1,          9,          9,2,20031107,       2330,    33.2558,   -65.9935,       4990,  3201.2,   2.7661,  34.9307,2,  34.9288,4,    264.9,2,   265.2,2,   21.68,2,   17.93,2,    0.00,2,    1.21,2,   0.459,2,   0.237,2,   0.011,2,  2165.5,2,  2316.2,2,    -999,9,     -999,9,    -999,9,    -999,9,    -999,9,    -999,   0.852,2,    -999,9,    -999,9, 3201.20,       10,  33.2520, -65.9908,    -999,     -999,    -999,     -999,9,     -999,9,     -999,9,     -999,9,     -999,9,     -999,9,   2.4993,    -999,9,       -999,9,    -999,9,    -999,9
 316N200310,        A22,      58,          1,          8,          8,2,20031107,       2330,    33.2558,   -65.9935,       4990,  3400.6,   2.6088,  34.9210,2,  34.9195,4,    266.5,2,   266.4,2,   22.81,2,   17.92,2,    0.00,2,    1.21,2,   0.485,2,   0.254,2,   0.019,2,  2166.5,2,  2317.1,2,    -999,9,     -999,9,    -999,9,    -999,9,    -999,9,    -999,   0.917,2,    -999,9,    -999,9, 3400.60,        6,  33.2525, -65.9911,    -999,     -999,    -999,     -999,9,     -999,9,     -999,9,     -999,9,     -999,9,     -999,9,   2.3244,    -999,9,       -999,9,    -999,9,    -999,9
 316N200310,        A22,      58,          1,          7,          7,2,20031107,       2330,    33.2558,   -65.9935,       4990,  3601.2,   2.4628,  34.9107,2,  34.9067,4,    267.1,2,   267.2,2,   24.69,2,   18.00,2,    0.00,2,    1.21,2,   0.579,2,   0.287,2,   0.026,2,  2168.8,2,  2317.9,2,    -999,9,     -999,9,    -999,9,    -999,9,    -999,9,    -999,   1.032,2,    -999,9,    -999,9, 3601.20,        1,  33.2529, -65.9915,    -999,     -999,    -999,     -999,9,     -999,9,     -999,9,     -999,9,     -999,9,     -999,9,   2.1602,    -999,9,       -999,9,    -999,9,    -999,9
 316N200310,        A22,      58,          1,          6,          6,2,20031107,       2330,    33.2558,   -65.9935,       4990,  3799.8,   2.3762,  34.9043,2,  34.9008,4,    266.8,2,   266.8,2,   26.56,2,   18.25,2,    0.00,2,    1.23,2,   0.548,2,   0.268,2,   0.021,2,  2170.6,2,  2326.5,2,    -999,9,     -999,9,    -999,9,    -999,9,    -999,9,    -999,   1.003,2,    -999,9,    -999,9, 3799.80,     2358,  33.2532, -65.9918,    -999,     -999,    -999,     -999,9,     -999,9,     -999,9,     -999,9,     -999,9,     -999,9,   2.0540,    -999,9,       -999,9,    -999,9,    -999,9
 316N200310,        A22,      58,          1,          5,          5,2,20031107,       2330,    33.2558,   -65.9935,       4990,  4000.8,   2.3172,  34.8986,2,  34.8969,4,    266.0,2,   265.7,2,   28.75,2,   18.49,2,    0.00,2,    1.25,2,   0.530,2,   0.255,2,   0.026,2,  2172.6,2,  2327.6,2,    -999,9,     -999,9,    -999,9,    -999,9,    -999,9,    -999,   0.977,2,   43.20,2,    -999,9, 4000.80,     2353,  33.2538, -65.9921,    -999,     -999,    -999,   0.1710,2,   0.1250,2,   0.0630,2,   0.0430,2,   0.0150,2,   0.0170,2,   1.9740,    -999,9,       -999,9,    -999,9,    -999,9
 316N200310,        A22,      58,          1,          4,          4,2,20031107,       2330,    33.2558,   -65.9935,       4990,  4250.1,   2.2740,  34.8926,2,  34.8906,4,    264.3,2,   263.9,2,   31.37,2,   18.88,2,    0.00,2,    1.28,2,   0.524,2,   0.268,2,   0.028,2,  2177.1,2,  2331.1,2,    -999,9,     -999,9,    -999,9,    -999,9,    -999,9,    -999,   0.940,2,    -999,9,    -999,9, 4250.10,     2348,  33.2543, -65.9925,    -999,     -999,    -999,     -999,9,     -999,9,     -999,9,     -999,9,     -999,9,     -999,9,   1.9033,    -999,9,       -999,9,    -999,9,    -999,9
 316N200310,        A22,      58,          1,          3,          3,2,20031107,       2330,    33.2558,   -65.9935,       4990,  4500.0,   2.2641,  34.8888,2,  34.8863,4,    262.5,2,   262.4,2,   33.57,2,   19.17,2,    0.00,2,    1.30,2,   0.472,2,   0.241,2,   0.022,2,  2179.4,2,  2332.0,2,    -999,9,     -999,9,    -999,9,    -999,9,    -999,9,    -999,   0.849,2,    -999,9,    -999,9, 4500.00,     2343,  33.2549, -65.9928,    -999,     -999,    -999,     -999,9,     -999,9,     -999,9,     -999,9,     -999,9,     -999,9,   1.8641,    -999,9,       -999,9,    -999,9,    -999,9