BOTTLE,20220517CCHSIOLMM
EXPOCODE,SECT_ID,STNNBR,CASTNO,SAMPNO,BTLNBR,BTLNBR_FLAG_W,DATE,TIME,LATITUDE,LONGITUDE,DEPTH,CTDPRS,CTDTMP,CTDSAL,CTDSAL_FLAG_W,SALNTY,SALNTY_FLAG_W,CTDOXY,CTDOXY_FLAG_W,OXYGEN,OXYGEN_FLAG_W,SILCAT,SILCAT_FLAG_W,NITRAT,NITRAT_FLAG_W,NITRIT,NITRIT_FLAG_W,PHSPHT,PHSPHT_FLAG_W,CFC-11,CFC-11_FLAG_W,CFC-12,CFC-12_FLAG_W,CFC113,CFC113_FLAG_W,TCARBN,TCARBN_FLAG_W,ALKALI,ALKALI_FLAG_W,TRITUM,TRITUM_FLAG_W,HELIUM,HELIUM_FLAG_W,DELHE3,DELHE3_FLAG_W,DELC13,DELC13_FLAG_W,DELC14,DELC14_FLAG_W,C14ERR,CCL4,CCL4_FLAG_W,DOC,DOC_FLAG_W,TDN,TDN_FLAG_W,CTDRAW,BTL_TIME,BTL_LAT,BTL_LON,TRITER,HELIER,DELHER,CDOM325,CDOM325_FLAG_W,CDOM340,CDOM340_FLAG_W,CDOM380,CDOM380_FLAG_W,CDOM412,CDOM412_FLAG_W,CDOMSL,CDOMSL_FLAG_W,CDOMSN,CDOMSN_FLAG_W,THETA,BACT,BACT_FLAG_W,PROC,PROC_FLAG_W,SYN,SYN_FLAG_W,PEUK,PEUK_FLAG_W
,,,,,,,,,,,METERS,DBAR,ITS-90,PSS-78,,PSS-78,,UMOL/KG,,UMOL/KG,,UMOL/KG,,UMOL/KG,,UMOL/KG,,UMOL/KG,,PMOL/KG,,PMOL/KG,,PMOL/KG,,UMOL/KG,,UMOL/KG,,TU,,NMOL/KG,,PERCNT,,/MILLE,,/MILLE,,/MILLE,PMOL/KG,,UMOL/KG,,UMOL/KG,,DBAR,,,,TU,NMOL/KG,PERCNT,1/M,,1/M,,1/M,,1/M,,1/NM,,1/NM,,DEG C,E8/L,,E7/L,,E6/L,,E6/L,
 316N200310,        A22,      62,          1,          4,          4,2,20031109,       0426,    35.2345,   -66.8913,       5093,  4500.6,   2.2834,  34.8907,2,  34.8912,2,    264.1,2,   263.7,2,   32.18,2,   19.03,2,    0.00,2,    1.29,2,   0.518,2,   0.242,2,   0.017,2,  2174.2,2,  2333.9,2,    -999,9,     -999,9,    -999,9,    -999,9,    -999,9,    -999,   0.886,2,    -999,9,    -999,9, 4500.60,      440,  35.2350, -66.8941,    -999,     -999,    -999,     -999,9,     -999,9,     -999,9,     -999,9,     -999,9,     -999,9,   1.8828,    -999,9,       -999,9,    -999,9,    -999,9
 316N200310,        A22,      62,          1,          3,          3,2,20031109,       0426,    35.2345,   -66.8913,       5093,  4749.8,   2.2772,  34.8868,2,  34.8877,2,    262.7,2,   263.2,2,   34.17,2,   19.33,2,    0.00,2,    1.31,2,   0.494,2,   0.245,2,   0.023,2,  2178.7,2,  2335.8,2,    -999,9,     -999,9,    -999,9,    -999,9,    -999,9,    -999,   0.832,2,   42.00,2,    -999,9, 4749.80,      435,  35.2345, -66.8929,    -999,     -999,    -999,     -999,9,     -999,9,     -999,9,     -999,9,     -999,9,     -999,9,   1.8465,    -999,9,       -999,9,    -999,9,    -999,9
 316N200310,        A22,      62,          1,          2,          2,2,20031109,       0426,    35.2345,   -66.8913,       5093,  5000.9,   2.2789,  34.8835,2,  34.8845,2,    261.4,2,   260.8,2,   36.26,2,   19.67,2,    0.00,2,    1.33,2,   0.434,2,   0.226,2,   0.023,2,  2180.7,2,  2337.5,2,    -999,9,     -999,9,    -999,9,    -999,9,    -999,9,    -999,   0.756,2,    -999,9,    -999,9, 5000.90,      430,  35.2345, -66.8920,    -999,     -999,    -999,     -999,9,     -999,9,     -999,9,     -999,9,     -999,9,     -999,9,   1.8168,    -999,9,       -999,9,    -999,9,    -999,9
 316N200310,        A22,      62,          1,          1,          1,2,20031109,       0426,    35.2345,   -66.8913,       5093,  5176.0,   2.2795,  34.8810,2,  34.8821,2,    258.9,2,   258.6,2,   38.25,2,   19.97,2,    0.00,2,    1.35,2,   0.348,2,   0.195,2,   0.027,2,  2185.2,2,  2341.2,6,    -999,9,     -999,9,    -999,9,    -999,9,    -999,9,    -999,   0.662,2,   42.30,2,    -999,9, 5176.00,      426,  35.2345, -66.8913,    -999,     -999,    -999,   0.1310,2,   0.0920,2,   0.0430,2,   0.0270,2,   0.0190,2,   0.0200,2,   1.7952,    -999,9,       -999,9,    -999,9,    -999,9