BOTTLE,20220517CCHSIOLMM
EXPOCODE,SECT_ID,STNNBR,CASTNO,SAMPNO,BTLNBR,BTLNBR_FLAG_W,DATE,TIME,LATITUDE,LONGITUDE,DEPTH,CTDPRS,CTDTMP,CTDSAL,CTDSAL_FLAG_W,SALNTY,SALNTY_FLAG_W,CTDOXY,CTDOXY_FLAG_W,OXYGEN,OXYGEN_FLAG_W,SILCAT,SILCAT_FLAG_W,NITRAT,NITRAT_FLAG_W,NITRIT,NITRIT_FLAG_W,PHSPHT,PHSPHT_FLAG_W,CFC-11,CFC-11_FLAG_W,CFC-12,CFC-12_FLAG_W,CFC113,CFC113_FLAG_W,TCARBN,TCARBN_FLAG_W,ALKALI,ALKALI_FLAG_W,TRITUM,TRITUM_FLAG_W,HELIUM,HELIUM_FLAG_W,DELHE3,DELHE3_FLAG_W,DELC13,DELC13_FLAG_W,DELC14,DELC14_FLAG_W,C14ERR,CCL4,CCL4_FLAG_W,DOC,DOC_FLAG_W,TDN,TDN_FLAG_W,CTDRAW,BTL_TIME,BTL_LAT,BTL_LON,TRITER,HELIER,DELHER,CDOM325,CDOM325_FLAG_W,CDOM340,CDOM340_FLAG_W,CDOM380,CDOM380_FLAG_W,CDOM412,CDOM412_FLAG_W,CDOMSL,CDOMSL_FLAG_W,CDOMSN,CDOMSN_FLAG_W,THETA,BACT,BACT_FLAG_W,PROC,PROC_FLAG_W,SYN,SYN_FLAG_W,PEUK,PEUK_FLAG_W
,,,,,,,,,,,METERS,DBAR,ITS-90,PSS-78,,PSS-78,,UMOL/KG,,UMOL/KG,,UMOL/KG,,UMOL/KG,,UMOL/KG,,UMOL/KG,,PMOL/KG,,PMOL/KG,,PMOL/KG,,UMOL/KG,,UMOL/KG,,TU,,NMOL/KG,,PERCNT,,/MILLE,,/MILLE,,/MILLE,PMOL/KG,,UMOL/KG,,UMOL/KG,,DBAR,,,,TU,NMOL/KG,PERCNT,1/M,,1/M,,1/M,,1/M,,1/NM,,1/NM,,DEG C,E8/L,,E7/L,,E6/L,,E6/L,
 316N200310,        A22,      16,          1,          3,          3,2,20031027,       2130,    17.0302,   -65.9718,       4747,  4400.7,   4.3203,  34.9779,2,  34.9770,2,    217.7,2,   218.2,2,   27.58,2,   21.81,2,    0.00,2,    1.47,2,   0.068,2,   0.052,2,   0.008,3,  2193.9,2,  2338.9,2,    -999,9,     -999,9,    -999,9,    -999,9,    -999,9,    -999,    -999,9,    -999,9,    -999,9, 4400.70,     2139,  17.0301, -65.9707,    -999,     -999,    -999,     -999,9,     -999,9,     -999,9,     -999,9,     -999,9,     -999,9,   3.8703,    -999,9,       -999,9,    -999,9,    -999,9
 316N200310,        A22,      16,          1,          2,          2,2,20031027,       2130,    17.0302,   -65.9718,       4747,  4600.7,   4.3468,  34.9781,2,  34.9776,2,    218.4,2,   218.9,2,   27.17,2,   21.71,2,    0.00,2,    1.47,2,   0.085,2,   0.062,2,   0.003,2,  2194.4,2,  2337.4,2,    -999,9,     -999,9,    -999,9,    -999,9,    -999,9,    -999,    -999,9,    -999,9,    -999,9, 4600.70,     2135,  17.0301, -65.9713,    -999,     -999,    -999,     -999,9,     -999,9,     -999,9,     -999,9,     -999,9,     -999,9,   3.8698,    -999,9,       -999,9,    -999,9,    -999,9
 316N200310,        A22,      16,          1,          1,          1,2,20031027,       2130,    17.0302,   -65.9718,       4747,  4808.8,   4.3709,  34.9780,2,  34.9774,2,    221.9,2,   222.8,2,   25.77,2,   21.36,2,    0.00,2,    1.44,2,   0.192,2,   0.108,2,   0.009,2,  2191.6,2,  2336.1,6,   0.069,2,   1.9682,2,    3.06,2,    -999,9,    -999,9,    -999,    -999,9,   43.20,2,    -999,9, 4808.80,     2130,  17.0301, -65.9718,   0.010,   0.0098,    0.15,     -999,9,     -999,9,     -999,9,     -999,9,     -999,9,     -999,9,   3.8653,    -999,9,       -999,9,    -999,9,    -999,9