BOTTLE,20220517CCHSIOLMM
EXPOCODE,SECT_ID,STNNBR,CASTNO,SAMPNO,BTLNBR,BTLNBR_FLAG_W,DATE,TIME,LATITUDE,LONGITUDE,DEPTH,CTDPRS,CTDTMP,CTDSAL,CTDSAL_FLAG_W,SALNTY,SALNTY_FLAG_W,CTDOXY,CTDOXY_FLAG_W,OXYGEN,OXYGEN_FLAG_W,SILCAT,SILCAT_FLAG_W,NITRAT,NITRAT_FLAG_W,NITRIT,NITRIT_FLAG_W,PHSPHT,PHSPHT_FLAG_W,CFC-11,CFC-11_FLAG_W,CFC-12,CFC-12_FLAG_W,CFC113,CFC113_FLAG_W,TCARBN,TCARBN_FLAG_W,ALKALI,ALKALI_FLAG_W,TRITUM,TRITUM_FLAG_W,HELIUM,HELIUM_FLAG_W,DELHE3,DELHE3_FLAG_W,DELC13,DELC13_FLAG_W,DELC14,DELC14_FLAG_W,C14ERR,CCL4,CCL4_FLAG_W,DOC,DOC_FLAG_W,TDN,TDN_FLAG_W,CTDRAW,BTL_TIME,BTL_LAT,BTL_LON,TRITER,HELIER,DELHER,CDOM325,CDOM325_FLAG_W,CDOM340,CDOM340_FLAG_W,CDOM380,CDOM380_FLAG_W,CDOM412,CDOM412_FLAG_W,CDOMSL,CDOMSL_FLAG_W,CDOMSN,CDOMSN_FLAG_W,THETA,BACT,BACT_FLAG_W,PROC,PROC_FLAG_W,SYN,SYN_FLAG_W,PEUK,PEUK_FLAG_W
,,,,,,,,,,,METERS,DBAR,ITS-90,PSS-78,,PSS-78,,UMOL/KG,,UMOL/KG,,UMOL/KG,,UMOL/KG,,UMOL/KG,,UMOL/KG,,PMOL/KG,,PMOL/KG,,PMOL/KG,,UMOL/KG,,UMOL/KG,,TU,,NMOL/KG,,PERCNT,,/MILLE,,/MILLE,,/MILLE,PMOL/KG,,UMOL/KG,,UMOL/KG,,DBAR,,,,TU,NMOL/KG,PERCNT,1/M,,1/M,,1/M,,1/M,,1/NM,,1/NM,,DEG C,E8/L,,E7/L,,E6/L,,E6/L,
 316N200310,        A22,      57,          1,         36,         36,2,20031107,       1644,    32.7362,   -65.9950,       4964,     2.8,  25.3083,  36.3266,2,  36.3231,2,    204.2,2,   204.1,2,    0.73,2,    0.15,2,    0.00,2,    0.02,2,   1.747,2,   1.057,2,   0.151,2,  2024.3,2,    -999,9,    -999,9,     -999,9,    -999,9,    -999,9,    -999,9,    -999,    -999,9,   65.40,2,    5.00,2,    2.80,     1851,  32.7272, -65.9881,    -999,     -999,    -999,   0.0790,2,   0.0530,2,   0.0200,2,   0.0130,2,   0.0270,2,   0.0270,2,  25.3077,    3.69,2,       9.93,2,   32.11,2,    3.76,2
 316N200310,        A22,      57,          1,         35,         35,2,20031107,       1644,    32.7362,   -65.9950,       4964,    30.3,  25.2880,  36.3245,2,  36.3206,2,    204.7,2,   203.9,2,    0.72,2,    0.10,2,    0.00,2,    0.01,2,   1.745,6,   1.061,6,   0.140,6,  2025.3,2,  2372.3,2,    -999,9,     -999,9,    -999,9,    -999,9,    -999,9,    -999,    -999,9,   70.90,2,    -999,9,   30.30,     1849,  32.7274, -65.9882,    -999,     -999,    -999,   0.0850,2,   0.0580,2,   0.0240,2,   0.0160,2,   0.0240,2,   0.0250,2,  25.2814,    3.23,2,      12.26,2,   32.06,2,    3.14,2
 316N200310,        A22,      57,          1,         34,         34,2,20031107,       1644,    32.7362,   -65.9950,       4964,    59.7,  25.2370,  36.3302,2,  36.3271,2,    204.4,2,   203.9,2,    0.81,2,    0.10,2,    0.00,2,    0.01,2,   1.746,2,   1.053,2,   0.145,2,  2026.6,2,  2373.7,2,    -999,9,     -999,9,    -999,9,    -999,9,    -999,9,    -999,    -999,9,   64.80,2,    4.40,2,   59.70,     1847,  32.7276, -65.9883,    -999,     -999,    -999,   0.0860,2,   0.0580,2,   0.0240,2,   0.0160,2,   0.0240,2,   0.0250,2,  25.2239,    3.39,2,       0.00,2,    0.00,2,    0.00,2
 316N200310,        A22,      57,          1,         33,         33,2,20031107,       1644,    32.7362,   -65.9950,       4964,   100.8,  24.6651,  36.5533,2,  36.5438,2,    196.6,2,   195.3,2,    0.69,2,    0.47,2,    0.07,2,    0.02,2,   1.834,2,   1.107,2,   0.120,2,  2054.7,2,  2388.0,2,   1.049,2,   1.7188,2,   -1.77,2,    -999,9,    -999,9,    -999,    -999,9,   62.40,2,    -999,9,  100.80,     1844,  32.7278, -65.9884,   0.015,   0.0086,    0.15,   0.1130,2,   0.0790,2,   0.0360,2,   0.0250,2,   0.0200,2,   0.0210,2,  24.6433,    2.82,2,       5.37,2,    1.90,2,    3.17,2
 316N200310,        A22,      57,          1,         32,         32,2,20031107,       1644,    32.7362,   -65.9950,       4964,   125.6,  23.0358,  36.6957,2,  36.6923,2,    186.3,2,   187.7,2,    0.78,2,    1.60,2,    0.03,2,    0.07,2,   1.993,2,   1.190,2,   0.099,2,    -999,9,    -999,9,    -999,9,     -999,9,    -999,9,    -999,9,    -999,9,    -999,    -999,9,   57.10,2,    6.00,2,  125.60,     1843,  32.7280, -65.9884,    -999,     -999,    -999,   0.1140,2,   0.0810,2,   0.0360,2,   0.0250,2,   0.0200,2,   0.0210,2,  23.0100,    1.25,2,       4.37,2,    0.01,2,    0.60,2
 316N200310,        A22,      57,          1,         31,         31,2,20031107,       1644,    32.7362,   -65.9950,       4964,   174.1,  20.2963,  36.6818,2,  36.6723,2,    200.3,2,   195.8,2,    0.87,2,    1.85,2,    0.01,2,    0.08,2,   2.162,6,   1.296,6,   0.080,6,  2092.1,2,  2396.3,2,   1.022,2,   1.7587,2,   -1.64,2,    -999,9,    -999,9,    -999,   0.522,2,   53.00,2,    6.60,2,  174.10,     1841,  32.7281, -65.9885,   0.013,   0.0088,    0.15,   0.1060,2,   0.0760,2,   0.0360,2,   0.0250,2,   0.0190,2,   0.0200,2,  20.2635,    0.98,2,       4.19,2,    0.00,2,    0.88,2
 316N200310,        A22,      57,          1,         30,         30,2,20031107,       1644,    32.7362,   -65.9950,       4964,   225.8,  19.3462,  36.6378,2,  36.6350,2,    197.1,2,   205.2,2,    0.85,2,    2.00,2,    0.01,2,    0.08,2,   2.220,2,   1.313,2,   0.071,2,    -999,9,    -999,9,    -999,9,     -999,9,    -999,9,    -999,9,    -999,9,    -999,    -999,9,   54.60,2,    6.60,2,  225.80,     1839,  32.7283, -65.9886,    -999,     -999,    -999,   0.1060,2,   0.0770,2,   0.0350,2,   0.0240,2,   0.0200,2,   0.0200,2,  19.3050,    1.13,2,      12.94,2,    0.00,2,    0.04,2
 316N200310,        A22,      57,          1,         29,         29,2,20031107,       1644,    32.7362,   -65.9950,       4964,   275.4,  18.9706,  36.6121,2,  36.6088,2,    199.8,2,   203.1,2,    0.94,2,    2.60,2,    0.01,2,    0.11,2,   2.270,2,   1.339,2,   0.076,2,  2093.4,2,  2391.7,2,   1.068,2,   1.7512,2,   -1.18,2,    -999,9,    -999,9,    -999,    -999,9,   53.30,2,    5.60,2,  275.40,     1837,  32.7284, -65.9886,   0.013,   0.0088,    0.15,     -999,9,     -999,9,     -999,9,     -999,9,     -999,9,     -999,9,  18.9210,    -999,9,       -999,9,    -999,9,    -999,9
 316N200310,        A22,      57,          1,         28,         28,2,20031107,       1644,    32.7362,   -65.9950,       4964,   350.9,  18.6506,  36.5898,2,  36.5864,2,    207.6,2,   204.4,2,    1.03,2,    3.08,2,    0.01,2,    0.14,2,   2.292,2,   1.346,2,   0.070,2,    -999,9,    -999,9,   1.048,2,   1.7652,2,   -1.47,2,    -999,9,    -999,9,    -999,    -999,9,   50.60,2,    -999,9,  350.90,     1834,  32.7285, -65.9886,   0.013,   0.0088,    0.15,   0.1090,2,   0.0770,2,   0.0360,2,   0.0250,2,   0.0200,2,   0.0210,2,  18.5880,    -999,9,       -999,9,    -999,9,    -999,9
 316N200310,        A22,      57,          1,         27,         27,2,20031107,       1644,    32.7362,   -65.9950,       4964,   450.1,  18.0055,  36.5132,2,  36.5137,2,    200.4,2,   197.5,2,    1.42,2,    4.76,2,    0.01,2,    0.22,2,   2.316,2,   1.333,2,   0.058,2,  2106.4,2,  2386.1,2,   1.096,2,   1.7624,2,   -1.49,2,    -999,9,    -999,9,    -999,    -999,9,   50.30,2,    -999,9,  450.10,     1832,  32.7287, -65.9887,   0.013,   0.0088,    0.15,   0.0940,2,   0.0670,2,   0.0300,2,   0.0210,2,   0.0210,2,   0.0220,2,  17.9270,    -999,9,       -999,9,    -999,9,    -999,9
 316N200310,        A22,      57,          1,         26,         26,2,20031107,       1644,    32.7362,   -65.9950,       4964,   550.0,  17.0733,  36.3668,2,  36.3671,2,    188.3,2,   190.9,2,    2.00,2,    6.84,2,    0.01,2,    0.36,2,   2.300,2,   1.307,2,   0.047,2,    -999,9,    -999,9,    -999,9,   1.7405,2,   -1.01,2,    -999,9,    -999,9,    -999,    -999,9,    -999,9,    -999,9,  550.00,     1829,  32.7289, -65.9888,    -999,   0.0087,    0.15,     -999,9,     -999,9,     -999,9,     -999,9,     -999,9,     -999,9,  16.9806,    -999,9,       -999,9,    -999,9,    -999,9
 316N200310,        A22,      57,          1,         25,         25,2,20031107,       1644,    32.7362,   -65.9950,       4964,   675.8,  14.6612,  35.9236,2,  35.9238,2,    163.2,2,   158.3,2,    5.23,2,   13.90,2,    0.01,2,    0.80,2,   1.949,2,   1.064,2,   0.038,2,  2151.8,2,  2354.8,2,   1.109,2,   1.7560,2,   -0.98,2,    -999,9,    -999,9,    -999,    -999,9,    -999,9,    -999,9,  675.80,     1825,  32.7291, -65.9887,   0.013,   0.0088,    0.15,     -999,9,     -999,9,     -999,9,     -999,9,     -999,9,     -999,9,  14.5582,    -999,9,       -999,9,    -999,9,    -999,9
 316N200310,        A22,      57,          1,         24,         24,2,20031107,       1644,    32.7362,   -65.9950,       4964,   740.6,  13.1042,  35.6943,2,  35.6927,2,    163.4,2,   163.7,2,    6.54,2,   15.90,2,    0.01,2,    0.95,2,   1.859,2,   0.996,2,   0.049,2,  2156.6,2,  2342.3,2,   1.158,2,   1.7463,2,   -0.25,2,    -999,9,    -999,9,    -999,    -999,9,   46.90,2,    -999,9,  740.60,     1823,  32.7292, -65.9888,   0.013,   0.0087,    0.15,   0.1100,2,   0.0760,2,   0.0350,2,   0.0240,2,   0.0200,2,   0.0210,2,  12.9991,    -999,9,       -999,9,    -999,9,    -999,9
 316N200310,        A22,      57,          1,         23,         23,2,20031107,       1644,    32.7362,   -65.9950,       4964,   850.1,  10.3245,  35.3172,2,  35.3191,2,    137.6,2,   136.8,2,   12.36,2,   23.24,2,    0.01,2,    1.45,2,   0.983,2,   0.520,2,   0.024,2,  2186.8,2,  2327.5,2,   1.239,2,   1.7741,2,    3.19,2,    -999,9,    -999,9,    -999,    -999,9,   43.70,2,    -999,9,  850.10,     1820,  32.7294, -65.9888,   0.014,   0.0089,    0.15,   0.1470,2,   0.1040,2,   0.0500,2,   0.0340,2,   0.0170,2,   0.0190,2,  10.2202,    -999,9,       -999,9,    -999,9,    -999,9
 316N200310,        A22,      57,          1,         22,         22,2,20031107,       1644,    32.7362,   -65.9950,       4964,   976.0,   7.9199,  35.1483,2,  35.1480,2,    169.6,2,   169.3,2,   13.17,2,   22.49,2,    0.01,2,    1.43,2,   1.149,2,   0.583,2,   0.041,2,  2184.7,2,    -999,9,   1.200,2,   1.7786,2,    4.88,2,    -999,9,    -999,9,    -999,    -999,9,    -999,9,    -999,9,  976.00,     1816,  32.7296, -65.9889,   0.014,   0.0089,    0.15,     -999,9,     -999,9,     -999,9,     -999,9,     -999,9,     -999,9,   7.8166,    -999,9,       -999,9,    -999,9,    -999,9
 316N200310,        A22,      57,          1,         21,         21,2,20031107,       1644,    32.7362,   -65.9950,       4964,  1125.7,   6.0321,  35.0959,2,  35.0966,2,    209.6,2,   213.0,2,   12.44,2,   20.02,2,    0.00,2,    1.29,2,   1.488,2,   0.747,2,   0.067,2,  2175.6,2,  2319.5,2,   1.002,2,   1.7907,2,    6.89,2,    -999,9,    -999,9,    -999,    -999,9,   43.50,2,    -999,9, 1125.70,     1813,  32.7297, -65.9889,   0.013,   0.0090,    0.15,   0.1390,2,   0.0960,2,   0.0450,2,   0.0290,2,   0.0190,2,   0.0200,2,   5.9276,    -999,9,       -999,9,    -999,9,    -999,9
 316N200310,        A22,      57,          1,         20,         20,2,20031107,       1644,    32.7362,   -65.9950,       4964,  1274.9,   5.0848,  35.0483,2,  35.0494,2,    234.6,2,   236.6,2,   11.90,2,   18.76,2,    0.00,2,    1.22,2,   1.762,2,   0.871,2,   0.092,2,  2168.6,2,  2316.2,2,   0.781,2,     -999,9,    -999,9,    -999,9,    -999,9,    -999,    -999,9,    -999,9,    -999,9, 1274.90,     1809,  32.7300, -65.9891,   0.012,     -999,    -999,     -999,9,     -999,9,     -999,9,     -999,9,     -999,9,     -999,9,   4.9742,    -999,9,       -999,9,    -999,9,    -999,9
 316N200310,        A22,      57,          1,         19,         19,2,20031107,       1644,    32.7362,   -65.9950,       4964,  1399.3,   4.6502,  35.0222,2,  35.0222,2,    245.4,2,   246.6,2,   11.89,2,   18.35,2,    0.00,2,    1.19,2,   1.715,2,   0.843,2,   0.078,2,    -999,9,    -999,9,   0.701,2,   1.8107,2,    5.53,2,    -999,9,    -999,9,    -999,    -999,9,    -999,9,    -999,9, 1399.30,     1805,  32.7301, -65.9893,   0.012,   0.0091,    0.15,     -999,9,     -999,9,     -999,9,     -999,9,     -999,9,     -999,9,   4.5321,    -999,9,       -999,9,    -999,9,    -999,9
 316N200310,        A22,      57,          1,         18,         18,2,20031107,       1644,    32.7362,   -65.9950,       4964,  1500.8,   4.4451,  35.0102,2,  35.0108,2,    252.3,2,   251.7,2,   11.88,2,   18.21,2,    0.00,2,    1.17,2,   1.719,2,   0.849,2,   0.094,2,  2162.9,2,  2310.4,2,   0.619,2,   1.8292,2,    5.93,2,    -999,9,    -999,9,    -999,    -999,9,   45.10,3,    -999,9, 1500.80,     1803,  32.7302, -65.9894,   0.012,   0.0091,    0.15,   0.1610,2,   0.1130,2,   0.0550,2,   0.0370,2,   0.0160,2,   0.0190,2,   4.3197,    -999,9,       -999,9,    -999,9,    -999,9
 316N200310,        A22,      57,          1,         17,         17,2,20031107,       1644,    32.7362,   -65.9950,       4964,  1625.2,   4.2231,  34.9965,2,  34.9970,2,    256.3,2,   256.4,2,   12.17,2,   18.05,2,    0.00,2,    1.17,2,   1.593,2,   0.779,2,   0.078,2,    -999,9,    -999,9,   0.593,2,   1.8268,2,    5.65,2,    -999,9,    -999,9,    -999,    -999,9,    -999,9,    -999,9, 1625.20,     1800,  32.7303, -65.9896,   0.011,   0.0091,    0.15,     -999,9,     -999,9,     -999,9,     -999,9,     -999,9,     -999,9,   4.0886,    -999,9,       -999,9,    -999,9,    -999,9
 316N200310,        A22,      57,          1,         16,         16,2,20031107,       1644,    32.7362,   -65.9950,       4964,  1801.1,   3.9508,  34.9800,2,  34.9809,2,    262.5,2,   260.8,2,   12.67,2,   17.85,2,    0.00,2,    1.16,2,   1.402,2,   0.684,2,   0.071,2,  2159.3,2,  2310.0,2,   0.705,2,   1.8363,2,    5.95,2,    -999,9,    -999,9,    -999,    -999,9,   42.10,2,    -999,9, 1801.10,     1756,  32.7304, -65.9898,   0.012,   0.0092,    0.15,   0.1300,2,   0.0900,2,   0.0420,2,   0.0280,2,   0.0190,2,   0.0200,2,   3.8032,    -999,9,       -999,9,    -999,9,    -999,9
 316N200310,        A22,      57,          1,         15,         15,2,20031107,       1644,    32.7362,   -65.9950,       4964,  1976.2,   3.6629,  34.9530,2,  34.9534,2,    266.4,2,   266.9,2,   13.07,2,   17.60,2,    0.00,2,    1.15,2,   1.521,2,   0.735,2,   0.086,2,    -999,9,    -999,9,   0.670,2,   1.8457,2,    5.70,2,    -999,9,    -999,9,    -999,    -999,9,    -999,9,    -999,9, 1976.20,     1752,  32.7305, -65.9900,   0.012,   0.0092,    0.15,     -999,9,     -999,9,     -999,9,     -999,9,     -999,9,     -999,9,   3.5027,    -999,9,       -999,9,    -999,9,    -999,9
 316N200310,        A22,      57,          1,         14,         14,2,20031107,       1644,    32.7362,   -65.9950,       4964,  2201.7,   3.5321,  34.9617,2,  34.9614,2,    265.4,2,   264.1,2,   15.01,2,   17.85,2,    0.00,2,    1.17,2,   1.032,2,   0.506,2,   0.056,2,  2159.1,2,  2313.0,2,   0.423,2,   1.8566,2,    3.37,2,    -999,9,    -999,9,    -999,    -999,9,   43.10,2,    -999,9, 2201.70,     1747,  32.7304, -65.9903,   0.011,   0.0093,    0.15,   0.1300,2,   0.0900,2,   0.0420,2,   0.0270,2,   0.0190,2,   0.0210,2,   3.3521,    -999,9,       -999,9,    -999,9,    -999,9
 316N200310,        A22,      57,          1,         13,         13,2,20031107,       1644,    32.7362,   -65.9950,       4964,  2400.8,   3.4361,  34.9729,2,  34.9734,2,    260.0,2,   259.4,2,   17.90,2,   18.25,2,    0.00,2,    1.20,2,   0.498,2,   0.249,2,   0.028,2,    -999,9,    -999,9,    -999,9,     -999,9,    -999,9,    -999,9,    -999,9,    -999,    -999,9,    -999,9,    -999,9, 2400.80,     1743,  32.7305, -65.9905,    -999,     -999,    -999,     -999,9,     -999,9,     -999,9,     -999,9,     -999,9,     -999,9,   3.2380,    -999,9,       -999,9,    -999,9,    -999,9
 316N200310,        A22,      57,          1,         12,         12,2,20031107,       1644,    32.7362,   -65.9950,       4964,  2626.2,   3.2010,  34.9553,2,  34.9553,2,    262.1,2,   262.1,2,   19.02,2,   18.09,2,    0.00,2,    1.20,2,   0.532,2,   0.263,2,   0.033,2,  2161.7,2,  2317.5,2,   0.256,2,   1.8754,2,    1.82,2,    -999,9,    -999,9,    -999,    -999,9,    -999,9,    -999,9, 2626.20,     1737,  32.7305, -65.9910,   0.010,   0.0094,    0.15,     -999,9,     -999,9,     -999,9,     -999,9,     -999,9,     -999,9,   2.9846,    -999,9,       -999,9,    -999,9,    -999,9
 316N200310,        A22,      57,          1,         11,         11,2,20031107,       1644,    32.7362,   -65.9950,       4964,  2876.7,   3.0055,  34.9459,2,  34.9461,2,    262.7,2,   262.3,2,   20.98,2,   18.30,2,    0.00,2,    1.21,2,   0.409,2,   0.203,2,   0.018,2,    -999,9,    -999,9,    -999,9,     -999,9,    -999,9,    -999,9,    -999,9,    -999,    -999,9,    -999,9,    -999,9, 2876.70,     1732,  32.7305, -65.9913,    -999,     -999,    -999,     -999,9,     -999,9,     -999,9,     -999,9,     -999,9,     -999,9,   2.7674,    -999,9,       -999,9,    -999,9,    -999,9
 316N200310,        A22,      57,          1,         10,         10,2,20031107,       1644,    32.7362,   -65.9950,       4964,  3102.2,   2.7774,  34.9314,2,  34.9313,2,    264.8,2,   264.9,2,   21.89,2,   18.09,2,    0.00,2,    1.21,2,   0.459,2,   0.229,2,   0.025,2,    -999,9,    -999,9,   0.235,2,   1.8648,2,    2.01,2,    -999,9,    -999,9,    -999,    -999,9,    -999,9,    -999,9, 3102.20,     1727,  32.7306, -65.9915,   0.010,   0.0093,    0.15,     -999,9,     -999,9,     -999,9,     -999,9,     -999,9,     -999,9,   2.5208,    -999,9,       -999,9,    -999,9,    -999,9
 316N200310,        A22,      57,          1,          9,          9,2,20031107,       1644,    32.7362,   -65.9950,       4964,  3302.6,   2.6445,  34.9228,2,  34.9235,2,    266.3,2,   266.6,2,   22.72,2,   18.04,2,    0.00,2,    1.20,2,   0.496,2,   0.245,2,   0.029,2,  2162.7,2,  2320.1,2,    -999,9,     -999,9,    -999,9,    -999,9,    -999,9,    -999,    -999,9,   42.30,2,    -999,9, 3302.60,     1722,  32.7307, -65.9917,    -999,     -999,    -999,   0.1390,2,   0.0970,2,   0.0450,2,   0.0290,2,   0.0190,2,   0.0200,2,   2.3698,    -999,9,       -999,9,    -999,9,    -999,9
 316N200310,        A22,      57,          1,          8,          8,2,20031107,       1644,    32.7362,   -65.9950,       4964,  3498.9,   2.5086,  34.9144,2,  34.9140,2,    267.1,2,   267.1,2,   24.06,2,   18.09,2,    0.00,2,    1.21,2,   0.495,2,   0.248,2,   0.032,2,    -999,9,    -999,9,   0.271,2,   1.8671,2,    2.94,2,    -999,9,    -999,9,    -999,    -999,9,    -999,9,    -999,9, 3498.90,     1718,  32.7313, -65.9920,   0.010,   0.0093,    0.15,     -999,9,     -999,9,     -999,9,     -999,9,     -999,9,     -999,9,   2.2160,    -999,9,       -999,9,    -999,9,    -999,9
 316N200310,        A22,      57,          1,          7,          7,2,20031107,       1644,    32.7362,   -65.9950,       4964,  3697.7,   2.3950,  34.9057,2,  34.9054,2,    266.6,2,   267.1,2,   26.23,2,   18.24,2,    0.00,2,    1.22,2,   0.553,2,   0.265,2,   0.033,2,    -999,9,    -999,9,    -999,9,     -999,9,    -999,9,    -999,9,    -999,9,    -999,    -999,9,    -999,9,    -999,9, 3697.70,     1714,  32.7326, -65.9922,    -999,     -999,    -999,     -999,9,     -999,9,     -999,9,     -999,9,     -999,9,     -999,9,   2.0836,    -999,9,       -999,9,    -999,9,    -999,9
 316N200310,        A22,      57,          1,          6,          6,2,20031107,       1644,    32.7362,   -65.9950,       4964,  3898.2,   2.3367,  34.9002,2,  34.8998,2,    266.1,2,   266.5,2,   27.99,2,   18.43,2,    0.00,2,    1.24,2,   0.577,2,   0.273,2,   0.040,2,  2169.1,2,  2326.9,2,   0.293,2,   1.8821,2,    3.11,2,    -999,9,    -999,9,    -999,    -999,9,   42.70,2,    -999,9, 3898.20,     1710,  32.7338, -65.9925,   0.010,   0.0094,    0.15,   0.1410,2,   0.1000,2,   0.0480,2,   0.0310,2,   0.0180,2,   0.0190,2,   2.0046,    -999,9,       -999,9,    -999,9,    -999,9
 316N200310,        A22,      57,          1,          5,          5,2,20031107,       1644,    32.7362,   -65.9950,       4964,  4125.4,   2.2868,  34.8946,2,  34.8939,2,    264.9,2,   265.0,2,   30.29,2,   18.74,2,    0.00,2,    1.26,2,   0.552,2,   0.273,2,   0.039,2,    -999,9,    -999,9,    -999,9,     -999,9,    -999,9,    -999,9,    -999,9,    -999,    -999,9,    -999,9,    -999,9, 4125.40,     1705,  32.7345, -65.9930,    -999,     -999,    -999,     -999,9,     -999,9,     -999,9,     -999,9,     -999,9,     -999,9,   1.9302,    -999,9,       -999,9,    -999,9,    -999,9