BOTTLE,20220517CCHSIOLMM
EXPOCODE,SECT_ID,STNNBR,CASTNO,SAMPNO,BTLNBR,BTLNBR_FLAG_W,DATE,TIME,LATITUDE,LONGITUDE,DEPTH,CTDPRS,CTDTMP,CTDSAL,CTDSAL_FLAG_W,SALNTY,SALNTY_FLAG_W,CTDOXY,CTDOXY_FLAG_W,OXYGEN,OXYGEN_FLAG_W,SILCAT,SILCAT_FLAG_W,NITRAT,NITRAT_FLAG_W,NITRIT,NITRIT_FLAG_W,PHSPHT,PHSPHT_FLAG_W,CFC-11,CFC-11_FLAG_W,CFC-12,CFC-12_FLAG_W,CFC113,CFC113_FLAG_W,TCARBN,TCARBN_FLAG_W,ALKALI,ALKALI_FLAG_W,TRITUM,TRITUM_FLAG_W,HELIUM,HELIUM_FLAG_W,DELHE3,DELHE3_FLAG_W,DELC13,DELC13_FLAG_W,DELC14,DELC14_FLAG_W,C14ERR,CCL4,CCL4_FLAG_W,DOC,DOC_FLAG_W,TDN,TDN_FLAG_W,CTDRAW,BTL_TIME,BTL_LAT,BTL_LON,TRITER,HELIER,DELHER,CDOM325,CDOM325_FLAG_W,CDOM340,CDOM340_FLAG_W,CDOM380,CDOM380_FLAG_W,CDOM412,CDOM412_FLAG_W,CDOMSL,CDOMSL_FLAG_W,CDOMSN,CDOMSN_FLAG_W,THETA,BACT,BACT_FLAG_W,PROC,PROC_FLAG_W,SYN,SYN_FLAG_W,PEUK,PEUK_FLAG_W
,,,,,,,,,,,METERS,DBAR,ITS-90,PSS-78,,PSS-78,,UMOL/KG,,UMOL/KG,,UMOL/KG,,UMOL/KG,,UMOL/KG,,UMOL/KG,,PMOL/KG,,PMOL/KG,,PMOL/KG,,UMOL/KG,,UMOL/KG,,TU,,NMOL/KG,,PERCNT,,/MILLE,,/MILLE,,/MILLE,PMOL/KG,,UMOL/KG,,UMOL/KG,,DBAR,,,,TU,NMOL/KG,PERCNT,1/M,,1/M,,1/M,,1/M,,1/NM,,1/NM,,DEG C,E8/L,,E7/L,,E6/L,,E6/L,
 316N200310,        A22,      54,          1,          4,          4,2,20031106,       0945,    31.6362,   -64.1663,       4550,  3841.5,   2.2272,  34.8920,2,  34.8922,2,    264.4,2,   264.6,2,   31.38,2,   18.97,2,    0.00,2,    1.27,2,   0.584,2,   0.280,2,   0.023,2,  2176.1,2,  2329.5,2,    -999,9,     -999,9,    -999,9,    -999,9,    -999,9,    -999,   0.960,2,    -999,9,    -999,9, 3841.50,     1001,  31.6376, -64.1672,    -999,     -999,    -999,     -999,9,     -999,9,     -999,9,     -999,9,     -999,9,     -999,9,   1.9044,    -999,9,       -999,9,    -999,9,    -999,9
 316N200310,        A22,      54,          1,          3,          3,2,20031106,       0945,    31.6362,   -64.1663,       4550,  4041.3,   2.2033,  34.8879,2,  34.8875,2,    262.7,2,   262.6,2,   33.89,2,   19.37,2,    0.00,2,    1.30,2,   0.510,2,   0.271,2,   0.027,2,  2179.2,2,  2332.2,2,    -999,9,     -999,9,    -999,9,    -999,9,    -999,9,    -999,   0.861,2,   42.90,2,    -999,9, 4041.30,      957,  31.6372, -64.1671,    -999,     -999,    -999,   0.1270,2,   0.0890,2,   0.0410,2,   0.0250,2,   0.0200,2,   0.0210,2,   1.8587,    -999,9,       -999,9,    -999,9,    -999,9
 316N200310,        A22,      54,          1,          2,          2,2,20031106,       0945,    31.6362,   -64.1663,       4550,  4240.3,   2.2080,  34.8859,2,  34.8845,2,    261.9,2,   262.0,2,   34.94,2,   19.56,2,    0.00,2,    1.31,2,   0.493,2,   0.253,2,   0.024,2,  2180.1,2,  2332.6,2,    -999,9,     -999,9,    -999,9,    -999,9,    -999,9,    -999,   0.835,2,   43.10,2,    -999,9, 4240.30,      953,  31.6368, -64.1668,    -999,     -999,    -999,   0.1280,2,   0.0890,2,   0.0410,2,   0.0250,2,   0.0200,2,   0.0210,2,   1.8404,    -999,9,       -999,9,    -999,9,    -999,9
 316N200310,        A22,      54,          1,          1,          1,2,20031106,       0945,    31.6362,   -64.1663,       4550,  4603.6,   2.2423,  34.8849,2,  34.8861,2,    260.9,2,   261.6,2,   35.56,2,   19.65,2,    0.00,2,    1.32,2,   0.480,2,   0.246,2,   0.023,2,  2182.1,2,  2333.0,6,    -999,9,     -999,9,    -999,9,    -999,9,    -999,9,    -999,   0.810,2,   42.40,2,    -999,9, 4603.60,      946,  31.6363, -64.1663,    -999,     -999,    -999,   0.1340,2,   0.0940,2,   0.0440,2,   0.0280,2,   0.0190,2,   0.0200,2,   1.8305,    -999,9,       -999,9,    -999,9,    -999,9
 316N200310,        A22,      54,          2,          6,          6,9,20031106,       0745,    31.6263,   -64.1675,       4538,     2.5,  25.1161,  36.3822,2,     -999,9,    209.7,2,    -999,9,    -999,9,    -999,9,    -999,9,    -999,9,    -999,9,    -999,9,    -999,9,    -999,9,    -999,9,    -999,9,     -999,9,    -999,9,    -999,9,    -999,9,    -999,    -999,9,    -999,9,    -999,9,    2.50,      753,  31.6276, -64.1680,    -999,     -999,    -999,     -999,9,     -999,9,     -999,9,     -999,9,     -999,9,     -999,9,  25.1155,    -999,9,       -999,9,    -999,9,    -999,9
 316N200310,        A22,      54,          2,          8,          8,9,20031106,       0745,    31.6263,   -64.1675,       4538,     2.6,  25.1162,  36.3822,2,     -999,9,    209.7,2,    -999,9,    -999,9,    -999,9,    -999,9,    -999,9,    -999,9,    -999,9,    -999,9,    -999,9,    -999,9,    -999,9,     -999,9,    -999,9,    -999,9,    -999,9,    -999,    -999,9,    -999,9,    -999,9,    2.60,      753,  31.6276, -64.1680,    -999,     -999,    -999,     -999,9,     -999,9,     -999,9,     -999,9,     -999,9,     -999,9,  25.1156,    -999,9,       -999,9,    -999,9,    -999,9
 316N200310,        A22,      54,          2,          7,          7,9,20031106,       0745,    31.6263,   -64.1675,       4538,     2.6,  25.1162,  36.3822,2,     -999,9,    209.7,2,    -999,9,    -999,9,    -999,9,    -999,9,    -999,9,    -999,9,    -999,9,    -999,9,    -999,9,    -999,9,    -999,9,     -999,9,    -999,9,    -999,9,    -999,9,    -999,    -999,9,    -999,9,    -999,9,    2.60,      753,  31.6276, -64.1680,    -999,     -999,    -999,     -999,9,     -999,9,     -999,9,     -999,9,     -999,9,     -999,9,  25.1156,    -999,9,       -999,9,    -999,9,    -999,9
 316N200310,        A22,      54,          2,          9,          9,9,20031106,       0745,    31.6263,   -64.1675,       4538,     2.6,  25.1162,  36.3822,2,     -999,9,    209.7,2,    -999,9,    -999,9,    -999,9,    -999,9,    -999,9,    -999,9,    -999,9,    -999,9,    -999,9,    -999,9,    -999,9,     -999,9,    -999,9,    -999,9,    -999,9,    -999,    -999,9,    -999,9,    -999,9,    2.60,      753,  31.6276, -64.1680,    -999,     -999,    -999,     -999,9,     -999,9,     -999,9,     -999,9,     -999,9,     -999,9,  25.1156,    -999,9,       -999,9,    -999,9,    -999,9
 316N200310,        A22,      54,          2,          4,          4,9,20031106,       0745,    31.6263,   -64.1675,       4538,   102.8,  21.9458,  36.7112,2,     -999,9,    187.2,2,    -999,9,    -999,9,    -999,9,    -999,9,    -999,9,    -999,9,    -999,9,    -999,9,    -999,9,    -999,9,    -999,9,     -999,9,    -999,9,    -999,9,    -999,9,    -999,    -999,9,    -999,9,    -999,9,  102.80,      749,  31.6269, -64.1677,    -999,     -999,    -999,     -999,9,     -999,9,     -999,9,     -999,9,     -999,9,     -999,9,  21.9253,    -999,9,       -999,9,    -999,9,    -999,9
 316N200310,        A22,      54,          2,          5,          5,9,20031106,       0745,    31.6263,   -64.1675,       4538,   102.9,  21.9437,  36.7114,2,     -999,9,    187.2,2,    -999,9,    -999,9,    -999,9,    -999,9,    -999,9,    -999,9,    -999,9,    -999,9,    -999,9,    -999,9,    -999,9,     -999,9,    -999,9,    -999,9,    -999,9,    -999,    -999,9,    -999,9,    -999,9,  102.90,      749,  31.6269, -64.1677,    -999,     -999,    -999,     -999,9,     -999,9,     -999,9,     -999,9,     -999,9,     -999,9,  21.9232,    -999,9,       -999,9,    -999,9,    -999,9
 316N200310,        A22,      54,          2,          3,          3,9,20031106,       0745,    31.6263,   -64.1675,       4538,   239.9,  18.9623,  36.6138,2,     -999,9,    198.7,2,    -999,9,    -999,9,    -999,9,    -999,9,    -999,9,    -999,9,    -999,9,    -999,9,    -999,9,    -999,9,    -999,9,     -999,9,    -999,9,    -999,9,    -999,9,    -999,    -999,9,    -999,9,    -999,9,  239.90,      746,  31.6265, -64.1676,    -999,     -999,    -999,     -999,9,     -999,9,     -999,9,     -999,9,     -999,9,     -999,9,  18.9191,    -999,9,       -999,9,    -999,9,    -999,9
 316N200310,        A22,      54,          2,          2,          2,9,20031106,       0745,    31.6263,   -64.1675,       4538,   252.0,  18.8871,  36.6072,2,     -999,9,    216.5,2,    -999,9,    -999,9,    -999,9,    -999,9,    -999,9,    -999,9,    -999,9,    -999,9,    -999,9,    -999,9,    -999,9,     -999,9,    -999,9,    -999,9,    -999,9,    -999,    -999,9,    -999,9,    -999,9,  252.00,      745,  31.6263, -64.1675,    -999,     -999,    -999,     -999,9,     -999,9,     -999,9,     -999,9,     -999,9,     -999,9,  18.8418,    -999,9,       -999,9,    -999,9,    -999,9
 316N200310,        A22,      54,          2,          1,          1,9,20031106,       0745,    31.6263,   -64.1675,       4538,   252.1,  18.8874,  36.6072,2,     -999,9,    216.5,2,    -999,9,    -999,9,    -999,9,    -999,9,    -999,9,    -999,9,    -999,9,    -999,9,    -999,9,    -999,9,    -999,9,     -999,9,    -999,9,    -999,9,    -999,9,    -999,    -999,9,    -999,9,    -999,9,  252.10,      745,  31.6263, -64.1675,    -999,     -999,    -999,     -999,9,     -999,9,     -999,9,     -999,9,     -999,9,     -999,9,  18.8421,    -999,9,       -999,9,    -999,9,    -999,9