BOTTLE,20220517CCHSIOLMM
EXPOCODE,SECT_ID,STNNBR,CASTNO,SAMPNO,BTLNBR,BTLNBR_FLAG_W,DATE,TIME,LATITUDE,LONGITUDE,DEPTH,CTDPRS,CTDTMP,CTDSAL,CTDSAL_FLAG_W,SALNTY,SALNTY_FLAG_W,CTDOXY,CTDOXY_FLAG_W,OXYGEN,OXYGEN_FLAG_W,SILCAT,SILCAT_FLAG_W,NITRAT,NITRAT_FLAG_W,NITRIT,NITRIT_FLAG_W,PHSPHT,PHSPHT_FLAG_W,CFC-11,CFC-11_FLAG_W,CFC-12,CFC-12_FLAG_W,CFC113,CFC113_FLAG_W,TCARBN,TCARBN_FLAG_W,ALKALI,ALKALI_FLAG_W,TRITUM,TRITUM_FLAG_W,HELIUM,HELIUM_FLAG_W,DELHE3,DELHE3_FLAG_W,DELC13,DELC13_FLAG_W,DELC14,DELC14_FLAG_W,C14ERR,CCL4,CCL4_FLAG_W,DOC,DOC_FLAG_W,TDN,TDN_FLAG_W,CTDRAW,BTL_TIME,BTL_LAT,BTL_LON,TRITER,HELIER,DELHER,CDOM325,CDOM325_FLAG_W,CDOM340,CDOM340_FLAG_W,CDOM380,CDOM380_FLAG_W,CDOM412,CDOM412_FLAG_W,CDOMSL,CDOMSL_FLAG_W,CDOMSN,CDOMSN_FLAG_W,THETA,BACT,BACT_FLAG_W,PROC,PROC_FLAG_W,SYN,SYN_FLAG_W,PEUK,PEUK_FLAG_W
,,,,,,,,,,,METERS,DBAR,ITS-90,PSS-78,,PSS-78,,UMOL/KG,,UMOL/KG,,UMOL/KG,,UMOL/KG,,UMOL/KG,,UMOL/KG,,PMOL/KG,,PMOL/KG,,PMOL/KG,,UMOL/KG,,UMOL/KG,,TU,,NMOL/KG,,PERCNT,,/MILLE,,/MILLE,,/MILLE,PMOL/KG,,UMOL/KG,,UMOL/KG,,DBAR,,,,TU,NMOL/KG,PERCNT,1/M,,1/M,,1/M,,1/M,,1/NM,,1/NM,,DEG C,E8/L,,E7/L,,E6/L,,E6/L,
 316N200310,        A22,      35,          1,          4,          4,2,20031031,       0727,    20.0203,   -66.0072,       7643,  5248.9,   2.2347,  34.8749,2,  34.8717,4,    257.3,2,   257.4,2,   41.86,2,   20.53,2,    0.00,2,    1.39,2,   0.251,2,   0.132,2,   0.008,2,    -999,9,    -999,9,    -999,9,     -999,9,    -999,9,    -999,9,    -999,9,    -999,    -999,9,    -999,9,    -999,9, 5248.90,      747,  20.0199, -66.0073,    -999,     -999,    -999,     -999,9,     -999,9,     -999,9,     -999,9,     -999,9,     -999,9,   1.7426,    -999,9,       -999,9,    -999,9,    -999,9
 316N200310,        A22,      35,          1,          3,          3,2,20031031,       0727,    20.0203,   -66.0072,       7643,  5538.6,   2.0438,  34.8470,2,  34.8454,4,    249.4,2,   248.9,2,   56.10,2,   22.77,2,    0.00,2,    1.54,2,   0.081,2,   0.043,2,   0.000,2,    -999,9,    -999,9,    -999,9,     -999,9,    -999,9,    -999,9,    -999,9,    -999,    -999,9,    -999,9,    -999,9, 5538.60,      740,  20.0201, -66.0071,    -999,     -999,    -999,     -999,9,     -999,9,     -999,9,     -999,9,     -999,9,     -999,9,   1.5212,    -999,9,       -999,9,    -999,9,    -999,9
 316N200310,        A22,      35,          1,          2,          2,2,20031031,       0727,    20.0203,   -66.0072,       7643,  5749.6,   1.9969,  34.8380,2,  34.8371,4,    246.7,2,   246.2,2,   60.40,2,   23.47,2,    0.00,2,    1.59,2,   0.064,2,   0.033,2,   0.001,2,    -999,9,    -999,9,   0.043,2,   1.9348,2,    1.29,2,    -999,9,    -999,9,    -999,    -999,9,    -999,9,    -999,9, 5749.60,      735,  20.0203, -66.0070,   0.009,   0.0097,    0.15,     -999,9,     -999,9,     -999,9,     -999,9,     -999,9,     -999,9,   1.4481,    -999,9,       -999,9,    -999,9,    -999,9
 316N200310,        A22,      35,          1,          1,          1,2,20031031,       0727,    20.0203,   -66.0072,       7643,  6003.4,   1.9951,  34.8333,2,  34.8320,4,    244.6,2,   244.8,2,   62.46,2,   23.76,2,    0.00,2,    1.61,2,   0.066,2,   0.034,2,   0.003,2,    -999,9,    -999,9,    -999,9,     -999,9,    -999,9,    -999,9,    -999,9,    -999,    -999,9,    -999,9,    -999,9, 6003.40,      726,  20.0204, -66.0072,    -999,     -999,    -999,     -999,9,     -999,9,     -999,9,     -999,9,     -999,9,     -999,9,   1.4123,    -999,9,       -999,9,    -999,9,    -999,9