BOTTLE,20220517CCHSIOLMM
EXPOCODE,SECT_ID,STNNBR,CASTNO,SAMPNO,BTLNBR,BTLNBR_FLAG_W,DATE,TIME,LATITUDE,LONGITUDE,DEPTH,CTDPRS,CTDTMP,CTDSAL,CTDSAL_FLAG_W,SALNTY,SALNTY_FLAG_W,CTDOXY,CTDOXY_FLAG_W,OXYGEN,OXYGEN_FLAG_W,SILCAT,SILCAT_FLAG_W,NITRAT,NITRAT_FLAG_W,NITRIT,NITRIT_FLAG_W,PHSPHT,PHSPHT_FLAG_W,CFC-11,CFC-11_FLAG_W,CFC-12,CFC-12_FLAG_W,CFC113,CFC113_FLAG_W,TCARBN,TCARBN_FLAG_W,ALKALI,ALKALI_FLAG_W,TRITUM,TRITUM_FLAG_W,HELIUM,HELIUM_FLAG_W,DELHE3,DELHE3_FLAG_W,DELC13,DELC13_FLAG_W,DELC14,DELC14_FLAG_W,C14ERR,CCL4,CCL4_FLAG_W,DOC,DOC_FLAG_W,TDN,TDN_FLAG_W,CTDRAW,BTL_TIME,BTL_LAT,BTL_LON,TRITER,HELIER,DELHER,CDOM325,CDOM325_FLAG_W,CDOM340,CDOM340_FLAG_W,CDOM380,CDOM380_FLAG_W,CDOM412,CDOM412_FLAG_W,CDOMSL,CDOMSL_FLAG_W,CDOMSN,CDOMSN_FLAG_W,THETA,BACT,BACT_FLAG_W,PROC,PROC_FLAG_W,SYN,SYN_FLAG_W,PEUK,PEUK_FLAG_W
,,,,,,,,,,,METERS,DBAR,ITS-90,PSS-78,,PSS-78,,UMOL/KG,,UMOL/KG,,UMOL/KG,,UMOL/KG,,UMOL/KG,,UMOL/KG,,PMOL/KG,,PMOL/KG,,PMOL/KG,,UMOL/KG,,UMOL/KG,,TU,,NMOL/KG,,PERCNT,,/MILLE,,/MILLE,,/MILLE,PMOL/KG,,UMOL/KG,,UMOL/KG,,DBAR,,,,TU,NMOL/KG,PERCNT,1/M,,1/M,,1/M,,1/M,,1/NM,,1/NM,,DEG C,E8/L,,E7/L,,E6/L,,E6/L,
 316N200310,        A22,      17,          1,         36,         36,2,20031028,       0251,    17.3597,   -65.9960,       4593,     3.0,  29.1287,  34.4342,2,  34.5154,2,    195.3,2,   194.6,2,    2.01,2,    0.00,2,    0.00,2,    0.01,2,   1.391,2,   0.914,2,   0.099,2,  1932.3,2,  2280.5,6,    -999,9,     -999,9,    -999,9,    -999,9,    -999,9,    -999,   1.276,2,   73.80,2,    -999,9,    3.00,      447,  17.3589, -65.9944,    -999,     -999,    -999,     -999,9,     -999,9,     -999,9,     -999,9,     -999,9,     -999,9,  29.1280,    -999,9,       -999,9,    -999,9,    -999,9
 316N200310,        A22,      17,          1,         35,         35,2,20031028,       0251,    17.3597,   -65.9960,       4593,    25.2,  29.1896,  35.2094,2,  35.2115,2,    195.9,2,   194.8,2,    0.59,2,    0.00,2,    0.00,2,    0.01,2,    -999,9,    -999,9,    -999,9,    -999,9,    -999,9,    -999,9,     -999,9,    -999,9,    -999,9,    -999,9,    -999,    -999,9,    -999,9,    -999,9,   25.20,      445,  17.3590, -65.9944,    -999,     -999,    -999,     -999,9,     -999,9,     -999,9,     -999,9,     -999,9,     -999,9,  29.1835,    -999,9,       -999,9,    -999,9,    -999,9
 316N200310,        A22,      17,          1,         34,         34,2,20031028,       0251,    17.3597,   -65.9960,       4593,    50.1,  28.8332,  35.8431,2,  35.9242,2,    200.7,2,   201.8,2,    0.65,2,    0.00,2,    0.00,2,    0.01,2,   1.445,2,   0.947,2,   0.081,2,  1996.0,2,  2357.6,2,    -999,9,     -999,9,    -999,9,    -999,9,    -999,9,    -999,   0.963,2,    -999,9,    -999,9,   50.10,      443,  17.3591, -65.9944,    -999,     -999,    -999,     -999,9,     -999,9,     -999,9,     -999,9,     -999,9,     -999,9,  28.8211,    -999,9,       -999,9,    -999,9,    -999,9
 316N200310,        A22,      17,          1,         33,         33,2,20031028,       0251,    17.3597,   -65.9960,       4593,    75.7,  26.5289,  36.9040,2,  36.9145,2,    200.5,2,   199.3,2,    0.63,2,    0.02,2,    0.00,2,    0.01,2,    -999,9,    -999,9,    -999,9,    -999,9,    -999,9,    -999,9,     -999,9,    -999,9,    -999,9,    -999,9,    -999,    -999,9,    -999,9,    -999,9,   75.70,      442,  17.3592, -65.9944,    -999,     -999,    -999,     -999,9,     -999,9,     -999,9,     -999,9,     -999,9,     -999,9,  26.5117,    -999,9,       -999,9,    -999,9,    -999,9
 316N200310,        A22,      17,          1,         32,         32,2,20031028,       0251,    17.3597,   -65.9960,       4593,   100.5,  25.7075,  37.0921,2,  37.0954,2,    193.3,2,   193.2,2,    0.51,2,    0.20,2,    0.07,2,    0.02,2,   1.632,2,   1.062,2,   0.103,2,  2073.6,2,  2432.4,2,    -999,9,     -999,9,    -999,9,    -999,9,    -999,9,    -999,   0.581,2,    -999,9,    -999,9,  100.50,      440,  17.3593, -65.9944,    -999,     -999,    -999,     -999,9,     -999,9,     -999,9,     -999,9,     -999,9,     -999,9,  25.6851,    -999,9,       -999,9,    -999,9,    -999,9
 316N200310,        A22,      17,          1,         31,         31,2,20031028,       0251,    17.3597,   -65.9960,       4593,   125.4,  24.9264,  37.1936,2,  37.1869,2,    186.7,2,   186.7,2,    0.48,2,    0.89,2,    0.04,2,    0.05,2,    -999,9,    -999,9,    -999,9,    -999,9,    -999,9,    -999,9,     -999,9,    -999,9,    -999,9,    -999,9,    -999,    -999,9,    -999,9,    -999,9,  125.40,      438,  17.3593, -65.9945,    -999,     -999,    -999,     -999,9,     -999,9,     -999,9,     -999,9,     -999,9,     -999,9,  24.8990,    -999,9,       -999,9,    -999,9,    -999,9
 316N200310,        A22,      17,          1,         30,         30,2,20031028,       0251,    17.3597,   -65.9960,       4593,   150.5,  23.1216,  37.1720,2,  37.1640,2,    177.9,2,   180.0,2,    0.46,2,    1.45,2,    0.03,2,    0.08,2,   1.697,2,   1.102,2,   0.073,2,    -999,9,    -999,9,    -999,9,     -999,9,    -999,9,    -999,9,    -999,9,    -999,   0.243,2,    -999,9,    -999,9,  150.50,      437,  17.3594, -65.9945,    -999,     -999,    -999,     -999,9,     -999,9,     -999,9,     -999,9,     -999,9,     -999,9,  23.0905,    -999,9,       -999,9,    -999,9,    -999,9
 316N200310,        A22,      17,          1,         29,         29,2,20031028,       0251,    17.3597,   -65.9960,       4593,   200.4,  19.8813,  36.8141,2,  36.8077,2,    177.0,2,   180.6,2,    0.54,2,    2.81,2,    0.01,2,    0.12,2,    -999,9,    -999,9,    -999,9,    -999,9,    -999,9,    -999,9,     -999,9,    -999,9,    -999,9,    -999,9,    -999,    -999,9,    -999,9,    -999,9,  200.40,      435,  17.3594, -65.9945,    -999,     -999,    -999,     -999,9,     -999,9,     -999,9,     -999,9,     -999,9,     -999,9,  19.8440,    -999,9,       -999,9,    -999,9,    -999,9
 316N200310,        A22,      17,          1,         28,         28,2,20031028,       0251,    17.3597,   -65.9960,       4593,   250.7,  18.2297,  36.5578,2,  36.5519,2,    182.2,2,   179.8,2,    1.31,2,    5.69,2,    0.01,2,    0.28,2,   2.009,2,   1.236,2,   0.011,2,    -999,9,    -999,9,    -999,9,     -999,9,    -999,9,    -999,9,    -999,9,    -999,   0.239,2,    -999,9,    -999,9,  250.70,      433,  17.3595, -65.9946,    -999,     -999,    -999,     -999,9,     -999,9,     -999,9,     -999,9,     -999,9,     -999,9,  18.1858,    -999,9,       -999,9,    -999,9,    -999,9
 316N200310,        A22,      17,          1,         27,         27,2,20031028,       0251,    17.3597,   -65.9960,       4593,   350.6,  16.2106,  36.2222,2,  36.2161,2,    164.1,2,   162.2,2,    3.09,2,   10.90,2,    0.01,2,    0.61,2,   1.500,4,   0.955,4,   0.079,4,    -999,9,    -999,9,    -999,9,     -999,9,    -999,9,    -999,9,    -999,9,    -999,   0.869,4,    -999,9,    -999,9,  350.60,      431,  17.3595, -65.9945,    -999,     -999,    -999,     -999,9,     -999,9,     -999,9,     -999,9,     -999,9,     -999,9,  16.1538,    -999,9,       -999,9,    -999,9,    -999,9
 316N200310,        A22,      17,          1,         26,         26,2,20031028,       0251,    17.3597,   -65.9960,       4593,   450.3,  14.3663,  35.9238,2,  35.9218,2,    153.4,2,   152.9,2,    4.88,2,   14.79,2,    0.01,2,    0.86,2,   1.733,2,   0.993,2,   0.014,2,    -999,9,    -999,9,    -999,9,     -999,9,    -999,9,    -999,9,    -999,9,    -999,   0.217,2,    -999,9,    -999,9,  450.30,      428,  17.3596, -65.9946,    -999,     -999,    -999,     -999,9,     -999,9,     -999,9,     -999,9,     -999,9,     -999,9,  14.2990,    -999,9,       -999,9,    -999,9,    -999,9
 316N200310,        A22,      17,          1,         25,         25,2,20031028,       0251,    17.3597,   -65.9960,       4593,   550.4,  12.3314,  35.6042,2,  35.5973,2,    141.4,2,   142.2,2,    7.98,2,   19.50,2,    0.00,2,    1.17,2,   1.282,2,   0.718,2,   0.008,2,    -999,9,    -999,9,    -999,9,     -999,9,    -999,9,    -999,9,    -999,9,    -999,   0.190,2,    -999,9,    -999,9,  550.40,      426,  17.3596, -65.9946,    -999,     -999,    -999,     -999,9,     -999,9,     -999,9,     -999,9,     -999,9,     -999,9,  12.2568,    -999,9,       -999,9,    -999,9,    -999,9
 316N200310,        A22,      17,          1,         24,         24,2,20031028,       0251,    17.3597,   -65.9960,       4593,   650.4,   9.1017,  35.0591,2,  35.0567,2,    123.9,2,   123.6,2,   15.31,2,   27.73,2,    0.00,2,    1.77,2,   0.652,2,   0.381,2,   0.003,2,    -999,9,    -999,9,    -999,9,     -999,9,    -999,9,    -999,9,    -999,9,    -999,   0.193,2,    -999,9,    -999,9,  650.40,      423,  17.3596, -65.9945,    -999,     -999,    -999,     -999,9,     -999,9,     -999,9,     -999,9,     -999,9,     -999,9,   9.0287,    -999,9,       -999,9,    -999,9,    -999,9
 316N200310,        A22,      17,          1,         23,         23,2,20031028,       0251,    17.3597,   -65.9960,       4593,   750.5,   7.9197,  34.9550,2,  34.9547,2,    129.5,2,   128.4,2,   18.52,2,   28.77,2,    0.00,2,    1.89,2,   0.372,2,   0.217,2,   0.005,2,  2207.7,2,  2312.1,2,    -999,9,     -999,9,    -999,9,    -999,9,    -999,9,    -999,   0.145,2,    -999,9,    -999,9,  750.50,      421,  17.3596, -65.9945,    -999,     -999,    -999,     -999,9,     -999,9,     -999,9,     -999,9,     -999,9,     -999,9,   7.8416,    -999,9,       -999,9,    -999,9,    -999,9
 316N200310,        A22,      17,          1,         22,         22,2,20031028,       0251,    17.3597,   -65.9960,       4593,   850.2,   6.6158,  34.8691,2,  34.8680,2,    138.6,2,   140.1,2,   22.03,2,   29.25,2,    0.00,2,    1.97,2,   0.169,2,   0.109,2,   0.014,2,    -999,9,    -999,9,    -999,9,     -999,9,    -999,9,    -999,9,    -999,9,    -999,   0.095,2,    -999,9,    -999,9,  850.20,      418,  17.3596, -65.9945,    -999,     -999,    -999,     -999,9,     -999,9,     -999,9,     -999,9,     -999,9,     -999,9,   6.5351,    -999,9,       -999,9,    -999,9,    -999,9
 316N200310,        A22,      17,          1,         21,         21,2,20031028,       0251,    17.3597,   -65.9960,       4593,   950.5,   5.8869,  34.9099,2,  34.9067,2,    159.1,2,   160.6,2,   22.71,2,   27.09,2,    0.00,2,    1.85,2,   0.118,2,   0.081,2,   0.003,2,    -999,9,    -999,9,    -999,9,     -999,9,    -999,9,    -999,9,    -999,9,    -999,   0.102,2,    -999,9,    -999,9,  950.50,      416,  17.3595, -65.9945,    -999,     -999,    -999,     -999,9,     -999,9,     -999,9,     -999,9,     -999,9,     -999,9,   5.8011,    -999,9,       -999,9,    -999,9,    -999,9
 316N200310,        A22,      17,          1,         20,         20,2,20031028,       0251,    17.3597,   -65.9960,       4593,  1075.2,   5.1194,  34.9425,2,  34.9420,2,    182.1,2,   184.5,2,   23.70,2,   24.68,2,    0.00,2,    1.70,2,   0.077,2,   0.051,2,   0.006,2,    -999,9,    -999,9,    -999,9,     -999,9,    -999,9,    -999,9,    -999,9,    -999,   0.107,2,    -999,9,    -999,9, 1075.20,      413,  17.3596, -65.9945,    -999,     -999,    -999,     -999,9,     -999,9,     -999,9,     -999,9,     -999,9,     -999,9,   5.0276,    -999,9,       -999,9,    -999,9,    -999,9
 316N200310,        A22,      17,          1,         19,         19,2,20031028,       0251,    17.3597,   -65.9960,       4593,  1225.0,   4.6418,  34.9679,2,  34.9662,2,    201.9,2,   202.4,2,   23.77,2,   22.84,2,    0.00,2,    1.57,2,   0.110,2,   0.070,2,   0.006,2,    -999,9,    -999,9,    -999,9,     -999,9,    -999,9,    -999,9,    -999,9,    -999,   0.151,2,    -999,9,    -999,9, 1225.00,      409,  17.3596, -65.9944,    -999,     -999,    -999,     -999,9,     -999,9,     -999,9,     -999,9,     -999,9,     -999,9,   4.5402,    -999,9,       -999,9,    -999,9,    -999,9
 316N200310,        A22,      17,          1,         18,         18,2,20031028,       0251,    17.3597,   -65.9960,       4593,  1375.0,   4.3605,  34.9707,2,  34.9719,2,    209.0,2,   209.3,2,   24.87,2,   22.10,2,    0.00,2,    1.54,2,   0.096,2,   0.062,2,   0.005,2,    -999,9,    -999,9,    -999,9,     -999,9,    -999,9,    -999,9,    -999,9,    -999,   0.138,2,    -999,9,    -999,9, 1375.00,      406,  17.3596, -65.9944,    -999,     -999,    -999,     -999,9,     -999,9,     -999,9,     -999,9,     -999,9,     -999,9,   4.2478,    -999,9,       -999,9,    -999,9,    -999,9
 316N200310,        A22,      17,          1,         17,         17,2,20031028,       0251,    17.3597,   -65.9960,       4593,  1524.8,   4.2692,  34.9745,2,  34.9748,2,    213.5,2,   214.0,2,   24.63,2,   21.77,2,    0.00,2,    1.51,2,   0.135,2,   0.087,2,   0.005,2,    -999,9,    -999,9,    -999,9,     -999,9,    -999,9,    -999,9,    -999,9,    -999,   0.192,2,    -999,9,    -999,9, 1524.80,      402,  17.3596, -65.9944,    -999,     -999,    -999,     -999,9,     -999,9,     -999,9,     -999,9,     -999,9,     -999,9,   4.1437,    -999,9,       -999,9,    -999,9,    -999,9
 316N200310,        A22,      17,          1,         16,         16,2,20031028,       0251,    17.3597,   -65.9960,       4593,  1675.3,   4.1905,  34.9737,2,  34.9736,2,    215.2,2,   214.2,2,   25.73,2,   21.84,2,    0.00,2,    1.51,2,   0.085,2,   0.054,2,   0.006,2,    -999,9,    -999,9,    -999,9,     -999,9,    -999,9,    -999,9,    -999,9,    -999,   0.129,2,    -999,9,    -999,9, 1675.30,      359,  17.3596, -65.9945,    -999,     -999,    -999,     -999,9,     -999,9,     -999,9,     -999,9,     -999,9,     -999,9,   4.0517,    -999,9,       -999,9,    -999,9,    -999,9
 316N200310,        A22,      17,          1,         15,         15,2,20031028,       0251,    17.3597,   -65.9960,       4593,  1825.0,   4.1284,  34.9749,2,  34.9748,2,    215.7,2,   216.1,2,   26.41,2,   21.60,2,    0.00,2,    1.49,2,   0.085,2,   0.059,2,   0.007,2,    -999,9,    -999,9,    -999,9,     -999,9,    -999,9,    -999,9,    -999,9,    -999,   0.137,2,    -999,9,    -999,9, 1825.00,      356,  17.3596, -65.9945,    -999,     -999,    -999,     -999,9,     -999,9,     -999,9,     -999,9,     -999,9,     -999,9,   3.9761,    -999,9,       -999,9,    -999,9,    -999,9
 316N200310,        A22,      17,          1,         14,         14,2,20031028,       0251,    17.3597,   -65.9960,       4593,  2000.2,   4.1142,  34.9756,2,  34.9760,2,    217.1,2,   218.1,2,   26.09,2,   21.48,2,    0.00,2,    1.48,2,   0.093,2,   0.059,2,   0.006,2,    -999,9,    -999,9,    -999,9,     -999,9,    -999,9,    -999,9,    -999,9,    -999,   0.154,2,    -999,9,    -999,9, 2000.20,      352,  17.3596, -65.9946,    -999,     -999,    -999,     -999,9,     -999,9,     -999,9,     -999,9,     -999,9,     -999,9,   3.9450,    -999,9,       -999,9,    -999,9,    -999,9
 316N200310,        A22,      17,          1,         13,         13,2,20031028,       0251,    17.3597,   -65.9960,       4593,  2200.1,   4.1094,  34.9757,2,  34.9744,2,    217.7,2,   216.4,2,   27.07,2,   21.59,2,    0.00,2,    1.49,2,   0.046,2,   0.038,2,   0.004,2,    -999,9,    -999,9,    -999,9,     -999,9,    -999,9,    -999,9,    -999,9,    -999,   0.089,2,    -999,9,    -999,9, 2200.10,      347,  17.3595, -65.9946,    -999,     -999,    -999,     -999,9,     -999,9,     -999,9,     -999,9,     -999,9,     -999,9,   3.9202,    -999,9,       -999,9,    -999,9,    -999,9
 316N200310,        A22,      17,          1,         12,         12,2,20031028,       0251,    17.3597,   -65.9960,       4593,  2425.1,   4.1119,  34.9759,2,  34.9748,2,    215.1,2,   215.6,2,   27.87,2,   21.66,2,    0.00,2,    1.50,2,   0.020,2,   0.022,2,   0.001,2,    -999,9,    -999,9,    -999,9,     -999,9,    -999,9,    -999,9,    -999,9,    -999,   0.052,2,    -999,9,    -999,9, 2425.10,      343,  17.3594, -65.9947,    -999,     -999,    -999,     -999,9,     -999,9,     -999,9,     -999,9,     -999,9,     -999,9,   3.8995,    -999,9,       -999,9,    -999,9,    -999,9
 316N200310,        A22,      17,          1,         11,         11,2,20031028,       0251,    17.3597,   -65.9960,       4593,  2674.9,   4.1299,  34.9762,2,  34.9756,2,    215.4,2,   215.3,2,   28.04,2,   21.68,2,    0.00,2,    1.49,2,   0.021,2,   0.022,2,   0.001,2,    -999,9,    -999,9,    -999,9,     -999,9,    -999,9,    -999,9,    -999,9,    -999,   0.052,2,    -999,9,    -999,9, 2674.90,      338,  17.3594, -65.9946,    -999,     -999,    -999,     -999,9,     -999,9,     -999,9,     -999,9,     -999,9,     -999,9,   3.8906,    -999,9,       -999,9,    -999,9,    -999,9
 316N200310,        A22,      17,          1,         10,         10,2,20031028,       0251,    17.3597,   -65.9960,       4593,  2925.2,   4.1531,  34.9763,2,  34.9760,2,    215.4,2,   215.7,2,   28.22,2,   21.75,2,    0.00,2,    1.49,2,   0.018,2,   0.025,2,   0.003,4,    -999,9,    -999,9,    -999,9,     -999,9,    -999,9,    -999,9,    -999,9,    -999,   0.043,2,   42.30,2,    -999,9, 2925.20,      333,  17.3592, -65.9947,    -999,     -999,    -999,     -999,9,     -999,9,     -999,9,     -999,9,     -999,9,     -999,9,   3.8859,    -999,9,       -999,9,    -999,9,    -999,9
 316N200310,        A22,      17,          1,          9,          9,2,20031028,       0251,    17.3597,   -65.9960,       4593,  3175.4,   4.1757,  34.9766,2,  34.9762,2,    215.6,2,   215.6,2,   28.40,2,   21.72,2,    0.00,2,    1.49,2,   0.024,6,   0.024,6,   0.006,6,    -999,9,    -999,9,    -999,9,     -999,9,    -999,9,    -999,9,    -999,9,    -999,   0.053,2,    -999,9,    -999,9, 3175.40,      328,  17.3592, -65.9947,    -999,     -999,    -999,     -999,9,     -999,9,     -999,9,     -999,9,     -999,9,     -999,9,   3.8797,    -999,9,       -999,9,    -999,9,    -999,9
 316N200310,        A22,      17,          1,          8,          8,2,20031028,       0251,    17.3597,   -65.9960,       4593,  3425.1,   4.2034,  34.9768,2,  34.9760,2,    215.9,2,   216.3,2,   28.18,2,   21.64,2,    0.00,2,    1.49,2,   0.030,2,   0.032,2,   0.001,2,    -999,9,    -999,9,    -999,9,     -999,9,    -999,9,    -999,9,    -999,9,    -999,   0.066,2,    -999,9,    -999,9, 3425.10,      323,  17.3591, -65.9947,    -999,     -999,    -999,     -999,9,     -999,9,     -999,9,     -999,9,     -999,9,     -999,9,   3.8777,    -999,9,       -999,9,    -999,9,    -999,9
 316N200310,        A22,      17,          1,          7,          7,2,20031028,       0251,    17.3597,   -65.9960,       4593,  3645.4,   4.2286,  34.9770,2,  34.9766,2,    216.3,2,   216.1,2,   28.35,2,   21.71,2,    0.00,2,    1.49,2,   0.024,2,   0.027,2,   0.001,2,  2198.5,2,  2343.9,2,    -999,9,     -999,9,    -999,9,    -999,9,    -999,9,    -999,   0.061,2,   41.30,2,    -999,9, 3645.40,      318,  17.3592, -65.9948,    -999,     -999,    -999,     -999,9,     -999,9,     -999,9,     -999,9,     -999,9,     -999,9,   3.8760,    -999,9,       -999,9,    -999,9,    -999,9
 316N200310,        A22,      17,          1,          6,          6,2,20031028,       0251,    17.3597,   -65.9960,       4593,  3900.4,   4.2587,  34.9778,2,  34.9762,2,    222.6,2,   223.4,2,   25.79,2,   21.13,2,    0.00,2,    1.45,2,   0.163,2,   0.105,2,   0.008,2,  2192.5,2,  2340.0,2,    -999,9,     -999,9,    -999,9,    -999,9,    -999,9,    -999,   0.221,2,   41.90,2,    -999,9, 3900.40,      313,  17.3592, -65.9950,    -999,     -999,    -999,     -999,9,     -999,9,     -999,9,     -999,9,     -999,9,     -999,9,   3.8741,    -999,9,       -999,9,    -999,9,    -999,9
 316N200310,        A22,      17,          1,          5,          5,2,20031028,       0251,    17.3597,   -65.9960,       4593,  4049.8,   4.2774,  34.9783,2,  34.9787,2,    224.7,2,   224.7,2,   24.96,2,   20.99,2,    0.00,2,    1.44,2,   0.209,6,   0.132,6,   0.010,6,  2191.8,2,  2338.6,2,    -999,9,     -999,9,    -999,9,    -999,9,    -999,9,    -999,   0.267,6,   40.20,2,    -999,9, 4049.80,      310,  17.3592, -65.9951,    -999,     -999,    -999,     -999,9,     -999,9,     -999,9,     -999,9,     -999,9,     -999,9,   3.8737,    -999,9,       -999,9,    -999,9,    -999,9