BOTTLE,20220517CCHSIOLMM
EXPOCODE,SECT_ID,STNNBR,CASTNO,SAMPNO,BTLNBR,BTLNBR_FLAG_W,DATE,TIME,LATITUDE,LONGITUDE,DEPTH,CTDPRS,CTDTMP,CTDSAL,CTDSAL_FLAG_W,SALNTY,SALNTY_FLAG_W,CTDOXY,CTDOXY_FLAG_W,OXYGEN,OXYGEN_FLAG_W,SILCAT,SILCAT_FLAG_W,NITRAT,NITRAT_FLAG_W,NITRIT,NITRIT_FLAG_W,PHSPHT,PHSPHT_FLAG_W,CFC-11,CFC-11_FLAG_W,CFC-12,CFC-12_FLAG_W,CFC113,CFC113_FLAG_W,TCARBN,TCARBN_FLAG_W,ALKALI,ALKALI_FLAG_W,TRITUM,TRITUM_FLAG_W,HELIUM,HELIUM_FLAG_W,DELHE3,DELHE3_FLAG_W,DELC13,DELC13_FLAG_W,DELC14,DELC14_FLAG_W,C14ERR,CCL4,CCL4_FLAG_W,DOC,DOC_FLAG_W,TDN,TDN_FLAG_W,CTDRAW,BTL_TIME,BTL_LAT,BTL_LON,TRITER,HELIER,DELHER,CDOM325,CDOM325_FLAG_W,CDOM340,CDOM340_FLAG_W,CDOM380,CDOM380_FLAG_W,CDOM412,CDOM412_FLAG_W,CDOMSL,CDOMSL_FLAG_W,CDOMSN,CDOMSN_FLAG_W,THETA,BACT,BACT_FLAG_W,PROC,PROC_FLAG_W,SYN,SYN_FLAG_W,PEUK,PEUK_FLAG_W
,,,,,,,,,,,METERS,DBAR,ITS-90,PSS-78,,PSS-78,,UMOL/KG,,UMOL/KG,,UMOL/KG,,UMOL/KG,,UMOL/KG,,UMOL/KG,,PMOL/KG,,PMOL/KG,,PMOL/KG,,UMOL/KG,,UMOL/KG,,TU,,NMOL/KG,,PERCNT,,/MILLE,,/MILLE,,/MILLE,PMOL/KG,,UMOL/KG,,UMOL/KG,,DBAR,,,,TU,NMOL/KG,PERCNT,1/M,,1/M,,1/M,,1/M,,1/NM,,1/NM,,DEG C,E8/L,,E7/L,,E6/L,,E6/L,
 316N200310,        A22,      82,          1,          4,          4,2,20031112,       2243,    40.0105,   -70.0067,        156,    75.2,  13.4450,  34.5451,2,  34.5869,2,    207.8,2,   204.8,2,    5.00,2,    8.32,2,    0.04,2,    0.66,2,   2.943,2,   1.641,2,   0.164,2,  2103.3,2,  2297.1,2,    -999,9,     -999,9,    -999,9,    -999,9,    -999,9,    -999,   1.512,2,   57.90,2,   11.00,2,   75.20,     2248,  40.0101, -70.0071,    -999,     -999,    -999,   0.3010,2,   0.2210,2,   0.1070,3,   0.0680,3,   0.0170,3,   0.0180,3,  13.4345,    -999,9,       -999,9,    -999,9,    -999,9
 316N200310,        A22,      82,          1,          3,          3,2,20031112,       2243,    40.0105,   -70.0067,        156,   100.6,  14.1349,  35.5019,2,  35.4955,2,    172.7,2,   172.1,2,    5.09,2,   11.53,2,    0.03,2,    0.75,2,   2.410,2,   1.357,2,   0.099,2,  2139.3,2,  2338.1,2,    -999,9,     -999,9,    -999,9,    -999,9,    -999,9,    -999,   0.712,2,   51.80,2,   15.20,2,  100.60,     2246,  40.0102, -70.0069,    -999,     -999,    -999,   0.1920,2,   0.1380,2,   0.0640,2,   0.0420,3,   0.0170,3,   0.0190,3,  14.1202,    -999,9,       -999,9,    -999,9,    -999,9
 316N200310,        A22,      82,          1,          2,          2,2,20031112,       2243,    40.0105,   -70.0067,        156,   125.2,  13.1468,  35.4970,2,  35.4904,2,    167.2,2,   167.6,2,    6.81,2,   14.08,2,    0.03,2,    0.90,2,   2.263,2,   1.253,2,   0.090,2,  2151.9,2,  2337.3,2,    -999,9,     -999,9,    -999,9,    -999,9,    -999,9,    -999,   0.664,2,   51.00,2,   17.30,2,  125.20,     2245,  40.0104, -70.0067,    -999,     -999,    -999,   0.1270,2,   0.0830,2,   0.0290,2,   0.0150,2,   0.0270,2,   0.0280,2,  13.1294,    -999,9,       -999,9,    -999,9,    -999,9
 316N200310,        A22,      82,          1,          1,          1,2,20031112,       2243,    40.0105,   -70.0067,        156,   151.1,  12.5652,  35.5266,2,  35.5300,2,    162.9,2,   164.1,2,    7.31,2,   15.83,2,    0.04,2,    1.00,2,   2.057,2,   1.132,2,   0.078,2,  2161.1,2,    -999,9,    -999,9,     -999,9,    -999,9,    -999,9,    -999,9,    -999,   0.594,2,   47.60,2,   19.70,2,  151.10,     2244,  40.0104, -70.0066,    -999,     -999,    -999,   0.1260,2,   0.0850,2,   0.0360,2,   0.0230,2,   0.0220,2,   0.0240,2,  12.5448,    -999,9,       -999,9,    -999,9,    -999,9