BOTTLE,20220517CCHSIOLMM
EXPOCODE,SECT_ID,STNNBR,CASTNO,SAMPNO,BTLNBR,BTLNBR_FLAG_W,DATE,TIME,LATITUDE,LONGITUDE,DEPTH,CTDPRS,CTDTMP,CTDSAL,CTDSAL_FLAG_W,SALNTY,SALNTY_FLAG_W,CTDOXY,CTDOXY_FLAG_W,OXYGEN,OXYGEN_FLAG_W,SILCAT,SILCAT_FLAG_W,NITRAT,NITRAT_FLAG_W,NITRIT,NITRIT_FLAG_W,PHSPHT,PHSPHT_FLAG_W,CFC-11,CFC-11_FLAG_W,CFC-12,CFC-12_FLAG_W,CFC113,CFC113_FLAG_W,TCARBN,TCARBN_FLAG_W,ALKALI,ALKALI_FLAG_W,TRITUM,TRITUM_FLAG_W,HELIUM,HELIUM_FLAG_W,DELHE3,DELHE3_FLAG_W,DELC13,DELC13_FLAG_W,DELC14,DELC14_FLAG_W,C14ERR,CCL4,CCL4_FLAG_W,DOC,DOC_FLAG_W,TDN,TDN_FLAG_W,CTDRAW,BTL_TIME,BTL_LAT,BTL_LON,TRITER,HELIER,DELHER,CDOM325,CDOM325_FLAG_W,CDOM340,CDOM340_FLAG_W,CDOM380,CDOM380_FLAG_W,CDOM412,CDOM412_FLAG_W,CDOMSL,CDOMSL_FLAG_W,CDOMSN,CDOMSN_FLAG_W,THETA,BACT,BACT_FLAG_W,PROC,PROC_FLAG_W,SYN,SYN_FLAG_W,PEUK,PEUK_FLAG_W
,,,,,,,,,,,METERS,DBAR,ITS-90,PSS-78,,PSS-78,,UMOL/KG,,UMOL/KG,,UMOL/KG,,UMOL/KG,,UMOL/KG,,UMOL/KG,,PMOL/KG,,PMOL/KG,,PMOL/KG,,UMOL/KG,,UMOL/KG,,TU,,NMOL/KG,,PERCNT,,/MILLE,,/MILLE,,/MILLE,PMOL/KG,,UMOL/KG,,UMOL/KG,,DBAR,,,,TU,NMOL/KG,PERCNT,1/M,,1/M,,1/M,,1/M,,1/NM,,1/NM,,DEG C,E8/L,,E7/L,,E6/L,,E6/L,
 316N200310,        A22,      38,          1,         34,         34,2,20031101,       0406,    21.4710,   -65.9878,       5491,     2.6,  28.5061,  35.7912,2,  35.7865,2,    139.2,2,   194.9,2,    0.82,2,    0.07,2,    0.00,2,    0.01,2,   1.583,2,   0.942,2,   0.090,2,  1987.0,2,  2354.4,6,    -999,9,     -999,9,    -999,9,    -999,9,    -999,9,    -999,   1.565,2,   76.40,2,    -999,9,    2.60,      613,  21.4445, -65.9850,    -999,     -999,    -999,   0.0460,2,   0.0270,2,   0.0070,2,   0.0040,2,   0.0340,2,   0.0340,2,  28.5054,    3.00,2,       4.20,2,    4.77,2,    0.47,2
 316N200310,        A22,      38,          1,         33,         33,2,20031101,       0406,    21.4710,   -65.9878,       5491,    25.3,  28.5130,  36.1181,2,  36.0938,2,    196.3,2,   196.0,2,    0.81,2,    0.06,2,    0.00,2,    0.01,2,   1.592,2,   0.941,2,   0.079,2,  1998.6,2,  2371.6,2,    -999,9,     -999,9,    -999,9,    -999,9,    -999,9,    -999,   1.594,2,   76.10,2,    -999,9,   25.30,      612,  21.4449, -65.9850,    -999,     -999,    -999,   0.0420,2,   0.0250,2,   0.0060,2,   0.0030,2,   0.0360,2,   0.0360,2,  28.5069,    2.95,2,       4.68,2,    2.54,2,    0.39,2
 316N200310,        A22,      38,          1,         32,         32,2,20031101,       0406,    21.4710,   -65.9878,       5491,    49.7,  28.8576,  36.5711,2,  36.5704,2,    198.6,2,   198.8,2,    0.81,2,    0.11,2,    0.00,2,    0.01,2,   1.586,2,   0.958,2,   0.079,2,  2019.7,2,  2397.3,2,    -999,9,     -999,9,    -999,9,    -999,9,    -999,9,    -999,   1.421,2,   69.90,2,    4.60,2,   49.70,      610,  21.4453, -65.9850,    -999,     -999,    -999,   0.0530,3,   0.0330,3,   0.0100,3,   0.0070,3,   0.0320,3,   0.0320,3,  28.8456,    2.68,2,       5.92,2,    1.77,2,    0.38,2
 316N200310,        A22,      38,          1,         31,         31,2,20031101,       0406,    21.4710,   -65.9878,       5491,    99.6,  25.7701,  36.8654,2,  36.8603,2,    211.9,2,   209.2,2,    0.61,2,    0.10,2,    0.00,2,    0.01,2,    -999,9,    -999,9,    -999,9,  2044.7,2,  2408.2,2,    -999,9,     -999,9,    -999,9,    -999,9,    -999,9,    -999,    -999,9,   70.70,2,    4.30,2,   99.60,      608,  21.4458, -65.9849,    -999,     -999,    -999,   0.1170,2,   0.0780,2,   0.0300,2,   0.0200,2,   0.0250,2,   0.0260,2,  25.7478,    2.64,2,      11.34,2,    1.70,2,    0.52,2
 316N200310,        A22,      38,          1,         30,         30,2,20031101,       0406,    21.4710,   -65.9878,       5491,   152.4,  22.9026,  37.0990,2,  37.1048,2,    188.1,2,   188.9,2,    0.31,2,    0.60,2,    0.03,2,    0.03,2,    -999,9,    -999,9,    -999,9,  2096.3,2,  2424.8,2,    -999,9,     -999,9,    -999,9,    -999,9,    -999,9,    -999,    -999,9,   58.10,2,    5.20,2,  152.40,      607,  21.4463, -65.9849,    -999,     -999,    -999,   0.1200,2,   0.0860,2,   0.0380,2,   0.0280,2,   0.0180,2,   0.0200,2,  22.8713,    1.29,2,       0.20,2,    0.00,2,    0.15,2
 316N200310,        A22,      38,          1,         29,         29,2,20031101,       0406,    21.4710,   -65.9878,       5491,   201.6,  20.4224,  36.8489,2,  36.8500,2,    176.6,2,   180.8,2,    0.51,2,    1.74,2,    0.01,2,    0.06,2,    -999,9,    -999,9,    -999,9,  2110.9,2,  2407.1,2,    -999,9,     -999,9,    -999,9,    -999,9,    -999,9,    -999,    -999,9,   52.10,2,    5.40,2,  201.60,      605,  21.4467, -65.9849,    -999,     -999,    -999,   0.1020,2,   0.0730,2,   0.0330,2,   0.0250,2,   0.0200,2,   0.0210,2,  20.3841,    -999,9,       -999,9,    -999,9,    -999,9
 316N200310,        A22,      38,          1,         28,         28,2,20031101,       0406,    21.4710,   -65.9878,       5491,   250.9,  19.0535,  36.6678,2,  36.6649,2,    181.5,2,   183.1,2,    0.80,2,    3.63,2,    0.01,2,    0.15,2,    -999,9,    -999,9,    -999,9,  2112.9,2,  2395.1,2,    -999,9,     -999,9,    -999,9,    -999,9,    -999,9,    -999,    -999,9,   49.70,2,    6.70,2,  250.90,      603,  21.4472, -65.9849,    -999,     -999,    -999,   0.0860,2,   0.0600,2,   0.0260,2,   0.0190,2,   0.0230,2,   0.0230,2,  19.0082,    -999,9,       -999,9,    -999,9,    -999,9
 316N200310,        A22,      38,          1,         27,         27,2,20031101,       0406,    21.4710,   -65.9878,       5491,   302.4,  18.3870,  36.5776,2,  36.5743,2,    182.4,2,   185.9,2,    1.10,2,    4.75,2,    0.01,2,    0.21,2,    -999,9,    -999,9,    -999,9,  2112.6,2,  2388.9,2,    -999,9,     -999,9,    -999,9,    -999,9,    -999,9,    -999,    -999,9,   45.90,2,    7.80,2,  302.40,      601,  21.4476, -65.9849,    -999,     -999,    -999,   0.0940,2,   0.0620,2,   0.0240,2,   0.0170,2,   0.0260,2,   0.0270,2,  18.3337,    -999,9,       -999,9,    -999,9,    -999,9
 316N200310,        A22,      38,          1,         26,         26,2,20031101,       0406,    21.4710,   -65.9878,       5491,   400.9,  16.6594,  36.3046,2,  36.3012,2,    181.6,2,   176.5,2,    2.40,2,    8.62,2,    0.01,2,    0.47,2,   2.238,2,   1.276,2,   0.018,2,  2128.6,2,  2373.1,2,    -999,9,     -999,9,    -999,9,    -999,9,    -999,9,    -999,   0.362,2,    -999,9,    -999,9,  400.90,      559,  21.4483, -65.9849,    -999,     -999,    -999,     -999,9,     -999,9,     -999,9,     -999,9,     -999,9,     -999,9,  16.5932,    -999,9,       -999,9,    -999,9,    -999,9
 316N200310,        A22,      38,          1,         25,         25,2,20031101,       0406,    21.4710,   -65.9878,       5491,   502.1,  14.3977,  35.9268,2,  35.9251,2,    159.0,2,   155.4,2,    4.70,2,   14.26,2,    0.01,2,    0.83,2,   1.991,2,   1.048,2,   0.012,2,  2153.6,2,  2353.0,2,    -999,9,     -999,9,    -999,9,    -999,9,    -999,9,    -999,   0.309,2,   42.70,2,    -999,9,  502.10,      556,  21.4489, -65.9850,    -999,     -999,    -999,   0.1010,2,   0.0690,2,   0.0310,2,   0.0210,2,   0.0220,2,   0.0230,2,  14.3224,    -999,9,       -999,9,    -999,9,    -999,9
 316N200310,        A22,      38,          1,         24,         24,2,20031101,       0406,    21.4710,   -65.9878,       5491,   628.7,  11.7980,  35.5190,2,  35.5206,2,    142.9,2,   140.4,2,    8.63,2,   20.32,2,    0.01,2,    1.23,2,   1.376,2,   0.717,2,   0.011,2,  2174.9,2,  2334.3,2,    -999,9,     -999,9,    -999,9,    -999,9,    -999,9,    -999,   0.261,2,    -999,9,    -999,9,  628.70,      553,  21.4497, -65.9849,    -999,     -999,    -999,     -999,9,     -999,9,     -999,9,     -999,9,     -999,9,     -999,9,  11.7150,    -999,9,       -999,9,    -999,9,    -999,9
 316N200310,        A22,      38,          1,         23,         23,2,20031101,       0406,    21.4710,   -65.9878,       5491,   753.5,   9.1029,  35.1534,2,  35.1534,2,    132.2,2,   132.0,2,   14.88,2,   26.24,2,    0.01,2,    1.65,2,   0.587,2,   0.315,2,   0.009,2,  2194.5,2,  2319.9,2,    -999,9,     -999,9,    -999,9,    -999,9,    -999,9,    -999,   0.183,2,   42.50,2,    -999,9,  753.50,      550,  21.4504, -65.9849,    -999,     -999,    -999,   0.1130,2,   0.0790,2,   0.0390,2,   0.0280,2,   0.0170,2,   0.0190,2,   9.0177,    -999,9,       -999,9,    -999,9,    -999,9
 316N200310,        A22,      38,          1,         22,         22,2,20031101,       0406,    21.4710,   -65.9878,       5491,   901.9,   7.0780,  34.9387,2,  34.9366,2,    131.8,2,   132.6,2,   20.36,2,   29.76,2,    0.00,2,    1.93,2,   0.163,2,   0.098,2,   0.017,2,  2208.0,2,  2317.9,2,    -999,9,     -999,9,    -999,9,    -999,9,    -999,9,    -999,   0.110,2,    -999,9,    -999,9,  901.90,      547,  21.4512, -65.9849,    -999,     -999,    -999,     -999,9,     -999,9,     -999,9,     -999,9,     -999,9,     -999,9,   6.9888,    -999,9,       -999,9,    -999,9,    -999,9
 316N200310,        A22,      38,          1,         21,         21,2,20031101,       0406,    21.4710,   -65.9878,       5491,  1051.3,   6.1139,  34.9544,2,  34.9542,2,    161.1,2,   164.4,2,   20.25,2,   26.80,2,    0.00,2,    1.76,2,   0.200,2,   0.107,2,   0.005,2,  2197.1,2,  2321.8,2,    -999,9,     -999,9,    -999,9,    -999,9,    -999,9,    -999,   0.220,2,   40.40,2,    -999,9, 1051.30,      543,  21.4521, -65.9849,    -999,     -999,    -999,   0.1210,2,   0.0820,2,   0.0390,2,   0.0260,2,   0.0190,2,   0.0210,2,   6.0164,    -999,9,       -999,9,    -999,9,    -999,9
 316N200310,        A22,      38,          1,         20,         20,2,20031101,       0406,    21.4710,   -65.9878,       5491,  1202.2,   5.6004,  35.0387,2,  35.0398,2,    202.9,2,   203.5,2,   15.89,2,   22.09,2,    0.00,2,    1.45,2,   0.507,2,   0.245,2,   0.010,2,  2183.1,2,  2320.7,2,    -999,9,     -999,9,    -999,9,    -999,9,    -999,9,    -999,   0.627,2,   42.80,2,    -999,9, 1202.20,      539,  21.4529, -65.9849,    -999,     -999,    -999,   0.1220,2,   0.0850,2,   0.0390,2,   0.0260,2,   0.0190,2,   0.0210,2,   5.4920,    -999,9,       -999,9,    -999,9,    -999,9
 316N200310,        A22,      38,          1,         19,         19,2,20031101,       0406,    21.4710,   -65.9878,       5491,  1351.9,   5.0640,  35.0406,2,  35.0401,2,    229.3,2,   225.6,2,   14.28,2,   20.22,2,    0.00,2,    1.32,2,   0.680,2,   0.348,2,   0.015,2,    -999,9,    -999,9,    -999,9,     -999,9,    -999,9,    -999,9,    -999,9,    -999,   0.934,2,    -999,9,    -999,9, 1351.90,      536,  21.4536, -65.9849,    -999,     -999,    -999,     -999,9,     -999,9,     -999,9,     -999,9,     -999,9,     -999,9,   4.9462,    -999,9,       -999,9,    -999,9,    -999,9
 316N200310,        A22,      38,          1,         18,         18,2,20031101,       0406,    21.4710,   -65.9878,       5491,  1501.0,   4.5334,  35.0235,2,  35.0244,2,    244.5,2,   245.1,2,   13.06,2,   18.76,2,    0.00,2,    1.23,2,   0.812,2,   0.424,2,   0.023,2,  2165.6,2,  2311.7,2,    -999,9,     -999,9,    -999,9,    -999,9,    -999,9,    -999,   1.263,2,   40.50,2,    -999,9, 1501.00,      532,  21.4544, -65.9851,    -999,     -999,    -999,   0.1130,2,   0.0770,2,   0.0340,2,   0.0220,2,   0.0210,2,   0.0230,2,   4.4069,    -999,9,       -999,9,    -999,9,    -999,9
 316N200310,        A22,      38,          1,         17,         17,2,20031101,       0406,    21.4710,   -65.9878,       5491,  1650.5,   4.1981,  35.0060,2,  35.0059,2,    252.7,2,   253.7,2,   13.16,2,   18.31,2,    0.00,2,    1.20,2,   0.774,2,   0.412,2,   0.025,2,    -999,9,    -999,9,    -999,9,     -999,9,    -999,9,    -999,9,    -999,9,    -999,   1.295,2,    -999,9,    -999,9, 1650.50,      529,  21.4553, -65.9852,    -999,     -999,    -999,     -999,9,     -999,9,     -999,9,     -999,9,     -999,9,     -999,9,   4.0615,    -999,9,       -999,9,    -999,9,    -999,9
 316N200310,        A22,      38,          1,         16,         16,2,20031101,       0406,    21.4710,   -65.9878,       5491,  1800.5,   3.8981,  34.9872,2,  34.9874,2,    258.4,2,   258.4,2,   13.87,2,   18.16,2,    0.00,2,    1.19,2,   0.758,2,   0.391,2,   0.029,2,  2160.7,2,  2310.2,2,    -999,9,     -999,9,    -999,9,    -999,9,    -999,9,    -999,   1.270,2,   42.10,2,    -999,9, 1800.50,      526,  21.4562, -65.9854,    -999,     -999,    -999,   0.1120,2,   0.0760,2,   0.0330,2,   0.0210,2,   0.0220,2,   0.0230,2,   3.7512,    -999,9,       -999,9,    -999,9,    -999,9
 316N200310,        A22,      38,          1,         15,         15,2,20031101,       0406,    21.4710,   -65.9878,       5491,  2000.5,   3.6906,  34.9824,2,  34.9819,2,    259.1,2,   259.3,2,   15.38,2,   18.16,2,    0.00,2,    1.19,2,   0.569,2,   0.293,2,   0.011,2,    -999,9,    -999,9,    -999,9,     -999,9,    -999,9,    -999,9,    -999,9,    -999,   1.047,2,    -999,9,    -999,9, 2000.50,      522,  21.4572, -65.9856,    -999,     -999,    -999,     -999,9,     -999,9,     -999,9,     -999,9,     -999,9,     -999,9,   3.5276,    -999,9,       -999,9,    -999,9,    -999,9
 316N200310,        A22,      38,          1,         14,         14,2,20031101,       0406,    21.4710,   -65.9878,       5491,  2249.8,   3.4114,  34.9724,2,  34.9726,2,    258.8,2,   259.7,2,   18.01,2,   18.35,2,    0.00,2,    1.21,2,   0.382,2,   0.193,2,   0.005,2,  2162.5,2,  2314.3,2,    -999,9,     -999,9,    -999,9,    -999,9,    -999,9,    -999,   0.787,2,   41.70,2,    -999,9, 2249.80,      517,  21.4583, -65.9857,    -999,     -999,    -999,   0.1340,2,   0.0840,2,   0.0330,2,   0.0200,2,   0.0250,2,   0.0270,2,   3.2287,    -999,9,       -999,9,    -999,9,    -999,9
 316N200310,        A22,      38,          1,         13,         13,2,20031101,       0406,    21.4710,   -65.9878,       5491,  2502.0,   3.1231,  34.9557,2,  34.9555,2,    259.8,2,   260.4,2,   20.35,2,   18.45,2,    0.00,2,    1.22,2,   0.331,2,   0.195,2,   0.001,2,  2164.5,2,  2316.1,2,    -999,9,     -999,9,    -999,9,    -999,9,    -999,9,    -999,   0.682,2,   41.80,2,    -999,9, 2502.00,      511,  21.4593, -65.9859,    -999,     -999,    -999,   0.1150,2,   0.0790,2,   0.0360,2,   0.0230,2,   0.0200,2,   0.0220,2,   2.9207,    -999,9,       -999,9,    -999,9,    -999,9
 316N200310,        A22,      38,          1,         12,         12,2,20031101,       0406,    21.4710,   -65.9878,       5491,  2748.8,   2.9045,  34.9416,2,  34.9408,2,    261.3,2,   261.7,2,   22.38,2,   18.50,2,    0.00,2,    1.23,2,   0.323,2,   0.168,2,   0.005,2,    -999,9,    -999,9,    -999,9,     -999,9,    -999,9,    -999,9,    -999,9,    -999,   0.653,2,    -999,9,    -999,9, 2748.80,      507,  21.4604, -65.9860,    -999,     -999,    -999,     -999,9,     -999,9,     -999,9,     -999,9,     -999,9,     -999,9,   2.6816,    -999,9,       -999,9,    -999,9,    -999,9
 316N200310,        A22,      38,          1,         11,         11,2,20031101,       0406,    21.4710,   -65.9878,       5491,  3000.3,   2.7074,  34.9288,2,  34.9286,2,    263.5,2,   263.9,2,   23.49,2,   18.30,2,    0.00,2,    1.23,2,   0.398,6,   0.212,6,   0.013,6,  2166.5,2,  2321.6,2,    -999,9,     -999,9,    -999,9,    -999,9,    -999,9,    -999,   0.725,2,   40.60,2,    -999,9, 3000.30,      502,  21.4613, -65.9861,    -999,     -999,    -999,   0.1320,2,   0.0940,2,   0.0450,2,   0.0300,2,   0.0170,2,   0.0190,2,   2.4630,    -999,9,       -999,9,    -999,9,    -999,9
 316N200310,        A22,      38,          1,         10,         10,2,20031101,       0406,    21.4710,   -65.9878,       5491,  3249.8,   2.5320,  34.9171,2,  34.9482,3,    266.2,2,   266.1,2,   24.62,2,   18.20,2,    0.00,2,    1.22,2,   0.471,2,   0.254,2,   0.020,2,    -999,9,    -999,9,    -999,9,     -999,9,    -999,9,    -999,9,    -999,9,    -999,   0.860,2,    -999,9,    -999,9, 3249.80,      457,  21.4621, -65.9863,    -999,     -999,    -999,     -999,9,     -999,9,     -999,9,     -999,9,     -999,9,     -999,9,   2.2656,    -999,9,       -999,9,    -999,9,    -999,9
 316N200310,        A22,      38,          1,          9,          9,2,20031101,       0406,    21.4710,   -65.9878,       5491,  3500.2,   2.4086,  34.9080,2,  34.9081,2,    267.6,2,   267.3,2,   25.53,2,   18.09,2,    0.00,2,    1.22,2,   0.596,2,   0.314,2,   0.028,2,  2170.8,2,  2323.0,2,    -999,9,     -999,9,    -999,9,    -999,9,    -999,9,    -999,   1.024,2,   42.00,2,    -999,9, 3500.20,      452,  21.4629, -65.9865,    -999,     -999,    -999,   0.1210,2,   0.0840,2,   0.0380,2,   0.0240,2,   0.0200,2,   0.0220,2,   2.1185,    -999,9,       -999,9,    -999,9,    -999,9
 316N200310,        A22,      38,          1,          8,          8,2,20031101,       0406,    21.4710,   -65.9878,       5491,  3749.1,   2.3519,  34.9024,2,  34.9020,2,    267.3,2,   267.6,2,   26.65,2,   18.20,2,    0.00,2,    1.22,2,   0.642,2,   0.321,2,   0.030,2,    -999,9,    -999,9,    -999,9,     -999,9,    -999,9,    -999,9,    -999,9,    -999,   1.073,2,    -999,9,    -999,9, 3749.10,      447,  21.4638, -65.9866,    -999,     -999,    -999,     -999,9,     -999,9,     -999,9,     -999,9,     -999,9,     -999,9,   2.0360,    -999,9,       -999,9,    -999,9,    -999,9
 316N200310,        A22,      38,          1,          7,          7,2,20031101,       0406,    21.4710,   -65.9878,       5491,  3999.4,   2.3062,  34.8982,2,  34.8979,2,    266.4,2,   266.1,2,   29.09,2,   18.60,2,    0.00,2,    1.25,2,   0.492,6,   0.260,6,   0.018,6,  2173.4,2,  2326.8,2,    -999,9,     -999,9,    -999,9,    -999,9,    -999,9,    -999,   0.912,6,   39.50,2,    -999,9, 3999.40,      442,  21.4648, -65.9868,    -999,     -999,    -999,   0.1220,2,   0.0850,2,   0.0380,2,   0.0240,2,   0.0200,2,   0.0210,2,   1.9634,    -999,9,       -999,9,    -999,9,    -999,9
 316N200310,        A22,      38,          1,          6,          6,2,20031101,       0406,    21.4710,   -65.9878,       5491,  4251.2,   2.2873,  34.8939,2,  34.8934,2,    265.4,2,   265.8,2,   30.72,2,   18.75,2,    0.00,2,    1.27,2,   0.533,2,   0.281,2,   0.028,2,    -999,9,    -999,9,    -999,9,     -999,9,    -999,9,    -999,9,    -999,9,    -999,   0.940,2,    -999,9,    -999,9, 4251.20,      437,  21.4656, -65.9869,    -999,     -999,    -999,     -999,9,     -999,9,     -999,9,     -999,9,     -999,9,     -999,9,   1.9161,    -999,9,       -999,9,    -999,9,    -999,9
 316N200310,        A22,      38,          1,          5,          5,2,20031101,       0406,    21.4710,   -65.9878,       5491,  4500.7,   2.2759,  34.8902,2,  34.8904,2,    263.8,2,   263.6,2,   33.07,2,   19.15,2,    0.00,2,    1.29,2,   0.454,2,   0.243,2,   0.025,2,  2177.6,2,  2329.1,2,    -999,9,     -999,9,    -999,9,    -999,9,    -999,9,    -999,   0.830,2,   40.40,2,    -999,9, 4500.70,      432,  21.4665, -65.9871,    -999,     -999,    -999,   0.1270,2,   0.0890,2,   0.0410,2,   0.0270,2,   0.0190,2,   0.0200,2,   1.8754,    -999,9,       -999,9,    -999,9,    -999,9
 316N200310,        A22,      38,          1,          4,          4,2,20031101,       0406,    21.4710,   -65.9878,       5491,  4748.8,   2.2604,  34.8854,2,  34.8855,2,    261.7,2,   261.4,2,   35.93,2,   19.60,2,    0.00,2,    1.33,2,   0.374,2,   0.220,2,   0.019,2,    -999,9,    -999,9,    -999,9,     -999,9,    -999,9,    -999,9,    -999,9,    -999,   0.706,2,   40.40,2,    -999,9, 4748.80,      427,  21.4674, -65.9873,    -999,     -999,    -999,   0.1230,2,   0.0860,2,   0.0390,2,   0.0250,2,   0.0200,2,   0.0210,2,   1.8304,    -999,9,       -999,9,    -999,9,    -999,9
 316N200310,        A22,      38,          1,          3,          3,2,20031101,       0406,    21.4710,   -65.9878,       5491,  4999.9,   2.2092,  34.8760,2,  34.8751,2,    257.1,2,   257.3,2,   41.66,2,   20.60,2,    0.00,2,    1.39,2,   0.195,2,   0.125,2,   0.009,2,  2187.1,2,  2337.4,2,    -999,9,     -999,9,    -999,9,    -999,9,    -999,9,    -999,   0.442,2,   40.60,2,    -999,9, 4999.90,      422,  21.4683, -65.9876,    -999,     -999,    -999,   0.0000,3,   0.0000,3,   0.0000,3,   0.0000,3,   0.0000,2,   0.0000,2,   1.7497,    -999,9,       -999,9,    -999,9,    -999,9