BOTTLE,20220517CCHSIOLMM
EXPOCODE,SECT_ID,STNNBR,CASTNO,SAMPNO,BTLNBR,BTLNBR_FLAG_W,DATE,TIME,LATITUDE,LONGITUDE,DEPTH,CTDPRS,CTDTMP,CTDSAL,CTDSAL_FLAG_W,SALNTY,SALNTY_FLAG_W,CTDOXY,CTDOXY_FLAG_W,OXYGEN,OXYGEN_FLAG_W,SILCAT,SILCAT_FLAG_W,NITRAT,NITRAT_FLAG_W,NITRIT,NITRIT_FLAG_W,PHSPHT,PHSPHT_FLAG_W,CFC-11,CFC-11_FLAG_W,CFC-12,CFC-12_FLAG_W,CFC113,CFC113_FLAG_W,TCARBN,TCARBN_FLAG_W,ALKALI,ALKALI_FLAG_W,TRITUM,TRITUM_FLAG_W,HELIUM,HELIUM_FLAG_W,DELHE3,DELHE3_FLAG_W,DELC13,DELC13_FLAG_W,DELC14,DELC14_FLAG_W,C14ERR,CCL4,CCL4_FLAG_W,DOC,DOC_FLAG_W,TDN,TDN_FLAG_W,CTDRAW,BTL_TIME,BTL_LAT,BTL_LON,TRITER,HELIER,DELHER,CDOM325,CDOM325_FLAG_W,CDOM340,CDOM340_FLAG_W,CDOM380,CDOM380_FLAG_W,CDOM412,CDOM412_FLAG_W,CDOMSL,CDOMSL_FLAG_W,CDOMSN,CDOMSN_FLAG_W,THETA,BACT,BACT_FLAG_W,PROC,PROC_FLAG_W,SYN,SYN_FLAG_W,PEUK,PEUK_FLAG_W
,,,,,,,,,,,METERS,DBAR,ITS-90,PSS-78,,PSS-78,,UMOL/KG,,UMOL/KG,,UMOL/KG,,UMOL/KG,,UMOL/KG,,UMOL/KG,,PMOL/KG,,PMOL/KG,,PMOL/KG,,UMOL/KG,,UMOL/KG,,TU,,NMOL/KG,,PERCNT,,/MILLE,,/MILLE,,/MILLE,PMOL/KG,,UMOL/KG,,UMOL/KG,,DBAR,,,,TU,NMOL/KG,PERCNT,1/M,,1/M,,1/M,,1/M,,1/NM,,1/NM,,DEG C,E8/L,,E7/L,,E6/L,,E6/L,
 316N200310,        A22,      16,          1,         35,         35,2,20031027,       2130,    17.0302,   -65.9718,       4747,     3.0,  29.6353,  34.2642,2,  34.2595,2,    194.6,2,   194.1,2,    2.75,2,    0.03,2,    0.00,2,    0.01,2,   1.501,2,   0.939,2,   0.121,2,  1921.7,2,  2257.7,6,    -999,9,     -999,9,    -999,9,    -999,9,    -999,9,    -999,    -999,9,   73.50,2,    4.10,2,    3.00,     2319,  17.0307, -65.9575,    -999,     -999,    -999,     -999,9,     -999,9,     -999,9,     -999,9,     -999,9,     -999,9,  29.6346,    -999,9,       -999,9,    -999,9,    -999,9
 316N200310,        A22,      16,          1,         34,         34,2,20031027,       2130,    17.0302,   -65.9718,       4747,    25.8,  29.5857,  34.4471,2,  34.5158,2,    196.1,2,   195.9,2,    2.34,2,    0.03,2,    0.00,2,    0.01,2,   1.511,2,   0.949,2,   0.115,2,  1932.2,2,  2275.7,2,    -999,9,     -999,9,    -999,9,    -999,9,    -999,9,    -999,    -999,9,   75.50,2,    4.20,2,   25.80,     2318,  17.0307, -65.9577,    -999,     -999,    -999,     -999,9,     -999,9,     -999,9,     -999,9,     -999,9,     -999,9,  29.5794,    -999,9,       -999,9,    -999,9,    -999,9
 316N200310,        A22,      16,          1,         33,         33,9,20031027,       2130,    17.0302,   -65.9718,       4747,    51.0,  28.7984,  35.9665,2,     -999,9,    201.1,2,    -999,9,    -999,9,    -999,9,    -999,9,    -999,9,    -999,9,    -999,9,    -999,9,    -999,9,    -999,9,    -999,9,     -999,9,    -999,9,    -999,9,    -999,9,    -999,    -999,9,    -999,5,    -999,9,   51.00,     2317,  17.0308, -65.9579,    -999,     -999,    -999,     -999,9,     -999,9,     -999,9,     -999,9,     -999,9,     -999,9,  28.7861,    -999,9,       -999,9,    -999,9,    -999,9
 316N200310,        A22,      16,          1,         32,         32,2,20031027,       2130,    17.0302,   -65.9718,       4747,    75.7,  26.9509,  36.8119,2,  36.8135,2,    201.4,2,   201.9,2,    0.63,2,    0.02,2,    0.01,2,    0.02,2,   1.706,6,   1.053,6,   0.138,6,  2043.2,2,  2409.5,2,   0.717,2,   1.7404,2,   -0.69,2,    -999,9,    -999,9,    -999,    -999,9,   68.30,2,    3.80,2,   75.70,     2315,  17.0308, -65.9581,   0.013,   0.0087,    0.15,     -999,9,     -999,9,     -999,9,     -999,9,     -999,9,     -999,9,  26.9335,    -999,9,       -999,9,    -999,9,    -999,9
 316N200310,        A22,      16,          1,         31,         31,2,20031027,       2130,    17.0302,   -65.9718,       4747,   100.8,  25.8993,  37.0557,2,  37.0523,2,    189.5,2,   192.3,2,    0.53,2,    0.24,2,    0.08,2,    0.02,2,   1.697,6,   1.071,6,   0.137,6,  2068.1,2,  2421.8,2,    -999,9,     -999,9,    -999,9,    -999,9,    -999,9,    -999,   0.578,2,   67.70,2,    4.40,2,  100.80,     2314,  17.0309, -65.9584,    -999,     -999,    -999,     -999,9,     -999,9,     -999,9,     -999,9,     -999,9,     -999,9,  25.8767,    -999,9,       -999,9,    -999,9,    -999,9
 316N200310,        A22,      16,          1,         30,         30,2,20031027,       2130,    17.0302,   -65.9718,       4747,   126.2,  24.7177,  37.1943,2,  37.1892,2,    188.3,2,   184.3,2,    0.43,2,    1.17,2,    0.05,2,    0.07,2,   1.823,2,   1.112,2,   0.113,2,  2093.7,2,  2428.5,2,   0.731,2,   1.7667,2,   -0.47,2,    -999,9,    -999,9,    -999,    -999,9,   63.30,2,    5.50,2,  126.20,     2313,  17.0309, -65.9586,   0.013,   0.0088,    0.15,     -999,9,     -999,9,     -999,9,     -999,9,     -999,9,     -999,9,  24.6903,    -999,9,       -999,9,    -999,9,    -999,9
 316N200310,        A22,      16,          1,         29,         29,2,20031027,       2130,    17.0302,   -65.9718,       4747,   151.4,  23.2215,  37.1663,2,  37.1700,2,    184.7,2,   179.8,2,    0.43,2,    1.53,2,    0.03,2,    0.09,2,   1.945,2,   1.175,2,   0.097,2,  2120.0,2,  2427.4,3,   0.887,2,   1.7478,2,   -0.13,2,    -999,9,    -999,9,    -999,    -999,9,   55.60,2,    4.70,2,  151.40,     2311,  17.0309, -65.9588,   0.013,   0.0087,    0.15,     -999,9,     -999,9,     -999,9,     -999,9,     -999,9,     -999,9,  23.1901,    -999,9,       -999,9,    -999,9,    -999,9
 316N200310,        A22,      16,          1,         28,         28,2,20031027,       2130,    17.0302,   -65.9718,       4747,   201.8,  19.9935,  36.8298,2,  36.8276,2,    171.4,2,   176.5,2,    0.62,2,    3.24,2,    0.01,2,    0.15,2,   2.168,2,   1.289,2,   0.035,2,  2131.8,2,  2404.3,2,   0.949,2,   1.7704,2,    0.48,2,    -999,9,    -999,9,    -999,    -999,9,   49.30,2,   15.80,4,  201.80,     2310,  17.0309, -65.9591,   0.013,   0.0089,    0.15,     -999,9,     -999,9,     -999,9,     -999,9,     -999,9,     -999,9,  19.9558,    -999,9,       -999,9,    -999,9,    -999,9
 316N200310,        A22,      16,          1,         27,         27,2,20031027,       2130,    17.0302,   -65.9718,       4747,   251.9,  18.2335,  36.5598,2,  36.5611,2,    173.6,2,   177.7,2,    1.22,2,    5.82,2,    0.01,2,    0.29,2,   2.249,2,   1.276,2,   0.025,2,  2125.0,3,  2386.6,2,   1.046,2,   1.7564,2,    2.27,2,    -999,9,    -999,9,    -999,    -999,9,   46.50,2,    5.90,4,  251.90,     2308,  17.0310, -65.9594,   0.014,   0.0088,    0.15,     -999,9,     -999,9,     -999,9,     -999,9,     -999,9,     -999,9,  18.1893,    -999,9,       -999,9,    -999,9,    -999,9
 316N200310,        A22,      16,          1,         26,         26,2,20031027,       2130,    17.0302,   -65.9718,       4747,   351.3,  15.6459,  36.1099,2,  36.1076,2,    157.5,2,   154.1,2,    3.83,2,   12.62,2,    0.00,2,    0.73,2,   2.068,2,   1.135,2,   0.026,2,  2152.8,2,  2361.8,2,   1.096,2,   1.7970,2,    5.28,2,    -999,9,    -999,9,    -999,    -999,9,   43.20,2,    -999,9,  351.30,     2305,  17.0310, -65.9598,   0.014,   0.0090,    0.15,     -999,9,     -999,9,     -999,9,     -999,9,     -999,9,     -999,9,  15.5904,    -999,9,       -999,9,    -999,9,    -999,9
 316N200310,        A22,      16,          1,         25,         25,2,20031027,       2130,    17.0302,   -65.9718,       4747,   451.3,  13.2252,  35.7210,2,  35.7201,2,    138.2,2,   137.4,2,    6.63,2,   18.34,2,    0.00,2,    1.09,2,   1.654,2,   0.878,2,   0.035,2,  2172.0,2,  2340.2,2,   1.256,2,   1.8003,2,    9.64,2,    -999,9,    -999,9,    -999,    -999,9,   44.50,2,    -999,9,  451.30,     2303,  17.0310, -65.9601,   0.014,   0.0090,    0.15,     -999,9,     -999,9,     -999,9,     -999,9,     -999,9,     -999,9,  13.1614,    -999,9,       -999,9,    -999,9,    -999,9
 316N200310,        A22,      16,          1,         24,         24,2,20031027,       2130,    17.0302,   -65.9718,       4747,   551.1,  11.3347,  35.4728,2,  35.4687,2,    137.2,2,   137.1,2,    9.43,2,   21.55,2,    0.00,2,    1.31,2,   1.194,2,   0.619,2,   0.016,2,  2181.9,2,  2330.0,2,   0.773,2,   1.7903,2,    8.77,2,    -999,9,    -999,9,    -999,    -999,9,   37.10,4,    -999,9,  551.10,     2300,  17.0309, -65.9605,   0.013,   0.0090,    0.15,     -999,9,     -999,9,     -999,9,     -999,9,     -999,9,     -999,9,  11.2640,    -999,9,       -999,9,    -999,9,    -999,9
 316N200310,        A22,      16,          1,         23,         23,2,20031027,       2130,    17.0302,   -65.9718,       4747,   651.0,   9.1428,  35.1053,2,  35.1049,2,    126.9,2,   127.0,2,   15.05,2,   26.89,2,    0.00,2,    1.72,2,   0.677,2,   0.354,2,   0.006,2,  2199.0,2,  2316.1,2,   0.391,2,   1.8185,2,    4.91,2,    -999,9,    -999,9,    -999,    -999,9,   45.20,2,    -999,9,  651.00,     2258,  17.0309, -65.9608,   0.013,   0.0091,    0.15,     -999,9,     -999,9,     -999,9,     -999,9,     -999,9,     -999,9,   9.0694,    -999,9,       -999,9,    -999,9,    -999,9
 316N200310,        A22,      16,          1,         22,         22,2,20031027,       2130,    17.0302,   -65.9718,       4747,   751.2,   7.2068,  34.8591,2,  34.8556,2,    127.3,2,   128.2,2,   20.58,2,   30.53,2,    0.00,2,    2.00,2,   0.286,2,   0.166,2,   0.014,2,  2209.9,2,  2309.0,6,   0.284,2,   1.8201,2,    4.14,2,    -999,9,    -999,9,    -999,    -999,9,   44.90,2,    -999,9,  751.20,     2255,  17.0309, -65.9611,   0.011,   0.0091,    0.15,     -999,9,     -999,9,     -999,9,     -999,9,     -999,9,     -999,9,   7.1327,    -999,9,       -999,9,    -999,9,    -999,9
 316N200310,        A22,      16,          1,         21,         21,2,20031027,       2130,    17.0302,   -65.9718,       4747,   850.9,   6.3952,  34.8436,2,  34.8438,2,    137.7,2,   140.1,2,   22.49,2,   30.13,2,    0.00,2,    2.00,2,   0.164,2,   0.090,2,   0.003,2,  2210.2,2,  2316.6,3,   0.191,2,   1.8274,2,    2.65,2,    -999,9,    -999,9,    -999,    -999,9,   43.50,2,    -999,9,  850.90,     2253,  17.0309, -65.9614,   0.013,   0.0091,    0.15,     -999,9,     -999,9,     -999,9,     -999,9,     -999,9,     -999,9,   6.3158,    -999,9,       -999,9,    -999,9,    -999,9
 316N200310,        A22,      16,          1,         20,         20,2,20031027,       2130,    17.0302,   -65.9718,       4747,   950.7,   5.7845,  34.8759,2,  34.8733,2,    157.4,2,   157.0,2,   23.39,2,   28.40,2,    0.00,2,    1.90,2,   0.107,2,   0.064,2,   0.003,2,  2206.4,2,  2315.0,2,   0.138,2,   1.8738,2,    3.94,2,    -999,9,    -999,9,    -999,    -999,9,    -999,9,    -999,9,  950.70,     2250,  17.0309, -65.9618,   0.011,   0.0094,    0.15,     -999,9,     -999,9,     -999,9,     -999,9,     -999,9,     -999,9,   5.6994,    -999,9,       -999,9,    -999,9,    -999,9
 316N200310,        A22,      16,          1,         19,         19,2,20031027,       2130,    17.0302,   -65.9718,       4747,  1075.8,   5.1848,  34.9441,2,  34.9443,2,    185.0,2,   183.0,2,   23.19,2,   25.22,2,    0.00,2,    1.70,2,   0.124,2,   0.068,2,   0.005,2,  2198.0,2,  2323.8,2,   0.116,2,     -999,9,    -999,9,    -999,9,    -999,9,    -999,    -999,9,   43.00,2,    -999,9, 1075.80,     2247,  17.0309, -65.9622,   0.011,     -999,    -999,     -999,9,     -999,9,     -999,9,     -999,9,     -999,9,     -999,9,   5.0923,    -999,9,       -999,9,    -999,9,    -999,9
 316N200310,        A22,      16,          1,         18,         18,2,20031027,       2130,    17.0302,   -65.9718,       4747,  1225.7,   4.6599,  34.9679,2,  34.9681,2,    200.7,2,   202.3,2,   23.19,2,   23.27,2,    0.00,2,    1.57,2,   0.167,2,   0.089,2,   0.005,2,  2192.3,2,  2329.3,2,   0.075,2,   1.8547,2,    1.61,2,    -999,9,    -999,9,    -999,    -999,9,    -999,9,    -999,9, 1225.70,     2244,  17.0308, -65.9626,   0.011,   0.0093,    0.15,     -999,9,     -999,9,     -999,9,     -999,9,     -999,9,     -999,9,   4.5581,    -999,9,       -999,9,    -999,9,    -999,9
 316N200310,        A22,      16,          1,         17,         17,2,20031027,       2130,    17.0302,   -65.9718,       4747,  1375.8,   4.3877,  34.9716,2,  34.9707,2,    208.6,2,   208.9,2,   24.29,2,   22.66,2,    0.00,2,    1.53,2,   0.130,2,   0.068,2,   0.010,2,  2192.0,2,  2332.3,2,   0.087,2,   1.8511,2,    1.80,2,    -999,9,    -999,9,    -999,    -999,9,   42.80,2,    -999,9, 1375.80,     2241,  17.0307, -65.9630,   0.012,   0.0093,    0.15,     -999,9,     -999,9,     -999,9,     -999,9,     -999,9,     -999,9,   4.2747,    -999,9,       -999,9,    -999,9,    -999,9
 316N200310,        A22,      16,          1,         16,         16,2,20031027,       2130,    17.0302,   -65.9718,       4747,  1526.0,   4.2686,  34.9766,2,  34.9774,2,    211.1,2,   216.2,2,   23.69,2,   21.91,2,    0.00,2,    1.48,2,   0.233,2,   0.124,2,   0.014,2,  2189.7,2,  2332.3,2,   0.038,2,   1.8456,2,    1.76,2,    -999,9,    -999,9,    -999,    -999,9,   42.80,2,    -999,9, 1526.00,     2238,  17.0306, -65.9634,   0.010,   0.0092,    0.15,     -999,9,     -999,9,     -999,9,     -999,9,     -999,9,     -999,9,   4.1429,    -999,9,       -999,9,    -999,9,    -999,9
 316N200310,        A22,      16,          1,         15,         15,2,20031027,       2130,    17.0302,   -65.9718,       4747,  1676.4,   4.1742,  34.9733,2,  34.9732,2,    213.9,2,   212.8,2,   26.10,2,   22.31,2,    0.00,2,    1.51,2,   0.074,2,   0.038,2,   0.007,2,  2194.5,2,  2340.7,2,   0.004,2,   1.9002,2,    2.81,2,    -999,9,    -999,9,    -999,    -999,9,    -999,9,    -999,9, 1676.40,     2234,  17.0305, -65.9637,   0.010,   0.0095,    0.15,     -999,9,     -999,9,     -999,9,     -999,9,     -999,9,     -999,9,   4.0355,    -999,9,       -999,9,    -999,9,    -999,9
 316N200310,        A22,      16,          1,         14,         14,2,20031027,       2130,    17.0302,   -65.9718,       4747,  1826.2,   4.1266,  34.9750,2,  34.9756,2,    216.6,2,   216.3,2,   25.79,2,   21.96,2,    0.00,2,    1.49,2,   0.114,2,   0.060,2,   0.009,2,  2194.2,2,  2336.2,2,   0.037,2,   1.9203,2,    3.22,2,    -999,9,    -999,9,    -999,    -999,9,    -999,9,    -999,9, 1826.20,     2231,  17.0304, -65.9641,   0.010,   0.0096,    0.15,     -999,9,     -999,9,     -999,9,     -999,9,     -999,9,     -999,9,   3.9742,    -999,9,       -999,9,    -999,9,    -999,9
 316N200310,        A22,      16,          1,         13,         13,2,20031027,       2130,    17.0302,   -65.9718,       4747,  2000.6,   4.1010,  34.9754,2,  34.9768,2,    216.1,2,   215.5,2,   26.69,2,   22.05,2,    0.00,2,    1.49,2,   0.048,2,   0.033,2,   0.005,2,  2196.6,2,  2338.8,2,   0.026,2,   1.9015,2,    2.12,2,    -999,9,    -999,9,    -999,    -999,9,   41.90,2,    -999,9, 2000.60,     2227,  17.0304, -65.9646,   0.010,   0.0095,    0.15,     -999,9,     -999,9,     -999,9,     -999,9,     -999,9,     -999,9,   3.9319,    -999,9,       -999,9,    -999,9,    -999,9
 316N200310,        A22,      16,          1,         12,         12,2,20031027,       2130,    17.0302,   -65.9718,       4747,  2200.3,   4.0981,  34.9759,2,  34.9758,2,    216.2,2,   215.3,2,   27.30,2,   22.05,2,    0.00,2,    1.49,2,   0.030,2,   0.021,2,   0.005,2,  2197.6,2,  2340.9,2,    -999,9,     -999,9,    -999,9,    -999,9,    -999,9,    -999,    -999,9,    -999,9,    -999,9, 2200.30,     2223,  17.0304, -65.9653,    -999,     -999,    -999,     -999,9,     -999,9,     -999,9,     -999,9,     -999,9,     -999,9,   3.9091,    -999,9,       -999,9,    -999,9,    -999,9
 316N200310,        A22,      16,          1,         11,         11,2,20031027,       2130,    17.0302,   -65.9718,       4747,  2424.6,   4.1088,  34.9762,2,  34.9750,2,    215.4,2,   215.9,2,   27.50,2,   22.06,2,    0.00,2,    1.49,2,   0.030,2,   0.024,2,   0.002,2,  2194.9,2,  2339.7,2,    -999,9,     -999,9,    -999,9,    -999,9,    -999,9,    -999,    -999,9,    -999,9,    -999,9, 2424.60,     2218,  17.0304, -65.9660,    -999,     -999,    -999,     -999,9,     -999,9,     -999,9,     -999,9,     -999,9,     -999,9,   3.8964,    -999,9,       -999,9,    -999,9,    -999,9
 316N200310,        A22,      16,          1,         10,         10,2,20031027,       2130,    17.0302,   -65.9718,       4747,  2674.3,   4.1268,  34.9763,2,  34.9756,2,    215.5,2,   215.5,2,   27.70,2,   22.01,2,    0.00,2,    1.49,2,   0.027,2,   0.026,2,   0.008,2,  2195.3,2,  2341.6,2,   0.038,2,   1.8988,2,    2.72,2,    -999,9,    -999,9,    -999,    -999,9,   42.00,2,    -999,9, 2674.30,     2213,  17.0302, -65.9666,   0.010,   0.0095,    0.15,     -999,9,     -999,9,     -999,9,     -999,9,     -999,9,     -999,9,   3.8876,    -999,9,       -999,9,    -999,9,    -999,9
 316N200310,        A22,      16,          1,          9,          9,2,20031027,       2130,    17.0302,   -65.9718,       4747,  2925.0,   4.1497,  34.9765,2,  34.9752,2,    215.6,2,   215.2,2,   28.10,2,   22.11,2,    0.00,2,    1.49,2,   0.018,2,   0.021,2,   0.007,2,  2198.2,2,  2341.9,2,    -999,9,     -999,9,    -999,9,    -999,9,    -999,9,    -999,    -999,9,    -999,9,    -999,9, 2925.00,     2208,  17.0301, -65.9672,    -999,     -999,    -999,     -999,9,     -999,9,     -999,9,     -999,9,     -999,9,     -999,9,   3.8825,    -999,9,       -999,9,    -999,9,    -999,9
 316N200310,        A22,      16,          1,          8,          8,2,20031027,       2130,    17.0302,   -65.9718,       4747,  3175.2,   4.1749,  34.9766,2,  34.9760,2,    215.6,2,   215.2,2,   28.10,2,   22.02,2,    0.00,2,    1.49,2,   0.018,2,   0.018,2,   0.004,2,  2129.5,4,  2342.2,4,   0.029,2,   1.9025,2,    2.23,2,    -999,9,    -999,9,    -999,    -999,9,   41.20,2,    -999,9, 3175.20,     2204,  17.0302, -65.9677,   0.010,   0.0095,    0.15,     -999,9,     -999,9,     -999,9,     -999,9,     -999,9,     -999,9,   3.8790,    -999,9,       -999,9,    -999,9,    -999,9
 316N200310,        A22,      16,          1,          7,          7,2,20031027,       2130,    17.0302,   -65.9718,       4747,  3425.2,   4.2016,  34.9769,2,  34.9762,2,    215.8,2,   215.7,2,   28.09,2,   22.06,2,    0.00,2,    1.49,2,   0.024,2,   0.023,2,   0.006,2,  2195.4,2,  2335.1,4,    -999,9,     -999,9,    -999,9,    -999,9,    -999,9,    -999,    -999,9,    -999,9,    -999,9, 3425.20,     2159,  17.0301, -65.9682,    -999,     -999,    -999,     -999,9,     -999,9,     -999,9,     -999,9,     -999,9,     -999,9,   3.8759,    -999,9,       -999,9,    -999,9,    -999,9
 316N200310,        A22,      16,          1,          6,          6,2,20031027,       2130,    17.0302,   -65.9718,       4747,  3674.8,   4.2301,  34.9770,2,  34.9776,2,    215.9,2,   216.2,2,   27.99,2,   21.97,2,    0.00,2,    1.48,2,   0.032,2,   0.024,2,   0.001,2,  2192.7,2,  2336.2,4,   0.007,2,   1.9045,2,    2.68,2,    -999,9,    -999,9,    -999,    -999,9,   41.50,2,    -999,9, 3674.80,     2154,  17.0301, -65.9688,   0.010,   0.0095,    0.15,     -999,9,     -999,9,     -999,9,     -999,9,     -999,9,     -999,9,   3.8739,    -999,9,       -999,9,    -999,9,    -999,9
 316N200310,        A22,      16,          1,          5,          5,2,20031027,       2130,    17.0302,   -65.9718,       4747,  3901.1,   4.2569,  34.9774,2,  34.9772,2,    216.5,2,   216.4,2,   28.09,2,   21.91,2,    0.00,2,    1.48,2,   0.032,2,   0.023,2,   0.003,2,  2193.7,2,  2338.9,4,    -999,9,     -999,9,    -999,9,    -999,9,    -999,9,    -999,    -999,9,    -999,9,    -999,9, 3901.10,     2149,  17.0301, -65.9694,    -999,     -999,    -999,     -999,9,     -999,9,     -999,9,     -999,9,     -999,9,     -999,9,   3.8723,    -999,9,       -999,9,    -999,9,    -999,9
 316N200310,        A22,      16,          1,          4,          4,2,20031027,       2130,    17.0302,   -65.9718,       4747,  4150.7,   4.2884,  34.9777,2,  34.9768,2,    216.4,2,   216.5,2,   28.19,2,   21.91,2,    0.00,2,    1.48,2,   0.041,2,   0.036,2,   0.005,2,  2192.9,2,  2339.6,4,   0.037,2,   2.0193,2,    2.99,2,    -999,9,    -999,9,    -999,    -999,9,   41.90,2,    -999,9, 4150.70,     2144,  17.0301, -65.9700,   0.010,   0.0101,    0.15,     -999,9,     -999,9,     -999,9,     -999,9,     -999,9,     -999,9,   3.8715,    -999,9,       -999,9,    -999,9,    -999,9