BOTTLE,20220517CCHSIOLMM
EXPOCODE,SECT_ID,STNNBR,CASTNO,SAMPNO,BTLNBR,BTLNBR_FLAG_W,DATE,TIME,LATITUDE,LONGITUDE,DEPTH,CTDPRS,CTDTMP,CTDSAL,CTDSAL_FLAG_W,SALNTY,SALNTY_FLAG_W,CTDOXY,CTDOXY_FLAG_W,OXYGEN,OXYGEN_FLAG_W,SILCAT,SILCAT_FLAG_W,NITRAT,NITRAT_FLAG_W,NITRIT,NITRIT_FLAG_W,PHSPHT,PHSPHT_FLAG_W,CFC-11,CFC-11_FLAG_W,CFC-12,CFC-12_FLAG_W,CFC113,CFC113_FLAG_W,TCARBN,TCARBN_FLAG_W,ALKALI,ALKALI_FLAG_W,TRITUM,TRITUM_FLAG_W,HELIUM,HELIUM_FLAG_W,DELHE3,DELHE3_FLAG_W,DELC13,DELC13_FLAG_W,DELC14,DELC14_FLAG_W,C14ERR,CCL4,CCL4_FLAG_W,DOC,DOC_FLAG_W,TDN,TDN_FLAG_W,CTDRAW,BTL_TIME,BTL_LAT,BTL_LON,TRITER,HELIER,DELHER,CDOM325,CDOM325_FLAG_W,CDOM340,CDOM340_FLAG_W,CDOM380,CDOM380_FLAG_W,CDOM412,CDOM412_FLAG_W,CDOMSL,CDOMSL_FLAG_W,CDOMSN,CDOMSN_FLAG_W,THETA,BACT,BACT_FLAG_W,PROC,PROC_FLAG_W,SYN,SYN_FLAG_W,PEUK,PEUK_FLAG_W
,,,,,,,,,,,METERS,DBAR,ITS-90,PSS-78,,PSS-78,,UMOL/KG,,UMOL/KG,,UMOL/KG,,UMOL/KG,,UMOL/KG,,UMOL/KG,,PMOL/KG,,PMOL/KG,,PMOL/KG,,UMOL/KG,,UMOL/KG,,TU,,NMOL/KG,,PERCNT,,/MILLE,,/MILLE,,/MILLE,PMOL/KG,,UMOL/KG,,UMOL/KG,,DBAR,,,,TU,NMOL/KG,PERCNT,1/M,,1/M,,1/M,,1/M,,1/NM,,1/NM,,DEG C,E8/L,,E7/L,,E6/L,,E6/L,
 316N200310,        A22,      39,          1,          4,          4,2,20031101,       1222,    22.1932,   -65.9693,       5645,  5000.2,   2.1958,  34.8745,2,  34.8741,2,    256.0,2,   256.7,2,   42.25,2,   20.83,2,    0.00,2,    1.41,2,   0.193,2,   0.109,2,   0.011,2,    -999,9,    -999,9,    -999,9,     -999,9,    -999,9,    -999,9,    -999,9,    -999,    -999,9,    -999,9,    -999,9, 5000.20,     1242,  22.1932, -65.9650,    -999,     -999,    -999,     -999,9,     -999,9,     -999,9,     -999,9,     -999,9,     -999,9,   1.7367,    -999,9,       -999,9,    -999,9,    -999,9
 316N200310,        A22,      39,          1,          3,          3,2,20031101,       1222,    22.1932,   -65.9693,       5645,  5249.4,   2.1034,  34.8593,2,  34.8609,2,    251.6,2,   251.8,2,   50.34,2,   22.01,2,    0.00,2,    1.50,2,   0.086,2,   0.072,2,   0.007,2,    -999,9,    -999,9,   0.243,2,   1.9313,2,    2.60,2,    -999,9,    -999,9,    -999,    -999,9,    -999,9,    -999,9, 5249.40,     1237,  22.1932, -65.9663,   0.010,   0.0097,    0.15,     -999,9,     -999,9,     -999,9,     -999,9,     -999,9,     -999,9,   1.6160,    -999,9,       -999,9,    -999,9,    -999,9
 316N200310,        A22,      39,          1,          2,          2,2,20031101,       1222,    22.1932,   -65.9693,       5645,  5500.9,   2.0640,  34.8503,2,  34.8495,2,    249.1,2,   249.3,2,   54.75,2,   22.62,2,    0.00,2,    1.54,2,   0.056,2,   0.032,2,   0.002,2,    -999,9,    -999,9,    -999,9,     -999,9,    -999,9,    -999,9,    -999,9,    -999,    -999,9,    -999,9,    -999,9, 5500.90,     1232,  22.1932, -65.9675,    -999,     -999,    -999,     -999,9,     -999,9,     -999,9,     -999,9,     -999,9,     -999,9,   1.5455,    -999,9,       -999,9,    -999,9,    -999,9
 316N200310,        A22,      39,          1,          1,          1,2,20031101,       1222,    22.1932,   -65.9693,       5645,  5783.2,   2.0784,  34.8470,2,  34.8460,2,    248.1,2,   248.1,2,   56.17,2,   22.81,2,    0.00,2,    1.55,2,   0.064,2,   0.042,2,   0.001,2,    -999,9,    -999,9,    -999,9,   1.9109,2,    2.11,2,    -999,9,    -999,9,    -999,    -999,9,    -999,9,    -999,9, 5783.20,     1224,  22.1931, -65.9692,    -999,   0.0096,    0.15,     -999,9,     -999,9,     -999,9,     -999,9,     -999,9,     -999,9,   1.5220,    -999,9,       -999,9,    -999,9,    -999,9