BOTTLE,20220517CCHSIOLMM
EXPOCODE,SECT_ID,STNNBR,CASTNO,SAMPNO,BTLNBR,BTLNBR_FLAG_W,DATE,TIME,LATITUDE,LONGITUDE,DEPTH,CTDPRS,CTDTMP,CTDSAL,CTDSAL_FLAG_W,SALNTY,SALNTY_FLAG_W,CTDOXY,CTDOXY_FLAG_W,OXYGEN,OXYGEN_FLAG_W,SILCAT,SILCAT_FLAG_W,NITRAT,NITRAT_FLAG_W,NITRIT,NITRIT_FLAG_W,PHSPHT,PHSPHT_FLAG_W,CFC-11,CFC-11_FLAG_W,CFC-12,CFC-12_FLAG_W,CFC113,CFC113_FLAG_W,TCARBN,TCARBN_FLAG_W,ALKALI,ALKALI_FLAG_W,TRITUM,TRITUM_FLAG_W,HELIUM,HELIUM_FLAG_W,DELHE3,DELHE3_FLAG_W,DELC13,DELC13_FLAG_W,DELC14,DELC14_FLAG_W,C14ERR,CCL4,CCL4_FLAG_W,DOC,DOC_FLAG_W,TDN,TDN_FLAG_W,CTDRAW,BTL_TIME,BTL_LAT,BTL_LON,TRITER,HELIER,DELHER,CDOM325,CDOM325_FLAG_W,CDOM340,CDOM340_FLAG_W,CDOM380,CDOM380_FLAG_W,CDOM412,CDOM412_FLAG_W,CDOMSL,CDOMSL_FLAG_W,CDOMSN,CDOMSN_FLAG_W,THETA,BACT,BACT_FLAG_W,PROC,PROC_FLAG_W,SYN,SYN_FLAG_W,PEUK,PEUK_FLAG_W
,,,,,,,,,,,METERS,DBAR,ITS-90,PSS-78,,PSS-78,,UMOL/KG,,UMOL/KG,,UMOL/KG,,UMOL/KG,,UMOL/KG,,UMOL/KG,,PMOL/KG,,PMOL/KG,,PMOL/KG,,UMOL/KG,,UMOL/KG,,TU,,NMOL/KG,,PERCNT,,/MILLE,,/MILLE,,/MILLE,PMOL/KG,,UMOL/KG,,UMOL/KG,,DBAR,,,,TU,NMOL/KG,PERCNT,1/M,,1/M,,1/M,,1/M,,1/NM,,1/NM,,DEG C,E8/L,,E7/L,,E6/L,,E6/L,
 316N200310,        A22,      67,          1,         36,         36,2,20031110,       1050,    37.1468,   -68.0673,       4902,     4.1,  25.4982,  36.3552,2,  36.3572,2,    200.3,2,   200.1,2,    0.80,2,    0.18,2,    0.01,2,    0.02,2,   1.628,2,   1.010,2,   0.122,2,  2027.5,2,  2372.7,2,    -999,9,     -999,9,    -999,9,    -999,9,    -999,9,    -999,    -999,9,    -999,9,    -999,9,    4.10,     1253,  37.1636, -68.0611,    -999,     -999,    -999,   0.0810,2,   0.0520,2,   0.0190,2,   0.0120,2,   0.0280,2,   0.0290,2,  25.4973,    -999,9,       -999,9,    -999,9,    -999,9
 316N200310,        A22,      67,          1,         35,         35,2,20031110,       1050,    37.1468,   -68.0673,       4902,    24.7,  25.5071,  36.3551,2,  36.3518,2,    200.0,2,   200.2,2,    0.79,2,    0.12,2,    0.01,2,    0.01,2,   1.599,2,   0.999,2,   0.111,2,  2027.6,2,  2372.8,2,    -999,9,     -999,9,    -999,9,    -999,9,    -999,9,    -999,    -999,9,    -999,9,    -999,9,   24.70,     1251,  37.1636, -68.0612,    -999,     -999,    -999,   0.0800,2,   0.0530,2,   0.0200,2,   0.0130,2,   0.0270,2,   0.0280,2,  25.5016,    -999,9,       -999,9,    -999,9,    -999,9
 316N200310,        A22,      67,          1,         34,         34,2,20031110,       1050,    37.1468,   -68.0673,       4902,    50.5,  25.5005,  36.3550,2,  36.3528,2,    200.0,2,   200.2,2,    0.77,2,    0.12,2,    0.01,2,    0.02,2,   1.626,2,   1.010,2,   0.130,2,  2027.1,2,  2371.7,2,    -999,9,     -999,9,    -999,9,    -999,9,    -999,9,    -999,    -999,9,    -999,9,    -999,9,   50.50,     1249,  37.1635, -68.0613,    -999,     -999,    -999,   0.0790,2,   0.0520,2,   0.0190,2,   0.0120,2,   0.0270,2,   0.0280,2,  25.4894,    -999,9,       -999,9,    -999,9,    -999,9
 316N200310,        A22,      67,          1,         33,         33,2,20031110,       1050,    37.1468,   -68.0673,       4902,    74.9,  24.3756,  36.4056,2,  36.4016,2,    203.6,2,   205.0,2,    0.56,2,    0.07,2,    0.01,2,    0.01,2,   1.726,2,   1.058,2,   0.147,2,  2032.8,2,  2381.0,2,    -999,9,     -999,9,    -999,9,    -999,9,    -999,9,    -999,    -999,9,    -999,9,    -999,9,   74.90,     1248,  37.1634, -68.0614,    -999,     -999,    -999,   0.0740,2,   0.0490,2,   0.0180,2,   0.0120,2,   0.0280,2,   0.0280,2,  24.3596,    -999,9,       -999,9,    -999,9,    -999,9
 316N200310,        A22,      67,          1,         32,         32,2,20031110,       1050,    37.1468,   -68.0673,       4902,   100.0,  24.0571,  36.4276,2,  36.4226,2,    204.9,2,   205.4,2,    0.44,2,    0.06,2,    0.01,2,    0.01,2,    -999,9,    -999,9,    -999,9,  2036.8,2,  2379.8,2,    -999,9,     -999,9,    -999,9,    -999,9,    -999,9,    -999,    -999,9,    -999,9,    -999,9,  100.00,     1246,  37.1633, -68.0615,    -999,     -999,    -999,   0.0750,2,   0.0490,2,   0.0180,2,   0.0120,2,   0.0270,2,   0.0280,2,  24.0359,    -999,9,       -999,9,    -999,9,    -999,9
 316N200310,        A22,      67,          1,         31,         31,2,20031110,       1050,    37.1468,   -68.0673,       4902,   125.1,  23.6269,  36.5414,2,  36.5385,2,    204.0,2,   203.3,2,    0.43,2,    0.32,2,    0.14,2,    0.02,2,   1.870,6,   1.134,6,   0.132,6,  2054.3,2,  2387.7,2,   0.896,2,   1.7241,2,   -1.91,2,    -999,9,    -999,9,    -999,    -999,9,    -999,9,    -999,9,  125.10,     1244,  37.1632, -68.0617,   0.013,   0.0086,    0.15,   0.0990,2,   0.0680,2,   0.0270,2,   0.0180,2,   0.0240,2,   0.0250,2,  23.6007,    -999,9,       -999,9,    -999,9,    -999,9
 316N200310,        A22,      67,          1,         30,         30,2,20031110,       1050,    37.1468,   -68.0673,       4902,   150.0,  22.1057,  36.7872,2,  36.7810,2,    193.2,2,   193.1,2,    0.51,2,    1.31,2,    0.03,2,    0.06,2,   1.945,2,   1.177,2,   0.093,2,  2085.9,2,  2400.9,2,    -999,9,     -999,9,    -999,9,    -999,9,    -999,9,    -999,    -999,9,    -999,9,    -999,9,  150.00,     1243,  37.1631, -68.0617,    -999,     -999,    -999,   0.1160,2,   0.0820,2,   0.0370,2,   0.0260,2,   0.0200,2,   0.0210,2,  22.0757,    -999,9,       -999,9,    -999,9,    -999,9
 316N200310,        A22,      67,          1,         29,         29,2,20031110,       1050,    37.1468,   -68.0673,       4902,   200.3,  19.6588,  36.6335,2,  36.6312,2,    203.0,2,   206.8,2,    0.40,2,    1.07,2,    0.02,2,    0.05,2,   2.125,2,   1.254,2,   0.116,2,    -999,9,    -999,9,   0.934,2,   1.7439,2,   -1.43,2,    -999,9,    -999,9,    -999,    -999,9,    -999,9,    -999,9,  200.30,     1241,  37.1629, -68.0617,   0.013,   0.0087,    0.15,   0.1090,2,   0.0780,2,   0.0360,2,   0.0250,2,   0.0190,2,   0.0210,2,  19.6218,    -999,9,       -999,9,    -999,9,    -999,9
 316N200310,        A22,      67,          1,         28,         28,2,20031110,       1050,    37.1468,   -68.0673,       4902,   251.5,  19.1232,  36.6188,2,  36.6164,2,    205.9,2,   205.1,2,    0.58,2,    2.12,2,    0.01,2,    0.08,2,    -999,9,    -999,9,    -999,9,    -999,9,    -999,9,    -999,9,   1.7412,2,   -1.13,2,    -999,9,    -999,9,    -999,    -999,9,    -999,9,    -999,9,  251.50,     1239,  37.1627, -68.0619,    -999,   0.0087,    0.15,   0.0840,2,   0.0580,2,   0.0260,2,   0.0190,2,   0.0230,2,   0.0230,2,  19.0777,    -999,9,       -999,9,    -999,9,    -999,9
 316N200310,        A22,      67,          1,         27,         27,2,20031110,       1050,    37.1468,   -68.0673,       4902,   300.8,  18.8255,  36.5992,2,  36.5973,2,    208.0,2,   207.4,2,    0.66,2,    2.61,2,    0.01,2,    0.11,2,   2.321,2,   1.381,2,   0.081,2,    -999,9,    -999,9,   1.062,2,   1.7736,2,    1.49,2,    -999,9,    -999,9,    -999,    -999,9,    -999,9,    -999,9,  300.80,     1237,  37.1624, -68.0621,   0.013,   0.0089,    0.15,   0.0790,2,   0.0550,2,   0.0230,2,   0.0170,2,   0.0240,2,   0.0240,2,  18.7716,    -999,9,       -999,9,    -999,9,    -999,9
 316N200310,        A22,      67,          1,         26,         26,2,20031110,       1050,    37.1468,   -68.0673,       4902,   400.5,  18.2756,  36.5469,2,  36.5456,2,    201.4,2,   200.1,2,    0.85,2,    4.13,2,    0.01,2,    0.20,2,   2.336,2,   1.354,2,   0.039,2,    -999,9,    -999,9,   1.140,2,   1.7634,2,    2.13,2,    -999,9,    -999,9,    -999,    -999,9,    -999,9,    -999,9,  400.50,     1234,  37.1618, -68.0625,   0.014,   0.0088,    0.15,   0.0800,2,   0.0550,2,   0.0230,2,   0.0150,2,   0.0240,2,   0.0250,2,  18.2051,    -999,9,       -999,9,    -999,9,    -999,9
 316N200310,        A22,      67,          1,         25,         25,2,20031110,       1050,    37.1468,   -68.0673,       4902,   500.0,  17.5453,  36.4456,2,  36.4430,2,    189.7,2,   191.1,2,    1.52,2,    6.10,2,    0.01,2,    0.31,2,   2.238,2,   1.259,2,   0.032,2,    -999,9,    -999,9,    -999,9,   1.7607,2,    3.44,2,    -999,9,    -999,9,    -999,    -999,9,    -999,9,    -999,9,  500.00,     1232,  37.1612, -68.0627,    -999,   0.0088,    0.15,   0.0790,2,   0.0550,2,   0.0230,2,   0.0150,2,   0.0240,2,   0.0240,2,  17.4595,    -999,9,       -999,9,    -999,9,    -999,9
 316N200310,        A22,      67,          1,         24,         24,2,20031110,       1050,    37.1468,   -68.0673,       4902,   625.5,  15.6578,  36.1182,2,  36.1167,2,    187.4,2,   173.0,2,    3.41,2,   10.86,2,    0.01,2,    0.62,2,   2.142,2,   1.178,2,   0.028,2,    -999,9,    -999,9,   1.147,2,   1.7717,2,    5.82,2,    -999,9,    -999,9,    -999,    -999,9,    -999,9,    -999,9,  625.50,     1228,  37.1605, -68.0629,   0.014,   0.0089,    0.15,     -999,9,     -999,9,     -999,9,     -999,9,     -999,9,     -999,9,  15.5583,    -999,9,       -999,9,    -999,9,    -999,9
 316N200310,        A22,      67,          1,         23,         23,2,20031110,       1050,    37.1468,   -68.0673,       4902,   751.3,  13.0279,  35.6895,2,  35.6915,2,    143.1,2,   152.2,2,    7.10,2,   17.19,2,    0.01,2,    1.04,2,   1.577,2,   0.846,2,   0.025,2,    -999,9,    -999,9,   0.798,2,   1.7031,2,    5.16,2,    -999,9,    -999,9,    -999,    -999,9,    -999,9,    -999,9,  751.30,     1225,  37.1600, -68.0633,   0.014,   0.0085,    0.15,     -999,9,     -999,9,     -999,9,     -999,9,     -999,9,     -999,9,  12.9217,    -999,9,       -999,9,    -999,9,    -999,9
 316N200310,        A22,      67,          1,         22,         22,2,20031110,       1050,    37.1468,   -68.0673,       4902,   900.3,   9.2398,  35.1875,2,  35.1878,2,    142.1,2,   136.6,2,   14.69,2,   25.20,2,    0.01,2,    1.60,2,   0.724,2,   0.384,2,   0.028,2,    -999,9,    -999,9,   0.736,2,   1.8233,2,    8.81,2,    -999,9,    -999,9,    -999,    -999,9,    -999,9,    -999,9,  900.30,     1222,  37.1592, -68.0637,   0.012,   0.0091,    0.15,     -999,9,     -999,9,     -999,9,     -999,9,     -999,9,     -999,9,   9.1363,    -999,9,       -999,9,    -999,9,    -999,9
 316N200310,        A22,      67,          1,         21,         21,2,20031110,       1050,    37.1468,   -68.0673,       4902,  1050.7,   6.8299,  35.0943,2,  35.0941,2,    188.7,2,   187.9,2,   13.55,2,   22.07,2,    0.01,2,    1.43,2,   1.129,2,   0.566,2,   0.050,2,    -999,9,    -999,9,   0.702,2,   1.8446,2,    8.90,2,    -999,9,    -999,9,    -999,    -999,9,    -999,9,    -999,9, 1050.70,     1218,  37.1587, -68.0639,   0.012,   0.0092,    0.15,     -999,9,     -999,9,     -999,9,     -999,9,     -999,9,     -999,9,   6.7267,    -999,9,       -999,9,    -999,9,    -999,9
 316N200310,        A22,      67,          1,         20,         20,2,20031110,       1050,    37.1468,   -68.0673,       4902,  1201.6,   5.1912,  35.0260,2,  35.0266,2,    229.0,2,   230.7,2,   12.02,2,   19.31,2,    0.01,2,    1.27,2,   1.869,2,   0.939,2,   0.101,2,    -999,9,    -999,9,   0.712,2,   1.8497,2,    8.90,2,    -999,9,    -999,9,    -999,    -999,9,    -999,9,    -999,9, 1201.60,     1214,  37.1583, -68.0641,   0.012,   0.0092,    0.15,     -999,9,     -999,9,     -999,9,     -999,9,     -999,9,     -999,9,   5.0866,    -999,9,       -999,9,    -999,9,    -999,9
 316N200310,        A22,      67,          1,         19,         19,2,20031110,       1050,    37.1468,   -68.0673,       4902,  1328.3,   4.7439,  35.0105,2,  35.0116,2,    243.4,2,   243.8,2,   11.70,2,   18.66,2,    0.01,2,    1.22,2,   1.904,2,   0.963,2,   0.102,2,    -999,9,    -999,9,   0.818,2,   1.8512,2,    8.97,2,    -999,9,    -999,9,    -999,    -999,9,    -999,9,    -999,9, 1328.30,     1211,  37.1584, -68.0642,   0.012,   0.0093,    0.15,     -999,9,     -999,9,     -999,9,     -999,9,     -999,9,     -999,9,   4.6316,    -999,9,       -999,9,    -999,9,    -999,9
 316N200310,        A22,      67,          1,         18,         18,2,20031110,       1050,    37.1468,   -68.0673,       4902,  1451.6,   4.3848,  34.9855,2,  34.9860,2,    251.5,2,   253.9,2,   11.48,2,   18.21,2,    0.01,2,    1.19,2,   2.031,2,   1.014,2,   0.116,2,    -999,9,    -999,9,   0.872,2,   1.8533,2,    8.78,2,    -999,9,    -999,9,    -999,    -999,9,    -999,9,    -999,9, 1451.60,     1208,  37.1582, -68.0644,   0.013,   0.0093,    0.15,     -999,9,     -999,9,     -999,9,     -999,9,     -999,9,     -999,9,   4.2647,    -999,9,       -999,9,    -999,9,    -999,9
 316N200310,        A22,      67,          1,         17,         17,2,20031110,       1050,    37.1468,   -68.0673,       4902,  1526.9,   4.2340,  34.9738,2,  34.9746,2,    256.7,2,   257.6,2,   11.47,2,   18.05,2,    0.01,2,    1.18,2,   2.106,2,   1.047,2,   0.116,2,    -999,9,    -999,9,   0.881,2,   1.8716,2,    9.73,2,    -999,9,    -999,9,    -999,    -999,9,    -999,9,    -999,9, 1526.90,     1206,  37.1581, -68.0643,   0.013,   0.0094,    0.15,     -999,9,     -999,9,     -999,9,     -999,9,     -999,9,     -999,9,   4.1086,    -999,9,       -999,9,    -999,9,    -999,9
 316N200310,        A22,      67,          1,         16,         16,2,20031110,       1050,    37.1468,   -68.0673,       4902,  1700.4,   4.0373,  34.9651,2,  34.9656,2,    261.0,2,   262.0,2,   11.66,2,   17.95,2,    0.01,2,    1.17,2,   1.915,2,   0.952,2,   0.104,2,    -999,9,    -999,9,   0.835,2,   1.8575,2,    9.25,2,    -999,9,    -999,9,    -999,    -999,9,    -999,9,    -999,9, 1700.40,     1201,  37.1575, -68.0644,   0.013,   0.0093,    0.15,     -999,9,     -999,9,     -999,9,     -999,9,     -999,9,     -999,9,   3.8981,    -999,9,       -999,9,    -999,9,    -999,9
 316N200310,        A22,      67,          1,         15,         15,2,20031110,       1050,    37.1468,   -68.0673,       4902,  1849.6,   3.8711,  34.9531,2,  34.9538,2,    265.1,2,   265.4,2,   11.75,2,   17.80,2,    0.01,2,    1.17,2,   1.977,2,   0.971,2,   0.121,2,    -999,9,    -999,9,   0.895,2,   1.8653,2,    9.22,2,    -999,9,    -999,9,    -999,    -999,9,    -999,9,    -999,9, 1849.60,     1158,  37.1567, -68.0644,   0.013,   0.0093,    0.15,     -999,9,     -999,9,     -999,9,     -999,9,     -999,9,     -999,9,   3.7200,    -999,9,       -999,9,    -999,9,    -999,9
 316N200310,        A22,      67,          1,         14,         14,2,20031110,       1050,    37.1468,   -68.0673,       4902,  2025.1,   3.7245,  34.9496,2,  34.9504,2,    266.0,2,   267.1,2,   12.34,2,   17.75,2,    0.01,2,    1.17,2,   1.667,2,   0.817,2,   0.091,2,    -999,9,    -999,9,   0.784,2,   1.8655,2,    7.40,2,    -999,9,    -999,9,    -999,    -999,9,    -999,9,    -999,9, 2025.10,     1154,  37.1558, -68.0643,   0.012,   0.0093,    0.15,     -999,9,     -999,9,     -999,9,     -999,9,     -999,9,     -999,9,   3.5587,    -999,9,       -999,9,    -999,9,    -999,9
 316N200310,        A22,      67,          1,         13,         13,2,20031110,       1050,    37.1468,   -68.0673,       4902,  2274.8,   3.5060,  34.9385,2,  34.9390,2,    269.6,2,   270.5,2,   13.15,2,   17.59,2,    0.01,2,    1.16,2,   1.590,2,   0.784,2,   0.076,2,    -999,9,    -999,9,   0.785,2,   1.8821,2,    7.00,2,    -999,9,    -999,9,    -999,    -999,9,    -999,9,    -999,9, 2274.80,     1149,  37.1547, -68.0642,   0.012,   0.0094,    0.15,     -999,9,     -999,9,     -999,9,     -999,9,     -999,9,     -999,9,   3.3193,    -999,9,       -999,9,    -999,9,    -999,9
 316N200310,        A22,      67,          1,         12,         12,2,20031110,       1050,    37.1468,   -68.0673,       4902,  2500.7,   3.3995,  34.9438,2,  34.9435,2,    269.2,2,   268.8,2,   14.46,2,   17.75,2,    0.00,2,    1.17,2,   1.231,2,   0.608,2,   0.072,2,    -999,9,    -999,9,    -999,9,     -999,9,    -999,9,    -999,9,    -999,9,    -999,    -999,9,    -999,9,    -999,9, 2500.70,     1144,  37.1540, -68.0639,    -999,     -999,    -999,     -999,9,     -999,9,     -999,9,     -999,9,     -999,9,     -999,9,   3.1922,    -999,9,       -999,9,    -999,9,    -999,9
 316N200310,        A22,      67,          1,         11,         11,2,20031110,       1050,    37.1468,   -68.0673,       4902,  2749.6,   3.2739,  34.9544,2,  34.9555,2,    267.2,2,   264.3,2,   17.42,2,   18.10,2,    0.00,2,    1.20,2,   0.683,2,   0.334,2,   0.038,2,    -999,9,    -999,9,    -999,9,   1.8700,2,    6.61,2,    -999,9,    -999,9,    -999,    -999,9,    -999,9,    -999,9, 2749.60,     1139,  37.1531, -68.0636,    -999,   0.0094,    0.15,     -999,9,     -999,9,     -999,9,     -999,9,     -999,9,     -999,9,   3.0435,    -999,9,       -999,9,    -999,9,    -999,9
 316N200310,        A22,      67,          1,         10,         10,2,20031110,       1050,    37.1468,   -68.0673,       4902,  3000.4,   3.0618,  34.9449,2,  34.9449,2,    264.6,2,   264.8,2,   19.16,2,   18.15,2,    0.00,2,    1.21,2,   0.546,2,   0.266,2,   0.023,2,    -999,9,    -999,9,   0.328,2,   1.8906,2,    6.14,2,    -999,9,    -999,9,    -999,    -999,9,    -999,9,    -999,9, 3000.40,     1134,  37.1524, -68.0635,   0.011,   0.0095,    0.15,     -999,9,     -999,9,     -999,9,     -999,9,     -999,9,     -999,9,   2.8097,    -999,9,       -999,9,    -999,9,    -999,9
 316N200310,        A22,      67,          1,          9,          9,2,20031110,       1050,    37.1468,   -68.0673,       4902,  3200.3,   2.8390,  34.9291,2,  34.9296,2,    268.9,2,   269.1,2,   18.94,2,   17.74,2,    0.00,2,    1.18,2,   0.819,2,   0.403,2,   0.036,2,    -999,9,    -999,9,    -999,9,     -999,9,    -999,9,    -999,9,    -999,9,    -999,    -999,9,    -999,9,    -999,9, 3200.30,     1130,  37.1522, -68.0637,    -999,     -999,    -999,     -999,9,     -999,9,     -999,9,     -999,9,     -999,9,     -999,9,   2.5706,    -999,9,       -999,9,    -999,9,    -999,9
 316N200310,        A22,      67,          1,          8,          8,2,20031110,       1050,    37.1468,   -68.0673,       4902,  3399.2,   2.6610,  34.9194,2,  34.9201,2,    269.7,2,   270.4,2,   20.06,2,   17.54,2,    0.00,2,    1.18,2,   0.910,2,   0.445,2,   0.048,2,    -999,9,    -999,9,   0.424,2,   1.8891,2,    7.14,2,    -999,9,    -999,9,    -999,    -999,9,    -999,9,    -999,9, 3399.20,     1125,  37.1516, -68.0640,   0.011,   0.0094,    0.15,     -999,9,     -999,9,     -999,9,     -999,9,     -999,9,     -999,9,   2.3756,    -999,9,       -999,9,    -999,9,    -999,9
 316N200310,        A22,      67,          1,          7,          7,2,20031110,       1050,    37.1468,   -68.0673,       4902,  3600.4,   2.5220,  34.9126,2,  34.9126,2,    271.3,2,   269.5,2,   22.42,2,   17.95,2,    0.00,2,    1.20,2,   0.722,2,   0.352,2,   0.042,2,    -999,9,    -999,9,    -999,9,   1.9206,2,    7.16,2,    -999,9,    -999,9,    -999,    -999,9,    -999,9,    -999,9, 3600.40,     1121,  37.1509, -68.0643,    -999,   0.0096,    0.15,     -999,9,     -999,9,     -999,9,     -999,9,     -999,9,     -999,9,   2.2181,    -999,9,       -999,9,    -999,9,    -999,9
 316N200310,        A22,      67,          1,          6,          6,2,20031110,       1050,    37.1468,   -68.0673,       4902,  3799.9,   2.4149,  34.9043,2,  34.9048,2,    271.4,2,   270.8,2,   22.93,2,   17.84,2,    0.00,2,    1.18,2,   0.967,2,   0.477,2,   0.057,2,    -999,9,    -999,9,    -999,9,     -999,9,    -999,9,    -999,9,    -999,9,    -999,    -999,9,    -999,9,    -999,9, 3799.90,     1116,  37.1503, -68.0649,    -999,     -999,    -999,     -999,9,     -999,9,     -999,9,     -999,9,     -999,9,     -999,9,   2.0916,    -999,9,       -999,9,    -999,9,    -999,9
 316N200310,        A22,      67,          1,          5,          5,2,20031110,       1050,    37.1468,   -68.0673,       4902,  4002.5,   2.3464,  34.8989,2,  34.8991,2,    270.1,2,   270.5,2,   24.68,2,   17.84,2,    0.00,2,    1.20,2,   0.958,2,   0.477,2,   0.050,2,    -999,9,    -999,9,    -999,9,     -999,9,    -999,9,    -999,9,    -999,9,    -999,    -999,9,    -999,9,    -999,9, 4002.50,     1112,  37.1497, -68.0655,    -999,     -999,    -999,     -999,9,     -999,9,     -999,9,     -999,9,     -999,9,     -999,9,   2.0021,    -999,9,       -999,9,    -999,9,    -999,9