BOTTLE,20220517CCHSIOLMM
EXPOCODE,SECT_ID,STNNBR,CASTNO,SAMPNO,BTLNBR,BTLNBR_FLAG_W,DATE,TIME,LATITUDE,LONGITUDE,DEPTH,CTDPRS,CTDTMP,CTDSAL,CTDSAL_FLAG_W,SALNTY,SALNTY_FLAG_W,CTDOXY,CTDOXY_FLAG_W,OXYGEN,OXYGEN_FLAG_W,SILCAT,SILCAT_FLAG_W,NITRAT,NITRAT_FLAG_W,NITRIT,NITRIT_FLAG_W,PHSPHT,PHSPHT_FLAG_W,CFC-11,CFC-11_FLAG_W,CFC-12,CFC-12_FLAG_W,CFC113,CFC113_FLAG_W,TCARBN,TCARBN_FLAG_W,ALKALI,ALKALI_FLAG_W,TRITUM,TRITUM_FLAG_W,HELIUM,HELIUM_FLAG_W,DELHE3,DELHE3_FLAG_W,DELC13,DELC13_FLAG_W,DELC14,DELC14_FLAG_W,C14ERR,CCL4,CCL4_FLAG_W,DOC,DOC_FLAG_W,TDN,TDN_FLAG_W,CTDRAW,BTL_TIME,BTL_LAT,BTL_LON,TRITER,HELIER,DELHER,CDOM325,CDOM325_FLAG_W,CDOM340,CDOM340_FLAG_W,CDOM380,CDOM380_FLAG_W,CDOM412,CDOM412_FLAG_W,CDOMSL,CDOMSL_FLAG_W,CDOMSN,CDOMSN_FLAG_W,THETA,BACT,BACT_FLAG_W,PROC,PROC_FLAG_W,SYN,SYN_FLAG_W,PEUK,PEUK_FLAG_W
,,,,,,,,,,,METERS,DBAR,ITS-90,PSS-78,,PSS-78,,UMOL/KG,,UMOL/KG,,UMOL/KG,,UMOL/KG,,UMOL/KG,,UMOL/KG,,PMOL/KG,,PMOL/KG,,PMOL/KG,,UMOL/KG,,UMOL/KG,,TU,,NMOL/KG,,PERCNT,,/MILLE,,/MILLE,,/MILLE,PMOL/KG,,UMOL/KG,,UMOL/KG,,DBAR,,,,TU,NMOL/KG,PERCNT,1/M,,1/M,,1/M,,1/M,,1/NM,,1/NM,,DEG C,E8/L,,E7/L,,E6/L,,E6/L,
 316N200310,        A22,      32,          1,          3,          3,2,20031030,       1253,    19.0250,   -66.0042,       4526,  4126.1,   2.3714,  34.9006,2,  34.8983,2,    266.5,2,   266.4,2,   27.80,2,   18.43,2,    0.00,2,    1.25,2,   0.592,2,   0.301,2,   0.024,2,  2170.8,2,  2325.4,2,    -999,9,     -999,9,    -999,9,    -999,9,    -999,9,    -999,   1.033,2,   41.80,2,    -999,9, 4126.10,     1303,  19.0248, -66.0039,    -999,     -999,    -999,   0.1360,2,   0.0950,2,   0.0440,2,   0.0270,2,   0.0190,2,   0.0210,2,   2.0122,    -999,9,       -999,9,    -999,9,    -999,9
 316N200310,        A22,      32,          1,          2,          2,2,20031030,       1253,    19.0250,   -66.0042,       4526,  4375.1,   2.3112,  34.8941,2,  34.8926,2,    265.3,2,   264.7,2,   30.75,2,   18.88,2,    0.00,2,    1.28,2,   0.518,2,   0.271,2,   0.024,2,  2175.4,2,  2328.9,6,    -999,9,     -999,9,    -999,9,    -999,9,    -999,9,    -999,   0.931,2,    -999,9,    -999,9, 4375.10,     1258,  19.0249, -66.0041,    -999,     -999,    -999,     -999,9,     -999,9,     -999,9,     -999,9,     -999,9,     -999,9,   1.9247,    -999,9,       -999,9,    -999,9,    -999,9
 316N200310,        A22,      32,          1,          1,          1,2,20031030,       1253,    19.0250,   -66.0042,       4526,  4593.2,   2.3015,  34.8910,2,  34.8900,2,    263.3,2,   263.4,2,   32.38,2,   19.08,2,    0.00,2,    1.30,2,   0.475,2,   0.236,2,   0.020,2,  2176.4,2,  2333.0,2,    -999,9,     -999,9,    -999,9,    -999,9,    -999,9,    -999,   0.866,2,   43.00,2,    -999,9, 4593.20,     1253,  19.0251, -66.0042,    -999,     -999,    -999,   0.1360,2,   0.0950,2,   0.0440,2,   0.0280,2,   0.0190,2,   0.0200,2,   1.8891,    -999,9,       -999,9,    -999,9,    -999,9