BOTTLE,20220517CCHSIOLMM
EXPOCODE,SECT_ID,STNNBR,CASTNO,SAMPNO,BTLNBR,BTLNBR_FLAG_W,DATE,TIME,LATITUDE,LONGITUDE,DEPTH,CTDPRS,CTDTMP,CTDSAL,CTDSAL_FLAG_W,SALNTY,SALNTY_FLAG_W,CTDOXY,CTDOXY_FLAG_W,OXYGEN,OXYGEN_FLAG_W,SILCAT,SILCAT_FLAG_W,NITRAT,NITRAT_FLAG_W,NITRIT,NITRIT_FLAG_W,PHSPHT,PHSPHT_FLAG_W,CFC-11,CFC-11_FLAG_W,CFC-12,CFC-12_FLAG_W,CFC113,CFC113_FLAG_W,TCARBN,TCARBN_FLAG_W,ALKALI,ALKALI_FLAG_W,TRITUM,TRITUM_FLAG_W,HELIUM,HELIUM_FLAG_W,DELHE3,DELHE3_FLAG_W,DELC13,DELC13_FLAG_W,DELC14,DELC14_FLAG_W,C14ERR,CCL4,CCL4_FLAG_W,DOC,DOC_FLAG_W,TDN,TDN_FLAG_W,CTDRAW,BTL_TIME,BTL_LAT,BTL_LON,TRITER,HELIER,DELHER,CDOM325,CDOM325_FLAG_W,CDOM340,CDOM340_FLAG_W,CDOM380,CDOM380_FLAG_W,CDOM412,CDOM412_FLAG_W,CDOMSL,CDOMSL_FLAG_W,CDOMSN,CDOMSN_FLAG_W,THETA,BACT,BACT_FLAG_W,PROC,PROC_FLAG_W,SYN,SYN_FLAG_W,PEUK,PEUK_FLAG_W
,,,,,,,,,,,METERS,DBAR,ITS-90,PSS-78,,PSS-78,,UMOL/KG,,UMOL/KG,,UMOL/KG,,UMOL/KG,,UMOL/KG,,UMOL/KG,,PMOL/KG,,PMOL/KG,,PMOL/KG,,UMOL/KG,,UMOL/KG,,TU,,NMOL/KG,,PERCNT,,/MILLE,,/MILLE,,/MILLE,PMOL/KG,,UMOL/KG,,UMOL/KG,,DBAR,,,,TU,NMOL/KG,PERCNT,1/M,,1/M,,1/M,,1/M,,1/NM,,1/NM,,DEG C,E8/L,,E7/L,,E6/L,,E6/L,
 316N200310,        A22,      66,          1,         36,         36,2,20031110,       0529,    36.9065,   -67.9192,       4930,     3.7,  23.9441,  36.4224,2,  36.4208,2,    247.1,2,   206.5,2,    0.67,2,    0.04,2,    0.00,2,    0.01,2,   1.833,2,   1.136,2,   0.097,2,  2033.5,2,  2376.1,6,    -999,9,     -999,9,    -999,9,    -999,9,    -999,9,    -999,   1.697,2,   63.80,2,    4.50,2,    3.70,      723,  36.9205, -67.9421,    -999,     -999,    -999,   0.0740,2,   0.0490,2,   0.0190,2,   0.0120,2,   0.0270,2,   0.0270,2,  23.9434,    -999,9,       -999,9,    -999,9,    -999,9
 316N200310,        A22,      66,          1,         35,         35,2,20031110,       0529,    36.9065,   -67.9192,       4930,    26.3,  23.9386,  36.4230,2,  36.4210,2,    208.5,2,   206.6,2,    0.67,2,    0.04,2,    0.00,2,    0.01,2,   1.840,2,   1.106,2,   0.106,2,  2033.8,2,  2376.6,2,    -999,9,     -999,9,    -999,9,    -999,9,    -999,9,    -999,   1.661,2,    -999,9,    -999,9,   26.30,      721,  36.9203, -67.9417,    -999,     -999,    -999,     -999,9,     -999,9,     -999,9,     -999,9,     -999,9,     -999,9,  23.9331,    -999,9,       -999,9,    -999,9,    -999,9
 316N200310,        A22,      66,          1,         34,         34,2,20031110,       0529,    36.9065,   -67.9192,       4930,    49.6,  23.9621,  36.4225,2,  36.4200,2,    208.1,2,   206.6,2,    0.66,2,    0.04,2,    0.00,2,    0.01,2,   1.825,2,   1.139,2,   0.102,2,  2033.7,2,  2375.1,2,    -999,9,     -999,9,    -999,9,    -999,9,    -999,9,    -999,   1.678,2,   62.90,2,    4.40,2,   49.60,      720,  36.9201, -67.9414,    -999,     -999,    -999,   0.0750,2,   0.0500,2,   0.0190,2,   0.0130,2,   0.0270,2,   0.0270,2,  23.9516,    -999,9,       -999,9,    -999,9,    -999,9
 316N200310,        A22,      66,          1,         33,         33,2,20031110,       0529,    36.9065,   -67.9192,       4930,    74.6,  23.7296,  36.5077,2,  36.5075,2,    206.7,2,   203.8,2,    0.56,2,    0.19,2,    0.10,2,    0.01,2,   1.894,2,   1.151,2,   0.084,2,  2047.6,2,  2385.1,2,    -999,9,     -999,9,    -999,9,    -999,9,    -999,9,    -999,   1.432,2,   60.50,2,    4.50,2,   74.60,      718,  36.9197, -67.9411,    -999,     -999,    -999,   0.0940,2,   0.0640,2,   0.0260,2,   0.0170,2,   0.0240,2,   0.0250,2,  23.7139,    -999,9,       -999,9,    -999,9,    -999,9
 316N200310,        A22,      66,          1,         32,         32,2,20031110,       0529,    36.9065,   -67.9192,       4930,   100.5,  21.5979,  36.6919,2,  36.6846,2,    195.7,2,   199.6,2,    0.64,2,    1.23,2,    0.04,2,    0.06,2,   2.100,2,   1.272,2,   0.072,2,  2080.6,2,  2395.3,2,    -999,9,     -999,9,    -999,9,    -999,9,    -999,9,    -999,   0.730,2,   55.50,2,    5.20,2,  100.50,      717,  36.9195, -67.9408,    -999,     -999,    -999,   0.1260,2,   0.0900,2,   0.0400,2,   0.0280,2,   0.0180,2,   0.0200,2,  21.5781,    -999,9,       -999,9,    -999,9,    -999,9
 316N200310,        A22,      66,          1,         31,         31,2,20031110,       0529,    36.9065,   -67.9192,       4930,   125.4,  20.8421,  36.7012,2,  36.7000,2,    192.8,2,   196.1,2,    0.73,2,    1.50,2,    0.01,2,    0.07,2,   2.135,2,   1.271,2,   0.075,2,  2086.0,2,  2396.7,2,    -999,9,     -999,9,    -999,9,    -999,9,    -999,9,    -999,   0.581,2,    -999,9,    -999,9,  125.40,      716,  36.9193, -67.9406,    -999,     -999,    -999,     -999,9,     -999,9,     -999,9,     -999,9,     -999,9,     -999,9,  20.8180,    -999,9,       -999,9,    -999,9,    -999,9
 316N200310,        A22,      66,          1,         30,         30,2,20031110,       0529,    36.9065,   -67.9192,       4930,   150.5,  20.0389,  36.6709,2,  36.6695,2,    200.3,2,   197.8,2,    0.72,2,    1.66,2,    0.01,2,    0.07,2,   2.184,2,   1.317,2,   0.069,2,  2088.9,2,  2394.0,2,    -999,9,     -999,9,    -999,9,    -999,9,    -999,9,    -999,   0.584,2,   53.50,2,    5.40,2,  150.50,      714,  36.9191, -67.9403,    -999,     -999,    -999,   0.1020,2,   0.0730,2,   0.0340,2,   0.0240,2,   0.0200,2,   0.0210,2,  20.0108,    -999,9,       -999,9,    -999,9,    -999,9
 316N200310,        A22,      66,          1,         29,         29,2,20031110,       0529,    36.9065,   -67.9192,       4930,   201.0,  19.2862,  36.6376,2,  36.6364,2,    208.1,2,   204.4,2,    0.81,2,    2.11,2,    0.00,2,    0.09,2,   2.233,2,   1.333,2,   0.053,2,  2087.3,2,  2391.5,2,    -999,9,     -999,9,    -999,9,    -999,9,    -999,9,    -999,   0.554,2,   52.80,2,    5.90,2,  201.00,      713,  36.9188, -67.9399,    -999,     -999,    -999,   0.0830,2,   0.0590,2,   0.0250,2,   0.0180,2,   0.0230,2,   0.0230,2,  19.2496,    -999,9,       -999,9,    -999,9,    -999,9
 316N200310,        A22,      66,          1,         28,         28,2,20031110,       0529,    36.9065,   -67.9192,       4930,   249.5,  18.9171,  36.6037,2,  36.6023,2,    205.6,2,   205.5,2,    0.80,2,    2.45,2,    0.00,2,    0.10,2,   2.264,2,   1.366,2,   0.053,2,  2091.1,2,  2385.8,2,    -999,9,     -999,9,    -999,9,    -999,9,    -999,9,    -999,   0.616,2,   51.30,2,    6.00,2,  249.50,      711,  36.9184, -67.9395,    -999,     -999,    -999,   0.0890,2,   0.0630,2,   0.0280,2,   0.0210,2,   0.0220,2,   0.0220,2,  18.8723,    -999,9,       -999,9,    -999,9,    -999,9
 316N200310,        A22,      66,          1,         27,         27,2,20031110,       0529,    36.9065,   -67.9192,       4930,   300.9,  18.7150,  36.5951,2,  36.5934,2,    209.5,2,   211.2,2,    0.90,2,    2.50,2,    0.00,2,    0.11,2,   2.295,2,   1.365,2,   0.075,2,  2089.1,2,  2384.5,2,    -999,9,     -999,9,    -999,9,    -999,9,    -999,9,    -999,   0.720,2,   52.20,2,    6.10,2,  300.90,      709,  36.9181, -67.9391,    -999,     -999,    -999,   0.0790,2,   0.0560,2,   0.0240,2,   0.0170,2,   0.0230,2,   0.0240,2,  18.6612,    -999,9,       -999,9,    -999,9,    -999,9
 316N200310,        A22,      66,          1,         26,         26,2,20031110,       0529,    36.9065,   -67.9192,       4930,   400.2,  18.3502,  36.5576,2,  36.5571,2,    198.9,2,   206.3,2,    1.18,2,    3.48,2,    0.00,2,    0.16,2,   2.311,2,   1.372,2,   0.056,2,  2096.1,2,  2382.6,2,    -999,9,     -999,9,    -999,9,    -999,9,    -999,9,    -999,   0.677,2,   50.90,2,    -999,9,  400.20,      706,  36.9178, -67.9385,    -999,     -999,    -999,   0.0780,2,   0.0540,2,   0.0230,2,   0.0160,2,   0.0240,2,   0.0240,2,  18.2796,    -999,9,       -999,9,    -999,9,    -999,9
 316N200310,        A22,      66,          1,         25,         25,2,20031110,       0529,    36.9065,   -67.9192,       4930,   503.6,  17.3715,  36.4144,2,  36.4158,2,    192.1,2,   187.3,2,    1.97,2,    6.71,2,    0.00,2,    0.34,2,   2.281,2,   1.307,2,   0.018,2,  2115.6,2,  2373.4,2,    -999,9,     -999,9,    -999,9,    -999,9,    -999,9,    -999,   0.395,2,   49.00,2,    -999,9,  503.60,      704,  36.9176, -67.9381,    -999,     -999,    -999,   0.0820,2,   0.0570,2,   0.0240,2,   0.0160,2,   0.0240,2,   0.0240,2,  17.2857,    -999,9,       -999,9,    -999,9,    -999,9
 316N200310,        A22,      66,          1,         24,         24,2,20031110,       0529,    36.9065,   -67.9192,       4930,   628.6,  15.9007,  36.1656,2,  36.1662,2,    174.3,2,   183.7,2,    3.06,2,    9.44,2,    0.00,2,    0.53,2,   2.247,6,   1.260,6,   0.050,6,  2127.5,2,  2360.3,2,    -999,9,     -999,9,    -999,9,    -999,9,    -999,9,    -999,   0.468,2,    -999,9,    -999,9,  628.60,      700,  36.9173, -67.9376,    -999,     -999,    -999,     -999,9,     -999,9,     -999,9,     -999,9,     -999,9,     -999,9,  15.7996,    -999,9,       -999,9,    -999,9,    -999,9
 316N200310,        A22,      66,          1,         23,         23,2,20031110,       0529,    36.9065,   -67.9192,       4930,   751.8,  13.7330,  35.7999,2,  35.7997,2,    168.0,2,   159.6,2,    6.06,2,   15.33,2,    0.01,2,    0.91,2,   1.823,6,   1.003,6,   0.023,6,  2154.4,2,  2342.0,2,    -999,9,     -999,9,    -999,9,    -999,9,    -999,9,    -999,   0.366,6,   48.00,2,    -999,9,  751.80,      657,  36.9170, -67.9369,    -999,     -999,    -999,   0.1010,2,   0.0700,2,   0.0310,2,   0.0200,2,   0.0220,2,   0.0230,2,  13.6229,    -999,9,       -999,9,    -999,9,    -999,9
 316N200310,        A22,      66,          1,         22,         22,2,20031110,       0529,    36.9065,   -67.9192,       4930,   902.5,   9.7526,  35.2557,2,  35.2574,2,    144.3,2,   139.7,2,   13.22,2,   23.92,2,    0.01,2,    1.49,2,   0.930,2,   0.492,2,   0.023,2,  2185.9,2,  2320.2,6,    -999,9,     -999,9,    -999,9,    -999,9,    -999,9,    -999,   0.312,2,    -999,9,    -999,9,  902.50,      654,  36.9164, -67.9361,    -999,     -999,    -999,     -999,9,     -999,9,     -999,9,     -999,9,     -999,9,     -999,9,   9.6454,    -999,9,       -999,9,    -999,9,    -999,9
 316N200310,        A22,      66,          1,         21,         21,2,20031110,       0529,    36.9065,   -67.9192,       4930,  1050.8,   6.7676,  35.0700,2,  35.0742,2,    181.1,2,   183.9,2,   14.02,2,   22.54,2,    0.01,2,    1.46,2,   1.208,2,   0.619,2,   0.037,2,  2184.9,2,  2314.5,2,    -999,9,     -999,9,    -999,9,    -999,9,    -999,9,    -999,   0.958,2,   46.30,2,    -999,9, 1050.80,      650,  36.9158, -67.9353,    -999,     -999,    -999,   0.1220,2,   0.0850,2,   0.0390,2,   0.0260,2,   0.0190,2,   0.0210,2,   6.6649,    -999,9,       -999,9,    -999,9,    -999,9
 316N200310,        A22,      66,          1,         20,         20,2,20031110,       0529,    36.9065,   -67.9192,       4930,  1200.4,   5.1913,  35.0067,2,  35.0069,2,    227.5,2,   229.6,2,   12.09,2,   19.51,2,    0.00,2,    1.27,2,   2.067,2,   1.071,2,   0.104,2,  2172.7,2,  2309.3,2,    -999,9,     -999,9,    -999,9,    -999,9,    -999,9,    -999,   1.925,2,   42.60,2,    -999,9, 1200.40,      647,  36.9153, -67.9346,    -999,     -999,    -999,     -999,9,     -999,9,     -999,9,     -999,9,     -999,9,     -999,9,   5.0869,    -999,9,       -999,9,    -999,9,    -999,9
 316N200310,        A22,      66,          1,         19,         19,2,20031110,       0529,    36.9065,   -67.9192,       4930,  1324.9,   4.7630,  35.0003,2,  35.0026,2,    242.0,2,   242.5,2,   11.78,2,   18.75,2,    0.00,2,    1.22,2,   2.093,2,   1.075,2,   0.100,2,  2167.6,2,  2307.4,2,    -999,9,     -999,9,    -999,9,    -999,9,    -999,9,    -999,   2.107,2,    -999,9,    -999,9, 1324.90,      644,  36.9149, -67.9340,    -999,     -999,    -999,     -999,9,     -999,9,     -999,9,     -999,9,     -999,9,     -999,9,   4.6509,    -999,9,       -999,9,    -999,9,    -999,9
 316N200310,        A22,      66,          1,         18,         18,2,20031110,       0529,    36.9065,   -67.9192,       4930,  1449.2,   4.4304,  34.9835,2,  34.9835,2,    252.2,2,   252.3,2,   11.56,2,   18.24,2,    0.00,2,    1.19,2,   2.149,2,   1.112,2,   0.113,2,  2165.2,2,  2305.2,2,    -999,9,     -999,9,    -999,9,    -999,9,    -999,9,    -999,   2.294,2,   43.70,2,    -999,9, 1449.20,      641,  36.9144, -67.9334,    -999,     -999,    -999,   0.1260,2,   0.0880,2,   0.0400,2,   0.0260,2,   0.0200,2,   0.0210,2,   4.3101,    -999,9,       -999,9,    -999,9,    -999,9
 316N200310,        A22,      66,          1,         17,         17,2,20031110,       0529,    36.9065,   -67.9192,       4930,  1574.9,   4.2291,  34.9738,2,  34.9736,2,    256.3,2,   256.9,2,   11.65,2,   18.09,2,    0.00,2,    1.18,2,   2.070,2,   1.039,2,   0.104,2,  2162.2,2,  2304.4,2,    -999,9,     -999,9,    -999,9,    -999,9,    -999,9,    -999,   2.268,2,   43.40,2,    -999,9, 1574.90,      639,  36.9140, -67.9327,    -999,     -999,    -999,     -999,9,     -999,9,     -999,9,     -999,9,     -999,9,     -999,9,   4.0993,    -999,9,       -999,9,    -999,9,    -999,9
 316N200310,        A22,      66,          1,         16,         16,2,20031110,       0529,    36.9065,   -67.9192,       4930,  1699.8,   4.0925,  34.9706,2,  34.9709,2,    258.6,2,   259.9,2,   11.84,2,   18.03,2,    0.00,2,    1.17,2,   1.881,2,   0.938,2,   0.081,2,  2161.7,2,  2306.0,2,    -999,9,     -999,9,    -999,9,    -999,9,    -999,9,    -999,   2.176,2,   43.50,2,    -999,9, 1699.80,      636,  36.9138, -67.9321,    -999,     -999,    -999,   0.1240,2,   0.0860,2,   0.0390,2,   0.0250,2,   0.0200,2,   0.0210,2,   3.9526,    -999,9,       -999,9,    -999,9,    -999,9
 316N200310,        A22,      66,          1,         15,         15,2,20031110,       0529,    36.9065,   -67.9192,       4930,  1851.0,   3.8673,  34.9534,2,  34.9538,2,    263.6,2,   264.6,2,   12.04,2,   17.82,2,    0.01,2,    1.16,2,   1.882,2,   0.936,2,   0.085,2,  2160.4,2,  2309.6,2,    -999,9,     -999,9,    -999,9,    -999,9,    -999,9,    -999,   2.222,2,   44.90,2,    -999,9, 1851.00,      633,  36.9134, -67.9313,    -999,     -999,    -999,     -999,9,     -999,9,     -999,9,     -999,9,     -999,9,     -999,9,   3.7161,    -999,9,       -999,9,    -999,9,    -999,9
 316N200310,        A22,      66,          1,         14,         14,2,20031110,       0529,    36.9065,   -67.9192,       4930,  2000.0,   3.7580,  34.9497,2,  34.9494,2,    266.4,2,   265.9,2,   12.33,2,   17.77,2,    0.01,2,    1.16,2,   1.729,2,   0.854,2,   0.076,2,  2159.5,2,  2303.3,2,    -999,9,     -999,9,    -999,9,    -999,9,    -999,9,    -999,   2.146,2,   42.70,2,    -999,9, 2000.00,      630,  36.9133, -67.9306,    -999,     -999,    -999,   0.1210,2,   0.0840,2,   0.0380,2,   0.0240,2,   0.0200,2,   0.0220,2,   3.5941,    -999,9,       -999,9,    -999,9,    -999,9
 316N200310,        A22,      66,          1,         13,         13,2,20031110,       0529,    36.9065,   -67.9192,       4930,  2250.1,   3.5368,  34.9381,2,  34.9404,2,    269.7,2,   269.5,2,   13.04,2,   17.62,2,    0.01,2,    1.15,2,   1.677,2,   0.820,2,   0.070,2,  2158.4,2,  2303.8,2,    -999,9,     -999,9,    -999,9,    -999,9,    -999,9,    -999,   2.102,2,   44.20,2,    -999,9, 2250.10,      624,  36.9132, -67.9296,    -999,     -999,    -999,     -999,9,     -999,9,     -999,9,     -999,9,     -999,9,     -999,9,   3.3521,    -999,9,       -999,9,    -999,9,    -999,9
 316N200310,        A22,      66,          1,         12,         12,2,20031110,       0529,    36.9065,   -67.9192,       4930,  2501.5,   3.4071,  34.9418,2,  34.9416,2,    269.5,2,   268.4,2,   14.45,2,   17.71,2,    0.01,2,    1.16,2,   1.336,2,   0.659,2,   0.057,2,  2159.3,2,  2305.7,2,    -999,9,     -999,9,    -999,9,    -999,9,    -999,9,    -999,   1.754,2,    -999,9,    -999,9, 2501.50,      620,  36.9128, -67.9286,    -999,     -999,    -999,     -999,9,     -999,9,     -999,9,     -999,9,     -999,9,     -999,9,   3.1995,    -999,9,       -999,9,    -999,9,    -999,9
 316N200310,        A22,      66,          1,         11,         11,2,20031110,       0529,    36.9065,   -67.9192,       4930,  2750.1,   3.2684,  34.9488,2,  34.9481,2,    267.1,2,   265.4,2,   16.68,2,   17.96,2,    0.00,2,    1.18,2,   0.846,2,   0.427,2,   0.028,2,  2158.5,2,  2310.1,2,    -999,9,     -999,9,    -999,9,    -999,9,    -999,9,    -999,   1.274,2,    -999,9,    -999,9, 2750.10,      615,  36.9125, -67.9275,    -999,     -999,    -999,     -999,9,     -999,9,     -999,9,     -999,9,     -999,9,     -999,9,   3.0381,    -999,9,       -999,9,    -999,9,    -999,9
 316N200310,        A22,      66,          1,         10,         10,2,20031110,       0529,    36.9065,   -67.9192,       4930,  3000.6,   3.0698,  34.9418,2,  34.9412,2,    266.7,2,   265.5,2,   18.31,2,   18.00,2,    0.00,2,    1.18,2,   0.715,2,   0.378,2,   0.019,2,  2161.0,2,  2311.3,2,    -999,9,     -999,9,    -999,9,    -999,9,    -999,9,    -999,   1.150,2,   43.50,2,    -999,9, 3000.60,      610,  36.9121, -67.9263,    -999,     -999,    -999,   0.1240,2,   0.0870,2,   0.0400,2,   0.0250,2,   0.0200,2,   0.0210,2,   2.8175,    -999,9,       -999,9,    -999,9,    -999,9
 316N200310,        A22,      66,          1,          9,          9,2,20031110,       0529,    36.9065,   -67.9192,       4930,  3199.7,   2.9065,  34.9343,2,  34.9361,2,    266.8,2,   266.5,2,   19.63,2,   17.95,2,    0.00,2,    1.19,2,   0.662,2,   0.344,2,   0.023,2,  2162.2,2,    -999,9,    -999,9,     -999,9,    -999,9,    -999,9,    -999,9,    -999,   1.117,2,    -999,9,    -999,9, 3199.70,      606,  36.9119, -67.9255,    -999,     -999,    -999,     -999,9,     -999,9,     -999,9,     -999,9,     -999,9,     -999,9,   2.6366,    -999,9,       -999,9,    -999,9,    -999,9
 316N200310,        A22,      66,          1,          8,          8,2,20031110,       0529,    36.9065,   -67.9192,       4930,  3398.0,   2.7372,  34.9270,2,  34.9272,2,    267.1,2,   266.9,2,   21.47,2,   17.94,2,    0.00,2,    1.20,2,   0.524,2,   0.262,2,   0.015,2,  2163.9,2,  2312.0,2,    -999,9,     -999,9,    -999,9,    -999,9,    -999,9,    -999,   0.964,2,    -999,9,    -999,9, 3398.00,      602,  36.9117, -67.9248,    -999,     -999,    -999,     -999,9,     -999,9,     -999,9,     -999,9,     -999,9,     -999,9,   2.4500,    -999,9,       -999,9,    -999,9,    -999,9
 316N200310,        A22,      66,          1,          7,          7,2,20031110,       0529,    36.9065,   -67.9192,       4930,  3602.5,   2.5583,  34.9159,2,  34.9166,2,    268.1,2,   267.6,2,   23.21,2,   18.04,2,    0.00,2,    1.20,2,   0.572,2,   0.290,2,   0.017,2,  2164.3,2,  2312.8,2,    -999,9,     -999,9,    -999,9,    -999,9,    -999,9,    -999,   1.082,2,   41.80,2,    -999,9, 3602.50,      558,  36.9115, -67.9241,    -999,     -999,    -999,     -999,9,     -999,9,     -999,9,     -999,9,     -999,9,     -999,9,   2.2532,    -999,9,       -999,9,    -999,9,    -999,9
 316N200310,        A22,      66,          1,          6,          6,2,20031110,       0529,    36.9065,   -67.9192,       4930,  3798.7,   2.4375,  34.9080,2,  34.9077,2,    268.2,2,   267.8,2,   24.95,2,   17.99,2,    0.00,2,    1.21,2,   0.571,2,   0.289,2,   0.017,2,  2166.3,2,  2321.8,2,    -999,9,     -999,9,    -999,9,    -999,9,    -999,9,    -999,   1.053,2,    -999,9,    -999,9, 3798.70,      554,  36.9112, -67.9236,    -999,     -999,    -999,     -999,9,     -999,9,     -999,9,     -999,9,     -999,9,     -999,9,   2.1137,    -999,9,       -999,9,    -999,9,    -999,9
 316N200310,        A22,      66,          1,          5,          5,2,20031110,       0529,    36.9065,   -67.9192,       4930,  3997.3,   2.3436,  34.8996,2,  34.8981,2,    267.9,2,   267.8,2,   26.70,2,   18.19,2,    0.00,2,    1.22,2,   0.725,2,   0.377,2,   0.026,2,  2169.7,2,  2323.2,2,    -999,9,     -999,9,    -999,9,    -999,9,    -999,9,    -999,   1.248,2,   45.70,3,    -999,9, 3997.30,      550,  36.9104, -67.9226,    -999,     -999,    -999,   0.1270,2,   0.0880,2,   0.0400,2,   0.0250,2,   0.0200,2,   0.0210,2,   2.0000,    -999,9,       -999,9,    -999,9,    -999,9