BOTTLE,20220517CCHSIOLMM
EXPOCODE,SECT_ID,STNNBR,CASTNO,SAMPNO,BTLNBR,BTLNBR_FLAG_W,DATE,TIME,LATITUDE,LONGITUDE,DEPTH,CTDPRS,CTDTMP,CTDSAL,CTDSAL_FLAG_W,SALNTY,SALNTY_FLAG_W,CTDOXY,CTDOXY_FLAG_W,OXYGEN,OXYGEN_FLAG_W,SILCAT,SILCAT_FLAG_W,NITRAT,NITRAT_FLAG_W,NITRIT,NITRIT_FLAG_W,PHSPHT,PHSPHT_FLAG_W,CFC-11,CFC-11_FLAG_W,CFC-12,CFC-12_FLAG_W,CFC113,CFC113_FLAG_W,TCARBN,TCARBN_FLAG_W,ALKALI,ALKALI_FLAG_W,TRITUM,TRITUM_FLAG_W,HELIUM,HELIUM_FLAG_W,DELHE3,DELHE3_FLAG_W,DELC13,DELC13_FLAG_W,DELC14,DELC14_FLAG_W,C14ERR,CCL4,CCL4_FLAG_W,DOC,DOC_FLAG_W,TDN,TDN_FLAG_W,CTDRAW,BTL_TIME,BTL_LAT,BTL_LON,TRITER,HELIER,DELHER,CDOM325,CDOM325_FLAG_W,CDOM340,CDOM340_FLAG_W,CDOM380,CDOM380_FLAG_W,CDOM412,CDOM412_FLAG_W,CDOMSL,CDOMSL_FLAG_W,CDOMSN,CDOMSN_FLAG_W,THETA,BACT,BACT_FLAG_W,PROC,PROC_FLAG_W,SYN,SYN_FLAG_W,PEUK,PEUK_FLAG_W
,,,,,,,,,,,METERS,DBAR,ITS-90,PSS-78,,PSS-78,,UMOL/KG,,UMOL/KG,,UMOL/KG,,UMOL/KG,,UMOL/KG,,UMOL/KG,,PMOL/KG,,PMOL/KG,,PMOL/KG,,UMOL/KG,,UMOL/KG,,TU,,NMOL/KG,,PERCNT,,/MILLE,,/MILLE,,/MILLE,PMOL/KG,,UMOL/KG,,UMOL/KG,,DBAR,,,,TU,NMOL/KG,PERCNT,1/M,,1/M,,1/M,,1/M,,1/NM,,1/NM,,DEG C,E8/L,,E7/L,,E6/L,,E6/L,
 316N200310,        A22,      30,          1,         28,         28,2,20031030,       0449,    18.9068,   -66.0002,       2968,     2.6,  29.2105,  35.3268,2,  35.3238,2,    195.6,2,   194.1,2,    0.50,2,    0.00,2,    0.00,2,    0.01,2,   1.566,2,   0.950,2,   0.093,2,  1969.6,2,  2327.5,2,    -999,9,     -999,9,    -999,9,    -999,9,    -999,9,    -999,   1.632,2,    -999,9,    -999,9,    2.60,      603,  18.8968, -66.0079,    -999,     -999,    -999,     -999,9,     -999,9,     -999,9,     -999,9,     -999,9,     -999,9,  29.2099,    -999,9,       -999,9,    -999,9,    -999,9
 316N200310,        A22,      30,          1,         27,         27,2,20031030,       0449,    18.9068,   -66.0002,       2968,    24.6,  29.2033,  35.3328,2,  35.3297,2,    196.1,2,   194.2,2,    0.50,2,    0.00,2,    0.00,2,    0.01,2,   1.573,2,   0.953,2,   0.096,2,    -999,9,    -999,9,    -999,9,     -999,9,    -999,9,    -999,9,    -999,9,    -999,   1.660,2,    -999,9,    -999,9,   24.60,      601,  18.8970, -66.0076,    -999,     -999,    -999,     -999,9,     -999,9,     -999,9,     -999,9,     -999,9,     -999,9,  29.1973,    -999,9,       -999,9,    -999,9,    -999,9
 316N200310,        A22,      30,          1,         26,         26,2,20031030,       0449,    18.9068,   -66.0002,       2968,    50.1,  28.4379,  36.1650,2,  36.1423,2,    197.7,2,   197.4,2,    0.70,2,    0.00,2,    0.00,2,    0.01,2,   1.661,2,   1.031,2,   0.080,2,    -999,9,    -999,9,    -999,9,     -999,9,    -999,9,    -999,9,    -999,9,    -999,   1.088,2,    -999,9,    -999,9,   50.10,      600,  18.8973, -66.0073,    -999,     -999,    -999,     -999,9,     -999,9,     -999,9,     -999,9,     -999,9,     -999,9,  28.4259,    -999,9,       -999,9,    -999,9,    -999,9
 316N200310,        A22,      30,          1,         25,         25,2,20031030,       0449,    18.9068,   -66.0002,       2968,    76.1,  26.9293,  36.8266,2,  36.8212,2,    200.4,2,   200.0,2,    0.61,2,    0.00,2,    0.00,2,    0.01,2,   1.757,2,   1.084,2,   0.086,2,    -999,9,    -999,9,    -999,9,     -999,9,    -999,9,    -999,9,    -999,9,    -999,   0.950,2,    -999,9,    -999,9,   76.10,      558,  18.8975, -66.0071,    -999,     -999,    -999,     -999,9,     -999,9,     -999,9,     -999,9,     -999,9,     -999,9,  26.9118,    -999,9,       -999,9,    -999,9,    -999,9
 316N200310,        A22,      30,          1,         24,         24,2,20031030,       0449,    18.9068,   -66.0002,       2968,   100.9,  25.4654,  37.1549,2,  37.1501,2,    198.7,2,   199.6,2,    0.32,2,    0.08,2,    0.08,2,    0.01,2,   1.838,2,   1.153,2,   0.106,2,    -999,9,    -999,9,   0.802,2,   1.7302,2,   -0.91,2,    -999,9,    -999,9,    -999,   0.831,2,    -999,9,    -999,9,  100.90,      557,  18.8977, -66.0069,   0.012,   0.0087,    0.15,     -999,9,     -999,9,     -999,9,     -999,9,     -999,9,     -999,9,  25.4430,    -999,9,       -999,9,    -999,9,    -999,9
 316N200310,        A22,      30,          1,         23,         23,2,20031030,       0449,    18.9068,   -66.0002,       2968,   124.7,  24.4959,  37.2682,2,  37.2592,2,    189.3,2,   189.7,2,    0.22,2,    0.56,2,    0.04,2,    0.03,2,   1.913,2,   1.183,2,   0.117,2,    -999,9,    -999,9,   0.792,2,     -999,9,    -999,9,    -999,9,    -999,9,    -999,   0.644,2,    -999,9,    -999,9,  124.70,      556,  18.8979, -66.0066,   0.012,     -999,    -999,     -999,9,     -999,9,     -999,9,     -999,9,     -999,9,     -999,9,  24.4690,    -999,9,       -999,9,    -999,9,    -999,9
 316N200310,        A22,      30,          1,         22,         22,2,20031030,       0449,    18.9068,   -66.0002,       2968,   150.6,  22.8024,  37.1815,2,  37.1779,2,    183.6,2,   182.9,2,    0.23,2,    0.97,2,    0.03,2,    0.05,2,   2.017,2,   1.222,2,   0.102,2,    -999,9,    -999,9,   0.956,2,   1.7400,2,   -0.85,2,    -999,9,    -999,9,    -999,   0.364,2,    -999,9,    -999,9,  150.60,      554,  18.8981, -66.0064,   0.012,   0.0087,    0.15,     -999,9,     -999,9,     -999,9,     -999,9,     -999,9,     -999,9,  22.7716,    -999,9,       -999,9,    -999,9,    -999,9
 316N200310,        A22,      30,          1,         21,         21,2,20031030,       0449,    18.9068,   -66.0002,       2968,   200.0,  20.0810,  36.8415,2,  36.8454,2,    175.4,2,   177.6,2,    0.54,2,    2.87,2,    0.01,2,    0.12,2,   2.219,2,   1.312,2,   0.019,2,    -999,9,    -999,9,   1.082,2,   1.7622,2,   -0.03,2,    -999,9,    -999,9,    -999,   0.252,2,    -999,9,    -999,9,  200.00,      553,  18.8984, -66.0062,   0.013,   0.0088,    0.15,     -999,9,     -999,9,     -999,9,     -999,9,     -999,9,     -999,9,  20.0435,    -999,9,       -999,9,    -999,9,    -999,9
 316N200310,        A22,      30,          1,         20,         20,2,20031030,       0449,    18.9068,   -66.0002,       2968,   250.7,  18.4757,  36.5857,2,  36.5769,2,    186.6,2,   187.5,2,    0.94,2,    4.46,2,    0.01,2,    0.20,2,   2.349,2,   1.381,2,   0.014,2,    -999,9,    -999,9,   1.149,2,   1.7587,2,    0.25,2,    -999,9,    -999,9,    -999,   0.306,2,    -999,9,    -999,9,  250.70,      551,  18.8986, -66.0059,   0.013,   0.0088,    0.15,     -999,9,     -999,9,     -999,9,     -999,9,     -999,9,     -999,9,  18.4314,    -999,9,       -999,9,    -999,9,    -999,9
 316N200310,        A22,      30,          1,         19,         19,2,20031030,       0449,    18.9068,   -66.0002,       2968,   300.5,  17.6163,  36.4596,2,  36.4564,2,    188.3,2,   186.9,2,    1.44,2,    5.96,2,    0.01,2,    0.30,2,   2.339,2,   1.341,2,   0.018,2,    -999,9,    -999,9,   1.226,2,   1.7847,2,    1.51,2,    -999,9,    -999,9,    -999,   0.341,2,    -999,9,    -999,9,  300.50,      549,  18.8989, -66.0057,   0.013,   0.0089,    0.15,     -999,9,     -999,9,     -999,9,     -999,9,     -999,9,     -999,9,  17.5649,    -999,9,       -999,9,    -999,9,    -999,9
 316N200310,        A22,      30,          1,         18,         18,2,20031030,       0449,    18.9068,   -66.0002,       2968,   400.5,  15.7214,  36.1378,2,  36.1357,2,    167.1,2,   164.4,2,    3.44,2,   11.29,2,    0.01,2,    0.64,2,   2.122,2,   1.162,2,   0.014,2,    -999,9,    -999,9,   1.218,2,   1.7696,2,    2.67,2,    -999,9,    -999,9,    -999,   0.304,2,    -999,9,    -999,9,  400.50,      547,  18.8992, -66.0053,   0.014,   0.0088,    0.15,     -999,9,     -999,9,     -999,9,     -999,9,     -999,9,     -999,9,  15.6579,    -999,9,       -999,9,    -999,9,    -999,9
 316N200310,        A22,      30,          1,         17,         17,2,20031030,       0449,    18.9068,   -66.0002,       2968,   500.6,  13.3435,  35.7444,2,  35.7442,2,    148.1,2,   148.2,2,    6.25,2,   16.92,2,    0.01,2,    1.02,2,   1.730,2,   0.907,2,   0.017,2,    -999,9,    -999,9,   1.223,2,   1.8010,2,    6.16,2,    -999,9,    -999,9,    -999,   0.260,2,    -999,9,    -999,9,  500.60,      544,  18.8996, -66.0049,   0.013,   0.0090,    0.15,     -999,9,     -999,9,     -999,9,     -999,9,     -999,9,     -999,9,  13.2722,    -999,9,       -999,9,    -999,9,    -999,9
 316N200310,        A22,      30,          1,         16,         16,2,20031030,       0449,    18.9068,   -66.0002,       2968,   626.0,  10.3686,  35.3027,2,  35.3035,2,    134.5,2,   134.4,2,   11.76,2,   23.70,2,    0.01,2,    1.47,2,   0.915,2,   0.480,2,   0.003,2,    -999,9,    -999,9,   1.087,2,   1.7806,2,    5.84,2,    -999,9,    -999,9,    -999,   0.214,2,    -999,9,    -999,9,  626.00,      541,  18.9000, -66.0045,   0.015,   0.0089,    0.15,     -999,9,     -999,9,     -999,9,     -999,9,     -999,9,     -999,9,  10.2925,    -999,9,       -999,9,    -999,9,    -999,9
 316N200310,        A22,      30,          1,         15,         15,2,20031030,       0449,    18.9068,   -66.0002,       2968,   702.0,   8.9172,  35.1295,2,  35.1286,2,    133.4,2,   133.3,2,   15.18,2,   26.50,2,    0.01,2,    1.68,2,   0.552,2,   0.290,2,   0.002,2,    -999,9,    -999,9,   0.871,2,   1.8129,2,    7.27,2,    -999,9,    -999,9,    -999,   0.177,2,    -999,9,    -999,9,  702.00,      539,  18.9002, -66.0042,   0.012,   0.0091,    0.15,     -999,9,     -999,9,     -999,9,     -999,9,     -999,9,     -999,9,   8.8390,    -999,9,       -999,9,    -999,9,    -999,9
 316N200310,        A22,      30,          1,         14,         14,2,20031030,       0449,    18.9068,   -66.0002,       2968,   901.4,   7.1119,  35.0068,2,  35.0061,2,    150.7,2,   150.9,2,   18.31,2,   27.03,2,    0.01,2,    1.76,2,   0.313,2,   0.169,2,   0.006,2,    -999,9,    -999,9,   0.438,2,   1.7930,2,    4.79,2,    -999,9,    -999,9,    -999,   0.210,2,    -999,9,    -999,9,  901.40,      535,  18.9007, -66.0038,   0.011,   0.0090,    0.15,     -999,9,     -999,9,     -999,9,     -999,9,     -999,9,     -999,9,   7.0225,    -999,9,       -999,9,    -999,9,    -999,9
 316N200310,        A22,      30,          1,         13,         13,2,20031030,       0449,    18.9068,   -66.0002,       2968,  1050.8,   6.0724,  35.0385,2,  35.0382,2,    185.9,2,   188.5,2,   16.31,2,   23.31,2,    0.01,2,    1.52,2,   0.483,6,   0.246,6,   0.022,6,    -999,9,    -999,9,   0.219,2,   1.8218,2,    2.37,2,    -999,9,    -999,9,    -999,   0.495,2,    -999,9,    -999,9, 1050.80,      532,  18.9011, -66.0035,   0.010,   0.0091,    0.15,     -999,9,     -999,9,     -999,9,     -999,9,     -999,9,     -999,9,   5.9751,    -999,9,       -999,9,    -999,9,    -999,9
 316N200310,        A22,      30,          1,         12,         12,2,20031030,       0449,    18.9068,   -66.0002,       2968,  1200.6,   5.0799,  35.0367,2,  35.0362,2,    227.7,2,   225.8,2,   14.10,2,   20.16,2,    0.01,2,    1.32,2,   0.810,2,   0.412,2,   0.017,2,    -999,9,    -999,9,   0.203,2,   1.8228,2,    2.04,2,    -999,9,    -999,9,    -999,   1.008,2,    -999,9,    -999,9, 1200.60,      528,  18.9014, -66.0033,   0.010,   0.0091,    0.15,     -999,9,     -999,9,     -999,9,     -999,9,     -999,9,     -999,9,   4.9764,    -999,9,       -999,9,    -999,9,    -999,9
 316N200310,        A22,      30,          1,         11,         11,2,20031030,       0449,    18.9068,   -66.0002,       2968,  1325.4,   4.6430,  35.0238,2,  35.0238,2,    241.0,2,   241.3,2,   13.09,2,   18.99,2,    0.01,2,    1.25,2,   1.014,2,   0.471,2,   0.018,2,    -999,9,    -999,9,   0.280,2,   1.8509,2,    2.53,2,    -999,9,    -999,9,    -999,   1.299,2,    -999,9,    -999,9, 1325.40,      525,  18.9017, -66.0032,   0.010,   0.0093,    0.15,     -999,9,     -999,9,     -999,9,     -999,9,     -999,9,     -999,9,   4.5320,    -999,9,       -999,9,    -999,9,    -999,9
 316N200310,        A22,      30,          1,         10,         10,2,20031030,       0449,    18.9068,   -66.0002,       2968,  1450.7,   4.3208,  35.0050,2,  35.0051,2,    250.2,2,   250.6,2,   12.80,2,   18.43,2,    0.01,2,    1.21,2,   1.141,6,   0.559,6,   0.022,6,    -999,9,    -999,9,   0.389,2,   1.8200,2,    3.31,2,    -999,9,    -999,9,    -999,   1.560,6,    -999,9,    -999,9, 1450.70,      522,  18.9019, -66.0030,   0.011,   0.0091,    0.15,     -999,9,     -999,9,     -999,9,     -999,9,     -999,9,     -999,9,   4.2015,    -999,9,       -999,9,    -999,9,    -999,9
 316N200310,        A22,      30,          1,          9,          9,2,20031030,       0449,    18.9068,   -66.0002,       2968,  1550.2,   4.1448,  34.9939,2,  34.9935,2,    255.3,2,   255.4,2,   12.81,2,   18.12,2,    0.00,2,    1.20,2,   1.168,2,   0.572,2,   0.027,2,    -999,9,    -999,9,    -999,9,   1.8291,2,    4.78,2,    -999,9,    -999,9,    -999,   1.684,2,    -999,9,    -999,9, 1550.20,      520,  18.9022, -66.0029,    -999,   0.0091,    0.15,     -999,9,     -999,9,     -999,9,     -999,9,     -999,9,     -999,9,   4.0182,    -999,9,       -999,9,    -999,9,    -999,9
 316N200310,        A22,      30,          1,          8,          8,2,20031030,       0449,    18.9068,   -66.0002,       2968,  1650.7,   3.9883,  34.9841,2,  34.9841,2,    258.5,2,   258.4,2,   12.92,2,   18.03,2,    0.01,2,    1.19,2,   1.165,2,   0.566,2,   0.038,2,    -999,9,    -999,9,   0.607,2,   1.8349,2,    4.33,2,    -999,9,    -999,9,    -999,   1.687,2,    -999,9,    -999,9, 1650.70,      518,  18.9024, -66.0027,   0.012,   0.0092,    0.15,     -999,9,     -999,9,     -999,9,     -999,9,     -999,9,     -999,9,   3.8543,    -999,9,       -999,9,    -999,9,    -999,9
 316N200310,        A22,      30,          1,          7,          7,2,20031030,       0449,    18.9068,   -66.0002,       2968,  1775.3,   3.8742,  34.9769,2,  34.9756,2,    260.6,2,   260.7,2,   13.13,2,   17.93,2,    0.00,2,    1.18,2,   1.143,2,   0.562,2,   0.039,2,    -999,9,    -999,9,   0.527,2,   1.8547,2,    4.37,2,    -999,9,    -999,9,    -999,   1.693,2,    -999,9,    -999,9, 1775.30,      515,  18.9027, -66.0025,   0.012,   0.0093,    0.15,     -999,9,     -999,9,     -999,9,     -999,9,     -999,9,     -999,9,   3.7301,    -999,9,       -999,9,    -999,9,    -999,9
 316N200310,        A22,      30,          1,          6,          6,2,20031030,       0449,    18.9068,   -66.0002,       2968,  1901.0,   3.7600,  34.9736,2,  34.9719,2,    261.5,2,   261.9,2,   13.73,2,   17.93,2,    0.00,2,    1.18,2,   1.000,2,   0.508,2,   0.029,2,    -999,9,    -999,9,   0.442,2,   1.8422,2,    3.73,2,    -999,9,    -999,9,    -999,   1.565,2,    -999,9,    -999,9, 1901.00,      512,  18.9030, -66.0023,   0.012,   0.0092,    0.15,     -999,9,     -999,9,     -999,9,     -999,9,     -999,9,     -999,9,   3.6055,    -999,9,       -999,9,    -999,9,    -999,9
 316N200310,        A22,      30,          1,          5,          5,2,20031030,       0449,    18.9068,   -66.0002,       2968,  2049.1,   3.6562,  34.9682,2,  34.9671,2,    262.4,2,   262.6,2,   14.35,2,   17.88,2,    0.00,2,    1.18,2,   0.948,2,   0.472,2,   0.030,2,    -999,9,    -999,9,   0.389,2,   1.8566,2,    2.35,2,    -999,9,    -999,9,    -999,   1.489,2,    -999,9,    -999,9, 2049.10,      509,  18.9033, -66.0020,   0.012,   0.0093,    0.15,     -999,9,     -999,9,     -999,9,     -999,9,     -999,9,     -999,9,   3.4891,    -999,9,       -999,9,    -999,9,    -999,9
 316N200310,        A22,      30,          1,          4,          4,2,20031030,       0449,    18.9068,   -66.0002,       2968,  2251.1,   3.5343,  34.9664,2,  34.9660,2,    262.4,2,   262.5,2,   15.46,2,   17.99,2,    0.00,2,    1.19,2,   0.759,2,   0.394,2,   0.026,2,    -999,9,    -999,9,   0.283,2,   1.9062,2,    1.58,2,    -999,9,    -999,9,    -999,   1.279,2,    -999,9,    -999,9, 2251.10,      505,  18.9039, -66.0017,   0.011,   0.0095,    0.15,     -999,9,     -999,9,     -999,9,     -999,9,     -999,9,     -999,9,   3.3494,    -999,9,       -999,9,    -999,9,    -999,9
 316N200310,        A22,      30,          1,          3,          3,2,20031030,       0449,    18.9068,   -66.0002,       2968,  2499.4,   3.4036,  34.9641,2,  34.9634,2,    262.0,2,   262.1,2,   16.97,2,   18.14,2,    0.00,2,    1.20,2,   0.596,2,   0.294,2,   0.018,2,    -999,9,    -999,9,   0.247,2,   1.8876,2,    1.61,2,    -999,9,    -999,9,    -999,   1.040,2,    -999,9,    -999,9, 2499.40,      500,  18.9046, -66.0012,   0.011,   0.0094,    0.15,     -999,9,     -999,9,     -999,9,     -999,9,     -999,9,     -999,9,   3.1962,    -999,9,       -999,9,    -999,9,    -999,9
 316N200310,        A22,      30,          1,          2,          2,2,20031030,       0449,    18.9068,   -66.0002,       2968,  2748.4,   3.0178,  34.9461,2,  34.9457,2,    262.8,2,   263.1,2,   20.20,2,   18.25,2,    0.00,2,    1.21,2,   0.460,2,   0.229,2,   0.014,2,    -999,9,    -999,9,   0.228,2,   1.8723,2,    1.57,2,    -999,9,    -999,9,    -999,   0.843,2,    -999,9,    -999,9, 2748.40,      455,  18.9056, -66.0006,   0.011,   0.0094,    0.15,     -999,9,     -999,9,     -999,9,     -999,9,     -999,9,     -999,9,   2.7926,    -999,9,       -999,9,    -999,9,    -999,9
 316N200310,        A22,      30,          1,          1,          1,2,20031030,       0449,    18.9068,   -66.0002,       2968,  3005.4,   2.7875,  34.9320,2,  34.9313,2,    264.6,2,   264.7,2,   21.82,2,   18.20,2,    0.00,2,    1.22,2,   0.502,2,   0.250,2,   0.013,2,    -999,9,    -999,9,    -999,9,     -999,9,    -999,9,    -999,9,    -999,9,    -999,   0.895,2,    -999,9,    -999,9, 3005.40,      450,  18.9067, -66.0002,    -999,     -999,    -999,     -999,9,     -999,9,     -999,9,     -999,9,     -999,9,     -999,9,   2.5408,    -999,9,       -999,9,    -999,9,    -999,9