BOTTLE,20220517CCHSIOLMM
EXPOCODE,SECT_ID,STNNBR,CASTNO,SAMPNO,BTLNBR,BTLNBR_FLAG_W,DATE,TIME,LATITUDE,LONGITUDE,DEPTH,CTDPRS,CTDTMP,CTDSAL,CTDSAL_FLAG_W,SALNTY,SALNTY_FLAG_W,CTDOXY,CTDOXY_FLAG_W,OXYGEN,OXYGEN_FLAG_W,SILCAT,SILCAT_FLAG_W,NITRAT,NITRAT_FLAG_W,NITRIT,NITRIT_FLAG_W,PHSPHT,PHSPHT_FLAG_W,CFC-11,CFC-11_FLAG_W,CFC-12,CFC-12_FLAG_W,CFC113,CFC113_FLAG_W,TCARBN,TCARBN_FLAG_W,ALKALI,ALKALI_FLAG_W,TRITUM,TRITUM_FLAG_W,HELIUM,HELIUM_FLAG_W,DELHE3,DELHE3_FLAG_W,DELC13,DELC13_FLAG_W,DELC14,DELC14_FLAG_W,C14ERR,CCL4,CCL4_FLAG_W,DOC,DOC_FLAG_W,TDN,TDN_FLAG_W,CTDRAW,BTL_TIME,BTL_LAT,BTL_LON,TRITER,HELIER,DELHER,CDOM325,CDOM325_FLAG_W,CDOM340,CDOM340_FLAG_W,CDOM380,CDOM380_FLAG_W,CDOM412,CDOM412_FLAG_W,CDOMSL,CDOMSL_FLAG_W,CDOMSN,CDOMSN_FLAG_W,THETA,BACT,BACT_FLAG_W,PROC,PROC_FLAG_W,SYN,SYN_FLAG_W,PEUK,PEUK_FLAG_W
,,,,,,,,,,,METERS,DBAR,ITS-90,PSS-78,,PSS-78,,UMOL/KG,,UMOL/KG,,UMOL/KG,,UMOL/KG,,UMOL/KG,,UMOL/KG,,PMOL/KG,,PMOL/KG,,PMOL/KG,,UMOL/KG,,UMOL/KG,,TU,,NMOL/KG,,PERCNT,,/MILLE,,/MILLE,,/MILLE,PMOL/KG,,UMOL/KG,,UMOL/KG,,DBAR,,,,TU,NMOL/KG,PERCNT,1/M,,1/M,,1/M,,1/M,,1/NM,,1/NM,,DEG C,E8/L,,E7/L,,E6/L,,E6/L,
 316N200310,        A22,       9,          1,          4,          4,2,20031025,       1941,    12.6697,   -66.0025,       5008,  4375.7,   4.3178,  34.9776,2,  34.9789,2,    216.1,2,   216.2,2,   28.06,2,   21.88,2,    0.00,2,    1.49,2,   0.035,2,   0.033,2,   0.004,2,    -999,9,    -999,9,   0.026,2,   1.8512,2,   -1.60,2,    -999,9,    -999,9,    -999,   0.112,2,    -999,9,    -999,9, 4375.70,     1958,  12.6700, -66.0021,   0.011,   0.0093,    0.15,     -999,9,     -999,9,     -999,9,     -999,9,     -999,9,     -999,9,   3.8712,    -999,9,       -999,9,    -999,9,    -999,9
 316N200310,        A22,       9,          1,          3,          3,2,20031025,       1941,    12.6697,   -66.0025,       5008,  4626.0,   4.3519,  34.9778,2,  34.9785,2,    216.1,2,   216.1,2,   28.26,2,   21.88,2,    0.00,2,    1.49,2,   0.036,2,   0.036,2,   0.006,2,    -999,9,    -999,9,    -999,9,     -999,9,    -999,9,    -999,9,    -999,9,    -999,   0.116,2,    -999,9,    -999,9, 4626.00,     1953,  12.6699, -66.0022,    -999,     -999,    -999,     -999,9,     -999,9,     -999,9,     -999,9,     -999,9,     -999,9,   3.8714,    -999,9,       -999,9,    -999,9,    -999,9
 316N200310,        A22,       9,          1,          2,          2,2,20031025,       1941,    12.6697,   -66.0025,       5008,  4875.4,   4.3866,  34.9779,2,  34.9776,2,    215.9,2,   215.6,2,   28.46,2,   21.93,2,    0.00,2,    1.49,2,   0.039,2,   0.037,2,   0.004,2,    -999,9,    -999,9,    -999,9,   1.8628,2,   -0.83,2,    -999,9,    -999,9,    -999,   0.091,2,    -999,9,    -999,9, 4875.40,     1947,  12.6698, -66.0024,    -999,   0.0093,    0.15,     -999,9,     -999,9,     -999,9,     -999,9,     -999,9,     -999,9,   3.8715,    -999,9,       -999,9,    -999,9,    -999,9
 316N200310,        A22,       9,          1,          1,          1,2,20031025,       1941,    12.6697,   -66.0025,       5008,  5075.6,   4.4154,  34.9779,2,  34.9770,2,    215.6,2,   215.9,2,   28.45,2,   21.97,2,    0.00,2,    1.49,2,   0.038,2,   0.040,2,   0.006,2,    -999,9,    -999,9,    -999,9,     -999,9,    -999,9,    -999,9,    -999,9,    -999,   0.100,2,    -999,9,    -999,9, 5075.60,     1942,  12.6697, -66.0025,    -999,     -999,    -999,     -999,9,     -999,9,     -999,9,     -999,9,     -999,9,     -999,9,   3.8719,    -999,9,       -999,9,    -999,9,    -999,9