BOTTLE,20220517CCHSIOLMM
EXPOCODE,SECT_ID,STNNBR,CASTNO,SAMPNO,BTLNBR,BTLNBR_FLAG_W,DATE,TIME,LATITUDE,LONGITUDE,DEPTH,CTDPRS,CTDTMP,CTDSAL,CTDSAL_FLAG_W,SALNTY,SALNTY_FLAG_W,CTDOXY,CTDOXY_FLAG_W,OXYGEN,OXYGEN_FLAG_W,SILCAT,SILCAT_FLAG_W,NITRAT,NITRAT_FLAG_W,NITRIT,NITRIT_FLAG_W,PHSPHT,PHSPHT_FLAG_W,CFC-11,CFC-11_FLAG_W,CFC-12,CFC-12_FLAG_W,CFC113,CFC113_FLAG_W,TCARBN,TCARBN_FLAG_W,ALKALI,ALKALI_FLAG_W,TRITUM,TRITUM_FLAG_W,HELIUM,HELIUM_FLAG_W,DELHE3,DELHE3_FLAG_W,DELC13,DELC13_FLAG_W,DELC14,DELC14_FLAG_W,C14ERR,CCL4,CCL4_FLAG_W,DOC,DOC_FLAG_W,TDN,TDN_FLAG_W,CTDRAW,BTL_TIME,BTL_LAT,BTL_LON,TRITER,HELIER,DELHER,CDOM325,CDOM325_FLAG_W,CDOM340,CDOM340_FLAG_W,CDOM380,CDOM380_FLAG_W,CDOM412,CDOM412_FLAG_W,CDOMSL,CDOMSL_FLAG_W,CDOMSN,CDOMSN_FLAG_W,THETA,BACT,BACT_FLAG_W,PROC,PROC_FLAG_W,SYN,SYN_FLAG_W,PEUK,PEUK_FLAG_W
,,,,,,,,,,,METERS,DBAR,ITS-90,PSS-78,,PSS-78,,UMOL/KG,,UMOL/KG,,UMOL/KG,,UMOL/KG,,UMOL/KG,,UMOL/KG,,PMOL/KG,,PMOL/KG,,PMOL/KG,,UMOL/KG,,UMOL/KG,,TU,,NMOL/KG,,PERCNT,,/MILLE,,/MILLE,,/MILLE,PMOL/KG,,UMOL/KG,,UMOL/KG,,DBAR,,,,TU,NMOL/KG,PERCNT,1/M,,1/M,,1/M,,1/M,,1/NM,,1/NM,,DEG C,E8/L,,E7/L,,E6/L,,E6/L,
 316N200310,        A22,      12,          1,          4,          4,2,20031026,       1558,    14.3608,   -65.9940,       4895,  4398.9,   4.3211,  34.9778,2,  34.9785,2,    216.9,2,   216.8,2,   28.42,2,   21.95,2,    0.00,2,    1.48,2,   0.039,2,   0.029,2,   0.007,2,  2197.8,2,  2338.0,2,    -999,9,     -999,9,    -999,9,    -999,9,    -999,9,    -999,    -999,9,    -999,9,    -999,9, 4398.90,     1615,  14.3630, -65.9917,    -999,     -999,    -999,     -999,9,     -999,9,     -999,9,     -999,9,     -999,9,     -999,9,   3.8714,    -999,9,       -999,9,    -999,9,    -999,9
 316N200310,        A22,      12,          1,          3,          3,2,20031026,       1558,    14.3608,   -65.9940,       4895,  4595.5,   4.3478,  34.9778,2,  34.9776,2,    216.9,2,   216.8,2,   28.31,2,   21.95,2,    0.00,2,    1.48,2,   0.041,2,   0.030,2,   0.008,2,  2197.4,2,  2338.5,2,    -999,9,     -999,9,    -999,9,    -999,9,    -999,9,    -999,    -999,9,   40.70,2,    -999,9, 4595.50,     1611,  14.3625, -65.9925,    -999,     -999,    -999,   0.1340,2,   0.0950,2,   0.0460,2,   0.0290,2,   0.0180,2,   0.0190,2,   3.8715,    -999,9,       -999,9,    -999,9,    -999,9
 316N200310,        A22,      12,          1,          2,          2,2,20031026,       1558,    14.3608,   -65.9940,       4895,  4798.9,   4.3762,  34.9779,2,  34.9776,2,    216.8,2,   216.5,2,   28.30,2,   21.95,2,    0.00,2,    1.48,2,   0.040,2,   0.037,2,   0.006,2,  2197.2,2,  2338.5,2,   0.004,2,   1.9459,2,   -1.87,2,    -999,9,    -999,9,    -999,    -999,9,    -999,9,    -999,9, 4798.90,     1606,  14.3617, -65.9932,   0.011,   0.0097,    0.15,     -999,9,     -999,9,     -999,9,     -999,9,     -999,9,     -999,9,   3.8717,    -999,9,       -999,9,    -999,9,    -999,9
 316N200310,        A22,      12,          1,          1,          1,2,20031026,       1558,    14.3608,   -65.9940,       4895,  4965.5,   4.3998,  34.9780,2,  34.9770,2,    216.7,2,   216.7,2,   28.29,2,   21.95,2,    0.00,2,    1.48,2,   0.046,2,   0.030,2,   0.003,2,  2197.7,2,  2338.4,6,    -999,9,     -999,9,    -999,9,    -999,9,    -999,9,    -999,    -999,9,   40.70,2,    -999,9, 4965.50,     1602,  14.3611, -65.9938,    -999,     -999,    -999,   0.1460,2,   0.1040,2,   0.0510,2,   0.0330,2,   0.0170,2,   0.0180,2,   3.8720,    -999,9,       -999,9,    -999,9,    -999,9