BOTTLE,20220517CCHSIOLMM
EXPOCODE,SECT_ID,STNNBR,CASTNO,SAMPNO,BTLNBR,BTLNBR_FLAG_W,DATE,TIME,LATITUDE,LONGITUDE,DEPTH,CTDPRS,CTDTMP,CTDSAL,CTDSAL_FLAG_W,SALNTY,SALNTY_FLAG_W,CTDOXY,CTDOXY_FLAG_W,OXYGEN,OXYGEN_FLAG_W,SILCAT,SILCAT_FLAG_W,NITRAT,NITRAT_FLAG_W,NITRIT,NITRIT_FLAG_W,PHSPHT,PHSPHT_FLAG_W,CFC-11,CFC-11_FLAG_W,CFC-12,CFC-12_FLAG_W,CFC113,CFC113_FLAG_W,TCARBN,TCARBN_FLAG_W,ALKALI,ALKALI_FLAG_W,TRITUM,TRITUM_FLAG_W,HELIUM,HELIUM_FLAG_W,DELHE3,DELHE3_FLAG_W,DELC13,DELC13_FLAG_W,DELC14,DELC14_FLAG_W,C14ERR,CCL4,CCL4_FLAG_W,DOC,DOC_FLAG_W,TDN,TDN_FLAG_W,CTDRAW,BTL_TIME,BTL_LAT,BTL_LON,TRITER,HELIER,DELHER,CDOM325,CDOM325_FLAG_W,CDOM340,CDOM340_FLAG_W,CDOM380,CDOM380_FLAG_W,CDOM412,CDOM412_FLAG_W,CDOMSL,CDOMSL_FLAG_W,CDOMSN,CDOMSN_FLAG_W,THETA,BACT,BACT_FLAG_W,PROC,PROC_FLAG_W,SYN,SYN_FLAG_W,PEUK,PEUK_FLAG_W
,,,,,,,,,,,METERS,DBAR,ITS-90,PSS-78,,PSS-78,,UMOL/KG,,UMOL/KG,,UMOL/KG,,UMOL/KG,,UMOL/KG,,UMOL/KG,,PMOL/KG,,PMOL/KG,,PMOL/KG,,UMOL/KG,,UMOL/KG,,TU,,NMOL/KG,,PERCNT,,/MILLE,,/MILLE,,/MILLE,PMOL/KG,,UMOL/KG,,UMOL/KG,,DBAR,,,,TU,NMOL/KG,PERCNT,1/M,,1/M,,1/M,,1/M,,1/NM,,1/NM,,DEG C,E8/L,,E7/L,,E6/L,,E6/L,
 316N200310,        A22,      69,          1,         36,         36,9,20031110,       2208,    37.6157,   -68.3238,       4611,     3.5,  25.7725,  36.3138,2,  36.3111,2,    189.7,2,    -999,9,    1.04,2,    0.13,2,    0.00,2,    0.01,2,    -999,9,    -999,9,    -999,9,    -999,9,    -999,9,    -999,9,     -999,9,    -999,9,    -999,9,    -999,9,    -999,    -999,9,    -999,9,    -999,9,    3.50,     2359,  37.6071, -68.2654,    -999,     -999,    -999,     -999,9,     -999,9,     -999,9,     -999,9,     -999,9,     -999,9,  25.7718,    -999,9,       -999,9,    -999,9,    -999,9
 316N200310,        A22,      69,          1,         35,         35,2,20031110,       2208,    37.6157,   -68.3238,       4611,     3.5,  25.7730,  36.3138,2,  36.3144,2,    189.7,2,   203.3,2,    0.84,2,    0.13,2,    0.00,2,    0.01,2,   1.730,2,   1.041,2,   0.156,2,  2021.9,2,  2371.5,2,    -999,9,     -999,9,    -999,9,    -999,9,    -999,9,    -999,    -999,9,    -999,9,    -999,9,    3.50,     2359,  37.6071, -68.2654,    -999,     -999,    -999,   0.0870,2,   0.0590,2,   0.0250,2,   0.0170,2,   0.0240,2,   0.0250,2,  25.7723,    -999,9,       -999,9,    -999,9,    -999,9
 316N200310,        A22,      69,          1,         34,         34,2,20031110,       2208,    37.6157,   -68.3238,       4611,    25.3,  25.7893,  36.3132,2,  36.3122,2,    206.6,2,   206.6,2,    0.94,2,    0.08,2,    0.00,2,    0.01,2,   1.682,2,   1.013,2,   0.126,2,    -999,9,    -999,9,    -999,9,     -999,9,    -999,9,    -999,9,    -999,9,    -999,    -999,9,    -999,9,    -999,9,   25.30,     2358,  37.6070, -68.2668,    -999,     -999,    -999,   0.0800,2,   0.0550,2,   0.0230,2,   0.0160,2,   0.0250,2,   0.0250,2,  25.7836,    -999,9,       -999,9,    -999,9,    -999,9
 316N200310,        A22,      69,          1,         33,         33,2,20031110,       2208,    37.6157,   -68.3238,       4611,    50.7,  25.8017,  36.3132,2,  36.3144,2,    206.3,2,   205.5,2,    0.84,2,    0.07,2,    0.00,2,    0.01,2,   1.681,2,   1.017,2,   0.127,2,  2022.1,2,  2370.5,2,    -999,9,     -999,9,    -999,9,    -999,9,    -999,9,    -999,    -999,9,    -999,9,    -999,9,   50.70,     2357,  37.6069, -68.2677,    -999,     -999,    -999,   0.0970,2,   0.0680,2,   0.0320,2,   0.0220,2,   0.0210,2,   0.0220,2,  25.7904,    -999,9,       -999,9,    -999,9,    -999,9
 316N200310,        A22,      69,          1,         32,         32,2,20031110,       2208,    37.6157,   -68.3238,       4611,    74.9,  25.8032,  36.3132,2,  36.3117,2,    206.2,2,   201.5,2,    0.84,2,    0.12,2,    0.00,2,    0.01,2,   1.685,2,   1.012,2,   0.134,2,    -999,9,    -999,9,    -999,9,     -999,9,    -999,9,    -999,9,    -999,9,    -999,    -999,9,    -999,9,    -999,9,   74.90,     2356,  37.6069, -68.2687,    -999,     -999,    -999,   0.0850,2,   0.0580,2,   0.0250,2,   0.0170,2,   0.0240,2,   0.0240,2,  25.7865,    -999,9,       -999,9,    -999,9,    -999,9
 316N200310,        A22,      69,          1,         31,         31,2,20031110,       2208,    37.6157,   -68.3238,       4611,   101.0,  25.6606,  36.3655,2,  36.3667,2,    201.1,2,   200.7,2,    0.84,2,    0.18,2,    0.04,2,    0.02,2,   1.715,2,   1.031,2,   0.126,2,  2028.6,2,  2373.3,2,    -999,9,     -999,9,    -999,9,    -999,9,    -999,9,    -999,    -999,9,    -999,9,    -999,9,  101.00,     2355,  37.6069, -68.2699,    -999,     -999,    -999,   0.0840,2,   0.0570,2,   0.0240,2,   0.0160,2,   0.0240,2,   0.0250,2,  25.6382,    -999,9,       -999,9,    -999,9,    -999,9
 316N200310,        A22,      69,          1,         30,         30,2,20031110,       2208,    37.6157,   -68.3238,       4611,   122.9,  24.7585,  36.6033,2,  36.6070,2,    194.6,2,   198.0,2,    0.73,2,    0.62,2,    0.08,2,    0.04,2,   1.820,2,   1.098,2,   0.109,2,    -999,9,    -999,9,    -999,9,     -999,9,    -999,9,    -999,9,    -999,9,    -999,    -999,9,    -999,9,    -999,9,  122.90,     2354,  37.6071, -68.2713,    -999,     -999,    -999,   0.1200,2,   0.0850,2,   0.0390,2,   0.0270,2,   0.0180,2,   0.0200,2,  24.7318,    -999,9,       -999,9,    -999,9,    -999,9
 316N200310,        A22,      69,          1,         29,         29,2,20031110,       2208,    37.6157,   -68.3238,       4611,   174.9,  22.0410,  36.7726,2,  36.7762,2,    201.9,2,   193.0,2,    0.73,2,    1.30,2,    0.04,2,    0.06,2,   2.042,6,   1.212,6,   0.100,2,  2085.0,2,  2396.9,2,    -999,9,     -999,9,    -999,9,    -999,9,    -999,9,    -999,   0.513,2,    -999,9,    -999,9,  174.90,     2352,  37.6072, -68.2734,    -999,     -999,    -999,   0.1190,2,   0.0850,2,   0.0390,2,   0.0280,2,   0.0180,2,   0.0200,2,  22.0061,    -999,9,       -999,9,    -999,9,    -999,9
 316N200310,        A22,      69,          1,         28,         28,2,20031110,       2208,    37.6157,   -68.3238,       4611,   224.1,  20.2139,  36.7010,2,  36.7004,2,    182.8,2,   194.4,2,    0.73,2,    1.71,2,    0.01,2,    0.08,2,   2.142,2,   1.263,2,   0.083,2,    -999,9,    -999,9,    -999,9,     -999,9,    -999,9,    -999,9,    -999,9,    -999,    -999,9,    -999,9,    -999,9,  224.10,     2351,  37.6069, -68.2748,    -999,     -999,    -999,     -999,9,     -999,9,     -999,9,     -999,9,     -999,9,     -999,9,  20.1717,    -999,9,       -999,9,    -999,9,    -999,9
 316N200310,        A22,      69,          1,         27,         27,2,20031110,       2208,    37.6157,   -68.3238,       4611,   274.8,  19.4554,  36.6690,2,  36.6671,2,    175.3,2,   171.2,2,    1.52,2,    5.01,2,    0.00,2,    0.23,2,   2.132,2,   1.234,2,   0.024,2,  2119.5,2,  2389.0,2,    -999,9,     -999,9,    -999,9,    -999,9,    -999,9,    -999,    -999,9,    -999,9,    -999,9,  274.80,     2349,  37.6067, -68.2762,    -999,     -999,    -999,   0.1090,2,   0.0790,2,   0.0380,2,   0.0280,2,   0.0170,2,   0.0190,2,  19.4050,    -999,9,       -999,9,    -999,9,    -999,9
 316N200310,        A22,      69,          1,         26,         26,2,20031110,       2208,    37.6157,   -68.3238,       4611,   350.0,  17.9499,  36.4606,2,  36.4634,2,    155.9,2,   164.5,2,    2.41,2,    8.10,2,    0.00,2,    0.43,2,    -999,9,    -999,9,    -999,9,    -999,9,    -999,9,    -999,9,     -999,9,    -999,9,    -999,9,    -999,9,    -999,    -999,9,    -999,9,    -999,9,  350.00,     2347,  37.6067, -68.2777,    -999,     -999,    -999,   0.0980,2,   0.0700,2,   0.0320,2,   0.0240,2,   0.0200,2,   0.0210,2,  17.8891,    -999,9,       -999,9,    -999,9,    -999,9
 316N200310,        A22,      69,          1,         25,         25,2,20031110,       2208,    37.6157,   -68.3238,       4611,   448.9,  14.4960,  35.9012,2,  35.8959,2,    136.7,2,   140.0,2,    7.01,2,   16.33,2,    0.00,2,    0.98,2,   1.641,2,   0.896,2,   0.013,2,  2165.0,2,  2349.3,2,    -999,9,     -999,9,    -999,9,    -999,9,    -999,9,    -999,    -999,9,    -999,9,    -999,9,  448.90,     2345,  37.6067, -68.2794,    -999,     -999,    -999,   0.1230,2,   0.0890,2,   0.0460,2,   0.0330,2,   0.0150,2,   0.0170,2,  14.4285,    -999,9,       -999,9,    -999,9,    -999,9
 316N200310,        A22,      69,          1,         24,         24,2,20031110,       2208,    37.6157,   -68.3238,       4611,   548.4,  10.7476,  35.3595,2,  35.3638,2,    132.4,2,   132.1,2,   12.05,2,   23.18,2,    0.00,2,    1.45,2,   0.976,2,   0.518,2,   0.014,2,  2186.3,2,  2325.5,2,    -999,9,     -999,9,    -999,9,    -999,9,    -999,9,    -999,    -999,9,    -999,9,    -999,9,  548.40,     2342,  37.6068, -68.2809,    -999,     -999,    -999,   0.1290,2,   0.0920,2,   0.0480,2,   0.0350,2,   0.0150,2,   0.0170,2,  10.6796,    -999,9,       -999,9,    -999,9,    -999,9
 316N200310,        A22,      69,          1,         23,         23,2,20031110,       2208,    37.6157,   -68.3238,       4611,   678.0,   8.0801,  35.1259,2,  35.1284,2,    157.3,2,   154.2,2,   14.39,2,   24.19,2,    0.00,2,    1.54,2,   1.009,2,   0.520,2,   0.041,2,  2192.4,2,  2315.4,2,    -999,9,     -999,9,    -999,9,    -999,9,    -999,9,    -999,    -999,9,    -999,9,    -999,9,  678.00,     2339,  37.6069, -68.2827,    -999,     -999,    -999,     -999,9,     -999,9,     -999,9,     -999,9,     -999,9,     -999,9,   8.0088,    -999,9,       -999,9,    -999,9,    -999,9
 316N200310,        A22,      69,          1,         22,         22,2,20031110,       2208,    37.6157,   -68.3238,       4611,   825.1,   6.0087,  35.0443,2,  35.0457,2,    209.8,2,   204.1,2,   13.06,2,   20.98,2,    0.00,2,    1.37,2,   1.561,2,   0.782,2,   0.072,2,    -999,9,    -999,9,    -999,9,     -999,9,    -999,9,    -999,9,    -999,9,    -999,    -999,9,    -999,9,    -999,9,  825.10,     2336,  37.6071, -68.2849,    -999,     -999,    -999,   0.1530,2,   0.1100,2,   0.0550,2,   0.0380,2,   0.0150,2,   0.0170,2,   5.9339,    -999,9,       -999,9,    -999,9,    -999,9
 316N200310,        A22,      69,          1,         21,         21,2,20031110,       2208,    37.6157,   -68.3238,       4611,   975.6,   4.9579,  35.0107,2,  35.0110,2,    236.6,2,   237.6,2,   11.95,2,   18.97,2,    0.00,2,    1.24,2,   1.919,2,   0.966,2,   0.117,2,    -999,9,    -999,9,    -999,9,     -999,9,    -999,9,    -999,9,    -999,9,    -999,    -999,9,    -999,9,    -999,9,  975.60,     2332,  37.6073, -68.2869,    -999,     -999,    -999,     -999,9,     -999,9,     -999,9,     -999,9,     -999,9,     -999,9,   4.8763,    -999,9,       -999,9,    -999,9,    -999,9
 316N200310,        A22,      69,          1,         20,         20,2,20031110,       2208,    37.6157,   -68.3238,       4611,  1125.2,   4.5324,  34.9962,2,  34.9967,2,    249.8,2,   249.0,2,   11.74,2,   18.42,2,    0.00,2,    1.20,2,   1.909,2,   0.953,2,   0.104,2,    -999,9,    -999,9,    -999,9,     -999,9,    -999,9,    -999,9,    -999,9,    -999,    -999,9,    -999,9,    -999,9, 1125.20,     2329,  37.6076, -68.2889,    -999,     -999,    -999,   0.1350,2,   0.0960,2,   0.0460,2,   0.0310,2,   0.0170,2,   0.0190,2,   4.4407,    -999,9,       -999,9,    -999,9,    -999,9
 316N200310,        A22,      69,          1,         19,         19,2,20031110,       2208,    37.6157,   -68.3238,       4611,  1276.8,   4.1820,  34.9654,2,  34.9660,2,    257.4,2,   258.9,2,   11.54,2,   17.96,2,    0.00,2,    1.17,2,   2.231,2,   1.124,2,   0.126,2,    -999,9,    -999,9,    -999,9,     -999,9,    -999,9,    -999,9,    -999,9,    -999,    -999,9,    -999,9,    -999,9, 1276.80,     2325,  37.6078, -68.2907,    -999,     -999,    -999,     -999,9,     -999,9,     -999,9,     -999,9,     -999,9,     -999,9,   4.0800,    -999,9,       -999,9,    -999,9,    -999,9
 316N200310,        A22,      69,          1,         18,         18,2,20031110,       2208,    37.6157,   -68.3238,       4611,  1402.0,   4.0907,  34.9669,2,  34.9673,2,    260.3,2,   260.2,2,   11.74,2,   17.91,2,    0.00,2,    1.17,2,   1.971,2,   0.978,2,   0.115,2,    -999,9,    -999,9,    -999,9,     -999,9,    -999,9,    -999,9,    -999,9,    -999,    -999,9,    -999,9,    -999,9, 1402.00,     2322,  37.6081, -68.2921,    -999,     -999,    -999,     -999,9,     -999,9,     -999,9,     -999,9,     -999,9,     -999,9,   3.9784,    -999,9,       -999,9,    -999,9,    -999,9
 316N200310,        A22,      69,          1,         17,         17,2,20031110,       2208,    37.6157,   -68.3238,       4611,  1502.7,   3.9640,  34.9592,2,  34.9601,2,    262.3,2,   262.9,2,   11.84,2,   17.85,2,    0.00,2,    1.17,2,   1.911,2,   0.936,2,   0.111,2,    -999,9,    -999,9,    -999,9,     -999,9,    -999,9,    -999,9,    -999,9,    -999,    -999,9,    -999,9,    -999,9, 1502.70,     2319,  37.6084, -68.2934,    -999,     -999,    -999,   0.1390,2,   0.0990,2,   0.0490,2,   0.0340,2,   0.0160,2,   0.0180,2,   3.8439,    -999,9,       -999,9,    -999,9,    -999,9
 316N200310,        A22,      69,          1,         16,         16,2,20031110,       2208,    37.6157,   -68.3238,       4611,  1626.7,   3.8413,  34.9520,2,  34.9524,2,    264.9,2,   265.4,2,   12.04,2,   17.80,2,    0.00,2,    1.16,2,   1.825,2,   0.900,2,   0.094,2,    -999,9,    -999,9,    -999,9,     -999,9,    -999,9,    -999,9,    -999,9,    -999,    -999,9,    -999,9,    -999,9, 1626.70,     2316,  37.6086, -68.2948,    -999,     -999,    -999,     -999,9,     -999,9,     -999,9,     -999,9,     -999,9,     -999,9,   3.7115,    -999,9,       -999,9,    -999,9,    -999,9
 316N200310,        A22,      69,          1,         15,         15,2,20031110,       2208,    37.6157,   -68.3238,       4611,  1778.6,   3.7171,  34.9451,2,  34.9455,2,    268.8,2,   267.9,2,   12.35,2,   17.69,2,    0.00,2,    1.15,2,   1.751,2,   0.862,2,   0.090,2,    -999,9,    -999,9,    -999,9,     -999,9,    -999,9,    -999,9,    -999,9,    -999,    -999,9,    -999,9,    -999,9, 1778.60,     2312,  37.6090, -68.2967,    -999,     -999,    -999,     -999,9,     -999,9,     -999,9,     -999,9,     -999,9,     -999,9,   3.5747,    -999,9,       -999,9,    -999,9,    -999,9
 316N200310,        A22,      69,          1,         14,         14,2,20031110,       2208,    37.6157,   -68.3238,       4611,  1929.2,   3.5923,  34.9397,2,  34.9400,2,    268.4,2,   269.1,2,   12.75,2,   17.60,2,    0.00,2,    1.15,2,   1.691,2,   0.828,2,   0.090,2,    -999,9,    -999,9,    -999,9,     -999,9,    -999,9,    -999,9,    -999,9,    -999,    -999,9,    -999,9,    -999,9, 1929.20,     2308,  37.6094, -68.2985,    -999,     -999,    -999,     -999,9,     -999,9,     -999,9,     -999,9,     -999,9,     -999,9,   3.4377,    -999,9,       -999,9,    -999,9,    -999,9
 316N200310,        A22,      69,          1,         13,         13,2,20031110,       2208,    37.6157,   -68.3238,       4611,  2129.1,   3.5057,  34.9429,2,  34.9433,2,    268.9,2,   269.1,2,   13.56,2,   17.69,2,    0.00,2,    1.16,2,   1.475,2,   0.714,2,   0.088,2,    -999,9,    -999,9,    -999,9,     -999,9,    -999,9,    -999,9,    -999,9,    -999,    -999,9,    -999,9,    -999,9, 2129.10,     2303,  37.6097, -68.3007,    -999,     -999,    -999,   0.1330,2,   0.0940,2,   0.0450,2,   0.0300,2,   0.0170,2,   0.0190,2,   3.3333,    -999,9,       -999,9,    -999,9,    -999,9
 316N200310,        A22,      69,          1,         12,         12,2,20031110,       2208,    37.6157,   -68.3238,       4611,  2377.6,   3.3368,  34.9437,2,  34.9443,2,    268.0,2,   268.3,2,   15.18,2,   17.73,2,    0.00,2,    1.16,2,   1.143,2,   0.548,2,   0.059,2,    -999,9,    -999,9,    -999,9,     -999,9,    -999,9,    -999,9,    -999,9,    -999,    -999,9,    -999,9,    -999,9, 2377.60,     2258,  37.6104, -68.3032,    -999,     -999,    -999,     -999,9,     -999,9,     -999,9,     -999,9,     -999,9,     -999,9,   3.1429,    -999,9,       -999,9,    -999,9,    -999,9
 316N200310,        A22,      69,          1,         11,         11,2,20031110,       2208,    37.6157,   -68.3238,       4611,  2628.3,   3.1283,  34.9428,2,  34.9429,2,    266.4,2,   266.7,2,   17.31,2,   17.88,2,    0.00,2,    1.18,2,   0.814,2,   0.393,2,   0.037,2,    -999,9,    -999,9,    -999,9,     -999,9,    -999,9,    -999,9,    -999,9,    -999,    -999,9,    -999,9,    -999,9, 2628.30,     2252,  37.6109, -68.3057,    -999,     -999,    -999,     -999,9,     -999,9,     -999,9,     -999,9,     -999,9,     -999,9,   2.9132,    -999,9,       -999,9,    -999,9,    -999,9
 316N200310,        A22,      69,          1,         10,         10,2,20031110,       2208,    37.6157,   -68.3238,       4611,  2876.8,   2.9077,  34.9337,2,  34.9339,2,    267.6,2,   267.9,2,   18.74,2,   17.77,2,    0.00,2,    1.18,2,   0.761,2,   0.366,2,   0.028,2,    -999,9,    -999,9,    -999,9,     -999,9,    -999,9,    -999,9,    -999,9,    -999,    -999,9,    -999,9,    -999,9, 2876.80,     2247,  37.6114, -68.3080,    -999,     -999,    -999,     -999,9,     -999,9,     -999,9,     -999,9,     -999,9,     -999,9,   2.6717,    -999,9,       -999,9,    -999,9,    -999,9
 316N200310,        A22,      69,          1,          9,          9,2,20031110,       2208,    37.6157,   -68.3238,       4611,  3101.0,   2.7016,  34.9211,2,  34.9225,2,    269.6,2,   270.9,2,   19.25,2,   17.57,2,    0.00,2,    1.16,2,   0.988,2,   0.486,2,   0.044,2,    -999,9,    -999,9,    -999,9,     -999,9,    -999,9,    -999,9,    -999,9,    -999,    -999,9,    -999,9,    -999,9, 3101.00,     2242,  37.6119, -68.3100,    -999,     -999,    -999,   0.1430,2,   0.1030,2,   0.0520,2,   0.0350,2,   0.0160,2,   0.0180,2,   2.4469,    -999,9,       -999,9,    -999,9,    -999,9
 316N200310,        A22,      69,          1,          8,          8,2,20031110,       2208,    37.6157,   -68.3238,       4611,  3301.7,   2.5450,  34.9129,2,  34.9134,2,    270.7,2,   271.5,2,   20.48,2,   17.52,2,    0.00,2,    1.16,2,   1.022,2,   0.504,2,   0.053,2,    -999,9,    -999,9,    -999,9,     -999,9,    -999,9,    -999,9,    -999,9,    -999,    -999,9,    -999,9,    -999,9, 3301.70,     2238,  37.6123, -68.3120,    -999,     -999,    -999,     -999,9,     -999,9,     -999,9,     -999,9,     -999,9,     -999,9,   2.2727,    -999,9,       -999,9,    -999,9,    -999,9
 316N200310,        A22,      69,          1,          7,          7,2,20031110,       2208,    37.6157,   -68.3238,       4611,  3501.9,   2.4166,  34.9050,2,  34.9048,2,    271.8,2,   272.2,2,   21.81,2,   17.56,2,    0.00,2,    1.17,2,   1.123,2,   0.554,2,   0.068,2,    -999,9,    -999,9,    -999,9,     -999,9,    -999,9,    -999,9,    -999,9,    -999,    -999,9,    -999,9,    -999,9, 3501.90,     2233,  37.6128, -68.3139,    -999,     -999,    -999,     -999,9,     -999,9,     -999,9,     -999,9,     -999,9,     -999,9,   2.1261,    -999,9,       -999,9,    -999,9,    -999,9
 316N200310,        A22,      69,          1,          6,          6,2,20031110,       2208,    37.6157,   -68.3238,       4611,  3701.0,   2.3262,  34.8989,2,  34.8989,2,    271.6,2,   271.6,2,   23.76,2,   17.75,2,    0.00,2,    1.18,2,   1.111,2,   0.542,2,   0.060,2,    -999,9,    -999,9,    -999,9,     -999,9,    -999,9,    -999,9,    -999,9,    -999,    -999,9,    -999,9,    -999,9, 3701.00,     2229,  37.6133, -68.3156,    -999,     -999,    -999,     -999,9,     -999,9,     -999,9,     -999,9,     -999,9,     -999,9,   2.0163,    -999,9,       -999,9,    -999,9,    -999,9
 316N200310,        A22,      69,          1,          5,          5,2,20031110,       2208,    37.6157,   -68.3238,       4611,  3899.8,   2.2858,  34.8956,2,  34.8955,2,    269.6,2,   268.4,2,   27.56,2,   18.25,2,    0.00,2,    1.23,2,   0.811,2,   0.401,2,   0.044,2,    -999,9,    -999,9,    -999,9,     -999,9,    -999,9,    -999,9,    -999,9,    -999,    -999,9,    -999,9,    -999,9, 3899.80,     2225,  37.6137, -68.3172,    -999,     -999,    -999,   0.1410,3,   0.1010,3,   0.0490,3,   0.0320,3,   0.0170,3,   0.0190,3,   1.9548,    -999,9,       -999,9,    -999,9,    -999,9