BOTTLE,20220517CCHSIOLMM
EXPOCODE,SECT_ID,STNNBR,CASTNO,SAMPNO,BTLNBR,BTLNBR_FLAG_W,DATE,TIME,LATITUDE,LONGITUDE,DEPTH,CTDPRS,CTDTMP,CTDSAL,CTDSAL_FLAG_W,SALNTY,SALNTY_FLAG_W,CTDOXY,CTDOXY_FLAG_W,OXYGEN,OXYGEN_FLAG_W,SILCAT,SILCAT_FLAG_W,NITRAT,NITRAT_FLAG_W,NITRIT,NITRIT_FLAG_W,PHSPHT,PHSPHT_FLAG_W,CFC-11,CFC-11_FLAG_W,CFC-12,CFC-12_FLAG_W,CFC113,CFC113_FLAG_W,TCARBN,TCARBN_FLAG_W,ALKALI,ALKALI_FLAG_W,TRITUM,TRITUM_FLAG_W,HELIUM,HELIUM_FLAG_W,DELHE3,DELHE3_FLAG_W,DELC13,DELC13_FLAG_W,DELC14,DELC14_FLAG_W,C14ERR,CCL4,CCL4_FLAG_W,DOC,DOC_FLAG_W,TDN,TDN_FLAG_W,CTDRAW,BTL_TIME,BTL_LAT,BTL_LON,TRITER,HELIER,DELHER,CDOM325,CDOM325_FLAG_W,CDOM340,CDOM340_FLAG_W,CDOM380,CDOM380_FLAG_W,CDOM412,CDOM412_FLAG_W,CDOMSL,CDOMSL_FLAG_W,CDOMSN,CDOMSN_FLAG_W,THETA,BACT,BACT_FLAG_W,PROC,PROC_FLAG_W,SYN,SYN_FLAG_W,PEUK,PEUK_FLAG_W
,,,,,,,,,,,METERS,DBAR,ITS-90,PSS-78,,PSS-78,,UMOL/KG,,UMOL/KG,,UMOL/KG,,UMOL/KG,,UMOL/KG,,UMOL/KG,,PMOL/KG,,PMOL/KG,,PMOL/KG,,UMOL/KG,,UMOL/KG,,TU,,NMOL/KG,,PERCNT,,/MILLE,,/MILLE,,/MILLE,PMOL/KG,,UMOL/KG,,UMOL/KG,,DBAR,,,,TU,NMOL/KG,PERCNT,1/M,,1/M,,1/M,,1/M,,1/NM,,1/NM,,DEG C,E8/L,,E7/L,,E6/L,,E6/L,
 316N200310,        A22,      49,          1,         35,         35,2,20031104,       1343,    28.8968,   -65.9972,       5224,     2.5,  26.3589,  36.6480,2,  36.6457,2,    202.6,2,   201.6,2,    0.52,2,    0.30,2,    0.00,2,    0.02,2,   1.677,2,   1.037,2,   0.152,2,  2030.9,2,  2394.7,2,    -999,9,     -999,9,    -999,9,    1.30,2,    83.0,2,     2.9,    -999,9,    -999,9,    -999,9,    2.50,     1549,  28.9127, -65.9921,    -999,     -999,    -999,   0.0490,2,   0.0310,2,   0.0100,2,   0.0070,2,   0.0300,2,   0.0300,2,  26.3584,    -999,9,       -999,9,    -999,9,    -999,9
 316N200310,        A22,      49,          1,         34,         34,2,20031104,       1343,    28.8968,   -65.9972,       5224,    24.8,  26.2159,  36.7779,2,  36.7766,2,    203.6,2,   202.9,2,    0.50,2,    0.25,2,    0.00,2,    0.01,2,   1.640,2,   1.026,2,   0.147,2,  2037.6,2,  2402.2,2,    -999,9,     -999,9,    -999,9,    -999,9,    -999,9,    -999,    -999,9,    -999,9,    -999,9,   24.80,     1548,  28.9126, -65.9922,    -999,     -999,    -999,   0.0450,2,   0.0270,2,   0.0070,2,   0.0040,2,   0.0340,2,   0.0340,2,  26.2103,    -999,9,       -999,9,    -999,9,    -999,9
 316N200310,        A22,      49,          1,         33,         33,2,20031104,       1343,    28.8968,   -65.9972,       5224,    49.7,  26.1975,  36.7782,2,  36.7792,2,    204.3,2,   203.8,2,    0.49,2,    0.15,2,    0.00,2,    0.01,2,   1.699,2,   1.051,2,   0.147,2,  2037.9,2,  2401.2,2,    -999,9,     -999,9,    -999,9,    -999,9,    -999,9,    -999,    -999,9,    -999,9,    -999,9,   49.70,     1546,  28.9124, -65.9923,    -999,     -999,    -999,   0.0470,2,   0.0290,2,   0.0090,2,   0.0060,2,   0.0330,2,   0.0330,2,  26.1863,    -999,9,       -999,9,    -999,9,    -999,9
 316N200310,        A22,      49,          1,         32,         32,2,20031104,       1343,    28.8968,   -65.9972,       5224,    74.3,  23.5267,  36.8718,2,  36.8705,2,    225.2,2,   228.5,2,    0.37,2,    0.20,2,    0.00,2,    0.01,2,   2.035,2,   1.214,2,   0.171,2,    -999,9,    -999,9,    -999,9,     -999,9,    -999,9,    -999,9,    -999,9,    -999,    -999,9,    -999,9,    -999,9,   74.30,     1544,  28.9122, -65.9924,    -999,     -999,    -999,   0.1390,2,   0.0930,2,   0.0370,2,   0.0230,2,   0.0230,2,   0.0250,2,  23.5112,    -999,9,       -999,9,    -999,9,    -999,9
 316N200310,        A22,      49,          1,         31,         31,2,20031104,       1343,    28.8968,   -65.9972,       5224,   100.4,  21.4904,  36.7834,2,  36.7790,2,    218.3,2,   214.9,2,    0.36,2,    0.15,2,    0.00,2,    0.01,2,   2.108,2,   1.258,2,   0.171,2,  2073.2,2,  2401.7,2,    -999,9,     -999,9,    -999,9,    -999,9,    -999,9,    -999,    -999,9,    -999,9,    -999,9,  100.40,     1542,  28.9119, -65.9926,    -999,     -999,    -999,   0.1480,2,   0.1040,2,   0.0450,2,   0.0300,2,   0.0190,2,   0.0210,2,  21.4707,    -999,9,       -999,9,    -999,9,    -999,9
 316N200310,        A22,      49,          1,         30,         30,2,20031104,       1343,    28.8968,   -65.9972,       5224,   125.8,  20.2417,  36.7224,2,  36.7205,2,    201.9,2,   201.5,2,    0.44,2,    0.24,2,    0.07,2,    0.01,2,   2.127,2,   1.270,2,   0.138,2,    -999,9,    -999,9,    -999,9,     -999,9,    -999,9,    -999,9,    -999,9,    -999,    -999,9,    -999,9,    -999,9,  125.80,     1540,  28.9117, -65.9927,    -999,     -999,    -999,   0.1340,2,   0.0980,2,   0.0470,2,   0.0340,2,   0.0160,2,   0.0180,2,  20.2180,    -999,9,       -999,9,    -999,9,    -999,9
 316N200310,        A22,      49,          1,         29,         29,2,20031104,       1343,    28.8968,   -65.9972,       5224,   175.6,  19.1661,  36.6363,2,  36.6334,2,    197.7,2,   200.7,2,    0.62,2,    2.34,2,    0.01,2,    0.07,2,   2.242,6,   1.299,6,   0.065,2,  2093.3,2,  2391.7,2,    -999,9,     -999,9,    -999,9,    -999,9,    -999,9,    -999,   0.538,2,    -999,9,    -999,9,  175.60,     1539,  28.9114, -65.9930,    -999,     -999,    -999,   0.1010,2,   0.0730,2,   0.0360,2,   0.0270,2,   0.0180,2,   0.0190,2,  19.1343,    -999,9,       -999,9,    -999,9,    -999,9
 316N200310,        A22,      49,          1,         28,         28,2,20031104,       1343,    28.8968,   -65.9972,       5224,   224.8,  18.8463,  36.6042,2,  36.6023,2,    204.2,2,   207.1,2,    0.81,2,    2.76,2,    0.00,2,    0.10,2,   2.289,2,   1.344,2,   0.082,2,    -999,9,    -999,9,    -999,9,     -999,9,    -999,9,    -999,9,    -999,9,    -999,    -999,9,    -999,9,    -999,9,  224.80,     1537,  28.9112, -65.9934,    -999,     -999,    -999,     -999,9,     -999,9,     -999,9,     -999,9,     -999,9,     -999,9,  18.8060,    -999,9,       -999,9,    -999,9,    -999,9
 316N200310,        A22,      49,          1,         27,         27,2,20031104,       1343,    28.8968,   -65.9972,       5224,   274.1,  18.5887,  36.5844,2,  36.5823,2,    202.0,2,   200.7,2,    0.90,2,    3.66,2,    0.00,2,    0.15,2,   2.328,2,   1.358,2,   0.072,2,    -999,9,    -999,9,    -999,9,     -999,9,    -999,9,    -999,9,    -999,9,    -999,    -999,9,    -999,9,    -999,9,  274.10,     1535,  28.9109, -65.9938,    -999,     -999,    -999,     -999,9,     -999,9,     -999,9,     -999,9,     -999,9,     -999,9,  18.5400,    -999,9,       -999,9,    -999,9,    -999,9
 316N200310,        A22,      49,          1,         26,         26,2,20031104,       1343,    28.8968,   -65.9972,       5224,   350.0,  17.9791,  36.5129,2,  36.5103,2,    194.5,2,   192.8,2,    1.28,2,    5.38,2,    0.00,2,    0.23,2,   2.283,2,   1.302,2,   0.025,2,  2106.3,2,    -999,9,    -999,9,     -999,9,    -999,9,    -999,9,    -999,9,    -999,    -999,9,    -999,9,    -999,9,  350.00,     1533,  28.9107, -65.9943,    -999,     -999,    -999,     -999,9,     -999,9,     -999,9,     -999,9,     -999,9,     -999,9,  17.9182,    -999,9,       -999,9,    -999,9,    -999,9
 316N200310,        A22,      49,          1,         25,         25,2,20031104,       1343,    28.8968,   -65.9972,       5224,   450.2,  17.1605,  36.3910,2,  36.3879,2,    192.2,2,   192.3,2,    1.87,2,    7.03,2,    0.00,2,    0.34,2,   2.325,2,   1.312,2,   0.038,2,    -999,9,    -999,9,    -999,9,     -999,9,    -999,9,    -999,9,    -999,9,    -999,    -999,9,    -999,9,    -999,9,  450.20,     1530,  28.9104, -65.9944,    -999,     -999,    -999,     -999,9,     -999,9,     -999,9,     -999,9,     -999,9,     -999,9,  17.0845,    -999,9,       -999,9,    -999,9,    -999,9
 316N200310,        A22,      49,          1,         24,         24,2,20031104,       1343,    28.8968,   -65.9972,       5224,   575.3,  14.7985,  35.9811,2,  35.9793,2,    172.6,2,   171.3,2,    4.24,2,   12.71,2,    0.00,2,    0.70,2,   2.071,2,   1.128,2,   0.042,2,    -999,9,    -999,9,    -999,9,     -999,9,    -999,9,    -999,9,    -999,9,    -999,    -999,9,    -999,9,    -999,9,  575.30,     1527,  28.9101, -65.9946,    -999,     -999,    -999,     -999,9,     -999,9,     -999,9,     -999,9,     -999,9,     -999,9,  14.7105,    -999,9,       -999,9,    -999,9,    -999,9
 316N200310,        A22,      49,          1,         23,         23,2,20031104,       1343,    28.8968,   -65.9972,       5224,   700.5,  11.9912,  35.5543,2,  35.5549,2,    154.4,2,   154.8,2,    8.33,2,   18.58,2,    0.00,2,    1.11,2,   1.507,2,   0.813,2,   0.033,2,  2165.2,2,  2342.0,2,    -999,9,     -999,9,    -999,9,    -999,9,    -999,9,    -999,    -999,9,    -999,9,    -999,9,  700.50,     1524,  28.9098, -65.9948,    -999,     -999,    -999,     -999,9,     -999,9,     -999,9,     -999,9,     -999,9,     -999,9,  11.8974,    -999,9,       -999,9,    -999,9,    -999,9
 316N200310,        A22,      49,          1,         22,         22,2,20031104,       1343,    28.8968,   -65.9972,       5224,   824.4,   9.3533,  35.2589,2,  35.2578,2,    152.2,2,   151.8,2,   12.53,2,   22.69,2,    0.00,2,    1.43,2,   0.863,2,   0.448,2,   0.025,2,  2181.8,2,  2330.0,2,    -999,9,     -999,9,    -999,9,    -999,9,    -999,9,    -999,    -999,9,    -999,9,    -999,9,  824.40,     1521,  28.9094, -65.9948,    -999,     -999,    -999,     -999,9,     -999,9,     -999,9,     -999,9,     -999,9,     -999,9,   9.2581,    -999,9,       -999,9,    -999,9,    -999,9
 316N200310,        A22,      49,          1,         21,         21,2,20031104,       1343,    28.8968,   -65.9972,       5224,   985.8,   6.7897,  35.0902,2,  35.0902,2,    174.4,2,   178.3,2,   15.33,2,   23.18,2,    0.00,2,    1.50,2,   0.560,2,   0.278,2,   0.011,2,  2185.2,2,  2321.6,2,    -999,9,     -999,9,    -999,9,    -999,9,    -999,9,    -999,    -999,9,    -999,9,    -999,9,  985.80,     1517,  28.9090, -65.9947,    -999,     -999,    -999,     -999,9,     -999,9,     -999,9,     -999,9,     -999,9,     -999,9,   6.6935,    -999,9,       -999,9,    -999,9,    -999,9
 316N200310,        A22,      49,          1,         20,         20,2,20031104,       1343,    28.8968,   -65.9972,       5224,  1152.0,   5.8377,  35.1148,2,  35.1191,2,    212.1,2,   212.6,2,   13.51,2,   20.50,2,    0.00,2,    1.31,2,   0.803,2,   0.403,2,   0.033,2,    -999,9,    -999,9,    -999,9,     -999,9,    -999,9,    -999,9,    -999,9,    -999,    -999,9,    -999,9,    -999,9, 1152.00,     1513,  28.9087, -65.9943,    -999,     -999,    -999,     -999,9,     -999,9,     -999,9,     -999,9,     -999,9,     -999,9,   5.7321,    -999,9,       -999,9,    -999,9,    -999,9
 316N200310,        A22,      49,          1,         19,         19,2,20031104,       1343,    28.8968,   -65.9972,       5224,  1274.6,   5.3074,  35.1017,2,  35.1020,2,    228.7,2,   227.6,2,   13.09,2,   19.61,2,    0.00,2,    1.26,2,   0.738,2,   0.375,2,   0.032,2,    -999,9,    -999,9,    -999,9,     -999,9,    -999,9,    -999,9,    -999,9,    -999,    -999,9,    -999,9,    -999,9, 1274.60,     1510,  28.9086, -65.9950,    -999,     -999,    -999,     -999,9,     -999,9,     -999,9,     -999,9,     -999,9,     -999,9,   5.1945,    -999,9,       -999,9,    -999,9,    -999,9
 316N200310,        A22,      49,          1,         18,         18,2,20031104,       1343,    28.8968,   -65.9972,       5224,  1424.2,   4.8207,  35.0786,2,  35.0797,2,    240.2,2,   239.8,2,   13.27,2,   19.04,2,    0.00,2,    1.22,2,   0.724,2,   0.361,2,   0.025,2,    -999,9,    -999,9,    -999,9,     -999,9,    -999,9,    -999,9,    -999,9,    -999,    -999,9,    -999,9,    -999,9, 1424.20,     1507,  28.9084, -65.9959,    -999,     -999,    -999,     -999,9,     -999,9,     -999,9,     -999,9,     -999,9,     -999,9,   4.6984,    -999,9,       -999,9,    -999,9,    -999,9
 316N200310,        A22,      49,          1,         17,         17,2,20031104,       1343,    28.8968,   -65.9972,       5224,  1577.6,   4.4559,  35.0554,2,  35.0555,2,    248.4,2,   245.9,2,   14.07,2,   18.77,2,    0.00,2,    1.21,2,   0.578,2,   0.292,2,   0.020,2,    -999,9,    -999,9,    -999,9,     -999,9,    -999,9,    -999,9,    -999,9,    -999,    -999,9,    -999,9,    -999,9, 1577.60,     1503,  28.9083, -65.9972,    -999,     -999,    -999,     -999,9,     -999,9,     -999,9,     -999,9,     -999,9,     -999,9,   4.3230,    -999,9,       -999,9,    -999,9,    -999,9
 316N200310,        A22,      49,          1,         16,         16,2,20031104,       1343,    28.8968,   -65.9972,       5224,  1726.6,   4.1259,  35.0263,2,  35.0342,3,    253.0,2,   252.0,2,   14.56,2,   18.44,2,    0.00,2,    1.20,2,   0.631,2,   0.307,2,   0.038,2,    -999,9,    -999,9,    -999,9,     -999,9,    -999,9,    -999,9,    -999,9,    -999,    -999,9,    -999,9,    -999,9, 1726.60,     1459,  28.9083, -65.9977,    -999,     -999,    -999,     -999,9,     -999,9,     -999,9,     -999,9,     -999,9,     -999,9,   3.9830,    -999,9,       -999,9,    -999,9,    -999,9
 316N200310,        A22,      49,          1,         15,         15,2,20031104,       1343,    28.8968,   -65.9972,       5224,  1901.7,   3.7884,  34.9937,2,  34.9949,2,    254.4,2,   257.7,2,   15.14,2,   18.30,2,    0.00,2,    1.19,2,   0.676,2,   0.334,2,   0.046,2,    -999,9,    -999,9,    -999,9,     -999,9,    -999,9,    -999,9,    -999,9,    -999,    -999,9,    -999,9,    -999,9, 1901.70,     1455,  28.9079, -65.9969,    -999,     -999,    -999,     -999,9,     -999,9,     -999,9,     -999,9,     -999,9,     -999,9,   3.6334,    -999,9,       -999,9,    -999,9,    -999,9
 316N200310,        A22,      49,          1,         14,         14,2,20031104,       1343,    28.8968,   -65.9972,       5224,  2126.3,   3.5494,  34.9873,2,  34.9880,2,    254.0,2,     0.0,4,   17.85,2,   18.54,2,    0.00,2,    1.21,2,   0.334,2,   0.162,2,   0.018,2,    -999,9,    -999,9,    -999,9,     -999,9,    -999,9,    -999,9,    -999,9,    -999,    -999,9,    -999,9,    -999,9, 2126.30,     1450,  28.9075, -65.9962,    -999,     -999,    -999,     -999,9,     -999,9,     -999,9,     -999,9,     -999,9,     -999,9,   3.3764,    -999,9,       -999,9,    -999,9,    -999,9
 316N200310,        A22,      49,          1,         13,         13,2,20031104,       1343,    28.8968,   -65.9972,       5224,  2376.6,   3.2485,  34.9692,2,  34.9703,2,    258.4,2,   257.0,2,   20.77,2,   18.79,2,    0.00,2,    1.23,2,   0.214,2,   0.107,2,   0.008,2,    -999,9,    -999,9,    -999,9,     -999,9,    -999,9,    -999,9,    -999,9,    -999,    -999,9,    -999,9,    -999,9, 2376.60,     1444,  28.9069, -65.9957,    -999,     -999,    -999,     -999,9,     -999,9,     -999,9,     -999,9,     -999,9,     -999,9,   3.0562,    -999,9,       -999,9,    -999,9,    -999,9
 316N200310,        A22,      49,          1,         12,         12,2,20031104,       1343,    28.8968,   -65.9972,       5224,  2626.4,   3.0480,  34.9549,2,  34.9595,3,    256.4,2,   257.9,2,   22.87,2,   18.94,2,    0.00,2,    1.25,2,   0.194,2,   0.096,2,   0.011,2,    -999,9,    -999,9,    -999,9,     -999,9,    -999,9,    -999,9,    -999,9,    -999,    -999,9,    -999,9,    -999,9, 2626.40,     1439,  28.9064, -65.9948,    -999,     -999,    -999,     -999,9,     -999,9,     -999,9,     -999,9,     -999,9,     -999,9,   2.8345,    -999,9,       -999,9,    -999,9,    -999,9
 316N200310,        A22,      49,          1,         11,         11,2,20031104,       1343,    28.8968,   -65.9972,       5224,  2874.1,   2.8425,  34.9396,2,  34.9398,2,    258.7,2,   260.3,2,   24.18,2,   18.85,2,    0.00,2,    1.25,2,   0.251,2,   0.120,2,   0.020,2,    -999,9,    -999,9,    -999,9,     -999,9,    -999,9,    -999,9,    -999,9,    -999,    -999,9,    -999,9,    -999,9, 2874.10,     1434,  28.9057, -65.9949,    -999,     -999,    -999,     -999,9,     -999,9,     -999,9,     -999,9,     -999,9,     -999,9,   2.6081,    -999,9,       -999,9,    -999,9,    -999,9
 316N200310,        A22,      49,          1,         10,         10,2,20031104,       1343,    28.8968,   -65.9972,       5224,  3124.8,   2.6971,  34.9282,2,  34.9286,2,    263.8,2,   263.4,2,   23.96,2,   18.57,2,    0.00,2,    1.24,2,   0.403,2,   0.200,2,   0.035,2,    -999,9,    -999,9,    -999,9,     -999,9,    -999,9,    -999,9,    -999,9,    -999,    -999,9,    -999,9,    -999,9, 3124.80,     1429,  28.9047, -65.9953,    -999,     -999,    -999,     -999,9,     -999,9,     -999,9,     -999,9,     -999,9,     -999,9,   2.4399,    -999,9,       -999,9,    -999,9,    -999,9
 316N200310,        A22,      49,          1,          9,          9,2,20031104,       1343,    28.8968,   -65.9972,       5224,  3374.6,   2.5283,  34.9170,2,  34.9170,2,    265.7,2,   266.7,2,   23.85,2,   18.19,2,    0.00,2,    1.20,2,   0.447,2,   0.215,2,   0.026,2,    -999,9,    -999,9,    -999,9,     -999,9,    -999,9,    -999,9,    -999,9,    -999,    -999,9,    -999,9,    -999,9, 3374.60,     1424,  28.9038, -65.9956,    -999,     -999,    -999,     -999,9,     -999,9,     -999,9,     -999,9,     -999,9,     -999,9,   2.2487,    -999,9,       -999,9,    -999,9,    -999,9
 316N200310,        A22,      49,          1,          8,          8,2,20031104,       1343,    28.8968,   -65.9972,       5224,  3625.1,   2.4224,  34.9090,2,  34.9103,2,    267.2,2,   268.3,2,   24.64,2,   18.10,2,    0.00,2,    1.19,2,   0.536,2,   0.263,2,   0.037,2,    -999,9,    -999,9,    -999,9,     -999,9,    -999,9,    -999,9,    -999,9,    -999,    -999,9,    -999,9,    -999,9, 3625.10,     1419,  28.9029, -65.9958,    -999,     -999,    -999,     -999,9,     -999,9,     -999,9,     -999,9,     -999,9,     -999,9,   2.1183,    -999,9,       -999,9,    -999,9,    -999,9
 316N200310,        A22,      49,          1,          7,          7,2,20031104,       1343,    28.8968,   -65.9972,       5224,  3873.9,   2.3466,  34.9031,2,  34.9036,2,    266.8,2,   267.3,2,   26.76,2,   18.30,2,    0.00,2,    1.22,2,   0.473,2,   0.236,2,   0.029,2,    -999,9,    -999,9,    -999,9,     -999,9,    -999,9,    -999,9,    -999,9,    -999,    -999,9,    -999,9,    -999,9, 3873.90,     1414,  28.9020, -65.9960,    -999,     -999,    -999,     -999,9,     -999,9,     -999,9,     -999,9,     -999,9,     -999,9,   2.0169,    -999,9,       -999,9,    -999,9,    -999,9
 316N200310,        A22,      49,          1,          6,          6,2,20031104,       1343,    28.8968,   -65.9972,       5224,  4125.1,   2.2971,  34.8976,2,  34.8987,2,    265.4,2,   265.7,2,   29.39,2,   18.69,2,    0.00,2,    1.24,2,   0.402,2,   0.200,2,   0.024,2,    -999,9,    -999,9,    -999,9,     -999,9,    -999,9,    -999,9,    -999,9,    -999,    -999,9,    -999,9,    -999,9, 4125.10,     1408,  28.9012, -65.9960,    -999,     -999,    -999,     -999,9,     -999,9,     -999,9,     -999,9,     -999,9,     -999,9,   1.9402,    -999,9,       -999,9,    -999,9,    -999,9
 316N200310,        A22,      49,          1,          5,          5,2,20031104,       1343,    28.8968,   -65.9972,       5224,  4375.4,   2.2772,  34.8932,2,  34.8945,2,    263.8,2,   264.8,2,   31.61,2,   19.02,2,    0.00,2,    1.27,2,   0.373,2,   0.184,2,   0.023,2,    -999,9,    -999,9,    -999,9,     -999,9,    -999,9,    -999,9,    -999,9,    -999,    -999,9,    -999,9,    -999,9, 4375.40,     1403,  28.9005, -65.9959,    -999,     -999,    -999,     -999,9,     -999,9,     -999,9,     -999,9,     -999,9,     -999,9,   1.8916,    -999,9,       -999,9,    -999,9,    -999,9
 316N200310,        A22,      49,          1,          4,          4,2,20031104,       1343,    28.8968,   -65.9972,       5224,  4624.3,   2.2543,  34.8871,2,  34.8869,2,    261.6,2,   261.7,2,   35.16,2,   19.56,2,    0.00,2,    1.31,2,   0.300,2,   0.158,2,   0.023,2,    -999,9,    -999,9,    -999,9,     -999,9,    -999,9,    -999,9,    -999,9,    -999,    -999,9,    -999,9,    -999,9, 4624.30,     1358,  28.8997, -65.9962,    -999,     -999,    -999,     -999,9,     -999,9,     -999,9,     -999,9,     -999,9,     -999,9,   1.8396,    -999,9,       -999,9,    -999,9,    -999,9