BOTTLE,20220517CCHSIOLMM
EXPOCODE,SECT_ID,STNNBR,CASTNO,SAMPNO,BTLNBR,BTLNBR_FLAG_W,DATE,TIME,LATITUDE,LONGITUDE,DEPTH,CTDPRS,CTDTMP,CTDSAL,CTDSAL_FLAG_W,SALNTY,SALNTY_FLAG_W,CTDOXY,CTDOXY_FLAG_W,OXYGEN,OXYGEN_FLAG_W,SILCAT,SILCAT_FLAG_W,NITRAT,NITRAT_FLAG_W,NITRIT,NITRIT_FLAG_W,PHSPHT,PHSPHT_FLAG_W,CFC-11,CFC-11_FLAG_W,CFC-12,CFC-12_FLAG_W,CFC113,CFC113_FLAG_W,TCARBN,TCARBN_FLAG_W,ALKALI,ALKALI_FLAG_W,TRITUM,TRITUM_FLAG_W,HELIUM,HELIUM_FLAG_W,DELHE3,DELHE3_FLAG_W,DELC13,DELC13_FLAG_W,DELC14,DELC14_FLAG_W,C14ERR,CCL4,CCL4_FLAG_W,DOC,DOC_FLAG_W,TDN,TDN_FLAG_W,CTDRAW,BTL_TIME,BTL_LAT,BTL_LON,TRITER,HELIER,DELHER,CDOM325,CDOM325_FLAG_W,CDOM340,CDOM340_FLAG_W,CDOM380,CDOM380_FLAG_W,CDOM412,CDOM412_FLAG_W,CDOMSL,CDOMSL_FLAG_W,CDOMSN,CDOMSN_FLAG_W,THETA,BACT,BACT_FLAG_W,PROC,PROC_FLAG_W,SYN,SYN_FLAG_W,PEUK,PEUK_FLAG_W
,,,,,,,,,,,METERS,DBAR,ITS-90,PSS-78,,PSS-78,,UMOL/KG,,UMOL/KG,,UMOL/KG,,UMOL/KG,,UMOL/KG,,UMOL/KG,,PMOL/KG,,PMOL/KG,,PMOL/KG,,UMOL/KG,,UMOL/KG,,TU,,NMOL/KG,,PERCNT,,/MILLE,,/MILLE,,/MILLE,PMOL/KG,,UMOL/KG,,UMOL/KG,,DBAR,,,,TU,NMOL/KG,PERCNT,1/M,,1/M,,1/M,,1/M,,1/NM,,1/NM,,DEG C,E8/L,,E7/L,,E6/L,,E6/L,
 316N200310,        A22,      15,          1,         34,         34,2,20031027,       1403,    16.3630,   -66.0027,       4457,     2.4,  29.6253,  34.1691,2,  34.1677,2,    150.4,2,   193.8,2,    2.90,2,    0.08,2,    0.00,2,    0.01,2,   1.457,2,   0.923,2,   0.100,2,  1914.8,2,  2259.7,6,    -999,9,     -999,9,    -999,9,    -999,9,    -999,9,    -999,   1.402,2,    -999,9,    -999,9,    2.40,     1559,  16.3707, -65.9939,    -999,     -999,    -999,   0.1460,2,   0.0960,2,   0.0340,2,   0.0180,2,   0.0260,2,   0.0270,2,  29.6247,    -999,9,       -999,9,    -999,9,    -999,9
 316N200310,        A22,      15,          1,         35,         35,2,20031027,       1403,    16.3630,   -66.0027,       4457,     2.5,  29.6242,  34.1690,2,  34.1670,2,    150.4,2,   193.8,2,    2.80,2,    0.13,2,    0.00,2,    0.01,2,   1.488,2,   0.922,2,   0.097,2,    -999,9,    -999,9,    -999,9,     -999,9,    -999,9,    -999,9,    -999,9,    -999,   1.373,2,    -999,9,    -999,9,    2.50,     1559,  16.3707, -65.9939,    -999,     -999,    -999,     -999,9,     -999,9,     -999,9,     -999,9,     -999,9,     -999,9,  29.6236,    -999,9,       -999,9,    -999,9,    -999,9
 316N200310,        A22,      15,          1,         33,         33,2,20031027,       1403,    16.3630,   -66.0027,       4457,    25.2,  29.6137,  34.3385,2,  34.3892,2,    196.3,2,   194.3,2,    2.50,2,    0.08,2,    0.00,2,    0.01,2,   1.459,2,   0.909,2,   0.093,2,  1924.6,2,  2271.6,2,    -999,9,     -999,9,    -999,9,    -999,9,    -999,9,    -999,   1.359,2,    -999,9,    -999,9,   25.20,     1557,  16.3706, -65.9943,    -999,     -999,    -999,   0.1280,2,   0.0840,2,   0.0300,2,   0.0170,2,   0.0260,2,   0.0270,2,  29.6076,    -999,9,       -999,9,    -999,9,    -999,9
 316N200310,        A22,      15,          1,         32,         32,2,20031027,       1403,    16.3630,   -66.0027,       4457,    50.3,  28.6377,  35.8094,2,  35.7884,2,    204.0,2,   203.6,2,    0.68,2,    0.07,2,    0.00,2,    0.02,2,   1.567,2,   0.993,2,   0.089,2,    -999,9,    -999,9,    -999,9,     -999,9,    -999,9,    -999,9,    -999,9,    -999,   0.808,2,    -999,9,    -999,9,   50.30,     1555,  16.3704, -65.9947,    -999,     -999,    -999,   0.1620,2,   0.1090,2,   0.0430,2,   0.0270,2,   0.0220,2,   0.0240,2,  28.6256,    -999,9,       -999,9,    -999,9,    -999,9
 316N200310,        A22,      15,          1,         31,         31,2,20031027,       1403,    16.3630,   -66.0027,       4457,    74.5,  27.2149,  36.3789,2,  36.3774,2,    194.0,2,   194.7,2,    0.59,2,    0.01,2,    0.01,2,    0.02,2,   1.645,6,   1.021,6,   0.148,6,  2030.8,2,  2389.1,2,    -999,9,     -999,9,    -999,9,    -999,9,    -999,9,    -999,   0.711,2,    -999,9,    -999,9,   74.50,     1553,  16.3703, -65.9951,    -999,     -999,    -999,   0.1450,3,   0.1010,3,   0.0440,3,   0.0300,3,   0.0180,3,   0.0210,3,  27.1976,    -999,9,       -999,9,    -999,9,    -999,9
 316N200310,        A22,      15,          1,         30,         30,2,20031027,       1403,    16.3630,   -66.0027,       4457,   100.2,  26.8260,  36.5351,2,  36.5337,2,    188.7,2,   189.7,2,    0.49,2,    0.02,2,    0.09,2,    0.03,2,   1.653,2,   1.055,2,   0.105,2,    -999,9,    -999,9,    -999,9,     -999,9,    -999,9,    -999,9,    -999,9,    -999,   0.709,2,    -999,9,    -999,9,  100.20,     1551,  16.3702, -65.9954,    -999,     -999,    -999,   0.1330,2,   0.0950,2,   0.0430,2,   0.0310,2,   0.0170,2,   0.0190,2,  26.8030,    -999,9,       -999,9,    -999,9,    -999,9
 316N200310,        A22,      15,          1,         29,         29,2,20031027,       1403,    16.3630,   -66.0027,       4457,   125.5,  26.2553,  36.7942,2,  36.7885,2,    180.8,2,   181.5,2,    0.59,2,    0.86,2,    0.04,2,    0.05,2,   1.629,6,   1.041,6,   0.096,6,  2064.3,2,  2412.7,2,    -999,9,     -999,9,    -999,9,    -999,9,    -999,9,    -999,   0.582,6,    -999,9,    -999,9,  125.50,     1550,  16.3700, -65.9956,    -999,     -999,    -999,   0.1140,2,   0.0810,2,   0.0380,2,   0.0280,2,   0.0170,2,   0.0190,2,  26.2269,    -999,9,       -999,9,    -999,9,    -999,9
 316N200310,        A22,      15,          1,         28,         28,2,20031027,       1403,    16.3630,   -66.0027,       4457,   149.9,  25.4283,  36.9881,2,  36.9856,2,    179.6,2,   179.9,2,    0.69,2,    1.49,2,    0.03,2,    0.09,2,   1.722,2,   1.052,2,   0.087,2,    -999,9,    -999,9,    -999,9,     -999,9,    -999,9,    -999,9,    -999,9,    -999,   0.378,2,    -999,9,    -999,9,  149.90,     1548,  16.3699, -65.9957,    -999,     -999,    -999,   0.1140,2,   0.0810,2,   0.0370,2,   0.0270,2,   0.0180,2,   0.0200,2,  25.3952,    -999,9,       -999,9,    -999,9,    -999,9
 316N200310,        A22,      15,          1,         27,         27,2,20031027,       1403,    16.3630,   -66.0027,       4457,   200.1,  21.7062,  36.9465,2,  36.9356,2,    160.4,2,   156.2,2,    1.20,2,    4.80,2,    0.02,2,    0.25,2,   1.887,2,   1.164,2,   0.039,2,    -999,9,    -999,9,    -999,9,     -999,9,    -999,9,    -999,9,    -999,9,    -999,   0.143,2,    -999,9,    -999,9,  200.10,     1546,  16.3697, -65.9958,    -999,     -999,    -999,   0.1290,2,   0.0940,2,   0.0450,2,   0.0350,2,   0.0150,2,   0.0170,2,  21.6666,    -999,9,       -999,9,    -999,9,    -999,9
 316N200310,        A22,      15,          1,         26,         26,2,20031027,       1403,    16.3630,   -66.0027,       4457,   251.0,  18.2346,  36.4716,2,  36.4673,2,    144.5,2,   148.5,2,    2.70,2,    9.48,2,    0.01,2,    0.54,2,   1.947,2,   1.164,2,   0.009,2,    -999,9,    -999,9,    -999,9,     -999,9,    -999,9,    -999,9,    -999,9,    -999,   0.194,2,    -999,9,    -999,9,  251.00,     1544,  16.3696, -65.9959,    -999,     -999,    -999,   0.1110,2,   0.0800,2,   0.0380,2,   0.0280,2,   0.0170,2,   0.0190,2,  18.1907,    -999,9,       -999,9,    -999,9,    -999,9
 316N200310,        A22,      15,          1,         25,         25,2,20031027,       1403,    16.3630,   -66.0027,       4457,   301.8,  16.4597,  36.2186,2,  36.2133,2,    153.4,2,   151.6,2,    3.42,2,   11.84,2,    0.01,2,    0.67,2,   1.984,2,   1.150,2,   0.012,2,    -999,9,    -999,9,    -999,9,     -999,9,    -999,9,    -999,9,    -999,9,    -999,   0.221,2,    -999,9,    -999,9,  301.80,     1542,  16.3694, -65.9961,    -999,     -999,    -999,   0.1110,2,   0.0800,2,   0.0380,2,   0.0280,2,   0.0170,2,   0.0190,2,  16.4105,    -999,9,       -999,9,    -999,9,    -999,9
 316N200310,        A22,      15,          1,         24,         24,2,20031027,       1403,    16.3630,   -66.0027,       4457,   400.1,  13.2905,  35.7290,2,  35.7211,2,    134.4,2,   140.1,2,    6.64,2,   17.92,2,    0.01,2,    1.07,2,   1.644,2,   0.905,2,   0.010,2,    -999,9,    -999,9,    -999,9,     -999,9,    -999,9,    -999,9,    -999,9,    -999,   0.221,2,    -999,9,    -999,9,  400.10,     1539,  16.3692, -65.9967,    -999,     -999,    -999,   0.1130,2,   0.0800,2,   0.0390,2,   0.0280,2,   0.0170,2,   0.0190,2,  13.2339,    -999,9,       -999,9,    -999,9,    -999,9
 316N200310,        A22,      15,          1,         23,         23,2,20031027,       1403,    16.3630,   -66.0027,       4457,   500.1,  10.8901,  35.3476,2,  35.3466,2,    128.6,2,   130.9,2,   10.88,2,   23.24,2,    0.00,2,    1.44,2,   1.078,2,   0.588,2,   0.007,2,    -999,9,    -999,9,    -999,9,     -999,9,    -999,9,    -999,9,    -999,9,    -999,   0.195,2,    -999,9,    -999,9,  500.10,     1536,  16.3691, -65.9974,    -999,     -999,    -999,   0.1200,2,   0.0850,2,   0.0420,2,   0.0300,2,   0.0160,2,   0.0180,2,  10.8277,    -999,9,       -999,9,    -999,9,    -999,9
 316N200310,        A22,      15,          1,         22,         22,2,20031027,       1403,    16.3630,   -66.0027,       4457,   599.8,   8.8154,  35.0094,2,  35.0079,2,    123.8,2,   122.9,2,   15.94,2,   28.25,2,    0.00,2,    1.82,2,   0.627,2,   0.354,2,   0.019,2,  2201.2,2,  2316.4,2,    -999,9,     -999,9,    -999,9,    -999,9,    -999,9,    -999,   0.207,2,    -999,9,    -999,9,  599.80,     1533,  16.3690, -65.9979,    -999,     -999,    -999,     -999,9,     -999,9,     -999,9,     -999,9,     -999,9,     -999,9,   8.7495,    -999,9,       -999,9,    -999,9,    -999,9
 316N200310,        A22,      15,          1,         21,         21,2,20031027,       1403,    16.3630,   -66.0027,       4457,   699.6,   7.5729,  34.8691,2,  34.8686,2,    125.2,2,   125.6,2,   19.38,2,   30.37,2,    0.00,2,    1.98,2,   0.367,2,   0.212,2,   0.002,2,    -999,9,    -999,9,    -999,9,     -999,9,    -999,9,    -999,9,    -999,9,    -999,   0.176,2,    -999,9,    -999,9,  699.60,     1531,  16.3689, -65.9984,    -999,     -999,    -999,     -999,9,     -999,9,     -999,9,     -999,9,     -999,9,     -999,9,   7.5022,    -999,9,       -999,9,    -999,9,    -999,9
 316N200310,        A22,      15,          1,         20,         20,2,20031027,       1403,    16.3630,   -66.0027,       4457,   800.1,   6.5613,  34.7848,2,  34.7830,2,    131.1,2,   130.8,2,   22.51,2,   31.48,2,    0.00,2,    2.08,2,   0.183,2,   0.111,2,   0.002,2,  2212.9,2,  2311.9,2,    -999,9,     -999,9,    -999,9,    -999,9,    -999,9,    -999,   0.130,2,    -999,9,    -999,9,  800.10,     1528,  16.3687, -65.9987,    -999,     -999,    -999,     -999,9,     -999,9,     -999,9,     -999,9,     -999,9,     -999,9,   6.4860,    -999,9,       -999,9,    -999,9,    -999,9
 316N200310,        A22,      15,          1,         19,         19,2,20031027,       1403,    16.3630,   -66.0027,       4457,   900.3,   5.9792,  34.8319,2,  34.8306,2,    148.1,2,   146.1,2,   23.52,2,   29.76,2,    0.00,2,    1.99,2,   0.112,2,   0.061,2,   0.002,2,    -999,9,    -999,9,    -999,9,     -999,9,    -999,9,    -999,9,    -999,9,    -999,   0.095,2,    -999,9,    -999,9,  900.30,     1525,  16.3686, -65.9989,    -999,     -999,    -999,     -999,9,     -999,9,     -999,9,     -999,9,     -999,9,     -999,9,   5.8977,    -999,9,       -999,9,    -999,9,    -999,9
 316N200310,        A22,      15,          1,         18,         18,2,20031027,       1403,    16.3630,   -66.0027,       4457,  1000.6,   5.5265,  34.9034,2,  34.9034,2,    168.3,2,   167.5,2,   23.53,2,   27.04,2,    0.00,2,    1.82,2,   0.087,2,   0.058,2,  -0.001,2,    -999,9,    -999,9,    -999,9,     -999,9,    -999,9,    -999,9,    -999,9,    -999,   0.106,2,    -999,9,    -999,9, 1000.60,     1522,  16.3684, -65.9990,    -999,     -999,    -999,   0.1410,2,   0.1010,2,   0.0520,2,   0.0360,2,   0.0150,2,   0.0170,2,   5.4385,    -999,9,       -999,9,    -999,9,    -999,9
 316N200310,        A22,      15,          1,         17,         17,2,20031027,       1403,    16.3630,   -66.0027,       4457,  1150.5,   4.8261,  34.9519,2,  34.9518,2,    193.3,2,   192.6,2,   24.03,2,   24.22,2,    0.00,2,    1.65,2,   0.067,2,   0.044,2,   0.002,2,    -999,9,    -999,9,    -999,9,     -999,9,    -999,9,    -999,9,    -999,9,    -999,   0.106,2,    -999,9,    -999,9, 1150.50,     1518,  16.3682, -65.9992,    -999,     -999,    -999,     -999,9,     -999,9,     -999,9,     -999,9,     -999,9,     -999,9,   4.7297,    -999,9,       -999,9,    -999,9,    -999,9
 316N200310,        A22,      15,          1,         16,         16,2,20031027,       1403,    16.3630,   -66.0027,       4457,  1300.7,   4.4619,  34.9650,2,  34.9663,2,    204.4,2,   203.6,2,   24.84,2,   23.13,2,    0.00,2,    1.57,2,   0.059,2,   0.040,2,  -0.001,2,    -999,9,    -999,9,    -999,9,     -999,9,    -999,9,    -999,9,    -999,9,    -999,   0.110,2,    -999,9,    -999,9, 1300.70,     1514,  16.3680, -65.9993,    -999,     -999,    -999,     -999,9,     -999,9,     -999,9,     -999,9,     -999,9,     -999,9,   4.3550,    -999,9,       -999,9,    -999,9,    -999,9
 316N200310,        A22,      15,          1,         15,         15,2,20031027,       1403,    16.3630,   -66.0027,       4457,  1450.8,   4.2932,  34.9695,2,  34.9693,2,    208.4,2,   208.6,2,   25.65,2,   22.67,2,    0.00,2,    1.53,2,   0.055,2,   0.046,2,   0.000,2,    -999,9,    -999,9,    -999,9,     -999,9,    -999,9,    -999,9,    -999,9,    -999,   0.103,2,    -999,9,    -999,9, 1450.80,     1510,  16.3679, -65.9995,    -999,     -999,    -999,     -999,9,     -999,9,     -999,9,     -999,9,     -999,9,     -999,9,   4.1742,    -999,9,       -999,9,    -999,9,    -999,9
 316N200310,        A22,      15,          1,         14,         14,2,20031027,       1403,    16.3630,   -66.0027,       4457,  1600.5,   4.1981,  34.9721,2,  34.9723,2,    210.6,2,   211.3,2,   26.25,2,   22.41,2,    0.00,2,    1.52,2,   0.051,2,   0.036,2,   0.003,2,    -999,9,    -999,9,    -999,9,     -999,9,    -999,9,    -999,9,    -999,9,    -999,   0.103,2,    -999,9,    -999,9, 1600.50,     1507,  16.3677, -65.9997,    -999,     -999,    -999,     -999,9,     -999,9,     -999,9,     -999,9,     -999,9,     -999,9,   4.0663,    -999,9,       -999,9,    -999,9,    -999,9
 316N200310,        A22,      15,          1,         13,         13,2,20031027,       1403,    16.3630,   -66.0027,       4457,  1750.4,   4.1448,  34.9737,2,  34.9738,2,    212.3,2,   212.6,2,   26.66,2,   22.27,2,    0.00,2,    1.51,2,   0.031,2,   0.024,2,   0.002,2,    -999,9,    -999,9,    -999,9,     -999,9,    -999,9,    -999,9,    -999,9,    -999,   0.082,2,    -999,9,    -999,9, 1750.40,     1503,  16.3674, -65.9998,    -999,     -999,    -999,     -999,9,     -999,9,     -999,9,     -999,9,     -999,9,     -999,9,   3.9994,    -999,9,       -999,9,    -999,9,    -999,9
 316N200310,        A22,      15,          1,         12,         12,2,20031027,       1403,    16.3630,   -66.0027,       4457,  1901.0,   4.1157,  34.9748,2,  34.9740,2,    213.8,2,   214.5,2,   26.87,2,   22.16,2,    0.00,2,    1.49,2,   0.035,2,   0.030,2,   0.000,2,    -999,9,    -999,9,    -999,9,     -999,9,    -999,9,    -999,9,    -999,9,    -999,   0.089,2,    -999,9,    -999,9, 1901.00,     1459,  16.3671, -65.9999,    -999,     -999,    -999,     -999,9,     -999,9,     -999,9,     -999,9,     -999,9,     -999,9,   3.9562,    -999,9,       -999,9,    -999,9,    -999,9
 316N200310,        A22,      15,          1,         11,         11,2,20031027,       1403,    16.3630,   -66.0027,       4457,  2101.6,   4.1040,  34.9755,2,  34.9752,2,    214.8,2,   215.1,2,   27.17,2,   22.06,2,    0.00,2,    1.49,2,   0.026,2,   0.027,2,   0.003,2,    -999,9,    -999,9,    -999,9,     -999,9,    -999,9,    -999,9,    -999,9,    -999,   0.075,2,    -999,9,    -999,9, 2101.60,     1455,  16.3669, -65.9999,    -999,     -999,    -999,     -999,9,     -999,9,     -999,9,     -999,9,     -999,9,     -999,9,   3.9249,    -999,9,       -999,9,    -999,9,    -999,9
 316N200310,        A22,      15,          1,         10,         10,2,20031027,       1403,    16.3630,   -66.0027,       4457,  2300.5,   4.1062,  34.9759,2,  34.9760,2,    214.6,2,   215.1,2,   27.47,2,   22.05,2,    0.00,2,    1.49,2,   0.022,2,   0.025,2,   0.002,4,    -999,9,    -999,9,    -999,9,     -999,9,    -999,9,    -999,9,    -999,9,    -999,   0.063,2,    -999,9,    -999,9, 2300.50,     1450,  16.3666, -66.0001,    -999,     -999,    -999,     -999,9,     -999,9,     -999,9,     -999,9,     -999,9,     -999,9,   3.9068,    -999,9,       -999,9,    -999,9,    -999,9
 316N200310,        A22,      15,          1,          9,          9,2,20031027,       1403,    16.3630,   -66.0027,       4457,  2551.1,   4.1201,  34.9760,2,  34.9764,2,    214.7,2,   215.8,2,   27.68,2,   22.00,2,    0.00,2,    1.49,2,   0.023,2,   0.023,2,   0.000,2,    -999,9,    -999,9,    -999,9,     -999,9,    -999,9,    -999,9,    -999,9,    -999,   0.066,2,    -999,9,    -999,9, 2551.10,     1445,  16.3662, -66.0003,    -999,     -999,    -999,     -999,9,     -999,9,     -999,9,     -999,9,     -999,9,     -999,9,   3.8942,    -999,9,       -999,9,    -999,9,    -999,9
 316N200310,        A22,      15,          1,          8,          8,2,20031027,       1403,    16.3630,   -66.0027,       4457,  2800.8,   4.1398,  34.9763,2,  34.9774,2,    215.0,2,   215.4,2,   27.88,2,   22.05,2,    0.00,2,    1.49,2,   0.023,2,   0.021,2,   0.003,2,    -999,9,    -999,9,    -999,9,     -999,9,    -999,9,    -999,9,    -999,9,    -999,   0.061,2,    -999,9,    -999,9, 2800.80,     1439,  16.3658, -66.0007,    -999,     -999,    -999,     -999,9,     -999,9,     -999,9,     -999,9,     -999,9,     -999,9,   3.8866,    -999,9,       -999,9,    -999,9,    -999,9
 316N200310,        A22,      15,          1,          7,          7,2,20031027,       1403,    16.3630,   -66.0027,       4457,  3050.5,   4.1639,  34.9764,2,  34.9764,2,    215.1,2,   215.3,2,   28.08,2,   21.99,2,    0.00,2,    1.49,2,   0.017,2,   0.022,2,   0.003,2,    -999,9,    -999,9,    -999,9,     -999,9,    -999,9,    -999,9,    -999,9,    -999,   0.054,2,    -999,9,    -999,9, 3050.50,     1434,  16.3653, -66.0010,    -999,     -999,    -999,     -999,9,     -999,9,     -999,9,     -999,9,     -999,9,     -999,9,   3.8824,    -999,9,       -999,9,    -999,9,    -999,9
 316N200310,        A22,      15,          1,          6,          6,2,20031027,       1403,    16.3630,   -66.0027,       4457,  3301.1,   4.1898,  34.9766,2,  34.9756,2,    215.5,2,   215.7,2,   27.98,2,   21.99,2,    0.00,2,    1.49,2,   0.019,2,   0.023,2,   0.001,2,    -999,9,    -999,9,    -999,9,     -999,9,    -999,9,    -999,9,    -999,9,    -999,   0.064,2,    -999,9,    -999,9, 3301.10,     1429,  16.3649, -66.0013,    -999,     -999,    -999,     -999,9,     -999,9,     -999,9,     -999,9,     -999,9,     -999,9,   3.8790,    -999,9,       -999,9,    -999,9,    -999,9
 316N200310,        A22,      15,          1,          5,          5,2,20031027,       1403,    16.3630,   -66.0027,       4457,  3550.8,   4.2180,  34.9769,2,  34.9764,2,    215.5,2,   215.5,2,   28.19,2,   21.99,2,    0.00,2,    1.49,2,   0.022,2,   0.024,2,   0.002,2,    -999,9,    -999,9,    -999,9,     -999,9,    -999,9,    -999,9,    -999,9,    -999,   0.052,2,    -999,9,    -999,9, 3550.80,     1424,  16.3645, -66.0015,    -999,     -999,    -999,     -999,9,     -999,9,     -999,9,     -999,9,     -999,9,     -999,9,   3.8771,    -999,9,       -999,9,    -999,9,    -999,9
 316N200310,        A22,      15,          1,          4,          4,2,20031027,       1403,    16.3630,   -66.0027,       4457,  3799.9,   4.2469,  34.9770,2,  34.9770,2,    215.8,2,   215.7,2,   28.19,2,   21.98,2,    0.00,2,    1.49,2,   0.022,2,   0.027,2,   0.003,2,    -999,9,    -999,9,    -999,9,     -999,9,    -999,9,    -999,9,    -999,9,    -999,   0.065,2,    -999,9,    -999,9, 3799.90,     1418,  16.3640, -66.0017,    -999,     -999,    -999,     -999,9,     -999,9,     -999,9,     -999,9,     -999,9,     -999,9,   3.8750,    -999,9,       -999,9,    -999,9,    -999,9