BOTTLE,20220517CCHSIOLMM
EXPOCODE,SECT_ID,STNNBR,CASTNO,SAMPNO,BTLNBR,BTLNBR_FLAG_W,DATE,TIME,LATITUDE,LONGITUDE,DEPTH,CTDPRS,CTDTMP,CTDSAL,CTDSAL_FLAG_W,SALNTY,SALNTY_FLAG_W,CTDOXY,CTDOXY_FLAG_W,OXYGEN,OXYGEN_FLAG_W,SILCAT,SILCAT_FLAG_W,NITRAT,NITRAT_FLAG_W,NITRIT,NITRIT_FLAG_W,PHSPHT,PHSPHT_FLAG_W,CFC-11,CFC-11_FLAG_W,CFC-12,CFC-12_FLAG_W,CFC113,CFC113_FLAG_W,TCARBN,TCARBN_FLAG_W,ALKALI,ALKALI_FLAG_W,TRITUM,TRITUM_FLAG_W,HELIUM,HELIUM_FLAG_W,DELHE3,DELHE3_FLAG_W,DELC13,DELC13_FLAG_W,DELC14,DELC14_FLAG_W,C14ERR,CCL4,CCL4_FLAG_W,DOC,DOC_FLAG_W,TDN,TDN_FLAG_W,CTDRAW,BTL_TIME,BTL_LAT,BTL_LON,TRITER,HELIER,DELHER,CDOM325,CDOM325_FLAG_W,CDOM340,CDOM340_FLAG_W,CDOM380,CDOM380_FLAG_W,CDOM412,CDOM412_FLAG_W,CDOMSL,CDOMSL_FLAG_W,CDOMSN,CDOMSN_FLAG_W,THETA,BACT,BACT_FLAG_W,PROC,PROC_FLAG_W,SYN,SYN_FLAG_W,PEUK,PEUK_FLAG_W
,,,,,,,,,,,METERS,DBAR,ITS-90,PSS-78,,PSS-78,,UMOL/KG,,UMOL/KG,,UMOL/KG,,UMOL/KG,,UMOL/KG,,UMOL/KG,,PMOL/KG,,PMOL/KG,,PMOL/KG,,UMOL/KG,,UMOL/KG,,TU,,NMOL/KG,,PERCNT,,/MILLE,,/MILLE,,/MILLE,PMOL/KG,,UMOL/KG,,UMOL/KG,,DBAR,,,,TU,NMOL/KG,PERCNT,1/M,,1/M,,1/M,,1/M,,1/NM,,1/NM,,DEG C,E8/L,,E7/L,,E6/L,,E6/L,
 316N200310,        A22,      55,          1,         36,         36,2,20031106,       1847,    32.7468,   -64.1630,       4421,     2.9,  25.2733,  36.3272,2,     -999,5,    203.3,2,   204.4,2,    0.89,2,    0.09,2,    0.00,2,    0.01,2,   1.742,2,   1.054,2,   0.122,2,  2025.1,2,  2376.6,6,    -999,9,     -999,9,    -999,9,    -999,9,    -999,9,    -999,    -999,9,   68.00,2,    4.80,2,    2.90,     2033,  32.7507, -64.1568,    -999,     -999,    -999,   0.0730,2,   0.0490,2,   0.0190,2,   0.0130,2,   0.0260,2,   0.0260,2,  25.2727,    -999,9,       -999,9,    -999,9,    -999,9
 316N200310,        A22,      55,          1,         35,         35,2,20031106,       1847,    32.7468,   -64.1630,       4421,    11.5,  25.2737,  36.3254,2,  36.3239,2,    204.4,2,   204.5,2,    0.78,2,    0.10,2,    0.00,2,    0.01,2,   1.715,2,   1.043,2,   0.130,2,  2024.6,2,  2381.4,2,    -999,9,     -999,9,    -999,9,    -999,9,    -999,9,    -999,    -999,9,    -999,9,    -999,9,   11.50,     2032,  32.7506, -64.1568,    -999,     -999,    -999,     -999,9,     -999,9,     -999,9,     -999,9,     -999,9,     -999,9,  25.2712,    -999,9,       -999,9,    -999,9,    -999,9
 316N200310,        A22,      55,          1,         34,         34,2,20031106,       1847,    32.7468,   -64.1630,       4421,    21.9,  25.2461,  36.3230,2,  36.3206,2,    205.5,2,   204.2,2,    0.87,2,    0.05,2,    0.00,2,    0.01,2,   1.726,2,   1.046,2,   0.138,2,  2024.4,2,  2381.7,2,    -999,9,     -999,9,    -999,9,    -999,9,    -999,9,    -999,    -999,9,   66.80,2,    5.20,2,   21.90,     2031,  32.7505, -64.1568,    -999,     -999,    -999,   0.0730,2,   0.0490,2,   0.0190,2,   0.0120,2,   0.0270,2,   0.0270,2,  25.2413,    -999,9,       -999,9,    -999,9,    -999,9
 316N200310,        A22,      55,          1,         33,         33,2,20031106,       1847,    32.7468,   -64.1630,       4421,    40.1,  25.2337,  36.3228,2,  36.3202,2,    204.9,2,   203.9,2,    0.86,2,    0.06,2,    0.00,2,    0.01,2,   1.728,2,   1.055,2,   0.141,2,  2025.0,2,  2381.9,2,    -999,9,     -999,9,    -999,9,    -999,9,    -999,9,    -999,    -999,9,   67.40,2,    3.80,2,   40.10,     2030,  32.7503, -64.1569,    -999,     -999,    -999,   0.0750,2,   0.0500,2,   0.0200,2,   0.0130,2,   0.0260,2,   0.0270,2,  25.2249,    -999,9,       -999,9,    -999,9,    -999,9
 316N200310,        A22,      55,          1,         32,         32,2,20031106,       1847,    32.7468,   -64.1630,       4421,    60.7,  25.2098,  36.3296,2,  36.3273,2,    204.8,2,   204.0,2,    0.85,2,    0.06,2,    0.00,2,    0.01,2,   1.726,2,   1.038,2,   0.146,2,  2025.7,2,  2381.4,2,    -999,9,     -999,9,    -999,9,    -999,9,    -999,9,    -999,    -999,9,   66.60,2,    4.60,2,   60.70,     2028,  32.7502, -64.1569,    -999,     -999,    -999,     -999,9,     -999,9,     -999,9,     -999,9,     -999,9,     -999,9,  25.1965,    -999,9,       -999,9,    -999,9,    -999,9
 316N200310,        A22,      55,          1,         31,         31,2,20031106,       1847,    32.7468,   -64.1630,       4421,    80.6,  25.1408,  36.3434,2,  36.3419,2,    203.5,2,   204.0,2,    0.84,2,    0.06,2,    0.00,2,    0.01,2,   1.728,6,   1.055,6,   0.135,6,  2027.4,2,  2382.4,2,    -999,9,     -999,9,    -999,9,    -999,9,    -999,9,    -999,    -999,9,   65.90,2,    4.50,2,   80.60,     2027,  32.7500, -64.1569,    -999,     -999,    -999,   0.0760,2,   0.0510,2,   0.0200,2,   0.0130,2,   0.0260,2,   0.0260,2,  25.1231,    -999,9,       -999,9,    -999,9,    -999,9
 316N200310,        A22,      55,          1,         30,         30,2,20031106,       1847,    32.7468,   -64.1630,       4421,   100.1,  23.7199,  36.6373,2,  36.6358,2,    190.9,2,   191.3,2,    0.83,2,    1.07,2,    0.05,2,    0.05,2,   1.878,2,   1.126,2,   0.111,2,  2072.5,2,  2396.0,2,    -999,9,     -999,9,    -999,9,    -999,9,    -999,9,    -999,    -999,9,   59.10,2,    4.70,2,  100.10,     2025,  32.7499, -64.1569,    -999,     -999,    -999,   0.1320,2,   0.0960,2,   0.0460,2,   0.0330,2,   0.0160,2,   0.0180,2,  23.6989,    -999,9,       -999,9,    -999,9,    -999,9
 316N200310,        A22,      55,          1,         29,         29,2,20031106,       1847,    32.7468,   -64.1630,       4421,   120.2,  22.3875,  36.6683,2,  36.6647,2,    198.8,2,   197.4,2,    0.72,2,    1.11,2,    0.08,2,    0.05,2,   2.011,2,   1.200,2,   0.120,2,  2077.6,2,  2393.6,2,    -999,9,     -999,9,    -999,9,    -999,9,    -999,9,    -999,    -999,9,   61.10,2,    5.40,2,  120.20,     2024,  32.7498, -64.1569,    -999,     -999,    -999,   0.1330,2,   0.0950,2,   0.0420,2,   0.0300,2,   0.0180,2,   0.0200,2,  22.3633,    -999,9,       -999,9,    -999,9,    -999,9
 316N200310,        A22,      55,          1,         28,         28,2,20031106,       1847,    32.7468,   -64.1630,       4421,   134.8,  21.5039,  36.6835,2,  36.6784,2,    198.6,2,   197.7,2,    0.71,2,    1.24,2,    0.05,2,    0.06,2,   2.023,2,   1.200,2,   0.108,2,  2081.4,2,  2396.6,2,    -999,9,     -999,9,    -999,9,    -999,9,    -999,9,    -999,    -999,9,   57.30,2,    5.30,2,  134.80,     2023,  32.7497, -64.1570,    -999,     -999,    -999,   0.1230,2,   0.0880,2,   0.0390,2,   0.0270,2,   0.0190,2,   0.0200,2,  21.4775,    -999,9,       -999,9,    -999,9,    -999,9
 316N200310,        A22,      55,          1,         27,         27,2,20031106,       1847,    32.7468,   -64.1630,       4421,   160.3,  20.3602,  36.6609,2,  36.6576,2,    198.5,2,   200.0,2,    0.70,2,    1.37,2,    0.02,2,    0.07,2,   2.150,2,   1.264,2,   0.111,2,  2086.7,2,  2395.7,2,    -999,9,     -999,9,    -999,9,    -999,9,    -999,9,    -999,    -999,9,   57.10,2,    5.20,2,  160.30,     2022,  32.7496, -64.1570,    -999,     -999,    -999,   0.1160,2,   0.0840,2,   0.0380,2,   0.0260,2,   0.0190,2,   0.0200,2,  20.3299,    -999,9,       -999,9,    -999,9,    -999,9
 316N200310,        A22,      55,          1,         26,         26,2,20031106,       1847,    32.7468,   -64.1630,       4421,   200.2,  19.3722,  36.6330,2,  36.6312,2,    200.3,2,   199.5,2,    0.90,2,    2.10,2,    0.01,2,    0.10,2,   2.189,2,   1.283,2,   0.081,2,  2091.8,2,  2393.2,2,    -999,9,     -999,9,    -999,9,    -999,9,    -999,9,    -999,    -999,9,   54.10,2,    5.40,2,  200.20,     2020,  32.7495, -64.1571,    -999,     -999,    -999,   0.0900,2,   0.0640,2,   0.0280,2,   0.0200,2,   0.0220,2,   0.0220,2,  19.3356,    -999,9,       -999,9,    -999,9,    -999,9
 316N200310,        A22,      55,          1,         25,         25,2,20031106,       1847,    32.7468,   -64.1630,       4421,   250.6,  18.8308,  36.6016,2,  36.5989,2,    202.4,2,   203.5,2,    1.09,2,    2.65,2,    0.01,2,    0.12,2,   2.228,6,   1.310,6,   0.069,2,  2093.4,2,  2391.8,2,    -999,9,     -999,9,    -999,9,    -999,9,    -999,9,    -999,   0.588,2,   53.80,2,    6.10,2,  250.60,     2019,  32.7494, -64.1570,    -999,     -999,    -999,   0.0990,2,   0.0700,2,   0.0330,2,   0.0230,2,   0.0200,2,   0.0210,2,  18.7859,    -999,9,       -999,9,    -999,9,    -999,9
 316N200310,        A22,      55,          1,         24,         24,2,20031106,       1847,    32.7468,   -64.1630,       4421,   301.0,  18.6173,  36.5828,2,  36.5795,2,    197.6,2,   205.1,2,    1.18,2,    2.89,2,    0.01,2,    0.14,2,   2.249,2,   1.313,2,   0.084,2,  2094.6,2,  2390.5,2,    -999,9,     -999,9,    -999,9,    -999,9,    -999,9,    -999,    -999,9,    -999,9,    -999,9,  301.00,     2017,  32.7492, -64.1570,    -999,     -999,    -999,     -999,9,     -999,9,     -999,9,     -999,9,     -999,9,     -999,9,  18.5637,    -999,9,       -999,9,    -999,9,    -999,9
 316N200310,        A22,      55,          1,         23,         23,2,20031106,       1847,    32.7468,   -64.1630,       4421,   399.9,  18.0271,  36.5154,2,  36.5123,2,    198.0,2,   196.4,2,    1.57,2,    4.70,2,    0.01,2,    0.23,2,   2.201,2,   1.269,2,   0.052,2,  2108.2,2,  2386.2,2,    -999,9,     -999,9,    -999,9,    -999,9,    -999,9,    -999,    -999,9,   52.00,2,    -999,9,  399.90,     2014,  32.7490, -64.1571,    -999,     -999,    -999,   0.0810,2,   0.0570,2,   0.0240,2,   0.0170,2,   0.0230,2,   0.0230,2,  17.9574,    -999,9,       -999,9,    -999,9,    -999,9
 316N200310,        A22,      55,          1,         22,         22,2,20031106,       1847,    32.7468,   -64.1630,       4421,   500.2,  17.2233,  36.3878,2,  36.3879,2,    192.9,2,   185.2,2,    2.28,2,    7.04,2,    0.00,2,    0.37,2,   2.237,2,   1.252,2,   0.046,2,  2120.1,2,  2378.7,2,    -999,9,     -999,9,    -999,9,    -999,9,    -999,9,    -999,    -999,9,   48.20,2,    -999,9,  500.20,     2012,  32.7488, -64.1572,    -999,     -999,    -999,   0.0850,2,   0.0590,2,   0.0250,2,   0.0170,2,   0.0230,2,   0.0240,2,  17.1385,    -999,9,       -999,9,    -999,9,    -999,9
 316N200310,        A22,      55,          1,         21,         21,2,20031106,       1847,    32.7468,   -64.1630,       4421,   600.7,  15.7464,  36.1389,2,  36.1381,2,    183.1,2,   187.2,2,    3.27,2,    9.35,2,    0.00,2,    0.53,2,   2.214,2,   1.231,2,   0.047,2,  2128.5,2,  2366.2,2,    -999,9,     -999,9,    -999,9,    -999,9,    -999,9,    -999,    -999,9,    -999,9,    -999,9,  600.70,     2009,  32.7487, -64.1573,    -999,     -999,    -999,     -999,9,     -999,9,     -999,9,     -999,9,     -999,9,     -999,9,  15.6505,    -999,9,       -999,9,    -999,9,    -999,9
 316N200310,        A22,      55,          1,         20,         20,2,20031106,       1847,    32.7468,   -64.1630,       4421,   699.6,  13.5737,  35.7660,2,  35.7671,2,    171.5,2,   170.0,2,    5.89,2,   14.41,2,    0.00,2,    0.86,2,   1.889,2,   1.033,2,   0.050,2,  2149.9,2,  2353.5,2,    -999,9,     -999,9,    -999,9,    -999,9,    -999,9,    -999,    -999,9,   48.10,2,    -999,9,  699.60,     2007,  32.7484, -64.1573,    -999,     -999,    -999,   0.1070,2,   0.0740,2,   0.0330,2,   0.0220,2,   0.0210,2,   0.0220,2,  13.4723,    -999,9,       -999,9,    -999,9,    -999,9
 316N200310,        A22,      55,          1,         19,         19,2,20031106,       1847,    32.7468,   -64.1630,       4421,   809.0,  11.2107,  35.4325,2,  35.4312,2,    139.7,2,   141.1,2,   10.57,2,   21.34,2,    0.00,2,    1.32,2,   1.144,2,   0.604,2,   0.037,2,  2179.6,2,  2336.9,2,    -999,9,     -999,9,    -999,9,    -999,9,    -999,9,    -999,    -999,9,    -999,9,    -999,9,  809.00,     2004,  32.7482, -64.1574,    -999,     -999,    -999,     -999,9,     -999,9,     -999,9,     -999,9,     -999,9,     -999,9,  11.1065,    -999,9,       -999,9,    -999,9,    -999,9
 316N200310,        A22,      55,          1,         18,         18,2,20031106,       1847,    32.7468,   -64.1630,       4421,   908.6,   9.0250,  35.1954,2,  35.1922,2,    150.7,2,   146.7,2,   13.85,2,   23.95,2,    0.00,2,    1.52,2,   0.933,2,   0.478,2,   0.023,2,  2189.2,2,  2326.6,6,    -999,9,     -999,9,    -999,9,    -999,9,    -999,9,    -999,    -999,9,    -999,9,    -999,9,  908.60,     2002,  32.7480, -64.1575,    -999,     -999,    -999,     -999,9,     -999,9,     -999,9,     -999,9,     -999,9,     -999,9,   8.9219,    -999,9,       -999,9,    -999,9,    -999,9
 316N200310,        A22,      55,          1,         17,         17,2,20031106,       1847,    32.7468,   -64.1630,       4421,  1010.0,   6.9695,  35.0995,2,  35.0988,2,    184.9,2,   186.3,2,   13.33,2,   21.76,2,    0.00,2,    1.40,2,   1.237,2,   0.630,2,   0.052,2,  2183.4,2,  2322.8,2,    -999,9,     -999,9,    -999,9,    -999,9,    -999,9,    -999,    -999,9,   43.50,2,    -999,9, 1010.00,     1959,  32.7478, -64.1577,    -999,     -999,    -999,   0.1260,2,   0.0880,2,   0.0410,2,   0.0270,2,   0.0190,2,   0.0200,2,   6.8695,    -999,9,       -999,9,    -999,9,    -999,9
 316N200310,        A22,      55,          1,         16,         16,2,20031106,       1847,    32.7468,   -64.1630,       4421,  1111.0,   5.9987,  35.0840,2,  35.0837,2,    211.2,2,   211.5,2,   12.60,2,   20.13,2,    0.00,2,    1.30,2,   1.507,2,   0.747,2,   0.081,2,  2177.5,2,  2321.4,2,    -999,9,     -999,9,    -999,9,    -999,9,    -999,9,    -999,    -999,9,    -999,9,    -999,9, 1111.00,     1957,  32.7476, -64.1577,    -999,     -999,    -999,     -999,9,     -999,9,     -999,9,     -999,9,     -999,9,     -999,9,   5.8959,    -999,9,       -999,9,    -999,9,    -999,9
 316N200310,        A22,      55,          1,         15,         15,2,20031106,       1847,    32.7468,   -64.1630,       4421,  1209.6,   5.2348,  35.0471,2,  35.0488,2,    230.4,2,   231.5,2,   12.08,2,   19.03,2,    0.00,2,    1.24,2,   1.725,2,   0.860,2,   0.103,2,  2172.7,2,  2315.3,2,    -999,9,     -999,9,    -999,9,    -999,9,    -999,9,    -999,    -999,9,    -999,9,    -999,9, 1209.60,     1954,  32.7474, -64.1579,    -999,     -999,    -999,     -999,9,     -999,9,     -999,9,     -999,9,     -999,9,     -999,9,   5.1290,    -999,9,       -999,9,    -999,9,    -999,9
 316N200310,        A22,      55,          1,         14,         14,2,20031106,       1847,    32.7468,   -64.1630,       4421,  1315.2,   4.6824,  35.0081,2,  35.0081,2,    243.0,2,   244.8,2,   11.76,2,   18.40,2,    0.00,2,    1.20,2,   1.919,2,   0.955,2,   0.093,2,  2167.5,2,  2311.0,2,    -999,9,     -999,9,    -999,9,    -999,9,    -999,9,    -999,    -999,9,    -999,9,    -999,9, 1315.20,     1951,  32.7473, -64.1580,    -999,     -999,    -999,     -999,9,     -999,9,     -999,9,     -999,9,     -999,9,     -999,9,   4.5719,    -999,9,       -999,9,    -999,9,    -999,9
 316N200310,        A22,      55,          1,         13,         13,2,20031106,       1847,    32.7468,   -64.1630,       4421,  1414.2,   4.4448,  34.9962,2,  34.9974,2,    250.5,2,   251.3,2,   11.75,2,   18.20,2,    0.00,2,    1.19,2,   1.928,2,   0.949,2,   0.094,2,  2165.4,2,    -999,9,    -999,9,     -999,9,    -999,9,    -999,9,    -999,9,    -999,    -999,9,   44.60,2,    -999,9, 1414.20,     1949,  32.7472, -64.1582,    -999,     -999,    -999,   0.1320,2,   0.0930,2,   0.0440,2,   0.0290,2,   0.0180,2,   0.0200,2,   4.3275,    -999,9,       -999,9,    -999,9,    -999,9
 316N200310,        A22,      55,          1,         12,         12,2,20031106,       1847,    32.7468,   -64.1630,       4421,  1619.6,   4.1177,  34.9821,2,  34.9825,2,    258.5,2,   259.6,2,   11.96,2,   17.86,2,    0.00,2,    1.16,2,   1.828,2,   0.890,2,   0.089,2,  2161.8,2,  2311.7,2,    -999,9,     -999,9,    -999,9,    -999,9,    -999,9,    -999,    -999,9,    -999,9,    -999,9, 1619.60,     1945,  32.7472, -64.1587,    -999,     -999,    -999,     -999,9,     -999,9,     -999,9,     -999,9,     -999,9,     -999,9,   3.9851,    -999,9,       -999,9,    -999,9,    -999,9
 316N200310,        A22,      55,          1,         11,         11,2,20031106,       1847,    32.7468,   -64.1630,       4421,  1819.0,   3.8210,  34.9623,2,  34.9624,2,    264.7,2,   264.6,2,   12.56,2,   17.71,2,    0.00,2,    1.16,2,   1.651,2,   0.785,2,   0.087,2,  2160.3,2,  2309.8,2,    -999,9,     -999,9,    -999,9,    -999,9,    -999,9,    -999,    -999,9,   44.30,2,    -999,9, 1819.00,     1941,  32.7473, -64.1591,    -999,     -999,    -999,     -999,9,     -999,9,     -999,9,     -999,9,     -999,9,     -999,9,   3.6734,    -999,9,       -999,9,    -999,9,    -999,9
 316N200310,        A22,      55,          1,         10,         10,2,20031106,       1847,    32.7468,   -64.1630,       4421,  2020.2,   3.6186,  34.9535,2,  34.9538,2,    267.0,2,   266.6,2,   13.37,2,   17.68,2,    0.00,2,    1.16,2,   1.409,2,   0.692,2,   0.068,2,  2159.2,2,  2309.6,2,    -999,9,     -999,9,    -999,9,    -999,9,    -999,9,    -999,    -999,9,    -999,9,    -999,9, 2020.20,     1936,  32.7472, -64.1595,    -999,     -999,    -999,     -999,9,     -999,9,     -999,9,     -999,9,     -999,9,     -999,9,   3.4548,    -999,9,       -999,9,    -999,9,    -999,9
 316N200310,        A22,      55,          1,          9,          9,2,20031106,       1847,    32.7468,   -64.1630,       4421,  2222.7,   3.4598,  34.9515,2,  34.9522,2,    266.9,2,   266.7,2,   14.70,2,   17.72,2,    0.00,2,    1.16,2,   1.164,2,   0.566,2,   0.056,2,  2159.6,2,  2311.3,2,    -999,9,     -999,9,    -999,9,    -999,9,    -999,9,    -999,    -999,9,    -999,9,    -999,9, 2222.70,     1932,  32.7472, -64.1598,    -999,     -999,    -999,     -999,9,     -999,9,     -999,9,     -999,9,     -999,9,     -999,9,   3.2790,    -999,9,       -999,9,    -999,9,    -999,9
 316N200310,        A22,      55,          1,          8,          8,2,20031106,       1847,    32.7468,   -64.1630,       4421,  2425.3,   3.3237,  34.9579,2,  34.9593,2,    263.8,2,   263.1,2,   17.17,2,   17.98,2,    0.00,2,    1.19,2,   0.695,2,   0.338,2,   0.035,2,  2161.7,2,  2314.4,2,    -999,9,     -999,9,    -999,9,    -999,9,    -999,9,    -999,    -999,9,    -999,9,    -999,9, 2425.30,     1928,  32.7472, -64.1602,    -999,     -999,    -999,     -999,9,     -999,9,     -999,9,     -999,9,     -999,9,     -999,9,   3.1252,    -999,9,       -999,9,    -999,9,    -999,9
 316N200310,        A22,      55,          1,          7,          7,2,20031106,       1847,    32.7468,   -64.1630,       4421,  2629.6,   3.1687,  34.9526,2,  34.9536,2,    263.3,2,   262.7,2,   18.92,2,   18.17,2,    0.00,2,    1.20,2,   0.568,2,   0.280,2,   0.025,2,  2163.6,2,  2316.9,2,    -999,9,     -999,9,    -999,9,    -999,9,    -999,9,    -999,    -999,9,   43.20,2,    -999,9, 2629.60,     1924,  32.7472, -64.1605,    -999,     -999,    -999,   0.1170,2,   0.0810,2,   0.0370,2,   0.0230,2,   0.0200,2,   0.0210,2,   2.9526,    -999,9,       -999,9,    -999,9,    -999,9
 316N200310,        A22,      55,          1,          6,          6,2,20031106,       1847,    32.7468,   -64.1630,       4421,  3024.5,   2.8247,  34.9346,2,  34.9347,2,    264.8,2,   264.5,2,   21.61,2,   18.18,2,    0.00,2,    1.21,2,   0.499,2,   0.243,2,   0.025,2,  2164.9,2,  2324.7,2,    -999,9,     -999,9,    -999,9,    -999,9,    -999,9,    -999,    -999,9,    -999,9,    -999,9, 3024.50,     1916,  32.7471, -64.1610,    -999,     -999,    -999,     -999,9,     -999,9,     -999,9,     -999,9,     -999,9,     -999,9,   2.5752,    -999,9,       -999,9,    -999,9,    -999,9
 316N200310,        A22,      55,          1,          5,          5,2,20031106,       1847,    32.7468,   -64.1630,       4421,  3434.1,   2.4602,  34.9116,2,  34.9128,2,    267.2,2,   267.2,2,   24.61,2,   18.14,2,    0.00,2,    1.21,2,   0.537,2,   0.267,2,   0.022,2,  2167.2,2,  2324.3,2,    -999,9,     -999,9,    -999,9,    -999,9,    -999,9,    -999,    -999,9,   42.00,2,    -999,9, 3434.10,     1909,  32.7469, -64.1615,    -999,     -999,    -999,   0.1400,2,   0.0990,2,   0.0470,2,   0.0300,2,   0.0180,2,   0.0190,2,   2.1759,    -999,9,       -999,9,    -999,9,    -999,9