BOTTLE,20220517CCHSIOLMM
EXPOCODE,SECT_ID,STNNBR,CASTNO,SAMPNO,BTLNBR,BTLNBR_FLAG_W,DATE,TIME,LATITUDE,LONGITUDE,DEPTH,CTDPRS,CTDTMP,CTDSAL,CTDSAL_FLAG_W,SALNTY,SALNTY_FLAG_W,CTDOXY,CTDOXY_FLAG_W,OXYGEN,OXYGEN_FLAG_W,SILCAT,SILCAT_FLAG_W,NITRAT,NITRAT_FLAG_W,NITRIT,NITRIT_FLAG_W,PHSPHT,PHSPHT_FLAG_W,CFC-11,CFC-11_FLAG_W,CFC-12,CFC-12_FLAG_W,CFC113,CFC113_FLAG_W,TCARBN,TCARBN_FLAG_W,ALKALI,ALKALI_FLAG_W,TRITUM,TRITUM_FLAG_W,HELIUM,HELIUM_FLAG_W,DELHE3,DELHE3_FLAG_W,DELC13,DELC13_FLAG_W,DELC14,DELC14_FLAG_W,C14ERR,CCL4,CCL4_FLAG_W,DOC,DOC_FLAG_W,TDN,TDN_FLAG_W,CTDRAW,BTL_TIME,BTL_LAT,BTL_LON,TRITER,HELIER,DELHER,CDOM325,CDOM325_FLAG_W,CDOM340,CDOM340_FLAG_W,CDOM380,CDOM380_FLAG_W,CDOM412,CDOM412_FLAG_W,CDOMSL,CDOMSL_FLAG_W,CDOMSN,CDOMSN_FLAG_W,THETA,BACT,BACT_FLAG_W,PROC,PROC_FLAG_W,SYN,SYN_FLAG_W,PEUK,PEUK_FLAG_W
,,,,,,,,,,,METERS,DBAR,ITS-90,PSS-78,,PSS-78,,UMOL/KG,,UMOL/KG,,UMOL/KG,,UMOL/KG,,UMOL/KG,,UMOL/KG,,PMOL/KG,,PMOL/KG,,PMOL/KG,,UMOL/KG,,UMOL/KG,,TU,,NMOL/KG,,PERCNT,,/MILLE,,/MILLE,,/MILLE,PMOL/KG,,UMOL/KG,,UMOL/KG,,DBAR,,,,TU,NMOL/KG,PERCNT,1/M,,1/M,,1/M,,1/M,,1/NM,,1/NM,,DEG C,E8/L,,E7/L,,E6/L,,E6/L,
 316N200310,        A22,      63,          1,         35,         35,2,20031109,       1101,    35.7205,   -67.1882,       5142,     5.3,  23.7409,  36.4830,2,  36.4792,2,    212.3,2,   210.1,2,    0.33,2,    0.09,2,    0.00,2,    0.01,2,   1.848,2,   1.125,2,   0.151,2,  2037.9,2,  2387.9,2,    -999,9,     -999,9,    -999,9,    -999,9,    -999,9,    -999,    -999,9,   67.80,2,    4.20,2,    5.30,     1310,  35.7378, -67.2187,    -999,     -999,    -999,   0.0620,2,   0.0390,2,   0.0120,2,   0.0070,2,   0.0310,2,   0.0310,2,  23.7398,    -999,9,       -999,9,    -999,9,    -999,9
 316N200310,        A22,      63,          1,         34,         34,2,20031109,       1101,    35.7205,   -67.1882,       5142,    24.5,  23.7511,  36.4827,2,  36.4788,2,    211.0,2,   210.1,2,    0.31,2,    0.09,2,    0.00,2,    0.01,2,   1.821,2,   1.122,2,   0.151,2,    -999,9,    -999,9,    -999,9,     -999,9,    -999,9,    -999,9,    -999,9,    -999,    -999,9,    -999,9,    -999,9,   24.50,     1308,  35.7375, -67.2184,    -999,     -999,    -999,   0.0640,2,   0.0410,2,   0.0130,2,   0.0080,2,   0.0300,2,   0.0300,2,  23.7459,    -999,9,       -999,9,    -999,9,    -999,9
 316N200310,        A22,      63,          1,         33,         33,2,20031109,       1101,    35.7205,   -67.1882,       5142,    49.6,  23.7591,  36.4829,2,  36.4798,2,    210.9,2,   210.1,2,    0.30,2,    0.09,2,    0.00,2,    0.01,2,   1.827,2,   1.118,2,   0.140,2,  2037.7,2,  2387.7,2,    -999,9,     -999,9,    -999,9,    -999,9,    -999,9,    -999,    -999,9,    -999,9,    -999,9,   49.60,     1307,  35.7372, -67.2180,    -999,     -999,    -999,   0.0630,2,   0.0400,2,   0.0130,2,   0.0080,2,   0.0310,2,   0.0310,2,  23.7487,    -999,9,       -999,9,    -999,9,    -999,9
 316N200310,        A22,      63,          1,         32,         32,2,20031109,       1101,    35.7205,   -67.1882,       5142,    74.7,  23.7606,  36.4826,2,  36.4792,2,    210.5,2,   210.1,2,    0.39,2,    0.09,2,    0.00,2,    0.01,2,   1.835,2,   1.104,2,   0.154,2,    -999,9,    -999,9,    -999,9,     -999,9,    -999,9,    -999,9,    -999,9,    -999,    -999,9,   65.50,2,    4.80,2,   74.70,     1305,  35.7370, -67.2176,    -999,     -999,    -999,   0.0680,2,   0.0430,2,   0.0140,2,   0.0090,2,   0.0310,2,   0.0310,2,  23.7449,    -999,9,       -999,9,    -999,9,    -999,9
 316N200310,        A22,      63,          1,         31,         31,2,20031109,       1101,    35.7205,   -67.1882,       5142,    99.8,  21.8642,  36.6100,2,  36.6025,2,    216.0,2,   221.3,2,    0.37,2,    0.07,2,    0.01,2,    0.01,2,   2.114,6,   1.260,6,   0.143,6,  2063.1,2,  2395.2,2,    -999,9,     -999,9,    -999,9,    -999,9,    -999,9,    -999,    -999,9,   61.50,2,    4.30,2,   99.80,     1303,  35.7368, -67.2175,    -999,     -999,    -999,   0.1480,2,   0.1040,2,   0.0440,2,   0.0290,2,   0.0190,2,   0.0220,2,  21.8444,    -999,9,       -999,9,    -999,9,    -999,9
 316N200310,        A22,      63,          1,         30,         30,2,20031109,       1101,    35.7205,   -67.1882,       5142,   150.2,  19.1356,  36.6114,2,  36.6076,2,    206.2,2,   203.7,2,    0.66,2,    1.63,2,    0.02,2,    0.06,2,   2.216,2,   1.310,2,   0.095,2,    -999,9,    -999,9,    -999,9,     -999,9,    -999,9,    -999,9,    -999,9,    -999,    -999,9,    -999,9,    -999,9,  150.20,     1301,  35.7364, -67.2173,    -999,     -999,    -999,   0.1030,2,   0.0750,2,   0.0350,2,   0.0260,2,   0.0190,2,   0.0200,2,  19.1085,    -999,9,       -999,9,    -999,9,    -999,9
 316N200310,        A22,      63,          1,         29,         29,2,20031109,       1101,    35.7205,   -67.1882,       5142,   200.2,  18.7070,  36.5867,2,  36.5842,2,    205.1,2,   204.5,2,    0.75,2,    2.52,2,    0.01,2,    0.10,2,   2.257,2,   1.323,2,   0.092,2,  2093.4,2,  2393.0,2,    -999,9,     -999,9,    -999,9,    -999,9,    -999,9,    -999,    -999,9,   53.80,2,    6.00,2,  200.20,     1259,  35.7358, -67.2167,    -999,     -999,    -999,   0.0910,2,   0.0650,2,   0.0300,2,   0.0220,2,   0.0210,2,   0.0220,2,  18.6714,    -999,9,       -999,9,    -999,9,    -999,9
 316N200310,        A22,      63,          1,         28,         28,2,20031109,       1101,    35.7205,   -67.1882,       5142,   249.8,  18.4929,  36.5705,2,  36.5682,2,    202.7,2,   202.4,2,    1.03,2,    3.46,2,    0.01,2,    0.16,2,   2.256,2,   1.327,2,   0.057,2,    -999,9,    -999,9,    -999,9,     -999,9,    -999,9,    -999,9,    -999,9,    -999,    -999,9,    -999,9,    -999,9,  249.80,     1257,  35.7352, -67.2160,    -999,     -999,    -999,     -999,9,     -999,9,     -999,9,     -999,9,     -999,9,     -999,9,  18.4487,    -999,9,       -999,9,    -999,9,    -999,9
 316N200310,        A22,      63,          1,         27,         27,2,20031109,       1101,    35.7205,   -67.1882,       5142,   300.3,  18.2659,  36.5452,2,  36.5432,2,    201.8,2,   203.0,2,    1.23,2,    3.75,2,    0.01,2,    0.18,2,   2.279,2,   1.322,2,   0.061,2,    -999,9,    -999,9,    -999,9,     -999,9,    -999,9,    -999,9,    -999,9,    -999,    -999,9,   52.70,2,    7.10,2,  300.30,     1255,  35.7347, -67.2155,    -999,     -999,    -999,     -999,9,     -999,9,     -999,9,     -999,9,     -999,9,     -999,9,  18.2132,    -999,9,       -999,9,    -999,9,    -999,9
 316N200310,        A22,      63,          1,         26,         26,2,20031109,       1101,    35.7205,   -67.1882,       5142,   401.1,  17.7163,  36.4731,2,  36.4717,2,    194.6,2,   194.8,2,    1.62,2,    5.42,2,    0.00,2,    0.27,2,   2.271,2,   1.295,2,   0.041,2,    -999,9,    -999,9,    -999,9,     -999,9,    -999,9,    -999,9,    -999,9,    -999,    -999,9,    -999,9,    -999,9,  401.10,     1253,  35.7341, -67.2148,    -999,     -999,    -999,     -999,9,     -999,9,     -999,9,     -999,9,     -999,9,     -999,9,  17.6472,    -999,9,       -999,9,    -999,9,    -999,9
 316N200310,        A22,      63,          1,         25,         25,2,20031109,       1101,    35.7205,   -67.1882,       5142,   500.7,  16.8563,  36.3315,2,  36.3291,2,    190.0,2,   185.5,2,    2.01,2,    7.64,2,    0.00,2,    0.41,2,   2.212,2,   1.249,2,   0.034,2,  2119.4,2,  2377.8,2,    -999,9,     -999,9,    -999,9,    -999,9,    -999,9,    -999,    -999,9,   48.80,2,    -999,9,  500.70,     1250,  35.7336, -67.2143,    -999,     -999,    -999,     -999,9,     -999,9,     -999,9,     -999,9,     -999,9,     -999,9,  16.7727,    -999,9,       -999,9,    -999,9,    -999,9
 316N200310,        A22,      63,          1,         24,         24,2,20031109,       1101,    35.7205,   -67.1882,       5142,   626.5,  14.9118,  35.9891,2,  35.9890,2,    168.8,2,   167.7,2,    4.13,2,   12.39,2,    0.00,2,    0.72,2,   1.987,2,   1.084,2,   0.033,2,    -999,9,    -999,9,    -999,9,     -999,9,    -999,9,    -999,9,    -999,9,    -999,    -999,9,    -999,9,    -999,9,  626.50,     1247,  35.7331, -67.2137,    -999,     -999,    -999,     -999,9,     -999,9,     -999,9,     -999,9,     -999,9,     -999,9,  14.8153,    -999,9,       -999,9,    -999,9,    -999,9
 316N200310,        A22,      63,          1,         23,         23,2,20031109,       1101,    35.7205,   -67.1882,       5142,   721.3,  12.8078,  35.6527,2,  35.6506,2,    152.9,2,   151.2,2,    7.39,2,   17.47,2,    0.00,2,    1.06,2,   1.602,2,   0.863,2,   0.028,2,    -999,9,    -999,9,    -999,9,     -999,9,    -999,9,    -999,9,    -999,9,    -999,    -999,9,   46.50,2,    -999,9,  721.30,     1244,  35.7323, -67.2131,    -999,     -999,    -999,     -999,9,     -999,9,     -999,9,     -999,9,     -999,9,     -999,9,  12.7070,    -999,9,       -999,9,    -999,9,    -999,9
 316N200310,        A22,      63,          1,         22,         22,2,20031109,       1101,    35.7205,   -67.1882,       5142,   814.4,  10.8789,  35.3894,2,  35.3908,2,    140.1,2,   141.1,2,   10.98,2,   21.68,2,    0.00,2,    1.36,2,   1.142,2,   0.602,2,   0.026,2,  2177.6,2,  2333.7,2,    -999,9,     -999,9,    -999,9,    -999,9,    -999,9,    -999,    -999,9,    -999,9,    -999,9,  814.40,     1241,  35.7314, -67.2124,    -999,     -999,    -999,     -999,9,     -999,9,     -999,9,     -999,9,     -999,9,     -999,9,  10.7759,    -999,9,       -999,9,    -999,9,    -999,9
 316N200310,        A22,      63,          1,         21,         21,2,20031109,       1101,    35.7205,   -67.1882,       5142,   925.9,   8.9415,  35.2125,2,  35.2101,2,    157.5,2,   157.4,2,   12.72,2,   22.48,2,    0.00,2,    1.44,2,   1.111,2,   0.574,2,   0.033,2,  2183.6,2,    -999,9,    -999,9,     -999,9,    -999,9,    -999,9,    -999,9,    -999,    -999,9,   48.50,2,    -999,9,  925.90,     1238,  35.7308, -67.2117,    -999,     -999,    -999,     -999,9,     -999,9,     -999,9,     -999,9,     -999,9,     -999,9,   8.8369,    -999,9,       -999,9,    -999,9,    -999,9
 316N200310,        A22,      63,          1,         20,         20,2,20031109,       1101,    35.7205,   -67.1882,       5142,  1051.0,   7.0015,  35.1325,2,  35.1323,2,    187.4,2,   189.2,2,   13.12,2,   21.22,2,    0.00,2,    1.38,2,   1.168,2,   0.598,2,   0.042,2,    -999,9,    -999,9,    -999,9,     -999,9,    -999,9,    -999,9,    -999,9,    -999,    -999,9,    -999,9,    -999,9, 1051.00,     1235,  35.7304, -67.2114,    -999,     -999,    -999,     -999,9,     -999,9,     -999,9,     -999,9,     -999,9,     -999,9,   6.8968,    -999,9,       -999,9,    -999,9,    -999,9
 316N200310,        A22,      63,          1,         19,         19,2,20031109,       1101,    35.7205,   -67.1882,       5142,  1201.7,   5.7379,  35.0721,2,  35.0736,2,    217.7,2,   218.5,2,   12.38,2,   19.62,2,    0.00,2,    1.28,2,   1.632,2,   0.821,2,   0.091,2,    -999,9,    -999,9,    -999,9,     -999,9,    -999,9,    -999,9,    -999,9,    -999,    -999,9,   47.90,2,    -999,9, 1201.70,     1231,  35.7302, -67.2112,    -999,     -999,    -999,     -999,9,     -999,9,     -999,9,     -999,9,     -999,9,     -999,9,   5.6284,    -999,9,       -999,9,    -999,9,    -999,9
 316N200310,        A22,      63,          1,         18,         18,2,20031109,       1101,    35.7205,   -67.1882,       5142,  1354.5,   5.0417,  35.0429,2,  35.0423,2,    237.4,2,   238.0,2,   11.85,2,   18.61,2,    0.00,2,    1.22,2,   1.824,2,   0.923,2,   0.098,2,    -999,9,    -999,9,    -999,9,     -999,9,    -999,9,    -999,9,    -999,9,    -999,    -999,9,    -999,9,    -999,9, 1354.50,     1227,  35.7298, -67.2111,    -999,     -999,    -999,     -999,9,     -999,9,     -999,9,     -999,9,     -999,9,     -999,9,   4.9238,    -999,9,       -999,9,    -999,9,    -999,9
 316N200310,        A22,      63,          1,         17,         17,2,20031109,       1101,    35.7205,   -67.1882,       5142,  1503.7,   4.5734,  35.0120,2,  35.0120,2,    247.7,2,   249.6,2,   11.73,2,   18.12,2,    0.00,2,    1.18,2,   1.914,2,   0.960,2,   0.114,2,    -999,9,    -999,9,    -999,9,     -999,9,    -999,9,    -999,9,    -999,9,    -999,    -999,9,    -999,9,    -999,9, 1503.70,     1223,  35.7294, -67.2109,    -999,     -999,    -999,     -999,9,     -999,9,     -999,9,     -999,9,     -999,9,     -999,9,   4.4463,    -999,9,       -999,9,    -999,9,    -999,9
 316N200310,        A22,      63,          1,         16,         16,2,20031109,       1101,    35.7205,   -67.1882,       5142,  1653.4,   4.2861,  34.9941,2,  34.9937,2,    257.1,2,   255.6,2,   11.92,2,   17.96,2,    0.00,2,    1.17,2,   1.762,2,   0.875,2,   0.094,2,    -999,9,    -999,9,    -999,9,     -999,9,    -999,9,    -999,9,    -999,9,    -999,    -999,9,    -999,9,    -999,9, 1653.40,     1220,  35.7290, -67.2105,    -999,     -999,    -999,     -999,9,     -999,9,     -999,9,     -999,9,     -999,9,     -999,9,   4.1481,    -999,9,       -999,9,    -999,9,    -999,9
 316N200310,        A22,      63,          1,         15,         15,2,20031109,       1101,    35.7205,   -67.1882,       5142,  1808.2,   4.0063,  34.9731,2,  34.9752,2,    260.6,2,   261.3,2,   12.12,2,   17.81,2,    0.00,2,    1.17,2,    -999,9,    -999,9,    -999,9,    -999,9,    -999,9,    -999,9,     -999,9,    -999,9,    -999,9,    -999,9,    -999,    -999,9,    -999,9,    -999,9, 1808.20,     1215,  35.7287, -67.2102,    -999,     -999,    -999,     -999,9,     -999,9,     -999,9,     -999,9,     -999,9,     -999,9,   3.8572,    -999,9,       -999,9,    -999,9,    -999,9
 316N200310,        A22,      63,          1,         14,         14,2,20031109,       1101,    35.7205,   -67.1882,       5142,  2006.0,   3.7534,  34.9546,2,  34.9543,2,    265.9,2,   265.6,2,   12.51,2,   17.71,2,    0.00,2,    1.16,2,   1.606,2,   0.794,2,   0.084,2,    -999,9,    -999,9,    -999,9,     -999,9,    -999,9,    -999,9,    -999,9,    -999,    -999,9,    -999,9,    -999,9, 2006.00,     1209,  35.7276, -67.2099,    -999,     -999,    -999,     -999,9,     -999,9,     -999,9,     -999,9,     -999,9,     -999,9,   3.5890,    -999,9,       -999,9,    -999,9,    -999,9
 316N200310,        A22,      63,          1,         13,         13,2,20031109,       1101,    35.7205,   -67.1882,       5142,  2227.9,   3.5593,  34.9467,2,  34.9473,2,    267.8,2,   267.6,2,   13.43,2,   17.66,2,    0.00,2,    1.16,2,   1.407,2,   0.683,2,   0.071,2,    -999,9,    -999,9,    -999,9,     -999,9,    -999,9,    -999,9,    -999,9,    -999,    -999,9,    -999,9,    -999,9, 2227.90,     1204,  35.7269, -67.2084,    -999,     -999,    -999,     -999,9,     -999,9,     -999,9,     -999,9,     -999,9,     -999,9,   3.3764,    -999,9,       -999,9,    -999,9,    -999,9
 316N200310,        A22,      63,          1,         12,         12,2,20031109,       1101,    35.7205,   -67.1882,       5142,  2498.3,   3.4274,  34.9502,2,  34.9492,2,    266.6,2,   266.3,2,   15.18,2,   17.66,2,    0.00,2,    1.17,2,   1.062,2,   0.523,2,   0.051,2,    -999,9,    -999,9,    -999,9,     -999,9,    -999,9,    -999,9,    -999,9,    -999,    -999,9,    -999,9,    -999,9, 2498.30,     1159,  35.7264, -67.2062,    -999,     -999,    -999,     -999,9,     -999,9,     -999,9,     -999,9,     -999,9,     -999,9,   3.2198,    -999,9,       -999,9,    -999,9,    -999,9
 316N200310,        A22,      63,          1,         11,         11,2,20031109,       1101,    35.7205,   -67.1882,       5142,  2749.3,   3.2558,  34.9523,2,  34.9520,2,    264.5,2,   263.9,2,   17.55,2,   17.90,2,    0.00,2,    1.19,2,   0.677,2,   0.326,2,   0.034,2,    -999,9,    -999,9,    -999,9,     -999,9,    -999,9,    -999,9,    -999,9,    -999,    -999,9,    -999,9,    -999,9, 2749.30,     1154,  35.7261, -67.2041,    -999,     -999,    -999,     -999,9,     -999,9,     -999,9,     -999,9,     -999,9,     -999,9,   3.0258,    -999,9,       -999,9,    -999,9,    -999,9
 316N200310,        A22,      63,          1,         10,         10,2,20031109,       1101,    35.7205,   -67.1882,       5142,  3001.0,   3.0447,  34.9442,2,  34.9433,2,    264.7,2,   264.1,2,   19.61,2,   18.00,2,    0.00,2,    1.20,2,   0.533,2,   0.265,2,   0.022,2,    -999,9,    -999,9,    -999,9,     -999,9,    -999,9,    -999,9,    -999,9,    -999,    -999,9,    -999,9,    -999,9, 3001.00,     1149,  35.7257, -67.2020,    -999,     -999,    -999,     -999,9,     -999,9,     -999,9,     -999,9,     -999,9,     -999,9,   2.7928,    -999,9,       -999,9,    -999,9,    -999,9
 316N200310,        A22,      63,          1,          9,          9,2,20031109,       1101,    35.7205,   -67.1882,       5142,  3249.4,   2.7970,  34.9298,2,  34.9298,2,    266.7,2,   266.8,2,   20.75,2,   17.85,2,    0.00,2,    1.19,2,   0.577,2,   0.280,2,   0.019,2,    -999,9,    -999,9,    -999,9,     -999,9,    -999,9,    -999,9,    -999,9,    -999,    -999,9,    -999,9,    -999,9, 3249.40,     1143,  35.7253, -67.2003,    -999,     -999,    -999,     -999,9,     -999,9,     -999,9,     -999,9,     -999,9,     -999,9,   2.5243,    -999,9,       -999,9,    -999,9,    -999,9
 316N200310,        A22,      63,          1,          8,          8,2,20031109,       1101,    35.7205,   -67.1882,       5142,  3499.9,   2.5939,  34.9186,2,  34.9217,2,    267.9,2,   267.6,2,   22.72,2,   17.95,2,    0.00,2,    1.20,2,   0.591,2,   0.292,2,   0.032,2,    -999,9,    -999,9,    -999,9,     -999,9,    -999,9,    -999,9,    -999,9,    -999,    -999,9,    -999,9,    -999,9, 3499.90,     1139,  35.7248, -67.1985,    -999,     -999,    -999,     -999,9,     -999,9,     -999,9,     -999,9,     -999,9,     -999,9,   2.2991,    -999,9,       -999,9,    -999,9,    -999,9
 316N200310,        A22,      63,          1,          7,          7,2,20031109,       1101,    35.7205,   -67.1882,       5142,  3750.9,   2.4481,  34.9085,2,  34.9081,2,    268.0,2,   267.8,2,   24.80,2,   18.05,2,    0.00,2,    1.21,2,   0.535,2,   0.257,2,   0.025,2,    -999,9,    -999,9,    -999,9,     -999,9,    -999,9,    -999,9,    -999,9,    -999,    -999,9,    -999,9,    -999,9, 3750.90,     1133,  35.7243, -67.1967,    -999,     -999,    -999,     -999,9,     -999,9,     -999,9,     -999,9,     -999,9,     -999,9,   2.1294,    -999,9,       -999,9,    -999,9,    -999,9
 316N200310,        A22,      63,          1,          6,          6,2,20031109,       1101,    35.7205,   -67.1882,       5142,  4001.5,   2.3525,  34.9009,2,  34.9000,2,    266.9,2,   267.1,2,   27.21,2,   18.34,2,    0.00,2,    1.24,2,   0.531,2,   0.260,2,   0.027,2,    -999,9,    -999,9,    -999,9,     -999,9,    -999,9,    -999,9,    -999,9,    -999,    -999,9,    -999,9,    -999,9, 4001.50,     1128,  35.7239, -67.1953,    -999,     -999,    -999,     -999,9,     -999,9,     -999,9,     -999,9,     -999,9,     -999,9,   2.0082,    -999,9,       -999,9,    -999,9,    -999,9
 316N200310,        A22,      63,          1,          5,          5,2,20031109,       1101,    35.7205,   -67.1882,       5142,  4250.2,   2.3044,  34.8953,2,  34.8943,2,    265.5,2,   265.4,2,   29.82,2,   18.59,2,    0.00,2,    1.26,2,   0.491,2,   0.235,2,   0.027,2,    -999,9,    -999,9,    -999,9,     -999,9,    -999,9,    -999,9,    -999,9,    -999,    -999,9,    -999,9,    -999,9, 4250.20,     1123,  35.7234, -67.1940,    -999,     -999,    -999,     -999,9,     -999,9,     -999,9,     -999,9,     -999,9,     -999,9,   1.9328,    -999,9,       -999,9,    -999,9,    -999,9
 316N200310,        A22,      63,          1,          4,          4,2,20031109,       1101,    35.7205,   -67.1882,       5142,  4499.2,   2.2867,  34.8910,2,  34.8904,2,    263.8,2,   263.7,2,   32.02,2,   18.89,2,    0.00,2,    1.29,2,   0.461,2,   0.227,2,   0.023,2,    -999,9,    -999,9,    -999,9,     -999,9,    -999,9,    -999,9,    -999,9,    -999,    -999,9,    -999,9,    -999,9, 4499.20,     1117,  35.7227, -67.1925,    -999,     -999,    -999,     -999,9,     -999,9,     -999,9,     -999,9,     -999,9,     -999,9,   1.8861,    -999,9,       -999,9,    -999,9,    -999,9