BOTTLE,20220517CCHSIOLMM
EXPOCODE,SECT_ID,STNNBR,CASTNO,SAMPNO,BTLNBR,BTLNBR_FLAG_W,DATE,TIME,LATITUDE,LONGITUDE,DEPTH,CTDPRS,CTDTMP,CTDSAL,CTDSAL_FLAG_W,SALNTY,SALNTY_FLAG_W,CTDOXY,CTDOXY_FLAG_W,OXYGEN,OXYGEN_FLAG_W,SILCAT,SILCAT_FLAG_W,NITRAT,NITRAT_FLAG_W,NITRIT,NITRIT_FLAG_W,PHSPHT,PHSPHT_FLAG_W,CFC-11,CFC-11_FLAG_W,CFC-12,CFC-12_FLAG_W,CFC113,CFC113_FLAG_W,TCARBN,TCARBN_FLAG_W,ALKALI,ALKALI_FLAG_W,TRITUM,TRITUM_FLAG_W,HELIUM,HELIUM_FLAG_W,DELHE3,DELHE3_FLAG_W,DELC13,DELC13_FLAG_W,DELC14,DELC14_FLAG_W,C14ERR,CCL4,CCL4_FLAG_W,DOC,DOC_FLAG_W,TDN,TDN_FLAG_W,CTDRAW,BTL_TIME,BTL_LAT,BTL_LON,TRITER,HELIER,DELHER,CDOM325,CDOM325_FLAG_W,CDOM340,CDOM340_FLAG_W,CDOM380,CDOM380_FLAG_W,CDOM412,CDOM412_FLAG_W,CDOMSL,CDOMSL_FLAG_W,CDOMSN,CDOMSN_FLAG_W,THETA,BACT,BACT_FLAG_W,PROC,PROC_FLAG_W,SYN,SYN_FLAG_W,PEUK,PEUK_FLAG_W
,,,,,,,,,,,METERS,DBAR,ITS-90,PSS-78,,PSS-78,,UMOL/KG,,UMOL/KG,,UMOL/KG,,UMOL/KG,,UMOL/KG,,UMOL/KG,,PMOL/KG,,PMOL/KG,,PMOL/KG,,UMOL/KG,,UMOL/KG,,TU,,NMOL/KG,,PERCNT,,/MILLE,,/MILLE,,/MILLE,PMOL/KG,,UMOL/KG,,UMOL/KG,,DBAR,,,,TU,NMOL/KG,PERCNT,1/M,,1/M,,1/M,,1/M,,1/NM,,1/NM,,DEG C,E8/L,,E7/L,,E6/L,,E6/L,
 316N200310,        A22,      33,          1,          4,          4,2,20031030,       1840,    19.3547,   -66.0005,       7914,  5374.9,   2.1118,  34.8582,2,  34.8578,2,    252.8,2,   251.8,2,   49.97,2,   21.77,2,    0.00,2,    1.48,2,   0.146,2,   0.091,2,   0.012,2,    -999,9,    -999,9,    -999,9,     -999,9,    -999,9,    -999,9,    -999,9,    -999,    -999,9,    -999,9,    -999,9, 5374.90,     1857,  19.3547, -66.0003,    -999,     -999,    -999,     -999,9,     -999,9,     -999,9,     -999,9,     -999,9,     -999,9,   1.6079,    -999,9,       -999,9,    -999,9,    -999,9
 316N200310,        A22,      33,          1,          3,          3,2,20031030,       1840,    19.3547,   -66.0005,       7914,  5624.6,   2.0018,  34.8408,2,  34.8406,2,    246.6,2,   246.8,2,   58.43,2,   23.11,2,    0.00,2,    1.57,2,   0.070,2,   0.043,2,   0.004,2,    -999,9,    -999,9,    -999,9,     -999,9,    -999,9,    -999,9,    -999,9,    -999,    -999,9,    -999,9,    -999,9, 5624.60,     1851,  19.3547, -66.0004,    -999,     -999,    -999,     -999,9,     -999,9,     -999,9,     -999,9,     -999,9,     -999,9,   1.4694,    -999,9,       -999,9,    -999,9,    -999,9
 316N200310,        A22,      33,          1,          2,          2,2,20031030,       1840,    19.3547,   -66.0005,       7914,  5874.5,   1.9914,  34.8353,2,  34.8349,2,    245.5,2,   245.4,2,   61.07,2,   23.52,2,    0.00,2,    1.60,2,   0.059,2,   0.037,2,   0.006,2,    -999,9,    -999,9,    -999,9,   1.9950,2,    6.71,2,    -999,9,    -999,9,    -999,    -999,9,    -999,9,    -999,9, 5874.50,     1845,  19.3546, -66.0005,    -999,   0.0100,    0.15,     -999,9,     -999,9,     -999,9,     -999,9,     -999,9,     -999,9,   1.4262,    -999,9,       -999,9,    -999,9,    -999,9
 316N200310,        A22,      33,          1,          1,          1,2,20031030,       1840,    19.3547,   -66.0005,       7914,  6002.3,   1.9986,  34.8339,2,  34.8334,2,    245.1,2,   245.4,2,   61.67,2,   23.57,2,    0.00,2,    1.60,2,   0.059,2,   0.033,2,   0.003,2,    -999,9,    -999,9,    -999,9,     -999,9,    -999,9,    -999,9,    -999,9,    -999,    -999,9,    -999,9,    -999,9, 6002.30,     1841,  19.3546, -66.0006,    -999,     -999,    -999,     -999,9,     -999,9,     -999,9,     -999,9,     -999,9,     -999,9,   1.4158,    -999,9,       -999,9,    -999,9,    -999,9