BOTTLE,20220517CCHSIOLMM
EXPOCODE,SECT_ID,STNNBR,CASTNO,SAMPNO,BTLNBR,BTLNBR_FLAG_W,DATE,TIME,LATITUDE,LONGITUDE,DEPTH,CTDPRS,CTDTMP,CTDSAL,CTDSAL_FLAG_W,SALNTY,SALNTY_FLAG_W,CTDOXY,CTDOXY_FLAG_W,OXYGEN,OXYGEN_FLAG_W,SILCAT,SILCAT_FLAG_W,NITRAT,NITRAT_FLAG_W,NITRIT,NITRIT_FLAG_W,PHSPHT,PHSPHT_FLAG_W,CFC-11,CFC-11_FLAG_W,CFC-12,CFC-12_FLAG_W,CFC113,CFC113_FLAG_W,TCARBN,TCARBN_FLAG_W,ALKALI,ALKALI_FLAG_W,TRITUM,TRITUM_FLAG_W,HELIUM,HELIUM_FLAG_W,DELHE3,DELHE3_FLAG_W,DELC13,DELC13_FLAG_W,DELC14,DELC14_FLAG_W,C14ERR,CCL4,CCL4_FLAG_W,DOC,DOC_FLAG_W,TDN,TDN_FLAG_W,CTDRAW,BTL_TIME,BTL_LAT,BTL_LON,TRITER,HELIER,DELHER,CDOM325,CDOM325_FLAG_W,CDOM340,CDOM340_FLAG_W,CDOM380,CDOM380_FLAG_W,CDOM412,CDOM412_FLAG_W,CDOMSL,CDOMSL_FLAG_W,CDOMSN,CDOMSN_FLAG_W,THETA,BACT,BACT_FLAG_W,PROC,PROC_FLAG_W,SYN,SYN_FLAG_W,PEUK,PEUK_FLAG_W
,,,,,,,,,,,METERS,DBAR,ITS-90,PSS-78,,PSS-78,,UMOL/KG,,UMOL/KG,,UMOL/KG,,UMOL/KG,,UMOL/KG,,UMOL/KG,,PMOL/KG,,PMOL/KG,,PMOL/KG,,UMOL/KG,,UMOL/KG,,TU,,NMOL/KG,,PERCNT,,/MILLE,,/MILLE,,/MILLE,PMOL/KG,,UMOL/KG,,UMOL/KG,,DBAR,,,,TU,NMOL/KG,PERCNT,1/M,,1/M,,1/M,,1/M,,1/NM,,1/NM,,DEG C,E8/L,,E7/L,,E6/L,,E6/L,
 316N200310,        A22,      48,          1,          4,          4,2,20031104,       0650,    28.2407,   -66.0055,       4859,  4624.0,   2.2559,  34.8875,2,  34.8890,4,    261.8,2,   261.8,2,   34.93,2,   19.64,2,    0.00,2,    1.31,2,   0.310,2,   0.175,2,   0.013,2,  2180.0,2,  2335.8,2,    -999,9,     -999,9,    -999,9,    -999,9,    -999,9,    -999,   0.634,2,   41.40,2,    -999,9, 4624.00,      704,  28.2443, -66.0063,    -999,     -999,    -999,   0.1340,2,   0.0950,2,   0.0440,2,   0.0280,2,   0.0190,2,   0.0200,2,   1.8413,    -999,9,       -999,9,    -999,9,    -999,9
 316N200310,        A22,      48,          1,          3,          3,2,20031104,       0650,    28.2407,   -66.0055,       4859,  4857.3,   2.2128,  34.8789,2,  34.8808,4,    258.4,2,   258.2,2,   39.68,2,   20.37,2,    0.00,2,    1.36,2,   0.215,2,   0.117,2,   0.017,2,  2185.6,2,  2341.2,2,   0.212,2,   1.9061,2,    2.33,2,    -999,9,    -999,9,    -999,   0.482,2,   41.10,2,    -999,9, 4857.30,      659,  28.2431, -66.0062,   0.011,   0.0095,    0.15,   0.1210,2,   0.0840,2,   0.0390,2,   0.0240,2,   0.0200,2,   0.0210,2,   1.7709,    -999,9,       -999,9,    -999,9,    -999,9
 316N200310,        A22,      48,          1,          2,          2,2,20031104,       0650,    28.2407,   -66.0055,       4859,  5046.0,   2.1980,  34.8741,2,  34.8749,4,    256.7,2,   256.5,2,   42.36,2,   20.80,2,    0.00,2,    1.39,2,   0.171,2,   0.107,2,   0.011,2,  2190.6,2,  2343.2,2,    -999,9,     -999,9,    -999,9,    -999,9,    -999,9,    -999,   0.411,2,   41.10,2,    -999,9, 5046.00,      655,  28.2421, -66.0059,    -999,     -999,    -999,   0.1230,2,   0.0860,2,   0.0400,2,   0.0250,2,   0.0190,2,   0.0210,2,   1.7330,    -999,9,       -999,9,    -999,9,    -999,9
 316N200310,        A22,      48,          1,          1,          1,2,20031104,       0650,    28.2407,   -66.0055,       4859,  5216.2,   2.1852,  34.8695,2,  34.8696,4,    254.2,2,   453.3,4,   44.74,2,   21.15,2,    0.00,2,    1.41,2,   0.138,2,   0.081,2,   0.001,2,  2192.8,2,  2345.6,6,   0.114,2,   1.8948,2,    1.69,2,    -999,9,    -999,9,    -999,   0.359,2,   41.30,2,    -999,9, 5216.20,      651,  28.2409, -66.0056,   0.011,   0.0095,    0.15,   0.1190,2,   0.0830,2,   0.0380,2,   0.0240,2,   0.0200,2,   0.0210,2,   1.6991,    -999,9,       -999,9,    -999,9,    -999,9