BOTTLE,20220517CCHSIOLMM
EXPOCODE,SECT_ID,STNNBR,CASTNO,SAMPNO,BTLNBR,BTLNBR_FLAG_W,DATE,TIME,LATITUDE,LONGITUDE,DEPTH,CTDPRS,CTDTMP,CTDSAL,CTDSAL_FLAG_W,SALNTY,SALNTY_FLAG_W,CTDOXY,CTDOXY_FLAG_W,OXYGEN,OXYGEN_FLAG_W,SILCAT,SILCAT_FLAG_W,NITRAT,NITRAT_FLAG_W,NITRIT,NITRIT_FLAG_W,PHSPHT,PHSPHT_FLAG_W,CFC-11,CFC-11_FLAG_W,CFC-12,CFC-12_FLAG_W,CFC113,CFC113_FLAG_W,TCARBN,TCARBN_FLAG_W,ALKALI,ALKALI_FLAG_W,TRITUM,TRITUM_FLAG_W,HELIUM,HELIUM_FLAG_W,DELHE3,DELHE3_FLAG_W,DELC13,DELC13_FLAG_W,DELC14,DELC14_FLAG_W,C14ERR,CCL4,CCL4_FLAG_W,DOC,DOC_FLAG_W,TDN,TDN_FLAG_W,CTDRAW,BTL_TIME,BTL_LAT,BTL_LON,TRITER,HELIER,DELHER,CDOM325,CDOM325_FLAG_W,CDOM340,CDOM340_FLAG_W,CDOM380,CDOM380_FLAG_W,CDOM412,CDOM412_FLAG_W,CDOMSL,CDOMSL_FLAG_W,CDOMSN,CDOMSN_FLAG_W,THETA,BACT,BACT_FLAG_W,PROC,PROC_FLAG_W,SYN,SYN_FLAG_W,PEUK,PEUK_FLAG_W
,,,,,,,,,,,METERS,DBAR,ITS-90,PSS-78,,PSS-78,,UMOL/KG,,UMOL/KG,,UMOL/KG,,UMOL/KG,,UMOL/KG,,UMOL/KG,,PMOL/KG,,PMOL/KG,,PMOL/KG,,UMOL/KG,,UMOL/KG,,TU,,NMOL/KG,,PERCNT,,/MILLE,,/MILLE,,/MILLE,PMOL/KG,,UMOL/KG,,UMOL/KG,,DBAR,,,,TU,NMOL/KG,PERCNT,1/M,,1/M,,1/M,,1/M,,1/NM,,1/NM,,DEG C,E8/L,,E7/L,,E6/L,,E6/L,
 316N200310,        A22,      23,          1,         15,         15,2,20031028,       2245,    17.7355,   -65.9997,        933,     2.7,  29.5981,  34.8905,2,  34.8890,2,    194.8,2,   193.2,2,    1.31,2,    0.01,2,    0.00,2,    0.01,2,    -999,9,    -999,9,    -999,9,  1950.0,2,  2301.2,2,    -999,9,     -999,9,    -999,9,    -999,9,    -999,9,    -999,    -999,9,    -999,9,    -999,9,    2.70,     2314,  17.7374, -65.9997,    -999,     -999,    -999,     -999,9,     -999,9,     -999,9,     -999,9,     -999,9,     -999,9,  29.5975,    -999,9,       -999,9,    -999,9,    -999,9
 316N200310,        A22,      23,          1,         14,         14,2,20031028,       2245,    17.7355,   -65.9997,        933,    25.8,  29.2561,  35.2638,2,  35.3114,2,    196.7,2,   195.4,2,    0.81,2,    0.01,2,    0.00,2,    0.01,2,    -999,9,    -999,9,    -999,9,    -999,9,    -999,9,    -999,9,     -999,9,    -999,9,    -999,9,    -999,9,    -999,    -999,9,    -999,9,    -999,9,   25.80,     2313,  17.7373, -65.9998,    -999,     -999,    -999,     -999,9,     -999,9,     -999,9,     -999,9,     -999,9,     -999,9,  29.2498,    -999,9,       -999,9,    -999,9,    -999,9
 316N200310,        A22,      23,          1,         13,         13,2,20031028,       2245,    17.7355,   -65.9997,        933,    50.8,  28.0992,  36.4180,2,  36.4188,2,    201.4,2,   200.2,2,    0.70,2,    0.00,2,    0.00,2,    0.02,2,    -999,9,    -999,9,    -999,9,    -999,9,    -999,9,    -999,9,     -999,9,    -999,9,    -999,9,    -999,9,    -999,    -999,9,    -999,9,    -999,9,   50.80,     2311,  17.7373, -65.9998,    -999,     -999,    -999,     -999,9,     -999,9,     -999,9,     -999,9,     -999,9,     -999,9,  28.0872,    -999,9,       -999,9,    -999,9,    -999,9
 316N200310,        A22,      23,          1,         12,         12,2,20031028,       2245,    17.7355,   -65.9997,        933,    75.7,  26.7948,  36.9099,2,  36.9060,2,    201.2,2,   201.7,2,    0.70,2,    0.00,2,    0.01,2,    0.02,2,    -999,9,    -999,9,    -999,9,    -999,9,    -999,9,    -999,9,     -999,9,    -999,9,    -999,9,    -999,9,    -999,    -999,9,    -999,9,    -999,9,   75.70,     2310,  17.7372, -65.9998,    -999,     -999,    -999,     -999,9,     -999,9,     -999,9,     -999,9,     -999,9,     -999,9,  26.7775,    -999,9,       -999,9,    -999,9,    -999,9
 316N200310,        A22,      23,          1,         11,         11,2,20031028,       2245,    17.7355,   -65.9997,        933,   100.7,  25.7724,  37.0895,2,  37.0901,2,    193.5,2,   193.3,2,    0.60,2,    0.16,2,    0.15,2,    0.02,2,    -999,9,    -999,9,    -999,9,    -999,9,    -999,9,    -999,9,     -999,9,    -999,9,    -999,9,    -999,9,    -999,    -999,9,    -999,9,    -999,9,  100.70,     2309,  17.7371, -65.9999,    -999,     -999,    -999,     -999,9,     -999,9,     -999,9,     -999,9,     -999,9,     -999,9,  25.7499,    -999,9,       -999,9,    -999,9,    -999,9
 316N200310,        A22,      23,          1,         10,         10,2,20031028,       2245,    17.7355,   -65.9997,        933,   125.3,  24.9638,  37.2488,2,  37.2449,2,    191.4,2,   190.5,2,    0.40,2,    0.53,2,    0.07,2,    0.03,2,    -999,9,    -999,9,    -999,9,    -999,9,    -999,9,    -999,9,     -999,9,    -999,9,    -999,9,    -999,9,    -999,    -999,9,    -999,9,    -999,9,  125.30,     2307,  17.7370, -65.9999,    -999,     -999,    -999,     -999,9,     -999,9,     -999,9,     -999,9,     -999,9,     -999,9,  24.9364,    -999,9,       -999,9,    -999,9,    -999,9
 316N200310,        A22,      23,          1,          9,          9,2,20031028,       2245,    17.7355,   -65.9997,        933,   150.9,  23.6792,  37.2291,2,  37.2206,2,    186.2,2,   185.4,2,    0.40,2,    0.85,2,    0.04,2,    0.05,2,   1.916,2,   1.131,2,   0.116,2,    -999,9,    -999,9,    -999,9,     -999,9,    -999,9,    -999,9,    -999,9,    -999,    -999,9,    -999,9,    -999,9,  150.90,     2306,  17.7370, -65.9999,    -999,     -999,    -999,     -999,9,     -999,9,     -999,9,     -999,9,     -999,9,     -999,9,  23.6474,    -999,9,       -999,9,    -999,9,    -999,9
 316N200310,        A22,      23,          1,          8,          8,2,20031028,       2245,    17.7355,   -65.9997,        933,   200.7,  20.5101,  36.9056,2,  36.9010,2,    175.9,2,   176.2,2,    0.59,2,    2.65,2,    0.02,2,    0.11,2,    -999,9,    -999,9,    -999,9,    -999,9,    -999,9,    -999,9,     -999,9,    -999,9,    -999,9,    -999,9,    -999,    -999,9,    -999,9,    -999,9,  200.70,     2304,  17.7369, -65.9999,    -999,     -999,    -999,     -999,9,     -999,9,     -999,9,     -999,9,     -999,9,     -999,9,  20.4719,    -999,9,       -999,9,    -999,9,    -999,9
 316N200310,        A22,      23,          1,          7,          7,2,20031028,       2245,    17.7355,   -65.9997,        933,   250.9,  18.8876,  36.6551,2,  36.6451,2,    182.1,2,   182.5,2,    0.79,2,    4.19,2,    0.01,2,    0.19,2,   2.229,2,   1.316,2,   0.014,2,    -999,9,    -999,9,    -999,9,     -999,9,    -999,9,    -999,9,    -999,9,    -999,   0.301,2,    -999,9,    -999,9,  250.90,     2302,  17.7367, -65.9999,    -999,     -999,    -999,     -999,9,     -999,9,     -999,9,     -999,9,     -999,9,     -999,9,  18.8425,    -999,9,       -999,9,    -999,9,    -999,9
 316N200310,        A22,      23,          1,          6,          6,2,20031028,       2245,    17.7355,   -65.9997,        933,   301.0,  17.8031,  36.4902,2,  36.4828,2,    178.3,2,   178.6,2,    1.49,2,    6.51,2,    0.01,2,    0.34,2,   2.231,2,   1.300,2,   0.014,2,    -999,9,    -999,9,    -999,9,     -999,9,    -999,9,    -999,9,    -999,9,    -999,   0.315,2,    -999,9,    -999,9,  301.00,     2301,  17.7366, -65.9999,    -999,     -999,    -999,     -999,9,     -999,9,     -999,9,     -999,9,     -999,9,     -999,9,  17.7511,    -999,9,       -999,9,    -999,9,    -999,9
 316N200310,        A22,      23,          1,          5,          5,2,20031028,       2245,    17.7355,   -65.9997,        933,   400.7,  15.0607,  36.0083,2,  36.0003,2,    147.3,2,   149.1,2,    4.49,2,   14.12,2,    0.01,2,    0.82,2,   1.986,2,   1.106,2,   0.018,2,    -999,9,    -999,9,    -999,9,     -999,9,    -999,9,    -999,9,    -999,9,    -999,   0.276,2,    -999,9,    -999,9,  400.70,     2258,  17.7364, -65.9999,    -999,     -999,    -999,     -999,9,     -999,9,     -999,9,     -999,9,     -999,9,     -999,9,  14.9990,    -999,9,       -999,9,    -999,9,    -999,9
 316N200310,        A22,      23,          1,          4,          4,2,20031028,       2245,    17.7355,   -65.9997,        933,   500.9,  12.5091,  35.5981,2,  35.5946,2,    137.5,2,   136.3,2,    7.99,2,   19.64,2,    0.01,2,    1.20,2,   1.521,2,   0.807,2,   0.011,2,    -999,9,    -999,9,    -999,9,     -999,9,    -999,9,    -999,9,    -999,9,    -999,   0.254,2,    -999,9,    -999,9,  500.90,     2256,  17.7362, -65.9998,    -999,     -999,    -999,     -999,9,     -999,9,     -999,9,     -999,9,     -999,9,     -999,9,  12.4408,    -999,9,       -999,9,    -999,9,    -999,9
 316N200310,        A22,      23,          1,          3,          3,2,20031028,       2245,    17.7355,   -65.9997,        933,   625.7,  10.0697,  35.2271,2,  35.2225,2,    126.5,2,   127.9,2,   12.90,2,   25.16,2,    0.01,2,    1.59,2,   0.876,6,   0.478,6,   0.009,6,    -999,9,    -999,9,    -999,9,     -999,9,    -999,9,    -999,9,    -999,9,    -999,   0.227,6,    -999,9,    -999,9,  625.70,     2253,  17.7360, -65.9998,    -999,     -999,    -999,     -999,9,     -999,9,     -999,9,     -999,9,     -999,9,     -999,9,   9.9950,    -999,9,       -999,9,    -999,9,    -999,9
 316N200310,        A22,      23,          1,          2,          2,2,20031028,       2245,    17.7355,   -65.9997,        933,   750.4,   7.9957,  34.9820,2,  34.9758,2,    127.7,2,   129.1,2,   18.23,2,   28.69,2,    0.01,2,    1.87,2,   0.403,2,   0.228,2,   0.020,2,    -999,9,    -999,9,    -999,9,     -999,9,    -999,9,    -999,9,    -999,9,    -999,   0.175,2,    -999,9,    -999,9,  750.40,     2250,  17.7358, -65.9997,    -999,     -999,    -999,     -999,9,     -999,9,     -999,9,     -999,9,     -999,9,     -999,9,   7.9171,    -999,9,       -999,9,    -999,9,    -999,9
 316N200310,        A22,      23,          1,          1,          1,2,20031028,       2245,    17.7355,   -65.9997,        933,   976.4,   6.0216,  34.9084,2,  34.9050,2,    159.5,2,   158.2,2,   22.13,2,   27.73,2,    0.01,2,    1.85,2,   0.165,2,   0.098,2,   0.005,2,    -999,9,    -999,9,    -999,9,     -999,9,    -999,9,    -999,9,    -999,9,    -999,   0.155,2,    -999,9,    -999,9,  976.40,     2245,  17.7355, -65.9996,    -999,     -999,    -999,     -999,9,     -999,9,     -999,9,     -999,9,     -999,9,     -999,9,   5.9323,    -999,9,       -999,9,    -999,9,    -999,9