BOTTLE,20220517CCHSIOLMM
EXPOCODE,SECT_ID,STNNBR,CASTNO,SAMPNO,BTLNBR,BTLNBR_FLAG_W,DATE,TIME,LATITUDE,LONGITUDE,DEPTH,CTDPRS,CTDTMP,CTDSAL,CTDSAL_FLAG_W,SALNTY,SALNTY_FLAG_W,CTDOXY,CTDOXY_FLAG_W,OXYGEN,OXYGEN_FLAG_W,SILCAT,SILCAT_FLAG_W,NITRAT,NITRAT_FLAG_W,NITRIT,NITRIT_FLAG_W,PHSPHT,PHSPHT_FLAG_W,CFC-11,CFC-11_FLAG_W,CFC-12,CFC-12_FLAG_W,CFC113,CFC113_FLAG_W,TCARBN,TCARBN_FLAG_W,ALKALI,ALKALI_FLAG_W,TRITUM,TRITUM_FLAG_W,HELIUM,HELIUM_FLAG_W,DELHE3,DELHE3_FLAG_W,DELC13,DELC13_FLAG_W,DELC14,DELC14_FLAG_W,C14ERR,CCL4,CCL4_FLAG_W,DOC,DOC_FLAG_W,TDN,TDN_FLAG_W,CTDRAW,BTL_TIME,BTL_LAT,BTL_LON,TRITER,HELIER,DELHER,CDOM325,CDOM325_FLAG_W,CDOM340,CDOM340_FLAG_W,CDOM380,CDOM380_FLAG_W,CDOM412,CDOM412_FLAG_W,CDOMSL,CDOMSL_FLAG_W,CDOMSN,CDOMSN_FLAG_W,THETA,BACT,BACT_FLAG_W,PROC,PROC_FLAG_W,SYN,SYN_FLAG_W,PEUK,PEUK_FLAG_W
,,,,,,,,,,,METERS,DBAR,ITS-90,PSS-78,,PSS-78,,UMOL/KG,,UMOL/KG,,UMOL/KG,,UMOL/KG,,UMOL/KG,,UMOL/KG,,PMOL/KG,,PMOL/KG,,PMOL/KG,,UMOL/KG,,UMOL/KG,,TU,,NMOL/KG,,PERCNT,,/MILLE,,/MILLE,,/MILLE,PMOL/KG,,UMOL/KG,,UMOL/KG,,DBAR,,,,TU,NMOL/KG,PERCNT,1/M,,1/M,,1/M,,1/M,,1/NM,,1/NM,,DEG C,E8/L,,E7/L,,E6/L,,E6/L,
 316N200310,        A22,      40,          1,         35,         35,2,20031101,       2029,    22.8595,   -65.9805,       5832,     3.4,  28.1151,  36.5401,2,  36.5357,2,    194.9,2,   197.1,2,    1.08,2,    0.15,2,    0.00,2,    0.02,2,   1.598,2,   0.937,2,   0.080,2,  2017.8,2,  2396.4,6,    -999,9,     -999,9,    -999,9,    -999,9,    -999,9,    -999,   1.610,2,   73.20,2,    4.80,2,    3.40,     2243,  22.8550, -65.9622,    -999,     -999,    -999,     -999,9,     -999,9,     -999,9,     -999,9,     -999,9,     -999,9,  28.1143,    1.89,2,       1.11,2,    5.64,2,    0.41,2
 316N200310,        A22,      40,          1,         34,         34,2,20031101,       2029,    22.8595,   -65.9805,       5832,    25.7,  28.1145,  36.5411,2,  36.5365,2,    196.5,2,   196.9,2,    1.07,2,    0.20,2,    0.00,2,    0.01,2,   1.571,2,   0.934,2,   0.084,2,  2018.3,2,  2396.0,2,    -999,9,     -999,9,    -999,9,    -999,9,    -999,9,    -999,   1.614,2,   72.60,2,    4.40,2,   25.70,     2241,  22.8550, -65.9624,    -999,     -999,    -999,     -999,9,     -999,9,     -999,9,     -999,9,     -999,9,     -999,9,  28.1084,    2.53,2,       5.13,2,    2.52,2,    0.57,2
 316N200310,        A22,      40,          1,         33,         33,2,20031101,       2029,    22.8595,   -65.9805,       5832,    76.2,  26.0247,  36.7813,2,  36.7508,2,    211.4,2,   210.1,2,    0.96,2,    0.24,2,    0.00,2,    0.01,2,   1.775,2,   1.070,2,   0.067,2,  2040.1,2,  2407.4,2,    -999,9,     -999,9,    -999,9,    -999,9,    -999,9,    -999,   0.962,2,   66.50,2,    4.20,2,   76.20,     2240,  22.8551, -65.9626,    -999,     -999,    -999,     -999,9,     -999,9,     -999,9,     -999,9,     -999,9,     -999,9,  26.0075,    2.64,2,       8.33,2,    1.17,2,    0.96,2
 316N200310,        A22,      40,          1,         32,         32,2,20031101,       2029,    22.8595,   -65.9805,       5832,   125.7,  22.3070,  36.9022,2,  36.9282,2,    196.6,2,   198.1,2,    0.64,2,    0.27,2,    0.03,2,    0.02,2,   2.015,2,   1.221,2,   0.107,2,  2084.7,2,  2413.6,2,    -999,9,     -999,9,    -999,9,    -999,9,    -999,9,    -999,   0.749,2,   59.00,2,    4.30,2,  125.70,     2238,  22.8551, -65.9629,    -999,     -999,    -999,     -999,9,     -999,9,     -999,9,     -999,9,     -999,9,     -999,9,  22.2816,    1.28,2,       6.62,2,    0.06,2,    0.90,2
 316N200310,        A22,      40,          1,         31,         31,2,20031101,       2029,    22.8595,   -65.9805,       5832,   176.7,  20.3087,  36.8256,2,  36.8226,2,    177.2,2,   181.5,2,    0.82,2,    2.33,2,    0.01,2,    0.07,2,   2.127,2,   1.291,2,   0.038,2,  2112.4,2,  2406.8,2,    -999,9,     -999,9,    -999,9,    -999,9,    -999,9,    -999,   0.300,2,   51.40,2,    5.50,2,  176.70,     2236,  22.8552, -65.9631,    -999,     -999,    -999,     -999,9,     -999,9,     -999,9,     -999,9,     -999,9,     -999,9,  20.2753,    0.88,2,       0.73,2,    0.00,2,    0.59,2
 316N200310,        A22,      40,          1,         30,         30,2,20031101,       2029,    22.8595,   -65.9805,       5832,   224.9,  19.1830,  36.7151,2,  36.7115,2,    173.0,2,   172.6,2,    1.30,2,    5.18,2,    0.01,2,    0.22,2,   2.203,2,   1.273,2,   0.012,2,  2126.3,2,  2398.8,2,    -999,9,     -999,9,    -999,9,    -999,9,    -999,9,    -999,   0.265,2,   50.00,2,    7.70,4,  224.90,     2234,  22.8552, -65.9634,    -999,     -999,    -999,     -999,9,     -999,9,     -999,9,     -999,9,     -999,9,     -999,9,  19.1422,    -999,9,       -999,9,    -999,9,    -999,9
 316N200310,        A22,      40,          1,         29,         29,2,20031101,       2029,    22.8595,   -65.9805,       5832,   275.4,  18.1301,  36.5439,2,  36.5408,2,    183.1,2,   185.5,2,    1.48,2,    5.75,2,    0.00,2,    0.25,2,   2.284,2,   1.307,2,   0.017,2,  2116.2,2,  2388.3,2,    -999,9,     -999,9,    -999,9,    -999,9,    -999,9,    -999,   0.312,2,   48.70,2,    7.60,4,  275.40,     2232,  22.8553, -65.9637,    -999,     -999,    -999,     -999,9,     -999,9,     -999,9,     -999,9,     -999,9,     -999,9,  18.0820,    -999,9,       -999,9,    -999,9,    -999,9
 316N200310,        A22,      40,          1,         28,         28,2,20031101,       2029,    22.8595,   -65.9805,       5832,   350.6,  17.0839,  36.3742,2,  36.3718,2,    185.4,2,   181.9,2,    2.25,2,    8.06,2,    0.00,2,    0.40,2,   2.267,2,   1.286,2,   0.021,2,  2124.4,2,  2379.0,2,    -999,9,     -999,9,    -999,9,    -999,9,    -999,9,    -999,   0.367,2,   48.60,2,    -999,9,  350.60,     2230,  22.8553, -65.9640,    -999,     -999,    -999,     -999,9,     -999,9,     -999,9,     -999,9,     -999,9,     -999,9,  17.0250,    -999,9,       -999,9,    -999,9,    -999,9
 316N200310,        A22,      40,          1,         27,         27,2,20031101,       2029,    22.8595,   -65.9805,       5832,   451.0,  15.3134,  36.0804,2,  36.0780,2,    171.2,2,   165.1,2,    3.92,2,   12.36,2,    0.00,2,    0.67,2,   2.099,2,   1.137,2,   0.020,2,  2144.5,2,  2364.2,2,    -999,9,     -999,9,    -999,9,    -999,9,    -999,9,    -999,   0.322,2,   45.10,2,    -999,9,  451.00,     2228,  22.8554, -65.9644,    -999,     -999,    -999,     -999,9,     -999,9,     -999,9,     -999,9,     -999,9,     -999,9,  15.2431,    -999,9,       -999,9,    -999,9,    -999,9
 316N200310,        A22,      40,          1,         26,         26,2,20031101,       2029,    22.8595,   -65.9805,       5832,   576.0,  12.8315,  35.6956,2,  35.6950,2,    152.6,2,   152.6,2,    6.88,2,   17.51,2,    0.00,2,    1.02,2,   1.586,2,   0.822,2,   0.015,2,  2163.8,2,  2345.0,2,    -999,9,     -999,9,    -999,9,    -999,9,    -999,9,    -999,   0.283,2,   45.20,2,    -999,9,  576.00,     2224,  22.8555, -65.9649,    -999,     -999,    -999,     -999,9,     -999,9,     -999,9,     -999,9,     -999,9,     -999,9,  12.7513,    -999,9,       -999,9,    -999,9,    -999,9
 316N200310,        A22,      40,          1,         25,         25,2,20031101,       2029,    22.8595,   -65.9805,       5832,   699.4,  10.7098,  35.3970,2,  35.3955,2,    142.8,2,   143.3,2,   10.85,2,   21.85,2,    0.00,2,    1.35,2,   0.935,2,   0.483,2,   0.001,2,  2180.2,2,  2334.3,2,    -999,9,     -999,9,    -999,9,    -999,9,    -999,9,    -999,   0.224,2,   43.80,2,    -999,9,  699.40,     2221,  22.8555, -65.9654,    -999,     -999,    -999,     -999,9,     -999,9,     -999,9,     -999,9,     -999,9,     -999,9,  10.6227,    -999,9,       -999,9,    -999,9,    -999,9
 316N200310,        A22,      40,          1,         24,         24,2,20031101,       2029,    22.8595,   -65.9805,       5832,   824.9,   8.3694,  35.1214,2,  35.1197,2,    143.4,2,   141.0,2,   16.12,2,   25.79,2,    0.00,2,    1.66,2,   0.384,2,   0.206,2,   0.001,2,  2195.6,2,  2324.7,6,    -999,9,     -999,9,    -999,9,    -999,9,    -999,9,    -999,   0.165,2,    -999,9,    -999,9,  824.90,     2218,  22.8556, -65.9659,    -999,     -999,    -999,     -999,9,     -999,9,     -999,9,     -999,9,     -999,9,     -999,9,   8.2802,    -999,9,       -999,9,    -999,9,    -999,9
 316N200310,        A22,      40,          1,         23,         23,2,20031101,       2029,    22.8595,   -65.9805,       5832,   974.9,   6.5755,  34.9791,2,  34.9778,2,    154.4,2,   155.8,2,   19.62,2,   26.70,2,    0.00,2,    1.77,2,   0.196,2,   0.109,2,   0.010,2,  2199.6,2,  2321.3,2,    -999,9,     -999,9,    -999,9,    -999,9,    -999,9,    -999,   0.196,2,   41.50,2,    -999,9,  974.90,     2215,  22.8557, -65.9664,    -999,     -999,    -999,     -999,9,     -999,9,     -999,9,     -999,9,     -999,9,     -999,9,   6.4821,    -999,9,       -999,9,    -999,9,    -999,9
 316N200310,        A22,      40,          1,         22,         22,2,20031101,       2029,    22.8595,   -65.9805,       5832,  1123.8,   5.8702,  35.0516,2,  35.0512,2,    194.9,2,   197.4,2,   16.00,2,   22.44,2,    0.00,2,    1.47,2,   0.478,2,   0.248,2,   0.031,2,  2182.0,2,  2321.2,2,    -999,9,     -999,9,    -999,9,    -999,9,    -999,9,    -999,   0.566,2,    -999,9,    -999,9, 1123.80,     2212,  22.8558, -65.9668,    -999,     -999,    -999,     -999,9,     -999,9,     -999,9,     -999,9,     -999,9,     -999,9,   5.7672,    -999,9,       -999,9,    -999,9,    -999,9
 316N200310,        A22,      40,          1,         21,         21,2,20031101,       2029,    22.8595,   -65.9805,       5832,  1275.7,   5.2100,  35.0661,2,  35.0669,2,    224.9,2,   226.3,2,   13.78,2,   20.01,2,    0.00,2,    1.30,2,   0.723,2,   0.368,2,   0.029,2,  2172.1,2,  2316.7,2,    -999,9,     -999,9,    -999,9,    -999,9,    -999,9,    -999,   0.985,2,   43.00,2,    -999,9, 1275.70,     2208,  22.8559, -65.9673,    -999,     -999,    -999,     -999,9,     -999,9,     -999,9,     -999,9,     -999,9,     -999,9,   5.0980,    -999,9,       -999,9,    -999,9,    -999,9
 316N200310,        A22,      40,          1,         20,         20,2,20031101,       2029,    22.8595,   -65.9805,       5832,  1425.3,   4.6129,  35.0312,2,  35.0311,2,    242.8,2,   243.5,2,   13.17,2,   19.07,2,    0.00,2,    1.23,2,   0.809,2,   0.416,2,   0.023,2,  2165.2,2,  2316.5,2,    -999,9,     -999,9,    -999,9,    -999,9,    -999,9,    -999,   1.240,2,    -999,9,    -999,9, 1425.30,     2205,  22.8561, -65.9678,    -999,     -999,    -999,     -999,9,     -999,9,     -999,9,     -999,9,     -999,9,     -999,9,   4.4928,    -999,9,       -999,9,    -999,9,    -999,9
 316N200310,        A22,      40,          1,         19,         19,2,20031101,       2029,    22.8595,   -65.9805,       5832,  1575.0,   4.2068,  35.0049,2,  35.0055,2,    253.3,2,   253.5,2,   13.15,2,   18.54,2,    0.00,2,    1.20,2,   0.889,6,   0.424,6,   0.037,2,  2162.6,2,  2314.5,2,    -999,9,     -999,9,    -999,9,    -999,9,    -999,9,    -999,   1.417,2,   43.50,2,    -999,9, 1575.00,     2201,  22.8561, -65.9682,    -999,     -999,    -999,     -999,9,     -999,9,     -999,9,     -999,9,     -999,9,     -999,9,   4.0772,    -999,9,       -999,9,    -999,9,    -999,9
 316N200310,        A22,      40,          1,         18,         18,2,20031101,       2029,    22.8595,   -65.9805,       5832,  1725.5,   3.9568,  34.9927,2,  34.9929,2,    256.9,2,   257.6,2,   13.83,2,   18.44,2,    0.00,2,    1.19,2,   0.773,2,   0.381,2,   0.023,2,  2160.9,2,  2315.2,2,    -999,9,     -999,9,    -999,9,    -999,9,    -999,9,    -999,   1.314,2,    -999,9,    -999,9, 1725.50,     2158,  22.8561, -65.9686,    -999,     -999,    -999,     -999,9,     -999,9,     -999,9,     -999,9,     -999,9,     -999,9,   3.8162,    -999,9,       -999,9,    -999,9,    -999,9
 316N200310,        A22,      40,          1,         17,         17,2,20031101,       2029,    22.8595,   -65.9805,       5832,  1902.0,   3.7172,  34.9778,2,  34.9772,2,    260.3,2,   261.4,2,   14.61,2,   18.30,2,    0.00,2,    1.18,2,   0.832,2,   0.405,2,   0.032,2,  2161.5,2,  2315.6,2,    -999,9,     -999,9,    -999,9,    -999,9,    -999,9,    -999,   1.350,2,   43.10,2,    -999,9, 1902.00,     2154,  22.8561, -65.9692,    -999,     -999,    -999,     -999,9,     -999,9,     -999,9,     -999,9,     -999,9,     -999,9,   3.5632,    -999,9,       -999,9,    -999,9,    -999,9
 316N200310,        A22,      40,          1,         16,         16,2,20031101,       2029,    22.8595,   -65.9805,       5832,  2126.6,   3.5451,  34.9813,2,  34.9817,2,    257.9,2,   258.5,2,   17.20,2,   18.54,2,    0.00,2,    1.21,2,   0.413,2,   0.190,2,   0.012,2,  2163.6,2,  2318.6,2,    -999,9,     -999,9,    -999,9,    -999,9,    -999,9,    -999,   0.891,2,    -999,9,    -999,9, 2126.60,     2149,  22.8561, -65.9698,    -999,     -999,    -999,     -999,9,     -999,9,     -999,9,     -999,9,     -999,9,     -999,9,   3.3721,    -999,9,       -999,9,    -999,9,    -999,9
 316N200310,        A22,      40,          1,         15,         15,2,20031101,       2029,    22.8595,   -65.9805,       5832,  2377.4,   3.2384,  34.9642,2,  34.9656,2,    259.1,2,   259.3,2,   19.89,2,   18.73,2,    0.00,2,    1.23,2,   0.295,2,   0.161,2,   0.010,2,  2165.5,2,  2320.9,2,    -999,9,     -999,9,    -999,9,    -999,9,    -999,9,    -999,   0.693,2,   42.40,2,    -999,9, 2377.40,     2144,  22.8561, -65.9704,    -999,     -999,    -999,     -999,9,     -999,9,     -999,9,     -999,9,     -999,9,     -999,9,   3.0461,    -999,9,       -999,9,    -999,9,    -999,9
 316N200310,        A22,      40,          1,         14,         14,2,20031101,       2029,    22.8595,   -65.9805,       5832,  2628.0,   3.0034,  34.9522,2,  34.9522,2,    257.1,2,   257.6,2,   24.00,2,   19.21,2,    0.00,2,    1.27,2,   0.191,2,   0.093,2,   0.009,2,  2169.7,2,  2325.3,2,    -999,9,     -999,9,    -999,9,    -999,9,    -999,9,    -999,   0.497,2,    -999,9,    -999,9, 2628.00,     2139,  22.8560, -65.9710,    -999,     -999,    -999,     -999,9,     -999,9,     -999,9,     -999,9,     -999,9,     -999,9,   2.7907,    -999,9,       -999,9,    -999,9,    -999,9
 316N200310,        A22,      40,          1,         13,         13,2,20031101,       2029,    22.8595,   -65.9805,       5832,  2877.6,   2.8028,  34.9362,2,  34.9370,2,    260.7,2,   260.7,2,   24.28,2,   18.98,2,    0.00,2,    1.25,2,   0.249,6,   0.118,6,   0.006,6,  2168.5,2,  2324.8,2,    -999,9,     -999,9,    -999,9,    -999,9,    -999,9,    -999,   0.572,6,   42.30,2,    -999,9, 2877.60,     2134,  22.8560, -65.9716,    -999,     -999,    -999,     -999,9,     -999,9,     -999,9,     -999,9,     -999,9,     -999,9,   2.5689,    -999,9,       -999,9,    -999,9,    -999,9
 316N200310,        A22,      40,          1,         12,         12,2,20031101,       2029,    22.8595,   -65.9805,       5832,  3127.7,   2.6490,  34.9247,2,  34.9223,2,    264.9,2,   264.4,2,   24.06,2,   18.59,2,    0.00,2,    1.22,2,   0.424,2,   0.202,2,   0.012,2,  2168.1,2,  2322.7,2,    -999,9,     -999,9,    -999,9,    -999,9,    -999,9,    -999,   0.779,2,    -999,9,    -999,9, 3127.70,     2128,  22.8561, -65.9722,    -999,     -999,    -999,     -999,9,     -999,9,     -999,9,     -999,9,     -999,9,     -999,9,   2.3927,    -999,9,       -999,9,    -999,9,    -999,9
 316N200310,        A22,      40,          1,         11,         11,2,20031101,       2029,    22.8595,   -65.9805,       5832,  3377.3,   2.5085,  34.9147,2,  34.9136,2,    266.4,2,   266.5,2,   24.55,2,   18.40,2,    0.00,2,    1.21,2,   0.505,2,   0.249,2,   0.018,2,  2168.4,2,  2323.6,2,    -999,9,     -999,9,    -999,9,    -999,9,    -999,9,    -999,   0.969,2,   41.60,2,    -999,9, 3377.30,     2123,  22.8561, -65.9728,    -999,     -999,    -999,     -999,9,     -999,9,     -999,9,     -999,9,     -999,9,     -999,9,   2.2291,    -999,9,       -999,9,    -999,9,    -999,9
 316N200310,        A22,      40,          1,         10,         10,2,20031101,       2029,    22.8595,   -65.9805,       5832,  3625.7,   2.4117,  34.9075,2,  34.9075,2,    266.7,2,   267.3,2,   25.64,2,   18.40,2,    0.00,2,    1.22,2,   0.566,2,   0.276,2,   0.020,2,  2169.0,2,  2323.2,2,    -999,9,     -999,9,    -999,9,    -999,9,    -999,9,    -999,   1.038,2,    -999,9,    -999,9, 3625.70,     2118,  22.8564, -65.9736,    -999,     -999,    -999,     -999,9,     -999,9,     -999,9,     -999,9,     -999,9,     -999,9,   2.1078,    -999,9,       -999,9,    -999,9,    -999,9
 316N200310,        A22,      40,          1,          9,          9,2,20031101,       2029,    22.8595,   -65.9805,       5832,  3876.1,   2.3507,  34.9025,2,  34.9030,2,    266.8,2,   266.3,2,   27.74,2,   18.69,2,    0.00,2,    1.24,2,   0.469,2,   0.235,2,   0.021,2,  2170.8,2,  2325.7,2,    -999,9,     -999,9,    -999,9,    -999,9,    -999,9,    -999,   0.896,2,   42.10,2,    -999,9, 3876.10,     2113,  22.8566, -65.9743,    -999,     -999,    -999,     -999,9,     -999,9,     -999,9,     -999,9,     -999,9,     -999,9,   2.0207,    -999,9,       -999,9,    -999,9,    -999,9
 316N200310,        A22,      40,          1,          8,          8,2,20031101,       2029,    22.8595,   -65.9805,       5832,  4125.5,   2.3207,  34.8980,2,  34.8977,2,    266.7,2,   266.0,2,   28.93,2,   18.79,2,    0.00,2,    1.24,2,   0.543,2,   0.282,2,   0.021,2,  2172.5,2,  2326.3,2,    -999,9,     -999,9,    -999,9,    -999,9,    -999,9,    -999,   0.965,2,   41.80,2,    -999,9, 4125.50,     2108,  22.8569, -65.9751,    -999,     -999,    -999,     -999,9,     -999,9,     -999,9,     -999,9,     -999,9,     -999,9,   1.9630,    -999,9,       -999,9,    -999,9,    -999,9
 316N200310,        A22,      40,          1,          7,          7,2,20031101,       2029,    22.8595,   -65.9805,       5832,  4376.1,   2.3113,  34.8952,2,  34.8959,2,    265.5,2,   264.7,2,   30.53,2,   19.03,2,    0.00,2,    1.27,2,   0.459,2,   0.227,2,   0.020,2,  2174.9,2,  2328.2,2,    -999,9,     -999,9,    -999,9,    -999,9,    -999,9,    -999,   0.893,2,    -999,9,    -999,9, 4376.10,     2102,  22.8572, -65.9759,    -999,     -999,    -999,     -999,9,     -999,9,     -999,9,     -999,9,     -999,9,     -999,9,   1.9246,    -999,9,       -999,9,    -999,9,    -999,9
 316N200310,        A22,      40,          1,          6,          6,2,20031101,       2029,    22.8595,   -65.9805,       5832,  4627.3,   2.2989,  34.8910,2,  34.8902,2,    264.5,2,   263.6,2,   32.54,2,   19.32,2,    0.00,2,    1.29,2,   0.450,2,   0.226,2,   0.025,2,  2176.6,2,  2329.9,2,    -999,9,     -999,9,    -999,9,    -999,9,    -999,9,    -999,   0.847,2,    -999,9,    -999,9, 4627.30,     2057,  22.8577, -65.9766,    -999,     -999,    -999,     -999,9,     -999,9,     -999,9,     -999,9,     -999,9,     -999,9,   1.8824,    -999,9,       -999,9,    -999,9,    -999,9
 316N200310,        A22,      40,          1,          5,          5,2,20031101,       2029,    22.8595,   -65.9805,       5832,  4872.3,   2.2867,  34.8869,2,  34.8869,2,    262.4,2,   262.3,2,   35.25,2,   19.70,2,    0.00,2,    1.32,2,   0.338,2,   0.178,2,   0.015,2,  2179.6,2,  2337.5,2,    -999,9,     -999,9,    -999,9,    -999,9,    -999,9,    -999,   0.707,2,   40.90,2,    -999,9, 4872.30,     2053,  22.8581, -65.9772,    -999,     -999,    -999,     -999,9,     -999,9,     -999,9,     -999,9,     -999,9,     -999,9,   1.8405,    -999,9,       -999,9,    -999,9,    -999,9
 316N200310,        A22,      40,          1,          4,          4,2,20031101,       2029,    22.8595,   -65.9805,       5832,  5126.1,   2.2485,  34.8785,2,  34.8784,2,    258.8,2,   258.3,2,   40.00,2,   20.33,2,    0.00,2,    1.37,2,   0.251,2,   0.145,2,   0.015,2,  2184.9,2,  2340.6,2,    -999,9,     -999,9,    -999,9,    -999,9,    -999,9,    -999,   0.554,2,    -999,9,    -999,9, 5126.10,     2047,  22.8585, -65.9780,    -999,     -999,    -999,     -999,9,     -999,9,     -999,9,     -999,9,     -999,9,     -999,9,   1.7717,    -999,9,       -999,9,    -999,9,    -999,9