BOTTLE,20220517CCHSIOLMM
EXPOCODE,SECT_ID,STNNBR,CASTNO,SAMPNO,BTLNBR,BTLNBR_FLAG_W,DATE,TIME,LATITUDE,LONGITUDE,DEPTH,CTDPRS,CTDTMP,CTDSAL,CTDSAL_FLAG_W,SALNTY,SALNTY_FLAG_W,CTDOXY,CTDOXY_FLAG_W,OXYGEN,OXYGEN_FLAG_W,SILCAT,SILCAT_FLAG_W,NITRAT,NITRAT_FLAG_W,NITRIT,NITRIT_FLAG_W,PHSPHT,PHSPHT_FLAG_W,CFC-11,CFC-11_FLAG_W,CFC-12,CFC-12_FLAG_W,CFC113,CFC113_FLAG_W,TCARBN,TCARBN_FLAG_W,ALKALI,ALKALI_FLAG_W,TRITUM,TRITUM_FLAG_W,HELIUM,HELIUM_FLAG_W,DELHE3,DELHE3_FLAG_W,DELC13,DELC13_FLAG_W,DELC14,DELC14_FLAG_W,C14ERR,CCL4,CCL4_FLAG_W,DOC,DOC_FLAG_W,TDN,TDN_FLAG_W,CTDRAW,BTL_TIME,BTL_LAT,BTL_LON,TRITER,HELIER,DELHER,CDOM325,CDOM325_FLAG_W,CDOM340,CDOM340_FLAG_W,CDOM380,CDOM380_FLAG_W,CDOM412,CDOM412_FLAG_W,CDOMSL,CDOMSL_FLAG_W,CDOMSN,CDOMSN_FLAG_W,THETA,BACT,BACT_FLAG_W,PROC,PROC_FLAG_W,SYN,SYN_FLAG_W,PEUK,PEUK_FLAG_W
,,,,,,,,,,,METERS,DBAR,ITS-90,PSS-78,,PSS-78,,UMOL/KG,,UMOL/KG,,UMOL/KG,,UMOL/KG,,UMOL/KG,,UMOL/KG,,PMOL/KG,,PMOL/KG,,PMOL/KG,,UMOL/KG,,UMOL/KG,,TU,,NMOL/KG,,PERCNT,,/MILLE,,/MILLE,,/MILLE,PMOL/KG,,UMOL/KG,,UMOL/KG,,DBAR,,,,TU,NMOL/KG,PERCNT,1/M,,1/M,,1/M,,1/M,,1/NM,,1/NM,,DEG C,E8/L,,E7/L,,E6/L,,E6/L,
 316N200310,        A22,      19,          1,         28,         28,2,20031028,       1137,    17.6285,   -66.0008,       2537,     2.3,  29.1901,  35.1208,2,  35.1183,2,    166.5,2,   193.9,2,    0.76,2,    0.04,2,    0.00,2,    0.02,2,   1.291,2,   0.846,2,   0.090,2,  1961.4,2,  2311.0,6,    -999,9,     -999,9,    -999,9,    -999,9,    -999,9,    -999,   1.042,2,    -999,9,    -999,9,    2.30,     1251,  17.6279, -65.9997,    -999,     -999,    -999,     -999,9,     -999,9,     -999,9,     -999,9,     -999,9,     -999,9,  29.1895,    -999,9,       -999,9,    -999,9,    -999,9
 316N200310,        A22,      19,          1,         27,         27,2,20031028,       1137,    17.6285,   -66.0008,       2537,    25.1,  29.1768,  35.1201,2,  35.1264,2,    194.7,2,   193.9,2,    0.76,2,   -0.02,2,    0.00,2,    0.01,2,   1.396,2,   0.898,2,   0.095,2,    -999,9,    -999,9,    -999,9,     -999,9,    -999,9,    -999,9,    -999,9,    -999,   1.230,2,    -999,9,    -999,9,   25.10,     1250,  17.6279, -65.9996,    -999,     -999,    -999,     -999,9,     -999,9,     -999,9,     -999,9,     -999,9,     -999,9,  29.1707,    -999,9,       -999,9,    -999,9,    -999,9
 316N200310,        A22,      19,          1,         26,         26,2,20031028,       1137,    17.6285,   -66.0008,       2537,    50.0,  27.8697,  36.5432,2,  36.4947,2,    199.9,2,   200.3,2,    0.56,2,    0.03,2,    0.00,2,    0.02,2,   1.520,2,   0.987,2,   0.084,2,    -999,9,    -999,9,    -999,9,     -999,9,    -999,9,    -999,9,    -999,9,    -999,   0.824,2,    -999,9,    -999,9,   50.00,     1248,  17.6278, -65.9995,    -999,     -999,    -999,     -999,9,     -999,9,     -999,9,     -999,9,     -999,9,     -999,9,  27.8580,    -999,9,       -999,9,    -999,9,    -999,9
 316N200310,        A22,      19,          1,         25,         25,2,20031028,       1137,    17.6285,   -66.0008,       2537,    75.0,  27.3472,  36.8053,2,  36.8020,2,    201.5,2,   202.3,2,    0.56,2,    0.02,2,    0.00,2,    0.02,2,   1.531,2,   0.997,2,   0.087,2,    -999,9,    -999,9,    -999,9,     -999,9,    -999,9,    -999,9,    -999,9,    -999,   0.817,2,    -999,9,    -999,9,   75.00,     1246,  17.6278, -65.9994,    -999,     -999,    -999,     -999,9,     -999,9,     -999,9,     -999,9,     -999,9,     -999,9,  27.3297,    -999,9,       -999,9,    -999,9,    -999,9
 316N200310,        A22,      19,          1,         24,         24,2,20031028,       1137,    17.6285,   -66.0008,       2537,   100.0,  26.0714,  37.0314,2,  37.0144,2,    199.2,2,   196.6,2,    0.46,2,    0.07,2,    0.06,2,    0.02,2,   1.660,2,   1.056,2,   0.103,2,    -999,9,    -999,9,    -999,9,     -999,9,    -999,9,    -999,9,    -999,9,    -999,   0.662,2,    -999,9,    -999,9,  100.00,     1244,  17.6277, -65.9993,    -999,     -999,    -999,     -999,9,     -999,9,     -999,9,     -999,9,     -999,9,     -999,9,  26.0489,    -999,9,       -999,9,    -999,9,    -999,9
 316N200310,        A22,      19,          1,         23,         23,2,20031028,       1137,    17.6285,   -66.0008,       2537,   124.4,  25.0111,  37.2142,2,  37.2113,2,    189.8,2,   190.3,2,    0.36,2,    0.59,2,    0.07,2,    0.04,2,   1.716,2,   1.095,2,   0.109,2,    -999,9,    -999,9,    -999,9,     -999,9,    -999,9,    -999,9,    -999,9,    -999,   0.538,2,    -999,9,    -999,9,  124.40,     1242,  17.6277, -65.9992,    -999,     -999,    -999,     -999,9,     -999,9,     -999,9,     -999,9,     -999,9,     -999,9,  24.9839,    -999,9,       -999,9,    -999,9,    -999,9
 316N200310,        A22,      19,          1,         22,         22,2,20031028,       1137,    17.6285,   -66.0008,       2537,   149.7,  23.7059,  37.2289,2,  37.2244,2,    186.9,2,   186.6,2,    0.16,2,    0.86,2,    0.04,2,    0.05,2,   1.880,6,   1.160,6,   0.127,6,    -999,9,    -999,9,    -999,9,     -999,9,    -999,9,    -999,9,    -999,9,    -999,   0.438,2,    -999,9,    -999,9,  149.70,     1240,  17.6277, -65.9992,    -999,     -999,    -999,     -999,9,     -999,9,     -999,9,     -999,9,     -999,9,     -999,9,  23.6744,    -999,9,       -999,9,    -999,9,    -999,9
 316N200310,        A22,      19,          1,         21,         21,2,20031028,       1137,    17.6285,   -66.0008,       2537,   200.5,  20.5453,  36.9087,2,  36.9018,2,    173.6,2,   175.4,2,    0.46,2,    2.95,2,    0.01,2,    0.13,2,   1.927,6,   1.195,6,   0.029,6,    -999,9,    -999,9,    -999,9,     -999,9,    -999,9,    -999,9,    -999,9,    -999,   0.202,6,    -999,9,    -999,9,  200.50,     1239,  17.6277, -65.9991,    -999,     -999,    -999,     -999,9,     -999,9,     -999,9,     -999,9,     -999,9,     -999,9,  20.5071,    -999,9,       -999,9,    -999,9,    -999,9
 316N200310,        A22,      19,          1,         20,         20,2,20031028,       1137,    17.6285,   -66.0008,       2537,   250.2,  18.6410,  36.6282,2,  36.6227,2,    177.0,2,   180.5,2,    0.96,2,    4.78,2,    0.01,2,    0.22,2,   2.201,2,   1.304,2,   0.014,2,    -999,9,    -999,9,    -999,9,     -999,9,    -999,9,    -999,9,    -999,9,    -999,   0.259,2,    -999,9,    -999,9,  250.20,     1237,  17.6277, -65.9991,    -999,     -999,    -999,     -999,9,     -999,9,     -999,9,     -999,9,     -999,9,     -999,9,  18.5965,    -999,9,       -999,9,    -999,9,    -999,9
 316N200310,        A22,      19,          1,         19,         19,2,20031028,       1137,    17.6285,   -66.0008,       2537,   300.2,  17.6386,  36.4672,2,  36.4620,2,    179.3,2,   177.9,2,    1.56,2,    6.95,2,    0.01,2,    0.36,2,   2.143,2,   1.282,2,   0.016,2,    -999,9,    -999,9,    -999,9,     -999,9,    -999,9,    -999,9,    -999,9,    -999,   0.258,2,    -999,9,    -999,9,  300.20,     1235,  17.6277, -65.9992,    -999,     -999,    -999,     -999,9,     -999,9,     -999,9,     -999,9,     -999,9,     -999,9,  17.5871,    -999,9,       -999,9,    -999,9,    -999,9
 316N200310,        A22,      19,          1,         18,         18,2,20031028,       1137,    17.6285,   -66.0008,       2537,   400.1,  15.4877,  36.1062,2,  36.1021,2,    160.7,2,   158.5,2,    3.56,2,   12.38,2,    0.01,2,    0.71,2,   2.026,2,   1.139,2,   0.014,2,    -999,9,    -999,9,    -999,9,     -999,9,    -999,9,    -999,9,    -999,9,    -999,   0.262,2,    -999,9,    -999,9,  400.10,     1232,  17.6278, -65.9993,    -999,     -999,    -999,     -999,9,     -999,9,     -999,9,     -999,9,     -999,9,     -999,9,  15.4249,    -999,9,       -999,9,    -999,9,    -999,9
 316N200310,        A22,      19,          1,         17,         17,2,20031028,       1137,    17.6285,   -66.0008,       2537,   500.6,  12.8801,  35.6422,2,  35.6352,2,    139.0,2,   135.4,2,    7.49,2,   19.33,2,    0.01,2,    1.17,2,   1.543,2,   0.832,2,   0.015,2,    -999,9,    -999,9,    -999,9,     -999,9,    -999,9,    -999,9,    -999,9,    -999,   0.224,2,    -999,9,    -999,9,  500.60,     1229,  17.6278, -65.9994,    -999,     -999,    -999,     -999,9,     -999,9,     -999,9,     -999,9,     -999,9,     -999,9,  12.8105,    -999,9,       -999,9,    -999,9,    -999,9
 316N200310,        A22,      19,          1,         16,         16,2,20031028,       1137,    17.6285,   -66.0008,       2537,   600.3,   9.7687,  35.1608,2,  35.1577,2,    124.5,2,   125.6,2,   13.62,2,   26.09,2,    0.00,2,    1.65,2,   0.815,2,   0.454,2,   0.010,2,    -999,9,    -999,9,    -999,9,     -999,9,    -999,9,    -999,9,    -999,9,    -999,   0.211,2,    -999,9,    -999,9,  600.30,     1226,  17.6279, -65.9996,    -999,     -999,    -999,     -999,9,     -999,9,     -999,9,     -999,9,     -999,9,     -999,9,   9.6985,    -999,9,       -999,9,    -999,9,    -999,9
 316N200310,        A22,      19,          1,         15,         15,2,20031028,       1137,    17.6285,   -66.0008,       2537,   700.1,   7.8329,  34.9349,2,  34.9339,2,    126.3,2,   127.9,2,   18.65,2,   29.38,2,    0.00,2,    1.91,2,   0.397,2,   0.227,2,   0.005,2,    -999,9,    -999,9,    -999,9,     -999,9,    -999,9,    -999,9,    -999,9,    -999,   0.160,2,    -999,9,    -999,9,  700.10,     1223,  17.6279, -65.9997,    -999,     -999,    -999,     -999,9,     -999,9,     -999,9,     -999,9,     -999,9,     -999,9,   7.7607,    -999,9,       -999,9,    -999,9,    -999,9
 316N200310,        A22,      19,          1,         14,         14,2,20031028,       1137,    17.6285,   -66.0008,       2537,   829.9,   6.6212,  34.8622,2,  34.8619,2,    137.0,2,   138.3,2,   21.89,2,   29.94,2,    0.00,2,    1.98,2,   0.189,2,   0.118,2,   0.005,2,    -999,9,    -999,9,    -999,9,     -999,9,    -999,9,    -999,9,    -999,9,    -999,   0.123,2,    -999,9,    -999,9,  829.90,     1220,  17.6279, -65.9999,    -999,     -999,    -999,     -999,9,     -999,9,     -999,9,     -999,9,     -999,9,     -999,9,   6.5424,    -999,9,       -999,9,    -999,9,    -999,9
 316N200310,        A22,      19,          1,         13,         13,2,20031028,       1137,    17.6285,   -66.0008,       2537,   960.2,   5.8432,  34.9140,2,  34.9154,2,    162.1,2,   163.2,2,   22.29,2,   27.36,2,    0.00,2,    1.83,2,   0.153,2,   0.089,2,   0.001,2,    -999,9,    -999,9,    -999,9,     -999,9,    -999,9,    -999,9,    -999,9,    -999,   0.155,2,    -999,9,    -999,9,  960.20,     1217,  17.6280, -66.0000,    -999,     -999,    -999,     -999,9,     -999,9,     -999,9,     -999,9,     -999,9,     -999,9,   5.7567,    -999,9,       -999,9,    -999,9,    -999,9
 316N200310,        A22,      19,          1,         12,         12,2,20031028,       1137,    17.6285,   -66.0008,       2537,  1101.3,   4.9963,  34.9529,2,  34.9536,2,    188.4,2,   190.1,2,   23.50,2,   24.59,2,    0.00,2,    1.65,2,   0.097,2,   0.066,2,   0.004,2,    -999,9,    -999,9,    -999,9,     -999,9,    -999,9,    -999,9,    -999,9,    -999,   0.143,2,    -999,9,    -999,9, 1101.30,     1213,  17.6280, -66.0001,    -999,     -999,    -999,     -999,9,     -999,9,     -999,9,     -999,9,     -999,9,     -999,9,   4.9030,    -999,9,       -999,9,    -999,9,    -999,9
 316N200310,        A22,      19,          1,         11,         11,2,20031028,       1137,    17.6285,   -66.0008,       2537,  1200.5,   4.6431,  34.9629,2,  34.9628,2,    201.1,2,   200.2,2,   24.00,2,   23.59,2,    0.00,2,    1.59,2,   0.089,2,   0.058,2,   0.006,2,    -999,9,    -999,9,    -999,9,     -999,9,    -999,9,    -999,9,    -999,9,    -999,   0.163,2,    -999,9,    -999,9, 1200.50,     1211,  17.6281, -66.0001,    -999,     -999,    -999,     -999,9,     -999,9,     -999,9,     -999,9,     -999,9,     -999,9,   4.5437,    -999,9,       -999,9,    -999,9,    -999,9
 316N200310,        A22,      19,          1,         10,         10,2,20031028,       1137,    17.6285,   -66.0008,       2537,  1301.2,   4.4880,  34.9729,2,  34.9736,2,    210.2,2,   209.9,2,   23.10,2,   22.63,2,    0.00,2,    1.52,2,   0.198,2,   0.117,2,   0.009,4,    -999,9,    -999,9,    -999,9,     -999,9,    -999,9,    -999,9,    -999,9,    -999,   0.291,2,    -999,9,    -999,9, 1301.20,     1208,  17.6281, -66.0002,    -999,     -999,    -999,     -999,9,     -999,9,     -999,9,     -999,9,     -999,9,     -999,9,   4.3809,    -999,9,       -999,9,    -999,9,    -999,9
 316N200310,        A22,      19,          1,          9,          9,2,20031028,       1137,    17.6285,   -66.0008,       2537,  1409.7,   4.3612,  34.9778,2,  34.9785,2,    216.6,2,   217.6,2,   22.19,2,   21.88,2,    0.00,2,    1.46,2,   0.300,2,   0.162,2,   0.009,2,    -999,9,    -999,9,    -999,9,     -999,9,    -999,9,    -999,9,    -999,9,    -999,   0.413,2,    -999,9,    -999,9, 1409.70,     1205,  17.6281, -66.0003,    -999,     -999,    -999,     -999,9,     -999,9,     -999,9,     -999,9,     -999,9,     -999,9,   4.2453,    -999,9,       -999,9,    -999,9,    -999,9
 316N200310,        A22,      19,          1,          8,          8,2,20031028,       1137,    17.6285,   -66.0008,       2537,  1521.2,   4.2137,  34.9731,2,  34.9734,2,    212.4,2,   213.1,2,   25.42,2,   22.38,2,    0.00,2,    1.51,2,   0.090,2,   0.057,2,   0.001,2,    -999,9,    -999,9,    -999,9,     -999,9,    -999,9,    -999,9,    -999,9,    -999,   0.176,2,    -999,9,    -999,9, 1521.20,     1202,  17.6281, -66.0004,    -999,     -999,    -999,     -999,9,     -999,9,     -999,9,     -999,9,     -999,9,     -999,9,   4.0891,    -999,9,       -999,9,    -999,9,    -999,9
 316N200310,        A22,      19,          1,          7,          7,2,20031028,       1137,    17.6285,   -66.0008,       2537,  1650.4,   4.1861,  34.9834,2,  34.9835,2,    232.3,2,   232.2,2,   19.87,2,   20.53,2,    0.00,2,    1.37,2,   0.527,2,   0.274,2,   0.021,2,    -999,9,    -999,9,    -999,9,     -999,9,    -999,9,    -999,9,    -999,9,    -999,   0.740,2,    -999,9,    -999,9, 1650.40,     1159,  17.6282, -66.0005,    -999,     -999,    -999,     -999,9,     -999,9,     -999,9,     -999,9,     -999,9,     -999,9,   4.0497,    -999,9,       -999,9,    -999,9,    -999,9
 316N200310,        A22,      19,          1,          6,          6,2,20031028,       1137,    17.6285,   -66.0008,       2537,  1770.8,   4.1667,  34.9829,2,  34.9846,2,    233.3,2,   234.2,2,   19.67,2,   20.38,2,    0.00,2,    1.36,2,   0.548,2,   0.290,2,   0.019,2,    -999,9,    -999,9,    -999,9,     -999,9,    -999,9,    -999,9,    -999,9,    -999,   0.758,2,    -999,9,    -999,9, 1770.80,     1156,  17.6283, -66.0006,    -999,     -999,    -999,     -999,9,     -999,9,     -999,9,     -999,9,     -999,9,     -999,9,   4.0190,    -999,9,       -999,9,    -999,9,    -999,9
 316N200310,        A22,      19,          1,          5,          5,2,20031028,       1137,    17.6285,   -66.0008,       2537,  1929.9,   4.1472,  34.9830,2,  34.9835,2,    235.6,2,   235.5,2,   19.46,2,   20.18,2,    0.00,2,    1.35,2,   0.570,2,   0.300,2,   0.020,2,    -999,9,    -999,9,    -999,9,     -999,9,    -999,9,    -999,9,    -999,9,    -999,   0.802,2,    -999,9,    -999,9, 1929.90,     1152,  17.6283, -66.0007,    -999,     -999,    -999,     -999,9,     -999,9,     -999,9,     -999,9,     -999,9,     -999,9,   3.9844,    -999,9,       -999,9,    -999,9,    -999,9
 316N200310,        A22,      19,          1,          4,          4,2,20031028,       1137,    17.6285,   -66.0008,       2537,  2125.3,   4.1298,  34.9816,2,  34.9831,2,    233.9,2,   233.6,2,   20.58,2,   20.43,2,    0.00,2,    1.36,2,   0.507,2,   0.275,2,   0.016,2,    -999,9,    -999,9,    -999,9,     -999,9,    -999,9,    -999,9,    -999,9,    -999,   0.718,2,    -999,9,    -999,9, 2125.30,     1148,  17.6284, -66.0008,    -999,     -999,    -999,     -999,9,     -999,9,     -999,9,     -999,9,     -999,9,     -999,9,   3.9478,    -999,9,       -999,9,    -999,9,    -999,9
 316N200310,        A22,      19,          1,          3,          3,2,20031028,       1137,    17.6285,   -66.0008,       2537,  2200.8,   4.1074,  34.9778,2,  34.9772,2,    223.5,2,   224.0,2,   24.21,2,   21.33,2,    0.00,2,    1.44,2,   0.241,2,   0.145,2,   0.009,2,    -999,9,    -999,9,    -999,9,     -999,9,    -999,9,    -999,9,    -999,9,    -999,   0.377,2,    -999,9,    -999,9, 2200.80,     1146,  17.6284, -66.0008,    -999,     -999,    -999,     -999,9,     -999,9,     -999,9,     -999,9,     -999,9,     -999,9,   3.9182,    -999,9,       -999,9,    -999,9,    -999,9
 316N200310,        A22,      19,          1,          2,          2,2,20031028,       1137,    17.6285,   -66.0008,       2537,  2350.6,   4.1025,  34.9774,2,  34.9762,2,    222.2,2,   222.8,2,   25.02,2,   21.43,2,    0.00,2,    1.45,2,   0.183,2,   0.118,2,   0.007,2,    -999,9,    -999,9,    -999,9,     -999,9,    -999,9,    -999,9,    -999,9,    -999,   0.257,2,    -999,9,    -999,9, 2350.60,     1142,  17.6284, -66.0008,    -999,     -999,    -999,     -999,9,     -999,9,     -999,9,     -999,9,     -999,9,     -999,9,   3.8980,    -999,9,       -999,9,    -999,9,    -999,9
 316N200310,        A22,      19,          1,          1,          1,2,20031028,       1137,    17.6285,   -66.0008,       2537,  2530.0,   4.1070,  34.9778,2,  34.9782,2,    224.5,2,   225.4,2,   24.42,2,   21.22,2,    0.00,2,    1.43,2,   0.221,2,   0.144,2,   0.011,2,    -999,9,    -999,9,    -999,9,     -999,9,    -999,9,    -999,9,    -999,9,    -999,   0.281,2,    -999,9,    -999,9, 2530.00,     1138,  17.6285, -66.0008,    -999,     -999,    -999,     -999,9,     -999,9,     -999,9,     -999,9,     -999,9,     -999,9,   3.8836,    -999,9,       -999,9,    -999,9,    -999,9