BOTTLE,20220517CCHSIOLMM
EXPOCODE,SECT_ID,STNNBR,CASTNO,SAMPNO,BTLNBR,BTLNBR_FLAG_W,DATE,TIME,LATITUDE,LONGITUDE,DEPTH,CTDPRS,CTDTMP,CTDSAL,CTDSAL_FLAG_W,SALNTY,SALNTY_FLAG_W,CTDOXY,CTDOXY_FLAG_W,OXYGEN,OXYGEN_FLAG_W,SILCAT,SILCAT_FLAG_W,NITRAT,NITRAT_FLAG_W,NITRIT,NITRIT_FLAG_W,PHSPHT,PHSPHT_FLAG_W,CFC-11,CFC-11_FLAG_W,CFC-12,CFC-12_FLAG_W,CFC113,CFC113_FLAG_W,TCARBN,TCARBN_FLAG_W,ALKALI,ALKALI_FLAG_W,TRITUM,TRITUM_FLAG_W,HELIUM,HELIUM_FLAG_W,DELHE3,DELHE3_FLAG_W,DELC13,DELC13_FLAG_W,DELC14,DELC14_FLAG_W,C14ERR,CCL4,CCL4_FLAG_W,DOC,DOC_FLAG_W,TDN,TDN_FLAG_W,CTDRAW,BTL_TIME,BTL_LAT,BTL_LON,TRITER,HELIER,DELHER,CDOM325,CDOM325_FLAG_W,CDOM340,CDOM340_FLAG_W,CDOM380,CDOM380_FLAG_W,CDOM412,CDOM412_FLAG_W,CDOMSL,CDOMSL_FLAG_W,CDOMSN,CDOMSN_FLAG_W,THETA,BACT,BACT_FLAG_W,PROC,PROC_FLAG_W,SYN,SYN_FLAG_W,PEUK,PEUK_FLAG_W
,,,,,,,,,,,METERS,DBAR,ITS-90,PSS-78,,PSS-78,,UMOL/KG,,UMOL/KG,,UMOL/KG,,UMOL/KG,,UMOL/KG,,UMOL/KG,,PMOL/KG,,PMOL/KG,,PMOL/KG,,UMOL/KG,,UMOL/KG,,TU,,NMOL/KG,,PERCNT,,/MILLE,,/MILLE,,/MILLE,PMOL/KG,,UMOL/KG,,UMOL/KG,,DBAR,,,,TU,NMOL/KG,PERCNT,1/M,,1/M,,1/M,,1/M,,1/NM,,1/NM,,DEG C,E8/L,,E7/L,,E6/L,,E6/L,
 316N200310,        A22,       9,          1,         36,         36,2,20031025,       1941,    12.6697,   -66.0025,       5008,     3.7,  29.4857,  35.5345,2,  35.5393,2,    196.5,2,   193.7,2,    1.62,2,    0.05,2,    0.00,2,    0.03,2,   1.520,2,   0.927,2,   0.091,2,  1989.7,2,  2328.4,6,   0.028,2,   1.9060,2,   -1.47,2,    -999,9,    -999,9,    -999,   1.487,2,    -999,9,    -999,9,    3.70,     2143,  12.6731, -65.9992,   0.011,   0.0095,    0.15,     -999,9,     -999,9,     -999,9,     -999,9,     -999,9,     -999,9,  29.4848,    -999,9,       -999,9,    -999,9,    -999,9
 316N200310,        A22,       9,          1,         35,         35,2,20031025,       1941,    12.6697,   -66.0025,       5008,    25.6,  28.9112,  36.3614,2,  36.3659,2,    196.1,2,   194.0,2,    0.50,2,    0.05,2,    0.00,2,    0.02,2,   1.565,2,   0.939,2,   0.091,2,    -999,9,    -999,9,    -999,9,     -999,9,    -999,9,    -999,9,    -999,9,    -999,   1.488,2,    -999,9,    -999,9,   25.60,     2142,  12.6731, -65.9994,    -999,     -999,    -999,   0.1000,2,   0.0660,2,   0.0250,2,   0.0170,2,   0.0260,2,   0.0260,2,  28.9050,    -999,9,       -999,9,    -999,9,    -999,9
 316N200310,        A22,       9,          1,         34,         34,2,20031025,       1941,    12.6697,   -66.0025,       5008,    51.0,  27.4183,  36.2680,2,  36.4372,2,    196.6,2,   197.0,2,    0.38,2,    0.05,2,    0.00,2,    0.03,2,   1.710,2,   1.019,2,   0.083,2,  2043.2,2,  2381.9,2,    -999,9,     -999,9,    -999,9,    -999,9,    -999,9,    -999,   0.903,2,    -999,9,    -999,9,   51.00,     2140,  12.6730, -65.9995,    -999,     -999,    -999,   0.1720,2,   0.1220,2,   0.0550,2,   0.0360,2,   0.0180,2,   0.0200,2,  27.4064,    -999,9,       -999,9,    -999,9,    -999,9
 316N200310,        A22,       9,          1,         33,         33,2,20031025,       1941,    12.6697,   -66.0025,       5008,    76.1,  23.8198,  36.8838,2,  36.8927,2,    164.4,2,   163.7,2,    0.87,2,    1.74,2,    0.14,2,    0.15,2,   1.846,2,   1.104,2,   0.057,2,    -999,9,    -999,9,    -999,9,     -999,9,    -999,9,    -999,9,    -999,9,    -999,   0.302,2,    -999,9,    -999,9,   76.10,     2139,  12.6729, -65.9997,    -999,     -999,    -999,   0.2210,3,   0.1690,3,   0.0920,3,   0.0720,2,   0.0120,3,   0.0130,3,  23.8037,    -999,9,       -999,9,    -999,9,    -999,9
 316N200310,        A22,       9,          1,         32,         32,2,20031025,       1941,    12.6697,   -66.0025,       5008,   100.8,  22.3661,  36.9765,2,  36.9640,2,    155.0,2,   155.0,2,    0.86,2,    4.55,2,    0.04,2,    0.25,2,   1.956,2,   1.134,2,   0.037,2,  2131.9,2,  2409.7,2,    -999,9,     -999,9,    -999,9,    -999,9,    -999,9,    -999,   0.150,2,    -999,9,    -999,9,  100.80,     2138,  12.6729, -65.9998,    -999,     -999,    -999,   0.1440,3,   0.1060,3,   0.0530,3,   0.0420,3,   0.0140,3,   0.0160,3,  22.3457,    -999,9,       -999,9,    -999,9,    -999,9
 316N200310,        A22,       9,          1,         31,         31,2,20031025,       1941,    12.6697,   -66.0025,       5008,   126.0,  20.6625,  36.8103,2,  36.8054,2,    143.3,2,   145.3,2,    1.65,2,    6.83,2,    0.02,2,    0.37,2,   2.028,2,   1.160,2,   0.023,2,    -999,9,    -999,9,    -999,9,     -999,9,    -999,9,    -999,9,    -999,9,    -999,   0.171,2,    -999,9,    -999,9,  126.00,     2136,  12.6729, -66.0000,    -999,     -999,    -999,   0.1350,3,   0.0990,3,   0.0490,3,   0.0390,3,   0.0140,3,   0.0160,3,  20.6384,    -999,9,       -999,9,    -999,9,    -999,9
 316N200310,        A22,       9,          1,         30,         30,2,20031025,       1941,    12.6697,   -66.0025,       5008,   175.9,  18.7420,  36.5723,2,  36.5658,2,    146.5,2,   148.1,2,    2.04,2,    8.66,2,    0.01,2,    0.49,2,   2.071,6,   1.177,6,   0.032,6,  2148.3,2,  2384.7,2,   0.836,2,   1.7226,2,   -3.01,2,    -999,9,    -999,9,    -999,   0.208,2,    -999,9,    -999,9,  175.90,     2134,  12.6729, -66.0002,   0.016,   0.0086,    0.15,   0.1310,2,   0.0970,2,   0.0500,2,   0.0380,2,   0.0140,2,   0.0160,2,  18.7106,    -999,9,       -999,9,    -999,9,    -999,9
 316N200310,        A22,       9,          1,         29,         29,2,20031025,       1941,    12.6697,   -66.0025,       5008,   225.9,  16.8274,  36.2596,2,  36.2485,2,    143.0,2,   142.5,2,    3.53,2,   12.32,2,    0.01,2,    0.70,2,   2.006,6,   1.104,6,   0.009,6,    -999,9,    -999,9,    -999,9,     -999,9,    -999,9,    -999,9,    -999,9,    -999,   0.232,6,    -999,9,    -999,9,  225.90,     2133,  12.6730, -66.0003,    -999,     -999,    -999,   0.1270,2,   0.0930,2,   0.0480,2,   0.0360,2,   0.0140,2,   0.0160,2,  16.7901,    -999,9,       -999,9,    -999,9,    -999,9
 316N200310,        A22,       9,          1,         28,         28,2,20031025,       1941,    12.6697,   -66.0025,       5008,   275.6,  13.5303,  35.6831,2,  35.6792,2,    129.9,2,   128.6,2,    7.15,2,   19.07,2,    0.01,2,    1.16,2,   1.649,2,   0.887,2,   0.010,2,  2178.3,2,  2338.6,2,   1.105,2,   2.1285,2,   -2.32,2,    -999,9,    -999,9,    -999,   0.257,2,    -999,9,    -999,9,  275.60,     2131,  12.6730, -66.0005,   0.014,   0.0106,    0.15,   0.1330,2,   0.0970,2,   0.0510,2,   0.0380,2,   0.0140,2,   0.0160,2,  13.4910,    -999,9,       -999,9,    -999,9,    -999,9
 316N200310,        A22,       9,          1,         27,         27,2,20031025,       1941,    12.6697,   -66.0025,       5008,   340.6,  11.2000,  35.2982,2,  35.2988,2,    123.8,2,   121.0,2,   10.67,2,   23.93,2,    0.01,2,    1.51,2,   1.268,2,   0.664,2,   0.011,2,    -999,9,    -999,9,   1.073,2,     -999,9,    -999,9,    -999,9,    -999,9,    -999,   0.274,2,    -999,9,    -999,9,  340.60,     2129,  12.6730, -66.0007,   0.014,     -999,    -999,   0.1450,2,   0.1060,2,   0.0590,2,   0.0450,2,   0.0130,2,   0.0140,2,  11.1571,    -999,9,       -999,9,    -999,9,    -999,9
 316N200310,        A22,       9,          1,         26,         26,2,20031025,       1941,    12.6697,   -66.0025,       5008,   449.6,   9.0671,  34.9917,2,  34.9937,2,    117.6,2,   118.5,2,   14.90,2,   28.31,2,    0.00,2,    1.82,2,   0.786,2,   0.432,2,   0.008,2,  2200.9,2,  2317.7,2,   0.868,2,   1.7920,2,    1.98,2,    -999,9,    -999,9,    -999,   0.291,2,    -999,9,    -999,9,  449.60,     2126,  12.6730, -66.0009,   0.014,   0.0090,    0.15,   0.1430,2,   0.1040,2,   0.0580,2,   0.0440,2,   0.0130,2,   0.0140,2,   9.0174,    -999,9,       -999,9,    -999,9,    -999,9
 316N200310,        A22,       9,          1,         25,         25,2,20031025,       1941,    12.6697,   -66.0025,       5008,   550.2,   7.7167,  34.8334,2,  34.8312,2,    119.3,2,   120.9,2,   18.54,2,   30.74,2,    0.00,2,    2.01,2,   0.485,2,   0.276,2,   0.005,2,    -999,9,    -999,9,   0.765,2,   1.7766,2,    3.28,2,    -999,9,    -999,9,    -999,   0.274,2,    -999,9,    -999,9,  550.20,     2124,  12.6730, -66.0012,   0.014,   0.0089,    0.15,     -999,9,     -999,9,     -999,9,     -999,9,     -999,9,     -999,9,   7.6610,    -999,9,       -999,9,    -999,9,    -999,9
 316N200310,        A22,       9,          1,         24,         24,2,20031025,       1941,    12.6697,   -66.0025,       5008,   674.6,   6.8946,  34.7794,2,  34.7799,2,    123.6,2,   125.2,2,   21.36,2,   31.71,2,    0.00,2,    2.09,2,   0.278,2,   0.166,2,   0.003,2,    -999,9,    -999,9,   0.608,2,   1.7815,2,    1.94,2,    -999,9,    -999,9,    -999,   0.216,2,    -999,9,    -999,9,  674.60,     2121,  12.6730, -66.0014,   0.013,   0.0089,    0.15,     -999,9,     -999,9,     -999,9,     -999,9,     -999,9,     -999,9,   6.8300,    -999,9,       -999,9,    -999,9,    -999,9
 316N200310,        A22,       9,          1,         23,         23,2,20031025,       1941,    12.6697,   -66.0025,       5008,   824.1,   6.1767,  34.7821,2,  34.7838,2,    135.5,2,   135.6,2,   23.29,2,   31.30,2,    0.00,2,    2.08,2,   0.144,2,   0.092,2,   0.005,2,    -999,9,    -999,9,   0.354,2,   1.7916,2,    1.11,2,    -999,9,    -999,9,    -999,   0.153,2,    -999,9,    -999,9,  824.10,     2117,  12.6729, -66.0016,   0.012,   0.0090,    0.15,     -999,9,     -999,9,     -999,9,     -999,9,     -999,9,     -999,9,   6.1013,    -999,9,       -999,9,    -999,9,    -999,9
 316N200310,        A22,       9,          1,         22,         22,2,20031025,       1941,    12.6697,   -66.0025,       5008,   939.0,   5.5731,  34.8678,2,  34.8666,2,    158.5,2,   158.5,2,   23.79,2,   28.47,2,    0.00,2,    1.91,2,   0.078,2,   0.050,2,   0.016,2,    -999,9,    -999,9,   0.270,2,   1.7949,2,    1.30,2,    -999,9,    -999,9,    -999,   0.121,2,    -999,9,    -999,9,  939.00,     2115,  12.6729, -66.0019,   0.012,   0.0090,    0.15,     -999,9,     -999,9,     -999,9,     -999,9,     -999,9,     -999,9,   5.4906,    -999,9,       -999,9,    -999,9,    -999,9
 316N200310,        A22,       9,          1,         21,         21,2,20031025,       1941,    12.6697,   -66.0025,       5008,  1125.4,   4.8585,  34.9409,2,  34.9425,2,    187.7,2,   188.5,2,   24.08,2,   24.94,2,    0.00,2,    1.69,2,   0.057,2,   0.037,2,   0.003,2,    -999,9,    -999,9,   0.148,2,   1.8152,2,    1.10,2,    -999,9,    -999,9,    -999,   0.140,2,    -999,9,    -999,9, 1125.40,     2110,  12.6728, -66.0021,   0.012,   0.0091,    0.15,     -999,9,     -999,9,     -999,9,     -999,9,     -999,9,     -999,9,   4.7642,    -999,9,       -999,9,    -999,9,    -999,9
 316N200310,        A22,       9,          1,         20,         20,2,20031025,       1941,    12.6697,   -66.0025,       5008,  1275.2,   4.5721,  34.9585,2,  34.9616,2,    199.5,2,   198.9,2,   24.18,2,   23.78,2,    0.00,2,    1.60,2,  -0.005,2,   0.041,2,   0.003,2,    -999,9,    -999,9,   0.102,2,   1.8517,2,    0.33,2,    -999,9,    -999,9,    -999,   0.136,2,    -999,9,    -999,9, 1275.20,     2106,  12.6727, -66.0022,   0.012,   0.0093,    0.15,     -999,9,     -999,9,     -999,9,     -999,9,     -999,9,     -999,9,   4.4665,    -999,9,       -999,9,    -999,9,    -999,9
 316N200310,        A22,       9,          1,         19,         19,2,20031025,       1941,    12.6697,   -66.0025,       5008,  1400.0,   4.3958,  34.9653,2,  34.9673,2,    204.0,2,   204.0,2,   24.88,2,   23.24,2,    0.00,2,    1.57,2,   0.060,2,   0.022,2,   0.001,2,    -999,9,    -999,9,   0.087,2,   1.8237,2,    0.29,2,    -999,9,    -999,9,    -999,   0.113,2,    -999,9,    -999,9, 1400.00,     2103,  12.6726, -66.0023,   0.011,   0.0091,    0.15,     -999,9,     -999,9,     -999,9,     -999,9,     -999,9,     -999,9,   4.2805,    -999,9,       -999,9,    -999,9,    -999,9
 316N200310,        A22,       9,          1,         18,         18,2,20031025,       1941,    12.6697,   -66.0025,       5008,  1500.1,   4.3051,  34.9688,2,  34.9703,2,    207.1,2,   206.9,2,   25.39,2,   22.93,2,    0.00,2,    1.55,2,  -0.005,2,   0.068,2,   0.004,2,    -999,9,    -999,9,   0.048,2,   1.8538,2,   -0.21,2,    -999,9,    -999,9,    -999,   0.114,2,    -999,9,    -999,9, 1500.10,     2100,  12.6725, -66.0024,   0.014,   0.0093,    0.15,     -999,9,     -999,9,     -999,9,     -999,9,     -999,9,     -999,9,   4.1814,    -999,9,       -999,9,    -999,9,    -999,9
 316N200310,        A22,       9,          1,         17,         17,2,20031025,       1941,    12.6697,   -66.0025,       5008,  1625.4,   4.2268,  34.9714,2,  34.9717,2,    209.2,2,   208.7,2,   25.99,2,   22.68,2,    0.00,2,    1.53,2,   0.036,2,   0.038,2,   0.004,2,    -999,9,    -999,9,   0.043,2,     -999,9,    -999,9,    -999,9,    -999,9,    -999,   0.103,2,    -999,9,    -999,9, 1625.40,     2057,  12.6725, -66.0025,   0.011,     -999,    -999,     -999,9,     -999,9,     -999,9,     -999,9,     -999,9,     -999,9,   4.0923,    -999,9,       -999,9,    -999,9,    -999,9
 316N200310,        A22,       9,          1,         16,         16,2,20031025,       1941,    12.6697,   -66.0025,       5008,  1775.4,   4.1616,  34.9732,2,  34.9784,2,    211.3,2,   211.3,2,   26.49,2,   22.44,2,    0.00,2,    1.52,2,   0.030,2,   0.023,2,   0.003,2,    -999,9,    -999,9,   0.034,2,   1.8494,2,   -1.50,2,    -999,9,    -999,9,    -999,   0.098,2,    -999,9,    -999,9, 1775.40,     2053,  12.6722, -66.0026,   0.011,   0.0092,    0.15,     -999,9,     -999,9,     -999,9,     -999,9,     -999,9,     -999,9,   4.0136,    -999,9,       -999,9,    -999,9,    -999,9
 316N200310,        A22,       9,          1,         15,         15,2,20031025,       1941,    12.6697,   -66.0025,       5008,  1925.7,   4.1280,  34.9744,2,  34.9738,2,    212.7,2,   212.8,2,   26.79,2,   22.33,2,    0.00,2,    1.51,2,   0.028,2,   0.017,2,   0.004,2,    -999,9,    -999,9,   0.037,2,   1.8865,2,   -1.10,2,    -999,9,    -999,9,    -999,   0.093,2,    -999,9,    -999,9, 1925.70,     2050,  12.6720, -66.0026,   0.011,   0.0094,    0.15,     -999,9,     -999,9,     -999,9,     -999,9,     -999,9,     -999,9,   3.9658,    -999,9,       -999,9,    -999,9,    -999,9
 316N200310,        A22,       9,          1,         14,         14,2,20031025,       1941,    12.6697,   -66.0025,       5008,  2125.2,   4.1123,  34.9753,2,  34.9760,2,    213.6,2,   214.0,2,   27.09,2,   22.13,2,    0.00,2,    1.50,2,   0.025,2,   0.024,2,   0.001,2,    -999,9,    -999,9,   0.013,2,   1.8437,2,   -1.43,2,    -999,9,    -999,9,    -999,   0.080,2,    -999,9,    -999,9, 2125.20,     2046,  12.6716, -66.0026,   0.011,   0.0092,    0.15,     -999,9,     -999,9,     -999,9,     -999,9,     -999,9,     -999,9,   3.9306,    -999,9,       -999,9,    -999,9,    -999,9
 316N200310,        A22,       9,          1,         13,         13,2,20031025,       1941,    12.6697,   -66.0025,       5008,  2375.2,   4.1118,  34.9758,2,  34.9785,2,    214.4,2,   214.4,2,   27.29,2,   22.08,2,    0.00,2,    1.50,2,   0.020,2,   0.038,2,   0.004,2,    -999,9,    -999,9,   0.016,2,   1.8557,2,   -1.82,2,    -999,9,    -999,9,    -999,   0.083,2,    -999,9,    -999,9, 2375.20,     2040,  12.6713, -66.0023,   0.011,   0.0093,    0.15,     -999,9,     -999,9,     -999,9,     -999,9,     -999,9,     -999,9,   3.9045,    -999,9,       -999,9,    -999,9,    -999,9
 316N200310,        A22,       9,          1,         12,         12,2,20031025,       1941,    12.6697,   -66.0025,       5008,  2625.4,   4.1268,  34.9760,2,  34.9764,2,    214.5,2,   214.8,2,   27.59,2,   22.13,2,    0.00,2,    1.50,2,   0.021,2,   0.029,2,   0.002,2,    -999,9,    -999,9,   0.027,2,   1.8601,2,   -1.86,2,    -999,9,    -999,9,    -999,   0.077,2,    -999,9,    -999,9, 2625.40,     2035,  12.6711, -66.0019,   0.011,   0.0093,    0.15,     -999,9,     -999,9,     -999,9,     -999,9,     -999,9,     -999,9,   3.8928,    -999,9,       -999,9,    -999,9,    -999,9
 316N200310,        A22,       9,          1,         11,         11,2,20031025,       1941,    12.6697,   -66.0025,       5008,  2875.4,   4.1477,  34.9763,2,  34.9756,2,    214.7,2,   213.4,2,   27.79,2,   22.13,2,    0.00,2,    1.50,2,   0.021,2,   0.023,2,   0.003,2,    -999,9,    -999,9,    -999,9,     -999,9,    -999,9,    -999,9,    -999,9,    -999,   0.068,2,    -999,9,    -999,9, 2875.40,     2030,  12.6712, -66.0015,    -999,     -999,    -999,     -999,9,     -999,9,     -999,9,     -999,9,     -999,9,     -999,9,   3.8862,    -999,9,       -999,9,    -999,9,    -999,9
 316N200310,        A22,       9,          1,         10,         10,2,20031025,       1941,    12.6697,   -66.0025,       5008,  3101.1,   4.1701,  34.9764,2,  34.9785,2,    214.9,2,   215.0,2,   27.78,2,   22.08,2,    0.00,2,    1.50,2,   0.020,2,   0.024,2,   0.003,4,    -999,9,    -999,9,   0.006,2,   1.8793,2,   -1.79,2,    -999,9,    -999,9,    -999,   0.061,2,    -999,9,    -999,9, 3101.10,     2025,  12.6711, -66.0014,   0.011,   0.0094,    0.15,     -999,9,     -999,9,     -999,9,     -999,9,     -999,9,     -999,9,   3.8827,    -999,9,       -999,9,    -999,9,    -999,9
 316N200310,        A22,       9,          1,          9,          9,2,20031025,       1941,    12.6697,   -66.0025,       5008,  3301.2,   4.1906,  34.9766,2,  34.9785,2,    215.2,2,   215.0,2,   27.88,2,   22.08,2,    0.00,2,    1.50,2,   0.020,2,   0.025,2,   0.004,2,    -999,9,    -999,9,    -999,9,     -999,9,    -999,9,    -999,9,    -999,9,    -999,   0.049,2,    -999,9,    -999,9, 3301.20,     2021,  12.6709, -66.0014,    -999,     -999,    -999,     -999,9,     -999,9,     -999,9,     -999,9,     -999,9,     -999,9,   3.8798,    -999,9,       -999,9,    -999,9,    -999,9
 316N200310,        A22,       9,          1,          8,          8,2,20031025,       1941,    12.6697,   -66.0025,       5008,  3500.6,   4.2127,  34.9767,2,  34.9770,2,    215.2,2,   215.3,2,   27.88,2,   21.99,2,    0.00,2,    1.50,2,   0.021,2,   0.023,2,   0.003,2,    -999,9,    -999,9,   0.014,2,   1.8548,2,   -1.44,2,    -999,9,    -999,9,    -999,   0.087,2,    -999,9,    -999,9, 3500.60,     2017,  12.6707, -66.0015,   0.011,   0.0093,    0.15,     -999,9,     -999,9,     -999,9,     -999,9,     -999,9,     -999,9,   3.8779,    -999,9,       -999,9,    -999,9,    -999,9
 316N200310,        A22,       9,          1,          7,          7,2,20031025,       1941,    12.6697,   -66.0025,       5008,  3700.6,   4.2350,  34.9769,2,  34.9766,2,    215.4,2,   215.5,2,   28.07,2,   22.03,2,    0.00,2,    1.49,2,   0.023,2,   0.025,2,   0.002,2,    -999,9,    -999,9,    -999,9,     -999,9,    -999,9,    -999,9,    -999,9,    -999,   0.082,2,    -999,9,    -999,9, 3700.60,     2012,  12.6705, -66.0016,    -999,     -999,    -999,     -999,9,     -999,9,     -999,9,     -999,9,     -999,9,     -999,9,   3.8755,    -999,9,       -999,9,    -999,9,    -999,9
 316N200310,        A22,       9,          1,          6,          6,2,20031025,       1941,    12.6697,   -66.0025,       5008,  3900.4,   4.2583,  34.9770,2,  34.9760,2,    215.8,2,   215.8,2,   28.07,2,   21.98,2,    0.00,2,    1.49,2,   0.024,2,   0.029,2,   0.005,2,    -999,9,    -999,9,   0.040,2,   1.8358,2,   -1.29,2,    -999,9,    -999,9,    -999,   0.091,2,    -999,9,    -999,9, 3900.40,     2008,  12.6702, -66.0018,   0.015,   0.0092,    0.15,     -999,9,     -999,9,     -999,9,     -999,9,     -999,9,     -999,9,   3.8737,    -999,9,       -999,9,    -999,9,    -999,9
 316N200310,        A22,       9,          1,          5,          5,2,20031025,       1941,    12.6697,   -66.0025,       5008,  4126.3,   4.2860,  34.9772,2,  34.9780,2,    215.9,2,   216.0,2,   27.96,2,   21.98,2,    0.00,2,    1.49,2,   0.029,2,   0.029,2,   0.003,2,    -999,9,    -999,9,    -999,9,     -999,9,    -999,9,    -999,9,    -999,9,    -999,   0.095,2,    -999,9,    -999,9, 4126.30,     2003,  12.6701, -66.0019,    -999,     -999,    -999,     -999,9,     -999,9,     -999,9,     -999,9,     -999,9,     -999,9,   3.8723,    -999,9,       -999,9,    -999,9,    -999,9