BOTTLE,20220517CCHSIOLMM
EXPOCODE,SECT_ID,STNNBR,CASTNO,SAMPNO,BTLNBR,BTLNBR_FLAG_W,DATE,TIME,LATITUDE,LONGITUDE,DEPTH,CTDPRS,CTDTMP,CTDSAL,CTDSAL_FLAG_W,SALNTY,SALNTY_FLAG_W,CTDOXY,CTDOXY_FLAG_W,OXYGEN,OXYGEN_FLAG_W,SILCAT,SILCAT_FLAG_W,NITRAT,NITRAT_FLAG_W,NITRIT,NITRIT_FLAG_W,PHSPHT,PHSPHT_FLAG_W,CFC-11,CFC-11_FLAG_W,CFC-12,CFC-12_FLAG_W,CFC113,CFC113_FLAG_W,TCARBN,TCARBN_FLAG_W,ALKALI,ALKALI_FLAG_W,TRITUM,TRITUM_FLAG_W,HELIUM,HELIUM_FLAG_W,DELHE3,DELHE3_FLAG_W,DELC13,DELC13_FLAG_W,DELC14,DELC14_FLAG_W,C14ERR,CCL4,CCL4_FLAG_W,DOC,DOC_FLAG_W,TDN,TDN_FLAG_W,CTDRAW,BTL_TIME,BTL_LAT,BTL_LON,TRITER,HELIER,DELHER,CDOM325,CDOM325_FLAG_W,CDOM340,CDOM340_FLAG_W,CDOM380,CDOM380_FLAG_W,CDOM412,CDOM412_FLAG_W,CDOMSL,CDOMSL_FLAG_W,CDOMSN,CDOMSN_FLAG_W,THETA,BACT,BACT_FLAG_W,PROC,PROC_FLAG_W,SYN,SYN_FLAG_W,PEUK,PEUK_FLAG_W
,,,,,,,,,,,METERS,DBAR,ITS-90,PSS-78,,PSS-78,,UMOL/KG,,UMOL/KG,,UMOL/KG,,UMOL/KG,,UMOL/KG,,UMOL/KG,,PMOL/KG,,PMOL/KG,,PMOL/KG,,UMOL/KG,,UMOL/KG,,TU,,NMOL/KG,,PERCNT,,/MILLE,,/MILLE,,/MILLE,PMOL/KG,,UMOL/KG,,UMOL/KG,,DBAR,,,,TU,NMOL/KG,PERCNT,1/M,,1/M,,1/M,,1/M,,1/NM,,1/NM,,DEG C,E8/L,,E7/L,,E6/L,,E6/L,
 316N200310,        A22,      43,          1,         36,         36,2,20031102,       1943,    24.8875,   -65.9972,       5541,     3.6,  28.1509,  36.5202,2,  36.4998,2,    132.5,2,   197.0,2,    0.73,2,    0.13,2,    0.00,2,    0.01,2,   1.633,2,   0.999,2,   0.123,2,  2018.2,2,  2385.1,2,    -999,9,     -999,9,    -999,9,    -999,9,    -999,9,    -999,    -999,9,    -999,9,    -999,9,    3.60,     2207,  24.9073, -65.9998,    -999,     -999,    -999,   0.0450,2,   0.0280,2,   0.0080,2,   0.0060,2,   0.0330,2,   0.0330,2,  28.1501,    -999,9,       -999,9,    -999,9,    -999,9
 316N200310,        A22,      43,          1,         35,         35,2,20031102,       1943,    24.8875,   -65.9972,       5541,    24.1,  27.9676,  36.5376,2,  36.5335,2,    198.6,2,   197.0,2,    0.71,2,    0.12,2,    0.00,2,    0.01,2,   1.608,2,   1.006,2,   0.135,2,  2018.3,2,    -999,9,    -999,9,     -999,9,    -999,9,    -999,9,    -999,9,    -999,    -999,9,    -999,9,    -999,9,   24.10,     2206,  24.9071, -65.9997,    -999,     -999,    -999,   0.0500,2,   0.0320,2,   0.0110,2,   0.0080,2,   0.0300,2,   0.0300,2,  27.9619,    -999,9,       -999,9,    -999,9,    -999,9
 316N200310,        A22,      43,          1,         34,         34,2,20031102,       1943,    24.8875,   -65.9972,       5541,    50.2,  27.5668,  36.6187,2,  36.6027,2,    204.7,2,   204.1,2,    0.70,2,    0.00,2,    0.00,2,    0.01,2,   1.685,2,   1.045,2,   0.137,2,  2024.9,2,  2390.5,2,    -999,9,     -999,9,    -999,9,    -999,9,    -999,9,    -999,    -999,9,    -999,9,    -999,9,   50.20,     2204,  24.9069, -65.9996,    -999,     -999,    -999,   0.0620,2,   0.0400,2,   0.0140,2,   0.0100,2,   0.0300,2,   0.0300,2,  27.5551,    -999,9,       -999,9,    -999,9,    -999,9
 316N200310,        A22,      43,          1,         33,         33,9,20031102,       1943,    24.8875,   -65.9972,       5541,    75.2,  25.9605,  36.6948,2,     -999,9,    207.4,2,    -999,9,    -999,9,    -999,9,    -999,9,    -999,9,    -999,9,    -999,9,    -999,9,    -999,9,    -999,9,   0.916,2,   1.7281,2,   -2.10,2,    -999,9,    -999,9,    -999,    -999,9,    -999,9,    -999,9,   75.20,     2202,  24.9067, -65.9996,   0.014,   0.0086,    0.15,     -999,9,     -999,9,     -999,9,     -999,9,     -999,9,     -999,9,  25.9436,    -999,9,       -999,9,    -999,9,    -999,9
 316N200310,        A22,      43,          1,         32,         32,2,20031102,       1943,    24.8875,   -65.9972,       5541,    99.8,  24.9230,  36.7460,2,  36.7391,2,    204.8,2,   204.4,2,    0.49,2,    0.00,2,    0.00,2,    0.01,2,   1.929,2,   1.174,2,   0.156,2,  2051.1,2,  2396.8,2,    -999,9,     -999,9,    -999,9,    -999,9,    -999,9,    -999,    -999,9,    -999,9,    -999,9,   99.80,     2201,  24.9065, -65.9995,    -999,     -999,    -999,   0.1200,2,   0.0830,2,   0.0360,2,   0.0260,2,   0.0200,2,   0.0220,2,  24.9013,    -999,9,       -999,9,    -999,9,    -999,9
 316N200310,        A22,      43,          1,         31,         31,2,20031102,       1943,    24.8875,   -65.9972,       5541,   150.6,  22.1429,  36.9014,2,  36.8961,2,    194.5,2,   196.3,2,    0.28,2,    0.25,2,    0.07,2,    0.02,2,   2.104,2,   1.248,2,   0.123,2,  2086.3,2,    -999,9,   1.024,2,   1.7386,2,   -2.43,2,    -999,9,    -999,9,    -999,    -999,9,    -999,9,    -999,9,  150.60,     2159,  24.9062, -65.9994,   0.013,   0.0087,    0.15,   0.1350,2,   0.0980,2,   0.0470,2,   0.0350,2,   0.0150,2,   0.0180,2,  22.1127,    -999,9,       -999,9,    -999,9,    -999,9
 316N200310,        A22,      43,          1,         30,         30,2,20031102,       1943,    24.8875,   -65.9972,       5541,   201.1,  20.3400,  36.8008,2,  36.7978,2,    187.5,2,   184.3,2,    0.47,2,    1.78,2,    0.01,2,    0.06,2,   2.221,6,   1.305,6,   0.051,6,  2108.2,2,  2400.2,2,   1.063,2,   1.7425,2,   -2.04,2,    -999,9,    -999,9,    -999,    -999,9,    -999,9,    -999,9,  201.10,     2157,  24.9059, -65.9994,   0.014,   0.0087,    0.15,     -999,9,     -999,9,     -999,9,     -999,9,     -999,9,     -999,9,  20.3020,    -999,9,       -999,9,    -999,9,    -999,9
 316N200310,        A22,      43,          1,         29,         29,2,20031102,       1943,    24.8875,   -65.9972,       5541,   250.8,  19.0751,  36.6467,2,  36.6433,2,    187.0,2,   189.9,2,    0.75,2,    3.22,2,    0.01,2,    0.12,2,   2.307,2,   1.338,2,   0.019,2,  2105.3,2,    -999,9,   1.083,2,   1.7688,2,   -1.42,2,    -999,9,    -999,9,    -999,    -999,9,    -999,9,    -999,9,  250.80,     2154,  24.9056, -65.9993,   0.014,   0.0088,    0.15,   0.1060,2,   0.0770,2,   0.0370,2,   0.0280,2,   0.0170,2,   0.0190,2,  19.0297,    -999,9,       -999,9,    -999,9,    -999,9
 316N200310,        A22,      43,          1,         28,         28,2,20031102,       1943,    24.8875,   -65.9972,       5541,   301.8,  18.5382,  36.5880,2,  36.5866,2,    189.8,2,   192.1,2,    0.94,2,    4.33,2,    0.01,2,    0.18,2,   2.345,2,   1.357,2,   0.020,2,  2105.6,2,  2395.3,2,   1.115,2,   1.7625,2,   -0.93,2,    -999,9,    -999,9,    -999,    -999,9,    -999,9,    -999,9,  301.80,     2152,  24.9053, -65.9993,   0.016,   0.0088,    0.15,     -999,9,     -999,9,     -999,9,     -999,9,     -999,9,     -999,9,  18.4847,    -999,9,       -999,9,    -999,9,    -999,9
 316N200310,        A22,      43,          1,         27,         27,2,20031102,       1943,    24.8875,   -65.9972,       5541,   402.6,  17.6588,  36.4668,2,  36.4646,2,    187.4,2,   188.4,2,    1.42,2,    6.36,2,    0.01,2,    0.30,2,   2.365,2,   1.338,2,   0.021,2,  2114.3,2,    -999,9,   1.100,2,   1.7506,2,   -1.09,2,    -999,9,    -999,9,    -999,    -999,9,    -999,9,    -999,9,  402.60,     2149,  24.9049, -65.9993,   0.013,   0.0088,    0.15,     -999,9,     -999,9,     -999,9,     -999,9,     -999,9,     -999,9,  17.5896,    -999,9,       -999,9,    -999,9,    -999,9
 316N200310,        A22,      43,          1,         26,         26,2,20031102,       1943,    24.8875,   -65.9972,       5541,   501.3,  15.9597,  36.1830,2,  36.1820,2,    175.2,2,   174.6,2,    2.89,2,   10.45,2,    0.01,2,    0.56,2,   2.242,2,   1.239,2,   0.027,2,  2133.7,2,  2373.3,2,   1.215,2,   1.7713,2,    1.01,2,    -999,9,    -999,9,    -999,    -999,9,    -999,9,    -999,9,  501.30,     2146,  24.9044, -65.9995,   0.014,   0.0089,    0.15,   0.1060,2,   0.0750,2,   0.0360,2,   0.0250,2,   0.0190,2,   0.0200,2,  15.8791,    -999,9,       -999,9,    -999,9,    -999,9
 316N200310,        A22,      43,          1,         25,         25,2,20031102,       1943,    24.8875,   -65.9972,       5541,   624.8,  13.5610,  35.7774,2,  35.7758,2,    148.1,2,   146.6,2,    6.05,2,   17.10,2,    0.01,2,    1.00,2,   1.811,2,   0.947,2,   0.014,2,  2164.2,2,    -999,9,    -999,9,   1.7685,2,    3.58,2,    -999,9,    -999,9,    -999,    -999,9,    -999,9,    -999,9,  624.80,     2142,  24.9037, -66.0001,    -999,   0.0088,    0.15,     -999,9,     -999,9,     -999,9,     -999,9,     -999,9,     -999,9,  13.4707,    -999,9,       -999,9,    -999,9,    -999,9
 316N200310,        A22,      43,          1,         24,         24,2,20031102,       1943,    24.8875,   -65.9972,       5541,   751.4,  11.1769,  35.4630,2,  35.4628,2,    145.7,2,   146.6,2,    9.52,2,   20.85,2,    0.01,2,    1.27,2,   1.115,2,   0.573,2,   0.017,2,  2174.7,2,  2337.0,2,   1.275,2,     -999,9,    -999,9,    -999,9,    -999,9,    -999,    -999,9,    -999,9,    -999,9,  751.40,     2138,  24.9029, -66.0006,   0.014,     -999,    -999,     -999,9,     -999,9,     -999,9,     -999,9,     -999,9,     -999,9,  11.0805,    -999,9,       -999,9,    -999,9,    -999,9
 316N200310,        A22,      43,          1,         23,         23,2,20031102,       1943,    24.8875,   -65.9972,       5541,   901.4,   8.2650,  35.1234,2,  35.1224,2,    144.0,2,   143.8,2,   15.81,2,   25.69,2,    0.01,2,    1.65,2,   0.412,2,   0.213,2,   0.006,2,  2194.0,2,  2324.9,2,   0.986,2,   1.8060,2,    7.47,2,    -999,9,    -999,9,    -999,    -999,9,    -999,9,    -999,9,  901.40,     2134,  24.9021, -66.0011,   0.013,   0.0090,    0.15,   0.1350,2,   0.0970,2,   0.0510,2,   0.0370,2,   0.0140,2,   0.0160,2,   8.1677,    -999,9,       -999,9,    -999,9,    -999,9
 316N200310,        A22,      43,          1,         22,         22,2,20031102,       1943,    24.8875,   -65.9972,       5541,  1051.9,   6.5408,  35.0471,2,  35.0465,2,    172.8,2,   173.7,2,   16.89,2,   24.49,2,    0.01,2,    1.60,2,   0.361,2,   0.181,2,   0.005,2,  2190.7,2,  2323.1,2,   0.630,2,   1.7990,2,    5.96,2,    -999,9,    -999,9,    -999,    -999,9,    -999,9,    -999,9, 1051.90,     2129,  24.9015, -66.0013,   0.012,   0.0090,    0.15,     -999,9,     -999,9,     -999,9,     -999,9,     -999,9,     -999,9,   6.4397,    -999,9,       -999,9,    -999,9,    -999,9
 316N200310,        A22,      43,          1,         21,         21,2,20031102,       1943,    24.8875,   -65.9972,       5541,  1202.5,   5.7223,  35.0737,2,  35.0752,2,    209.1,2,   208.6,2,   14.37,2,   21.39,2,    0.01,2,    1.38,2,   0.589,2,   0.290,2,   0.018,2,    -999,9,    -999,9,   0.378,2,   1.8225,2,    3.99,2,    -999,9,    -999,9,    -999,    -999,9,    -999,9,    -999,9, 1202.50,     2125,  24.9009, -66.0011,   0.011,   0.0091,    0.15,     -999,9,     -999,9,     -999,9,     -999,9,     -999,9,     -999,9,   5.6127,    -999,9,       -999,9,    -999,9,    -999,9
 316N200310,        A22,      43,          1,         20,         20,2,20031102,       1943,    24.8875,   -65.9972,       5541,  1352.3,   5.0670,  35.0654,2,  35.0655,2,    230.4,2,   231.6,2,   13.16,2,   19.71,2,    0.01,2,    1.27,2,   0.735,2,   0.354,2,   0.029,2,    -999,9,    -999,9,   0.364,2,   1.8171,2,    3.97,2,    -999,9,    -999,9,    -999,    -999,9,    -999,9,    -999,9, 1352.30,     2119,  24.9001, -66.0008,   0.011,   0.0091,    0.15,     -999,9,     -999,9,     -999,9,     -999,9,     -999,9,     -999,9,   4.9491,    -999,9,       -999,9,    -999,9,    -999,9
 316N200310,        A22,      43,          1,         19,         19,2,20031102,       1943,    24.8875,   -65.9972,       5541,  1501.9,   4.5994,  35.0400,2,  35.0413,2,    244.5,2,   244.4,2,   12.95,2,   19.08,2,    0.01,2,    1.23,2,   0.770,2,   0.377,2,   0.030,2,  2164.9,2,  2320.2,2,   0.441,2,   1.8253,2,    4.56,2,    -999,9,    -999,9,    -999,    -999,9,    -999,9,    -999,9, 1501.90,     2115,  24.8995, -66.0006,   0.012,   0.0091,    0.15,     -999,9,     -999,9,     -999,9,     -999,9,     -999,9,     -999,9,   4.4721,    -999,9,       -999,9,    -999,9,    -999,9
 316N200310,        A22,      43,          1,         18,         18,2,20031102,       1943,    24.8875,   -65.9972,       5541,  1651.4,   4.3420,  35.0380,2,  35.0396,2,    248.2,2,   248.4,2,   13.93,2,   18.94,2,    0.01,2,    1.22,2,   0.560,2,   0.277,2,   0.019,2,    -999,9,    -999,9,    -999,9,   1.8315,2,    4.54,2,    -999,9,    -999,9,    -999,    -999,9,    -999,9,    -999,9, 1651.40,     2110,  24.8989, -66.0003,    -999,   0.0092,    0.15,     -999,9,     -999,9,     -999,9,     -999,9,     -999,9,     -999,9,   4.2035,    -999,9,       -999,9,    -999,9,    -999,9
 316N200310,        A22,      43,          1,         17,         17,2,20031102,       1943,    24.8875,   -65.9972,       5541,  1802.1,   4.0845,  35.0270,2,  35.0274,2,    251.0,2,   250.9,2,   15.31,2,   18.93,2,    0.01,2,    1.23,2,   0.390,2,   0.199,2,   0.013,2,    -999,9,    -999,9,    -999,9,   1.8336,2,    4.75,2,    -999,9,    -999,9,    -999,    -999,9,    -999,9,    -999,9, 1802.10,     2105,  24.8983, -66.0001,    -999,   0.0092,    0.15,     -999,9,     -999,9,     -999,9,     -999,9,     -999,9,     -999,9,   3.9349,    -999,9,       -999,9,    -999,9,    -999,9
 316N200310,        A22,      43,          1,         16,         16,2,20031102,       1943,    24.8875,   -65.9972,       5541,  2001.6,   3.7872,  35.0149,2,  35.0175,2,    251.1,2,   251.2,2,   18.20,2,   19.17,2,    0.01,2,    1.24,2,   0.184,2,   0.093,2,   0.004,2,  2165.8,2,    -999,9,   0.256,2,   1.8523,2,    1.83,2,    -999,9,    -999,9,    -999,    -999,9,    -999,9,    -999,9, 2001.60,     2100,  24.8974, -65.9999,   0.011,   0.0093,    0.15,     -999,9,     -999,9,     -999,9,     -999,9,     -999,9,     -999,9,   3.6225,    -999,9,       -999,9,    -999,9,    -999,9
 316N200310,        A22,      43,          1,         15,         15,2,20031102,       1943,    24.8875,   -65.9972,       5541,  2252.0,   3.4261,  34.9865,2,  34.9874,2,    254.3,2,   253.6,2,   20.89,2,   19.32,2,    0.01,2,    1.26,2,   0.138,2,   0.069,2,   0.008,2,    -999,9,    -999,9,   0.168,2,   1.8729,2,    1.28,2,    -999,9,    -999,9,    -999,    -999,9,    -999,9,    -999,9, 2252.00,     2054,  24.8966, -65.9998,   0.011,   0.0094,    0.15,     -999,9,     -999,9,     -999,9,     -999,9,     -999,9,     -999,9,   3.2428,    -999,9,       -999,9,    -999,9,    -999,9
 316N200310,        A22,      43,          1,         14,         14,2,20031102,       1943,    24.8875,   -65.9972,       5541,  2501.2,   3.1428,  34.9646,2,  34.9648,2,    255.0,2,   254.9,2,   23.68,2,   19.50,2,    0.01,2,    1.28,2,   0.114,2,   0.055,2,   0.006,2,    -999,9,    -999,9,    -999,9,     -999,9,    -999,9,    -999,9,    -999,9,    -999,    -999,9,    -999,9,    -999,9, 2501.20,     2049,  24.8960, -65.9996,    -999,     -999,    -999,     -999,9,     -999,9,     -999,9,     -999,9,     -999,9,     -999,9,   2.9400,    -999,9,       -999,9,    -999,9,    -999,9
 316N200310,        A22,      43,          1,         13,         13,2,20031102,       1943,    24.8875,   -65.9972,       5541,  2750.8,   2.9302,  34.9475,2,  34.9479,2,    256.1,2,   256.3,2,   25.48,2,   19.36,2,    0.01,2,    1.29,2,   0.156,2,   0.076,2,   0.009,2,    -999,9,    -999,9,   0.080,2,   1.8507,2,    1.09,2,    -999,9,    -999,9,    -999,    -999,9,    -999,9,    -999,9, 2750.80,     2043,  24.8955, -65.9994,   0.011,   0.0093,    0.15,     -999,9,     -999,9,     -999,9,     -999,9,     -999,9,     -999,9,   2.7065,    -999,9,       -999,9,    -999,9,    -999,9
 316N200310,        A22,      43,          1,         12,         12,2,20031102,       1943,    24.8875,   -65.9972,       5541,  3000.7,   2.7536,  34.9331,2,  34.9329,2,    259.4,2,   260.2,2,   25.56,2,   19.16,2,    0.01,2,    1.27,2,   0.253,2,   0.121,2,   0.014,2,    -999,9,    -999,9,    -999,9,     -999,9,    -999,9,    -999,9,    -999,9,    -999,    -999,9,    -999,9,    -999,9, 3000.70,     2038,  24.8948, -65.9991,    -999,     -999,    -999,     -999,9,     -999,9,     -999,9,     -999,9,     -999,9,     -999,9,   2.5081,    -999,9,       -999,9,    -999,9,    -999,9
 316N200310,        A22,      43,          1,         11,         11,2,20031102,       1943,    24.8875,   -65.9972,       5541,  3251.1,   2.6117,  34.9230,2,  34.9231,2,    259.9,2,   260.2,2,   28.16,2,   19.41,2,    0.01,2,    1.29,2,   0.186,2,   0.093,2,   0.006,2,    -999,9,    -999,9,   0.105,2,   1.8705,2,    1.48,2,    -999,9,    -999,9,    -999,    -999,9,    -999,9,    -999,9, 3251.10,     2033,  24.8942, -65.9990,   0.011,   0.0094,    0.15,     -999,9,     -999,9,     -999,9,     -999,9,     -999,9,     -999,9,   2.3432,    -999,9,       -999,9,    -999,9,    -999,9
 316N200310,        A22,      43,          1,         10,         10,2,20031102,       1943,    24.8875,   -65.9972,       5541,  3499.2,   2.4896,  34.9139,2,  34.9134,2,    260.9,2,   261.6,2,   29.35,2,   19.31,2,    0.01,2,    1.29,2,   0.163,2,   0.079,2,   0.005,2,    -999,9,    -999,9,    -999,9,     -999,9,    -999,9,    -999,9,    -999,9,    -999,    -999,9,    -999,9,    -999,9, 3499.20,     2028,  24.8936, -65.9989,    -999,     -999,    -999,     -999,9,     -999,9,     -999,9,     -999,9,     -999,9,     -999,9,   2.1975,    -999,9,       -999,9,    -999,9,    -999,9
 316N200310,        A22,      43,          1,          9,          9,2,20031102,       1943,    24.8875,   -65.9972,       5541,  3750.0,   2.4041,  34.9070,2,  34.9073,2,    263.5,2,   264.0,2,   28.93,2,   19.02,2,    0.01,2,    1.27,2,   0.271,2,   0.129,2,   0.013,2,    -999,9,    -999,9,   0.141,2,   1.8650,2,    1.29,2,    -999,9,    -999,9,    -999,    -999,9,    -999,9,    -999,9, 3750.00,     2023,  24.8928, -65.9988,   0.011,   0.0093,    0.15,     -999,9,     -999,9,     -999,9,     -999,9,     -999,9,     -999,9,   2.0867,    -999,9,       -999,9,    -999,9,    -999,9
 316N200310,        A22,      43,          1,          8,          8,2,20031102,       1943,    24.8875,   -65.9972,       5541,  4001.2,   2.3455,  34.9016,2,  34.9004,2,    264.1,2,   264.0,2,   30.22,2,   19.15,2,    0.01,2,    1.28,2,   0.231,2,   0.111,2,   0.011,2,    -999,9,    -999,9,    -999,9,     -999,9,    -999,9,    -999,9,    -999,9,    -999,    -999,9,    -999,9,    -999,9, 4001.20,     2018,  24.8921, -65.9985,    -999,     -999,    -999,     -999,9,     -999,9,     -999,9,     -999,9,     -999,9,     -999,9,   2.0014,    -999,9,       -999,9,    -999,9,    -999,9
 316N200310,        A22,      43,          1,          7,          7,2,20031102,       1943,    24.8875,   -65.9972,       5541,  4249.1,   2.3088,  34.8970,2,  34.8975,2,    263.6,2,   263.5,2,   31.82,2,   19.35,2,    0.01,2,    1.29,2,   0.199,2,   0.110,2,   0.011,2,    -999,9,    -999,9,   0.149,2,   1.8759,2,    1.66,2,    -999,9,    -999,9,    -999,    -999,9,    -999,9,    -999,9, 4249.10,     2013,  24.8914, -65.9984,   0.011,   0.0094,    0.15,     -999,9,     -999,9,     -999,9,     -999,9,     -999,9,     -999,9,   1.9371,    -999,9,       -999,9,    -999,9,    -999,9
 316N200310,        A22,      43,          1,          6,          6,2,20031102,       1943,    24.8875,   -65.9972,       5541,  4499.8,   2.2549,  34.8890,2,  34.8890,2,    261.2,2,   261.3,2,   35.43,2,   19.83,2,    0.01,2,    1.33,2,   0.175,2,   0.088,2,   0.014,3,    -999,9,    -999,9,    -999,9,     -999,9,    -999,9,    -999,9,    -999,9,    -999,    -999,9,    -999,9,    -999,9, 4499.80,     2008,  24.8907, -65.9982,    -999,     -999,    -999,     -999,9,     -999,9,     -999,9,     -999,9,     -999,9,     -999,9,   1.8552,    -999,9,       -999,9,    -999,9,    -999,9
 316N200310,        A22,      43,          1,          5,          5,2,20031102,       1943,    24.8875,   -65.9972,       5541,  4748.3,   2.2067,  34.8799,2,  34.8794,2,    257.9,2,   258.7,2,   39.96,2,   20.50,2,    0.01,2,    1.38,2,   0.145,2,   0.087,2,   0.009,2,    -999,9,    -999,9,    -999,9,     -999,9,    -999,9,    -999,9,    -999,9,    -999,    -999,9,    -999,9,    -999,9, 4748.30,     2003,  24.8900, -65.9980,    -999,     -999,    -999,     -999,9,     -999,9,     -999,9,     -999,9,     -999,9,     -999,9,   1.7785,    -999,9,       -999,9,    -999,9,    -999,9