BOTTLE,20220517CCHSIOLMM
EXPOCODE,SECT_ID,STNNBR,CASTNO,SAMPNO,BTLNBR,BTLNBR_FLAG_W,DATE,TIME,LATITUDE,LONGITUDE,DEPTH,CTDPRS,CTDTMP,CTDSAL,CTDSAL_FLAG_W,SALNTY,SALNTY_FLAG_W,CTDOXY,CTDOXY_FLAG_W,OXYGEN,OXYGEN_FLAG_W,SILCAT,SILCAT_FLAG_W,NITRAT,NITRAT_FLAG_W,NITRIT,NITRIT_FLAG_W,PHSPHT,PHSPHT_FLAG_W,CFC-11,CFC-11_FLAG_W,CFC-12,CFC-12_FLAG_W,CFC113,CFC113_FLAG_W,TCARBN,TCARBN_FLAG_W,ALKALI,ALKALI_FLAG_W,TRITUM,TRITUM_FLAG_W,HELIUM,HELIUM_FLAG_W,DELHE3,DELHE3_FLAG_W,DELC13,DELC13_FLAG_W,DELC14,DELC14_FLAG_W,C14ERR,CCL4,CCL4_FLAG_W,DOC,DOC_FLAG_W,TDN,TDN_FLAG_W,CTDRAW,BTL_TIME,BTL_LAT,BTL_LON,TRITER,HELIER,DELHER,CDOM325,CDOM325_FLAG_W,CDOM340,CDOM340_FLAG_W,CDOM380,CDOM380_FLAG_W,CDOM412,CDOM412_FLAG_W,CDOMSL,CDOMSL_FLAG_W,CDOMSN,CDOMSN_FLAG_W,THETA,BACT,BACT_FLAG_W,PROC,PROC_FLAG_W,SYN,SYN_FLAG_W,PEUK,PEUK_FLAG_W
,,,,,,,,,,,METERS,DBAR,ITS-90,PSS-78,,PSS-78,,UMOL/KG,,UMOL/KG,,UMOL/KG,,UMOL/KG,,UMOL/KG,,UMOL/KG,,PMOL/KG,,PMOL/KG,,PMOL/KG,,UMOL/KG,,UMOL/KG,,TU,,NMOL/KG,,PERCNT,,/MILLE,,/MILLE,,/MILLE,PMOL/KG,,UMOL/KG,,UMOL/KG,,DBAR,,,,TU,NMOL/KG,PERCNT,1/M,,1/M,,1/M,,1/M,,1/NM,,1/NM,,DEG C,E8/L,,E7/L,,E6/L,,E6/L,
 316N200310,        A22,      64,          1,         32,         32,2,20031109,       1803,    36.2127,   -67.4748,       4965,     3.4,  23.8138,  36.5064,2,  36.5048,2,    212.8,2,   210.0,2,    0.36,2,    0.09,2,    0.00,2,    0.01,2,   1.859,2,   1.121,2,   0.095,2,  2039.3,2,  2389.3,2,    -999,9,     -999,9,    -999,9,    -999,9,    -999,9,    -999,   1.799,2,   64.30,2,    -999,9,    3.40,     2002,  36.2278, -67.5085,    -999,     -999,    -999,   0.0700,2,   0.0460,2,   0.0160,2,   0.0110,2,   0.0290,2,   0.0290,2,  23.8131,    2.98,2,       4.87,2,    4.82,2,    0.84,2
 316N200310,        A22,      64,          1,         33,         33,2,20031109,       1803,    36.2127,   -67.4748,       4965,     3.6,  23.8145,  36.5064,2,  36.5062,2,    212.8,2,    -999,9,    0.49,2,    0.09,2,    0.00,2,    0.01,2,   1.851,2,   1.173,2,   0.105,2,    -999,9,    -999,9,    -999,9,     -999,9,    -999,9,    1.30,2,    79.8,2,     3.6,   1.814,2,    -999,9,    -999,9,    3.60,     2002,  36.2278, -67.5085,    -999,     -999,    -999,     -999,9,     -999,9,     -999,9,     -999,9,     -999,9,     -999,9,  23.8137,    -999,9,       -999,9,    -999,9,    -999,9
 316N200310,        A22,      64,          1,         31,         31,2,20031109,       1803,    36.2127,   -67.4748,       4965,    26.1,  23.8380,  36.5058,2,  36.5046,2,    210.1,2,   209.8,2,    0.33,2,    0.09,2,    0.00,2,    0.01,2,   1.852,2,   1.109,2,   0.097,2,  2040.9,2,  2389.1,2,   0.912,2,   1.7329,2,    0.12,2,    -999,9,    -999,9,    -999,   1.816,2,   65.60,2,    4.90,2,   26.10,     2000,  36.2274, -67.5079,   0.013,   0.0087,    0.15,   0.0660,2,   0.0430,2,   0.0150,2,   0.0100,2,   0.0300,2,   0.0300,2,  23.8325,    2.60,2,       4.74,2,    5.19,2,    1.08,2
 316N200310,        A22,      64,          1,         30,         30,2,20031109,       1803,    36.2127,   -67.4748,       4965,    74.1,  23.8333,  36.5047,2,  36.5040,2,    209.2,2,   210.7,2,    0.40,2,    0.09,2,    0.00,2,    0.01,2,   1.864,2,   1.094,2,   0.094,2,  2041.2,2,    -999,9,    -999,9,     -999,9,    -999,9,    -999,9,    -999,9,    -999,   1.803,2,   64.90,2,    4.20,2,   74.10,     1958,  36.2270, -67.5072,    -999,     -999,    -999,   0.0800,2,   0.0530,2,   0.0210,2,   0.0140,2,   0.0260,2,   0.0260,2,  23.8177,    2.97,2,       4.56,2,    4.78,2,    0.86,2
 316N200310,        A22,      64,          1,         29,         29,2,20031109,       1803,    36.2127,   -67.4748,       4965,   125.3,  20.0339,  36.6617,2,  36.6610,2,    199.9,2,   198.9,2,    0.67,2,    1.59,2,    0.02,2,    0.07,2,   2.163,2,   1.288,2,   0.067,2,  2090.8,2,  2387.8,2,   1.016,2,   1.7554,2,    0.05,2,    -999,9,    -999,9,    -999,   0.565,2,   63.10,2,    5.30,2,  125.30,     1956,  36.2266, -67.5066,   0.013,   0.0088,    0.15,   0.1210,2,   0.0880,2,   0.0420,2,   0.0300,2,   0.0160,2,   0.0180,2,  20.0105,    1.13,2,       0.76,2,    0.00,2,    0.62,2
 316N200310,        A22,      64,          1,         28,         28,2,20031109,       1803,    36.2127,   -67.4748,       4965,   173.5,  19.1064,  36.6174,2,  36.6166,2,    200.0,2,   202.6,2,    0.85,2,    2.15,2,    0.01,2,    0.08,2,   2.246,2,   1.323,2,   0.058,2,  2093.8,2,  2385.8,2,   1.072,2,   1.7596,2,    0.65,2,    -999,9,    -999,9,    -999,   0.599,2,   62.50,2,    6.00,2,  173.50,     1954,  36.2263, -67.5059,   0.013,   0.0088,    0.15,   0.0930,2,   0.0660,2,   0.0300,2,   0.0230,2,   0.0210,2,   0.0220,2,  19.0750,    0.98,2,       0.16,2,    0.00,2,    0.12,2
 316N200310,        A22,      64,          1,         27,         27,2,20031109,       1803,    36.2127,   -67.4748,       4965,   225.1,  18.8003,  36.6007,2,  36.5997,2,    206.2,2,   203.6,2,    1.01,2,    2.84,2,    0.01,2,    0.12,2,   2.274,2,   1.319,2,   0.055,2,  2095.4,2,  2383.9,2,   1.082,2,   1.7823,2,    0.30,2,    -999,9,    -999,9,    -999,   0.562,2,   61.70,2,    6.40,2,  225.10,     1952,  36.2259, -67.5051,   0.013,   0.0089,    0.15,   0.0950,2,   0.0680,2,   0.0320,2,   0.0230,2,   0.0200,2,   0.0210,2,  18.7600,    -999,9,       -999,9,    -999,9,    -999,9
 316N200310,        A22,      64,          1,         26,         26,2,20031109,       1803,    36.2127,   -67.4748,       4965,   274.9,  18.5832,  36.5818,2,  36.5793,2,    204.3,2,   205.7,2,    1.09,2,    2.99,2,    0.01,2,    0.13,2,   2.297,2,   1.361,2,   0.058,2,  2096.1,2,  2382.8,2,   1.072,2,   1.7856,2,    0.78,2,    -999,9,    -999,9,    -999,   0.647,2,   58.00,2,    7.40,2,  274.90,     1950,  36.2254, -67.5046,   0.013,   0.0089,    0.15,   0.0840,2,   0.0590,2,   0.0260,2,   0.0190,2,   0.0230,2,   0.0230,2,  18.5344,    -999,9,       -999,9,    -999,9,    -999,9
 316N200310,        A22,      64,          1,         25,         25,2,20031109,       1803,    36.2127,   -67.4748,       4965,   350.1,  18.2445,  36.5428,2,  36.5418,2,    200.0,2,   200.0,2,    1.37,2,    4.07,2,    0.01,2,    0.19,2,   2.292,6,   1.320,6,   0.055,2,  2101.6,2,  2380.3,2,   1.093,2,   1.7749,2,    0.59,2,    -999,9,    -999,9,    -999,   0.566,2,   52.90,2,    -999,9,  350.10,     1948,  36.2252, -67.5041,   0.016,   0.0089,    0.15,   0.1070,2,   0.0770,2,   0.0370,2,   0.0270,2,   0.0180,2,   0.0190,2,  18.1830,    -999,9,       -999,9,    -999,9,    -999,9
 316N200310,        A22,      64,          1,         24,         24,2,20031109,       1803,    36.2127,   -67.4748,       4965,   449.9,  17.5770,  36.4519,2,  36.4505,2,    194.0,2,   193.9,2,    1.83,2,    5.75,2,    0.01,2,    0.29,2,   2.292,2,   1.301,2,   0.036,2,  2112.1,2,  2375.8,2,   1.125,2,   1.7819,2,    0.81,2,    -999,9,    -999,9,    -999,   0.512,2,   49.40,2,    -999,9,  449.90,     1946,  36.2251, -67.5036,   0.013,   0.0089,    0.15,   0.0850,2,   0.0590,2,   0.0260,2,   0.0190,2,   0.0230,2,   0.0230,2,  17.4999,    -999,9,       -999,9,    -999,9,    -999,9
 316N200310,        A22,      64,          1,         23,         23,2,20031109,       1803,    36.2127,   -67.4748,       4965,   579.8,  16.0184,  36.1852,2,  36.1842,2,    181.5,2,   184.4,2,    3.11,2,    9.08,2,    0.01,2,    0.51,2,   2.597,4,   2.331,4,   0.153,4,  2127.6,2,    -999,9,   1.235,2,   1.7690,2,    3.21,2,    -999,9,    -999,9,    -999,   0.624,4,   48.00,2,    -999,9,  579.80,     1942,  36.2249, -67.5029,   0.014,   0.0088,    0.15,   0.0990,2,   0.0680,2,   0.0290,2,   0.0200,2,   0.0230,2,   0.0240,2,  15.9247,    -999,9,       -999,9,    -999,9,    -999,9
 316N200310,        A22,      64,          1,         22,         22,2,20031109,       1803,    36.2127,   -67.4748,       4965,   726.1,  12.9179,  35.6693,2,  35.6674,2,    159.6,2,   155.1,2,    7.31,2,   17.08,2,    0.01,2,    1.03,2,   1.706,2,   0.914,2,   0.033,2,  2162.1,2,  2343.8,2,   1.263,2,   1.7799,2,    5.90,2,    -999,9,    -999,9,    -999,   0.380,2,   47.30,2,    -999,9,  726.10,     1939,  36.2244, -67.5018,   0.014,   0.0089,    0.15,   0.1190,2,   0.0820,2,   0.0390,2,   0.0270,2,   0.0190,2,   0.0210,2,  12.8159,    -999,9,       -999,9,    -999,9,    -999,9
 316N200310,        A22,      64,          1,         21,         21,2,20031109,       1803,    36.2127,   -67.4748,       4965,   864.8,   9.9791,  35.3009,2,  35.3027,2,    150.5,2,   149.9,2,   11.76,2,   22.08,2,    0.01,2,    1.38,2,   1.223,2,   0.652,2,   0.019,2,  2181.6,2,  2328.0,2,   1.207,2,   1.7976,2,    8.31,2,    -999,9,    -999,9,    -999,   0.448,2,   45.90,2,    -999,9,  864.80,     1935,  36.2241, -67.5007,   0.014,   0.0090,    0.15,   0.1210,2,   0.0840,2,   0.0400,2,   0.0270,2,   0.0180,2,   0.0200,2,   9.8751,    -999,9,       -999,9,    -999,9,    -999,9
 316N200310,        A22,      64,          1,         20,         20,2,20031109,       1803,    36.2127,   -67.4748,       4965,   958.9,   8.2936,  35.1743,2,  35.1742,2,    163.0,2,   165.7,2,   13.06,2,   22.37,2,    0.01,2,    1.43,2,   1.165,2,   0.601,2,   0.025,2,  2185.2,2,  2323.6,2,   0.938,2,   1.8024,2,    8.51,2,    -999,9,    -999,9,    -999,   0.641,2,   46.40,2,    -999,9,  958.90,     1933,  36.2240, -67.5000,   0.013,   0.0090,    0.15,   0.1400,2,   0.0990,2,   0.0490,2,   0.0340,2,   0.0160,2,   0.0180,2,   8.1896,    -999,9,       -999,9,    -999,9,    -999,9
 316N200310,        A22,      64,          1,         19,         19,2,20031109,       1803,    36.2127,   -67.4748,       4965,  1128.6,   6.0718,  35.0752,2,  35.0766,2,    207.9,2,   208.1,2,   12.83,2,   20.35,2,    0.01,2,    1.32,2,   1.539,6,   0.775,6,   0.054,6,  2177.6,2,  2319.1,2,   0.784,2,   1.8350,2,    7.73,2,    -999,9,    -999,9,    -999,   1.308,6,    -999,9,    -999,9, 1128.60,     1928,  36.2240, -67.4992,   0.012,   0.0092,    0.15,     -999,9,     -999,9,     -999,9,     -999,9,     -999,9,     -999,9,   5.9666,    -999,9,       -999,9,    -999,9,    -999,9
 316N200310,        A22,      64,          1,         18,         18,2,20031109,       1803,    36.2127,   -67.4748,       4965,  1283.2,   5.1262,  35.0447,2,  35.0463,2,    234.0,2,   234.1,2,   12.09,2,   18.94,2,    0.01,2,    1.23,2,   1.759,2,   0.889,2,   0.068,2,  2170.7,2,  2311.1,2,   0.737,2,   1.8564,2,    8.92,2,    -999,9,    -999,9,    -999,   1.702,2,   44.20,2,    -999,9, 1283.20,     1924,  36.2234, -67.4985,   0.012,   0.0093,    0.15,   0.1290,2,   0.0900,2,   0.0420,2,   0.0280,2,   0.0190,2,   0.0200,2,   5.0143,    -999,9,       -999,9,    -999,9,    -999,9
 316N200310,        A22,      64,          1,         17,         17,2,20031109,       1803,    36.2127,   -67.4748,       4965,  1426.9,   4.6794,  35.0199,2,  35.0207,2,    246.4,2,   246.2,2,   11.85,2,   18.39,2,    0.01,2,    1.19,2,   1.867,2,   0.920,2,   0.080,2,  2167.1,2,  2309.1,2,   0.785,2,   1.8534,2,    7.89,2,    -999,9,    -999,9,    -999,   1.918,2,    -999,9,    -999,9, 1426.90,     1920,  36.2225, -67.4974,   0.012,   0.0093,    0.15,     -999,9,     -999,9,     -999,9,     -999,9,     -999,9,     -999,9,   4.5584,    -999,9,       -999,9,    -999,9,    -999,9
 316N200310,        A22,      64,          1,         16,         16,2,20031109,       1803,    36.2127,   -67.4748,       4965,  1576.8,   4.3481,  34.9963,2,  34.9976,3,    253.7,2,   254.1,2,   11.92,2,   18.13,2,    0.01,2,    1.18,2,   1.851,2,   0.904,2,   0.076,2,  2164.4,2,  2309.4,2,   0.910,2,   1.8589,2,    8.52,2,    -999,9,    -999,9,    -999,   2.021,2,   44.50,2,    -999,9, 1576.80,     1916,  36.2220, -67.4963,   0.013,   0.0093,    0.15,   0.1370,2,   0.0960,2,   0.0460,2,   0.0300,2,   0.0180,2,   0.0190,2,   4.2167,    -999,9,       -999,9,    -999,9,    -999,9
 316N200310,        A22,      64,          1,         15,         15,2,20031109,       1803,    36.2127,   -67.4748,       4965,  1727.4,   4.0991,  34.9825,2,  34.9492,3,    259.3,2,   258.8,2,   12.19,2,   17.98,2,    0.01,2,    1.17,2,   1.701,2,   0.819,2,   0.072,2,  2162.0,2,    -999,9,   0.925,2,   1.8630,2,    8.78,2,    -999,9,    -999,9,    -999,   1.990,2,    -999,9,    -999,9, 1727.40,     1913,  36.2217, -67.4951,   0.013,   0.0093,    0.15,     -999,9,     -999,9,     -999,9,     -999,9,     -999,9,     -999,9,   3.9565,    -999,9,       -999,9,    -999,9,    -999,9
 316N200310,        A22,      64,          1,         14,         14,2,20031109,       1803,    36.2127,   -67.4748,       4965,  1900.2,   3.8190,  34.9578,2,  34.9518,3,    262.7,2,   264.3,2,   12.48,2,   17.77,2,    0.01,2,    1.16,2,   1.725,2,   0.858,2,   0.072,2,  2161.0,2,  2311.8,2,   0.880,2,   1.8606,2,    9.44,2,    -999,9,    -999,9,    -999,   2.090,2,   45.10,2,    -999,9, 1900.20,     1908,  36.2212, -67.4938,   0.012,   0.0093,    0.15,   0.1250,2,   0.0870,2,   0.0400,2,   0.0260,2,   0.0190,2,   0.0210,2,   3.6638,    -999,9,       -999,9,    -999,9,    -999,9
 316N200310,        A22,      64,          1,         13,         13,2,20031109,       1803,    36.2127,   -67.4748,       4965,  2126.9,   3.6110,  34.9488,2,  34.9502,3,    267.3,2,   267.3,2,   13.26,2,   17.72,2,    0.01,2,    1.15,2,   1.565,2,   0.772,2,   0.064,2,  2160.1,2,  2308.1,2,   0.831,2,   1.8892,2,    8.26,2,    -999,9,    -999,9,    -999,   1.944,2,   44.40,2,    -999,9, 2126.90,     1904,  36.2206, -67.4922,   0.012,   0.0094,    0.15,   0.1270,2,   0.0880,2,   0.0410,2,   0.0270,2,   0.0190,2,   0.0210,2,   3.4371,    -999,9,       -999,9,    -999,9,    -999,9
 316N200310,        A22,      64,          1,         12,         12,2,20031109,       1803,    36.2127,   -67.4748,       4965,  2375.2,   3.4660,  34.9513,2,  34.9545,3,    266.3,2,   266.3,2,   14.86,2,   17.76,2,    0.01,2,    1.17,2,   1.213,2,   0.582,2,   0.049,2,  2161.3,2,  2305.6,2,    -999,9,     -999,9,    -999,9,    -999,9,    -999,9,    -999,   1.618,2,   43.30,2,    -999,9, 2375.20,     1859,  36.2202, -67.4905,    -999,     -999,    -999,   0.1240,2,   0.0870,2,   0.0400,2,   0.0260,2,   0.0190,2,   0.0210,2,   3.2701,    -999,9,       -999,9,    -999,9,    -999,9
 316N200310,        A22,      64,          1,         11,         11,2,20031109,       1803,    36.2127,   -67.4748,       4965,  2625.5,   3.3097,  34.9519,2,  34.9528,3,    264.2,2,   264.4,2,   16.79,2,   17.97,2,    0.00,2,    1.18,2,   0.823,2,   0.410,2,   0.024,2,  2161.8,2,  2307.8,2,   0.526,2,   1.8710,2,    6.53,2,    -999,9,    -999,9,    -999,   1.235,2,   44.00,2,    -999,9, 2625.50,     1854,  36.2194, -67.4888,   0.011,   0.0094,    0.15,   0.1440,2,   0.1030,2,   0.0510,2,   0.0350,2,   0.0160,2,   0.0180,2,   3.0914,    -999,9,       -999,9,    -999,9,    -999,9
 316N200310,        A22,      64,          1,         10,         10,2,20031109,       1803,    36.2127,   -67.4748,       4965,  2873.8,   3.1240,  34.9473,2,  34.9482,3,    263.6,2,   263.7,2,   18.81,2,   18.12,2,    0.00,2,    1.20,2,   0.637,2,   0.334,2,   0.020,2,  2164.2,2,  2309.8,2,    -999,9,     -999,9,    -999,9,    -999,9,    -999,9,    -999,   0.994,2,    -999,9,    -999,9, 2873.80,     1849,  36.2188, -67.4871,    -999,     -999,    -999,     -999,9,     -999,9,     -999,9,     -999,9,     -999,9,     -999,9,   2.8838,    -999,9,       -999,9,    -999,9,    -999,9
 316N200310,        A22,      64,          1,          9,          9,2,20031109,       1803,    36.2127,   -67.4748,       4965,  3128.2,   2.9095,  34.9367,2,  34.9378,3,    264.6,2,   264.9,2,   20.42,2,   18.12,2,    0.00,2,    1.20,2,   0.560,2,   0.280,2,   0.016,2,  2162.3,2,  2313.6,2,    -999,9,   1.8817,2,    6.47,2,    -999,9,    -999,9,    -999,   0.931,2,   43.30,2,    -999,9, 3128.20,     1844,  36.2178, -67.4856,    -999,   0.0094,    0.15,   0.1260,2,   0.0880,2,   0.0400,2,   0.0260,2,   0.0190,2,   0.0210,2,   2.6472,    -999,9,       -999,9,    -999,9,    -999,9
 316N200310,        A22,      64,          1,          8,          8,2,20031109,       1803,    36.2127,   -67.4748,       4965,  3374.3,   2.6627,  34.9227,2,  34.9233,2,    266.4,2,   266.9,2,   22.04,2,   18.06,2,    0.00,2,    1.20,2,   0.583,2,   0.286,2,   0.018,2,  2163.3,2,  2313.6,2,    -999,9,     -999,9,    -999,9,    -999,9,    -999,9,    -999,   0.984,2,    -999,9,    -999,9, 3374.30,     1838,  36.2169, -67.4842,    -999,     -999,    -999,     -999,9,     -999,9,     -999,9,     -999,9,     -999,9,     -999,9,   2.3799,    -999,9,       -999,9,    -999,9,    -999,9
 316N200310,        A22,      64,          1,          7,          7,2,20031109,       1803,    36.2127,   -67.4748,       4965,  3621.7,   2.4896,  34.9116,2,  34.9117,2,    267.8,2,   267.7,2,   23.98,2,   18.06,2,    0.00,2,    1.20,2,   0.621,2,   0.315,2,   0.019,2,  2165.2,2,  2314.5,2,    -999,9,   1.8756,2,    7.30,2,    -999,9,    -999,9,    -999,   1.056,2,   43.10,2,    -999,9, 3621.70,     1833,  36.2161, -67.4829,    -999,   0.0094,    0.15,   0.1370,2,   0.0960,2,   0.0450,2,   0.0290,2,   0.0180,2,   0.0200,2,   2.1842,    -999,9,       -999,9,    -999,9,    -999,9
 316N200310,        A22,      64,          1,          6,          6,2,20031109,       1803,    36.2127,   -67.4748,       4965,  3874.8,   2.3758,  34.9028,2,  34.9036,2,    267.6,2,   267.3,2,   26.12,2,   18.20,2,    0.00,2,    1.22,2,   0.666,2,   0.332,2,   0.021,2,  2168.0,2,  2316.6,2,    -999,9,     -999,9,    -999,9,    -999,9,    -999,9,    -999,   1.100,2,    -999,9,    -999,9, 3874.80,     1828,  36.2154, -67.4813,    -999,     -999,    -999,     -999,9,     -999,9,     -999,9,     -999,9,     -999,9,     -999,9,   2.0452,    -999,9,       -999,9,    -999,9,    -999,9
 316N200310,        A22,      64,          1,          5,          5,2,20031109,       1803,    36.2127,   -67.4748,       4965,  4123.7,   2.2980,  34.8954,2,  34.8953,2,    266.0,2,   265.5,2,   29.31,2,   18.65,2,    0.00,2,    1.25,2,   0.615,2,   0.315,2,   0.027,2,  2172.1,2,  2320.2,2,   0.472,2,   1.8977,2,    6.65,2,    -999,9,    -999,9,    -999,   1.020,2,   43.20,2,    -999,9, 4123.70,     1822,  36.2148, -67.4803,   0.011,   0.0095,    0.15,   0.1360,2,   0.0950,2,   0.0450,2,   0.0290,2,   0.0180,2,   0.0200,2,   1.9412,    -999,9,       -999,9,    -999,9,    -999,9
 316N200310,        A22,      64,          1,          4,          4,2,20031109,       1803,    36.2127,   -67.4748,       4965,  4373.5,   2.2742,  34.8911,2,  34.8908,2,    264.0,2,   263.9,2,   31.67,2,   18.96,2,    0.00,2,    1.28,2,   0.550,2,   0.271,2,   0.026,2,  2174.8,2,  2323.1,2,    -999,9,     -999,9,    -999,9,    -999,9,    -999,9,    -999,   0.923,2,    -999,9,    -999,9, 4373.50,     1817,  36.2144, -67.4787,    -999,     -999,    -999,     -999,9,     -999,9,     -999,9,     -999,9,     -999,9,     -999,9,   1.8889,    -999,9,       -999,9,    -999,9,    -999,9
 316N200310,        A22,      64,          1,          3,          3,2,20031109,       1803,    36.2127,   -67.4748,       4965,  4621.6,   2.2663,  34.8872,2,  34.8877,2,    261.5,2,   262.3,2,   33.93,2,   19.30,2,    0.00,2,    1.30,2,   0.500,2,   0.255,2,   0.026,2,  2176.8,2,  2326.0,2,    -999,9,   1.9245,2,    6.65,2,    -999,9,    -999,9,    -999,   0.841,2,   41.70,2,    -999,9, 4621.60,     1812,  36.2136, -67.4774,    -999,   0.0096,    0.15,   0.1400,2,   0.0990,2,   0.0480,2,   0.0310,2,   0.0170,2,   0.0190,2,   1.8516,    -999,9,       -999,9,    -999,9,    -999,9
 316N200310,        A22,      64,          1,          2,          2,2,20031109,       1803,    36.2127,   -67.4748,       4965,  4872.8,   2.2610,  34.8833,2,  34.8833,2,    260.4,2,   260.4,2,   36.40,2,   19.70,2,    0.00,2,    1.33,2,   0.435,2,   0.229,2,   0.025,2,  2180.0,2,  2328.1,2,    -999,9,     -999,9,    -999,9,    -999,9,    -999,9,    -999,   0.753,2,    -999,9,    -999,9, 4872.80,     1807,  36.2131, -67.4759,    -999,     -999,    -999,     -999,9,     -999,9,     -999,9,     -999,9,     -999,9,     -999,9,   1.8156,    -999,9,       -999,9,    -999,9,    -999,9