BOTTLE,20220517CCHSIOLMM
EXPOCODE,SECT_ID,STNNBR,CASTNO,SAMPNO,BTLNBR,BTLNBR_FLAG_W,DATE,TIME,LATITUDE,LONGITUDE,DEPTH,CTDPRS,CTDTMP,CTDSAL,CTDSAL_FLAG_W,SALNTY,SALNTY_FLAG_W,CTDOXY,CTDOXY_FLAG_W,OXYGEN,OXYGEN_FLAG_W,SILCAT,SILCAT_FLAG_W,NITRAT,NITRAT_FLAG_W,NITRIT,NITRIT_FLAG_W,PHSPHT,PHSPHT_FLAG_W,CFC-11,CFC-11_FLAG_W,CFC-12,CFC-12_FLAG_W,CFC113,CFC113_FLAG_W,TCARBN,TCARBN_FLAG_W,ALKALI,ALKALI_FLAG_W,TRITUM,TRITUM_FLAG_W,HELIUM,HELIUM_FLAG_W,DELHE3,DELHE3_FLAG_W,DELC13,DELC13_FLAG_W,DELC14,DELC14_FLAG_W,C14ERR,CCL4,CCL4_FLAG_W,DOC,DOC_FLAG_W,TDN,TDN_FLAG_W,CTDRAW,BTL_TIME,BTL_LAT,BTL_LON,TRITER,HELIER,DELHER,CDOM325,CDOM325_FLAG_W,CDOM340,CDOM340_FLAG_W,CDOM380,CDOM380_FLAG_W,CDOM412,CDOM412_FLAG_W,CDOMSL,CDOMSL_FLAG_W,CDOMSN,CDOMSN_FLAG_W,THETA,BACT,BACT_FLAG_W,PROC,PROC_FLAG_W,SYN,SYN_FLAG_W,PEUK,PEUK_FLAG_W
,,,,,,,,,,,METERS,DBAR,ITS-90,PSS-78,,PSS-78,,UMOL/KG,,UMOL/KG,,UMOL/KG,,UMOL/KG,,UMOL/KG,,UMOL/KG,,PMOL/KG,,PMOL/KG,,PMOL/KG,,UMOL/KG,,UMOL/KG,,TU,,NMOL/KG,,PERCNT,,/MILLE,,/MILLE,,/MILLE,PMOL/KG,,UMOL/KG,,UMOL/KG,,DBAR,,,,TU,NMOL/KG,PERCNT,1/M,,1/M,,1/M,,1/M,,1/NM,,1/NM,,DEG C,E8/L,,E7/L,,E6/L,,E6/L,
 316N200310,        A22,      78,          1,         26,         26,2,20031112,       1401,    39.7033,   -69.8023,       2070,     3.8,  16.4305,  34.5509,2,  34.5349,2,    304.5,2,   241.8,2,    0.79,2,    0.13,2,    0.02,2,    0.12,2,   2.593,2,   1.531,2,   0.181,2,  2022.4,2,  2295.3,6,    -999,9,     -999,9,    -999,9,    -999,9,    -999,9,    -999,   2.535,2,   74.40,2,    3.60,2,    3.80,     1509,  39.7025, -69.7919,    -999,     -999,    -999,   0.2770,2,   0.2000,2,   0.0950,2,   0.0600,2,   0.0170,2,   0.0180,2,  16.4299,    6.42,2,       0.76,2,   66.06,2,    8.26,2
 316N200310,        A22,      78,          1,         25,         25,2,20031112,       1401,    39.7033,   -69.8023,       2070,    24.3,  17.0003,  34.8437,2,  34.8397,2,    231.7,2,   238.2,2,    0.68,2,    0.04,2,    0.00,2,    0.09,2,   2.493,6,   1.496,6,   0.212,2,  2028.9,2,  2310.6,2,    -999,9,     -999,9,    -999,9,    -999,9,    -999,9,    -999,   2.469,2,   71.80,2,    4.50,2,   24.30,     1507,  39.7025, -69.7921,    -999,     -999,    -999,   0.2430,2,   0.1760,2,   0.0850,2,   0.0560,2,   0.0160,2,   0.0180,2,  16.9963,    6.00,2,       1.10,2,   62.55,2,    9.55,2
 316N200310,        A22,      78,          1,         24,         24,2,20031112,       1401,    39.7033,   -69.8023,       2070,    50.3,  17.0225,  34.9333,2,  35.1364,2,    223.3,2,   208.7,2,    1.89,2,    3.35,2,    0.09,2,    0.29,2,   2.544,2,   1.498,2,   0.143,2,  2074.2,2,  2323.8,2,    -999,9,     -999,9,    -999,9,    -999,9,    -999,9,    -999,   1.598,2,   63.90,2,    9.20,2,   50.30,     1505,  39.7024, -69.7923,    -999,     -999,    -999,   0.2510,2,   0.1820,2,   0.0870,2,   0.0570,2,   0.0170,2,   0.0180,2,  17.0142,    4.02,2,       0.26,2,   15.50,2,    9.76,2
 316N200310,        A22,      78,          1,         23,         23,2,20031112,       1401,    39.7033,   -69.8023,       2070,    75.4,  14.9020,  35.6963,2,  35.6925,2,    161.8,2,   165.3,2,    4.21,2,   11.39,2,    0.02,2,    0.71,2,   2.354,2,   1.344,2,   0.081,2,  2138.9,2,  2345.9,2,    -999,9,     -999,9,    -999,9,    -999,9,    -999,9,    -999,   0.582,2,   51.60,2,   14.80,2,   75.40,     1503,  39.7024, -69.7926,    -999,     -999,    -999,   0.1790,2,   0.1290,2,   0.0620,2,   0.0430,2,   0.0160,2,   0.0180,2,  14.8906,    1.73,2,       0.44,2,    0.11,2,    0.29,2
 316N200310,        A22,      78,          1,         22,         22,2,20031112,       1401,    39.7033,   -69.8023,       2070,   100.2,  14.0957,  35.6681,2,  35.6634,2,    168.9,2,   168.6,2,    4.40,2,   12.54,2,    0.02,2,    0.77,2,   2.331,2,   1.318,2,   0.090,2,  2141.8,2,  2343.1,2,    -999,9,     -999,9,    -999,9,    -999,9,    -999,9,    -999,   0.596,2,   52.40,2,   15.30,2,  100.20,     1501,  39.7024, -69.7929,    -999,     -999,    -999,   0.1640,2,   0.1170,2,   0.0570,2,   0.0390,2,   0.0160,2,   0.0180,2,  14.0811,    1.53,2,       0.06,2,    0.08,2,    0.44,2
 316N200310,        A22,      78,          1,         21,         21,2,20031112,       1401,    39.7033,   -69.8023,       2070,   124.7,  13.6844,  35.6884,2,  35.6824,2,    164.6,2,   166.7,2,    5.20,2,   13.93,2,    0.02,2,    0.85,2,   2.143,2,   1.233,2,   0.061,2,  2148.0,2,  2343.8,2,    -999,9,     -999,9,    -999,9,    -999,9,    -999,9,    -999,   0.552,2,   51.40,2,   18.60,2,  124.70,     1500,  39.7023, -69.7931,    -999,     -999,    -999,   0.1400,2,   0.1000,2,   0.0480,2,   0.0330,2,   0.0170,2,   0.0190,2,  13.6665,    1.13,2,       0.00,2,    0.05,2,    0.05,2
 316N200310,        A22,      78,          1,         20,         20,2,20031112,       1401,    39.7033,   -69.8023,       2070,   149.0,  12.9768,  35.6041,2,  35.6003,2,    164.1,2,   165.4,2,    6.21,2,   15.39,2,    0.02,2,    0.95,2,   2.044,2,   1.158,2,   0.067,2,  2154.0,2,  2342.2,2,    -999,9,     -999,9,    -999,9,    -999,9,    -999,9,    -999,   0.565,2,   49.20,2,   19.70,2,  149.00,     1458,  39.7023, -69.7933,    -999,     -999,    -999,   0.1370,2,   0.0970,2,   0.0460,2,   0.0320,2,   0.0170,2,   0.0190,2,  12.9562,    1.08,2,       0.00,2,    0.02,2,    0.05,2
 316N200310,        A22,      78,          1,         19,         19,2,20031112,       1401,    39.7033,   -69.8023,       2070,   174.7,  12.5805,  35.5629,2,  35.5614,2,    161.4,2,   165.6,2,    6.82,2,   16.14,2,    0.02,2,    1.00,2,   1.996,2,   1.129,2,   0.066,2,  2156.7,2,  2340.3,2,    -999,9,     -999,9,    -999,9,    -999,9,    -999,9,    -999,   0.558,2,   48.10,2,   20.00,2,  174.70,     1457,  39.7023, -69.7935,    -999,     -999,    -999,   0.1300,2,   0.0910,2,   0.0420,2,   0.0290,2,   0.0180,2,   0.0200,2,  12.5569,    -999,9,       -999,9,    -999,9,    -999,9
 316N200310,        A22,      78,          1,         18,         18,2,20031112,       1401,    39.7033,   -69.8023,       2070,   225.8,  11.8255,  35.4929,2,  35.4965,2,    150.2,2,   149.7,2,    8.94,2,   19.26,2,    0.02,2,    1.19,2,   1.581,2,   0.853,2,   0.041,2,  2170.8,2,  2336.9,2,    -999,9,     -999,9,    -999,9,    -999,9,    -999,9,    -999,   0.438,2,   46.80,2,   19.30,4,  225.80,     1455,  39.7022, -69.7938,    -999,     -999,    -999,   0.1230,2,   0.0850,2,   0.0400,2,   0.0270,2,   0.0180,2,   0.0200,2,  11.7962,    -999,9,       -999,9,    -999,9,    -999,9
 316N200310,        A22,      78,          1,         17,         17,2,20031112,       1401,    39.7033,   -69.8023,       2070,   290.8,  10.0863,  35.2880,2,  35.2869,2,    135.0,2,   136.8,2,   12.38,2,   23.26,2,    0.02,2,    1.47,2,   1.101,2,   0.601,2,   0.023,2,  2188.5,2,  2327.2,2,    -999,9,     -999,9,    -999,9,    -999,9,    -999,9,    -999,   0.393,2,   44.80,2,   27.60,2,  290.80,     1453,  39.7022, -69.7940,    -999,     -999,    -999,     -999,9,     -999,9,     -999,9,     -999,9,     -999,9,     -999,9,  10.0521,    -999,9,       -999,9,    -999,9,    -999,9
 316N200310,        A22,      78,          1,         16,         16,2,20031112,       1401,    39.7033,   -69.8023,       2070,   370.9,   8.2409,  35.1191,2,  35.1177,2,    160.1,2,   153.4,2,   14.00,2,   23.72,2,    0.01,2,    1.52,2,   1.166,2,   0.629,2,   0.029,2,  2190.8,2,  2319.0,2,    -999,9,     -999,9,    -999,9,    -999,9,    -999,9,    -999,   0.693,2,   44.20,2,    -999,9,  370.90,     1450,  39.7022, -69.7944,    -999,     -999,    -999,   0.1360,2,   0.0950,2,   0.0470,2,   0.0320,2,   0.0160,2,   0.0180,2,   8.2022,    -999,9,       -999,9,    -999,9,    -999,9
 316N200310,        A22,      78,          1,         15,         15,2,20031112,       1401,    39.7033,   -69.8023,       2070,   449.5,   7.0365,  35.0477,2,  35.0466,2,    180.7,2,   177.6,2,   13.59,2,   22.30,2,    0.01,2,    1.45,2,   1.505,2,   0.802,2,   0.065,2,  2185.7,2,  2311.7,2,    -999,9,     -999,9,    -999,9,    -999,9,    -999,9,    -999,   1.151,2,    -999,9,    -999,9,  449.50,     1448,  39.7024, -69.7947,    -999,     -999,    -999,     -999,9,     -999,9,     -999,9,     -999,9,     -999,9,     -999,9,   6.9935,    -999,9,       -999,9,    -999,9,    -999,9
 316N200310,        A22,      78,          1,         14,         14,2,20031112,       1401,    39.7033,   -69.8023,       2070,   550.9,   5.8087,  34.9905,2,  34.9890,2,    207.9,2,   208.2,2,   12.78,2,   20.38,2,    0.01,2,    1.34,2,   1.992,2,   1.072,2,   0.099,2,  2178.1,2,  2310.0,2,    -999,9,     -999,9,    -999,9,    -999,9,    -999,9,    -999,   1.761,2,   44.20,2,    -999,9,  550.90,     1446,  39.7026, -69.7951,    -999,     -999,    -999,   0.1370,2,   0.0960,2,   0.0460,2,   0.0300,2,   0.0180,2,   0.0200,2,   5.7607,    -999,9,       -999,9,    -999,9,    -999,9
 316N200310,        A22,      78,          1,         13,         13,2,20031112,       1401,    39.7033,   -69.8023,       2070,   676.2,   5.0511,  34.9892,2,  34.9872,2,    230.8,2,   233.1,2,   11.87,2,   19.01,2,    0.01,2,    1.25,2,   2.240,6,   1.189,6,   0.122,6,  2172.1,2,  2310.7,2,    -999,9,     -999,9,    -999,9,    -999,9,    -999,9,    -999,   2.066,6,    -999,9,    -999,9,  676.20,     1442,  39.7027, -69.7956,    -999,     -999,    -999,     -999,9,     -999,9,     -999,9,     -999,9,     -999,9,     -999,9,   4.9956,    -999,9,       -999,9,    -999,9,    -999,9
 316N200310,        A22,      78,          1,         12,         12,2,20031112,       1401,    39.7033,   -69.8023,       2070,   825.4,   4.5133,  34.9674,2,  34.9665,2,    250.6,2,   250.9,2,   11.16,2,   18.05,2,    0.01,2,    1.19,2,   2.580,2,   1.369,2,   0.153,2,  2166.2,2,  2308.3,2,    -999,9,     -999,9,    -999,9,    -999,9,    -999,9,    -999,   2.529,2,   46.00,2,    -999,9,  825.40,     1438,  39.7029, -69.7961,    -999,     -999,    -999,   0.1320,2,   0.0910,2,   0.0410,2,   0.0270,2,   0.0200,2,   0.0210,2,   4.4480,    -999,9,       -999,9,    -999,9,    -999,9
 316N200310,        A22,      78,          1,         11,         11,2,20031112,       1401,    39.7033,   -69.8023,       2070,   949.8,   4.2609,  34.9573,2,  34.9557,2,    260.0,2,   258.3,2,   11.05,2,   17.70,2,    0.01,2,    1.16,2,   2.653,2,   1.388,2,   0.157,2,  2163.8,2,  2308.0,2,    -999,9,     -999,9,    -999,9,    -999,9,    -999,9,    -999,   2.666,2,    -999,9,    -999,9,  949.80,     1435,  39.7031, -69.7965,    -999,     -999,    -999,     -999,9,     -999,9,     -999,9,     -999,9,     -999,9,     -999,9,   4.1868,    -999,9,       -999,9,    -999,9,    -999,9
 316N200310,        A22,      78,          1,         10,         10,2,20031112,       1401,    39.7033,   -69.8023,       2070,  1025.6,   4.2438,  34.9674,2,  34.9675,2,    257.5,2,   257.1,2,   11.25,2,   17.75,2,    0.00,2,    1.17,2,   2.321,2,   1.223,2,   0.138,2,  2164.7,2,  2309.1,2,    -999,9,     -999,9,    -999,9,    -999,9,    -999,9,    -999,   2.424,2,   47.20,2,    -999,9, 1025.60,     1432,  39.7033, -69.7969,    -999,     -999,    -999,   0.1210,2,   0.0820,2,   0.0360,2,   0.0230,2,   0.0220,2,   0.0230,2,   4.1633,    -999,9,       -999,9,    -999,9,    -999,9
 316N200310,        A22,      78,          1,          9,          9,2,20031112,       1401,    39.7033,   -69.8023,       2070,  1125.3,   4.0664,  34.9611,2,  34.9610,2,    260.2,2,   261.3,2,   11.46,2,   17.75,2,    0.00,2,    1.16,2,   2.156,2,   1.105,2,   0.120,2,  2162.9,2,  2308.5,2,    -999,9,     -999,9,    -999,9,    -999,9,    -999,9,    -999,   2.356,2,    -999,9,    -999,9, 1125.30,     1429,  39.7036, -69.7974,    -999,     -999,    -999,     -999,9,     -999,9,     -999,9,     -999,9,     -999,9,     -999,9,   3.9788,    -999,9,       -999,9,    -999,9,    -999,9
 316N200310,        A22,      78,          1,          8,          8,2,20031112,       1401,    39.7033,   -69.8023,       2070,  1275.0,   3.8911,  34.9470,2,  34.9463,2,    265.2,2,   265.1,2,   11.56,2,   17.55,2,    0.00,2,    1.15,2,   2.253,2,   1.182,2,   0.126,2,  2161.1,2,  2308.8,2,    -999,9,     -999,9,    -999,9,    -999,9,    -999,9,    -999,   2.484,2,   45.80,2,    -999,9, 1275.00,     1426,  39.7039, -69.7980,    -999,     -999,    -999,   0.1250,2,   0.0860,2,   0.0380,2,   0.0240,2,   0.0210,2,   0.0220,2,   3.7922,    -999,9,       -999,9,    -999,9,    -999,9
 316N200310,        A22,      78,          1,          7,          7,2,20031112,       1401,    39.7033,   -69.8023,       2070,  1399.7,   3.8035,  34.9508,2,  34.9518,2,    265.0,2,   265.4,2,   11.96,2,   17.55,2,    0.00,2,    1.16,2,   1.899,2,   0.978,2,   0.098,2,  2160.1,2,  2310.7,2,    -999,9,     -999,9,    -999,9,    -999,9,    -999,9,    -999,   2.228,2,    -999,9,    -999,9, 1399.70,     1423,  39.7042, -69.7986,    -999,     -999,    -999,     -999,9,     -999,9,     -999,9,     -999,9,     -999,9,     -999,9,   3.6945,    -999,9,       -999,9,    -999,9,    -999,9
 316N200310,        A22,      78,          1,          6,          6,2,20031112,       1401,    39.7033,   -69.8023,       2070,  1500.3,   3.6615,  34.9389,2,  34.9394,2,    267.4,2,   268.3,2,   12.26,2,   17.39,2,    0.00,2,    1.15,2,   1.959,2,   1.023,2,   0.098,2,  2159.8,2,  2308.5,2,    -999,9,     -999,9,    -999,9,    -999,9,    -999,9,    -999,   2.275,2,   47.30,2,    -999,9, 1500.30,     1420,  39.7043, -69.7990,    -999,     -999,    -999,   0.1240,2,   0.0850,2,   0.0380,2,   0.0250,2,   0.0200,2,   0.0220,2,   3.5451,    -999,9,       -999,9,    -999,9,    -999,9
 316N200310,        A22,      78,          1,          5,          5,2,20031112,       1401,    39.7033,   -69.8023,       2070,  1599.9,   3.6343,  34.9381,2,  34.9378,2,    268.1,2,   268.7,2,   12.36,2,   17.39,2,    0.00,2,    1.15,2,   1.932,2,   0.998,2,   0.092,2,  2159.3,2,  2308.6,2,    -999,9,     -999,9,    -999,9,    -999,9,    -999,9,    -999,   2.299,2,    -999,9,    -999,9, 1599.90,     1415,  39.7044, -69.7999,    -999,     -999,    -999,     -999,9,     -999,9,     -999,9,     -999,9,     -999,9,     -999,9,   3.5094,    -999,9,       -999,9,    -999,9,    -999,9
 316N200310,        A22,      78,          1,          4,          4,2,20031112,       1401,    39.7033,   -69.8023,       2070,  1700.5,   3.5919,  34.9367,2,  34.9374,2,    268.9,2,   269.1,2,   12.56,2,   17.44,2,    0.00,2,    1.15,2,   1.875,2,   0.958,2,   0.099,2,  2158.3,2,  2307.3,2,    -999,9,     -999,9,    -999,9,    -999,9,    -999,9,    -999,   2.220,2,   45.80,2,    -999,9, 1700.50,     1413,  39.7044, -69.8005,    -999,     -999,    -999,   0.1270,2,   0.0880,2,   0.0410,2,   0.0270,2,   0.0190,2,   0.0210,2,   3.4584,    -999,9,       -999,9,    -999,9,    -999,9
 316N200310,        A22,      78,          1,          3,          3,2,20031112,       1401,    39.7033,   -69.8023,       2070,  1824.0,   3.4992,  34.9341,2,  34.9345,2,    270.6,2,   270.3,2,   12.87,2,   17.38,2,    0.00,2,    1.14,2,   0.006,4,   0.000,4,   0.001,4,  2159.2,2,  2306.6,2,    -999,9,     -999,9,    -999,9,    -999,9,    -999,9,    -999,   0.013,4,   47.00,2,    -999,9, 1824.00,     1409,  39.7041, -69.8013,    -999,     -999,    -999,   0.1200,2,   0.0820,2,   0.0360,2,   0.0230,2,   0.0210,2,   0.0220,2,   3.3557,    -999,9,       -999,9,    -999,9,    -999,9
 316N200310,        A22,      78,          1,          2,          2,2,20031112,       1401,    39.7033,   -69.8023,       2070,  1974.7,   3.3279,  34.9332,2,  34.9333,2,    270.9,2,   270.8,2,   13.98,2,   17.38,2,    0.00,2,    1.15,2,   1.550,2,   0.778,2,   0.072,2,  2158.5,2,  2308.3,2,    -999,9,     -999,9,    -999,9,    -999,9,    -999,9,    -999,   1.896,2,   45.20,2,    -999,9, 1974.70,     1405,  39.7038, -69.8020,    -999,     -999,    -999,   0.1250,3,   0.0870,3,   0.0400,3,   0.0260,3,   0.0200,3,   0.0210,3,   3.1728,    -999,9,       -999,9,    -999,9,    -999,9
 316N200310,        A22,      78,          1,          1,          1,2,20031112,       1401,    39.7033,   -69.8023,       2070,  2085.2,   3.2514,  34.9357,2,  34.9362,2,    269.2,2,   269.6,2,   14.89,2,   17.48,2,    0.00,2,    1.15,2,   1.344,2,   0.676,2,   0.057,2,  2159.2,2,  2309.2,6,    -999,9,     -999,9,    -999,9,    -999,9,    -999,9,    -999,   1.706,2,   44.60,2,    -999,9, 2085.20,     1402,  39.7034, -69.8023,    -999,     -999,    -999,   0.1250,2,   0.0870,2,   0.0400,2,   0.0260,2,   0.0200,2,   0.0210,2,   3.0871,    -999,9,       -999,9,    -999,9,    -999,9