BOTTLE,20220517CCHSIOLMM
EXPOCODE,SECT_ID,STNNBR,CASTNO,SAMPNO,BTLNBR,BTLNBR_FLAG_W,DATE,TIME,LATITUDE,LONGITUDE,DEPTH,CTDPRS,CTDTMP,CTDSAL,CTDSAL_FLAG_W,SALNTY,SALNTY_FLAG_W,CTDOXY,CTDOXY_FLAG_W,OXYGEN,OXYGEN_FLAG_W,SILCAT,SILCAT_FLAG_W,NITRAT,NITRAT_FLAG_W,NITRIT,NITRIT_FLAG_W,PHSPHT,PHSPHT_FLAG_W,CFC-11,CFC-11_FLAG_W,CFC-12,CFC-12_FLAG_W,CFC113,CFC113_FLAG_W,TCARBN,TCARBN_FLAG_W,ALKALI,ALKALI_FLAG_W,TRITUM,TRITUM_FLAG_W,HELIUM,HELIUM_FLAG_W,DELHE3,DELHE3_FLAG_W,DELC13,DELC13_FLAG_W,DELC14,DELC14_FLAG_W,C14ERR,CCL4,CCL4_FLAG_W,DOC,DOC_FLAG_W,TDN,TDN_FLAG_W,CTDRAW,BTL_TIME,BTL_LAT,BTL_LON,TRITER,HELIER,DELHER,CDOM325,CDOM325_FLAG_W,CDOM340,CDOM340_FLAG_W,CDOM380,CDOM380_FLAG_W,CDOM412,CDOM412_FLAG_W,CDOMSL,CDOMSL_FLAG_W,CDOMSN,CDOMSN_FLAG_W,THETA,BACT,BACT_FLAG_W,PROC,PROC_FLAG_W,SYN,SYN_FLAG_W,PEUK,PEUK_FLAG_W
,,,,,,,,,,,METERS,DBAR,ITS-90,PSS-78,,PSS-78,,UMOL/KG,,UMOL/KG,,UMOL/KG,,UMOL/KG,,UMOL/KG,,UMOL/KG,,PMOL/KG,,PMOL/KG,,PMOL/KG,,UMOL/KG,,UMOL/KG,,TU,,NMOL/KG,,PERCNT,,/MILLE,,/MILLE,,/MILLE,PMOL/KG,,UMOL/KG,,UMOL/KG,,DBAR,,,,TU,NMOL/KG,PERCNT,1/M,,1/M,,1/M,,1/M,,1/NM,,1/NM,,DEG C,E8/L,,E7/L,,E6/L,,E6/L,
 316N200310,        A22,      79,          1,         21,         21,2,20031112,       1652,    39.7938,   -69.8497,       1390,     3.1,  15.2981,  34.0257,2,  34.0249,2,    260.0,2,    -999,9,    1.03,2,    0.40,2,    0.05,2,    0.21,2,    -999,9,    -999,9,    -999,9,  2016.2,2,  2270.7,2,    -999,9,     -999,9,    -999,9,    1.50,2,    45.7,2,     3.5,    -999,9,    -999,9,    -999,9,    3.10,     1740,  39.7946, -69.8367,    -999,     -999,    -999,     -999,9,     -999,9,     -999,9,     -999,9,     -999,9,     -999,9,  15.2976,    -999,9,       -999,9,    -999,9,    -999,9
 316N200310,        A22,      79,          1,         20,         20,2,20031112,       1652,    39.7938,   -69.8497,       1390,     3.3,  15.2997,  34.0257,2,  34.0264,2,    260.0,2,   249.9,2,    1.02,2,    0.40,2,    0.05,2,    0.21,2,   2.795,2,   1.617,2,   0.244,2,    -999,9,    -999,9,    -999,9,     -999,9,    -999,9,    -999,9,    -999,9,    -999,    -999,9,    -999,9,    -999,9,    3.30,     1740,  39.7946, -69.8367,    -999,     -999,    -999,   0.3280,2,   0.2400,2,   0.1150,2,   0.0730,2,   0.0170,2,   0.0180,2,  15.2992,    -999,9,       -999,9,    -999,9,    -999,9
 316N200310,        A22,      79,          1,         19,         19,2,20031112,       1652,    39.7938,   -69.8497,       1390,    24.8,  15.1867,  34.2515,2,  34.2764,2,    233.5,2,   231.4,2,    2.33,2,    2.72,2,    0.15,2,    0.33,2,   2.845,6,   1.632,6,   0.229,6,    -999,9,    -999,9,    -999,9,     -999,9,    -999,9,    -999,9,    -999,9,    -999,    -999,9,    -999,9,    -999,9,   24.80,     1738,  39.7946, -69.8373,    -999,     -999,    -999,   0.3180,2,   0.2330,2,   0.1120,2,   0.0710,2,   0.0170,2,   0.0180,2,  15.1830,    -999,9,       -999,9,    -999,9,    -999,9
 316N200310,        A22,      79,          1,         18,         18,2,20031112,       1652,    39.7938,   -69.8497,       1390,    49.8,  13.3764,  34.5182,2,  34.5115,2,    207.5,2,   206.9,2,    5.26,2,    8.15,2,    0.03,2,    0.66,2,   3.074,2,   1.720,2,   0.221,2,    -999,9,    -999,9,    -999,9,     -999,9,    -999,9,    -999,9,    -999,9,    -999,    -999,9,    -999,9,    -999,9,   49.80,     1736,  39.7946, -69.8379,    -999,     -999,    -999,   0.3210,2,   0.2370,2,   0.1170,2,   0.0760,2,   0.0170,2,   0.0170,2,  13.3695,    -999,9,       -999,9,    -999,9,    -999,9
 316N200310,        A22,      79,          1,         17,         17,2,20031112,       1652,    39.7938,   -69.8497,       1390,    75.7,  15.1517,  35.7308,2,  35.7274,2,    162.7,2,   163.9,2,    3.83,2,   11.23,2,    0.02,2,    0.70,2,   2.360,2,   1.327,2,   0.100,2,    -999,9,    -999,9,    -999,9,     -999,9,    -999,9,    -999,9,    -999,9,    -999,    -999,9,    -999,9,    -999,9,   75.70,     1735,  39.7946, -69.8385,    -999,     -999,    -999,   0.1820,2,   0.1320,2,   0.0650,2,   0.0450,2,   0.0160,2,   0.0170,2,  15.1401,    -999,9,       -999,9,    -999,9,    -999,9
 316N200310,        A22,      79,          1,         16,         16,2,20031112,       1652,    39.7938,   -69.8497,       1390,   100.3,  14.3344,  35.7710,2,  35.7695,2,    158.7,2,   160.1,2,    4.63,2,   13.60,2,    0.02,2,    0.82,2,   2.170,2,   1.203,2,   0.073,2,    -999,9,    -999,9,    -999,9,     -999,9,    -999,9,    -999,9,    -999,9,    -999,    -999,9,    -999,9,    -999,9,  100.30,     1733,  39.7946, -69.8390,    -999,     -999,    -999,   0.1440,2,   0.1040,2,   0.0500,2,   0.0350,2,   0.0160,2,   0.0180,2,  14.3197,    -999,9,       -999,9,    -999,9,    -999,9
 316N200310,        A22,      79,          1,         15,         15,2,20031112,       1652,    39.7938,   -69.8497,       1390,   125.4,  13.4608,  35.6726,2,  35.6727,2,    162.4,2,   163.8,2,    5.33,2,   14.78,2,    0.02,2,    0.90,2,   2.144,2,   1.185,2,   0.084,2,    -999,9,    -999,9,    -999,9,     -999,9,    -999,9,    -999,9,    -999,9,    -999,    -999,9,    -999,9,    -999,9,  125.40,     1732,  39.7947, -69.8395,    -999,     -999,    -999,   0.1420,2,   0.1010,2,   0.0480,2,   0.0330,2,   0.0170,2,   0.0190,2,  13.4430,    -999,9,       -999,9,    -999,9,    -999,9
 316N200310,        A22,      79,          1,         14,         14,2,20031112,       1652,    39.7938,   -69.8497,       1390,   150.9,  13.0350,  35.6235,2,  35.6214,2,    162.2,2,   165.7,2,    5.82,2,   15.49,2,    0.02,2,    0.95,2,   2.062,2,   1.144,2,   0.083,2,    -999,9,    -999,9,    -999,9,     -999,9,    -999,9,    -999,9,    -999,9,    -999,    -999,9,    -999,9,    -999,9,  150.90,     1730,  39.7947, -69.8400,    -999,     -999,    -999,   0.1430,2,   0.1020,2,   0.0500,2,   0.0350,2,   0.0160,2,   0.0180,2,  13.0141,    -999,9,       -999,9,    -999,9,    -999,9
 316N200310,        A22,      79,          1,         13,         13,2,20031112,       1652,    39.7938,   -69.8497,       1390,   200.3,  11.9446,  35.5043,2,  35.5008,2,    160.4,2,   155.9,2,    8.15,2,   18.62,2,    0.02,2,    1.15,2,   1.713,2,   0.946,2,   0.063,2,    -999,9,    -999,9,    -999,9,     -999,9,    -999,9,    -999,9,    -999,9,    -999,    -999,9,    -999,9,    -999,9,  200.30,     1728,  39.7946, -69.8406,    -999,     -999,    -999,   0.1390,2,   0.0980,2,   0.0480,2,   0.0330,2,   0.0160,2,   0.0180,2,  11.9184,    -999,9,       -999,9,    -999,9,    -999,9
 316N200310,        A22,      79,          1,         12,         12,2,20031112,       1652,    39.7938,   -69.8497,       1390,   239.9,  11.1244,  35.4093,2,  35.4070,2,    144.2,2,   139.9,2,   10.38,2,   21.77,2,    0.01,2,    1.34,2,   1.305,2,   0.713,2,   0.033,2,    -999,9,    -999,9,    -999,9,     -999,9,    -999,9,    -999,9,    -999,9,    -999,    -999,9,    -999,9,    -999,9,  239.90,     1727,  39.7946, -69.8411,    -999,     -999,    -999,     -999,9,     -999,9,     -999,9,     -999,9,     -999,9,     -999,9,  11.0944,    -999,9,       -999,9,    -999,9,    -999,9
 316N200310,        A22,      79,          1,         11,         11,2,20031112,       1652,    39.7938,   -69.8497,       1390,   281.5,   9.9451,  35.2775,2,  35.2761,2,    137.8,2,   135.5,2,   12.61,2,   24.09,2,    0.01,2,    1.51,2,   0.986,2,   0.528,2,   0.025,2,    -999,9,    -999,9,    -999,9,     -999,9,    -999,9,    -999,9,    -999,9,    -999,    -999,9,    -999,9,    -999,9,  281.50,     1725,  39.7946, -69.8416,    -999,     -999,    -999,   0.1260,2,   0.0880,2,   0.0430,2,   0.0300,2,   0.0170,2,   0.0190,2,   9.9123,    -999,9,       -999,9,    -999,9,    -999,9
 316N200310,        A22,      79,          1,         10,         10,2,20031112,       1652,    39.7938,   -69.8497,       1390,   401.0,   7.4038,  35.0788,2,  35.0779,2,    166.7,2,   170.1,2,   13.62,2,   23.21,2,    0.00,2,    1.49,2,   1.308,2,   0.684,2,   0.062,2,    -999,9,    -999,9,    -999,9,     -999,9,    -999,9,    -999,9,    -999,9,    -999,    -999,9,    -999,9,    -999,9,  401.00,     1721,  39.7944, -69.8429,    -999,     -999,    -999,   0.1380,2,   0.0970,2,   0.0470,2,   0.0320,2,   0.0170,2,   0.0190,2,   7.3644,    -999,9,       -999,9,    -999,9,    -999,9
 316N200310,        A22,      79,          1,          9,          9,2,20031112,       1652,    39.7938,   -69.8497,       1390,   500.6,   6.0052,  35.0122,2,  35.0112,2,    199.1,2,   203.6,2,   12.59,2,   21.02,2,    0.00,2,    1.37,2,   1.907,2,   0.976,2,   0.104,2,    -999,9,    -999,9,    -999,9,     -999,9,    -999,9,    -999,9,    -999,9,    -999,    -999,9,    -999,9,    -999,9,  500.60,     1718,  39.7943, -69.8437,    -999,     -999,    -999,   0.1430,2,   0.1010,2,   0.0490,2,   0.0330,2,   0.0170,2,   0.0190,2,   5.9610,    -999,9,       -999,9,    -999,9,    -999,9
 316N200310,        A22,      79,          1,          8,          8,2,20031112,       1652,    39.7938,   -69.8497,       1390,   601.5,   5.3931,  34.9901,2,  34.9890,2,    219.5,2,   220.8,2,   12.07,2,   20.12,2,    0.01,2,    1.31,2,   2.203,2,   1.124,2,   0.131,2,    -999,9,    -999,9,    -999,9,     -999,9,    -999,9,    -999,9,    -999,9,    -999,    -999,9,    -999,9,    -999,9,  601.50,     1715,  39.7942, -69.8444,    -999,     -999,    -999,     -999,9,     -999,9,     -999,9,     -999,9,     -999,9,     -999,9,   5.3425,    -999,9,       -999,9,    -999,9,    -999,9
 316N200310,        A22,      79,          1,          7,          7,2,20031112,       1652,    39.7938,   -69.8497,       1390,   699.8,   4.9025,  34.9739,2,  34.9734,2,    236.0,2,   236.6,2,   11.56,2,   19.13,2,    0.00,2,    1.25,2,   2.411,2,   1.220,2,   0.162,2,    -999,9,    -999,9,    -999,9,     -999,9,    -999,9,    -999,9,    -999,9,    -999,    -999,9,    -999,9,    -999,9,  699.80,     1712,  39.7942, -69.8451,    -999,     -999,    -999,   0.1490,2,   0.1060,2,   0.0520,2,   0.0360,2,   0.0160,2,   0.0180,2,   4.8457,    -999,9,       -999,9,    -999,9,    -999,9
 316N200310,        A22,      79,          1,          6,          6,2,20031112,       1652,    39.7938,   -69.8497,       1390,   824.4,   4.5783,  34.9645,2,  34.9636,2,    248.4,2,   247.4,2,   11.24,2,   18.63,2,    0.01,2,    1.21,2,   2.541,2,   1.305,2,   0.163,2,    -999,9,    -999,9,    -999,9,     -999,9,    -999,9,    -999,9,    -999,9,    -999,    -999,9,    -999,9,    -999,9,  824.40,     1709,  39.7941, -69.8459,    -999,     -999,    -999,     -999,9,     -999,9,     -999,9,     -999,9,     -999,9,     -999,9,   4.5127,    -999,9,       -999,9,    -999,9,    -999,9
 316N200310,        A22,      79,          1,          5,          5,2,20031112,       1652,    39.7938,   -69.8497,       1390,   951.3,   4.4413,  34.9606,2,  34.9601,2,    254.0,2,   252.6,2,   11.14,2,   18.35,2,    0.00,2,    1.20,2,   2.568,2,   1.311,2,   0.174,2,    -999,9,    -999,9,    -999,9,     -999,9,    -999,9,    -999,9,    -999,9,    -999,    -999,9,    -999,9,    -999,9,  951.30,     1706,  39.7941, -69.8467,    -999,     -999,    -999,   0.1400,2,   0.0980,2,   0.0470,2,   0.0310,2,   0.0170,2,   0.0190,2,   4.3657,    -999,9,       -999,9,    -999,9,    -999,9
 316N200310,        A22,      79,          1,          4,          4,2,20031112,       1652,    39.7938,   -69.8497,       1390,  1075.7,   4.2503,  34.9562,2,  34.9559,2,    259.5,2,   257.8,2,   11.03,2,   18.11,2,    0.00,2,    1.19,2,   2.599,2,   1.320,2,   0.176,2,    -999,9,    -999,9,    -999,9,     -999,9,    -999,9,    -999,9,    -999,9,    -999,    -999,9,    -999,9,    -999,9, 1075.70,     1703,  39.7941, -69.8475,    -999,     -999,    -999,     -999,9,     -999,9,     -999,9,     -999,9,     -999,9,     -999,9,   4.1655,    -999,9,       -999,9,    -999,9,    -999,9
 316N200310,        A22,      79,          1,          3,          3,2,20031112,       1652,    39.7938,   -69.8497,       1390,  1202.0,   4.1646,  34.9526,2,  34.9524,2,    261.1,2,   259.8,2,   11.02,2,   18.07,2,    0.00,2,    1.18,2,   2.544,2,   1.294,2,   0.174,2,    -999,9,    -999,9,    -999,9,     -999,9,    -999,9,    -999,9,    -999,9,    -999,    -999,9,    -999,9,    -999,9, 1202.00,     1700,  39.7941, -69.8482,    -999,     -999,    -999,   0.1480,2,   0.1070,2,   0.0530,2,   0.0360,2,   0.0160,2,   0.0180,2,   4.0694,    -999,9,       -999,9,    -999,9,    -999,9
 316N200310,        A22,      79,          1,          2,          2,2,20031112,       1652,    39.7938,   -69.8497,       1390,  1326.8,   3.9795,  34.9472,2,  34.9475,2,    263.2,2,   263.6,2,   11.21,2,   17.87,2,    0.00,2,    1.17,2,   2.369,6,   1.185,6,   0.154,6,    -999,9,    -999,9,    -999,9,     -999,9,    -999,9,    -999,9,    -999,9,    -999,   2.536,2,    -999,9,    -999,9, 1326.80,     1657,  39.7941, -69.8489,    -999,     -999,    -999,     -999,9,     -999,9,     -999,9,     -999,9,     -999,9,     -999,9,   3.8751,    -999,9,       -999,9,    -999,9,    -999,9
 316N200310,        A22,      79,          1,          1,          1,2,20031112,       1652,    39.7938,   -69.8497,       1390,  1420.1,   3.8194,  34.9439,2,  34.9439,2,    264.9,2,   266.1,2,   11.51,2,   17.88,2,    0.00,2,    1.17,2,   1.982,2,   0.980,2,   0.122,2,    -999,9,    -999,9,    -999,9,     -999,9,    -999,9,    -999,9,    -999,9,    -999,    -999,9,    -999,9,    -999,9, 1420.10,     1653,  39.7938, -69.8496,    -999,     -999,    -999,   0.1290,2,   0.0900,2,   0.0420,2,   0.0290,2,   0.0180,2,   0.0200,2,   3.7084,    -999,9,       -999,9,    -999,9,    -999,9