BOTTLE,20220517CCHSIOLMM
EXPOCODE,SECT_ID,STNNBR,CASTNO,SAMPNO,BTLNBR,BTLNBR_FLAG_W,DATE,TIME,LATITUDE,LONGITUDE,DEPTH,CTDPRS,CTDTMP,CTDSAL,CTDSAL_FLAG_W,SALNTY,SALNTY_FLAG_W,CTDOXY,CTDOXY_FLAG_W,OXYGEN,OXYGEN_FLAG_W,SILCAT,SILCAT_FLAG_W,NITRAT,NITRAT_FLAG_W,NITRIT,NITRIT_FLAG_W,PHSPHT,PHSPHT_FLAG_W,CFC-11,CFC-11_FLAG_W,CFC-12,CFC-12_FLAG_W,CFC113,CFC113_FLAG_W,TCARBN,TCARBN_FLAG_W,ALKALI,ALKALI_FLAG_W,TRITUM,TRITUM_FLAG_W,HELIUM,HELIUM_FLAG_W,DELHE3,DELHE3_FLAG_W,DELC13,DELC13_FLAG_W,DELC14,DELC14_FLAG_W,C14ERR,CCL4,CCL4_FLAG_W,DOC,DOC_FLAG_W,TDN,TDN_FLAG_W,CTDRAW,BTL_TIME,BTL_LAT,BTL_LON,TRITER,HELIER,DELHER,CDOM325,CDOM325_FLAG_W,CDOM340,CDOM340_FLAG_W,CDOM380,CDOM380_FLAG_W,CDOM412,CDOM412_FLAG_W,CDOMSL,CDOMSL_FLAG_W,CDOMSN,CDOMSN_FLAG_W,THETA,BACT,BACT_FLAG_W,PROC,PROC_FLAG_W,SYN,SYN_FLAG_W,PEUK,PEUK_FLAG_W
,,,,,,,,,,,METERS,DBAR,ITS-90,PSS-78,,PSS-78,,UMOL/KG,,UMOL/KG,,UMOL/KG,,UMOL/KG,,UMOL/KG,,UMOL/KG,,PMOL/KG,,PMOL/KG,,PMOL/KG,,UMOL/KG,,UMOL/KG,,TU,,NMOL/KG,,PERCNT,,/MILLE,,/MILLE,,/MILLE,PMOL/KG,,UMOL/KG,,UMOL/KG,,DBAR,,,,TU,NMOL/KG,PERCNT,1/M,,1/M,,1/M,,1/M,,1/NM,,1/NM,,DEG C,E8/L,,E7/L,,E6/L,,E6/L,
 316N200310,        A22,      13,          1,          4,          4,2,20031026,       2305,    15.0263,   -66.0000,       4779,  4375.7,   4.3198,  34.9775,2,  34.9776,2,    216.1,2,   216.2,2,   28.03,2,   21.97,2,    0.00,2,    1.48,2,   0.028,2,   0.028,2,   0.003,2,    -999,9,    -999,9,    -999,9,     -999,9,    -999,9,    -999,9,    -999,9,    -999,   0.066,2,    -999,9,    -999,9, 4375.70,     2315,  15.0277, -66.0006,    -999,     -999,    -999,     -999,9,     -999,9,     -999,9,     -999,9,     -999,9,     -999,9,   3.8732,    -999,9,       -999,9,    -999,9,    -999,9
 316N200310,        A22,      13,          1,          3,          3,2,20031026,       2305,    15.0263,   -66.0000,       4779,  4500.6,   4.3366,  34.9777,2,  34.9772,2,    216.3,2,   216.4,2,   28.13,2,   21.92,2,    0.00,2,    1.49,2,   0.029,2,   0.030,2,   0.003,2,    -999,9,    -999,9,    -999,9,     -999,9,    -999,9,    -999,9,    -999,9,    -999,   0.072,2,    -999,9,    -999,9, 4500.60,     2313,  15.0274, -66.0005,    -999,     -999,    -999,     -999,9,     -999,9,     -999,9,     -999,9,     -999,9,     -999,9,   3.8731,    -999,9,       -999,9,    -999,9,    -999,9
 316N200310,        A22,      13,          1,          2,          2,2,20031026,       2305,    15.0263,   -66.0000,       4779,  4625.1,   4.3533,  34.9779,2,  34.9768,2,    216.1,2,   216.1,2,   28.24,2,   21.97,2,    0.00,2,    1.49,2,   0.030,2,   0.030,2,   0.003,2,    -999,9,    -999,9,    -999,9,     -999,9,    -999,9,    -999,9,    -999,9,    -999,   0.070,2,    -999,9,    -999,9, 4625.10,     2310,  15.0270, -66.0004,    -999,     -999,    -999,     -999,9,     -999,9,     -999,9,     -999,9,     -999,9,     -999,9,   3.8728,    -999,9,       -999,9,    -999,9,    -999,9
 316N200310,        A22,      13,          1,          1,          1,2,20031026,       2305,    15.0263,   -66.0000,       4779,  4799.4,   4.3772,  34.9778,2,  34.9784,2,    215.8,2,   216.1,2,   28.24,2,   21.97,2,    0.00,2,    1.49,2,   0.031,2,   0.033,2,   0.003,2,    -999,9,    -999,9,    -999,9,     -999,9,    -999,9,    -999,9,    -999,9,    -999,   0.073,2,    -999,9,    -999,9, 4799.40,     2306,  15.0264, -66.0001,    -999,     -999,    -999,   0.1580,2,   0.1150,2,   0.0600,2,   0.0410,2,   0.0150,2,   0.0160,2,   3.8727,    -999,9,       -999,9,    -999,9,    -999,9