BOTTLE,20220517CCHSIOLMM
EXPOCODE,SECT_ID,STNNBR,CASTNO,SAMPNO,BTLNBR,BTLNBR_FLAG_W,DATE,TIME,LATITUDE,LONGITUDE,DEPTH,CTDPRS,CTDTMP,CTDSAL,CTDSAL_FLAG_W,SALNTY,SALNTY_FLAG_W,CTDOXY,CTDOXY_FLAG_W,OXYGEN,OXYGEN_FLAG_W,SILCAT,SILCAT_FLAG_W,NITRAT,NITRAT_FLAG_W,NITRIT,NITRIT_FLAG_W,PHSPHT,PHSPHT_FLAG_W,CFC-11,CFC-11_FLAG_W,CFC-12,CFC-12_FLAG_W,CFC113,CFC113_FLAG_W,TCARBN,TCARBN_FLAG_W,ALKALI,ALKALI_FLAG_W,TRITUM,TRITUM_FLAG_W,HELIUM,HELIUM_FLAG_W,DELHE3,DELHE3_FLAG_W,DELC13,DELC13_FLAG_W,DELC14,DELC14_FLAG_W,C14ERR,CCL4,CCL4_FLAG_W,DOC,DOC_FLAG_W,TDN,TDN_FLAG_W,CTDRAW,BTL_TIME,BTL_LAT,BTL_LON,TRITER,HELIER,DELHER,CDOM325,CDOM325_FLAG_W,CDOM340,CDOM340_FLAG_W,CDOM380,CDOM380_FLAG_W,CDOM412,CDOM412_FLAG_W,CDOMSL,CDOMSL_FLAG_W,CDOMSN,CDOMSN_FLAG_W,THETA,BACT,BACT_FLAG_W,PROC,PROC_FLAG_W,SYN,SYN_FLAG_W,PEUK,PEUK_FLAG_W
,,,,,,,,,,,METERS,DBAR,ITS-90,PSS-78,,PSS-78,,UMOL/KG,,UMOL/KG,,UMOL/KG,,UMOL/KG,,UMOL/KG,,UMOL/KG,,PMOL/KG,,PMOL/KG,,PMOL/KG,,UMOL/KG,,UMOL/KG,,TU,,NMOL/KG,,PERCNT,,/MILLE,,/MILLE,,/MILLE,PMOL/KG,,UMOL/KG,,UMOL/KG,,DBAR,,,,TU,NMOL/KG,PERCNT,1/M,,1/M,,1/M,,1/M,,1/NM,,1/NM,,DEG C,E8/L,,E7/L,,E6/L,,E6/L,
 316N200310,        A22,      34,          1,          4,          4,2,20031031,       0050,    19.6808,   -66.0032,       7498,  5250.6,   2.2064,  34.8714,2,  34.8731,2,    257.2,2,   256.2,2,   43.61,2,   20.76,2,    0.00,2,    1.41,2,   0.228,2,   0.129,2,   0.012,2,  2192.3,2,  2337.0,2,    -999,9,     -999,9,    -999,9,    -999,9,    -999,9,    -999,   0.470,2,   42.00,2,    -999,9, 5250.60,      121,  19.6796, -66.0046,    -999,     -999,    -999,     -999,9,     -999,9,     -999,9,     -999,9,     -999,9,     -999,9,   1.7152,    -999,9,       -999,9,    -999,9,    -999,9
 316N200310,        A22,      34,          1,          3,          3,2,20031031,       0050,    19.6808,   -66.0032,       7498,  5510.3,   2.0125,  34.8439,2,  34.8440,2,    248.6,2,   248.0,2,   57.46,2,   22.94,2,    0.00,2,    1.55,2,   0.082,2,   0.057,2,   0.004,2,  2202.0,2,  2343.3,2,    -999,9,     -999,9,    -999,9,    -999,9,    -999,9,    -999,   0.237,2,   39.40,2,    -999,9, 5510.30,      113,  19.6798, -66.0042,    -999,     -999,    -999,     -999,9,     -999,9,     -999,9,     -999,9,     -999,9,     -999,9,   1.4947,    -999,9,       -999,9,    -999,9,    -999,9
 316N200310,        A22,      34,          1,          2,          2,2,20031031,       0050,    19.6808,   -66.0032,       7498,  5750.8,   1.9848,  34.8366,2,  34.8363,2,    245.8,2,   245.8,2,   61.05,2,   23.55,2,    0.00,2,    1.60,2,   0.058,2,   0.042,2,   0.003,2,  2205.2,2,  2345.6,2,    -999,9,     -999,9,    -999,9,    -999,9,    -999,9,    -999,   0.211,2,   40.00,2,    -999,9, 5750.80,      103,  19.6801, -66.0038,    -999,     -999,    -999,     -999,9,     -999,9,     -999,9,     -999,9,     -999,9,     -999,9,   1.4364,    -999,9,       -999,9,    -999,9,    -999,9
 316N200310,        A22,      34,          1,          1,          1,2,20031031,       0050,    19.6808,   -66.0032,       7498,  6002.5,   1.9938,  34.8334,2,  34.8340,2,    244.6,2,   245.1,2,   62.60,2,   23.75,2,    0.00,2,    1.61,2,   0.049,2,   0.034,2,   0.005,2,  2206.2,2,    -999,9,    -999,9,     -999,9,    -999,9,    -999,9,    -999,9,    -999,   0.196,2,   40.10,2,    -999,9, 6002.50,       51,  19.6807, -66.0032,    -999,     -999,    -999,     -999,9,     -999,9,     -999,9,     -999,9,     -999,9,     -999,9,   1.4111,    -999,9,       -999,9,    -999,9,    -999,9