BOTTLE,20220517CCHSIOLMM
EXPOCODE,SECT_ID,STNNBR,CASTNO,SAMPNO,BTLNBR,BTLNBR_FLAG_W,DATE,TIME,LATITUDE,LONGITUDE,DEPTH,CTDPRS,CTDTMP,CTDSAL,CTDSAL_FLAG_W,SALNTY,SALNTY_FLAG_W,CTDOXY,CTDOXY_FLAG_W,OXYGEN,OXYGEN_FLAG_W,SILCAT,SILCAT_FLAG_W,NITRAT,NITRAT_FLAG_W,NITRIT,NITRIT_FLAG_W,PHSPHT,PHSPHT_FLAG_W,CFC-11,CFC-11_FLAG_W,CFC-12,CFC-12_FLAG_W,CFC113,CFC113_FLAG_W,TCARBN,TCARBN_FLAG_W,ALKALI,ALKALI_FLAG_W,TRITUM,TRITUM_FLAG_W,HELIUM,HELIUM_FLAG_W,DELHE3,DELHE3_FLAG_W,DELC13,DELC13_FLAG_W,DELC14,DELC14_FLAG_W,C14ERR,CCL4,CCL4_FLAG_W,DOC,DOC_FLAG_W,TDN,TDN_FLAG_W,CTDRAW,BTL_TIME,BTL_LAT,BTL_LON,TRITER,HELIER,DELHER,CDOM325,CDOM325_FLAG_W,CDOM340,CDOM340_FLAG_W,CDOM380,CDOM380_FLAG_W,CDOM412,CDOM412_FLAG_W,CDOMSL,CDOMSL_FLAG_W,CDOMSN,CDOMSN_FLAG_W,THETA,BACT,BACT_FLAG_W,PROC,PROC_FLAG_W,SYN,SYN_FLAG_W,PEUK,PEUK_FLAG_W
,,,,,,,,,,,METERS,DBAR,ITS-90,PSS-78,,PSS-78,,UMOL/KG,,UMOL/KG,,UMOL/KG,,UMOL/KG,,UMOL/KG,,UMOL/KG,,PMOL/KG,,PMOL/KG,,PMOL/KG,,UMOL/KG,,UMOL/KG,,TU,,NMOL/KG,,PERCNT,,/MILLE,,/MILLE,,/MILLE,PMOL/KG,,UMOL/KG,,UMOL/KG,,DBAR,,,,TU,NMOL/KG,PERCNT,1/M,,1/M,,1/M,,1/M,,1/NM,,1/NM,,DEG C,E8/L,,E7/L,,E6/L,,E6/L,
 316N200310,        A22,       8,          1,         33,         33,2,20031025,       1421,    12.3535,   -65.9995,       4359,     3.1,  29.0915,  36.5821,2,  36.5819,2,    145.9,2,    -999,9,    0.71,2,    0.04,2,    0.00,2,    0.02,2,   1.520,2,   0.964,2,   0.117,2,    -999,9,    -999,9,    -999,9,     -999,9,    -999,9,    -999,9,    -999,9,    -999,    -999,9,   66.00,2,    4.60,2,    3.10,     1615,  12.3792, -65.9915,    -999,     -999,    -999,   0.0850,2,   0.0560,2,   0.0200,2,   0.0130,2,   0.0280,2,   0.0280,2,  29.0908,    4.62,2,      15.69,2,    7.65,2,    0.63,2
 316N200310,        A22,       8,          1,         32,         32,2,20031025,       1421,    12.3535,   -65.9995,       4359,     3.1,  29.0799,  36.5856,2,  36.5830,2,    145.9,2,   193.1,2,    0.66,2,    0.04,2,    0.00,2,    0.02,2,    -999,9,    -999,9,    -999,9,  2042.7,2,  2402.7,6,    -999,9,     -999,9,    -999,9,    -999,9,    -999,9,    -999,    -999,9,   67.00,2,    7.00,2,    3.10,     1615,  12.3792, -65.9916,    -999,     -999,    -999,   0.0680,2,   0.0440,2,   0.0140,2,   0.0090,2,   0.0300,2,   0.0300,2,  29.0791,    -999,9,       -999,9,    -999,9,    -999,9
 316N200310,        A22,       8,          1,         31,         31,2,20031025,       1421,    12.3535,   -65.9995,       4359,    25.2,  28.9031,  36.6386,2,  36.6364,2,    195.8,2,   193.9,2,    0.62,2,    0.04,2,    0.00,2,    0.02,2,   1.525,2,   0.955,2,   0.130,2,  2044.1,2,  2405.6,2,    -999,9,     -999,9,    -999,9,    -999,9,    -999,9,    -999,    -999,9,   68.70,2,    4.10,2,   25.20,     1613,  12.3787, -65.9920,    -999,     -999,    -999,   0.0740,2,   0.0490,2,   0.0190,2,   0.0130,2,   0.0280,2,   0.0280,2,  28.8970,    4.82,2,      13.82,2,    5.79,2,    0.65,2
 316N200310,        A22,       8,          1,         30,         30,2,20031025,       1421,    12.3535,   -65.9995,       4359,    50.3,  26.7129,  36.6536,2,  36.6600,2,    198.0,2,   198.3,2,    0.47,2,    0.04,2,    0.00,2,    0.02,2,   1.710,2,   1.056,2,   0.123,2,  2057.3,2,  2394.0,2,    -999,9,     -999,9,    -999,9,    -999,9,    -999,9,    -999,    -999,9,   64.90,2,    5.00,2,   50.30,     1611,  12.3782, -65.9924,    -999,     -999,    -999,   0.1500,2,   0.1030,2,   0.0440,2,   0.0290,2,   0.0190,2,   0.0220,2,  26.7014,    4.50,2,       9.66,2,    2.65,2,    2.19,2
 316N200310,        A22,       8,          1,         29,         29,2,20031025,       1421,    12.3535,   -65.9995,       4359,    75.5,  23.9553,  36.9070,2,  36.9098,2,    172.3,2,   169.5,2,    0.93,2,    1.08,2,    0.19,2,    0.11,2,   1.833,2,   1.114,2,   0.089,2,  2108.7,2,  2408.5,2,    -999,9,     -999,9,    -999,9,    -999,9,    -999,9,    -999,    -999,9,   57.80,2,    5.20,2,   75.50,     1609,  12.3778, -65.9926,    -999,     -999,    -999,   0.1680,2,   0.1230,2,   0.0600,2,   0.0440,2,   0.0150,2,   0.0170,2,  23.9393,    4.05,2,       4.59,2,    0.69,2,    6.50,2
 316N200310,        A22,       8,          1,         28,         28,2,20031025,       1421,    12.3535,   -65.9995,       4359,   101.4,  21.5696,  36.8919,2,  36.8974,2,    147.8,2,   148.3,2,    1.49,2,    5.54,2,    0.05,2,    0.31,2,   1.968,2,   1.176,2,   0.045,2,  2139.8,2,  2404.8,2,    -999,9,     -999,9,    -999,9,    -999,9,    -999,9,    -999,    -999,9,   53.00,2,    9.00,2,  101.40,     1607,  12.3773, -65.9928,    -999,     -999,    -999,   0.1400,2,   0.1020,2,   0.0510,2,   0.0390,2,   0.0140,2,   0.0160,2,  21.5497,    2.06,2,       2.75,2,    0.02,2,    1.27,2
 316N200310,        A22,       8,          1,         27,         27,2,20031025,       1421,    12.3535,   -65.9995,       4359,   124.6,  19.9096,  36.7229,2,  36.7207,2,    141.5,2,   144.2,2,    2.05,2,    7.60,2,    0.01,2,    0.41,2,   2.039,2,   1.191,2,   0.020,2,  2149.2,2,  2394.3,2,    -999,9,     -999,9,    -999,9,    -999,9,    -999,9,    -999,    -999,9,   50.50,2,   10.90,2,  124.60,     1606,  12.3769, -65.9930,    -999,     -999,    -999,   0.1200,2,   0.0870,2,   0.0420,2,   0.0310,2,   0.0160,2,   0.0180,2,  19.8864,    1.83,2,       0.30,2,    0.06,2,    0.13,2
 316N200310,        A22,       8,          1,         26,         26,2,20031025,       1421,    12.3535,   -65.9995,       4359,   175.5,  17.6218,  36.3974,2,  36.3972,2,    144.0,2,   146.3,2,    3.02,2,   10.51,2,    0.01,2,    0.59,2,   2.066,2,   1.163,2,   0.022,2,  2150.9,2,  2375.0,2,    -999,9,     -999,9,    -999,9,    -999,9,    -999,9,    -999,    -999,9,   47.40,2,   13.40,2,  175.50,     1604,  12.3763, -65.9932,    -999,     -999,    -999,   0.1150,2,   0.0830,2,   0.0410,2,   0.0300,2,   0.0160,2,   0.0180,2,  17.5918,    -999,9,       -999,9,    -999,9,    -999,9
 316N200310,        A22,       8,          1,         25,         25,2,20031025,       1421,    12.3535,   -65.9995,       4359,   228.2,  15.6081,  36.0477,2,  36.0467,2,    139.7,2,   137.7,2,    4.79,2,   14.65,2,    0.01,2,    0.86,2,   1.917,2,   1.065,2,   0.015,2,  2162.7,2,  2355.7,2,    -999,9,     -999,9,    -999,9,    -999,9,    -999,9,    -999,    -999,9,   44.40,2,   17.80,2,  228.20,     1602,  12.3758, -65.9933,    -999,     -999,    -999,   0.1390,2,   0.0980,2,   0.0480,2,   0.0350,2,   0.0160,2,   0.0180,2,  15.5723,    -999,9,       -999,9,    -999,9,    -999,9
 316N200310,        A22,       8,          1,         24,         24,2,20031025,       1421,    12.3535,   -65.9995,       4359,   275.3,  13.0295,  35.5946,2,  35.5940,2,    129.0,2,   127.3,2,    8.08,2,   20.16,2,    0.01,2,    1.23,2,   1.583,2,   0.859,2,   0.016,2,  2179.7,2,  2343.3,2,    -999,9,     -999,9,    -999,9,    -999,9,    -999,9,    -999,    -999,9,   43.80,2,   24.60,3,  275.30,     1600,  12.3753, -65.9935,    -999,     -999,    -999,   0.1210,2,   0.0860,2,   0.0440,2,   0.0330,2,   0.0150,2,   0.0170,2,  12.9913,    -999,9,       -999,9,    -999,9,    -999,9
 316N200310,        A22,       8,          1,         23,         23,2,20031025,       1421,    12.3535,   -65.9995,       4359,   350.7,  10.8174,  35.2386,2,  35.2607,2,    120.6,2,   121.0,2,   11.58,2,   24.79,2,    0.00,2,    1.55,2,   1.189,2,   0.640,2,   0.018,2,  2192.0,2,  2318.0,6,    -999,9,     -999,9,    -999,9,    -999,9,    -999,9,    -999,    -999,9,   44.90,2,    -999,9,  350.70,     1557,  12.3746, -65.9937,    -999,     -999,    -999,   0.1300,2,   0.0930,2,   0.0500,2,   0.0380,2,   0.0140,2,   0.0160,2,  10.7742,    -999,9,       -999,9,    -999,9,    -999,9
 316N200310,        A22,       8,          1,         22,         22,2,20031025,       1421,    12.3535,   -65.9995,       4359,   451.5,   9.3655,  35.0272,2,  35.0270,2,    117.9,2,   118.5,2,   14.58,2,   27.91,2,    0.00,2,    1.78,2,   0.863,2,   0.459,2,   0.012,2,  2201.0,2,  2317.3,2,    -999,9,     -999,9,    -999,9,    -999,9,    -999,9,    -999,    -999,9,   40.40,2,    -999,9,  451.50,     1554,  12.3738, -65.9939,    -999,     -999,    -999,   0.1300,2,   0.0930,2,   0.0500,2,   0.0380,2,   0.0130,2,   0.0160,2,   9.3145,    -999,9,       -999,9,    -999,9,    -999,9
 316N200310,        A22,       8,          1,         21,         21,2,20031025,       1421,    12.3535,   -65.9995,       4359,   551.6,   7.9740,  34.8590,2,  34.8623,2,    119.5,2,   121.3,2,   18.08,2,   30.48,2,    0.00,2,    1.97,2,   0.555,6,   0.296,6,   0.008,2,  2208.2,2,  2315.5,2,    -999,9,     -999,9,    -999,9,    -999,9,    -999,9,    -999,   0.298,2,   42.50,2,    -999,9,  551.60,     1551,  12.3732, -65.9940,    -999,     -999,    -999,   0.1370,2,   0.0980,2,   0.0540,2,   0.0410,2,   0.0130,2,   0.0150,2,   7.9171,    -999,9,       -999,9,    -999,9,    -999,9
 316N200310,        A22,       8,          1,         20,         20,2,20031025,       1421,    12.3535,   -65.9995,       4359,   676.2,   6.8429,  34.7644,2,  34.7695,2,    125.0,2,   125.4,2,   21.70,2,   32.00,2,    0.00,2,    2.10,2,   0.292,2,   0.151,2,   0.009,2,  2213.1,2,  2301.7,3,    -999,9,     -999,9,    -999,9,    -999,9,    -999,9,    -999,    -999,9,   41.50,2,    -999,9,  676.20,     1548,  12.3725, -65.9941,    -999,     -999,    -999,   0.1320,2,   0.0940,2,   0.0510,2,   0.0380,2,   0.0140,2,   0.0160,2,   6.7784,    -999,9,       -999,9,    -999,9,    -999,9
 316N200310,        A22,       8,          1,         19,         19,2,20031025,       1421,    12.3535,   -65.9995,       4359,   826.5,   6.0523,  34.7928,2,  34.8011,2,    139.7,2,   139.4,2,   24.00,2,   30.88,2,    0.00,2,    2.06,2,   0.129,2,   0.071,2,   0.004,2,  2213.8,2,  2309.3,2,    -999,9,     -999,9,    -999,9,    -999,9,    -999,9,    -999,    -999,9,   40.90,2,    -999,9,  826.50,     1544,  12.3716, -65.9942,    -999,     -999,    -999,   0.1590,2,   0.1160,2,   0.0650,2,   0.0490,2,   0.0130,2,   0.0140,2,   5.9775,    -999,9,       -999,9,    -999,9,    -999,9
 316N200310,        A22,       8,          1,         18,         18,2,20031025,       1421,    12.3535,   -65.9995,       4359,   977.2,   5.2741,  34.9003,2,     -999,5,    168.7,2,   169.9,2,   24.46,2,   27.01,2,    0.00,2,    1.82,2,   0.064,2,   0.033,2,   0.006,2,  2204.9,2,  2323.1,2,    -999,9,     -999,9,    -999,9,    -999,9,    -999,9,    -999,    -999,9,    -999,9,    -999,9,  977.20,     1541,  12.3707, -65.9942,    -999,     -999,    -999,     -999,9,     -999,9,     -999,9,     -999,9,     -999,9,     -999,9,   5.1902,    -999,9,       -999,9,    -999,9,    -999,9
 316N200310,        A22,       8,          1,         17,         17,2,20031025,       1421,    12.3535,   -65.9995,       4359,  1126.4,   4.8187,  34.9424,2,  34.9386,2,    188.3,2,   188.4,2,   24.42,2,   24.91,2,    0.00,2,    1.67,2,   0.054,2,   0.030,2,   0.009,2,  2198.8,2,  2326.4,2,    -999,9,     -999,9,    -999,9,    -999,9,    -999,9,    -999,    -999,9,   40.90,2,    -999,9, 1126.40,     1536,  12.3695, -65.9943,    -999,     -999,    -999,   0.1470,2,   0.1050,2,   0.0530,2,   0.0360,2,   0.0160,2,   0.0180,2,   4.7246,    -999,9,       -999,9,    -999,9,    -999,9
 316N200310,        A22,       8,          1,         16,         16,2,20031025,       1421,    12.3535,   -65.9995,       4359,  1276.1,   4.6266,  34.9544,2,  34.9540,2,    196.4,2,   195.8,2,   24.58,2,   24.01,2,    0.00,2,    1.63,2,   0.046,2,   0.026,2,   0.007,2,  2197.7,2,  2330.3,2,    -999,9,     -999,9,    -999,9,    -999,9,    -999,9,    -999,    -999,9,    -999,9,    -999,9, 1276.10,     1532,  12.3686, -65.9944,    -999,     -999,    -999,     -999,9,     -999,9,     -999,9,     -999,9,     -999,9,     -999,9,   4.5204,    -999,9,       -999,9,    -999,9,    -999,9
 316N200310,        A22,       8,          1,         15,         15,2,20031025,       1421,    12.3535,   -65.9995,       4359,  1401.4,   4.4249,  34.9650,2,  34.9640,2,    204.4,2,   204.0,2,   24.84,2,   23.21,2,    0.00,2,    1.60,2,   0.045,6,   0.032,6,   0.004,6,  2195.1,2,  2325.1,2,    -999,9,     -999,9,    -999,9,    -999,9,    -999,9,    -999,    -999,9,   40.60,2,    -999,9, 1401.40,     1528,  12.3678, -65.9945,    -999,     -999,    -999,   0.1590,2,   0.1150,2,   0.0600,2,   0.0410,2,   0.0150,2,   0.0160,2,   4.3091,    -999,9,       -999,9,    -999,9,    -999,9
 316N200310,        A22,       8,          1,         14,         14,2,20031025,       1421,    12.3535,   -65.9995,       4359,  1500.9,   4.3268,  34.9687,2,  34.9667,2,    207.4,2,   206.6,2,   25.51,2,   22.81,2,    0.00,2,    1.55,2,   0.049,2,   0.037,2,   0.006,2,  2195.8,2,  2328.1,2,    -999,9,     -999,9,    -999,9,    -999,9,    -999,9,    -999,    -999,9,    -999,9,    -999,9, 1500.90,     1525,  12.3671, -65.9947,    -999,     -999,    -999,     -999,9,     -999,9,     -999,9,     -999,9,     -999,9,     -999,9,   4.2028,    -999,9,       -999,9,    -999,9,    -999,9
 316N200310,        A22,       8,          1,         13,         13,2,20031025,       1421,    12.3535,   -65.9995,       4359,  1626.4,   4.2047,  34.9724,2,  34.9730,2,    209.9,2,   210.5,2,   26.19,2,   22.51,2,    0.00,2,    1.52,2,   0.034,2,   0.021,2,   0.001,2,  2194.5,2,  2329.6,2,    -999,9,     -999,9,    -999,9,    -999,9,    -999,9,    -999,    -999,9,   40.20,2,    -999,9, 1626.40,     1522,  12.3663, -65.9947,    -999,     -999,    -999,   0.1510,2,   0.1090,2,   0.0550,2,   0.0370,2,   0.0160,2,   0.0170,2,   4.0704,    -999,9,       -999,9,    -999,9,    -999,9
 316N200310,        A22,       8,          1,         12,         12,2,20031025,       1421,    12.3535,   -65.9995,       4359,  1776.4,   4.1510,  34.9735,2,  34.9717,2,    212.0,2,   212.2,2,   26.65,2,   22.36,2,    0.00,2,    1.52,2,   0.024,2,   0.017,2,   0.002,2,  2195.4,2,  2331.5,2,    -999,9,     -999,9,    -999,9,    -999,9,    -999,9,    -999,    -999,9,    -999,9,    -999,9, 1776.40,     1518,  12.3656, -65.9948,    -999,     -999,    -999,     -999,9,     -999,9,     -999,9,     -999,9,     -999,9,     -999,9,   4.0031,    -999,9,       -999,9,    -999,9,    -999,9
 316N200310,        A22,       8,          1,         11,         11,2,20031025,       1421,    12.3535,   -65.9995,       4359,  1925.2,   4.1135,  34.9746,2,  34.9752,2,    213.6,2,   213.9,2,   27.02,2,   22.22,2,    0.00,2,    1.53,2,   0.027,2,   0.026,2,   0.007,2,  2196.1,2,  2331.7,2,    -999,9,     -999,9,    -999,9,    -999,9,    -999,9,    -999,    -999,9,   39.30,2,    -999,9, 1925.20,     1515,  12.3649, -65.9951,    -999,     -999,    -999,   0.1490,2,   0.1040,2,   0.0500,2,   0.0330,2,   0.0170,2,   0.0190,2,   3.9516,    -999,9,       -999,9,    -999,9,    -999,9
 316N200310,        A22,       8,          1,         10,         10,2,20031025,       1421,    12.3535,   -65.9995,       4359,  2125.6,   4.1005,  34.9754,2,  34.9758,2,    214.2,2,   214.5,2,   27.28,2,   22.06,2,    0.00,2,    1.50,2,   0.020,2,   0.019,2,   0.000,2,  2196.4,2,  2333.0,2,    -999,9,     -999,9,    -999,9,    -999,9,    -999,9,    -999,    -999,9,    -999,9,    -999,9, 2125.60,     1510,  12.3640, -65.9956,    -999,     -999,    -999,     -999,9,     -999,9,     -999,9,     -999,9,     -999,9,     -999,9,   3.9190,    -999,9,       -999,9,    -999,9,    -999,9
 316N200310,        A22,       8,          1,          9,          9,2,20031025,       1421,    12.3535,   -65.9995,       4359,  2376.2,   4.1078,  34.9758,2,  34.9780,2,    215.2,2,   215.2,2,   27.44,2,   22.07,2,    0.00,2,    1.50,2,   0.021,2,   0.022,2,   0.000,2,  2196.2,2,  2331.7,2,    -999,9,     -999,9,    -999,9,    -999,9,    -999,9,    -999,    -999,9,   39.60,2,    -999,9, 2376.20,     1505,  12.3629, -65.9962,    -999,     -999,    -999,   0.1450,2,   0.1030,2,   0.0500,2,   0.0330,2,   0.0170,2,   0.0190,2,   3.9006,    -999,9,       -999,9,    -999,9,    -999,9
 316N200310,        A22,       8,          1,          8,          8,2,20031025,       1421,    12.3535,   -65.9995,       4359,  2627.1,   4.1239,  34.9761,2,  34.9774,2,    215.3,2,   215.2,2,   27.70,2,   22.02,2,    0.00,2,    1.50,2,   0.023,2,   0.024,2,   0.003,2,  2196.6,2,  2332.2,2,    -999,9,     -999,9,    -999,9,    -999,9,    -999,9,    -999,    -999,9,    -999,9,    -999,9, 2627.10,     1500,  12.3618, -65.9967,    -999,     -999,    -999,     -999,9,     -999,9,     -999,9,     -999,9,     -999,9,     -999,9,   3.8898,    -999,9,       -999,9,    -999,9,    -999,9
 316N200310,        A22,       8,          1,          7,          7,2,20031025,       1421,    12.3535,   -65.9995,       4359,  2876.1,   4.1444,  34.9762,2,  34.9778,2,    215.8,2,   215.4,2,   27.87,2,   22.02,2,    0.00,2,    1.50,2,    -999,9,    -999,9,    -999,9,  2196.9,2,  2341.7,2,    -999,9,     -999,9,    -999,9,    -999,9,    -999,9,    -999,    -999,9,   39.10,2,    -999,9, 2876.10,     1454,  12.3609, -65.9971,    -999,     -999,    -999,   0.1380,2,   0.0980,2,   0.0480,2,   0.0310,2,   0.0170,2,   0.0190,2,   3.8828,    -999,9,       -999,9,    -999,9,    -999,9
 316N200310,        A22,       8,          1,          6,          6,2,20031025,       1421,    12.3535,   -65.9995,       4359,  3100.6,   4.1661,  34.9765,2,  34.9752,2,    215.8,2,   215.7,2,   27.93,2,   22.02,2,    0.00,2,    1.50,2,   0.020,2,   0.026,2,   0.004,2,  2197.5,2,  2346.3,2,    -999,9,     -999,9,    -999,9,    -999,9,    -999,9,    -999,    -999,9,    -999,9,    -999,9, 3100.60,     1449,  12.3600, -65.9975,    -999,     -999,    -999,     -999,9,     -999,9,     -999,9,     -999,9,     -999,9,     -999,9,   3.8788,    -999,9,       -999,9,    -999,9,    -999,9
 316N200310,        A22,       8,          1,          5,          5,2,20031025,       1421,    12.3535,   -65.9995,       4359,  3300.1,   4.1861,  34.9767,2,  34.9768,2,    216.2,2,   215.8,2,   27.89,2,   21.97,2,    0.00,2,    1.50,2,   0.021,2,   0.020,2,   0.004,2,  2197.5,2,  2341.9,2,    -999,9,     -999,9,    -999,9,    -999,9,    -999,9,    -999,    -999,9,   39.60,2,    -999,9, 3300.10,     1445,  12.3591, -65.9978,    -999,     -999,    -999,   0.1390,2,   0.0990,2,   0.0480,2,   0.0310,2,   0.0170,2,   0.0190,2,   3.8754,    -999,9,       -999,9,    -999,9,    -999,9
 316N200310,        A22,       8,          1,          4,          4,2,20031025,       1421,    12.3535,   -65.9995,       4359,  3700.9,   4.2307,  34.9774,2,  34.9789,2,    216.9,2,   216.4,2,   28.15,2,   21.88,2,    0.00,2,    1.48,2,   0.033,2,   0.036,2,   0.006,2,  2198.0,2,  2342.4,2,    -999,9,     -999,9,    -999,9,    -999,9,    -999,9,    -999,    -999,9,    -999,9,    -999,9, 3700.90,     1436,  12.3570, -65.9983,    -999,     -999,    -999,     -999,9,     -999,9,     -999,9,     -999,9,     -999,9,     -999,9,   3.8713,    -999,9,       -999,9,    -999,9,    -999,9
 316N200310,        A22,       8,          1,          3,          3,2,20031025,       1421,    12.3535,   -65.9995,       4359,  3898.7,   4.2557,  34.9775,2,  34.9780,2,    216.9,2,   216.6,2,   28.21,2,   21.92,2,    0.00,2,    1.49,2,   0.036,2,   0.031,2,   0.004,2,  2198.0,2,  2341.0,2,    -999,9,     -999,9,    -999,9,    -999,9,    -999,9,    -999,    -999,9,   39.80,2,    -999,9, 3898.70,     1432,  12.3560, -65.9988,    -999,     -999,    -999,   0.1350,2,   0.0950,2,   0.0450,2,   0.0290,2,   0.0180,2,   0.0190,2,   3.8714,    -999,9,       -999,9,    -999,9,    -999,9
 316N200310,        A22,       8,          1,          2,          2,2,20031025,       1421,    12.3535,   -65.9995,       4359,  4124.1,   4.2849,  34.9775,2,  34.9760,2,    217.0,2,   216.4,2,   28.17,2,   21.92,2,    0.00,2,    1.49,2,   0.038,2,   0.032,2,   0.007,2,  2197.3,2,  2341.6,6,    -999,9,     -999,9,    -999,9,    -999,9,    -999,9,    -999,    -999,9,    -999,9,    -999,9, 4124.10,     1427,  12.3547, -65.9995,    -999,     -999,    -999,     -999,9,     -999,9,     -999,9,     -999,9,     -999,9,     -999,9,   3.8716,    -999,9,       -999,9,    -999,9,    -999,9