BOTTLE,20220517CCHSIOLMM
EXPOCODE,SECT_ID,STNNBR,CASTNO,SAMPNO,BTLNBR,BTLNBR_FLAG_W,DATE,TIME,LATITUDE,LONGITUDE,DEPTH,CTDPRS,CTDTMP,CTDSAL,CTDSAL_FLAG_W,SALNTY,SALNTY_FLAG_W,CTDOXY,CTDOXY_FLAG_W,OXYGEN,OXYGEN_FLAG_W,SILCAT,SILCAT_FLAG_W,NITRAT,NITRAT_FLAG_W,NITRIT,NITRIT_FLAG_W,PHSPHT,PHSPHT_FLAG_W,CFC-11,CFC-11_FLAG_W,CFC-12,CFC-12_FLAG_W,CFC113,CFC113_FLAG_W,TCARBN,TCARBN_FLAG_W,ALKALI,ALKALI_FLAG_W,TRITUM,TRITUM_FLAG_W,HELIUM,HELIUM_FLAG_W,DELHE3,DELHE3_FLAG_W,DELC13,DELC13_FLAG_W,DELC14,DELC14_FLAG_W,C14ERR,CCL4,CCL4_FLAG_W,DOC,DOC_FLAG_W,TDN,TDN_FLAG_W,CTDRAW,BTL_TIME,BTL_LAT,BTL_LON,TRITER,HELIER,DELHER,CDOM325,CDOM325_FLAG_W,CDOM340,CDOM340_FLAG_W,CDOM380,CDOM380_FLAG_W,CDOM412,CDOM412_FLAG_W,CDOMSL,CDOMSL_FLAG_W,CDOMSN,CDOMSN_FLAG_W,THETA,BACT,BACT_FLAG_W,PROC,PROC_FLAG_W,SYN,SYN_FLAG_W,PEUK,PEUK_FLAG_W
,,,,,,,,,,,METERS,DBAR,ITS-90,PSS-78,,PSS-78,,UMOL/KG,,UMOL/KG,,UMOL/KG,,UMOL/KG,,UMOL/KG,,UMOL/KG,,PMOL/KG,,PMOL/KG,,PMOL/KG,,UMOL/KG,,UMOL/KG,,TU,,NMOL/KG,,PERCNT,,/MILLE,,/MILLE,,/MILLE,PMOL/KG,,UMOL/KG,,UMOL/KG,,DBAR,,,,TU,NMOL/KG,PERCNT,1/M,,1/M,,1/M,,1/M,,1/NM,,1/NM,,DEG C,E8/L,,E7/L,,E6/L,,E6/L,
 316N200310,        A22,      47,          1,         36,         36,2,20031104,       0000,    27.5600,   -65.9952,       4870,     2.8,  27.2314,  36.4399,2,  36.4348,2,    199.2,2,   199.5,2,    0.59,2,    0.00,2,    0.00,2,    0.01,2,   1.618,2,   1.006,2,   0.144,2,  2015.3,2,  2388.5,6,    -999,9,     -999,9,    -999,9,    -999,9,    -999,9,    -999,    -999,9,    -999,9,    -999,9,    2.80,      158,  27.5810, -65.9892,    -999,     -999,    -999,     -999,9,     -999,9,     -999,9,     -999,9,     -999,9,     -999,9,  27.2307,    -999,9,       -999,9,    -999,9,    -999,9
 316N200310,        A22,      47,          1,         35,         35,2,20031104,       0000,    27.5600,   -65.9952,       4870,    26.0,  27.2508,  36.4826,2,  36.4792,2,    199.2,2,   199.1,2,    0.57,2,    0.09,2,    0.00,2,    0.01,2,   1.611,2,   0.993,2,   0.143,2,    -999,9,    -999,9,    -999,9,     -999,9,    -999,9,    -999,9,    -999,9,    -999,    -999,9,    -999,9,    -999,9,   26.00,      156,  27.5804, -65.9895,    -999,     -999,    -999,     -999,9,     -999,9,     -999,9,     -999,9,     -999,9,     -999,9,  27.2448,    -999,9,       -999,9,    -999,9,    -999,9
 316N200310,        A22,      47,          1,         34,         34,2,20031104,       0000,    27.5600,   -65.9952,       4870,    51.2,  24.7124,  36.6772,2,  36.6574,2,    221.6,2,   223.4,2,    0.36,2,    0.09,2,    0.00,2,    0.01,2,   1.934,2,   1.152,2,   0.163,2,  2042.0,2,  2401.8,2,    -999,9,     -999,9,    -999,9,    -999,9,    -999,9,    -999,    -999,9,    -999,9,    -999,9,   51.20,      155,  27.5799, -65.9899,    -999,     -999,    -999,     -999,9,     -999,9,     -999,9,     -999,9,     -999,9,     -999,9,  24.7013,    -999,9,       -999,9,    -999,9,    -999,9
 316N200310,        A22,      47,          1,         33,         33,2,20031104,       0000,    27.5600,   -65.9952,       4870,    75.5,  22.7041,  36.6701,2,  36.6671,2,    218.6,2,   216.8,2,    0.34,2,    0.08,2,    0.00,2,    0.01,2,   2.015,2,   1.212,2,   0.152,2,    -999,9,    -999,9,    -999,9,     -999,9,    -999,9,    -999,9,    -999,9,    -999,    -999,9,    -999,9,    -999,9,   75.50,      153,  27.5794, -65.9902,    -999,     -999,    -999,     -999,9,     -999,9,     -999,9,     -999,9,     -999,9,     -999,9,  22.6887,    -999,9,       -999,9,    -999,9,    -999,9
 316N200310,        A22,      47,          1,         32,         32,2,20031104,       0000,    27.5600,   -65.9952,       4870,   100.8,  21.2605,  36.7745,2,  36.7693,2,    195.3,2,   198.0,2,    0.33,2,    0.46,2,    0.06,2,    0.01,2,   2.102,2,   1.241,2,   0.116,2,  2084.5,2,  2409.2,2,    -999,9,     -999,9,    -999,9,    -999,9,    -999,9,    -999,    -999,9,    -999,9,    -999,9,  100.80,      152,  27.5790, -65.9904,    -999,     -999,    -999,     -999,9,     -999,9,     -999,9,     -999,9,     -999,9,     -999,9,  21.2409,    -999,9,       -999,9,    -999,9,    -999,9
 316N200310,        A22,      47,          1,         31,         31,2,20031104,       0000,    27.5600,   -65.9952,       4870,   126.7,  20.4661,  36.7595,2,  36.7536,2,    191.7,2,   191.9,2,    0.41,2,    1.27,2,    0.02,2,    0.04,2,   2.164,6,   1.280,6,   0.085,2,    -999,9,    -999,9,    -999,9,     -999,9,    -999,9,    -999,9,    -999,9,    -999,   0.477,2,    -999,9,    -999,9,  126.70,      150,  27.5786, -65.9907,    -999,     -999,    -999,     -999,9,     -999,9,     -999,9,     -999,9,     -999,9,     -999,9,  20.4420,    -999,9,       -999,9,    -999,9,    -999,9
 316N200310,        A22,      47,          1,         30,         30,2,20031104,       0000,    27.5600,   -65.9952,       4870,   151.7,  19.8572,  36.6898,2,  36.6899,2,    196.9,2,   193.7,2,    0.39,2,    1.21,2,    0.01,2,    0.03,2,   2.218,2,   1.299,2,   0.098,2,  2096.7,2,  2404.2,2,    -999,9,     -999,9,    -999,9,    -999,9,    -999,9,    -999,    -999,9,    -999,9,    -999,9,  151.70,      149,  27.5782, -65.9909,    -999,     -999,    -999,     -999,9,     -999,9,     -999,9,     -999,9,     -999,9,     -999,9,  19.8290,    -999,9,       -999,9,    -999,9,    -999,9
 316N200310,        A22,      47,          1,         29,         29,2,20031104,       0000,    27.5600,   -65.9952,       4870,   200.6,  19.0395,  36.6207,2,  36.6160,2,    198.1,2,   200.2,2,    0.58,2,    2.68,2,    0.01,2,    0.09,2,   2.256,6,   1.323,6,   0.056,6,    -999,9,    -999,9,    -999,9,     -999,9,    -999,9,    -999,9,    -999,9,    -999,    -999,9,    -999,9,    -999,9,  200.60,      147,  27.5778, -65.9911,    -999,     -999,    -999,     -999,9,     -999,9,     -999,9,     -999,9,     -999,9,     -999,9,  19.0033,    -999,9,       -999,9,    -999,9,    -999,9
 316N200310,        A22,      47,          1,         28,         28,2,20031104,       0000,    27.5600,   -65.9952,       4870,   250.9,  18.7296,  36.6018,2,  36.5973,2,    198.1,2,   197.7,2,    0.75,2,    3.48,2,    0.01,2,    0.14,2,   2.275,2,   1.326,2,   0.038,2,  2098.5,2,  2394.1,2,    -999,9,     -999,9,    -999,9,    -999,9,    -999,9,    -999,    -999,9,    -999,9,    -999,9,  250.90,      145,  27.5773, -65.9914,    -999,     -999,    -999,     -999,9,     -999,9,     -999,9,     -999,9,     -999,9,     -999,9,  18.6848,    -999,9,       -999,9,    -999,9,    -999,9
 316N200310,        A22,      47,          1,         27,         27,2,20031104,       0000,    27.5600,   -65.9952,       4870,   300.6,  18.3072,  36.5561,2,  36.5509,2,    195.0,2,   194.3,2,    0.94,2,    4.61,2,    0.00,2,    0.20,2,   2.294,2,   1.318,2,   0.044,2,    -999,9,    -999,9,    -999,9,     -999,9,    -999,9,    -999,9,    -999,9,    -999,    -999,9,    -999,9,    -999,9,  300.60,      144,  27.5769, -65.9916,    -999,     -999,    -999,     -999,9,     -999,9,     -999,9,     -999,9,     -999,9,     -999,9,  18.2543,    -999,9,       -999,9,    -999,9,    -999,9
 316N200310,        A22,      47,          1,         26,         26,2,20031104,       0000,    27.5600,   -65.9952,       4870,   401.2,  17.5099,  36.4478,2,  36.4432,2,    193.7,2,   192.8,2,    1.31,2,    6.24,2,    0.00,2,    0.29,2,   2.329,2,   1.327,2,   0.036,2,  2111.6,2,  2379.6,2,    -999,9,     -999,9,    -999,9,    -999,9,    -999,9,    -999,    -999,9,    -999,9,    -999,9,  401.20,      141,  27.5763, -65.9920,    -999,     -999,    -999,     -999,9,     -999,9,     -999,9,     -999,9,     -999,9,     -999,9,  17.4413,    -999,9,       -999,9,    -999,9,    -999,9
 316N200310,        A22,      47,          1,         25,         25,2,20031104,       0000,    27.5600,   -65.9952,       4870,   501.2,  16.5461,  36.2849,2,  36.2814,2,    188.8,2,   186.8,2,    2.07,2,    8.41,2,    0.00,2,    0.43,2,   2.241,2,   1.251,2,   0.036,2,  2121.9,2,  2370.3,2,    -999,9,     -999,9,    -999,9,    -999,9,    -999,9,    -999,    -999,9,    -999,9,    -999,9,  501.20,      139,  27.5758, -65.9921,    -999,     -999,    -999,     -999,9,     -999,9,     -999,9,     -999,9,     -999,9,     -999,9,  16.4635,    -999,9,       -999,9,    -999,9,    -999,9
 316N200310,        A22,      47,          1,         24,         24,2,20031104,       0000,    27.5600,   -65.9952,       4870,   625.4,  14.4009,  35.9214,2,  35.9214,2,    169.6,2,   169.5,2,    4.40,2,   13.37,2,    0.00,2,    0.75,2,   1.985,2,   1.068,2,   0.038,2,  2144.8,2,  2352.4,2,    -999,9,     -999,9,    -999,9,    -999,9,    -999,9,    -999,    -999,9,    -999,9,    -999,9,  625.40,      136,  27.5753, -65.9923,    -999,     -999,    -999,     -999,9,     -999,9,     -999,9,     -999,9,     -999,9,     -999,9,  14.3067,    -999,9,       -999,9,    -999,9,    -999,9
 316N200310,        A22,      47,          1,         23,         23,2,20031104,       0000,    27.5600,   -65.9952,       4870,   752.4,  11.1874,  35.4648,2,  35.4638,2,    152.8,2,   151.8,2,    9.29,2,   20.09,2,    0.00,2,    1.22,2,   1.220,2,   0.651,2,   0.033,2,  2171.5,2,  2331.2,2,    -999,9,     -999,9,    -999,9,    -999,9,    -999,9,    -999,    -999,9,    -999,9,    -999,9,  752.40,      133,  27.5747, -65.9926,    -999,     -999,    -999,     -999,9,     -999,9,     -999,9,     -999,9,     -999,9,     -999,9,  11.0908,    -999,9,       -999,9,    -999,9,    -999,9
 316N200310,        A22,      47,          1,         22,         22,2,20031104,       0000,    27.5600,   -65.9952,       4870,   900.7,   8.4381,  35.1829,2,  35.1800,2,    156.5,2,   157.7,2,   13.61,2,   23.36,2,    0.00,2,    1.48,2,   0.767,2,   0.392,2,   0.035,2,  2185.8,2,  2321.1,2,    -999,9,     -999,9,    -999,9,    -999,9,    -999,9,    -999,    -999,9,    -999,9,    -999,9,  900.70,      129,  27.5739, -65.9929,    -999,     -999,    -999,     -999,9,     -999,9,     -999,9,     -999,9,     -999,9,     -999,9,   8.3397,    -999,9,       -999,9,    -999,9,    -999,9
 316N200310,        A22,      47,          1,         21,         21,2,20031104,       0000,    27.5600,   -65.9952,       4870,  1051.4,   6.3689,  35.1016,2,  35.1801,3,    192.7,2,   194.0,2,   14.09,2,   21.93,2,    0.00,2,    1.41,2,   0.697,2,   0.360,2,   0.015,2,  2180.1,2,  2318.1,2,    -999,9,     -999,9,    -999,9,    -999,9,    -999,9,    -999,    -999,9,    -999,9,    -999,9, 1051.40,      125,  27.5732, -65.9930,    -999,     -999,    -999,     -999,9,     -999,9,     -999,9,     -999,9,     -999,9,     -999,9,   6.2692,    -999,9,       -999,9,    -999,9,    -999,9
 316N200310,        A22,      47,          1,         20,         20,2,20031104,       0000,    27.5600,   -65.9952,       4870,  1201.1,   5.5555,  35.0940,2,  35.0935,2,    217.9,2,   219.4,2,   13.08,2,   20.18,2,    0.00,2,    1.30,2,   0.800,2,   0.405,2,   0.031,2,    -999,9,    -999,9,    -999,9,     -999,9,    -999,9,    -999,9,    -999,9,    -999,    -999,9,    -999,9,    -999,9, 1201.10,      122,  27.5725, -65.9932,    -999,     -999,    -999,     -999,9,     -999,9,     -999,9,     -999,9,     -999,9,     -999,9,   5.4476,    -999,9,       -999,9,    -999,9,    -999,9
 316N200310,        A22,      47,          1,         19,         19,2,20031104,       0000,    27.5600,   -65.9952,       4870,  1327.0,   5.0500,  35.0779,2,  35.0785,2,    233.4,2,   233.8,2,   12.78,2,   19.41,2,    0.00,2,    1.24,2,   0.830,2,   0.415,2,   0.037,2,    -999,9,    -999,9,    -999,9,     -999,9,    -999,9,    -999,9,    -999,9,    -999,    -999,9,    -999,9,    -999,9, 1327.00,      119,  27.5720, -65.9934,    -999,     -999,    -999,     -999,9,     -999,9,     -999,9,     -999,9,     -999,9,     -999,9,   4.9346,    -999,9,       -999,9,    -999,9,    -999,9
 316N200310,        A22,      47,          1,         18,         18,2,20031104,       0000,    27.5600,   -65.9952,       4870,  1451.9,   4.6653,  35.0599,2,  35.0592,2,    242.2,2,   243.0,2,   13.05,2,   19.07,2,    0.00,2,    1.22,2,   0.759,2,   0.386,2,   0.036,2,    -999,9,    -999,9,    -999,9,     -999,9,    -999,9,    -999,9,    -999,9,    -999,    -999,9,    -999,9,    -999,9, 1451.90,      116,  27.5714, -65.9935,    -999,     -999,    -999,     -999,9,     -999,9,     -999,9,     -999,9,     -999,9,     -999,9,   4.5420,    -999,9,       -999,9,    -999,9,    -999,9
 316N200310,        A22,      47,          1,         17,         17,2,20031104,       0000,    27.5600,   -65.9952,       4870,  1575.7,   4.3884,  35.0467,2,  35.0465,2,    246.8,2,   247.2,2,   13.83,2,   18.96,2,    0.00,2,    1.21,2,   0.555,2,   0.279,2,   0.027,2,    -999,9,    -999,9,    -999,9,     -999,9,    -999,9,    -999,9,    -999,9,    -999,    -999,9,    -999,9,    -999,9, 1575.70,      113,  27.5709, -65.9937,    -999,     -999,    -999,     -999,9,     -999,9,     -999,9,     -999,9,     -999,9,     -999,9,   4.2564,    -999,9,       -999,9,    -999,9,    -999,9
 316N200310,        A22,      47,          1,         16,         16,2,20031104,       0000,    27.5600,   -65.9952,       4870,  1701.2,   4.2399,  35.0449,2,  35.0447,2,    247.9,2,   248.0,2,   14.99,2,   19.01,2,    0.00,2,    1.21,2,   0.418,2,   0.203,2,   0.013,2,    -999,9,    -999,9,    -999,9,     -999,9,    -999,9,    -999,9,    -999,9,    -999,    -999,9,    -999,9,    -999,9, 1701.20,      110,  27.5702, -65.9938,    -999,     -999,    -999,     -999,9,     -999,9,     -999,9,     -999,9,     -999,9,     -999,9,   4.0978,    -999,9,       -999,9,    -999,9,    -999,9
 316N200310,        A22,      47,          1,         15,         15,2,20031104,       0000,    27.5600,   -65.9952,       4870,  1850.8,   3.9648,  35.0264,2,  35.0272,2,    252.3,2,   250.6,2,   16.36,2,   19.01,2,    0.00,2,    1.22,2,   0.302,2,   0.160,2,   0.018,2,    -999,9,    -999,9,    -999,9,     -999,9,    -999,9,    -999,9,    -999,9,    -999,    -999,9,    -999,9,    -999,9, 1850.80,      107,  27.5696, -65.9939,    -999,     -999,    -999,     -999,9,     -999,9,     -999,9,     -999,9,     -999,9,     -999,9,   3.8121,    -999,9,       -999,9,    -999,9,    -999,9
 316N200310,        A22,      47,          1,         14,         14,2,20031104,       0000,    27.5600,   -65.9952,       4870,  2000.2,   3.5902,  34.9816,2,  34.9815,2,    257.0,2,   259.8,2,   15.95,2,   18.52,2,    0.00,2,    1.19,2,   0.561,2,   0.282,2,   0.031,2,    -999,9,    -999,9,    -999,9,     -999,9,    -999,9,    -999,9,    -999,9,    -999,    -999,9,    -999,9,    -999,9, 2000.20,      103,  27.5690, -65.9940,    -999,     -999,    -999,     -999,9,     -999,9,     -999,9,     -999,9,     -999,9,     -999,9,   3.4287,    -999,9,       -999,9,    -999,9,    -999,9
 316N200310,        A22,      47,          1,         13,         13,2,20031104,       0000,    27.5600,   -65.9952,       4870,  2251.3,   3.3626,  34.9731,2,  34.9734,2,    258.8,2,   258.4,2,   18.51,2,   18.77,2,    0.00,2,    1.21,2,   0.323,2,   0.164,2,   0.014,2,    -999,9,    -999,9,    -999,9,     -999,9,    -999,9,    -999,9,    -999,9,    -999,    -999,9,    -999,9,    -999,9, 2251.30,       58,  27.5681, -65.9942,    -999,     -999,    -999,     -999,9,     -999,9,     -999,9,     -999,9,     -999,9,     -999,9,   3.1805,    -999,9,       -999,9,    -999,9,    -999,9
 316N200310,        A22,      47,          1,         12,         12,2,20031104,       0000,    27.5600,   -65.9952,       4870,  2500.8,   3.0854,  34.9533,2,  34.9524,2,    261.0,2,   261.3,2,   19.89,2,   18.67,2,    0.00,2,    1.21,2,   0.367,2,   0.179,2,   0.018,2,    -999,9,    -999,9,    -999,9,     -999,9,    -999,9,    -999,9,    -999,9,    -999,    -999,9,    -999,9,    -999,9, 2500.80,       53,  27.5672, -65.9944,    -999,     -999,    -999,     -999,9,     -999,9,     -999,9,     -999,9,     -999,9,     -999,9,   2.8838,    -999,9,       -999,9,    -999,9,    -999,9
 316N200310,        A22,      47,          1,         11,         11,2,20031104,       0000,    27.5600,   -65.9952,       4870,  2749.8,   2.9486,  34.9470,2,  34.9463,2,    259.6,2,   259.2,2,   23.05,2,   19.10,2,    0.00,2,    1.24,2,   0.234,2,   0.121,2,   0.012,2,    -999,9,    -999,9,    -999,9,     -999,9,    -999,9,    -999,9,    -999,9,    -999,    -999,9,    -999,9,    -999,9, 2749.80,       49,  27.5665, -65.9945,    -999,     -999,    -999,     -999,9,     -999,9,     -999,9,     -999,9,     -999,9,     -999,9,   2.7247,    -999,9,       -999,9,    -999,9,    -999,9
 316N200310,        A22,      47,          1,         10,         10,2,20031104,       0000,    27.5600,   -65.9952,       4870,  2999.6,   2.7435,  34.9330,2,  34.9323,2,    258.3,2,   260.4,2,   25.32,2,   19.20,2,    0.00,2,    1.26,2,   0.223,2,   0.110,2,   0.011,2,    -999,9,    -999,9,    -999,9,     -999,9,    -999,9,    -999,9,    -999,9,    -999,    -999,9,    -999,9,    -999,9, 2999.60,       44,  27.5657, -65.9946,    -999,     -999,    -999,     -999,9,     -999,9,     -999,9,     -999,9,     -999,9,     -999,9,   2.4983,    -999,9,       -999,9,    -999,9,    -999,9
 316N200310,        A22,      47,          1,          9,          9,2,20031104,       0000,    27.5600,   -65.9952,       4870,  3200.0,   2.6367,  34.9244,2,  34.9242,2,    262.4,2,   263.6,2,   24.41,2,   18.81,2,    0.00,2,    1.23,2,   0.341,2,   0.175,2,   0.016,2,    -999,9,    -999,9,    -999,9,     -999,9,    -999,9,    -999,9,    -999,9,    -999,    -999,9,    -999,9,    -999,9, 3200.00,       39,  27.5650, -65.9948,    -999,     -999,    -999,     -999,9,     -999,9,     -999,9,     -999,9,     -999,9,     -999,9,   2.3730,    -999,9,       -999,9,    -999,9,    -999,9
 316N200310,        A22,      47,          1,          8,          8,2,20031104,       0000,    27.5600,   -65.9952,       4870,  3401.1,   2.5320,  34.9174,2,  34.9174,2,    264.9,2,   264.8,2,   25.49,2,   18.80,2,    0.00,2,    1.23,2,   0.305,2,   0.159,2,   0.017,2,    -999,9,    -999,9,    -999,9,     -999,9,    -999,9,    -999,9,    -999,9,    -999,    -999,9,    -999,9,    -999,9, 3401.10,       36,  27.5643, -65.9950,    -999,     -999,    -999,     -999,9,     -999,9,     -999,9,     -999,9,     -999,9,     -999,9,   2.2495,    -999,9,       -999,9,    -999,9,    -999,9
 316N200310,        A22,      47,          1,          7,          7,2,20031104,       0000,    27.5600,   -65.9952,       4870,  3601.3,   2.4581,  34.9121,2,  34.9115,2,    266.0,2,   266.0,2,   25.67,2,   18.65,2,    0.00,2,    1.23,2,   0.338,2,   0.166,2,   0.019,2,    -999,9,    -999,9,    -999,9,     -999,9,    -999,9,    -999,9,    -999,9,    -999,    -999,9,    -999,9,    -999,9, 3601.30,       31,  27.5637, -65.9952,    -999,     -999,    -999,     -999,9,     -999,9,     -999,9,     -999,9,     -999,9,     -999,9,   2.1557,    -999,9,       -999,9,    -999,9,    -999,9
 316N200310,        A22,      47,          1,          6,          6,2,20031104,       0000,    27.5600,   -65.9952,       4870,  3800.4,   2.4028,  34.9076,2,  34.9069,2,    266.4,2,   266.1,2,   26.66,2,   18.75,2,    0.00,2,    1.23,2,   0.310,2,   0.157,2,   0.020,2,    -999,9,    -999,9,    -999,9,     -999,9,    -999,9,    -999,9,    -999,9,    -999,    -999,9,    -999,9,    -999,9, 3800.40,       27,  27.5630, -65.9953,    -999,     -999,    -999,     -999,9,     -999,9,     -999,9,     -999,9,     -999,9,     -999,9,   2.0798,    -999,9,       -999,9,    -999,9,    -999,9
 316N200310,        A22,      47,          1,          5,          5,2,20031104,       0000,    27.5600,   -65.9952,       4870,  4000.3,   2.3527,  34.9030,2,  34.9032,2,    266.4,2,   266.7,2,   27.73,2,   18.80,2,    0.00,2,    1.24,2,   0.323,2,   0.163,2,   0.017,2,    -999,9,    -999,9,    -999,9,     -999,9,    -999,9,    -999,9,    -999,9,    -999,    -999,9,    -999,9,    -999,9, 4000.30,       23,  27.5624, -65.9953,    -999,     -999,    -999,     -999,9,     -999,9,     -999,9,     -999,9,     -999,9,     -999,9,   2.0085,    -999,9,       -999,9,    -999,9,    -999,9