BOTTLE,20220517CCHSIOLMM
EXPOCODE,SECT_ID,STNNBR,CASTNO,SAMPNO,BTLNBR,BTLNBR_FLAG_W,DATE,TIME,LATITUDE,LONGITUDE,DEPTH,CTDPRS,CTDTMP,CTDSAL,CTDSAL_FLAG_W,SALNTY,SALNTY_FLAG_W,CTDOXY,CTDOXY_FLAG_W,OXYGEN,OXYGEN_FLAG_W,SILCAT,SILCAT_FLAG_W,NITRAT,NITRAT_FLAG_W,NITRIT,NITRIT_FLAG_W,PHSPHT,PHSPHT_FLAG_W,CFC-11,CFC-11_FLAG_W,CFC-12,CFC-12_FLAG_W,CFC113,CFC113_FLAG_W,TCARBN,TCARBN_FLAG_W,ALKALI,ALKALI_FLAG_W,TRITUM,TRITUM_FLAG_W,HELIUM,HELIUM_FLAG_W,DELHE3,DELHE3_FLAG_W,DELC13,DELC13_FLAG_W,DELC14,DELC14_FLAG_W,C14ERR,CCL4,CCL4_FLAG_W,DOC,DOC_FLAG_W,TDN,TDN_FLAG_W,CTDRAW,BTL_TIME,BTL_LAT,BTL_LON,TRITER,HELIER,DELHER,CDOM325,CDOM325_FLAG_W,CDOM340,CDOM340_FLAG_W,CDOM380,CDOM380_FLAG_W,CDOM412,CDOM412_FLAG_W,CDOMSL,CDOMSL_FLAG_W,CDOMSN,CDOMSN_FLAG_W,THETA,BACT,BACT_FLAG_W,PROC,PROC_FLAG_W,SYN,SYN_FLAG_W,PEUK,PEUK_FLAG_W
,,,,,,,,,,,METERS,DBAR,ITS-90,PSS-78,,PSS-78,,UMOL/KG,,UMOL/KG,,UMOL/KG,,UMOL/KG,,UMOL/KG,,UMOL/KG,,PMOL/KG,,PMOL/KG,,PMOL/KG,,UMOL/KG,,UMOL/KG,,TU,,NMOL/KG,,PERCNT,,/MILLE,,/MILLE,,/MILLE,PMOL/KG,,UMOL/KG,,UMOL/KG,,DBAR,,,,TU,NMOL/KG,PERCNT,1/M,,1/M,,1/M,,1/M,,1/NM,,1/NM,,DEG C,E8/L,,E7/L,,E6/L,,E6/L,
 316N200310,        A22,      52,          1,         35,         35,2,20031105,       1417,    30.9053,   -66.0025,       4855,     2.7,  25.8746,  36.6060,2,  36.6027,2,    198.2,2,   203.6,2,    0.77,2,    0.02,2,    0.00,2,    0.01,2,   1.707,2,   1.041,2,   0.099,2,  2031.1,2,  2390.1,6,    -999,9,     -999,9,    -999,9,    -999,9,    -999,9,    -999,   1.790,2,   70.40,2,    4.30,2,    2.70,     1618,  30.9210, -65.9964,    -999,     -999,    -999,   0.0520,2,   0.0330,2,   0.0110,2,   0.0070,2,   0.0300,2,   0.0310,2,  25.8740,    2.71,2,       3.05,2,    5.93,2,    0.48,2
 316N200310,        A22,      52,          1,         34,         34,2,20031105,       1417,    30.9053,   -66.0025,       4855,    24.8,  25.8363,  36.6037,2,  36.6001,2,    201.1,2,   203.7,2,    0.73,2,    0.02,2,    0.00,2,    0.00,2,   1.755,2,   1.066,2,   0.093,2,  2029.8,2,  2395.9,2,    -999,9,     -999,9,    -999,9,    -999,9,    -999,9,    -999,   1.782,2,   69.10,2,    4.40,2,   24.80,     1616,  30.9206, -65.9965,    -999,     -999,    -999,   0.0530,2,   0.0340,2,   0.0110,2,   0.0070,2,   0.0320,2,   0.0320,2,  25.8307,    2.78,2,       3.88,2,    6.18,2,    0.44,2
 316N200310,        A22,      52,          1,         33,         33,2,20031105,       1417,    30.9053,   -66.0025,       4855,    50.8,  25.8053,  36.6007,2,  36.5967,2,    200.9,2,   204.5,2,    0.70,2,    0.07,2,    0.00,2,    0.00,2,   1.766,2,   1.057,2,   0.101,2,  2030.2,2,  2395.5,2,    -999,9,     -999,9,    -999,9,    -999,9,    -999,9,    -999,   1.780,2,   70.50,2,    4.70,2,   50.80,     1614,  30.9202, -65.9966,    -999,     -999,    -999,   0.0660,2,   0.0440,2,   0.0170,2,   0.0110,2,   0.0270,2,   0.0270,2,  25.7940,    2.78,2,       3.61,2,    6.11,2,    0.50,2
 316N200310,        A22,      52,          1,         32,         32,2,20031105,       1417,    30.9053,   -66.0025,       4855,    74.2,  22.9469,  36.7076,2,  36.7050,2,    227.5,2,   229.1,2,    0.57,2,    0.02,2,    0.00,2,    0.00,2,   2.087,2,   1.271,2,   0.088,2,  2050.1,2,  2402.5,2,    -999,9,     -999,9,    -999,9,    -999,9,    -999,9,    -999,   1.154,2,   69.80,2,    3.80,2,   74.20,     1612,  30.9199, -65.9966,    -999,     -999,    -999,   0.1440,2,   0.0980,2,   0.0400,2,   0.0260,2,   0.0210,2,   0.0230,2,  22.9317,    3.09,2,      10.36,2,    2.37,2,    0.68,2
 316N200310,        A22,      52,          1,         31,         31,2,20031105,       1417,    30.9053,   -66.0025,       4855,   100.3,  21.0862,  36.6918,2,  36.6840,2,    216.8,2,   209.4,2,    0.62,2,    0.20,2,    0.08,2,    0.01,2,   2.146,2,   1.296,2,   0.099,2,  2074.2,2,  2401.7,2,    -999,9,     -999,9,    -999,9,    -999,9,    -999,9,    -999,   0.919,2,   65.90,2,    4.50,2,  100.30,     1610,  30.9196, -65.9966,    -999,     -999,    -999,   0.1440,2,   0.1040,2,   0.0490,2,   0.0350,2,   0.0160,2,   0.0190,2,  21.0668,    2.47,2,       3.94,2,    0.14,2,    1.05,2
 316N200310,        A22,      52,          1,         30,         30,2,20031105,       1417,    30.9053,   -66.0025,       4855,   123.6,  19.9421,  36.6163,2,  36.6140,2,    202.9,2,   210.9,2,    0.69,2,    0.57,2,    0.07,2,    0.02,2,   2.266,2,   0.371,4,   0.115,2,  2079.9,2,  2397.7,2,    -999,9,     -999,9,    -999,9,    -999,9,    -999,9,    -999,   1.013,2,   57.70,2,    5.10,2,  123.60,     1609,  30.9194, -65.9966,    -999,     -999,    -999,   0.1500,2,   0.1090,2,   0.0530,2,   0.0370,2,   0.0160,2,   0.0180,2,  19.9191,    1.73,2,       1.88,2,    0.00,2,    0.56,2
 316N200310,        A22,      52,          1,         29,         29,2,20031105,       1417,    30.9053,   -66.0025,       4855,   174.6,  19.3094,  36.6326,2,  36.6292,2,    201.3,2,   203.5,2,    0.95,2,    1.59,2,    0.01,2,    0.05,2,    -999,9,    -999,9,    -999,9,  2086.9,2,  2389.8,2,    -999,9,     -999,9,    -999,9,    -999,9,    -999,9,    -999,    -999,9,   54.60,2,    5.60,2,  174.60,     1607,  30.9190, -65.9966,    -999,     -999,    -999,   0.1030,2,   0.0740,2,   0.0350,2,   0.0250,2,   0.0190,2,   0.0200,2,  19.2776,    1.20,2,       0.58,2,    0.00,2,    0.23,2
 316N200310,        A22,      52,          1,         28,         28,2,20031105,       1417,    30.9053,   -66.0025,       4855,   225.4,  18.8905,  36.6091,2,  36.6051,2,    204.6,2,   203.0,2,    1.10,2,    2.61,2,    0.00,2,    0.10,2,    -999,9,    -999,9,    -999,9,  2091.0,2,  2391.1,2,    -999,9,     -999,9,    -999,9,    -999,9,    -999,9,    -999,    -999,9,   53.30,2,    6.30,2,  225.40,     1605,  30.9187, -65.9967,    -999,     -999,    -999,     -999,9,     -999,9,     -999,9,     -999,9,     -999,9,     -999,9,  18.8501,    -999,9,       -999,9,    -999,9,    -999,9
 316N200310,        A22,      52,          1,         27,         27,2,20031105,       1417,    30.9053,   -66.0025,       4855,   275.5,  18.6744,  36.5963,2,  36.5930,2,    205.9,2,   197.0,2,    1.26,2,    3.38,2,    0.01,2,    0.14,2,   2.271,2,   1.347,2,   0.025,2,  2092.7,2,  2388.1,2,    -999,9,     -999,9,    -999,9,    -999,9,    -999,9,    -999,   0.468,2,   52.40,2,    6.30,2,  275.50,     1603,  30.9184, -65.9967,    -999,     -999,    -999,   0.1060,2,   0.0770,2,   0.0380,2,   0.0280,2,   0.0170,2,   0.0180,2,  18.6253,    -999,9,       -999,9,    -999,9,    -999,9
 316N200310,        A22,      52,          1,         26,         26,2,20031105,       1417,    30.9053,   -66.0025,       4855,   350.9,  18.1467,  36.5353,2,  36.5317,2,    194.9,2,   192.6,2,    1.52,2,    4.69,2,    0.01,2,    0.21,2,   2.318,2,   1.338,2,   0.017,2,  2105.7,2,  2383.2,2,    -999,9,     -999,9,    -999,9,    -999,9,    -999,9,    -999,   0.368,2,   48.90,2,    -999,9,  350.90,     1601,  30.9181, -65.9968,    -999,     -999,    -999,   0.0880,2,   0.0630,2,   0.0290,2,   0.0210,2,   0.0210,2,   0.0210,2,  18.0853,    -999,9,       -999,9,    -999,9,    -999,9
 316N200310,        A22,      52,          1,         25,         25,2,20031105,       1417,    30.9053,   -66.0025,       4855,   450.0,  17.3799,  36.4252,2,  36.4218,2,    192.1,2,   192.2,2,    2.07,2,    6.12,2,    0.01,2,    0.30,2,   2.337,2,   1.320,2,   0.027,2,  2112.7,2,  2377.8,2,    -999,9,     -999,9,    -999,9,    -999,9,    -999,9,    -999,   0.451,2,   48.40,2,    -999,9,  450.00,     1558,  30.9179, -65.9971,    -999,     -999,    -999,   0.0930,2,   0.0660,2,   0.0300,2,   0.0210,2,   0.0210,2,   0.0220,2,  17.3033,    -999,9,       -999,9,    -999,9,    -999,9
 316N200310,        A22,      52,          1,         24,         24,2,20031105,       1417,    30.9053,   -66.0025,       4855,   550.3,  16.1846,  36.2178,2,  36.2155,2,    183.9,2,   184.3,2,    3.10,2,    8.77,2,    0.01,2,    0.48,2,   2.258,2,   1.282,2,   0.031,2,  2125.4,2,  2366.5,2,    -999,9,     -999,9,    -999,9,    -999,9,    -999,9,    -999,   0.479,2,   49.20,2,    -999,9,  550.30,     1556,  30.9177, -65.9972,    -999,     -999,    -999,   0.1040,3,   0.0740,3,   0.0350,3,   0.0240,3,   0.0190,3,   0.0210,3,  16.0952,    -999,9,       -999,9,    -999,9,    -999,9
 316N200310,        A22,      52,          1,         23,         23,2,20031105,       1417,    30.9053,   -66.0025,       4855,   675.8,  13.7219,  35.8042,2,  35.8021,2,    167.3,2,   166.9,2,    5.99,2,   14.36,2,    0.01,2,    0.84,2,   2.017,2,   1.268,2,   0.056,2,  2150.0,2,  2346.3,2,    -999,9,     -999,9,    -999,9,    -999,9,    -999,9,    -999,   0.463,2,    -999,9,    -999,9,  675.80,     1553,  30.9173, -65.9975,    -999,     -999,    -999,     -999,9,     -999,9,     -999,9,     -999,9,     -999,9,     -999,9,  13.6232,    -999,9,       -999,9,    -999,9,    -999,9
 316N200310,        A22,      52,          1,         22,         22,2,20031105,       1417,    30.9053,   -66.0025,       4855,   825.2,  10.2573,  35.3383,2,  35.3372,2,    149.1,2,   151.0,2,   11.46,2,   21.40,2,    0.02,2,    1.32,2,   1.255,2,   0.646,2,   0.037,2,  2181.1,2,  2326.0,6,    -999,9,     -999,9,    -999,9,    -999,9,    -999,9,    -999,   0.413,2,   44.80,2,    -999,9,  825.20,     1549,  30.9170, -65.9977,    -999,     -999,    -999,   0.1340,2,   0.0950,2,   0.0480,2,   0.0330,2,   0.0160,2,   0.0180,2,  10.1566,    -999,9,       -999,9,    -999,9,    -999,9
 316N200310,        A22,      52,          1,         21,         21,2,20031105,       1417,    30.9053,   -66.0025,       4855,   974.9,   7.2581,  35.1263,2,  35.1282,2,    176.8,2,   176.5,2,   14.48,2,   22.65,2,    0.01,2,    1.45,2,   0.807,2,   0.419,2,   0.019,2,  2184.8,2,  2325.4,2,    -999,9,     -999,9,    -999,9,    -999,9,    -999,9,    -999,   0.563,2,   47.30,2,    -999,9,  974.90,     1545,  30.9166, -65.9980,    -999,     -999,    -999,   0.1310,2,   0.0930,2,   0.0440,2,   0.0300,2,   0.0180,2,   0.0190,2,   7.1597,    -999,9,       -999,9,    -999,9,    -999,9
 316N200310,        A22,      52,          1,         20,         20,2,20031105,       1417,    30.9053,   -66.0025,       4855,  1124.9,   6.0843,  35.1181,2,  35.1175,2,    205.8,2,   205.9,2,   13.95,2,   20.73,2,    0.01,2,    1.33,2,   0.818,2,   0.414,2,   0.025,2,  2177.4,2,  2325.2,2,    -999,9,     -999,9,    -999,9,    -999,9,    -999,9,    -999,   0.810,2,    -999,9,    -999,9, 1124.90,     1542,  30.9162, -65.9983,    -999,     -999,    -999,     -999,9,     -999,9,     -999,9,     -999,9,     -999,9,     -999,9,   5.9793,    -999,9,       -999,9,    -999,9,    -999,9
 316N200310,        A22,      52,          1,         19,         19,2,20031105,       1417,    30.9053,   -66.0025,       4855,  1275.0,   5.2676,  35.0790,2,  35.0791,2,    226.9,2,   228.6,2,   13.22,2,   19.44,2,    0.01,2,    1.25,2,   1.039,2,   0.516,2,   0.039,2,  2170.7,2,  2321.7,2,    -999,9,     -999,9,    -999,9,    -999,9,    -999,9,    -999,   1.210,2,   43.50,2,    -999,9, 1275.00,     1538,  30.9157, -65.9985,    -999,     -999,    -999,   0.1300,2,   0.0920,2,   0.0440,2,   0.0300,2,   0.0170,2,   0.0190,2,   5.1551,    -999,9,       -999,9,    -999,9,    -999,9
 316N200310,        A22,      52,          1,         18,         18,2,20031105,       1417,    30.9053,   -66.0025,       4855,  1401.8,   4.9266,  35.0780,2,  35.0776,2,    238.5,2,   237.9,2,   13.28,2,   18.86,2,    0.01,2,    1.21,2,   0.903,2,   0.452,2,   0.032,2,  2168.0,2,  2321.7,2,    -999,9,     -999,9,    -999,9,    -999,9,    -999,9,    -999,   1.221,2,    -999,9,    -999,9, 1401.80,     1534,  30.9153, -65.9985,    -999,     -999,    -999,     -999,9,     -999,9,     -999,9,     -999,9,     -999,9,     -999,9,   4.8053,    -999,9,       -999,9,    -999,9,    -999,9
 316N200310,        A22,      52,          1,         17,         17,2,20031105,       1417,    30.9053,   -66.0025,       4855,  1499.7,   4.6705,  35.0563,2,  35.0563,2,    243.6,2,   244.1,2,   13.34,2,   18.61,2,    0.01,2,    1.20,2,   0.921,2,   0.463,2,   0.036,2,  2165.0,2,  2319.7,2,    -999,9,     -999,9,    -999,9,    -999,9,    -999,9,    -999,   1.308,2,   45.60,2,    -999,9, 1499.70,     1532,  30.9150, -65.9986,    -999,     -999,    -999,   0.1210,2,   0.0840,2,   0.0390,2,   0.0260,2,   0.0190,2,   0.0210,2,   4.5426,    -999,9,       -999,9,    -999,9,    -999,9
 316N200310,        A22,      52,          1,         16,         16,2,20031105,       1417,    30.9053,   -66.0025,       4855,  1625.3,   4.3346,  35.0303,2,  35.0307,2,    250.2,2,   250.7,2,   13.70,2,   18.35,2,    0.01,2,    1.18,2,   0.914,2,   0.452,2,   0.035,2,  2162.7,2,  2318.8,2,    -999,9,     -999,9,    -999,9,    -999,9,    -999,9,    -999,   1.401,2,    -999,9,    -999,9, 1625.30,     1528,  30.9146, -65.9987,    -999,     -999,    -999,     -999,9,     -999,9,     -999,9,     -999,9,     -999,9,     -999,9,   4.1987,    -999,9,       -999,9,    -999,9,    -999,9
 316N200310,        A22,      52,          1,         15,         15,2,20031105,       1417,    30.9053,   -66.0025,       4855,  1774.4,   4.0869,  35.0159,2,  35.0177,2,    253.2,2,   254.2,2,   14.55,2,   18.25,2,    0.01,2,    1.18,2,   0.780,2,   0.392,2,   0.029,2,  2162.8,2,  2315.2,2,    -999,9,     -999,9,    -999,9,    -999,9,    -999,9,    -999,   1.276,2,   43.50,2,    -999,9, 1774.40,     1525,  30.9143, -65.9989,    -999,     -999,    -999,   0.1300,2,   0.0910,2,   0.0430,2,   0.0280,2,   0.0180,2,   0.0200,2,   3.9398,    -999,9,       -999,9,    -999,9,    -999,9
 316N200310,        A22,      52,          1,         14,         14,2,20031105,       1417,    30.9053,   -66.0025,       4855,  1901.2,   3.7958,  34.9852,2,  34.9852,2,    257.8,2,   260.6,2,   14.71,2,   18.04,2,    0.01,2,    1.17,2,   0.972,6,   0.477,6,   0.045,6,  2160.5,2,  2311.1,2,    -999,9,     -999,9,    -999,9,    -999,9,    -999,9,    -999,   1.492,6,    -999,9,    -999,9, 1901.20,     1521,  30.9139, -65.9990,    -999,     -999,    -999,     -999,9,     -999,9,     -999,9,     -999,9,     -999,9,     -999,9,   3.6407,    -999,9,       -999,9,    -999,9,    -999,9
 316N200310,        A22,      52,          1,         13,         13,2,20031105,       1417,    30.9053,   -66.0025,       4855,  2001.7,   3.7277,  34.9905,2,  34.9919,2,    259.7,2,   258.2,2,   16.06,2,   18.26,2,    0.01,2,    1.18,2,   0.709,2,   0.362,2,   0.029,2,  2161.8,2,  2312.9,2,    -999,9,     -999,9,    -999,9,    -999,9,    -999,9,    -999,   1.227,2,    -999,5,    -999,9, 2001.70,     1519,  30.9136, -65.9991,    -999,     -999,    -999,   0.1310,2,   0.0910,2,   0.0430,2,   0.0280,2,   0.0180,2,   0.0200,2,   3.5640,    -999,9,       -999,9,    -999,9,    -999,9
 316N200310,        A22,      52,          1,         12,         12,2,20031105,       1417,    30.9053,   -66.0025,       4855,  2127.0,   3.5918,  34.9812,2,  34.9805,2,    258.4,2,   259.5,2,   16.81,2,   18.26,2,    0.01,2,    1.18,2,   0.651,6,   0.327,6,   0.038,2,  2161.6,2,  2313.5,2,    -999,9,     -999,9,    -999,9,    -999,9,    -999,9,    -999,   1.114,2,    -999,9,    -999,9, 2127.00,     1515,  30.9132, -65.9992,    -999,     -999,    -999,     -999,9,     -999,9,     -999,9,     -999,9,     -999,9,     -999,9,   3.4181,    -999,9,       -999,9,    -999,9,    -999,9
 316N200310,        A22,      52,          1,         11,         11,2,20031105,       1417,    30.9053,   -66.0025,       4855,  2376.7,   3.3620,  34.9750,2,  34.9762,2,    257.5,2,   258.0,2,   19.85,2,   18.57,2,    0.01,2,    1.21,2,   0.284,2,   0.145,2,   0.012,2,  2167.5,2,  2317.9,2,    -999,9,     -999,9,    -999,9,    -999,9,    -999,9,    -999,   0.661,2,   43.60,2,    -999,9, 2376.70,     1510,  30.9127, -65.9995,    -999,     -999,    -999,   0.1210,2,   0.0850,2,   0.0400,2,   0.0260,2,   0.0190,2,   0.0200,2,   3.1676,    -999,9,       -999,9,    -999,9,    -999,9
 316N200310,        A22,      52,          1,         10,         10,2,20031105,       1417,    30.9053,   -66.0025,       4855,  2626.8,   3.1051,  34.9564,2,  34.9561,2,    259.6,2,   260.6,2,   21.20,2,   18.51,2,    0.01,2,    1.21,2,   0.242,2,   0.128,2,   0.054,2,  2166.4,2,  2314.0,2,    -999,9,     -999,9,    -999,9,    -999,9,    -999,9,    -999,   0.594,2,    -999,9,    -999,9, 2626.80,     1505,  30.9121, -65.9998,    -999,     -999,    -999,     -999,9,     -999,9,     -999,9,     -999,9,     -999,9,     -999,9,   2.8905,    -999,9,       -999,9,    -999,9,    -999,9
 316N200310,        A22,      52,          1,          9,          9,2,20031105,       1417,    30.9053,   -66.0025,       4855,  2875.8,   2.8752,  34.9404,2,  34.9406,2,    262.2,2,   263.2,2,   22.06,2,   18.31,2,    0.00,2,    1.20,2,   0.274,2,   0.136,2,   0.010,2,  2166.1,2,  2317.0,2,    -999,9,     -999,9,    -999,9,    -999,9,    -999,9,    -999,   0.623,2,   43.30,2,    -999,9, 2875.80,     1500,  30.9113, -66.0002,    -999,     -999,    -999,   0.1370,2,   0.0970,2,   0.0470,2,   0.0310,2,   0.0170,2,   0.0190,2,   2.6399,    -999,9,       -999,9,    -999,9,    -999,9
 316N200310,        A22,      52,          1,          8,          8,2,20031105,       1417,    30.9053,   -66.0025,       4855,  3301.2,   2.5516,  34.9193,2,  34.9189,2,    266.4,2,   267.1,2,   23.71,2,   18.05,2,    0.00,2,    1.19,2,   0.381,2,   0.194,2,   0.010,2,  2165.8,2,  2316.5,2,    -999,9,     -999,9,    -999,9,    -999,9,    -999,9,    -999,   0.814,2,    -999,9,    -999,9, 3301.20,     1452,  30.9102, -66.0004,    -999,     -999,    -999,     -999,9,     -999,9,     -999,9,     -999,9,     -999,9,     -999,9,   2.2792,    -999,9,       -999,9,    -999,9,    -999,9
 316N200310,        A22,      52,          1,          7,          7,2,20031105,       1417,    30.9053,   -66.0025,       4855,  3499.6,   2.4315,  34.9111,2,  34.9117,2,    267.1,2,   267.6,2,   25.26,2,   18.11,2,    0.00,2,    1.20,2,   0.434,2,   0.210,2,   0.016,2,  2167.0,2,  2317.4,2,    -999,9,     -999,9,    -999,9,    -999,9,    -999,9,    -999,   0.899,2,    -999,9,    -999,9, 3499.60,     1448,  30.9096, -66.0007,    -999,     -999,    -999,     -999,9,     -999,9,     -999,9,     -999,9,     -999,9,     -999,9,   2.1408,    -999,9,       -999,9,    -999,9,    -999,9
 316N200310,        A22,      52,          1,          6,          6,2,20031105,       1417,    30.9053,   -66.0025,       4855,  3701.1,   2.3561,  34.9048,2,  34.9085,2,    266.9,2,   267.3,2,   27.02,2,   18.26,2,    0.00,2,    1.21,2,   0.456,2,   0.221,2,   0.019,2,  2169.8,2,  2326.3,2,    -999,9,     -999,9,    -999,9,    -999,9,    -999,9,    -999,   0.913,2,    -999,9,    -999,9, 3701.10,     1443,  30.9090, -66.0009,    -999,     -999,    -999,     -999,9,     -999,9,     -999,9,     -999,9,     -999,9,     -999,9,   2.0454,    -999,9,       -999,9,    -999,9,    -999,9
 316N200310,        A22,      52,          1,          5,          5,2,20031105,       1417,    30.9053,   -66.0025,       4855,  3899.8,   2.3015,  34.8990,2,  34.8993,2,    266.0,2,   267.0,2,   28.97,2,   18.52,2,    0.00,2,    1.23,2,   0.476,2,   0.252,2,   0.025,2,  2173.3,2,  2328.0,2,    -999,9,     -999,9,    -999,9,    -999,9,    -999,9,    -999,   0.946,2,   42.20,2,    -999,9, 3899.80,     1439,  30.9084, -66.0011,    -999,     -999,    -999,   0.1300,2,   0.0920,2,   0.0430,2,   0.0280,2,   0.0190,2,   0.0200,2,   1.9701,    -999,9,       -999,9,    -999,9,    -999,9
 316N200310,        A22,      52,          1,          4,          4,2,20031105,       1417,    30.9053,   -66.0025,       4855,  4124.3,   2.2653,  34.8938,2,  34.8934,2,    264.8,2,   265.0,2,   31.33,2,   18.83,2,    0.00,2,    1.25,2,   0.459,2,   0.228,2,   0.018,2,  2176.7,2,  2330.4,2,    -999,9,     -999,9,    -999,9,    -999,9,    -999,9,    -999,   0.881,2,    -999,9,    -999,9, 4124.30,     1435,  30.9078, -66.0014,    -999,     -999,    -999,     -999,9,     -999,9,     -999,9,     -999,9,     -999,9,     -999,9,   1.9094,    -999,9,       -999,9,    -999,9,    -999,9