BOTTLE,20220517CCHSIOLMM
EXPOCODE,SECT_ID,STNNBR,CASTNO,SAMPNO,BTLNBR,BTLNBR_FLAG_W,DATE,TIME,LATITUDE,LONGITUDE,DEPTH,CTDPRS,CTDTMP,CTDSAL,CTDSAL_FLAG_W,SALNTY,SALNTY_FLAG_W,CTDOXY,CTDOXY_FLAG_W,OXYGEN,OXYGEN_FLAG_W,SILCAT,SILCAT_FLAG_W,NITRAT,NITRAT_FLAG_W,NITRIT,NITRIT_FLAG_W,PHSPHT,PHSPHT_FLAG_W,CFC-11,CFC-11_FLAG_W,CFC-12,CFC-12_FLAG_W,CFC113,CFC113_FLAG_W,TCARBN,TCARBN_FLAG_W,ALKALI,ALKALI_FLAG_W,TRITUM,TRITUM_FLAG_W,HELIUM,HELIUM_FLAG_W,DELHE3,DELHE3_FLAG_W,DELC13,DELC13_FLAG_W,DELC14,DELC14_FLAG_W,C14ERR,CCL4,CCL4_FLAG_W,DOC,DOC_FLAG_W,TDN,TDN_FLAG_W,CTDRAW,BTL_TIME,BTL_LAT,BTL_LON,TRITER,HELIER,DELHER,CDOM325,CDOM325_FLAG_W,CDOM340,CDOM340_FLAG_W,CDOM380,CDOM380_FLAG_W,CDOM412,CDOM412_FLAG_W,CDOMSL,CDOMSL_FLAG_W,CDOMSN,CDOMSN_FLAG_W,THETA,BACT,BACT_FLAG_W,PROC,PROC_FLAG_W,SYN,SYN_FLAG_W,PEUK,PEUK_FLAG_W
,,,,,,,,,,,METERS,DBAR,ITS-90,PSS-78,,PSS-78,,UMOL/KG,,UMOL/KG,,UMOL/KG,,UMOL/KG,,UMOL/KG,,UMOL/KG,,PMOL/KG,,PMOL/KG,,PMOL/KG,,UMOL/KG,,UMOL/KG,,TU,,NMOL/KG,,PERCNT,,/MILLE,,/MILLE,,/MILLE,PMOL/KG,,UMOL/KG,,UMOL/KG,,DBAR,,,,TU,NMOL/KG,PERCNT,1/M,,1/M,,1/M,,1/M,,1/NM,,1/NM,,DEG C,E8/L,,E7/L,,E6/L,,E6/L,
 316N200310,        A22,      47,          1,          4,          4,2,20031104,       0000,    27.5600,   -65.9952,       4870,  4251.4,   2.3012,  34.8969,2,  34.8963,2,    265.3,2,   265.1,2,   29.92,2,   19.03,2,    0.00,2,    1.26,2,   0.347,2,   0.181,2,   0.025,2,    -999,9,    -999,9,    -999,9,     -999,9,    -999,9,    -999,9,    -999,9,    -999,    -999,9,    -999,9,    -999,9, 4251.40,       17,  27.5617, -65.9953,    -999,     -999,    -999,     -999,9,     -999,9,     -999,9,     -999,9,     -999,9,     -999,9,   1.9295,    -999,9,       -999,9,    -999,9,    -999,9
 316N200310,        A22,      47,          1,          3,          3,2,20031104,       0000,    27.5600,   -65.9952,       4870,  4503.4,   2.2451,  34.8880,2,  34.8877,2,    261.7,2,   261.6,2,   34.70,2,   19.71,2,    0.00,2,    1.31,2,   0.251,2,   0.135,2,   0.014,2,    -999,9,    -999,9,    -999,9,     -999,9,    -999,9,    -999,9,    -999,9,    -999,    -999,9,    -999,9,    -999,9, 4503.40,       12,  27.5610, -65.9952,    -999,     -999,    -999,     -999,9,     -999,9,     -999,9,     -999,9,     -999,9,     -999,9,   1.8453,    -999,9,       -999,9,    -999,9,    -999,9
 316N200310,        A22,      47,          1,          2,          2,2,20031104,       0000,    27.5600,   -65.9952,       4870,  4749.4,   2.2068,  34.8798,2,  34.8788,2,    258.4,2,   258.5,2,   39.10,2,   20.39,2,    0.00,2,    1.36,2,   0.211,2,   0.121,2,   0.014,2,    -999,9,    -999,9,    -999,9,     -999,9,    -999,9,    -999,9,    -999,9,    -999,    -999,9,    -999,9,    -999,9, 4749.40,        6,  27.5606, -65.9951,    -999,     -999,    -999,     -999,9,     -999,9,     -999,9,     -999,9,     -999,9,     -999,9,   1.7785,    -999,9,       -999,9,    -999,9,    -999,9
 316N200310,        A22,      47,          1,          1,          1,2,20031104,       0000,    27.5600,   -65.9952,       4870,  4975.5,   2.1820,  34.8732,2,  34.8729,2,    255.3,2,   255.8,2,   42.59,2,   20.87,2,    0.00,2,    1.40,2,   0.163,2,   0.095,2,   0.011,2,    -999,9,    -999,9,    -999,9,     -999,9,    -999,9,    -999,9,    -999,9,    -999,    -999,9,    -999,9,    -999,9, 4975.50,        1,  27.5600, -65.9951,    -999,     -999,    -999,     -999,9,     -999,9,     -999,9,     -999,9,     -999,9,     -999,9,   1.7265,    -999,9,       -999,9,    -999,9,    -999,9