BOTTLE,20220517CCHSIOLMM
EXPOCODE,SECT_ID,STNNBR,CASTNO,SAMPNO,BTLNBR,BTLNBR_FLAG_W,DATE,TIME,LATITUDE,LONGITUDE,DEPTH,CTDPRS,CTDTMP,CTDSAL,CTDSAL_FLAG_W,SALNTY,SALNTY_FLAG_W,CTDOXY,CTDOXY_FLAG_W,OXYGEN,OXYGEN_FLAG_W,SILCAT,SILCAT_FLAG_W,NITRAT,NITRAT_FLAG_W,NITRIT,NITRIT_FLAG_W,PHSPHT,PHSPHT_FLAG_W,CFC-11,CFC-11_FLAG_W,CFC-12,CFC-12_FLAG_W,CFC113,CFC113_FLAG_W,TCARBN,TCARBN_FLAG_W,ALKALI,ALKALI_FLAG_W,TRITUM,TRITUM_FLAG_W,HELIUM,HELIUM_FLAG_W,DELHE3,DELHE3_FLAG_W,DELC13,DELC13_FLAG_W,DELC14,DELC14_FLAG_W,C14ERR,CCL4,CCL4_FLAG_W,DOC,DOC_FLAG_W,TDN,TDN_FLAG_W,CTDRAW,BTL_TIME,BTL_LAT,BTL_LON,TRITER,HELIER,DELHER,CDOM325,CDOM325_FLAG_W,CDOM340,CDOM340_FLAG_W,CDOM380,CDOM380_FLAG_W,CDOM412,CDOM412_FLAG_W,CDOMSL,CDOMSL_FLAG_W,CDOMSN,CDOMSN_FLAG_W,THETA,BACT,BACT_FLAG_W,PROC,PROC_FLAG_W,SYN,SYN_FLAG_W,PEUK,PEUK_FLAG_W
,,,,,,,,,,,METERS,DBAR,ITS-90,PSS-78,,PSS-78,,UMOL/KG,,UMOL/KG,,UMOL/KG,,UMOL/KG,,UMOL/KG,,UMOL/KG,,PMOL/KG,,PMOL/KG,,PMOL/KG,,UMOL/KG,,UMOL/KG,,TU,,NMOL/KG,,PERCNT,,/MILLE,,/MILLE,,/MILLE,PMOL/KG,,UMOL/KG,,UMOL/KG,,DBAR,,,,TU,NMOL/KG,PERCNT,1/M,,1/M,,1/M,,1/M,,1/NM,,1/NM,,DEG C,E8/L,,E7/L,,E6/L,,E6/L,
 316N200310,        A22,      50,          1,         36,         36,2,20031104,       2046,    29.5540,   -66.0078,       5048,     3.3,  26.0831,  36.6443,2,  36.6409,4,    146.2,2,   203.9,2,    0.55,2,    0.14,2,    0.00,2,    0.01,2,   1.703,2,   1.038,2,   0.094,2,  2032.9,2,    -999,9,    -999,9,     -999,9,    -999,9,    -999,9,    -999,9,    -999,   1.665,2,   70.10,2,    5.00,2,    3.30,     2246,  29.5598, -66.0163,    -999,     -999,    -999,     -999,9,     -999,9,     -999,9,     -999,9,     -999,9,     -999,9,  26.0823,    -999,9,       -999,9,    -999,9,    -999,9
 316N200310,        A22,      50,          1,         35,         35,2,20031104,       2046,    29.5540,   -66.0078,       5048,    25.5,  26.0929,  36.6470,2,  36.6608,4,    204.4,2,   203.3,2,    0.44,2,    0.14,2,    0.00,2,    0.01,2,   1.692,2,   1.033,2,   0.098,2,  2033.8,2,    -999,9,    -999,9,     -999,9,    -999,9,    -999,9,    -999,9,    -999,   1.574,2,   72.70,2,    4.40,2,   25.50,     2245,  29.5597, -66.0162,    -999,     -999,    -999,     -999,9,     -999,9,     -999,9,     -999,9,     -999,9,     -999,9,  26.0872,    -999,9,       -999,9,    -999,9,    -999,9
 316N200310,        A22,      50,          1,         34,         34,2,20031104,       2046,    29.5540,   -66.0078,       5048,    51.2,  25.9637,  36.6709,2,  36.6822,4,    204.7,2,   207.3,2,    0.53,2,    0.13,2,    0.00,2,    0.01,2,   1.751,2,   1.062,2,   0.088,2,  2034.6,2,  2400.6,2,    -999,9,     -999,9,    -999,9,    -999,9,    -999,9,    -999,   1.567,2,   69.10,2,    5.00,2,   51.20,     2243,  29.5597, -66.0161,    -999,     -999,    -999,     -999,9,     -999,9,     -999,9,     -999,9,     -999,9,     -999,9,  25.9523,    -999,9,       -999,9,    -999,9,    -999,9
 316N200310,        A22,      50,          1,         33,         33,2,20031104,       2046,    29.5540,   -66.0078,       5048,    70.5,  22.5226,  36.6688,2,  36.6643,4,    225.8,2,   229.5,2,    0.32,2,    0.13,2,    0.00,2,    0.01,2,   2.075,2,   1.234,2,   0.090,2,  2053.3,2,  2399.4,2,    -999,9,     -999,9,    -999,9,    -999,9,    -999,9,    -999,   1.113,2,   61.80,2,    4.10,2,   70.50,     2242,  29.5596, -66.0160,    -999,     -999,    -999,     -999,9,     -999,9,     -999,9,     -999,9,     -999,9,     -999,9,  22.5084,    -999,9,       -999,9,    -999,9,    -999,9
 316N200310,        A22,      50,          1,         32,         32,2,20031104,       2046,    29.5540,   -66.0078,       5048,    99.0,  20.5644,  36.6915,2,  36.6856,4,    215.1,2,   213.5,2,    0.40,2,    0.06,2,    0.06,2,    0.01,2,   2.165,2,   1.297,2,   0.112,2,  2076.2,2,  2400.7,2,    -999,9,     -999,9,    -999,9,    -999,9,    -999,9,    -999,   0.981,2,   57.50,2,    4.60,2,   99.00,     2241,  29.5596, -66.0159,    -999,     -999,    -999,     -999,9,     -999,9,     -999,9,     -999,9,     -999,9,     -999,9,  20.5456,    -999,9,       -999,9,    -999,9,    -999,9
 316N200310,        A22,      50,          1,         31,         31,2,20031104,       2046,    29.5540,   -66.0078,       5048,   125.3,  19.7804,  36.6647,2,  36.6578,4,    206.1,2,   202.0,2,    0.49,2,    0.76,2,    0.02,2,    0.02,2,   2.193,2,   1.301,2,   0.103,2,  2087.1,2,  2399.4,2,    -999,9,     -999,9,    -999,9,    -999,9,    -999,9,    -999,   0.822,2,   56.20,2,    4.60,2,  125.30,     2240,  29.5596, -66.0158,    -999,     -999,    -999,     -999,9,     -999,9,     -999,9,     -999,9,     -999,9,     -999,9,  19.7572,    -999,9,       -999,9,    -999,9,    -999,9
 316N200310,        A22,      50,          1,         30,         30,2,20031104,       2046,    29.5540,   -66.0078,       5048,   150.2,  19.3837,  36.6361,2,  36.6332,4,    201.0,2,   201.7,2,    0.58,2,    1.33,2,    0.01,2,    0.04,2,   2.262,2,   1.332,2,   0.096,2,  2089.0,2,  2397.3,2,    -999,9,     -999,9,    -999,9,    -999,9,    -999,9,    -999,   0.751,2,   56.60,2,    5.40,2,  150.20,     2238,  29.5596, -66.0157,    -999,     -999,    -999,     -999,9,     -999,9,     -999,9,     -999,9,     -999,9,     -999,9,  19.3563,    -999,9,       -999,9,    -999,9,    -999,9
 316N200310,        A22,      50,          1,         29,         29,2,20031104,       2046,    29.5540,   -66.0078,       5048,   200.3,  18.9258,  36.6041,2,  36.6039,4,    203.4,2,   205.5,2,    0.76,2,    2.54,2,    0.01,2,    0.10,2,   2.272,2,   1.335,2,   0.066,2,  2090.4,2,  2393.3,2,    -999,9,     -999,9,    -999,9,    -999,9,    -999,9,    -999,   0.614,2,   53.60,2,    6.00,2,  200.30,     2237,  29.5596, -66.0156,    -999,     -999,    -999,     -999,9,     -999,9,     -999,9,     -999,9,     -999,9,     -999,9,  18.8898,    -999,9,       -999,9,    -999,9,    -999,9
 316N200310,        A22,      50,          1,         28,         28,2,20031104,       2046,    29.5540,   -66.0078,       5048,   250.4,  18.7088,  36.5939,2,  36.5930,4,    206.2,2,   208.5,2,    0.85,2,    2.86,2,    0.01,2,    0.11,2,   2.300,2,   1.347,2,   0.071,2,  2090.3,2,    -999,9,    -999,9,     -999,9,    -999,9,    -999,9,    -999,9,    -999,   0.653,2,   53.60,2,    6.30,2,  250.40,     2235,  29.5596, -66.0154,    -999,     -999,    -999,     -999,9,     -999,9,     -999,9,     -999,9,     -999,9,     -999,9,  18.6641,    -999,9,       -999,9,    -999,9,    -999,9
 316N200310,        A22,      50,          1,         27,         27,2,20031104,       2046,    29.5540,   -66.0078,       5048,   301.4,  18.5055,  36.5762,2,  36.5753,4,    207.8,2,   206.2,2,    1.03,2,    3.41,2,    0.01,2,    0.14,2,   2.333,2,   1.365,2,   0.066,2,  2094.8,2,  2388.4,2,    -999,9,     -999,9,    -999,9,    -999,9,    -999,9,    -999,   0.654,2,   51.20,2,    6.90,2,  301.40,     2233,  29.5596, -66.0154,    -999,     -999,    -999,     -999,9,     -999,9,     -999,9,     -999,9,     -999,9,     -999,9,  18.4521,    -999,9,       -999,9,    -999,9,    -999,9
 316N200310,        A22,      50,          1,         26,         26,2,20031104,       2046,    29.5540,   -66.0078,       5048,   400.2,  17.8650,  36.4949,2,  36.4953,4,    195.3,2,   193.4,2,    1.42,2,    5.55,2,    0.01,2,    0.25,2,   2.319,2,   1.313,2,   0.020,2,  2107.6,2,  2382.4,2,    -999,9,     -999,9,    -999,9,    -999,9,    -999,9,    -999,   0.423,2,   50.40,2,    -999,9,  400.20,     2230,  29.5597, -66.0156,    -999,     -999,    -999,     -999,9,     -999,9,     -999,9,     -999,9,     -999,9,     -999,9,  17.7957,    -999,9,       -999,9,    -999,9,    -999,9
 316N200310,        A22,      50,          1,         25,         25,2,20031104,       2046,    29.5540,   -66.0078,       5048,   501.4,  16.7561,  36.3204,2,  36.3196,4,    191.8,2,   189.8,2,    2.29,2,    7.88,2,    0.01,2,    0.40,2,   2.299,2,   1.272,2,   0.021,2,  2118.4,2,  2373.1,2,    -999,9,     -999,9,    -999,9,    -999,9,    -999,9,    -999,   0.458,2,   48.60,2,    -999,9,  501.40,     2228,  29.5597, -66.0161,    -999,     -999,    -999,     -999,9,     -999,9,     -999,9,     -999,9,     -999,9,     -999,9,  16.6728,    -999,9,       -999,9,    -999,9,    -999,9
 316N200310,        A22,      50,          1,         24,         24,2,20031104,       2046,    29.5540,   -66.0078,       5048,   626.6,  14.4938,  35.9318,2,  35.9360,4,    175.6,2,   174.0,2,    4.55,2,   12.88,2,    0.01,2,    0.72,2,   2.076,2,   1.130,2,   0.027,2,  2140.5,2,  2353.1,2,    -999,9,     -999,9,    -999,9,    -999,9,    -999,9,    -999,   0.438,2,    -999,9,    -999,9,  626.60,     2224,  29.5596, -66.0161,    -999,     -999,    -999,     -999,9,     -999,9,     -999,9,     -999,9,     -999,9,     -999,9,  14.3991,    -999,9,       -999,9,    -999,9,    -999,9
 316N200310,        A22,      50,          1,         23,         23,2,20031104,       2046,    29.5540,   -66.0078,       5048,   750.5,  11.8779,  35.5476,2,  35.5488,4,    152.0,2,   152.6,2,    8.68,2,   19.07,2,    0.01,2,    1.15,2,   1.446,2,   0.737,2,   0.015,2,  2166.4,2,  2334.6,2,    -999,9,     -999,9,    -999,9,    -999,9,    -999,9,    -999,   0.322,2,   44.10,2,    -999,9,  750.50,     2221,  29.5594, -66.0152,    -999,     -999,    -999,     -999,9,     -999,9,     -999,9,     -999,9,     -999,9,     -999,9,  11.7779,    -999,9,       -999,9,    -999,9,    -999,9
 316N200310,        A22,      50,          1,         22,         22,2,20031104,       2046,    29.5540,   -66.0078,       5048,   850.5,   9.6908,  35.2741,2,  35.2753,4,    146.1,2,   146.6,2,   12.63,2,   22.94,2,    0.01,2,    1.45,2,   0.986,2,   0.503,2,   0.027,2,  2182.7,2,  2323.5,6,    -999,9,     -999,9,    -999,9,    -999,9,    -999,9,    -999,   0.333,2,    -999,9,    -999,9,  850.50,     2219,  29.5593, -66.0145,    -999,     -999,    -999,     -999,9,     -999,9,     -999,9,     -999,9,     -999,9,     -999,9,   9.5904,    -999,9,       -999,9,    -999,9,    -999,9
 316N200310,        A22,      50,          1,         21,         21,2,20031104,       2046,    29.5540,   -66.0078,       5048,  1000.8,   6.9596,  35.1080,2,  35.1106,4,    180.9,2,   183.1,2,   14.20,2,   22.31,2,    0.01,2,    1.44,2,   0.934,2,   0.475,2,   0.023,2,  2183.7,2,  2323.5,2,    -999,9,     -999,9,    -999,9,    -999,9,    -999,9,    -999,   0.673,2,   44.00,2,    -999,9, 1000.80,     2215,  29.5593, -66.0134,    -999,     -999,    -999,     -999,9,     -999,9,     -999,9,     -999,9,     -999,9,     -999,9,   6.8606,    -999,9,       -999,9,    -999,9,    -999,9
 316N200310,        A22,      50,          1,         20,         20,2,20031104,       2046,    29.5540,   -66.0078,       5048,  1149.2,   5.6991,  35.0881,2,  35.0919,4,    215.2,2,   216.3,2,   13.21,2,   20.30,2,    0.00,2,    1.31,2,   1.055,2,   0.525,2,   0.030,2,  2174.0,2,  2316.1,2,    -999,9,     -999,9,    -999,9,    -999,9,    -999,9,    -999,   1.066,2,    -999,9,    -999,9, 1149.20,     2212,  29.5593, -66.0125,    -999,     -999,    -999,     -999,9,     -999,9,     -999,9,     -999,9,     -999,9,     -999,9,   5.5950,    -999,9,       -999,9,    -999,9,    -999,9
 316N200310,        A22,      50,          1,         19,         19,2,20031104,       2046,    29.5540,   -66.0078,       5048,  1299.4,   5.0023,  35.0602,2,  35.0628,4,    235.1,2,   236.1,2,   12.60,2,   19.21,2,    0.01,2,    1.24,2,   1.255,2,   0.614,2,   0.049,2,  2169.0,2,  2315.7,2,    -999,9,     -999,9,    -999,9,    -999,9,    -999,9,    -999,   1.422,2,   43.20,2,    -999,9, 1299.40,     2208,  29.5592, -66.0116,    -999,     -999,    -999,     -999,9,     -999,9,     -999,9,     -999,9,     -999,9,     -999,9,   4.8901,    -999,9,       -999,9,    -999,9,    -999,9
 316N200310,        A22,      50,          1,         18,         18,2,20031104,       2046,    29.5540,   -66.0078,       5048,  1450.1,   4.6017,  35.0417,2,  35.0437,4,    246.2,2,   245.7,2,   12.79,2,   18.81,2,    0.00,2,    1.21,2,   1.090,2,   0.540,2,   0.040,2,  2164.9,2,  2314.8,2,    -999,9,     -999,9,    -999,9,    -999,9,    -999,9,    -999,   1.446,2,    -999,9,    -999,9, 1450.10,     2205,  29.5593, -66.0109,    -999,     -999,    -999,     -999,9,     -999,9,     -999,9,     -999,9,     -999,9,     -999,9,   4.4793,    -999,9,       -999,9,    -999,9,    -999,9
 316N200310,        A22,      50,          1,         17,         17,2,20031104,       2046,    29.5540,   -66.0078,       5048,  1574.7,   4.3726,  35.0326,2,  35.0344,4,    250.5,2,   250.3,2,   13.26,2,   18.66,2,    0.00,2,    1.20,2,   0.958,6,   0.474,6,   0.035,6,  2163.4,2,  2314.4,2,    -999,9,     -999,9,    -999,9,    -999,9,    -999,9,    -999,   1.378,6,   43.20,2,    -999,9, 1574.70,     2202,  29.5594, -66.0107,    -999,     -999,    -999,     -999,9,     -999,9,     -999,9,     -999,9,     -999,9,     -999,9,   4.2410,    -999,9,       -999,9,    -999,9,    -999,9
 316N200310,        A22,      50,          1,         16,         16,2,20031104,       2046,    29.5540,   -66.0078,       5048,  1702.2,   4.2060,  35.0302,2,  35.0339,4,    251.5,2,   250.8,2,   14.35,2,   18.75,2,    0.00,2,    1.21,2,   0.645,2,   0.339,2,   0.021,2,  2160.9,2,  2316.6,3,    -999,9,     -999,9,    -999,9,    -999,9,    -999,9,    -999,   1.139,2,    -999,9,    -999,9, 1702.20,     2159,  29.5594, -66.0107,    -999,     -999,    -999,     -999,9,     -999,9,     -999,9,     -999,9,     -999,9,     -999,9,   4.0643,    -999,9,       -999,9,    -999,9,    -999,9
 316N200310,        A22,      50,          1,         15,         15,2,20031104,       2046,    29.5540,   -66.0078,       5048,  1855.4,   3.9204,  35.0106,2,  35.0155,4,    253.1,2,   254.3,2,   15.53,2,   18.66,2,    0.00,2,    1.21,2,   0.589,6,   0.290,6,   0.040,2,  2161.3,2,  2317.3,2,    -999,9,     -999,9,    -999,9,    -999,9,    -999,9,    -999,   1.049,2,    -999,9,    -999,9, 1855.40,     2154,  29.5594, -66.0108,    -999,     -999,    -999,     -999,9,     -999,9,     -999,9,     -999,9,     -999,9,     -999,9,   3.7679,    -999,9,       -999,9,    -999,9,    -999,9
 316N200310,        A22,      50,          1,         14,         14,2,20031104,       2046,    29.5540,   -66.0078,       5048,  2001.5,   3.7121,  35.0008,2,  35.0035,4,    255.5,2,   255.1,2,   17.31,2,   18.80,2,    0.00,2,    1.22,2,   0.376,2,   0.193,2,   0.006,2,  2162.9,2,  2317.0,2,    -999,9,     -999,9,    -999,9,    -999,9,    -999,9,    -999,   0.785,2,   42.40,2,    -999,9, 2001.50,     2150,  29.5594, -66.0109,    -999,     -999,    -999,     -999,9,     -999,9,     -999,9,     -999,9,     -999,9,     -999,9,   3.5486,    -999,9,       -999,9,    -999,9,    -999,9
 316N200310,        A22,      50,          1,         13,         13,2,20031104,       2046,    29.5540,   -66.0078,       5048,  2247.4,   3.3956,  34.9745,2,  34.9772,4,    258.8,2,   258.4,2,   18.49,2,   18.65,2,    0.00,2,    1.22,2,   0.378,2,   0.188,2,   0.008,2,  2162.3,2,  2316.7,2,    -999,9,     -999,9,    -999,9,    -999,9,    -999,9,    -999,   0.784,2,    -999,9,    -999,9, 2247.40,     2145,  29.5585, -66.0105,    -999,     -999,    -999,     -999,9,     -999,9,     -999,9,     -999,9,     -999,9,     -999,9,   3.2133,    -999,9,       -999,9,    -999,9,    -999,9
 316N200310,        A22,      50,          1,         12,         12,2,20031104,       2046,    29.5540,   -66.0078,       5048,  2497.9,   3.1159,  34.9553,2,  34.9565,4,    260.9,2,   261.4,2,   19.88,2,   18.60,2,    0.00,2,    1.22,2,    -999,9,    -999,9,    -999,9,  2161.4,2,  2317.9,2,    -999,9,     -999,9,    -999,9,    -999,9,    -999,9,    -999,    -999,9,   42.00,2,    -999,9, 2497.90,     2141,  29.5569, -66.0100,    -999,     -999,    -999,     -999,9,     -999,9,     -999,9,     -999,9,     -999,9,     -999,9,   2.9140,    -999,9,       -999,9,    -999,9,    -999,9
 316N200310,        A22,      50,          1,         11,         11,2,20031104,       2046,    29.5540,   -66.0078,       5048,  2751.1,   2.8784,  34.9401,2,  34.9421,4,    263.5,2,   263.6,2,   21.26,2,   18.49,2,    0.00,2,    1.22,2,   0.360,2,   0.183,2,   0.008,2,  2161.5,2,  2318.8,2,    -999,9,     -999,9,    -999,9,    -999,9,    -999,9,    -999,   0.733,2,    -999,9,    -999,9, 2751.10,     2136,  29.5554, -66.0093,    -999,     -999,    -999,     -999,9,     -999,9,     -999,9,     -999,9,     -999,9,     -999,9,   2.6558,    -999,9,       -999,9,    -999,9,    -999,9
 316N200310,        A22,      50,          1,         10,         10,2,20031104,       2046,    29.5540,   -66.0078,       5048,  3001.6,   2.6773,  34.9276,2,  34.9303,4,    265.7,2,   266.3,2,   21.95,2,   18.25,2,    0.00,2,    1.21,2,   0.403,2,   0.205,2,   0.008,2,  2161.9,2,  2317.2,2,    -999,9,     -999,9,    -999,9,    -999,9,    -999,9,    -999,   0.808,2,    -999,9,    -999,9, 3001.60,     2131,  29.5552, -66.0092,    -999,     -999,    -999,     -999,9,     -999,9,     -999,9,     -999,9,     -999,9,     -999,9,   2.4334,    -999,9,       -999,9,    -999,9,    -999,9
 316N200310,        A22,      50,          1,          9,          9,2,20031104,       2046,    29.5540,   -66.0078,       5048,  3200.2,   2.5474,  34.9194,2,  34.9233,4,    266.8,2,   266.8,2,   23.23,2,   18.34,2,    0.00,2,    1.21,2,   0.439,2,   0.209,2,   0.014,2,  2162.9,2,  2318.3,2,    -999,9,     -999,9,    -999,9,    -999,9,    -999,9,    -999,   0.865,2,   42.40,2,    -999,9, 3200.20,     2126,  29.5550, -66.0090,    -999,     -999,    -999,     -999,9,     -999,9,     -999,9,     -999,9,     -999,9,     -999,9,   2.2858,    -999,9,       -999,9,    -999,9,    -999,9
 316N200310,        A22,      50,          1,          8,          8,2,20031104,       2046,    29.5540,   -66.0078,       5048,  3400.3,   2.4529,  34.9130,2,  34.9160,4,    267.3,2,   267.8,2,   24.31,2,   18.33,2,    0.00,2,    1.21,2,   0.446,2,   0.225,2,   0.017,2,  2165.2,2,  2319.2,2,    -999,9,     -999,9,    -999,9,    -999,9,    -999,9,    -999,   0.903,2,    -999,9,    -999,9, 3400.30,     2122,  29.5549, -66.0088,    -999,     -999,    -999,     -999,9,     -999,9,     -999,9,     -999,9,     -999,9,     -999,9,   2.1723,    -999,9,       -999,9,    -999,9,    -999,9
 316N200310,        A22,      50,          1,          7,          7,2,20031104,       2046,    29.5540,   -66.0078,       5048,  3600.8,   2.3778,  34.9074,2,  34.9097,4,    267.0,2,   267.4,2,   25.91,2,   18.53,2,    0.00,2,    1.22,2,   0.420,2,   0.213,2,   0.020,2,  2167.3,2,  2320.1,2,    -999,9,     -999,9,    -999,9,    -999,9,    -999,9,    -999,   0.876,2,   43.20,2,    -999,9, 3600.80,     2117,  29.5547, -66.0086,    -999,     -999,    -999,     -999,9,     -999,9,     -999,9,     -999,9,     -999,9,     -999,9,   2.0775,    -999,9,       -999,9,    -999,9,    -999,9
 316N200310,        A22,      50,          1,          6,          6,2,20031104,       2046,    29.5540,   -66.0078,       5048,  3801.3,   2.3279,  34.9027,2,  34.9054,4,    266.9,2,   267.2,2,   27.19,2,   18.68,2,    0.00,2,    1.24,2,   0.447,2,   0.212,2,   0.015,2,  2168.6,2,  2329.3,2,    -999,9,     -999,9,    -999,9,    -999,9,    -999,9,    -999,   0.897,2,    -999,9,    -999,9, 3801.30,     2113,  29.5547, -66.0086,    -999,     -999,    -999,     -999,9,     -999,9,     -999,9,     -999,9,     -999,9,     -999,9,   2.0068,    -999,9,       -999,9,    -999,9,    -999,9
 316N200310,        A22,      50,          1,          5,          5,2,20031104,       2046,    29.5540,   -66.0078,       5048,  4000.6,   2.3049,  34.8995,2,  34.9030,4,    266.3,2,   266.9,2,   28.58,2,   18.82,2,    0.00,2,    1.25,2,   0.399,2,   0.209,2,   0.019,2,  2170.2,2,  2329.3,2,    -999,9,     -999,9,    -999,9,    -999,9,    -999,9,    -999,   0.851,2,   41.70,2,    -999,9, 4000.60,     2109,  29.5545, -66.0085,    -999,     -999,    -999,     -999,9,     -999,9,     -999,9,     -999,9,     -999,9,     -999,9,   1.9620,    -999,9,       -999,9,    -999,9,    -999,9