BOTTLE,20220517CCHSIOLMM
EXPOCODE,SECT_ID,STNNBR,CASTNO,SAMPNO,BTLNBR,BTLNBR_FLAG_W,DATE,TIME,LATITUDE,LONGITUDE,DEPTH,CTDPRS,CTDTMP,CTDSAL,CTDSAL_FLAG_W,SALNTY,SALNTY_FLAG_W,CTDOXY,CTDOXY_FLAG_W,OXYGEN,OXYGEN_FLAG_W,SILCAT,SILCAT_FLAG_W,NITRAT,NITRAT_FLAG_W,NITRIT,NITRIT_FLAG_W,PHSPHT,PHSPHT_FLAG_W,CFC-11,CFC-11_FLAG_W,CFC-12,CFC-12_FLAG_W,CFC113,CFC113_FLAG_W,TCARBN,TCARBN_FLAG_W,ALKALI,ALKALI_FLAG_W,TRITUM,TRITUM_FLAG_W,HELIUM,HELIUM_FLAG_W,DELHE3,DELHE3_FLAG_W,DELC13,DELC13_FLAG_W,DELC14,DELC14_FLAG_W,C14ERR,CCL4,CCL4_FLAG_W,DOC,DOC_FLAG_W,TDN,TDN_FLAG_W,CTDRAW,BTL_TIME,BTL_LAT,BTL_LON,TRITER,HELIER,DELHER,CDOM325,CDOM325_FLAG_W,CDOM340,CDOM340_FLAG_W,CDOM380,CDOM380_FLAG_W,CDOM412,CDOM412_FLAG_W,CDOMSL,CDOMSL_FLAG_W,CDOMSN,CDOMSN_FLAG_W,THETA,BACT,BACT_FLAG_W,PROC,PROC_FLAG_W,SYN,SYN_FLAG_W,PEUK,PEUK_FLAG_W
,,,,,,,,,,,METERS,DBAR,ITS-90,PSS-78,,PSS-78,,UMOL/KG,,UMOL/KG,,UMOL/KG,,UMOL/KG,,UMOL/KG,,UMOL/KG,,PMOL/KG,,PMOL/KG,,PMOL/KG,,UMOL/KG,,UMOL/KG,,TU,,NMOL/KG,,PERCNT,,/MILLE,,/MILLE,,/MILLE,PMOL/KG,,UMOL/KG,,UMOL/KG,,DBAR,,,,TU,NMOL/KG,PERCNT,1/M,,1/M,,1/M,,1/M,,1/NM,,1/NM,,DEG C,E8/L,,E7/L,,E6/L,,E6/L,
 316N200310,        A22,      70,          1,         34,         34,2,20031111,       0348,    37.8448,   -68.4927,       4391,     3.6,  26.4671,  36.2243,2,  36.2218,4,    199.3,2,   198.0,2,    1.13,2,    0.08,2,    0.04,2,    0.01,2,   1.640,2,   1.024,2,   0.099,2,  2016.9,2,  2371.9,6,    -999,9,     -999,9,    -999,9,    -999,9,    -999,9,    -999,   1.506,2,   70.00,2,    3.90,2,    3.60,      531,  37.8356, -68.4549,    -999,     -999,    -999,   0.0860,2,   0.0570,2,   0.0220,2,   0.0140,2,   0.0260,2,   0.0260,2,  26.4663,    -999,9,       -999,9,    -999,9,    -999,9
 316N200310,        A22,      70,          1,         33,         33,2,20031111,       0348,    37.8448,   -68.4927,       4391,    25.1,  26.4784,  36.2244,2,  36.2226,4,    207.5,2,   198.0,2,    1.13,2,    0.08,2,    0.04,2,    0.01,2,   1.647,2,   1.037,2,   0.099,2,  2015.7,2,  2370.5,2,    -999,9,   1.7392,2,   -2.19,2,    -999,9,    -999,9,    -999,   1.487,2,   68.40,2,    3.30,3,   25.10,      530,  37.8354, -68.4565,    -999,   0.0087,    0.15,   0.0910,2,   0.0620,2,   0.0250,2,   0.0160,2,   0.0250,2,   0.0250,2,  26.4727,    -999,9,       -999,9,    -999,9,    -999,9
 316N200310,        A22,      70,          1,         32,         32,2,20031111,       0348,    37.8448,   -68.4927,       4391,    51.1,  25.9019,  36.3168,2,  36.3085,4,    204.9,2,   200.2,2,    1.03,2,    0.01,2,    0.00,2,    0.01,2,   1.683,2,   1.045,2,   0.097,2,  2019.3,2,  2370.5,2,    -999,9,   1.7820,2,   -1.87,2,    -999,9,    -999,9,    -999,   1.532,2,   69.70,2,    3.50,3,   51.10,      528,  37.8352, -68.4576,    -999,   0.0089,    0.15,   0.0740,2,   0.0490,2,   0.0180,2,   0.0110,2,   0.0280,2,   0.0280,2,  25.8905,    -999,9,       -999,9,    -999,9,    -999,9
 316N200310,        A22,      70,          1,         31,         31,2,20031111,       0348,    37.8448,   -68.4927,       4391,    74.9,  25.6292,  36.3500,2,  36.3469,4,    190.8,2,   200.8,2,    1.03,2,    0.06,2,    0.00,2,    0.01,2,   1.706,2,   1.068,2,   0.097,2,  2024.9,2,  2370.3,2,    -999,9,   1.7801,2,   -0.34,2,    -999,9,    -999,9,    -999,   1.577,2,   66.00,2,    2.80,4,   74.90,      526,  37.8350, -68.4592,    -999,   0.0089,    0.15,   0.0720,2,   0.0470,2,   0.0170,2,   0.0110,2,   0.0280,2,   0.0280,2,  25.6126,    -999,9,       -999,9,    -999,9,    -999,9
 316N200310,        A22,      70,          1,         30,         30,2,20031111,       0348,    37.8448,   -68.4927,       4391,    99.2,  25.5017,  36.3650,2,  36.3665,4,    183.3,2,   201.0,2,    1.02,2,    0.10,2,    0.01,2,    0.01,2,   1.708,2,   1.069,2,   0.093,2,  2027.1,2,  2372.9,2,    -999,9,   1.8051,2,    3.29,2,    -999,9,    -999,9,    -999,   1.532,2,   68.10,2,    3.80,3,   99.20,      525,  37.8349, -68.4601,    -999,   0.0090,    0.15,   0.0720,2,   0.0470,2,   0.0160,2,   0.0100,2,   0.0280,2,   0.0290,2,  25.4798,    -999,9,       -999,9,    -999,9,    -999,9
 316N200310,        A22,      70,          1,         29,         29,2,20031111,       0348,    37.8448,   -68.4927,       4391,   125.2,  20.8404,  35.9105,2,  36.0167,4,    188.5,2,   179.2,2,    2.41,2,    4.01,2,    0.17,2,    0.26,2,   1.978,2,   1.174,2,   0.081,2,  2083.4,2,  2359.9,2,    -999,9,   1.7805,2,    5.21,2,    -999,9,    -999,9,    -999,   0.948,2,   59.40,2,    6.40,4,  125.20,      524,  37.8349, -68.4609,    -999,   0.0089,    0.15,   0.1910,2,   0.1390,2,   0.0660,2,   0.0440,2,   0.0170,2,   0.0180,2,  20.8165,    -999,9,       -999,9,    -999,9,    -999,9
 316N200310,        A22,      70,          1,         28,         28,2,20031111,       0348,    37.8448,   -68.4927,       4391,   150.0,  18.3090,  36.0688,2,  36.0657,4,    157.6,2,   161.0,2,    4.62,2,    9.14,2,    0.06,2,    0.56,2,   1.966,2,   1.163,2,   0.051,2,  2122.6,2,  2368.1,2,    -999,9,   1.8073,2,    5.84,2,    -999,9,    -999,9,    -999,   0.559,2,   54.00,2,   10.40,4,  150.00,      523,  37.8349, -68.4616,    -999,   0.0090,    0.15,   0.1600,2,   0.1160,2,   0.0560,2,   0.0380,2,   0.0160,2,   0.0180,2,  18.2828,    -999,9,       -999,9,    -999,9,    -999,9
 316N200310,        A22,      70,          1,         27,         27,2,20031111,       0348,    37.8448,   -68.4927,       4391,   199.8,  15.0894,  35.9647,2,  35.9615,4,    135.8,2,   148.2,2,    6.03,2,   14.20,2,    0.02,2,    0.83,2,   1.885,2,   1.055,2,   0.021,2,  2155.9,2,  2357.5,2,    -999,9,   1.8116,2,    5.04,2,    -999,9,    -999,9,    -999,   0.298,2,   49.00,2,   13.70,4,  199.80,      522,  37.8350, -68.4625,    -999,   0.0091,    0.15,   0.1150,2,   0.0810,2,   0.0380,2,   0.0260,2,   0.0190,2,   0.0200,2,  15.0587,    -999,9,       -999,9,    -999,9,    -999,9
 316N200310,        A22,      70,          1,         26,         26,2,20031111,       0348,    37.8448,   -68.4927,       4391,   249.9,  13.0650,  35.6873,2,  35.6834,4,    149.0,2,   141.4,2,    8.15,2,   18.29,2,    0.02,2,    1.09,2,   1.570,2,   0.855,2,   0.014,2,  2169.2,2,  2343.5,2,    -999,9,   1.8146,2,    6.07,2,    -999,9,    -999,9,    -999,   0.262,2,   46.50,2,   17.70,4,  249.90,      520,  37.8350, -68.4636,    -999,   0.0091,    0.15,   0.1130,2,   0.0790,2,   0.0380,2,   0.0260,2,   0.0190,2,   0.0200,2,  13.0302,    -999,9,       -999,9,    -999,9,    -999,9
 316N200310,        A22,      70,          1,         25,         25,2,20031111,       0348,    37.8448,   -68.4927,       4391,   299.5,  11.6517,  35.4758,2,  35.4764,4,    142.7,2,   139.4,2,   10.17,2,   20.77,2,    0.03,2,    1.27,2,   1.377,2,   0.742,2,   0.021,2,  2177.7,2,  2332.2,2,    -999,9,   1.8408,2,    5.88,2,    -999,9,    -999,9,    -999,   0.325,2,   45.60,2,   19.40,4,  299.50,      519,  37.8351, -68.4645,    -999,   0.0092,    0.15,   0.1190,2,   0.0840,2,   0.0400,2,   0.0280,2,   0.0180,2,   0.0200,2,  11.6130,    -999,9,       -999,9,    -999,9,    -999,9
 316N200310,        A22,      70,          1,         24,         24,2,20031111,       0348,    37.8448,   -68.4927,       4391,   399.4,   9.3268,  35.2036,2,  35.2032,4,    134.8,2,   134.4,2,   14.66,2,   25.05,2,    0.02,2,    1.58,2,   0.814,2,   0.434,2,   0.013,2,  2194.8,2,  2318.9,6,    -999,9,   1.8511,2,    5.90,2,    -999,9,    -999,9,    -999,   0.288,2,   45.70,2,    -999,9,  399.40,      517,  37.8350, -68.4660,    -999,   0.0093,    0.15,   0.1200,2,   0.0840,2,   0.0410,2,   0.0290,2,   0.0170,2,   0.0190,2,   9.2818,    -999,9,       -999,9,    -999,9,    -999,9
 316N200310,        A22,      70,          1,         23,         23,2,20031111,       0348,    37.8448,   -68.4927,       4391,   499.9,   7.5697,  35.1073,2,  35.1071,4,    165.9,2,   166.1,2,   14.55,2,   23.51,2,    0.01,2,    1.50,2,   1.115,2,   0.578,2,   0.036,2,  2188.9,2,  2314.4,2,    -999,9,   1.8541,2,    6.18,2,    -999,9,    -999,9,    -999,   0.752,2,   42.40,2,    -999,9,  499.90,      514,  37.8350, -68.4676,    -999,   0.0093,    0.15,   0.1220,2,   0.0850,2,   0.0400,2,   0.0270,2,   0.0180,2,   0.0200,2,   7.5196,    -999,9,       -999,9,    -999,9,    -999,9
 316N200310,        A22,      70,          1,         22,         22,2,20031111,       0348,    37.8448,   -68.4927,       4391,   623.2,   5.8345,  35.0332,2,  35.0331,4,    208.8,2,   209.0,2,   13.12,2,   20.61,2,    0.01,2,    1.34,2,   1.721,2,   0.898,2,   0.089,2,  2178.1,2,  2310.0,2,    -999,9,   1.8411,2,    6.02,2,    -999,9,    -999,9,    -999,   1.470,2,    -999,9,    -999,9,  623.20,      511,  37.8352, -68.4686,    -999,   0.0092,    0.15,     -999,9,     -999,9,     -999,9,     -999,9,     -999,9,     -999,9,   5.7798,    -999,9,       -999,9,    -999,9,    -999,9
 316N200310,        A22,      70,          1,         21,         21,2,20031111,       0348,    37.8448,   -68.4927,       4391,   750.1,   5.1155,  35.0176,2,  35.0185,4,    231.8,2,   232.3,2,   12.29,2,   19.28,2,    0.01,2,    1.25,2,   1.957,2,   1.013,2,   0.099,2,  2171.8,2,  2308.7,2,    -999,9,   1.8347,2,    6.14,2,    -999,9,    -999,9,    -999,   1.800,2,   43.80,2,    -999,9,  750.10,      509,  37.8354, -68.4696,    -999,   0.0092,    0.15,     -999,9,     -999,9,     -999,9,     -999,9,     -999,9,     -999,9,   5.0531,    -999,9,       -999,9,    -999,9,    -999,9
 316N200310,        A22,      70,          1,         20,         20,2,20031111,       0348,    37.8448,   -68.4927,       4391,   900.4,   4.5655,  34.9947,2,  34.9937,4,    249.3,2,   248.2,2,   11.88,2,   18.35,2,    0.01,2,    1.19,2,   2.111,2,   1.073,2,   0.105,2,  2167.0,2,  2306.7,2,    -999,9,   1.8296,2,    6.09,2,    -999,9,    -999,9,    -999,   2.596,2,    -999,9,    -999,9,  900.40,      505,  37.8357, -68.4708,    -999,   0.0091,    0.15,     -999,9,     -999,9,     -999,9,     -999,9,     -999,9,     -999,9,   4.4933,    -999,9,       -999,9,    -999,9,    -999,9
 316N200310,        A22,      70,          1,         19,         19,2,20031111,       0348,    37.8448,   -68.4927,       4391,  1050.2,   4.2477,  34.9750,2,  34.9764,4,    256.9,2,   256.0,2,   11.78,2,   17.99,2,    0.01,2,    1.17,2,   2.169,2,   1.099,2,   0.112,2,  2163.7,2,  2306.3,2,    -999,9,   1.8378,2,    5.72,2,    -999,9,    -999,9,    -999,   2.233,2,   43.40,2,    -999,9, 1050.20,      502,  37.8360, -68.4720,    -999,   0.0092,    0.15,     -999,9,     -999,9,     -999,9,     -999,9,     -999,9,     -999,9,   4.1650,    -999,9,       -999,9,    -999,9,    -999,9
 316N200310,        A22,      70,          1,         18,         18,2,20031111,       0348,    37.8448,   -68.4927,       4391,  1201.6,   4.0763,  34.9698,2,  34.9695,4,    260.2,2,   259.7,2,   12.08,2,   17.93,2,    0.01,2,    1.16,2,   1.947,2,   0.984,2,   0.101,2,  2162.6,2,  2305.7,2,    -999,9,   1.8425,2,    5.33,2,    -999,9,    -999,9,    -999,   2.129,2,    -999,9,    -999,9, 1201.60,      458,  37.8363, -68.4732,    -999,   0.0092,    0.15,     -999,9,     -999,9,     -999,9,     -999,9,     -999,9,     -999,9,   3.9819,    -999,9,       -999,9,    -999,9,    -999,9
 316N200310,        A22,      70,          1,         17,         17,2,20031111,       0348,    37.8448,   -68.4927,       4391,  1324.8,   3.9273,  34.9592,2,  34.9593,4,    262.7,2,   263.0,2,   12.18,2,   17.83,2,    0.01,2,    1.16,2,   1.914,2,   0.958,2,   0.094,2,  2161.8,2,  2305.2,2,    -999,9,   1.8391,2,    5.42,2,    -999,9,    -999,9,    -999,   2.152,2,   44.60,2,    -999,9, 1324.80,      455,  37.8366, -68.4740,    -999,   0.0092,    0.15,     -999,9,     -999,9,     -999,9,     -999,9,     -999,9,     -999,9,   3.8236,    -999,9,       -999,9,    -999,9,    -999,9
 316N200310,        A22,      70,          1,         16,         16,2,20031111,       0348,    37.8448,   -68.4927,       4391,  1451.3,   3.8085,  34.9539,2,  34.9534,4,    264.4,2,   265.1,2,   12.48,2,   17.72,2,    0.01,2,    1.15,2,   1.811,2,   0.890,2,   0.086,2,  2160.5,2,  2305.4,2,    -999,9,   1.8406,2,    5.27,2,    -999,9,    -999,9,    -999,   2.117,2,    -999,9,    -999,9, 1451.30,      452,  37.8370, -68.4749,    -999,   0.0092,    0.15,     -999,9,     -999,9,     -999,9,     -999,9,     -999,9,     -999,9,   3.6949,    -999,9,       -999,9,    -999,9,    -999,9
 316N200310,        A22,      70,          1,         15,         15,2,20031111,       0348,    37.8448,   -68.4927,       4391,  1574.9,   3.7249,  34.9487,2,  34.9484,4,    266.3,2,   266.9,2,   12.59,2,   17.71,2,    0.01,2,    1.15,2,   1.763,6,   0.872,6,   0.087,6,  2160.4,2,  2305.7,2,    -999,9,   1.8410,2,    4.59,2,    -999,9,    -999,9,    -999,   2.072,6,   45.30,2,    -999,9, 1574.90,      449,  37.8373, -68.4758,    -999,   0.0092,    0.15,     -999,9,     -999,9,     -999,9,     -999,9,     -999,9,     -999,9,   3.6012,    -999,9,       -999,9,    -999,9,    -999,9
 316N200310,        A22,      70,          1,         14,         14,2,20031111,       0348,    37.8448,   -68.4927,       4391,  1700.4,   3.6029,  34.9417,2,  34.9418,4,    267.7,2,   268.4,2,   12.89,2,   17.65,2,    0.01,2,    1.15,2,   1.720,2,   0.848,2,   0.081,2,  2159.5,2,  2310.4,2,    -999,9,     -999,9,    -999,9,    -999,9,    -999,9,    -999,   2.066,2,   45.30,2,    -999,9, 1700.40,      447,  37.8377, -68.4766,    -999,     -999,    -999,     -999,9,     -999,9,     -999,9,     -999,9,     -999,9,     -999,9,   3.4693,    -999,9,       -999,9,    -999,9,    -999,9
 316N200310,        A22,      70,          1,         13,         13,2,20031111,       0348,    37.8448,   -68.4927,       4391,  1850.0,   3.5053,  34.9392,2,  34.9386,4,    268.7,2,   269.9,2,   13.29,2,   17.54,2,    0.01,2,    1.15,2,   1.613,2,   0.790,2,   0.074,2,  2159.0,2,  2306.1,2,    -999,9,   1.8509,2,    4.21,2,    -999,9,    -999,9,    -999,   1.965,2,    -999,9,    -999,9, 1850.00,      443,  37.8381, -68.4776,    -999,   0.0093,    0.15,     -999,9,     -999,9,     -999,9,     -999,9,     -999,9,     -999,9,   3.3592,    -999,9,       -999,9,    -999,9,    -999,9
 316N200310,        A22,      70,          1,         12,         12,2,20031111,       0348,    37.8448,   -68.4927,       4391,  1999.7,   3.4162,  34.9388,2,  34.9362,4,    268.8,2,   269.8,2,   13.90,2,   17.57,2,    0.01,2,    1.15,2,   1.485,2,   0.733,2,   0.065,2,  2159.4,2,  2308.9,2,    -999,9,     -999,9,    -999,9,    -999,9,    -999,9,    -999,   1.881,2,   43.50,2,    -999,9, 1999.70,      440,  37.8385, -68.4787,    -999,     -999,    -999,     -999,9,     -999,9,     -999,9,     -999,9,     -999,9,     -999,9,   3.2575,    -999,9,       -999,9,    -999,9,    -999,9
 316N200310,        A22,      70,          1,         11,         11,2,20031111,       0348,    37.8448,   -68.4927,       4391,  2251.0,   3.2831,  34.9434,2,  34.9421,4,    267.2,2,   268.0,2,   15.54,2,   17.62,2,    0.00,2,    1.15,2,   1.118,2,   0.554,2,   0.042,2,  2161.1,2,  2311.2,2,    -999,9,     -999,9,    -999,9,    -999,9,    -999,9,    -999,   1.512,2,    -999,9,    -999,9, 2251.00,      435,  37.8391, -68.4802,    -999,     -999,    -999,     -999,9,     -999,9,     -999,9,     -999,9,     -999,9,     -999,9,   3.1024,    -999,9,       -999,9,    -999,9,    -999,9
 316N200310,        A22,      70,          1,         10,         10,2,20031111,       0348,    37.8448,   -68.4927,       4391,  2500.2,   3.1293,  34.9442,2,  34.9441,4,    265.6,2,   266.4,2,   17.49,2,   17.82,2,    0.00,2,    1.17,2,   0.808,2,   0.407,2,   0.029,2,  2161.5,2,  2314.8,2,    -999,9,   1.8526,2,    3.80,2,    -999,9,    -999,9,    -999,   1.211,2,   42.40,2,    -999,9, 2500.20,      430,  37.8397, -68.4819,    -999,   0.0093,    0.15,     -999,9,     -999,9,     -999,9,     -999,9,     -999,9,     -999,9,   2.9270,    -999,9,       -999,9,    -999,9,    -999,9
 316N200310,        A22,      70,          1,          9,          9,2,20031111,       0348,    37.8448,   -68.4927,       4391,  2750.8,   2.8828,  34.9315,2,  34.9296,4,    267.4,2,   269.1,3,   18.51,2,   17.60,2,    0.00,2,    1.16,2,   0.898,2,   0.452,2,   0.031,2,  2162.0,2,  2313.6,2,    -999,9,     -999,9,    -999,9,    -999,9,    -999,9,    -999,   1.269,2,    -999,9,    -999,9, 2750.80,      425,  37.8403, -68.4834,    -999,     -999,    -999,     -999,9,     -999,9,     -999,9,     -999,9,     -999,9,     -999,9,   2.6602,    -999,9,       -999,9,    -999,9,    -999,9
 316N200310,        A22,      70,          1,          8,          8,2,20031111,       0348,    37.8448,   -68.4927,       4391,  3002.1,   2.6124,  34.9161,2,  34.9124,4,    269.7,2,   272.0,3,   19.34,2,   17.24,2,    0.00,2,    1.14,2,   1.162,2,   0.572,2,   0.038,2,  2162.5,2,  2315.9,2,    -999,9,     -999,9,    -999,9,    -999,9,    -999,9,    -999,   1.554,2,   41.70,2,    -999,9, 3002.10,      419,  37.8409, -68.4847,    -999,     -999,    -999,     -999,9,     -999,9,     -999,9,     -999,9,     -999,9,     -999,9,   2.3699,    -999,9,       -999,9,    -999,9,    -999,9
 316N200310,        A22,      70,          1,          7,          7,2,20031111,       0348,    37.8448,   -68.4927,       4391,  3202.2,   2.4791,  34.9117,2,  34.9101,4,    269.4,2,   270.1,2,   22.42,2,   17.63,2,    0.00,2,    1.18,2,   0.831,2,   0.419,2,   0.035,2,  2165.4,2,  2314.7,2,    -999,9,     -999,9,    -999,9,    -999,9,    -999,9,    -999,   1.273,2,    -999,9,    -999,9, 3202.20,      415,  37.8414, -68.4857,    -999,     -999,    -999,     -999,9,     -999,9,     -999,9,     -999,9,     -999,9,     -999,9,   2.2189,    -999,9,       -999,9,    -999,9,    -999,9
 316N200310,        A22,      70,          1,          6,          6,2,20031111,       0348,    37.8448,   -68.4927,       4391,  3402.4,   2.3457,  34.9033,2,  34.8995,4,    269.4,2,   269.7,2,   24.80,2,   17.93,2,    0.00,2,    1.20,2,   0.825,2,   0.415,2,   0.036,2,  2168.1,2,  2317.0,2,    -999,9,   1.9299,2,    4.01,2,    -999,9,    -999,9,    -999,   1.230,2,    -999,9,    -999,9, 3402.40,      411,  37.8420, -68.4864,    -999,   0.0096,    0.15,     -999,9,     -999,9,     -999,9,     -999,9,     -999,9,     -999,9,   2.0675,    -999,9,       -999,9,    -999,9,    -999,9
 316N200310,        A22,      70,          1,          5,          5,2,20031111,       0348,    37.8448,   -68.4927,       4391,  3601.0,   2.2768,  34.8974,2,  34.8947,4,    269.4,2,   269.2,2,   26.67,2,   18.08,2,    0.00,2,    1.21,2,   0.867,2,   0.432,2,   0.038,2,  2171.1,2,  2318.7,2,    -999,9,     -999,9,    -999,9,    -999,9,    -999,9,    -999,   1.286,2,   42.90,2,    -999,9, 3601.00,      406,  37.8425, -68.4874,    -999,     -999,    -999,     -999,9,     -999,9,     -999,9,     -999,9,     -999,9,     -999,9,   1.9791,    -999,9,       -999,9,    -999,9,    -999,9
 316N200310,        A22,      70,          1,          4,          4,2,20031111,       0348,    37.8448,   -68.4927,       4391,  3800.0,   2.2405,  34.8931,2,  34.8906,4,    268.5,2,   269.8,2,   26.87,2,   18.02,2,    0.00,2,    1.20,2,   1.055,2,   0.533,2,   0.053,2,  2171.2,2,  2319.2,2,    -999,9,     -999,9,    -999,9,    -999,9,    -999,9,    -999,   1.429,2,    -999,9,    -999,9, 3800.00,      402,  37.8431, -68.4886,    -999,     -999,    -999,     -999,9,     -999,9,     -999,9,     -999,9,     -999,9,     -999,9,   1.9219,    -999,9,       -999,9,    -999,9,    -999,9
 316N200310,        A22,      70,          1,          3,          3,2,20031111,       0348,    37.8448,   -68.4927,       4391,  3999.0,   2.2217,  34.8900,2,  34.8871,4,    268.5,2,   267.9,2,   29.47,2,   18.46,2,    0.00,2,    1.24,2,   0.901,2,   0.457,2,   0.047,2,  2174.9,2,  2322.0,2,    -999,9,   1.9036,2,    4.44,2,    -999,9,    -999,9,    -999,   1.258,2,   42.00,2,    -999,9, 3999.00,      358,  37.8436, -68.4899,    -999,   0.0095,    0.15,     -999,9,     -999,9,     -999,9,     -999,9,     -999,9,     -999,9,   1.8814,    -999,9,       -999,9,    -999,9,    -999,9