BOTTLE,20220517CCHSIOLMM
EXPOCODE,SECT_ID,STNNBR,CASTNO,SAMPNO,BTLNBR,BTLNBR_FLAG_W,DATE,TIME,LATITUDE,LONGITUDE,DEPTH,CTDPRS,CTDTMP,CTDSAL,CTDSAL_FLAG_W,SALNTY,SALNTY_FLAG_W,CTDOXY,CTDOXY_FLAG_W,OXYGEN,OXYGEN_FLAG_W,SILCAT,SILCAT_FLAG_W,NITRAT,NITRAT_FLAG_W,NITRIT,NITRIT_FLAG_W,PHSPHT,PHSPHT_FLAG_W,CFC-11,CFC-11_FLAG_W,CFC-12,CFC-12_FLAG_W,CFC113,CFC113_FLAG_W,TCARBN,TCARBN_FLAG_W,ALKALI,ALKALI_FLAG_W,TRITUM,TRITUM_FLAG_W,HELIUM,HELIUM_FLAG_W,DELHE3,DELHE3_FLAG_W,DELC13,DELC13_FLAG_W,DELC14,DELC14_FLAG_W,C14ERR,CCL4,CCL4_FLAG_W,DOC,DOC_FLAG_W,TDN,TDN_FLAG_W,CTDRAW,BTL_TIME,BTL_LAT,BTL_LON,TRITER,HELIER,DELHER,CDOM325,CDOM325_FLAG_W,CDOM340,CDOM340_FLAG_W,CDOM380,CDOM380_FLAG_W,CDOM412,CDOM412_FLAG_W,CDOMSL,CDOMSL_FLAG_W,CDOMSN,CDOMSN_FLAG_W,THETA,BACT,BACT_FLAG_W,PROC,PROC_FLAG_W,SYN,SYN_FLAG_W,PEUK,PEUK_FLAG_W
,,,,,,,,,,,METERS,DBAR,ITS-90,PSS-78,,PSS-78,,UMOL/KG,,UMOL/KG,,UMOL/KG,,UMOL/KG,,UMOL/KG,,UMOL/KG,,PMOL/KG,,PMOL/KG,,PMOL/KG,,UMOL/KG,,UMOL/KG,,TU,,NMOL/KG,,PERCNT,,/MILLE,,/MILLE,,/MILLE,PMOL/KG,,UMOL/KG,,UMOL/KG,,DBAR,,,,TU,NMOL/KG,PERCNT,1/M,,1/M,,1/M,,1/M,,1/NM,,1/NM,,DEG C,E8/L,,E7/L,,E6/L,,E6/L,
 316N200310,        A22,      39,          1,         36,         36,2,20031101,       1222,    22.1932,   -65.9693,       5645,     7.5,  28.1000,  36.6170,2,  36.6154,2,    201.1,2,   197.4,2,    0.83,2,    0.20,2,    0.00,2,    0.01,2,   1.605,2,   0.984,2,   0.132,2,  2025.2,2,  2395.2,2,    -999,9,     -999,9,    -999,9,    -999,9,    -999,9,    -999,    -999,9,    -999,9,    -999,9,    7.50,     1445,  22.1950, -65.9363,    -999,     -999,    -999,   0.0560,2,   0.0370,2,   0.0120,2,   0.0070,2,   0.0290,2,   0.0290,2,  28.0982,    -999,9,       -999,9,    -999,9,    -999,9
 316N200310,        A22,      39,          1,         35,         35,2,20031101,       1222,    22.1932,   -65.9693,       5645,    49.3,  27.3707,  36.6726,2,  36.6715,2,    206.4,2,   206.9,2,    0.72,2,    0.15,2,    0.00,2,    0.01,2,   1.701,2,   1.061,2,   0.152,2,    -999,9,    -999,9,    -999,9,     -999,9,    -999,9,    -999,9,    -999,9,    -999,    -999,9,    -999,9,    -999,9,   49.30,     1443,  22.1952, -65.9370,    -999,     -999,    -999,   0.0560,2,   0.0340,2,   0.0090,2,   0.0050,2,   0.0340,2,   0.0350,2,  27.3592,    -999,9,       -999,9,    -999,9,    -999,9
 316N200310,        A22,      39,          1,         34,         34,2,20031101,       1222,    22.1932,   -65.9693,       5645,    74.0,  26.2881,  36.8511,2,  36.8451,2,    208.6,2,   209.1,2,    0.72,2,    0.20,2,    0.00,2,    0.01,2,   1.773,2,   1.085,2,   0.152,2,  2043.3,2,  2409.4,2,    -999,9,     -999,9,    -999,9,    -999,9,    -999,9,    -999,    -999,9,    -999,9,    -999,9,   74.00,     1442,  22.1953, -65.9375,    -999,     -999,    -999,   0.0850,2,   0.0530,2,   0.0180,2,   0.0110,2,   0.0300,2,   0.0300,2,  26.2713,    -999,9,       -999,9,    -999,9,    -999,9
 316N200310,        A22,      39,          1,         33,         33,2,20031101,       1222,    22.1932,   -65.9693,       5645,   100.8,  23.9037,  36.9756,2,  36.9697,2,    198.4,2,   202.0,2,    0.42,2,    0.14,2,    0.00,2,    0.01,2,   1.928,2,   1.164,2,   0.128,2,    -999,9,    -999,9,   0.815,2,   1.7175,2,   -2.60,2,    -999,9,    -999,9,    -999,    -999,9,    -999,9,    -999,9,  100.80,     1440,  22.1954, -65.9381,   0.012,   0.0086,    0.15,   0.1150,2,   0.0790,2,   0.0330,2,   0.0230,2,   0.0230,2,   0.0240,2,  23.8824,    -999,9,       -999,9,    -999,9,    -999,9
 316N200310,        A22,      39,          1,         32,         32,2,20031101,       1222,    22.1932,   -65.9693,       5645,   149.5,  21.2001,  36.8599,2,  36.8570,2,    186.8,2,   187.8,2,    0.41,2,    0.97,2,    0.02,2,    0.02,2,   2.123,2,   1.248,2,   0.092,2,  2098.4,2,  2406.3,2,    -999,9,     -999,9,    -999,9,    -999,9,    -999,9,    -999,    -999,9,    -999,9,    -999,9,  149.50,     1438,  22.1955, -65.9386,    -999,     -999,    -999,   0.1080,2,   0.0770,2,   0.0330,2,   0.0240,2,   0.0210,2,   0.0220,2,  21.1710,    -999,9,       -999,9,    -999,9,    -999,9
 316N200310,        A22,      39,          1,         31,         31,2,20031101,       1222,    22.1932,   -65.9693,       5645,   200.8,  19.7292,  36.7823,2,  36.7853,2,    177.4,2,   181.4,2,    0.71,2,    2.74,2,    0.01,2,    0.09,2,   2.241,2,   1.299,2,   0.032,2,  2116.2,2,  2402.1,2,   0.938,2,   1.7352,2,   -3.15,2,    -999,9,    -999,9,    -999,    -999,9,    -999,9,    -999,9,  200.80,     1436,  22.1957, -65.9392,   0.013,   0.0087,    0.15,   0.1060,2,   0.0750,2,   0.0330,2,   0.0250,2,   0.0210,2,   0.0220,2,  19.6920,    -999,9,       -999,9,    -999,9,    -999,9
 316N200310,        A22,      39,          1,         30,         30,2,20031101,       1222,    22.1932,   -65.9693,       5645,   251.4,  18.5847,  36.6279,2,  36.6249,2,    181.8,2,   174.8,2,    1.20,2,    6.02,2,    0.00,2,    0.27,2,   2.279,2,   1.297,2,   0.015,2,  2125.8,2,  2391.1,2,   1.019,2,   1.7267,2,   -2.21,2,    -999,9,    -999,9,    -999,    -999,9,    -999,9,    -999,9,  251.40,     1434,  22.1957, -65.9398,   0.013,   0.0086,    0.15,   0.0880,2,   0.0620,2,   0.0260,2,   0.0190,2,   0.0230,2,   0.0230,2,  18.5400,    -999,9,       -999,9,    -999,9,    -999,9
 316N200310,        A22,      39,          1,         29,         29,2,20031101,       1222,    22.1932,   -65.9693,       5645,   299.1,  17.8467,  36.5074,2,  36.5052,2,    174.5,2,   175.8,2,    1.60,2,    7.18,2,    0.00,2,    0.35,2,   2.302,6,   1.309,6,   0.024,6,  2126.2,2,  2384.2,2,    -999,9,   1.7661,2,   -1.56,2,    -999,9,    -999,9,    -999,    -999,9,    -999,9,    -999,9,  299.10,     1432,  22.1958, -65.9403,    -999,   0.0088,    0.15,   0.0860,2,   0.0600,2,   0.0250,2,   0.0170,2,   0.0240,2,   0.0240,2,  17.7950,    -999,9,       -999,9,    -999,9,    -999,9
 316N200310,        A22,      39,          1,         28,         28,2,20031101,       1222,    22.1932,   -65.9693,       5645,   401.4,  16.1199,  36.2159,2,  36.2149,2,    164.7,2,   164.1,2,    3.00,2,   11.29,2,    0.00,2,    0.61,2,   2.215,2,   1.222,2,   0.023,2,    -999,9,    -999,9,   1.140,2,   1.7436,2,   -1.21,2,    -999,9,    -999,9,    -999,    -999,9,    -999,9,    -999,9,  401.40,     1430,  22.1957, -65.9410,   0.018,   0.0087,    0.15,   0.0940,2,   0.0650,2,   0.0280,2,   0.0180,2,   0.0230,2,   0.0230,2,  16.0551,    -999,9,       -999,9,    -999,9,    -999,9
 316N200310,        A22,      39,          1,         27,         27,2,20031101,       1222,    22.1932,   -65.9693,       5645,   501.8,  14.1610,  35.9091,2,  35.9103,2,    165.4,2,   163.5,2,    4.60,2,   14.26,2,    0.00,2,    0.80,2,   2.025,2,   1.067,2,   0.035,2,  2150.0,2,  2352.3,2,    -999,9,   1.7620,2,   -1.32,2,    -999,9,    -999,9,    -999,    -999,9,    -999,9,    -999,9,  501.80,     1427,  22.1955, -65.9417,    -999,   0.0088,    0.15,   0.0960,2,   0.0660,2,   0.0280,2,   0.0190,2,   0.0230,2,   0.0240,2,  14.0866,    -999,9,       -999,9,    -999,9,    -999,9
 316N200310,        A22,      39,          1,         26,         26,2,20031101,       1222,    22.1932,   -65.9693,       5645,   627.5,  11.4965,  35.4903,2,  35.4886,2,    142.1,2,   142.3,2,    9.21,2,   20.92,2,    0.00,2,    1.26,2,   1.202,2,   0.617,2,   0.019,2,    -999,9,    -999,9,    -999,9,   1.7532,2,    3.01,2,    -999,9,    -999,9,    -999,    -999,9,    -999,9,    -999,9,  627.50,     1424,  22.1953, -65.9425,    -999,   0.0088,    0.15,     -999,9,     -999,9,     -999,9,     -999,9,     -999,9,     -999,9,  11.4150,    -999,9,       -999,9,    -999,9,    -999,9
 316N200310,        A22,      39,          1,         25,         25,2,20031101,       1222,    22.1932,   -65.9693,       5645,   751.8,   9.2372,  35.1923,2,  35.1930,2,    138.8,2,   136.3,2,   14.16,2,   25.25,2,    0.00,2,    1.59,2,   0.568,2,   0.290,2,   0.010,2,    -999,9,    -999,9,   1.294,2,   1.7677,2,    5.79,2,    -999,9,    -999,9,    -999,    -999,9,    -999,9,    -999,9,  751.80,     1420,  22.1952, -65.9434,   0.014,   0.0088,    0.15,   0.1090,2,   0.0750,2,   0.0350,2,   0.0240,2,   0.0200,2,   0.0210,2,   9.1514,    -999,9,       -999,9,    -999,9,    -999,9
 316N200310,        A22,      39,          1,         24,         24,2,20031101,       1222,    22.1932,   -65.9693,       5645,   821.9,   7.9625,  35.0498,2,  35.0502,2,    135.4,2,   137.3,2,   17.49,2,   27.21,2,    0.00,2,    1.77,2,   0.322,2,   0.176,2,   0.006,2,  2199.6,2,  2318.7,2,   1.077,2,   1.7849,2,    7.57,2,    -999,9,    -999,9,    -999,    -999,9,    -999,9,    -999,9,  821.90,     1418,  22.1951, -65.9440,   0.013,   0.0089,    0.15,     -999,9,     -999,9,     -999,9,     -999,9,     -999,9,     -999,9,   7.8762,    -999,9,       -999,9,    -999,9,    -999,9
 316N200310,        A22,      39,          1,         23,         23,2,20031101,       1222,    22.1932,   -65.9693,       5645,   900.7,   7.0869,  34.9659,2,  34.9650,2,    141.2,2,   141.2,2,   19.72,2,   28.20,2,    0.00,2,    1.86,2,   0.205,6,   0.119,6,   0.013,6,    -999,9,    -999,9,   0.742,2,   1.8027,2,    6.47,2,    -999,9,    -999,9,    -999,   0.125,2,    -999,9,    -999,9,  900.70,     1415,  22.1949, -65.9446,   0.012,   0.0090,    0.15,     -999,9,     -999,9,     -999,9,     -999,9,     -999,9,     -999,9,   6.9978,    -999,9,       -999,9,    -999,9,    -999,9
 316N200310,        A22,      39,          1,         22,         22,2,20031101,       1222,    22.1932,   -65.9693,       5645,  1052.1,   6.5300,  35.0461,2,  35.0455,2,    174.1,2,   174.5,2,   16.87,2,   24.45,2,    0.00,2,    1.59,2,   0.391,2,   0.195,2,   0.011,2,    -999,9,    -999,9,    -999,9,   1.7994,2,    4.53,2,    -999,9,    -999,9,    -999,    -999,9,    -999,9,    -999,9, 1052.10,     1411,  22.1948, -65.9456,    -999,   0.0090,    0.15,   0.1180,2,   0.0810,2,   0.0380,2,   0.0250,2,   0.0200,2,   0.0210,2,   6.4290,    -999,9,       -999,9,    -999,9,    -999,9
 316N200310,        A22,      39,          1,         21,         21,2,20031101,       1222,    22.1932,   -65.9693,       5645,  1202.5,   5.4734,  35.0442,2,  35.0439,2,    206.2,2,   211.0,2,   15.25,2,   21.57,2,    0.00,2,    1.40,2,   0.625,2,   0.296,2,   0.021,2,    -999,9,    -999,9,   0.221,2,   1.8209,2,    2.05,2,    -999,9,    -999,9,    -999,    -999,9,    -999,9,    -999,9, 1202.50,     1407,  22.1947, -65.9466,   0.010,   0.0091,    0.15,     -999,9,     -999,9,     -999,9,     -999,9,     -999,9,     -999,9,   5.3662,    -999,9,       -999,9,    -999,9,    -999,9
 316N200310,        A22,      39,          1,         20,         20,2,20031101,       1222,    22.1932,   -65.9693,       5645,  1352.7,   4.8664,  35.0415,2,  35.0421,2,    233.6,2,   236.4,2,   13.12,2,   19.55,2,    0.00,2,    1.26,2,   0.925,2,   0.463,2,   0.035,2,    -999,9,    -999,9,   0.207,2,   1.8074,2,    2.61,2,    -999,9,    -999,9,    -999,    -999,9,    -999,9,    -999,9, 1352.70,     1403,  22.1946, -65.9476,   0.010,   0.0090,    0.15,     -999,9,     -999,9,     -999,9,     -999,9,     -999,9,     -999,9,   4.7505,    -999,9,       -999,9,    -999,9,    -999,9
 316N200310,        A22,      39,          1,         19,         19,2,20031101,       1222,    22.1932,   -65.9693,       5645,  1504.4,   4.3955,  35.0137,2,  35.0144,2,    249.2,2,   249.6,2,   12.81,2,   18.84,2,    0.00,2,    1.21,2,   1.045,2,   0.503,2,   0.036,2,    -999,9,    -999,9,   0.235,2,   1.8549,2,    2.01,2,    -999,9,    -999,9,    -999,    -999,9,    -999,9,    -999,9, 1504.40,     1400,  22.1945, -65.9485,   0.010,   0.0093,    0.15,     -999,9,     -999,9,     -999,9,     -999,9,     -999,9,     -999,9,   4.2704,    -999,9,       -999,9,    -999,9,    -999,9
 316N200310,        A22,      39,          1,         18,         18,2,20031101,       1222,    22.1932,   -65.9693,       5645,  1652.5,   4.0648,  34.9903,2,  34.9906,2,    258.0,2,   257.4,2,   12.91,2,   18.51,2,    0.00,2,    1.19,2,   1.088,2,   0.528,2,   0.045,2,    -999,9,    -999,9,    -999,9,   1.8271,2,    4.29,2,    -999,9,    -999,9,    -999,    -999,9,    -999,9,    -999,9, 1652.50,     1356,  22.1944, -65.9493,    -999,   0.0091,    0.15,     -999,9,     -999,9,     -999,9,     -999,9,     -999,9,     -999,9,   3.9297,    -999,9,       -999,9,    -999,9,    -999,9
 316N200310,        A22,      39,          1,         17,         17,2,20031101,       1222,    22.1932,   -65.9693,       5645,  1802.1,   3.8333,  34.9784,2,  34.9787,2,    261.9,2,   261.0,2,   13.51,2,   18.36,2,    0.00,2,    1.18,2,   1.006,2,   0.489,2,   0.048,2,    -999,9,    -999,9,   0.597,2,   1.8281,2,    5.26,2,    -999,9,    -999,9,    -999,    -999,9,    -999,9,    -999,9, 1802.10,     1352,  22.1943, -65.9502,   0.012,   0.0091,    0.15,     -999,9,     -999,9,     -999,9,     -999,9,     -999,9,     -999,9,   3.6871,    -999,9,       -999,9,    -999,9,    -999,9
 316N200310,        A22,      39,          1,         16,         16,2,20031101,       1222,    22.1932,   -65.9693,       5645,  2002.5,   3.6172,  34.9732,2,  34.9736,2,    262.2,2,   261.6,2,   15.13,2,   18.40,2,    0.00,2,    1.19,2,   0.760,2,   0.371,2,   0.027,2,    -999,9,    -999,9,   0.468,2,   1.8310,2,    3.76,2,    -999,9,    -999,9,    -999,    -999,9,    -999,9,    -999,9, 2002.50,     1347,  22.1941, -65.9512,   0.011,   0.0092,    0.15,     -999,9,     -999,9,     -999,9,     -999,9,     -999,9,     -999,9,   3.4551,    -999,9,       -999,9,    -999,9,    -999,9
 316N200310,        A22,      39,          1,         15,         15,2,20031101,       1222,    22.1932,   -65.9693,       5645,  2252.7,   3.4028,  34.9708,2,  34.9715,2,    261.5,2,   260.1,2,   17.75,2,   18.68,2,    0.00,2,    1.21,2,   0.431,2,   0.211,2,   0.022,2,    -999,9,    -999,9,    -999,9,   1.8496,2,    2.41,2,    -999,9,    -999,9,    -999,    -999,9,    -999,9,    -999,9, 2252.70,     1342,  22.1939, -65.9524,    -999,   0.0092,    0.15,     -999,9,     -999,9,     -999,9,     -999,9,     -999,9,     -999,9,   3.2199,    -999,9,       -999,9,    -999,9,    -999,9
 316N200310,        A22,      39,          1,         14,         14,2,20031101,       1222,    22.1932,   -65.9693,       5645,  2503.4,   3.1553,  34.9577,2,  34.9579,2,    260.6,2,   260.7,2,   20.07,2,   18.78,2,    0.00,2,    1.23,2,   0.336,2,   0.158,2,   0.008,2,    -999,9,    -999,9,    -999,9,     -999,9,    -999,9,    -999,9,    -999,9,    -999,    -999,9,    -999,9,    -999,9, 2503.40,     1336,  22.1939, -65.9536,    -999,     -999,    -999,     -999,9,     -999,9,     -999,9,     -999,9,     -999,9,     -999,9,   2.9521,    -999,9,       -999,9,    -999,9,    -999,9
 316N200310,        A22,      39,          1,         13,         13,2,20031101,       1222,    22.1932,   -65.9693,       5645,  2751.9,   2.9194,  34.9438,2,  34.9443,2,    260.7,2,   260.4,2,   23.11,2,   19.02,2,    0.00,2,    1.25,2,   0.282,2,   0.137,2,   0.009,2,    -999,9,    -999,9,   0.239,2,   1.8592,2,    1.71,2,    -999,9,    -999,9,    -999,    -999,9,    -999,9,    -999,9, 2751.90,     1330,  22.1939, -65.9547,   0.010,   0.0093,    0.15,     -999,9,     -999,9,     -999,9,     -999,9,     -999,9,     -999,9,   2.6959,    -999,9,       -999,9,    -999,9,    -999,9
 316N200310,        A22,      39,          1,         12,         12,2,20031101,       1222,    22.1932,   -65.9693,       5645,  3002.3,   2.7381,  34.9308,2,  34.9309,2,    263.1,2,   263.1,2,   23.72,2,   18.82,2,    0.00,2,    1.24,2,   0.367,2,   0.170,2,   0.007,2,    -999,9,    -999,9,    -999,9,     -999,9,    -999,9,    -999,9,    -999,9,    -999,    -999,9,    -999,9,    -999,9, 3002.30,     1325,  22.1939, -65.9558,    -999,     -999,    -999,     -999,9,     -999,9,     -999,9,     -999,9,     -999,9,     -999,9,   2.4928,    -999,9,       -999,9,    -999,9,    -999,9
 316N200310,        A22,      39,          1,         11,         11,2,20031101,       1222,    22.1932,   -65.9693,       5645,  3227.5,   2.6086,  34.9229,2,  34.9223,2,    261.0,2,   260.7,2,   27.99,2,   19.44,2,    0.00,2,    1.28,2,   0.187,2,   0.091,2,   0.007,2,    -999,9,    -999,9,   0.295,2,   1.8612,2,    2.41,2,    -999,9,    -999,9,    -999,    -999,9,    -999,9,    -999,9, 3227.50,     1319,  22.1938, -65.9568,   0.010,   0.0093,    0.15,     -999,9,     -999,9,     -999,9,     -999,9,     -999,9,     -999,9,   2.3427,    -999,9,       -999,9,    -999,9,    -999,9
 316N200310,        A22,      39,          1,         10,         10,2,20031101,       1222,    22.1932,   -65.9693,       5645,  3501.3,   2.4628,  34.9120,2,  34.9117,2,    264.9,2,   265.8,2,   26.45,2,   18.81,2,    0.00,2,    1.25,2,   0.384,2,   0.184,2,   0.022,2,    -999,9,    -999,9,    -999,9,     -999,9,    -999,9,    -999,9,    -999,9,    -999,    -999,9,    -999,9,    -999,9, 3501.30,     1314,  22.1938, -65.9580,    -999,     -999,    -999,     -999,9,     -999,9,     -999,9,     -999,9,     -999,9,     -999,9,   2.1711,    -999,9,       -999,9,    -999,9,    -999,9
 316N200310,        A22,      39,          1,          9,          9,2,20031101,       1222,    22.1932,   -65.9693,       5645,  3752.2,   2.3753,  34.9052,2,  34.9046,2,    265.8,2,   266.0,2,   27.46,2,   18.76,2,    0.00,2,    1.25,2,   0.397,2,   0.190,2,   0.015,2,    -999,9,    -999,9,   0.375,2,   1.8651,2,    3.02,2,    -999,9,    -999,9,    -999,    -999,9,    -999,9,    -999,9, 3752.20,     1308,  22.1938, -65.9592,   0.011,   0.0093,    0.15,     -999,9,     -999,9,     -999,9,     -999,9,     -999,9,     -999,9,   2.0584,    -999,9,       -999,9,    -999,9,    -999,9
 316N200310,        A22,      39,          1,          8,          8,2,20031101,       1222,    22.1932,   -65.9693,       5645,  3999.4,   2.3305,  34.9005,2,  34.8993,2,    266.0,2,   266.1,2,   28.89,2,   18.91,2,    0.00,2,    1.26,2,   0.384,2,   0.184,2,   0.022,2,    -999,9,    -999,9,    -999,9,     -999,9,    -999,9,    -999,9,    -999,9,    -999,    -999,9,    -999,9,    -999,9, 3999.40,     1303,  22.1936, -65.9604,    -999,     -999,    -999,     -999,9,     -999,9,     -999,9,     -999,9,     -999,9,     -999,9,   1.9871,    -999,9,       -999,9,    -999,9,    -999,9
 316N200310,        A22,      39,          1,          7,          7,2,20031101,       1222,    22.1932,   -65.9693,       5645,  4251.3,   2.3066,  34.8967,2,  34.8955,2,    264.8,2,   265.2,2,   30.61,2,   19.00,2,    0.00,2,    1.28,2,   0.348,2,   0.167,2,   0.021,2,    -999,9,    -999,9,   0.354,2,   1.8933,2,    3.07,2,    -999,9,    -999,9,    -999,    -999,9,    -999,9,    -999,9, 4251.30,     1258,  22.1935, -65.9616,   0.011,   0.0095,    0.15,     -999,9,     -999,9,     -999,9,     -999,9,     -999,9,     -999,9,   1.9347,    -999,9,       -999,9,    -999,9,    -999,9
 316N200310,        A22,      39,          1,          6,          6,2,20031101,       1222,    22.1932,   -65.9693,       5645,  4500.5,   2.2860,  34.8920,2,  34.8904,2,    263.4,2,   263.4,2,   32.75,2,   19.42,2,    0.00,2,    1.30,2,   0.341,2,   0.170,2,   0.015,2,    -999,9,    -999,9,    -999,9,     -999,9,    -999,9,    -999,9,    -999,9,    -999,    -999,9,    -999,9,    -999,9, 4500.50,     1253,  22.1933, -65.9627,    -999,     -999,    -999,     -999,9,     -999,9,     -999,9,     -999,9,     -999,9,     -999,9,   1.8853,    -999,9,       -999,9,    -999,9,    -999,9
 316N200310,        A22,      39,          1,          5,          5,2,20031101,       1222,    22.1932,   -65.9693,       5645,  4749.9,   2.2586,  34.8859,2,  34.8857,2,    260.8,2,   261.7,2,   36.31,2,   19.94,2,    0.00,2,    1.34,2,   0.256,2,   0.130,2,   0.015,2,    -999,9,    -999,9,    -999,9,     -999,9,    -999,9,    -999,9,    -999,9,    -999,    -999,9,    -999,9,    -999,9, 4749.90,     1247,  22.1933, -65.9639,    -999,     -999,    -999,     -999,9,     -999,9,     -999,9,     -999,9,     -999,9,     -999,9,   1.8285,    -999,9,       -999,9,    -999,9,    -999,9