BOTTLE,20220517CCHSIOLMM
EXPOCODE,SECT_ID,STNNBR,CASTNO,SAMPNO,BTLNBR,BTLNBR_FLAG_W,DATE,TIME,LATITUDE,LONGITUDE,DEPTH,CTDPRS,CTDTMP,CTDSAL,CTDSAL_FLAG_W,SALNTY,SALNTY_FLAG_W,CTDOXY,CTDOXY_FLAG_W,OXYGEN,OXYGEN_FLAG_W,SILCAT,SILCAT_FLAG_W,NITRAT,NITRAT_FLAG_W,NITRIT,NITRIT_FLAG_W,PHSPHT,PHSPHT_FLAG_W,CFC-11,CFC-11_FLAG_W,CFC-12,CFC-12_FLAG_W,CFC113,CFC113_FLAG_W,TCARBN,TCARBN_FLAG_W,ALKALI,ALKALI_FLAG_W,TRITUM,TRITUM_FLAG_W,HELIUM,HELIUM_FLAG_W,DELHE3,DELHE3_FLAG_W,DELC13,DELC13_FLAG_W,DELC14,DELC14_FLAG_W,C14ERR,CCL4,CCL4_FLAG_W,DOC,DOC_FLAG_W,TDN,TDN_FLAG_W,CTDRAW,BTL_TIME,BTL_LAT,BTL_LON,TRITER,HELIER,DELHER,CDOM325,CDOM325_FLAG_W,CDOM340,CDOM340_FLAG_W,CDOM380,CDOM380_FLAG_W,CDOM412,CDOM412_FLAG_W,CDOMSL,CDOMSL_FLAG_W,CDOMSN,CDOMSN_FLAG_W,THETA,BACT,BACT_FLAG_W,PROC,PROC_FLAG_W,SYN,SYN_FLAG_W,PEUK,PEUK_FLAG_W
,,,,,,,,,,,METERS,DBAR,ITS-90,PSS-78,,PSS-78,,UMOL/KG,,UMOL/KG,,UMOL/KG,,UMOL/KG,,UMOL/KG,,UMOL/KG,,PMOL/KG,,PMOL/KG,,PMOL/KG,,UMOL/KG,,UMOL/KG,,TU,,NMOL/KG,,PERCNT,,/MILLE,,/MILLE,,/MILLE,PMOL/KG,,UMOL/KG,,UMOL/KG,,DBAR,,,,TU,NMOL/KG,PERCNT,1/M,,1/M,,1/M,,1/M,,1/NM,,1/NM,,DEG C,E8/L,,E7/L,,E6/L,,E6/L,
 316N200310,        A22,      20,          1,         27,         27,2,20031028,       1508,    17.6612,   -65.9975,       2114,     2.2,  29.3213,  35.1061,2,  35.1138,2,    182.9,2,   193.8,2,    1.01,2,    0.11,2,    0.00,2,    0.02,2,   1.510,6,   0.946,6,   0.121,6,  1960.7,2,  2310.3,6,    -999,9,     -999,9,    -999,9,    -999,9,    -999,9,    -999,    -999,9,    -999,9,    -999,9,    2.20,     1615,  17.6612, -65.9975,    -999,     -999,    -999,   0.0970,2,   0.0670,2,   0.0290,2,   0.0200,2,   0.0230,2,   0.0230,2,  29.3208,    -999,9,       -999,9,    -999,9,    -999,9
 316N200310,        A22,      20,          1,         26,         26,2,20031028,       1508,    17.6612,   -65.9975,       2114,    25.1,  29.2441,  35.1150,2,  35.1134,2,    195.0,2,   193.9,2,    1.01,2,    0.11,2,    0.00,2,    0.01,2,   1.513,2,   0.956,2,   0.114,2,    -999,9,    -999,9,    -999,9,     -999,9,    -999,9,    -999,9,    -999,9,    -999,    -999,9,    -999,9,    -999,9,   25.10,     1613,  17.6612, -65.9975,    -999,     -999,    -999,     -999,9,     -999,9,     -999,9,     -999,9,     -999,9,     -999,9,  29.2380,    -999,9,       -999,9,    -999,9,    -999,9
 316N200310,        A22,      20,          1,         25,         25,2,20031028,       1508,    17.6612,   -65.9975,       2114,    50.0,  28.2057,  36.3593,2,  36.2806,2,    200.1,2,   199.6,2,    0.81,2,    0.05,2,    0.00,2,    0.02,2,    -999,9,    -999,9,    -999,9,    -999,9,    -999,9,    -999,9,     -999,9,    -999,9,    -999,9,    -999,9,    -999,    -999,9,    -999,9,    -999,9,   50.00,     1611,  17.6612, -65.9975,    -999,     -999,    -999,   0.1160,2,   0.0760,2,   0.0280,2,   0.0160,2,   0.0270,2,   0.0270,2,  28.1938,    -999,9,       -999,9,    -999,9,    -999,9
 316N200310,        A22,      20,          1,         24,         24,2,20031028,       1508,    17.6612,   -65.9975,       2114,    75.0,  27.1423,  36.7596,2,  36.7518,2,    201.1,2,   200.4,2,    0.71,2,    0.05,2,    0.00,2,    0.02,2,   1.682,2,   1.053,2,   0.121,2,    -999,9,    -999,9,    -999,9,     -999,9,    -999,9,    -999,9,    -999,9,    -999,    -999,9,    -999,9,    -999,9,   75.00,     1609,  17.6612, -65.9975,    -999,     -999,    -999,     -999,9,     -999,9,     -999,9,     -999,9,     -999,9,     -999,9,  27.1249,    -999,9,       -999,9,    -999,9,    -999,9
 316N200310,        A22,      20,          1,         23,         23,2,20031028,       1508,    17.6612,   -65.9975,       2114,    99.7,  26.1598,  37.0069,2,  36.9977,2,    197.6,2,   196.7,2,    0.61,2,   -0.04,2,    0.04,2,    0.01,2,    -999,9,    -999,9,    -999,9,    -999,9,    -999,9,    -999,9,     -999,9,    -999,9,    -999,9,    -999,9,    -999,    -999,9,    -999,9,    -999,9,   99.70,     1607,  17.6612, -65.9975,    -999,     -999,    -999,   0.1190,2,   0.0820,2,   0.0350,2,   0.0240,2,   0.0220,2,   0.0230,2,  26.1373,    -999,9,       -999,9,    -999,9,    -999,9
 316N200310,        A22,      20,          1,         22,         22,2,20031028,       1508,    17.6612,   -65.9975,       2114,   125.1,  25.1427,  37.1983,2,  37.2097,2,    190.6,2,   190.6,2,    0.52,2,    0.41,2,    0.08,2,    0.03,2,   1.803,2,   1.107,2,   0.133,2,    -999,9,    -999,9,   0.722,2,   1.7206,2,   -0.68,2,    -999,9,    -999,9,    -999,    -999,9,    -999,9,    -999,9,  125.10,     1606,  17.6612, -65.9975,   0.013,   0.0086,    0.15,     -999,9,     -999,9,     -999,9,     -999,9,     -999,9,     -999,9,  25.1152,    -999,9,       -999,9,    -999,9,    -999,9
 316N200310,        A22,      20,          1,         21,         21,2,20031028,       1508,    17.6612,   -65.9975,       2114,   149.7,  24.1329,  37.2525,2,  37.2501,2,    188.1,2,   188.2,2,    0.32,2,    0.59,2,    0.04,2,    0.04,2,    -999,9,    -999,9,    -999,9,    -999,9,    -999,9,    -999,9,     -999,9,    -999,9,    -999,9,    -999,9,    -999,    -999,9,    -999,9,    -999,9,  149.70,     1604,  17.6612, -65.9975,    -999,     -999,    -999,     -999,9,     -999,9,     -999,9,     -999,9,     -999,9,     -999,9,  24.1010,    -999,9,       -999,9,    -999,9,    -999,9
 316N200310,        A22,      20,          1,         20,         20,2,20031028,       1508,    17.6612,   -65.9975,       2114,   200.3,  21.0835,  36.9865,2,  36.9812,2,    177.7,2,   178.7,2,    0.53,2,    1.79,2,    0.02,2,    0.08,2,   2.026,6,   1.228,6,   0.040,6,    -999,9,    -999,9,   0.902,2,   1.7331,2,   -0.38,2,    -999,9,    -999,9,    -999,   0.198,2,    -999,9,    -999,9,  200.30,     1602,  17.6612, -65.9975,   0.013,   0.0087,    0.15,   0.1210,2,   0.0880,2,   0.0420,2,   0.0310,2,   0.0160,2,   0.0180,2,  21.0447,    -999,9,       -999,9,    -999,9,    -999,9
 316N200310,        A22,      20,          1,         19,         19,2,20031028,       1508,    17.6612,   -65.9975,       2114,   249.8,  19.0179,  36.6815,2,  36.6760,2,    181.0,2,   182.3,2,    0.83,2,    3.82,2,    0.01,2,    0.18,2,    -999,9,    -999,9,    -999,9,    -999,9,    -999,9,    -999,9,     -999,9,    -999,9,    -999,9,    -999,9,    -999,    -999,9,    -999,9,    -999,9,  249.80,     1600,  17.6612, -65.9975,    -999,     -999,    -999,     -999,9,     -999,9,     -999,9,     -999,9,     -999,9,     -999,9,  18.9728,    -999,9,       -999,9,    -999,9,    -999,9
 316N200310,        A22,      20,          1,         18,         18,2,20031028,       1508,    17.6612,   -65.9975,       2114,   300.0,  17.8136,  36.4951,2,  36.4925,2,    181.9,2,   181.5,2,    1.43,2,    6.13,2,    0.01,2,    0.32,2,   2.285,2,   1.288,2,   0.029,2,    -999,9,    -999,9,   1.103,2,   1.7506,2,    0.11,2,    -999,9,    -999,9,    -999,    -999,9,    -999,9,    -999,9,  300.00,     1558,  17.6612, -65.9975,   0.014,   0.0088,    0.15,   0.0900,2,   0.0620,2,   0.0260,2,   0.0180,2,   0.0240,2,   0.0240,2,  17.7619,    -999,9,       -999,9,    -999,9,    -999,9
 316N200310,        A22,      20,          1,         17,         17,2,20031028,       1508,    17.6612,   -65.9975,       2114,   399.5,  15.1777,  36.0437,2,  36.0396,2,    152.2,2,   152.2,2,    4.26,2,   13.42,2,    0.01,2,    0.77,2,   2.028,2,   1.098,2,   0.028,2,    -999,9,    -999,9,    -999,9,     -999,9,    -999,9,    -999,9,    -999,9,    -999,    -999,9,    -999,9,    -999,9,  399.50,     1555,  17.6612, -65.9975,    -999,     -999,    -999,   0.1070,2,   0.0750,2,   0.0340,2,   0.0240,2,   0.0200,2,   0.0210,2,  15.1158,    -999,9,       -999,9,    -999,9,    -999,9
 316N200310,        A22,      20,          1,         16,         16,2,20031028,       1508,    17.6612,   -65.9975,       2114,   500.2,  13.0088,  35.6785,2,  35.6763,2,    140.4,2,   138.9,2,    7.26,2,   18.56,2,    0.01,2,    1.11,2,   1.617,2,   0.858,2,   0.026,2,    -999,9,    -999,9,   1.180,2,   1.8045,2,    3.03,2,    -999,9,    -999,9,    -999,    -999,9,    -999,9,    -999,9,  500.20,     1553,  17.6612, -65.9975,   0.014,   0.0090,    0.15,   0.1360,2,   0.1010,2,   0.0540,2,   0.0400,2,   0.0130,2,   0.0150,2,  12.9388,    -999,9,       -999,9,    -999,9,    -999,9
 316N200310,        A22,      20,          1,         15,         15,2,20031028,       1508,    17.6612,   -65.9975,       2114,   599.9,   9.9154,  35.2121,2,  35.2097,2,    127.9,2,   128.1,2,   13.21,2,   25.35,2,    0.00,2,    1.59,2,   0.846,2,   0.448,2,   0.010,2,    -999,9,    -999,9,   1.241,2,   1.7891,2,    6.36,2,    -999,9,    -999,9,    -999,    -999,9,    -999,9,    -999,9,  599.90,     1550,  17.6612, -65.9975,   0.014,   0.0089,    0.15,   0.1150,2,   0.0780,2,   0.0370,2,   0.0260,2,   0.0190,2,   0.0210,2,   9.8445,    -999,9,       -999,9,    -999,9,    -999,9
 316N200310,        A22,      20,          1,         14,         14,2,20031028,       1508,    17.6612,   -65.9975,       2114,   699.9,   7.8143,  34.9307,2,  34.9239,2,    126.5,2,   127.6,2,   18.94,2,   29.47,2,    0.00,2,    1.91,2,   0.404,2,   0.206,2,   0.003,2,    -999,9,    -999,9,    -999,9,     -999,9,    -999,9,    -999,9,    -999,9,    -999,    -999,9,    -999,9,    -999,9,  699.90,     1547,  17.6612, -65.9975,    -999,     -999,    -999,   0.1180,2,   0.0810,2,   0.0400,2,   0.0290,2,   0.0170,2,   0.0190,2,   7.7422,    -999,9,       -999,9,    -999,9,    -999,9
 316N200310,        A22,      20,          1,         13,         13,2,20031028,       1508,    17.6612,   -65.9975,       2114,   800.4,   6.7803,  34.8820,2,  34.8808,2,    136.7,2,   138.0,2,   21.47,2,   29.61,2,    0.00,2,    1.95,2,   0.215,2,   0.114,2,   0.008,2,    -999,9,    -999,9,   0.710,2,   1.8149,2,    9.52,2,    -999,9,    -999,9,    -999,    -999,9,    -999,9,    -999,9,  800.40,     1544,  17.6612, -65.9975,   0.013,   0.0091,    0.15,     -999,9,     -999,9,     -999,9,     -999,9,     -999,9,     -999,9,   6.7036,    -999,9,       -999,9,    -999,9,    -999,9
 316N200310,        A22,      20,          1,         12,         12,2,20031028,       1508,    17.6612,   -65.9975,       2114,   899.8,   6.0672,  34.9033,2,  34.9058,2,    155.0,2,   156.4,2,   22.08,2,   27.99,2,    0.00,2,    1.87,2,   0.167,2,   0.088,2,    -999,9,    -999,9,    -999,9,    -999,9,     -999,9,    -999,9,    -999,9,    -999,9,    -999,    -999,9,    -999,9,    -999,9,  899.80,     1541,  17.6612, -65.9975,    -999,     -999,    -999,   0.1210,2,   0.0810,2,   0.0380,2,   0.0250,2,   0.0200,2,   0.0220,2,   5.9850,    -999,9,       -999,9,    -999,9,    -999,9
 316N200310,        A22,      20,          1,         11,         11,2,20031028,       1508,    17.6612,   -65.9975,       2114,  1000.7,   5.5830,  34.9355,2,  34.9353,2,    173.9,2,   173.4,2,   22.38,2,   26.14,2,    0.00,2,    1.74,2,   0.170,2,   0.087,2,   0.011,2,    -999,9,    -999,9,   0.191,2,   1.8299,2,    4.73,2,    -999,9,    -999,9,    -999,    -999,9,    -999,9,    -999,9, 1000.70,     1538,  17.6612, -65.9975,   0.011,   0.0091,    0.15,     -999,9,     -999,9,     -999,9,     -999,9,     -999,9,     -999,9,   5.4945,    -999,9,       -999,9,    -999,9,    -999,9
 316N200310,        A22,      20,          1,         10,         10,2,20031028,       1508,    17.6612,   -65.9975,       2114,  1099.5,   4.9612,  34.9548,2,  34.9555,2,    192.1,2,   191.7,2,   23.39,2,   24.33,2,    0.00,2,    1.64,2,   0.127,2,   0.069,2,    -999,9,    -999,9,    -999,9,   0.171,2,   1.8499,2,    4.14,2,    -999,9,    -999,9,    -999,    -999,9,    -999,9,    -999,9, 1099.50,     1536,  17.6612, -65.9975,   0.011,   0.0092,    0.15,     -999,9,     -999,9,     -999,9,     -999,9,     -999,9,     -999,9,   4.8683,    -999,9,       -999,9,    -999,9,    -999,9
 316N200310,        A22,      20,          1,          9,          9,2,20031028,       1508,    17.6612,   -65.9975,       2114,  1200.1,   4.5722,  34.9693,2,  34.9701,2,    206.0,2,   205.2,2,   23.40,2,   22.92,2,    0.00,2,    1.55,2,   0.170,2,   0.094,2,   0.009,2,    -999,9,    -999,9,   0.146,2,   2.5771,2,    7.14,2,    -999,9,    -999,9,    -999,    -999,9,    -999,9,    -999,9, 1200.10,     1533,  17.6612, -65.9975,   0.011,   0.0129,    0.15,     -999,9,     -999,9,     -999,9,     -999,9,     -999,9,     -999,9,   4.4734,    -999,9,       -999,9,    -999,9,    -999,9
 316N200310,        A22,      20,          1,          8,          8,2,20031028,       1508,    17.6612,   -65.9975,       2114,  1329.1,   4.3975,  34.9754,2,  34.9768,2,    213.6,2,   213.8,2,   22.89,2,   22.12,2,    0.00,2,    1.49,2,   0.250,2,   0.123,2,    -999,9,    -999,9,    -999,9,    -999,9,   1.9627,2,    3.80,2,    -999,9,    -999,9,    -999,    -999,9,    -999,9,    -999,9, 1329.10,     1529,  17.6611, -65.9975,    -999,   0.0098,    0.15,   0.1270,2,   0.0880,2,   0.0400,2,   0.0250,2,   0.0200,2,   0.0210,2,   4.2886,    -999,9,       -999,9,    -999,9,    -999,9
 316N200310,        A22,      20,          1,          7,          7,2,20031028,       1508,    17.6612,   -65.9975,       2114,  1439.4,   4.3361,  34.9786,2,  34.9803,2,    219.8,2,   219.3,2,   22.09,2,   21.62,2,    0.00,2,    1.47,2,   0.339,2,   0.172,2,   0.014,2,    -999,9,    -999,9,   0.061,2,   1.8802,2,    2.60,2,    -999,9,    -999,9,    -999,    -999,9,    -999,9,    -999,9, 1439.40,     1526,  17.6611, -65.9975,   0.011,   0.0094,    0.15,     -999,9,     -999,9,     -999,9,     -999,9,     -999,9,     -999,9,   4.2178,    -999,9,       -999,9,    -999,9,    -999,9
 316N200310,        A22,      20,          1,          6,          6,2,20031028,       1508,    17.6612,   -65.9975,       2114,  1539.6,   4.2635,  34.9814,2,  34.9817,2,    226.2,2,   227.0,2,   20.68,2,   20.97,2,    0.00,2,    1.41,2,   0.452,2,   0.232,2,   0.020,2,    -999,9,    -999,9,   0.051,2,   1.8933,2,    2.58,2,    -999,9,    -999,9,    -999,    -999,9,    -999,9,    -999,9, 1539.60,     1524,  17.6611, -65.9975,   0.010,   0.0095,    0.15,     -999,9,     -999,9,     -999,9,     -999,9,     -999,9,     -999,9,   4.1366,    -999,9,       -999,9,    -999,9,    -999,9
 316N200310,        A22,      20,          1,          5,          5,2,20031028,       1508,    17.6612,   -65.9975,       2114,  1589.4,   4.1945,  34.9762,2,  34.9780,2,    219.3,2,   218.5,2,   24.11,2,   21.81,2,    0.00,2,    1.47,2,   0.218,2,   0.112,2,   0.005,2,    -999,9,    -999,9,   0.077,2,   1.8909,2,    2.31,2,    -999,9,    -999,9,    -999,    -999,9,    -999,9,    -999,9, 1589.40,     1522,  17.6611, -65.9975,   0.011,   0.0095,    0.15,     -999,9,     -999,9,     -999,9,     -999,9,     -999,9,     -999,9,   4.0638,    -999,9,       -999,9,    -999,9,    -999,9
 316N200310,        A22,      20,          1,          4,          4,2,20031028,       1508,    17.6612,   -65.9975,       2114,  1679.9,   4.1574,  34.9793,2,  34.9801,2,    225.1,2,   225.4,2,   22.40,2,   21.11,2,    0.00,2,    1.43,2,   0.360,2,   0.182,2,   0.014,2,    -999,9,    -999,9,   0.051,2,   1.8995,2,    2.92,2,    -999,9,    -999,9,    -999,    -999,9,    -999,9,    -999,9, 1679.90,     1519,  17.6611, -65.9975,   0.011,   0.0095,    0.15,     -999,9,     -999,9,     -999,9,     -999,9,     -999,9,     -999,9,   4.0185,    -999,9,       -999,9,    -999,9,    -999,9
 316N200310,        A22,      20,          1,          3,          3,2,20031028,       1508,    17.6612,   -65.9975,       2114,  1800.5,   4.1402,  34.9821,2,  34.9833,2,    233.8,2,   233.9,2,   19.89,2,   20.31,2,    0.00,2,    1.36,2,   0.545,2,   0.279,2,   0.024,2,    -999,9,    -999,9,   0.082,2,   1.9520,2,    2.99,2,    -999,9,    -999,9,    -999,    -999,9,    -999,9,    -999,9, 1800.50,     1516,  17.6611, -65.9975,   0.011,   0.0098,    0.15,     -999,9,     -999,9,     -999,9,     -999,9,     -999,9,     -999,9,   3.9900,    -999,9,       -999,9,    -999,9,    -999,9
 316N200310,        A22,      20,          1,          2,          2,2,20031028,       1508,    17.6612,   -65.9975,       2114,  1949.4,   4.1241,  34.9804,2,  34.9817,2,    231.1,2,   231.5,2,   21.20,2,   20.56,2,    0.00,2,    1.39,2,   0.468,2,   0.235,2,   0.020,2,    -999,9,    -999,9,   0.135,2,   1.8864,2,    2.74,2,    -999,9,    -999,9,    -999,    -999,9,    -999,9,    -999,9, 1949.40,     1513,  17.6611, -65.9975,   0.013,   0.0094,    0.15,     -999,9,     -999,9,     -999,9,     -999,9,     -999,9,     -999,9,   3.9597,    -999,9,       -999,9,    -999,9,    -999,9
 316N200310,        A22,      20,          1,          1,          1,2,20031028,       1508,    17.6612,   -65.9975,       2114,  2070.2,   4.1090,  34.9777,2,  34.9787,2,    223.6,2,   224.0,2,   24.02,2,   21.30,2,    0.00,2,    1.44,2,   0.275,2,   0.144,2,   0.011,2,    -999,9,    -999,9,    -999,9,     -999,9,    -999,9,    -999,9,    -999,9,    -999,    -999,9,    -999,9,    -999,9, 2070.20,     1510,  17.6612, -65.9975,    -999,     -999,    -999,   0.1260,2,   0.0870,2,   0.0390,2,   0.0240,2,   0.0210,2,   0.0220,2,   3.9329,    -999,9,       -999,9,    -999,9,    -999,9