BOTTLE,20220517CCHSIOLMM
EXPOCODE,SECT_ID,STNNBR,CASTNO,SAMPNO,BTLNBR,BTLNBR_FLAG_W,DATE,TIME,LATITUDE,LONGITUDE,DEPTH,CTDPRS,CTDTMP,CTDSAL,CTDSAL_FLAG_W,SALNTY,SALNTY_FLAG_W,CTDOXY,CTDOXY_FLAG_W,OXYGEN,OXYGEN_FLAG_W,SILCAT,SILCAT_FLAG_W,NITRAT,NITRAT_FLAG_W,NITRIT,NITRIT_FLAG_W,PHSPHT,PHSPHT_FLAG_W,CFC-11,CFC-11_FLAG_W,CFC-12,CFC-12_FLAG_W,CFC113,CFC113_FLAG_W,TCARBN,TCARBN_FLAG_W,ALKALI,ALKALI_FLAG_W,TRITUM,TRITUM_FLAG_W,HELIUM,HELIUM_FLAG_W,DELHE3,DELHE3_FLAG_W,DELC13,DELC13_FLAG_W,DELC14,DELC14_FLAG_W,C14ERR,CCL4,CCL4_FLAG_W,DOC,DOC_FLAG_W,TDN,TDN_FLAG_W,CTDRAW,BTL_TIME,BTL_LAT,BTL_LON,TRITER,HELIER,DELHER,CDOM325,CDOM325_FLAG_W,CDOM340,CDOM340_FLAG_W,CDOM380,CDOM380_FLAG_W,CDOM412,CDOM412_FLAG_W,CDOMSL,CDOMSL_FLAG_W,CDOMSN,CDOMSN_FLAG_W,THETA,BACT,BACT_FLAG_W,PROC,PROC_FLAG_W,SYN,SYN_FLAG_W,PEUK,PEUK_FLAG_W
,,,,,,,,,,,METERS,DBAR,ITS-90,PSS-78,,PSS-78,,UMOL/KG,,UMOL/KG,,UMOL/KG,,UMOL/KG,,UMOL/KG,,UMOL/KG,,PMOL/KG,,PMOL/KG,,PMOL/KG,,UMOL/KG,,UMOL/KG,,TU,,NMOL/KG,,PERCNT,,/MILLE,,/MILLE,,/MILLE,PMOL/KG,,UMOL/KG,,UMOL/KG,,DBAR,,,,TU,NMOL/KG,PERCNT,1/M,,1/M,,1/M,,1/M,,1/NM,,1/NM,,DEG C,E8/L,,E7/L,,E6/L,,E6/L,
 316N200310,        A22,      24,          1,          4,          4,2,20031029,       0730,    17.9667,   -65.1393,       4248,  3849.8,   3.9954,  34.9824,2,  34.9837,4,    257.9,2,   258.1,2,   14.89,2,   18.26,2,    0.00,2,    1.20,2,   0.527,2,   0.278,2,   0.043,2,  2163.5,2,  2317.8,2,    -999,9,     -999,9,    -999,9,    -999,9,    -999,9,    -999,    -999,9,    -999,9,    -999,9, 3849.80,      745,  17.9687, -65.1405,    -999,     -999,    -999,     -999,9,     -999,9,     -999,9,     -999,9,     -999,9,     -999,9,   3.6240,    -999,9,       -999,9,    -999,9,    -999,9
 316N200310,        A22,      24,          1,          3,          3,2,20031029,       0730,    17.9667,   -65.1393,       4248,  3999.8,   4.0144,  34.9827,2,  34.9839,4,    257.7,2,   258.0,2,   14.90,2,   18.31,2,    0.00,2,    1.20,2,   0.519,2,   0.269,2,   0.046,2,  2162.6,2,  2319.1,2,    -999,9,     -999,9,    -999,9,    -999,9,    -999,9,    -999,    -999,9,   39.60,2,    -999,9, 3999.80,      742,  17.9683, -65.1402,    -999,     -999,    -999,     -999,9,     -999,9,     -999,9,     -999,9,     -999,9,     -999,9,   3.6241,    -999,9,       -999,9,    -999,9,    -999,9
 316N200310,        A22,      24,          1,          2,          2,2,20031029,       0730,    17.9667,   -65.1393,       4248,  4249.2,   4.0448,  34.9824,2,  34.9815,4,    257.5,2,   258.0,2,   14.90,2,   18.20,2,    0.01,2,    1.21,2,   0.529,2,   0.269,2,   0.050,2,  2164.1,2,  2318.3,2,    -999,9,     -999,9,    -999,9,    -999,9,    -999,9,    -999,    -999,9,    -999,9,    -999,9, 4249.20,      736,  17.9676, -65.1399,    -999,     -999,    -999,     -999,9,     -999,9,     -999,9,     -999,9,     -999,9,     -999,9,   3.6223,    -999,9,       -999,9,    -999,9,    -999,9
 316N200310,        A22,      24,          1,          1,          1,2,20031029,       0730,    17.9667,   -65.1393,       4248,  4499.2,   4.0781,  34.9823,2,  34.9807,4,    257.2,2,   257.6,2,   15.01,2,   18.25,2,    0.01,2,    1.21,2,   0.541,2,   0.283,2,   0.051,2,  2163.9,2,    -999,9,    -999,9,     -999,9,    -999,9,    -999,9,    -999,9,    -999,    -999,9,   42.90,2,    -999,9, 4499.20,      731,  17.9668, -65.1395,    -999,     -999,    -999,     -999,9,     -999,9,     -999,9,     -999,9,     -999,9,     -999,9,   3.6225,    -999,9,       -999,9,    -999,9,    -999,9
 316N200310,        A22,      25,          1,         10,         10,2,20031029,       1658,    18.4977,   -66.0010,        245,     2.9,  29.5239,  34.6710,2,  34.6698,2,    134.7,2,   195.5,2,    1.49,2,    0.16,2,    0.01,2,    0.02,2,   1.539,2,   0.941,2,   0.070,2,  1941.4,2,  2289.8,6,    -999,9,     -999,9,    -999,9,    -999,9,    -999,9,    -999,   1.502,2,   66.70,2,    4.60,2,    2.90,     1713,  18.5002, -65.9993,    -999,     -999,    -999,   0.1520,2,   0.1060,2,   0.0430,2,   0.0250,2,   0.0220,2,   0.0230,2,  29.5232,    7.07,2,       5.69,2,   72.12,2,    2.22,2
 316N200310,        A22,      25,          1,          9,          9,2,20031029,       1658,    18.4977,   -66.0010,        245,    26.0,  29.4343,  35.4559,2,  35.4553,2,    194.7,2,   193.6,2,    1.00,2,    0.11,2,    0.00,2,    0.01,2,   1.527,2,   0.938,2,   0.089,2,  1973.7,2,  2327.0,2,    -999,9,     -999,9,    -999,9,    -999,9,    -999,9,    -999,   1.572,2,    -999,9,    4.70,2,   26.00,     1711,  18.4996, -65.9998,    -999,     -999,    -999,   0.0720,2,   0.0440,2,   0.0120,2,   0.0060,2,   0.0330,2,   0.0330,2,  29.4280,    6.64,2,       8.05,2,   11.77,2,    0.46,2
 316N200310,        A22,      25,          1,          7,          7,2,20031029,       1658,    18.4977,   -66.0010,        245,    50.7,  29.1647,  36.2717,2,  36.2879,2,    200.3,2,   199.5,2,    0.80,2,    0.11,2,    0.00,2,    0.01,2,   1.934,6,   1.131,6,   0.015,6,  2009.1,2,  2377.3,2,    -999,9,     -999,9,    -999,9,    -999,9,    -999,9,    -999,   1.428,2,   74.00,2,    4.70,2,   50.70,     1708,  18.4986, -66.0005,    -999,     -999,    -999,   0.0750,2,   0.0470,2,   0.0150,2,   0.0080,2,   0.0310,2,   0.0310,2,  29.1523,    3.87,2,       8.77,2,    3.18,2,    0.36,2
 316N200310,        A22,      25,          1,          8,          8,9,20031029,       1658,    18.4977,   -66.0010,        245,    51.0,  29.1395,  36.3000,2,     -999,9,    201.2,2,    -999,9,    -999,9,    -999,9,    -999,9,    -999,9,    -999,9,    -999,9,    -999,9,    -999,9,    -999,9,    -999,9,     -999,9,    -999,9,    -999,9,    -999,9,    -999,    -999,9,   69.90,2,    -999,9,   51.00,     1709,  18.4988, -66.0004,    -999,     -999,    -999,     -999,9,     -999,9,     -999,9,     -999,9,     -999,9,     -999,9,  29.1271,    -999,9,       -999,9,    -999,9,    -999,9
 316N200310,        A22,      25,          1,          6,          6,2,20031029,       1658,    18.4977,   -66.0010,        245,    74.6,  27.5322,  36.7177,2,  36.7127,2,    209.3,2,   208.9,2,    0.80,2,    0.10,2,    0.02,2,    0.01,2,   1.823,2,   1.082,2,   0.068,2,  2029.6,2,  2399.3,2,    -999,9,     -999,9,    -999,9,    -999,9,    -999,9,    -999,   1.139,2,   76.60,2,    5.00,2,   74.60,     1707,  18.4983, -66.0006,    -999,     -999,    -999,   0.1180,2,   0.0750,2,   0.0260,2,   0.0160,2,   0.0280,2,   0.0290,2,  27.5147,    4.04,2,       8.94,2,    1.41,2,    0.00,2
 316N200310,        A22,      25,          1,          5,          5,2,20031029,       1658,    18.4977,   -66.0010,        245,    99.6,  26.0979,  36.9255,2,  36.9354,2,    195.8,2,   195.7,2,    0.59,2,    0.28,2,    0.17,2,    0.02,2,   1.786,2,   1.130,2,   0.078,2,  2060.0,2,  2413.9,2,    -999,9,     -999,9,    -999,9,    -999,9,    -999,9,    -999,   0.799,2,   67.10,2,    5.40,2,   99.60,     1705,  18.4980, -66.0008,    -999,     -999,    -999,   0.1140,2,   0.0780,2,   0.0310,2,   0.0200,2,   0.0240,2,   0.0250,2,  26.0755,    3.49,2,       2.11,2,    0.04,2,    0.00,2
 316N200310,        A22,      25,          1,          4,          4,2,20031029,       1658,    18.4977,   -66.0010,        245,   125.2,  24.3500,  37.1385,2,  37.1364,2,    188.6,2,   188.1,2,    0.40,2,    0.68,2,    0.07,2,    0.04,2,   1.907,2,   1.183,2,   0.094,2,  2090.2,2,  2424.7,2,    -999,9,     -999,9,    -999,9,    -999,9,    -999,9,    -999,   0.571,2,   65.80,2,    4.60,2,  125.20,     1704,  18.4979, -66.0009,    -999,     -999,    -999,   0.1170,2,   0.0820,2,   0.0350,2,   0.0240,2,   0.0210,2,   0.0230,2,  24.3231,    2.47,2,       0.79,2,    0.01,2,    0.00,2
 316N200310,        A22,      25,          1,          3,          3,2,20031029,       1658,    18.4977,   -66.0010,        245,   150.3,  23.1094,  37.1683,2,  37.1600,2,    181.5,2,   181.6,2,    0.29,2,    1.11,2,    0.03,2,    0.05,2,   1.990,2,   1.224,2,   0.076,2,  2110.3,2,  2423.6,2,    -999,9,     -999,9,    -999,9,    -999,9,    -999,9,    -999,   0.381,2,   54.00,2,    4.80,2,  150.30,     1702,  18.4978, -66.0009,    -999,     -999,    -999,   0.1190,2,   0.0840,2,   0.0380,2,   0.0280,2,   0.0180,2,   0.0200,2,  23.0783,    1.99,2,       0.48,2,    0.05,2,    0.55,2
 316N200310,        A22,      25,          1,          2,          2,2,20031029,       1658,    18.4977,   -66.0010,        245,   193.7,  20.7836,  36.9370,2,  36.9300,2,    174.7,2,   174.9,2,    0.69,2,    2.83,2,    0.02,2,    0.15,2,   2.141,6,   1.291,6,   0.034,6,  2122.7,2,  2409.0,2,    -999,9,     -999,9,    -999,9,    -999,9,    -999,9,    -999,   0.237,6,    -999,9,    -999,9,  193.70,     1700,  18.4978, -66.0009,    -999,     -999,    -999,     -999,9,     -999,9,     -999,9,     -999,9,     -999,9,     -999,9,  20.7464,    -999,9,       -999,9,    -999,9,    -999,9
 316N200310,        A22,      25,          1,          1,          1,2,20031029,       1658,    18.4977,   -66.0010,        245,   228.4,  19.2603,  36.7152,2,  36.7155,2,    175.3,2,   175.3,2,    1.08,2,    4.45,2,    0.02,2,    0.20,2,   2.246,2,   1.316,2,   0.012,2,  2123.3,2,  2395.7,2,    -999,9,     -999,9,    -999,9,    -999,9,    -999,9,    -999,   0.280,2,   47.70,2,    8.90,2,  228.40,     1658,  18.4976, -66.0009,    -999,     -999,    -999,   0.1020,2,   0.0710,2,   0.0300,2,   0.0210,2,   0.0230,2,   0.0240,2,  19.2187,    1.13,2,       0.00,2,    0.01,2,    0.22,2
 316N200310,        A22,      26,          1,         15,         15,2,20031029,       1837,    18.5785,   -65.9950,        905,     2.6,  29.2036,  34.8060,2,  34.8505,2,    171.2,2,   194.7,2,    1.47,2,    0.12,2,    0.00,2,    0.01,2,   1.535,2,   0.951,2,   0.098,2,  1945.1,2,  2292.3,6,    -999,9,     -999,9,    -999,9,    -999,9,    -999,9,    -999,   1.638,2,    -999,9,    -999,9,    2.60,     1908,  18.5755, -65.9889,    -999,     -999,    -999,     -999,9,     -999,9,     -999,9,     -999,9,     -999,9,     -999,9,  29.2030,    -999,9,       -999,9,    -999,9,    -999,9
 316N200310,        A22,      26,          1,         14,         14,2,20031029,       1837,    18.5785,   -65.9950,        905,    25.0,  29.3437,  35.7659,2,  35.7572,2,    195.3,2,   193.9,2,    0.98,2,    0.07,2,    0.00,2,    0.01,2,   1.548,2,   0.935,2,   0.094,2,  1988.2,2,  2341.8,2,    -999,9,     -999,9,    -999,9,    -999,9,    -999,9,    -999,   1.574,2,    -999,9,    -999,9,   25.00,     1907,  18.5759, -65.9893,    -999,     -999,    -999,     -999,9,     -999,9,     -999,9,     -999,9,     -999,9,     -999,9,  29.3376,    -999,9,       -999,9,    -999,9,    -999,9
 316N200310,        A22,      26,          1,         13,         13,2,20031029,       1837,    18.5785,   -65.9950,        905,    44.4,  29.2687,  36.1220,2,  36.0829,2,    196.6,2,   196.9,2,    0.78,2,    0.13,2,    0.00,2,    0.01,2,   1.574,2,   0.954,2,   0.081,2,  2001.2,2,  2361.6,2,    -999,9,     -999,9,    -999,9,    -999,9,    -999,9,    -999,   1.449,2,    -999,9,    -999,9,   44.40,     1904,  18.5765, -65.9898,    -999,     -999,    -999,     -999,9,     -999,9,     -999,9,     -999,9,     -999,9,     -999,9,  29.2579,    -999,9,       -999,9,    -999,9,    -999,9
 316N200310,        A22,      26,          1,         12,         12,2,20031029,       1837,    18.5785,   -65.9950,        905,    74.9,  27.4927,  36.7371,2,  36.7290,2,    212.9,2,   213.0,2,    0.77,2,    0.12,2,    0.00,2,    0.01,2,   1.734,2,   1.072,2,   0.069,2,  2027.5,2,  2402.1,2,    -999,9,     -999,9,    -999,9,    -999,9,    -999,9,    -999,   1.061,2,    -999,9,    -999,9,   74.90,     1903,  18.5767, -65.9900,    -999,     -999,    -999,     -999,9,     -999,9,     -999,9,     -999,9,     -999,9,     -999,9,  27.4752,    -999,9,       -999,9,    -999,9,    -999,9
 316N200310,        A22,      26,          1,         11,         11,2,20031029,       1837,    18.5785,   -65.9950,        905,    98.9,  26.1469,  36.9356,2,  36.9276,2,    202.8,2,   201.3,2,    0.58,2,    0.13,2,    0.05,2,    0.01,2,   1.790,6,   1.098,6,   0.072,6,  2052.8,2,  2413.5,2,    -999,9,     -999,9,    -999,9,    -999,9,    -999,9,    -999,   0.870,6,    -999,9,    -999,9,   98.90,     1901,  18.5770, -65.9905,    -999,     -999,    -999,     -999,9,     -999,9,     -999,9,     -999,9,     -999,9,     -999,9,  26.1246,    -999,9,       -999,9,    -999,9,    -999,9
 316N200310,        A22,      26,          1,         10,         10,2,20031029,       1837,    18.5785,   -65.9950,        905,   124.5,  25.2675,  37.0909,2,  37.0853,2,    196.9,2,   195.9,2,    0.48,2,    0.25,2,    0.17,2,    0.02,2,   1.850,2,   1.149,2,   0.095,2,  2076.7,2,  2422.2,2,    -999,9,     -999,9,    -999,9,    -999,9,    -999,9,    -999,   0.746,2,    -999,9,    -999,9,  124.50,     1859,  18.5772, -65.9909,    -999,     -999,    -999,     -999,9,     -999,9,     -999,9,     -999,9,     -999,9,     -999,9,  25.2400,    -999,9,       -999,9,    -999,9,    -999,9
 316N200310,        A22,      26,          1,          9,          9,2,20031029,       1837,    18.5785,   -65.9950,        905,   150.1,  24.1233,  37.2049,2,  37.1986,2,    187.9,2,   187.4,2,    0.37,2,    0.73,2,    0.04,2,    0.03,2,   1.924,2,   1.181,2,   0.110,2,  2096.1,2,  2427.8,2,    -999,9,     -999,9,    -999,9,    -999,9,    -999,9,    -999,   0.558,2,    -999,9,    -999,9,  150.10,     1858,  18.5772, -65.9913,    -999,     -999,    -999,     -999,9,     -999,9,     -999,9,     -999,9,     -999,9,     -999,9,  24.0913,    -999,9,       -999,9,    -999,9,    -999,9
 316N200310,        A22,      26,          1,          8,          8,2,20031029,       1837,    18.5785,   -65.9950,        905,   198.6,  21.6105,  37.0562,2,  37.0543,2,    174.8,2,   175.7,2,    0.37,2,    1.77,2,    0.02,2,    0.07,2,   2.077,2,   1.275,2,   0.043,2,  2122.0,2,  2417.4,2,    -999,9,     -999,9,    -999,9,    -999,9,    -999,9,    -999,   0.215,2,    -999,9,    -999,9,  198.60,     1856,  18.5774, -65.9916,    -999,     -999,    -999,     -999,9,     -999,9,     -999,9,     -999,9,     -999,9,     -999,9,  21.5713,    -999,9,       -999,9,    -999,9,    -999,9
 316N200310,        A22,      26,          1,          7,          7,2,20031029,       1837,    18.5785,   -65.9950,        905,   250.5,  19.2300,  36.7099,2,  36.7084,2,    176.5,2,   177.0,2,    0.76,2,    4.08,2,    0.01,2,    0.18,2,   2.242,2,   1.325,2,   0.014,2,  2121.9,2,  2403.6,2,    -999,9,     -999,9,    -999,9,    -999,9,    -999,9,    -999,   0.268,2,    -999,9,    -999,9,  250.50,     1855,  18.5777, -65.9920,    -999,     -999,    -999,     -999,9,     -999,9,     -999,9,     -999,9,     -999,9,     -999,9,  19.1845,    -999,9,       -999,9,    -999,9,    -999,9
 316N200310,        A22,      26,          1,          6,          6,2,20031029,       1837,    18.5785,   -65.9950,        905,   300.1,  18.0467,  36.5261,2,  36.5242,2,    181.6,2,   182.7,2,    1.26,2,    5.70,2,    0.01,2,    0.28,2,   2.310,2,   1.338,2,   0.016,2,  2118.8,2,  2390.9,2,   0.811,2,     -999,9,    -999,9,    -999,9,    -999,9,    -999,   0.313,2,    -999,9,    -999,9,  300.10,     1853,  18.5779, -65.9924,   0.013,     -999,    -999,     -999,9,     -999,9,     -999,9,     -999,9,     -999,9,     -999,9,  17.9944,    -999,9,       -999,9,    -999,9,    -999,9
 316N200310,        A22,      26,          1,          5,          5,2,20031029,       1837,    18.5785,   -65.9950,        905,   400.3,  15.7403,  36.1406,2,  36.1434,2,    164.0,2,   164.1,2,    3.34,2,   11.30,2,    0.01,2,    0.64,2,   2.146,2,   1.202,2,   0.012,2,  2142.9,2,  2369.3,2,   0.841,2,     -999,9,    -999,9,    -999,9,    -999,9,    -999,   0.326,2,    -999,9,    -999,9,  400.30,     1850,  18.5778, -65.9929,   0.013,     -999,    -999,     -999,9,     -999,9,     -999,9,     -999,9,     -999,9,     -999,9,  15.6768,    -999,9,       -999,9,    -999,9,    -999,9
 316N200310,        A22,      26,          1,          4,          4,2,20031029,       1837,    18.5785,   -65.9950,        905,   501.0,  13.1861,  35.7238,2,  35.7221,2,    147.7,2,   148.1,2,    6.41,2,   17.21,2,    0.01,2,    1.02,2,   1.707,2,   0.903,2,   0.012,2,  2165.1,2,  2347.3,2,   0.891,2,     -999,9,    -999,9,    -999,9,    -999,9,    -999,   0.291,2,    -999,9,    -999,9,  501.00,     1847,  18.5780, -65.9933,   0.013,     -999,    -999,     -999,9,     -999,9,     -999,9,     -999,9,     -999,9,     -999,9,  13.1153,    -999,9,       -999,9,    -999,9,    -999,9
 316N200310,        A22,      26,          1,          3,          3,2,20031029,       1837,    18.5785,   -65.9950,        905,   649.7,   9.4521,  35.1848,2,  35.1855,2,    132.1,2,   132.8,2,   13.90,2,   25.73,2,    0.01,2,    1.61,2,   0.669,2,   0.366,2,   0.004,2,  2192.9,2,  2324.8,2,   1.039,2,     -999,9,    -999,9,    -999,9,    -999,9,    -999,   0.198,2,    -999,9,    -999,9,  649.70,     1844,  18.5782, -65.9939,   0.014,     -999,    -999,     -999,9,     -999,9,     -999,9,     -999,9,     -999,9,     -999,9,   9.3774,    -999,9,       -999,9,    -999,9,    -999,9
 316N200310,        A22,      26,          1,          2,          2,2,20031029,       1837,    18.5785,   -65.9950,        905,   750.6,   7.9123,  35.0423,2,  35.0421,2,    138.7,2,   139.4,2,   17.30,2,   27.33,2,    0.01,2,    1.76,2,   0.403,2,   0.227,2,   0.012,2,  2200.8,2,  2321.5,2,   1.106,2,     -999,9,    -999,9,    -999,9,    -999,9,    -999,   0.180,2,    -999,9,    -999,9,  750.60,     1841,  18.5784, -65.9944,   0.014,     -999,    -999,     -999,9,     -999,9,     -999,9,     -999,9,     -999,9,     -999,9,   7.8341,    -999,9,       -999,9,    -999,9,    -999,9
 316N200310,        A22,      26,          1,          1,          1,2,20031029,       1837,    18.5785,   -65.9950,        905,   890.8,   6.3067,  35.0123,2,  35.0144,2,    176.3,2,   176.1,2,   17.39,2,   24.78,2,    0.01,2,    1.62,2,   0.449,2,   0.247,2,   0.009,2,  2192.3,2,  2320.4,2,    -999,9,     -999,9,    -999,9,    -999,9,    -999,9,    -999,   0.459,2,    -999,9,    -999,9,  890.80,     1838,  18.5785, -65.9949,    -999,     -999,    -999,     -999,9,     -999,9,     -999,9,     -999,9,     -999,9,     -999,9,   6.2236,    -999,9,       -999,9,    -999,9,    -999,9