BOTTLE,20220517CCHSIOLMM
EXPOCODE,SECT_ID,STNNBR,CASTNO,SAMPNO,BTLNBR,BTLNBR_FLAG_W,DATE,TIME,LATITUDE,LONGITUDE,DEPTH,CTDPRS,CTDTMP,CTDSAL,CTDSAL_FLAG_W,SALNTY,SALNTY_FLAG_W,CTDOXY,CTDOXY_FLAG_W,OXYGEN,OXYGEN_FLAG_W,SILCAT,SILCAT_FLAG_W,NITRAT,NITRAT_FLAG_W,NITRIT,NITRIT_FLAG_W,PHSPHT,PHSPHT_FLAG_W,CFC-11,CFC-11_FLAG_W,CFC-12,CFC-12_FLAG_W,CFC113,CFC113_FLAG_W,TCARBN,TCARBN_FLAG_W,ALKALI,ALKALI_FLAG_W,TRITUM,TRITUM_FLAG_W,HELIUM,HELIUM_FLAG_W,DELHE3,DELHE3_FLAG_W,DELC13,DELC13_FLAG_W,DELC14,DELC14_FLAG_W,C14ERR,CCL4,CCL4_FLAG_W,DOC,DOC_FLAG_W,TDN,TDN_FLAG_W,CTDRAW,BTL_TIME,BTL_LAT,BTL_LON,TRITER,HELIER,DELHER,CDOM325,CDOM325_FLAG_W,CDOM340,CDOM340_FLAG_W,CDOM380,CDOM380_FLAG_W,CDOM412,CDOM412_FLAG_W,CDOMSL,CDOMSL_FLAG_W,CDOMSN,CDOMSN_FLAG_W,THETA,BACT,BACT_FLAG_W,PROC,PROC_FLAG_W,SYN,SYN_FLAG_W,PEUK,PEUK_FLAG_W
,,,,,,,,,,,METERS,DBAR,ITS-90,PSS-78,,PSS-78,,UMOL/KG,,UMOL/KG,,UMOL/KG,,UMOL/KG,,UMOL/KG,,UMOL/KG,,PMOL/KG,,PMOL/KG,,PMOL/KG,,UMOL/KG,,UMOL/KG,,TU,,NMOL/KG,,PERCNT,,/MILLE,,/MILLE,,/MILLE,PMOL/KG,,UMOL/KG,,UMOL/KG,,DBAR,,,,TU,NMOL/KG,PERCNT,1/M,,1/M,,1/M,,1/M,,1/NM,,1/NM,,DEG C,E8/L,,E7/L,,E6/L,,E6/L,
 316N200310,        A22,      56,          1,          4,          4,2,20031107,       0625,    32.2248,   -65.9958,       4881,  4249.4,   2.2426,  34.8894,2,  34.8892,2,    263.9,2,   263.3,2,   32.94,2,   18.97,2,    0.00,2,    1.29,2,   0.519,2,   0.251,2,   0.024,2,  2178.5,2,  2326.5,2,    -999,9,     -999,9,    -999,9,    -999,9,    -999,9,    -999,   0.894,2,    -999,9,    -999,9, 4249.40,      640,  32.2251, -65.9952,    -999,     -999,    -999,     -999,9,     -999,9,     -999,9,     -999,9,     -999,9,     -999,9,   1.8729,    -999,9,       -999,9,    -999,9,    -999,9
 316N200310,        A22,      56,          1,          3,          3,2,20031107,       0625,    32.2248,   -65.9958,       4881,  4499.7,   2.2346,  34.8856,2,  34.8849,2,    261.7,2,   261.4,2,   35.22,2,   19.32,2,    0.00,2,    1.31,2,   0.480,2,   0.236,2,   0.018,2,  2181.2,2,  2328.6,2,    -999,9,     -999,9,    -999,9,    -999,9,    -999,9,    -999,   0.807,2,    -999,9,    -999,9, 4499.70,      635,  32.2251, -65.9954,    -999,     -999,    -999,     -999,9,     -999,9,     -999,9,     -999,9,     -999,9,     -999,9,   1.8356,    -999,9,       -999,9,    -999,9,    -999,9
 316N200310,        A22,      56,          1,          2,          2,2,20031107,       0625,    32.2248,   -65.9958,       4881,  4750.0,   2.2416,  34.8828,2,  34.8821,2,    260.4,2,   260.3,2,   36.79,2,   19.67,2,    0.00,2,    1.34,2,   0.425,2,   0.211,2,   0.026,2,  2183.3,2,  2330.1,2,    -999,9,     -999,9,    -999,9,    -999,9,    -999,9,    -999,   0.751,2,    -999,9,    -999,9, 4750.00,      630,  32.2249, -65.9956,    -999,     -999,    -999,     -999,9,     -999,9,     -999,9,     -999,9,     -999,9,     -999,9,   1.8120,    -999,9,       -999,9,    -999,9,    -999,9
 316N200310,        A22,      56,          1,          1,          1,2,20031107,       0625,    32.2248,   -65.9958,       4881,  4955.1,   2.2588,  34.8818,2,  34.8835,2,    259.5,2,    13.4,4,   37.51,2,   19.82,2,    0.00,2,    1.35,2,   0.375,2,   0.197,2,   0.016,2,  2183.9,2,  2331.3,6,    -999,9,     -999,9,    -999,9,    -999,9,    -999,9,    -999,   0.684,2,    -999,9,    -999,9, 4955.10,      626,  32.2249, -65.9959,    -999,     -999,    -999,     -999,9,     -999,9,     -999,9,     -999,9,     -999,9,     -999,9,   1.8032,    -999,9,       -999,9,    -999,9,    -999,9