BOTTLE,20220517CCHSIOLMM
EXPOCODE,SECT_ID,STNNBR,CASTNO,SAMPNO,BTLNBR,BTLNBR_FLAG_W,DATE,TIME,LATITUDE,LONGITUDE,DEPTH,CTDPRS,CTDTMP,CTDSAL,CTDSAL_FLAG_W,SALNTY,SALNTY_FLAG_W,CTDOXY,CTDOXY_FLAG_W,OXYGEN,OXYGEN_FLAG_W,SILCAT,SILCAT_FLAG_W,NITRAT,NITRAT_FLAG_W,NITRIT,NITRIT_FLAG_W,PHSPHT,PHSPHT_FLAG_W,CFC-11,CFC-11_FLAG_W,CFC-12,CFC-12_FLAG_W,CFC113,CFC113_FLAG_W,TCARBN,TCARBN_FLAG_W,ALKALI,ALKALI_FLAG_W,TRITUM,TRITUM_FLAG_W,HELIUM,HELIUM_FLAG_W,DELHE3,DELHE3_FLAG_W,DELC13,DELC13_FLAG_W,DELC14,DELC14_FLAG_W,C14ERR,CCL4,CCL4_FLAG_W,DOC,DOC_FLAG_W,TDN,TDN_FLAG_W,CTDRAW,BTL_TIME,BTL_LAT,BTL_LON,TRITER,HELIER,DELHER,CDOM325,CDOM325_FLAG_W,CDOM340,CDOM340_FLAG_W,CDOM380,CDOM380_FLAG_W,CDOM412,CDOM412_FLAG_W,CDOMSL,CDOMSL_FLAG_W,CDOMSN,CDOMSN_FLAG_W,THETA,BACT,BACT_FLAG_W,PROC,PROC_FLAG_W,SYN,SYN_FLAG_W,PEUK,PEUK_FLAG_W
,,,,,,,,,,,METERS,DBAR,ITS-90,PSS-78,,PSS-78,,UMOL/KG,,UMOL/KG,,UMOL/KG,,UMOL/KG,,UMOL/KG,,UMOL/KG,,PMOL/KG,,PMOL/KG,,PMOL/KG,,UMOL/KG,,UMOL/KG,,TU,,NMOL/KG,,PERCNT,,/MILLE,,/MILLE,,/MILLE,PMOL/KG,,UMOL/KG,,UMOL/KG,,DBAR,,,,TU,NMOL/KG,PERCNT,1/M,,1/M,,1/M,,1/M,,1/NM,,1/NM,,DEG C,E8/L,,E7/L,,E6/L,,E6/L,
 316N200310,        A22,      46,          1,         35,         35,2,20031103,       1714,    26.8860,   -65.9982,       4829,     2.4,  27.5427,  36.5844,2,  36.5807,2,    188.4,2,   199.0,2,    0.47,2,    0.26,2,    0.00,2,    0.01,2,   1.663,2,   1.021,2,   0.101,2,  2020.7,2,  2390.7,6,    -999,9,     -999,9,    -999,9,    -999,9,    -999,9,    -999,   1.610,2,   71.30,2,    4.50,2,    2.40,     1910,  26.9004, -65.9954,    -999,     -999,    -999,   0.0550,2,   0.0360,2,   0.0120,2,   0.0080,2,   0.0290,2,   0.0290,2,  27.5422,    2.88,2,       2.28,2,    3.56,2,    0.37,2
 316N200310,        A22,      46,          1,         36,         36,2,20031103,       1714,    26.8860,   -65.9982,       4829,     2.6,  27.5441,  36.5844,2,  36.5813,2,    188.4,2,    -999,9,    0.58,2,    0.31,2,    0.00,2,    0.01,2,    -999,9,    -999,9,    -999,9,    -999,9,  2400.0,2,    -999,9,     -999,9,    -999,9,    -999,9,    -999,9,    -999,    -999,9,    -999,9,    -999,9,    2.60,     1910,  26.9004, -65.9954,    -999,     -999,    -999,     -999,9,     -999,9,     -999,9,     -999,9,     -999,9,     -999,9,  27.5435,    -999,9,       -999,9,    -999,9,    -999,9
 316N200310,        A22,      46,          1,         34,         34,2,20031103,       1714,    26.8860,   -65.9982,       4829,    24.9,  27.3693,  36.5823,2,  36.5745,2,    199.5,2,   199.3,2,    0.57,2,    0.21,2,    0.00,2,    0.01,2,   1.620,2,   0.990,2,   0.097,2,  2020.6,2,  2407.6,2,    -999,9,     -999,9,    -999,9,    -999,9,    -999,9,    -999,   1.576,2,   70.90,2,    4.80,2,   24.90,     1908,  26.9002, -65.9953,    -999,     -999,    -999,   0.0510,2,   0.0320,2,   0.0100,2,   0.0070,2,   0.0310,2,   0.0310,2,  27.3635,    3.04,2,       3.08,2,    3.56,2,    0.32,2
 316N200310,        A22,      46,          1,         33,         33,2,20031103,       1714,    26.8860,   -65.9982,       4829,    50.0,  26.4195,  36.7203,2,  36.7101,2,    210.2,2,   210.0,2,    0.46,2,    0.26,2,    0.00,2,    0.01,2,   1.780,6,   1.078,6,   0.083,6,  2035.8,2,  2403.3,2,    -999,9,     -999,9,    -999,9,    -999,9,    -999,9,    -999,   1.153,6,   70.10,2,    4.30,2,   50.00,     1906,  26.8999, -65.9953,    -999,     -999,    -999,   0.1000,2,   0.0660,2,   0.0250,2,   0.0160,2,   0.0260,2,   0.0270,2,  26.4082,    3.15,2,       6.68,2,    2.63,2,    0.41,2
 316N200310,        A22,      46,          1,         32,         32,2,20031103,       1714,    26.8860,   -65.9982,       4829,    75.1,  25.0315,  36.6513,2,  36.6592,2,    210.4,2,   208.5,2,    0.35,2,    0.26,2,    0.00,2,    0.01,2,   1.885,2,   1.128,2,   0.090,2,  2043.7,2,  2405.7,2,    -999,9,     -999,9,    -999,9,    -999,9,    -999,9,    -999,   1.119,2,   62.70,2,    4.50,2,   75.10,     1905,  26.8997, -65.9954,    -999,     -999,    -999,   0.1210,2,   0.0820,2,   0.0340,2,   0.0230,2,   0.0220,2,   0.0240,2,  25.0151,    3.17,2,       8.54,2,    4.38,2,    0.50,2
 316N200310,        A22,      46,          1,         31,         31,2,20031103,       1714,    26.8860,   -65.9982,       4829,    99.6,  23.5189,  36.7088,2,  36.7103,2,    210.5,2,   212.6,2,    0.25,2,    0.27,2,    0.00,2,    0.01,2,   1.964,2,   1.217,2,   0.097,2,  2054.9,2,  2409.1,2,    -999,9,     -999,9,    -999,9,    -999,9,    -999,9,    -999,   1.039,2,   62.10,2,    4.00,2,   99.60,     1903,  26.8994, -65.9955,    -999,     -999,    -999,   0.1290,2,   0.0890,2,   0.0380,2,   0.0250,2,   0.0210,2,   0.0230,2,  23.4980,    2.81,2,       9.33,2,    1.15,2,    1.86,2
 316N200310,        A22,      46,          1,         30,         30,2,20031103,       1714,    26.8860,   -65.9982,       4829,   125.9,  21.9965,  36.7651,2,  36.7615,2,    207.0,2,   210.5,2,    0.15,2,    0.28,2,    0.10,2,    0.01,2,   1.986,6,   1.216,6,   0.147,2,  2070.3,2,  2407.9,2,    -999,9,     -999,9,    -999,9,    -999,9,    -999,9,    -999,   0.912,2,   59.80,2,    4.50,2,  125.90,     1902,  26.8992, -65.9955,    -999,     -999,    -999,   0.1420,2,   0.1000,2,   0.0440,2,   0.0290,2,   0.0190,2,   0.0210,2,  21.9714,    2.36,2,       2.08,2,    0.10,2,    0.83,2
 316N200310,        A22,      46,          1,         29,         29,2,20031103,       1714,    26.8860,   -65.9982,       4829,   148.0,  21.1644,  36.7508,2,  36.7468,2,    203.7,2,   201.4,2,    0.23,2,    0.59,2,    0.07,2,    0.01,2,   2.077,2,   1.264,2,   0.098,2,  2082.0,2,  2397.9,2,    -999,9,     -999,9,    -999,9,    -999,9,    -999,9,    -999,   0.784,2,   55.90,2,    4.20,2,  148.00,     1901,  26.8990, -65.9955,    -999,     -999,    -999,   0.1300,2,   0.0940,2,   0.0430,2,   0.0300,2,   0.0170,2,   0.0190,2,  21.1356,    2.09,2,       1.37,2,    0.00,2,    0.47,2
 316N200310,        A22,      46,          1,         28,         28,2,20031103,       1714,    26.8860,   -65.9982,       4829,   199.5,  19.7149,  36.7264,2,  36.7203,2,    187.3,2,   186.2,2,    0.42,2,    2.38,2,    0.01,2,    0.06,2,   2.193,2,   1.317,2,   0.030,2,  2106.0,2,  2391.0,2,    -999,9,     -999,9,    -999,9,    -999,9,    -999,9,    -999,   0.305,2,   50.90,2,    5.80,2,  199.50,     1859,  26.8987, -65.9957,    -999,     -999,    -999,   0.1170,2,   0.0860,2,   0.0420,2,   0.0310,2,   0.0160,2,   0.0180,2,  19.6780,    -999,9,       -999,9,    -999,9,    -999,9
 316N200310,        A22,      46,          1,         27,         27,2,20031103,       1714,    26.8860,   -65.9982,       4829,   251.2,  18.8938,  36.6218,2,  36.6189,2,    191.7,2,   194.2,2,    0.61,2,    3.56,2,    0.01,2,    0.12,2,   2.269,2,   1.354,2,   0.020,2,  2100.4,2,  2387.0,2,    -999,9,     -999,9,    -999,9,    -999,9,    -999,9,    -999,   0.362,2,   48.60,2,    7.20,2,  251.20,     1857,  26.8985, -65.9957,    -999,     -999,    -999,     -999,9,     -999,9,     -999,9,     -999,9,     -999,9,     -999,9,  18.8486,    -999,9,       -999,9,    -999,9,    -999,9
 316N200310,        A22,      46,          1,         26,         26,2,20031103,       1714,    26.8860,   -65.9982,       4829,   300.2,  18.4096,  36.5686,2,  36.5660,2,    196.0,2,   195.3,2,    0.90,2,    4.58,2,    0.01,2,    0.19,2,   2.301,2,   1.365,2,   0.025,2,  2103.1,2,  2380.4,2,    -999,9,     -999,9,    -999,9,    -999,9,    -999,9,    -999,   0.400,2,   47.40,2,    7.70,2,  300.20,     1855,  26.8981, -65.9958,    -999,     -999,    -999,   0.1190,2,   0.0880,2,   0.0440,2,   0.0320,2,   0.0150,2,   0.0170,2,  18.3566,    -999,9,       -999,9,    -999,9,    -999,9
 316N200310,        A22,      46,          1,         25,         25,2,20031103,       1714,    26.8860,   -65.9982,       4829,   399.8,  17.6274,  36.4653,2,  36.4622,2,    191.9,2,   191.4,2,    1.28,2,    6.31,2,    0.00,2,    0.28,2,   2.299,2,   1.343,2,   0.021,2,  2111.6,2,  2370.0,2,    -999,9,     -999,9,    -999,9,    -999,9,    -999,9,    -999,   0.384,2,   46.80,2,    -999,9,  399.80,     1853,  26.8977, -65.9959,    -999,     -999,    -999,   0.1200,2,   0.0860,2,   0.0400,2,   0.0280,2,   0.0180,2,   0.0190,2,  17.5587,    -999,9,       -999,9,    -999,9,    -999,9
 316N200310,        A22,      46,          1,         24,         24,2,20031103,       1714,    26.8860,   -65.9982,       4829,   501.0,  16.4297,  36.2650,2,  36.2639,2,    186.1,2,   183.3,2,    2.25,2,    9.08,2,    0.00,2,    0.46,2,   2.243,2,   1.266,2,   0.028,2,  2124.2,2,  2348.9,2,    -999,9,     -999,9,    -999,9,    -999,9,    -999,9,    -999,   0.394,2,   46.40,2,    -999,9,  501.00,     1850,  26.8973, -65.9959,    -999,     -999,    -999,   0.0890,2,   0.0620,2,   0.0270,2,   0.0180,2,   0.0230,2,   0.0230,2,  16.3475,    -999,9,       -999,9,    -999,9,    -999,9
 316N200310,        A22,      46,          1,         23,         23,2,20031103,       1714,    26.8860,   -65.9982,       4829,   626.5,  14.0003,  35.8671,2,  35.8665,2,    163.0,2,   165.4,2,    4.88,2,   14.56,2,    0.00,2,    0.82,2,   1.929,2,   1.032,2,   0.023,2,  2148.1,2,  2336.9,3,    -999,9,     -999,9,    -999,9,    -999,9,    -999,9,    -999,   0.341,2,    -999,9,    -999,9,  626.50,     1846,  26.8968, -65.9959,    -999,     -999,    -999,     -999,9,     -999,9,     -999,9,     -999,9,     -999,9,     -999,9,  13.9078,    -999,9,       -999,9,    -999,9,    -999,9
 316N200310,        A22,      46,          1,         22,         22,2,20031103,       1714,    26.8860,   -65.9982,       4829,   750.3,  11.2228,  35.4734,2,  35.4734,2,    152.8,2,   149.1,2,    9.29,2,   20.56,2,    0.00,2,    1.24,2,   1.151,2,   0.598,2,   0.026,2,  2171.8,2,  2320.1,6,    -999,9,     -999,9,    -999,9,    -999,9,    -999,9,    -999,   0.256,2,   43.30,2,    -999,9,  750.30,     1843,  26.8964, -65.9959,    -999,     -999,    -999,   0.1140,2,   0.0790,2,   0.0360,2,   0.0250,2,   0.0200,2,   0.0210,2,  11.1263,    -999,9,       -999,9,    -999,9,    -999,9
 316N200310,        A22,      46,          1,         21,         21,2,20031103,       1714,    26.8860,   -65.9982,       4829,   901.6,   8.4750,  35.1526,2,  35.1530,2,    145.2,2,   146.5,2,   14.90,2,   24.94,2,    0.00,2,    1.59,2,   0.511,2,   0.270,2,   0.006,2,  2189.3,2,  2325.2,2,    -999,9,     -999,9,    -999,9,    -999,9,    -999,9,    -999,   0.215,2,    -999,9,    -999,9,  901.60,     1840,  26.8959, -65.9963,    -999,     -999,    -999,     -999,9,     -999,9,     -999,9,     -999,9,     -999,9,     -999,9,   8.3763,    -999,9,       -999,9,    -999,9,    -999,9
 316N200310,        A22,      46,          1,         20,         20,2,20031103,       1714,    26.8860,   -65.9982,       4829,  1030.5,   6.9188,  35.0565,2,  35.0563,2,    165.6,2,   166.0,2,   16.67,2,   24.85,2,    0.00,2,    1.61,2,   0.398,2,   0.210,2,   0.008,2,  2190.2,2,  2325.0,2,    -999,9,     -999,9,    -999,9,    -999,9,    -999,9,    -999,   0.322,2,   41.30,2,    -999,9, 1030.50,     1837,  26.8954, -65.9968,    -999,     -999,    -999,   0.1230,2,   0.0850,2,   0.0410,2,   0.0280,2,   0.0180,2,   0.0200,2,   6.8170,    -999,9,       -999,9,    -999,9,    -999,9
 316N200310,        A22,      46,          1,         19,         19,2,20031103,       1714,    26.8860,   -65.9982,       4829,  1200.9,   5.7242,  35.0648,2,  35.0642,2,    205.3,2,   205.9,2,   14.68,2,   21.71,2,    0.00,2,    1.40,2,   0.550,2,   0.276,2,   0.012,2,  2178.1,2,  2322.2,2,    -999,9,     -999,9,    -999,9,    -999,9,    -999,9,    -999,   0.659,2,    -999,9,    -999,9, 1200.90,     1833,  26.8948, -65.9975,    -999,     -999,    -999,     -999,9,     -999,9,     -999,9,     -999,9,     -999,9,     -999,9,   5.6149,    -999,9,       -999,9,    -999,9,    -999,9
 316N200310,        A22,      46,          1,         18,         18,2,20031103,       1714,    26.8860,   -65.9982,       4829,  1373.8,   4.9563,  35.0573,2,  35.0585,2,    234.4,2,   235.1,2,   12.91,2,   19.60,2,    0.00,2,    1.26,2,   0.762,2,   0.377,2,   0.027,2,  2167.1,2,  2321.4,2,    -999,9,     -999,9,    -999,9,    -999,9,    -999,9,    -999,   1.093,2,   41.00,2,    -999,9, 1373.80,     1829,  26.8942, -65.9981,    -999,     -999,    -999,   0.1340,2,   0.0950,2,   0.0460,2,   0.0310,2,   0.0170,2,   0.0190,2,   4.8374,    -999,9,       -999,9,    -999,9,    -999,9
 316N200310,        A22,      46,          1,         17,         17,2,20031103,       1714,    26.8860,   -65.9982,       4829,  1448.9,   4.7196,  35.0432,2,  35.0433,2,    241.3,2,   241.9,2,   12.69,2,   19.22,2,    0.00,2,    1.23,2,   0.829,2,   0.412,2,   0.032,2,  2165.8,2,  2320.2,2,    -999,9,     -999,9,    -999,9,    -999,9,    -999,9,    -999,   1.211,2,    -999,9,    -999,9, 1448.90,     1827,  26.8938, -65.9985,    -999,     -999,    -999,     -999,9,     -999,9,     -999,9,     -999,9,     -999,9,     -999,9,   4.5961,    -999,9,       -999,9,    -999,9,    -999,9
 316N200310,        A22,      46,          1,         16,         16,2,20031103,       1714,    26.8860,   -65.9982,       4829,  1574.8,   4.4355,  35.0297,2,  35.0335,2,    248.1,2,   248.6,2,   12.89,2,   18.93,2,    0.00,2,    1.21,2,   0.779,2,   0.393,2,   0.027,2,  2164.1,2,  2316.6,2,    -999,9,     -999,9,    -999,9,    -999,9,    -999,9,    -999,   1.258,2,    -999,9,    -999,9, 1574.80,     1824,  26.8934, -65.9987,    -999,     -999,    -999,     -999,9,     -999,9,     -999,9,     -999,9,     -999,9,     -999,9,   4.3031,    -999,9,       -999,9,    -999,9,    -999,9
 316N200310,        A22,      46,          1,         15,         15,2,20031103,       1714,    26.8860,   -65.9982,       4829,  1720.1,   4.0887,  35.0016,2,  35.0028,2,    256.7,2,   255.8,2,   13.17,2,   18.59,2,    0.00,2,    1.19,2,   0.883,2,   0.441,2,   0.033,2,  2161.8,2,  2312.8,2,    -999,9,     -999,9,    -999,9,    -999,9,    -999,9,    -999,   1.372,2,   42.70,2,    -999,9, 1720.10,     1821,  26.8930, -65.9986,    -999,     -999,    -999,   0.1300,2,   0.0910,2,   0.0430,2,   0.0280,2,   0.0180,2,   0.0200,2,   3.9468,    -999,9,       -999,9,    -999,9,    -999,9
 316N200310,        A22,      46,          1,         14,         14,2,20031103,       1714,    26.8860,   -65.9982,       4829,  1851.2,   3.9130,  34.9956,2,  34.9955,2,    257.4,2,   257.7,2,   14.05,2,   18.59,2,    0.00,2,    1.19,2,   0.707,2,   0.349,2,   0.027,2,  2160.7,2,  2313.1,2,    -999,9,     -999,9,    -999,9,    -999,9,    -999,9,    -999,   1.209,2,    -999,9,    -999,9, 1851.20,     1817,  26.8927, -65.9983,    -999,     -999,    -999,     -999,9,     -999,9,     -999,9,     -999,9,     -999,9,     -999,9,   3.7610,    -999,9,       -999,9,    -999,9,    -999,9
 316N200310,        A22,      46,          1,         13,         13,2,20031103,       1714,    26.8860,   -65.9982,       4829,  2000.2,   3.7220,  34.9877,2,  34.9884,2,    258.0,2,   258.5,2,   15.32,2,   18.59,2,    0.00,2,    1.20,2,   0.605,2,   0.295,2,   0.019,2,  2161.1,2,  2318.0,2,    -999,9,     -999,9,    -999,9,    -999,9,    -999,9,    -999,   1.072,2,   41.70,2,    -999,9, 2000.20,     1814,  26.8924, -65.9980,    -999,     -999,    -999,   0.1250,2,   0.0870,2,   0.0400,2,   0.0270,2,   0.0190,2,   0.0200,2,   3.5585,    -999,9,       -999,9,    -999,9,    -999,9
 316N200310,        A22,      46,          1,         12,         12,2,20031103,       1714,    26.8860,   -65.9982,       4829,  2250.3,   3.5191,  34.9878,2,  34.9876,2,    254.8,2,   255.7,2,   18.67,2,   19.07,2,    0.00,2,    1.23,2,   0.233,2,   0.129,2,   0.007,2,  2164.1,2,  2320.9,2,    -999,9,     -999,9,    -999,9,    -999,9,    -999,9,    -999,   0.591,2,    -999,9,    -999,9, 2250.30,     1809,  26.8919, -65.9975,    -999,     -999,    -999,     -999,9,     -999,9,     -999,9,     -999,9,     -999,9,     -999,9,   3.3345,    -999,9,       -999,9,    -999,9,    -999,9
 316N200310,        A22,      46,          1,         11,         11,2,20031103,       1714,    26.8860,   -65.9982,       4829,  2448.9,   3.3117,  34.9758,2,  34.9760,2,    254.3,2,   255.3,2,   21.44,2,   19.32,2,    0.00,2,    1.26,2,   0.141,2,   0.076,2,   0.006,2,  2167.2,2,  2319.3,2,    -999,9,     -999,9,    -999,9,    -999,9,    -999,9,    -999,   0.442,2,   41.70,2,    -999,9, 2448.90,     1805,  26.8915, -65.9970,    -999,     -999,    -999,   0.1260,2,   0.0880,2,   0.0420,2,   0.0280,2,   0.0180,2,   0.0200,2,   3.1111,    -999,9,       -999,9,    -999,9,    -999,9
 316N200310,        A22,      46,          1,         10,         10,2,20031103,       1714,    26.8860,   -65.9982,       4829,  2749.8,   3.0067,  34.9488,2,  34.9494,2,    261.0,2,   260.9,2,   21.62,2,   18.93,2,    0.00,2,    1.23,2,   0.315,2,   0.169,2,   0.005,2,  2165.2,2,  2319.4,2,    -999,9,     -999,9,    -999,9,    -999,9,    -999,9,    -999,   0.616,2,    -999,9,    -999,9, 2749.80,     1759,  26.8910, -65.9964,    -999,     -999,    -999,     -999,9,     -999,9,     -999,9,     -999,9,     -999,9,     -999,9,   2.7817,    -999,9,       -999,9,    -999,9,    -999,9
 316N200310,        A22,      46,          1,          9,          9,2,20031103,       1714,    26.8860,   -65.9982,       4829,  3000.6,   2.8094,  34.9344,2,  34.9345,2,    262.9,2,   263.6,2,   22.31,2,   18.74,2,    0.00,2,    1.22,2,   0.417,2,   0.195,2,   0.011,2,  2165.9,2,    -999,9,    -999,9,     -999,9,    -999,9,    -999,9,    -999,9,    -999,   0.765,2,   41.10,2,    -999,9, 3000.60,     1753,  26.8906, -65.9959,    -999,     -999,    -999,   0.1430,2,   0.1000,2,   0.0470,2,   0.0310,2,   0.0180,2,   0.0200,2,   2.5627,    -999,9,       -999,9,    -999,9,    -999,9
 316N200310,        A22,      46,          1,          8,          8,2,20031103,       1714,    26.8860,   -65.9982,       4829,  3199.5,   2.7088,  34.9293,2,  34.9292,2,    260.4,2,   260.6,2,   26.26,2,   19.31,2,    0.00,2,    1.28,2,   0.224,2,   0.114,2,   0.006,2,  2169.0,2,    -999,9,    -999,9,     -999,9,    -999,9,    -999,9,    -999,9,    -999,   0.482,2,    -999,9,    -999,9, 3199.50,     1749,  26.8903, -65.9954,    -999,     -999,    -999,     -999,9,     -999,9,     -999,9,     -999,9,     -999,9,     -999,9,   2.4435,    -999,9,       -999,9,    -999,9,    -999,9
 316N200310,        A22,      46,          1,          7,          7,2,20031103,       1714,    26.8860,   -65.9982,       4829,  3399.8,   2.5942,  34.9209,2,  34.9221,2,    262.5,2,   262.8,2,   26.56,2,   19.12,2,    0.00,2,    1.26,2,   0.267,2,   0.136,2,   0.012,2,  2167.9,2,    -999,9,    -999,9,     -999,9,    -999,9,    -999,9,    -999,9,    -999,   0.563,2,   41.80,2,    -999,9, 3399.80,     1745,  26.8898, -65.9953,    -999,     -999,    -999,   0.1240,2,   0.0860,2,   0.0400,2,   0.0260,2,   0.0190,2,   0.0210,2,   2.3103,    -999,9,       -999,9,    -999,9,    -999,9
 316N200310,        A22,      46,          1,          6,          6,2,20031103,       1714,    26.8860,   -65.9982,       4829,  3597.4,   2.4827,  34.9132,2,  34.9138,2,    264.5,2,   264.5,2,   27.24,2,   19.02,2,    0.00,2,    1.25,2,   0.262,2,   0.132,2,   0.005,2,  2167.9,2,  2329.4,2,    -999,9,     -999,9,    -999,9,    -999,9,    -999,9,    -999,   0.607,2,    -999,9,    -999,9, 3597.40,     1740,  26.8893, -65.9955,    -999,     -999,    -999,     -999,9,     -999,9,     -999,9,     -999,9,     -999,9,     -999,9,   2.1801,    -999,9,       -999,9,    -999,9,    -999,9
 316N200310,        A22,      46,          1,          5,          5,2,20031103,       1714,    26.8860,   -65.9982,       4829,  3798.5,   2.3983,  34.9072,2,  34.9083,2,    266.2,2,   266.8,2,   27.12,2,   18.83,2,    0.00,2,    1.24,2,   0.322,2,   0.170,2,   0.015,2,  2167.7,2,  2329.9,2,    -999,9,     -999,9,    -999,9,    -999,9,    -999,9,    -999,   0.748,2,    -999,9,    -999,9, 3798.50,     1736,  26.8888, -65.9958,    -999,     -999,    -999,     -999,9,     -999,9,     -999,9,     -999,9,     -999,9,     -999,9,   2.0757,    -999,9,       -999,9,    -999,9,    -999,9