BOTTLE,20220517CCHSIOLMM
EXPOCODE,SECT_ID,STNNBR,CASTNO,SAMPNO,BTLNBR,BTLNBR_FLAG_W,DATE,TIME,LATITUDE,LONGITUDE,DEPTH,CTDPRS,CTDTMP,CTDSAL,CTDSAL_FLAG_W,SALNTY,SALNTY_FLAG_W,CTDOXY,CTDOXY_FLAG_W,OXYGEN,OXYGEN_FLAG_W,SILCAT,SILCAT_FLAG_W,NITRAT,NITRAT_FLAG_W,NITRIT,NITRIT_FLAG_W,PHSPHT,PHSPHT_FLAG_W,CFC-11,CFC-11_FLAG_W,CFC-12,CFC-12_FLAG_W,CFC113,CFC113_FLAG_W,TCARBN,TCARBN_FLAG_W,ALKALI,ALKALI_FLAG_W,TRITUM,TRITUM_FLAG_W,HELIUM,HELIUM_FLAG_W,DELHE3,DELHE3_FLAG_W,DELC13,DELC13_FLAG_W,DELC14,DELC14_FLAG_W,C14ERR,CCL4,CCL4_FLAG_W,DOC,DOC_FLAG_W,TDN,TDN_FLAG_W,CTDRAW,BTL_TIME,BTL_LAT,BTL_LON,TRITER,HELIER,DELHER,CDOM325,CDOM325_FLAG_W,CDOM340,CDOM340_FLAG_W,CDOM380,CDOM380_FLAG_W,CDOM412,CDOM412_FLAG_W,CDOMSL,CDOMSL_FLAG_W,CDOMSN,CDOMSN_FLAG_W,THETA,BACT,BACT_FLAG_W,PROC,PROC_FLAG_W,SYN,SYN_FLAG_W,PEUK,PEUK_FLAG_W
,,,,,,,,,,,METERS,DBAR,ITS-90,PSS-78,,PSS-78,,UMOL/KG,,UMOL/KG,,UMOL/KG,,UMOL/KG,,UMOL/KG,,UMOL/KG,,PMOL/KG,,PMOL/KG,,PMOL/KG,,UMOL/KG,,UMOL/KG,,TU,,NMOL/KG,,PERCNT,,/MILLE,,/MILLE,,/MILLE,PMOL/KG,,UMOL/KG,,UMOL/KG,,DBAR,,,,TU,NMOL/KG,PERCNT,1/M,,1/M,,1/M,,1/M,,1/NM,,1/NM,,DEG C,E8/L,,E7/L,,E6/L,,E6/L,
 316N200310,        A22,      11,          1,          4,          4,2,20031026,       0836,    13.6893,   -65.9963,       4901,  4250.3,   4.3014,  34.9777,2,  34.9776,2,    216.3,2,   216.2,2,   28.41,2,   21.95,2,    0.00,2,    1.48,2,   0.037,2,   0.030,2,   0.004,2,    -999,9,    -999,9,    -999,9,     -999,9,    -999,9,    -999,9,    -999,9,    -999,   0.107,2,    -999,9,    -999,9, 4250.30,      856,  13.6913, -65.9955,    -999,     -999,    -999,     -999,9,     -999,9,     -999,9,     -999,9,     -999,9,     -999,9,   3.8715,    -999,9,       -999,9,    -999,9,    -999,9
 316N200310,        A22,      11,          1,          3,          3,2,20031026,       0836,    13.6893,   -65.9963,       4901,  4500.8,   4.3351,  34.9778,2,  34.9780,2,    216.3,2,   216.3,2,   28.41,2,   21.95,2,    0.00,2,    1.48,2,   0.037,2,   0.036,2,   0.006,2,    -999,9,    -999,9,    -999,9,     -999,9,    -999,9,    -999,9,    -999,9,    -999,   0.103,2,    -999,9,    -999,9, 4500.80,      851,  13.6907, -65.9958,    -999,     -999,    -999,     -999,9,     -999,9,     -999,9,     -999,9,     -999,9,     -999,9,   3.8716,    -999,9,       -999,9,    -999,9,    -999,9
 316N200310,        A22,      11,          1,          2,          2,2,20031026,       0836,    13.6893,   -65.9963,       4901,  4722.4,   4.3656,  34.9778,2,  34.9762,2,    216.2,2,   215.0,2,   28.41,2,   21.94,2,    0.00,2,    1.48,2,   0.041,2,   0.048,2,   0.008,2,    -999,9,    -999,9,    -999,9,     -999,9,    -999,9,    -999,9,    -999,9,    -999,   0.108,2,    -999,9,    -999,9, 4722.40,      846,  13.6903, -65.9959,    -999,     -999,    -999,     -999,9,     -999,9,     -999,9,     -999,9,     -999,9,     -999,9,   3.8718,    -999,9,       -999,9,    -999,9,    -999,9
 316N200310,        A22,      11,          1,          1,          1,2,20031026,       0836,    13.6893,   -65.9963,       4901,  4969.1,   4.4004,  34.9779,2,  34.9784,2,    216.1,2,   216.5,2,   28.51,2,   21.94,2,    0.00,2,    1.48,2,   0.038,6,   0.040,6,   0.006,6,    -999,9,    -999,9,    -999,9,     -999,9,    -999,9,    -999,9,    -999,9,    -999,   0.107,6,    -999,9,    -999,9, 4969.10,      837,  13.6895, -65.9963,    -999,     -999,    -999,     -999,9,     -999,9,     -999,9,     -999,9,     -999,9,     -999,9,   3.8720,    -999,9,       -999,9,    -999,9,    -999,9