BOTTLE,20220517CCHSIOLMM
EXPOCODE,SECT_ID,STNNBR,CASTNO,SAMPNO,BTLNBR,BTLNBR_FLAG_W,DATE,TIME,LATITUDE,LONGITUDE,DEPTH,CTDPRS,CTDTMP,CTDSAL,CTDSAL_FLAG_W,SALNTY,SALNTY_FLAG_W,CTDOXY,CTDOXY_FLAG_W,OXYGEN,OXYGEN_FLAG_W,SILCAT,SILCAT_FLAG_W,NITRAT,NITRAT_FLAG_W,NITRIT,NITRIT_FLAG_W,PHSPHT,PHSPHT_FLAG_W,CFC-11,CFC-11_FLAG_W,CFC-12,CFC-12_FLAG_W,CFC113,CFC113_FLAG_W,TCARBN,TCARBN_FLAG_W,ALKALI,ALKALI_FLAG_W,TRITUM,TRITUM_FLAG_W,HELIUM,HELIUM_FLAG_W,DELHE3,DELHE3_FLAG_W,DELC13,DELC13_FLAG_W,DELC14,DELC14_FLAG_W,C14ERR,CCL4,CCL4_FLAG_W,DOC,DOC_FLAG_W,TDN,TDN_FLAG_W,CTDRAW,BTL_TIME,BTL_LAT,BTL_LON,TRITER,HELIER,DELHER,CDOM325,CDOM325_FLAG_W,CDOM340,CDOM340_FLAG_W,CDOM380,CDOM380_FLAG_W,CDOM412,CDOM412_FLAG_W,CDOMSL,CDOMSL_FLAG_W,CDOMSN,CDOMSN_FLAG_W,THETA,BACT,BACT_FLAG_W,PROC,PROC_FLAG_W,SYN,SYN_FLAG_W,PEUK,PEUK_FLAG_W
,,,,,,,,,,,METERS,DBAR,ITS-90,PSS-78,,PSS-78,,UMOL/KG,,UMOL/KG,,UMOL/KG,,UMOL/KG,,UMOL/KG,,UMOL/KG,,PMOL/KG,,PMOL/KG,,PMOL/KG,,UMOL/KG,,UMOL/KG,,TU,,NMOL/KG,,PERCNT,,/MILLE,,/MILLE,,/MILLE,PMOL/KG,,UMOL/KG,,UMOL/KG,,DBAR,,,,TU,NMOL/KG,PERCNT,1/M,,1/M,,1/M,,1/M,,1/NM,,1/NM,,DEG C,E8/L,,E7/L,,E6/L,,E6/L,
 316N200310,        A22,      76,          1,         27,         27,2,20031112,       0643,    39.2532,   -69.4888,       2645,     3.8,  16.8151,  34.4777,2,  34.4754,2,    205.7,2,   242.3,2,    0.72,2,    0.00,2,    0.00,2,    0.12,2,   2.599,2,   1.508,2,   0.168,2,  2021.3,2,  2295.8,6,    -999,9,     -999,9,    -999,9,    -999,9,    -999,9,    -999,   2.619,2,   70.70,2,    6.30,2,    3.80,      800,  39.2403, -69.4902,    -999,     -999,    -999,   0.2670,2,   0.1920,2,   0.0890,2,   0.0550,2,   0.0180,2,   0.0190,2,  16.8145,    -999,9,       -999,9,    -999,9,    -999,9
 316N200310,        A22,      76,          1,         26,         26,2,20031112,       0643,    39.2532,   -69.4888,       2645,    24.8,  16.7557,  34.5008,2,  34.4985,2,    240.5,2,   242.5,2,    0.71,2,    0.05,2,    0.00,2,    0.12,2,   2.549,2,   1.536,2,   0.170,2,  2022.1,2,  2296.8,2,    -999,9,     -999,9,    -999,9,    -999,9,    -999,9,    -999,   2.567,2,   87.00,4,    -999,9,   24.80,      758,  39.2407, -69.4899,    -999,     -999,    -999,   0.2650,2,   0.1900,2,   0.0880,2,   0.0550,2,   0.0180,2,   0.0190,2,  16.7516,    -999,9,       -999,9,    -999,9,    -999,9
 316N200310,        A22,      76,          1,         25,         25,2,20031112,       0643,    39.2532,   -69.4888,       2645,    49.8,  17.1240,  34.6411,2,  34.6396,2,    238.0,2,   239.4,2,    0.61,2,    0.04,2,    0.00,2,    0.09,2,   2.502,2,   1.520,2,   0.163,2,  2023.1,2,  2303.5,2,    -999,9,     -999,9,    -999,9,    -999,9,    -999,9,    -999,   2.508,2,   70.70,2,    -999,9,   49.80,      757,  39.2411, -69.4897,    -999,     -999,    -999,   0.2320,2,   0.1650,2,   0.0740,2,   0.0450,2,   0.0190,2,   0.0200,2,  17.1158,    -999,9,       -999,9,    -999,9,    -999,9
 316N200310,        A22,      76,          1,         24,         24,2,20031112,       0643,    39.2532,   -69.4888,       2645,    75.9,  13.0702,  34.8470,2,  34.8412,2,    210.1,2,   209.4,2,    3.63,2,    8.05,2,    0.02,2,    0.64,2,   3.225,6,   1.798,6,   0.225,2,  2113.0,2,  2309.1,2,    -999,9,     -999,9,    -999,9,    -999,9,    -999,9,    -999,   1.480,2,   58.60,2,   13.70,2,   75.90,      755,  39.2416, -69.4895,    -999,     -999,    -999,   0.3410,2,   0.2600,2,   0.1390,3,   0.0950,3,   0.0150,3,   0.0150,3,  13.0598,    -999,9,       -999,9,    -999,9,    -999,9
 316N200310,        A22,      76,          1,         23,         23,2,20031112,       0643,    39.2532,   -69.4888,       2645,   100.1,  13.8847,  35.3713,2,  35.3593,2,    194.2,2,   191.4,2,    3.31,2,    9.18,2,    0.02,2,    0.63,2,   2.811,6,   1.580,6,   0.128,6,  2123.3,2,  2327.2,2,    -999,9,     -999,9,    -999,9,    -999,9,    -999,9,    -999,   0.971,6,   57.30,2,   13.20,2,  100.10,      754,  39.2419, -69.4893,    -999,     -999,    -999,   0.2120,2,   0.1550,2,   0.0740,2,   0.0490,2,   0.0170,2,   0.0180,2,  13.8703,    -999,9,       -999,9,    -999,9,    -999,9
 316N200310,        A22,      76,          1,         22,         22,2,20031112,       0643,    39.2532,   -69.4888,       2645,   125.7,  14.0772,  35.6389,2,  35.6413,2,    184.5,2,   174.0,2,    3.91,2,   11.70,2,    0.02,2,    0.72,2,   2.430,2,   1.417,2,   0.079,2,  2139.4,2,  2341.4,2,    -999,9,     -999,9,    -999,9,    -999,9,    -999,9,    -999,   0.670,2,   54.60,2,   15.30,2,  125.70,      752,  39.2422, -69.4891,    -999,     -999,    -999,   0.1600,2,   0.1150,2,   0.0540,2,   0.0370,2,   0.0170,2,   0.0190,2,  14.0589,    -999,9,       -999,9,    -999,9,    -999,9
 316N200310,        A22,      76,          1,         21,         21,2,20031112,       0643,    39.2532,   -69.4888,       2645,   150.3,  13.3971,  35.5781,2,  35.5805,2,    176.9,2,   180.8,2,    4.30,2,   12.41,2,    0.02,2,    0.77,2,   2.440,2,   1.402,2,   0.082,2,  2139.4,2,  2338.1,2,    -999,9,     -999,9,    -999,9,    -999,9,    -999,9,    -999,   0.677,2,    -999,5,   16.20,2,  150.30,      750,  39.2427, -69.4890,    -999,     -999,    -999,   0.1540,2,   0.1100,2,   0.0520,2,   0.0350,2,   0.0170,2,   0.0190,2,  13.3760,    -999,9,       -999,9,    -999,9,    -999,9
 316N200310,        A22,      76,          1,         20,         20,2,20031112,       0643,    39.2532,   -69.4888,       2645,   200.8,  12.4260,  35.5156,2,  35.5137,2,    180.6,2,   184.8,2,    5.81,2,   14.34,2,    0.01,2,    0.89,2,   2.311,2,   1.334,2,   0.107,2,  2148.6,2,  2335.9,2,    -999,9,     -999,9,    -999,9,    -999,9,    -999,9,    -999,   0.728,2,    -999,5,   18.00,2,  200.80,      749,  39.2431, -69.4890,    -999,     -999,    -999,   0.1420,2,   0.1010,2,   0.0470,2,   0.0310,2,   0.0180,2,   0.0190,2,  12.3991,    -999,9,       -999,9,    -999,9,    -999,9
 316N200310,        A22,      76,          1,         19,         19,2,20031112,       0643,    39.2532,   -69.4888,       2645,   251.9,  11.4566,  35.4413,2,  35.4399,2,    159.9,2,   151.4,2,    9.34,2,   19.68,2,    0.01,2,    1.22,2,   1.584,2,   0.865,2,   0.046,2,  2173.2,2,  2331.3,2,    -999,9,     -999,9,    -999,9,    -999,9,    -999,9,    -999,   0.490,2,   48.70,2,   24.00,3,  251.90,      747,  39.2433, -69.4890,    -999,     -999,    -999,   0.1280,2,   0.0900,2,   0.0430,2,   0.0300,2,   0.0170,2,   0.0190,2,  11.4245,    -999,9,       -999,9,    -999,9,    -999,9
 316N200310,        A22,      76,          1,         18,         18,2,20031112,       0643,    39.2532,   -69.4888,       2645,   301.5,   9.8928,  35.2614,2,  35.2595,2,    143.0,2,   143.5,2,   12.07,2,   22.71,2,    0.01,2,    1.43,2,   1.245,2,   0.676,2,   0.033,2,  2186.7,2,  2322.8,2,    -999,9,     -999,9,    -999,9,    -999,9,    -999,9,    -999,   0.492,2,    -999,5,   27.00,3,  301.50,      745,  39.2437, -69.4890,    -999,     -999,    -999,   0.1330,2,   0.0940,2,   0.0450,2,   0.0310,2,   0.0170,2,   0.0190,2,   9.8578,    -999,9,       -999,9,    -999,9,    -999,9
 316N200310,        A22,      76,          1,         17,         17,2,20031112,       0643,    39.2532,   -69.4888,       2645,   399.8,   7.7245,  35.0943,2,  35.0931,2,    156.5,2,   164.9,2,   13.58,2,   23.07,2,    0.01,2,    1.49,2,   1.326,2,   0.692,2,   0.051,2,  2189.4,2,  2316.3,2,    -999,9,     -999,9,    -999,9,    -999,9,    -999,9,    -999,   0.885,2,    -999,5,    -999,9,  399.80,      742,  39.2441, -69.4891,    -999,     -999,    -999,   0.1320,2,   0.0910,2,   0.0430,2,   0.0290,2,   0.0180,2,   0.0200,2,   7.6843,    -999,9,       -999,9,    -999,9,    -999,9
 316N200310,        A22,      76,          1,         16,         16,2,20031112,       0643,    39.2532,   -69.4888,       2645,   501.4,   6.4280,  35.0459,2,  35.0453,2,    190.7,2,   192.8,2,   13.16,2,   21.46,2,    0.01,2,    1.40,2,   1.560,2,   0.803,2,   0.064,2,  2184.1,2,  2314.8,2,    -999,9,     -999,9,    -999,9,    -999,9,    -999,9,    -999,   1.279,2,    -999,5,    -999,9,  501.40,      739,  39.2446, -69.4895,    -999,     -999,    -999,   0.1750,2,   0.1230,2,   0.0610,2,   0.0420,2,   0.0160,2,   0.0180,2,   6.3821,    -999,9,       -999,9,    -999,9,    -999,9
 316N200310,        A22,      76,          1,         15,         15,2,20031112,       0643,    39.2532,   -69.4888,       2645,   625.4,   5.3626,  35.0038,2,  35.0024,2,    220.0,2,   223.8,2,   12.15,2,   19.54,2,    0.00,2,    1.28,2,   2.072,2,   1.076,2,   0.113,2,  2176.1,2,  2312.2,2,    -999,9,     -999,9,    -999,9,    -999,9,    -999,9,    -999,   1.884,2,    -999,9,    -999,9,  625.40,      736,  39.2452, -69.4898,    -999,     -999,    -999,     -999,9,     -999,9,     -999,9,     -999,9,     -999,9,     -999,9,   5.3099,    -999,9,       -999,9,    -999,9,    -999,9
 316N200310,        A22,      76,          1,         14,         14,2,20031112,       0643,    39.2532,   -69.4888,       2645,   752.4,   4.9493,  35.0086,2,  35.0100,2,    237.8,2,   236.6,2,   11.74,2,   18.79,2,    0.00,2,    1.23,2,   2.077,2,   1.057,2,   0.117,2,  2171.5,2,  2312.9,2,    -999,9,     -999,9,    -999,9,    -999,9,    -999,9,    -999,   1.980,2,   46.30,2,    -999,9,  752.40,      732,  39.2457, -69.4899,    -999,     -999,    -999,     -999,9,     -999,9,     -999,9,     -999,9,     -999,9,     -999,9,   4.8876,    -999,9,       -999,9,    -999,9,    -999,9
 316N200310,        A22,      76,          1,         13,         13,2,20031112,       0643,    39.2532,   -69.4888,       2645,   901.5,   4.5338,  34.9917,2,  34.9909,2,    250.7,2,   249.3,2,   11.42,2,   18.24,2,    0.00,2,    1.19,2,   2.147,2,   1.128,2,   0.109,2,  2168.2,2,  2310.1,2,    -999,9,   1.7318,2,   -2.11,2,    -999,9,    -999,9,    -999,   2.158,2,    -999,9,    -999,9,  901.50,      728,  39.2462, -69.4899,    -999,   0.0087,    0.15,     -999,9,     -999,9,     -999,9,     -999,9,     -999,9,     -999,9,   4.4618,    -999,9,       -999,9,    -999,9,    -999,9
 316N200310,        A22,      76,          1,         12,         12,2,20031112,       0643,    39.2532,   -69.4888,       2645,  1050.6,   4.2511,  34.9779,2,  34.9785,2,    256.9,2,   256.1,2,   11.51,2,   17.99,2,    0.00,2,    1.17,2,   2.064,2,   1.047,2,   0.114,2,  2164.4,2,  2308.2,2,    -999,9,     -999,9,    -999,9,    -999,9,    -999,9,    -999,   2.196,2,   46.00,2,    -999,9, 1050.60,      725,  39.2465, -69.4902,    -999,     -999,    -999,     -999,9,     -999,9,     -999,9,     -999,9,     -999,9,     -999,9,   4.1683,    -999,9,       -999,9,    -999,9,    -999,9
 316N200310,        A22,      76,          1,         11,         11,2,20031112,       0643,    39.2532,   -69.4888,       2645,  1199.3,   4.0369,  34.9658,2,  34.9663,2,    261.2,2,   260.7,2,   11.61,2,   17.79,2,    0.00,2,    1.16,2,   1.988,2,   0.995,2,   0.101,2,  2162.1,2,  2312.7,2,    -999,9,   1.7981,2,   -0.60,2,    -999,9,    -999,9,    -999,   2.230,2,    -999,9,    -999,9, 1199.30,      721,  39.2472, -69.4904,    -999,   0.0090,    0.15,     -999,9,     -999,9,     -999,9,     -999,9,     -999,9,     -999,9,   3.9431,    -999,9,       -999,9,    -999,9,    -999,9
 316N200310,        A22,      76,          1,         10,         10,2,20031112,       0643,    39.2532,   -69.4888,       2645,  1325.2,   3.9026,  34.9589,2,  34.9579,2,    263.8,2,   263.6,2,   11.80,2,   17.75,2,    0.00,2,    1.16,2,   1.886,2,   0.938,2,   0.103,2,  2161.1,2,  2308.9,2,    -999,9,   1.7703,2,    0.04,2,    -999,9,    -999,9,    -999,   2.190,2,    -999,5,    -999,9, 1325.20,      717,  39.2478, -69.4904,    -999,   0.0089,    0.15,     -999,9,     -999,9,     -999,9,     -999,9,     -999,9,     -999,9,   3.7991,    -999,9,       -999,9,    -999,9,    -999,9
 316N200310,        A22,      76,          1,          9,          9,2,20031112,       0643,    39.2532,   -69.4888,       2645,  1452.5,   3.8037,  34.9534,2,  34.9532,2,    265.8,2,   265.5,2,   11.89,2,   17.64,2,    0.00,2,    1.16,2,   1.788,2,   0.903,2,   0.085,2,  2161.2,2,  2306.1,2,   1.041,2,   1.8000,2,    6.01,2,    -999,9,    -999,9,    -999,   2.156,2,    -999,9,    -999,9, 1452.50,      714,  39.2482, -69.4906,   0.013,   0.0090,    0.15,     -999,9,     -999,9,     -999,9,     -999,9,     -999,9,     -999,9,   3.6900,    -999,9,       -999,9,    -999,9,    -999,9
 316N200310,        A22,      76,          1,          8,          8,2,20031112,       0643,    39.2532,   -69.4888,       2645,  1576.9,   3.6825,  34.9467,2,  34.9481,2,    267.6,2,   267.7,2,   12.20,2,   17.59,2,    0.00,2,    1.15,2,   1.709,2,   0.867,2,   0.083,2,  2159.9,2,  2305.9,2,   0.802,2,   1.8072,2,    7.28,2,    -999,9,    -999,9,    -999,   2.140,2,    -999,5,    -999,9, 1576.90,      711,  39.2483, -69.4909,   0.017,   0.0090,    0.15,     -999,9,     -999,9,     -999,9,     -999,9,     -999,9,     -999,9,   3.5590,    -999,9,       -999,9,    -999,9,    -999,9
 316N200310,        A22,      76,          1,          7,          7,2,20031112,       0643,    39.2532,   -69.4888,       2645,  1700.7,   3.5832,  34.9434,2,  34.9437,2,    269.1,2,   268.4,2,   12.69,2,   17.59,2,    0.00,2,    1.14,2,   1.628,2,   0.819,2,   0.060,2,  2158.1,2,  2309.3,2,   0.693,2,   1.8159,2,    7.36,2,    -999,9,    -999,9,    -999,   2.037,2,   44.60,2,    -999,9, 1700.70,      708,  39.2486, -69.4910,   0.012,   0.0091,    0.15,     -999,9,     -999,9,     -999,9,     -999,9,     -999,9,     -999,9,   3.4498,    -999,9,       -999,9,    -999,9,    -999,9
 316N200310,        A22,      76,          1,          6,          6,2,20031112,       0643,    39.2532,   -69.4888,       2645,  1849.9,   3.4846,  34.9419,2,  34.9429,2,    269.0,2,   269.0,2,   13.29,2,   17.54,2,    0.00,2,    1.15,2,   1.479,2,   0.733,2,   0.065,2,  2159.3,2,  2309.0,2,   0.678,2,   1.8317,2,    7.21,2,    -999,9,    -999,9,    -999,   1.899,2,    -999,9,    -999,9, 1849.90,      704,  39.2492, -69.4912,   0.012,   0.0092,    0.15,     -999,9,     -999,9,     -999,9,     -999,9,     -999,9,     -999,9,   3.3388,    -999,9,       -999,9,    -999,9,    -999,9
 316N200310,        A22,      76,          1,          5,          5,2,20031112,       0643,    39.2532,   -69.4888,       2645,  2000.5,   3.4036,  34.9447,2,  34.9453,2,    268.4,2,   268.5,2,   14.20,2,   17.44,2,    0.00,2,    1.16,2,   1.268,2,   0.612,2,   0.052,2,  2158.8,2,  2311.4,2,   0.864,2,   1.8542,2,    7.96,2,    -999,9,    -999,9,    -999,   1.713,2,   44.10,2,    -999,9, 2000.50,      700,  39.2497, -69.4912,   0.013,   0.0093,    0.15,     -999,9,     -999,9,     -999,9,     -999,9,     -999,9,     -999,9,   3.2449,    -999,9,       -999,9,    -999,9,    -999,9
 316N200310,        A22,      76,          1,          4,          4,2,20031112,       0643,    39.2532,   -69.4888,       2645,  2199.8,   3.2729,  34.9472,2,  34.9475,2,    266.7,2,   266.6,2,   15.92,2,   17.64,2,    0.00,2,    1.17,2,   0.959,2,   0.469,2,   0.036,2,  2161.3,2,  2312.5,2,   0.939,2,   1.8483,2,    8.49,2,    -999,9,    -999,9,    -999,   1.391,2,    -999,9,    -999,9, 2199.80,      656,  39.2503, -69.4910,   0.013,   0.0092,    0.15,     -999,9,     -999,9,     -999,9,     -999,9,     -999,9,     -999,9,   3.0973,    -999,9,       -999,9,    -999,9,    -999,9
 316N200310,        A22,      76,          1,          3,          3,2,20031112,       0643,    39.2532,   -69.4888,       2645,  2348.4,   3.1233,  34.9429,2,  34.9441,2,    266.1,2,   266.7,2,   17.02,2,   17.74,2,    0.00,2,    1.17,2,   0.877,2,   0.427,2,   0.034,2,  2160.3,2,  2313.9,2,   0.968,2,   1.8661,2,    8.04,2,    -999,9,    -999,9,    -999,   1.278,2,   43.90,2,    -999,9, 2348.40,      653,  39.2512, -69.4907,   0.013,   0.0093,    0.15,     -999,9,     -999,9,     -999,9,     -999,9,     -999,9,     -999,9,   2.9359,    -999,9,       -999,9,    -999,9,    -999,9
 316N200310,        A22,      76,          1,          2,          2,2,20031112,       0643,    39.2532,   -69.4888,       2645,  2498.5,   2.9598,  34.9314,2,  34.9329,2,    269.1,2,   269.4,2,   17.01,2,   17.43,2,    0.00,2,    1.15,2,   1.108,2,   0.538,2,   0.041,2,  2160.5,2,  2312.7,2,    -999,9,     -999,9,    -999,9,    -999,9,    -999,9,    -999,   1.491,2,   45.60,2,    -999,9, 2498.50,      649,  39.2520, -69.4902,    -999,     -999,    -999,     -999,9,     -999,9,     -999,9,     -999,9,     -999,9,     -999,9,   2.7607,    -999,9,       -999,9,    -999,9,    -999,9
 316N200310,        A22,      76,          1,          1,          1,2,20031112,       0643,    39.2532,   -69.4888,       2645,  2663.5,   2.7801,  34.9221,2,  34.9229,2,    270.3,2,   271.5,2,   17.52,2,   17.19,2,    0.00,2,    1.14,2,   1.257,2,   0.623,2,   0.053,2,  2161.7,2,  2314.0,6,    -999,9,   1.8471,2,    7.95,2,    -999,9,    -999,9,    -999,   1.621,2,   45.30,2,    -999,9, 2663.50,      644,  39.2531, -69.4890,    -999,   0.0092,    0.15,     -999,9,     -999,9,     -999,9,     -999,9,     -999,9,     -999,9,   2.5682,    -999,9,       -999,9,    -999,9,    -999,9