BOTTLE,20220517CCHSIOLMM
EXPOCODE,SECT_ID,STNNBR,CASTNO,SAMPNO,BTLNBR,BTLNBR_FLAG_W,DATE,TIME,LATITUDE,LONGITUDE,DEPTH,CTDPRS,CTDTMP,CTDSAL,CTDSAL_FLAG_W,SALNTY,SALNTY_FLAG_W,CTDOXY,CTDOXY_FLAG_W,OXYGEN,OXYGEN_FLAG_W,SILCAT,SILCAT_FLAG_W,NITRAT,NITRAT_FLAG_W,NITRIT,NITRIT_FLAG_W,PHSPHT,PHSPHT_FLAG_W,CFC-11,CFC-11_FLAG_W,CFC-12,CFC-12_FLAG_W,CFC113,CFC113_FLAG_W,TCARBN,TCARBN_FLAG_W,ALKALI,ALKALI_FLAG_W,TRITUM,TRITUM_FLAG_W,HELIUM,HELIUM_FLAG_W,DELHE3,DELHE3_FLAG_W,DELC13,DELC13_FLAG_W,DELC14,DELC14_FLAG_W,C14ERR,CCL4,CCL4_FLAG_W,DOC,DOC_FLAG_W,TDN,TDN_FLAG_W,CTDRAW,BTL_TIME,BTL_LAT,BTL_LON,TRITER,HELIER,DELHER,CDOM325,CDOM325_FLAG_W,CDOM340,CDOM340_FLAG_W,CDOM380,CDOM380_FLAG_W,CDOM412,CDOM412_FLAG_W,CDOMSL,CDOMSL_FLAG_W,CDOMSN,CDOMSN_FLAG_W,THETA,BACT,BACT_FLAG_W,PROC,PROC_FLAG_W,SYN,SYN_FLAG_W,PEUK,PEUK_FLAG_W
,,,,,,,,,,,METERS,DBAR,ITS-90,PSS-78,,PSS-78,,UMOL/KG,,UMOL/KG,,UMOL/KG,,UMOL/KG,,UMOL/KG,,UMOL/KG,,PMOL/KG,,PMOL/KG,,PMOL/KG,,UMOL/KG,,UMOL/KG,,TU,,NMOL/KG,,PERCNT,,/MILLE,,/MILLE,,/MILLE,PMOL/KG,,UMOL/KG,,UMOL/KG,,DBAR,,,,TU,NMOL/KG,PERCNT,1/M,,1/M,,1/M,,1/M,,1/NM,,1/NM,,DEG C,E8/L,,E7/L,,E6/L,,E6/L,
 316N200310,        A22,      10,          1,          4,          4,2,20031026,       0210,    13.1815,   -66.0077,       5015,  4251.3,   4.3030,  34.9774,2,  34.9787,2,    216.1,2,   216.0,2,   27.90,2,   21.92,2,    0.00,2,    1.48,2,   0.031,2,   0.027,2,   0.003,2,  2198.5,2,  2338.6,2,    -999,9,     -999,9,    -999,9,    -999,9,    -999,9,    -999,    -999,9,   41.00,2,    -999,9, 4251.30,      229,  13.1840, -66.0071,    -999,     -999,    -999,     -999,9,     -999,9,     -999,9,     -999,9,     -999,9,     -999,9,   3.8729,    -999,9,       -999,9,    -999,9,    -999,9
 316N200310,        A22,      10,          1,          3,          3,2,20031026,       0210,    13.1815,   -66.0077,       5015,  4500.8,   4.3352,  34.9778,2,  34.9778,2,    216.3,2,   216.4,2,   28.12,2,   21.92,2,    0.00,2,    1.48,2,   0.044,2,   0.038,2,   0.002,2,  2198.8,2,  2341.8,2,    -999,9,     -999,9,    -999,9,    -999,9,    -999,9,    -999,    -999,9,    -999,9,    -999,9, 4500.80,      224,  13.1835, -66.0073,    -999,     -999,    -999,     -999,9,     -999,9,     -999,9,     -999,9,     -999,9,     -999,9,   3.8717,    -999,9,       -999,9,    -999,9,    -999,9
 316N200310,        A22,      10,          1,          2,          2,2,20031026,       0210,    13.1815,   -66.0077,       5015,  4750.3,   4.3695,  34.9779,2,  34.9762,2,    216.2,2,   215.9,2,   28.14,2,   21.93,2,    0.00,2,    1.48,2,   0.045,2,   0.035,2,   0.006,2,  2198.9,2,  2339.0,6,    -999,9,     -999,9,    -999,9,    -999,9,    -999,9,    -999,    -999,9,    -999,9,    -999,9, 4750.30,      218,  13.1825, -66.0075,    -999,     -999,    -999,     -999,9,     -999,9,     -999,9,     -999,9,     -999,9,     -999,9,   3.8718,    -999,9,       -999,9,    -999,9,    -999,9
 316N200310,        A22,      10,          1,          1,          1,2,20031026,       0210,    13.1815,   -66.0077,       5015,  5082.3,   4.4163,  34.9780,2,  34.9774,2,    215.9,2,   216.1,2,   28.25,2,   21.93,2,    0.00,2,    1.48,2,   0.043,2,   0.039,2,   0.006,2,  2197.7,2,  2335.1,2,    -999,9,     -999,9,    -999,9,    -999,9,    -999,9,    -999,    -999,9,   39.80,2,    -999,9, 5082.30,      211,  13.1815, -66.0077,    -999,     -999,    -999,     -999,9,     -999,9,     -999,9,     -999,9,     -999,9,     -999,9,   3.8718,    -999,9,       -999,9,    -999,9,    -999,9