BOTTLE,20220517CCHSIOLMM
EXPOCODE,SECT_ID,STNNBR,CASTNO,SAMPNO,BTLNBR,BTLNBR_FLAG_W,DATE,TIME,LATITUDE,LONGITUDE,DEPTH,CTDPRS,CTDTMP,CTDSAL,CTDSAL_FLAG_W,SALNTY,SALNTY_FLAG_W,CTDOXY,CTDOXY_FLAG_W,OXYGEN,OXYGEN_FLAG_W,SILCAT,SILCAT_FLAG_W,NITRAT,NITRAT_FLAG_W,NITRIT,NITRIT_FLAG_W,PHSPHT,PHSPHT_FLAG_W,CFC-11,CFC-11_FLAG_W,CFC-12,CFC-12_FLAG_W,CFC113,CFC113_FLAG_W,TCARBN,TCARBN_FLAG_W,ALKALI,ALKALI_FLAG_W,TRITUM,TRITUM_FLAG_W,HELIUM,HELIUM_FLAG_W,DELHE3,DELHE3_FLAG_W,DELC13,DELC13_FLAG_W,DELC14,DELC14_FLAG_W,C14ERR,CCL4,CCL4_FLAG_W,DOC,DOC_FLAG_W,TDN,TDN_FLAG_W,CTDRAW,BTL_TIME,BTL_LAT,BTL_LON,TRITER,HELIER,DELHER,CDOM325,CDOM325_FLAG_W,CDOM340,CDOM340_FLAG_W,CDOM380,CDOM380_FLAG_W,CDOM412,CDOM412_FLAG_W,CDOMSL,CDOMSL_FLAG_W,CDOMSN,CDOMSN_FLAG_W,THETA,BACT,BACT_FLAG_W,PROC,PROC_FLAG_W,SYN,SYN_FLAG_W,PEUK,PEUK_FLAG_W
,,,,,,,,,,,METERS,DBAR,ITS-90,PSS-78,,PSS-78,,UMOL/KG,,UMOL/KG,,UMOL/KG,,UMOL/KG,,UMOL/KG,,UMOL/KG,,PMOL/KG,,PMOL/KG,,PMOL/KG,,UMOL/KG,,UMOL/KG,,TU,,NMOL/KG,,PERCNT,,/MILLE,,/MILLE,,/MILLE,PMOL/KG,,UMOL/KG,,UMOL/KG,,DBAR,,,,TU,NMOL/KG,PERCNT,1/M,,1/M,,1/M,,1/M,,1/NM,,1/NM,,DEG C,E8/L,,E7/L,,E6/L,,E6/L,
 316N200310,        A22,       7,          1,         33,         33,2,20031025,       0931,    12.1902,   -66.0082,       4277,     4.5,  28.8879,  36.6225,2,  36.6166,2,    194.7,2,   193.4,2,    0.69,2,   -0.02,2,    0.00,2,    0.02,2,   1.544,2,   0.913,2,   0.092,2,  2043.6,2,  2388.0,2,    -999,9,     -999,9,    -999,9,    -999,9,    -999,9,    -999,   1.571,2,    -999,9,    -999,9,    4.50,     1120,  12.1999, -66.0096,    -999,     -999,    -999,   0.1020,2,   0.0670,2,   0.0280,2,   0.0190,2,   0.0240,2,   0.0260,2,  28.8868,    -999,9,       -999,9,    -999,9,    -999,9
 316N200310,        A22,       7,          1,         32,         32,2,20031025,       0931,    12.1902,   -66.0082,       4277,    25.1,  28.8897,  36.6223,2,  36.6193,2,    195.2,2,   193.3,2,    0.58,2,    0.00,2,    0.00,2,    0.02,2,   1.532,2,   0.918,2,   0.096,2,  2043.9,2,  2390.1,6,    -999,9,     -999,9,    -999,9,    -999,9,    -999,9,    -999,   1.574,2,    -999,9,    -999,9,   25.10,     1118,  12.1997, -66.0096,    -999,     -999,    -999,   0.0820,2,   0.0550,2,   0.0240,2,   0.0170,2,   0.0240,2,   0.0250,2,  28.8837,    -999,9,       -999,9,    -999,9,    -999,9
 316N200310,        A22,       7,          1,         31,         31,2,20031025,       0931,    12.1902,   -66.0082,       4277,    50.0,  26.3498,  36.6714,2,  36.6606,2,    197.2,2,   197.4,2,    0.65,2,    0.00,2,    0.00,2,    0.02,2,   1.765,2,   1.028,2,   0.079,2,  2057.8,2,  2390.6,2,    -999,9,     -999,9,    -999,9,    -999,9,    -999,9,    -999,   0.747,2,    -999,9,    -999,9,   50.00,     1116,  12.1995, -66.0096,    -999,     -999,    -999,   0.1790,2,   0.1270,2,   0.0600,2,   0.0420,2,   0.0160,2,   0.0180,2,  26.3384,    -999,9,       -999,9,    -999,9,    -999,9
 316N200310,        A22,       7,          1,         30,         30,2,20031025,       0931,    12.1902,   -66.0082,       4277,    74.8,  23.9014,  36.9482,2,  36.9453,2,    168.9,2,   168.2,2,    0.84,2,    1.41,2,    0.25,2,    0.12,2,   1.858,2,   1.093,2,   0.057,2,  2110.1,2,  2407.8,2,    -999,9,     -999,9,    -999,9,    -999,9,    -999,9,    -999,   0.274,2,    -999,9,    -999,9,   74.80,     1115,  12.1994, -66.0095,    -999,     -999,    -999,   0.1930,2,   0.1430,2,   0.0750,2,   0.0560,2,   0.0140,2,   0.0150,2,  23.8856,    -999,9,       -999,9,    -999,9,    -999,9
 316N200310,        A22,       7,          1,         29,         29,2,20031025,       0931,    12.1902,   -66.0082,       4277,   100.7,  22.1085,  36.9262,2,  36.9219,2,    151.2,2,   150.9,2,    1.53,2,    4.94,2,    0.08,2,    0.28,2,   1.987,2,   1.143,2,   0.039,2,  2134.4,2,  2404.0,2,    -999,9,     -999,9,    -999,9,    -999,9,    -999,9,    -999,   0.196,2,    -999,9,    -999,9,  100.70,     1113,  12.1993, -66.0092,    -999,     -999,    -999,   0.1750,2,   0.1300,2,   0.0690,2,   0.0540,2,   0.0130,2,   0.0150,2,  22.0884,    -999,9,       -999,9,    -999,9,    -999,9
 316N200310,        A22,       7,          1,         28,         28,2,20031025,       0931,    12.1902,   -66.0082,       4277,   124.6,  20.8648,  36.8271,2,  36.8101,2,    147.0,2,   146.3,2,    1.91,2,    6.51,2,    0.03,2,    0.36,2,   1.982,2,   1.149,2,   0.022,2,  2144.3,2,  2397.5,2,    -999,9,     -999,9,    -999,9,    -999,9,    -999,9,    -999,   0.180,2,    -999,9,    -999,9,  124.60,     1112,  12.1992, -66.0091,    -999,     -999,    -999,   0.1580,2,   0.1160,2,   0.0600,2,   0.0460,2,   0.0140,2,   0.0150,2,  20.8408,    -999,9,       -999,9,    -999,9,    -999,9
 316N200310,        A22,       7,          1,         27,         27,2,20031025,       0931,    12.1902,   -66.0082,       4277,   150.2,  18.8991,  36.5877,2,  36.5745,2,    145.0,2,   146.6,2,    2.51,2,    8.66,2,    0.01,2,    0.49,2,   2.041,2,   1.172,2,   0.014,2,  2147.5,2,  2382.9,2,    -999,9,     -999,9,    -999,9,    -999,9,    -999,9,    -999,   0.215,2,    -999,9,    -999,9,  150.20,     1111,  12.1991, -66.0089,    -999,     -999,    -999,   0.1630,2,   0.1220,2,   0.0660,2,   0.0500,2,   0.0130,2,   0.0140,2,  18.8721,    -999,9,       -999,9,    -999,9,    -999,9
 316N200310,        A22,       7,          1,         26,         26,2,20031025,       0931,    12.1902,   -66.0082,       4277,   200.1,  17.5940,  36.3927,2,  36.3857,2,    145.7,2,   146.2,2,    3.19,2,   10.54,2,    0.01,2,    0.60,2,   2.040,2,   1.148,2,   0.009,2,    -999,9,    -999,9,    -999,9,     -999,9,    -999,9,    -999,9,    -999,9,    -999,   0.239,2,    -999,9,    -999,9,  200.10,     1109,  12.1990, -66.0087,    -999,     -999,    -999,     -999,9,     -999,9,     -999,9,     -999,9,     -999,9,     -999,9,  17.5599,    -999,9,       -999,9,    -999,9,    -999,9
 316N200310,        A22,       7,          1,         25,         25,2,20031025,       0931,    12.1902,   -66.0082,       4277,   250.2,  15.0471,  35.9477,2,  35.9455,2,    137.6,2,   136.5,2,    5.40,2,   15.70,2,    0.01,2,    0.93,2,   1.879,2,   1.004,2,   0.014,2,    -999,9,    -999,9,    -999,9,     -999,9,    -999,9,    -999,9,    -999,9,    -999,   0.267,2,    -999,9,    -999,9,  250.20,     1107,  12.1989, -66.0084,    -999,     -999,    -999,     -999,9,     -999,9,     -999,9,     -999,9,     -999,9,     -999,9,  15.0087,    -999,9,       -999,9,    -999,9,    -999,9
 316N200310,        A22,       7,          1,         24,         24,2,20031025,       0931,    12.1902,   -66.0082,       4277,   300.7,  13.2026,  35.6228,2,  35.1746,4,    127.1,2,   128.0,2,    8.01,2,   19.74,2,    0.00,2,    1.21,2,   1.622,2,   0.858,2,   0.012,2,    -999,9,    -999,9,    -999,9,     -999,9,    -999,9,    -999,9,    -999,9,    -999,   0.282,2,    -999,9,    -999,9,  300.70,     1105,  12.1987, -66.0082,    -999,     -999,    -999,     -999,9,     -999,9,     -999,9,     -999,9,     -999,9,     -999,9,  13.1604,    -999,9,       -999,9,    -999,9,    -999,9
 316N200310,        A22,       7,          1,         23,         23,2,20031025,       0931,    12.1902,   -66.0082,       4277,   400.4,  10.3712,  35.1719,2,  35.6277,4,    119.5,2,   119.8,2,   12.55,2,   25.77,2,    0.00,2,    1.63,2,   1.093,6,   0.581,6,   0.024,2,    -999,9,    -999,9,    -999,9,     -999,9,    -999,9,    -999,9,    -999,9,    -999,   0.308,2,    -999,9,    -999,9,  400.40,     1102,  12.1984, -66.0080,    -999,     -999,    -999,     -999,9,     -999,9,     -999,9,     -999,9,     -999,9,     -999,9,  10.3231,    -999,9,       -999,9,    -999,9,    -999,9
 316N200310,        A22,       7,          1,         22,         22,2,20031025,       0931,    12.1902,   -66.0082,       4277,   500.6,   8.8138,  34.9540,2,  34.9514,2,    118.3,2,   118.7,2,   15.88,2,   28.95,2,    0.00,2,    1.86,2,   0.744,2,   0.409,2,   0.027,2,    -999,9,    -999,9,    -999,9,     -999,9,    -999,9,    -999,9,    -999,9,    -999,   0.307,2,    -999,9,    -999,9,  500.60,     1100,  12.1981, -66.0077,    -999,     -999,    -999,     -999,9,     -999,9,     -999,9,     -999,9,     -999,9,     -999,9,   8.7592,    -999,9,       -999,9,    -999,9,    -999,9
 316N200310,        A22,       7,          1,         21,         21,2,20031025,       0931,    12.1902,   -66.0082,       4277,   625.2,   7.3992,  34.8097,2,  34.8064,2,    121.8,2,   123.5,2,   20.02,2,   31.33,2,    0.00,2,    2.04,2,   0.405,2,   0.225,2,   0.007,2,    -999,9,    -999,9,    -999,9,     -999,9,    -999,9,    -999,9,    -999,9,    -999,   0.261,2,    -999,9,    -999,9,  625.20,     1056,  12.1977, -66.0074,    -999,     -999,    -999,     -999,9,     -999,9,     -999,9,     -999,9,     -999,9,     -999,9,   7.3371,    -999,9,       -999,9,    -999,9,    -999,9
 316N200310,        A22,       7,          1,         20,         20,2,20031025,       0931,    12.1902,   -66.0082,       4277,   750.5,   6.3618,  34.7714,2,  34.7712,2,    131.0,2,   131.7,2,   23.35,2,   31.73,2,    0.00,2,    2.10,2,   0.170,2,   0.102,2,   0.005,2,    -999,9,    -999,9,    -999,9,     -999,9,    -999,9,    -999,9,    -999,9,    -999,   0.177,2,    -999,9,    -999,9,  750.50,     1053,  12.1975, -66.0073,    -999,     -999,    -999,     -999,9,     -999,9,     -999,9,     -999,9,     -999,9,     -999,9,   6.2925,    -999,9,       -999,9,    -999,9,    -999,9
 316N200310,        A22,       7,          1,         19,         19,2,20031025,       0931,    12.1902,   -66.0082,       4277,   900.1,   5.6604,  34.8449,2,  34.8453,2,    154.0,2,   153.9,2,   24.34,2,   29.19,2,    0.00,2,    1.94,2,   0.091,2,   0.053,2,   0.002,2,    -999,9,    -999,9,    -999,9,     -999,9,    -999,9,    -999,9,    -999,9,    -999,   0.127,2,    -999,9,    -999,9,  900.10,     1050,  12.1973, -66.0071,    -999,     -999,    -999,     -999,9,     -999,9,     -999,9,     -999,9,     -999,9,     -999,9,   5.5810,    -999,9,       -999,9,    -999,9,    -999,9
 316N200310,        A22,       7,          1,         18,         18,2,20031025,       0931,    12.1902,   -66.0082,       4277,  1050.3,   4.9941,  34.9286,2,  34.9294,2,    181.7,2,   181.8,2,   24.63,2,   25.69,2,    0.00,2,    1.73,2,   0.057,2,   0.034,2,   0.002,2,    -999,9,    -999,9,    -999,9,     -999,9,    -999,9,    -999,9,    -999,9,    -999,   0.119,2,    -999,9,    -999,9, 1050.30,     1046,  12.1971, -66.0067,    -999,     -999,    -999,     -999,9,     -999,9,     -999,9,     -999,9,     -999,9,     -999,9,   4.9055,    -999,9,       -999,9,    -999,9,    -999,9
 316N200310,        A22,       7,          1,         17,         17,2,20031025,       0931,    12.1902,   -66.0082,       4277,  1200.1,   4.6430,  34.9539,2,  34.9542,2,    196.4,2,   195.3,2,   24.61,2,   24.18,2,    0.00,2,    1.63,2,   0.049,2,   0.038,2,   0.005,2,    -999,9,    -999,9,    -999,9,     -999,9,    -999,9,    -999,9,    -999,9,    -999,   0.125,2,    -999,9,    -999,9, 1200.10,     1043,  12.1970, -66.0064,    -999,     -999,    -999,     -999,9,     -999,9,     -999,9,     -999,9,     -999,9,     -999,9,   4.5437,    -999,9,       -999,9,    -999,9,    -999,9
 316N200310,        A22,       7,          1,         16,         16,2,20031025,       0931,    12.1902,   -66.0082,       4277,  1324.9,   4.4595,  34.9627,2,  34.9665,2,    202.0,2,   201.9,2,   25.11,2,   23.47,2,    0.00,2,    1.58,2,   0.047,2,   0.025,2,   0.005,2,    -999,9,    -999,9,    -999,9,     -999,9,    -999,9,    -999,9,    -999,9,    -999,   0.126,2,    -999,9,    -999,9, 1324.90,     1040,  12.1970, -66.0060,    -999,     -999,    -999,     -999,9,     -999,9,     -999,9,     -999,9,     -999,9,     -999,9,   4.3504,    -999,9,       -999,9,    -999,9,    -999,9
 316N200310,        A22,       7,          1,         15,         15,2,20031025,       0931,    12.1902,   -66.0082,       4277,  1450.7,   4.3326,  34.9682,2,  34.9687,2,    206.6,2,   206.5,2,   25.49,2,   23.06,2,    0.00,2,    1.55,2,   0.046,2,   0.033,2,   0.002,2,    -999,9,    -999,9,    -999,9,     -999,9,    -999,9,    -999,9,    -999,9,    -999,   0.126,2,    -999,9,    -999,9, 1450.70,     1037,  12.1970, -66.0056,    -999,     -999,    -999,     -999,9,     -999,9,     -999,9,     -999,9,     -999,9,     -999,9,   4.2132,    -999,9,       -999,9,    -999,9,    -999,9
 316N200310,        A22,       7,          1,         14,         14,2,20031025,       0931,    12.1902,   -66.0082,       4277,  1576.1,   4.2288,  34.9717,2,  34.9717,2,    209.5,2,   209.5,2,   26.29,2,   22.71,2,    0.00,2,    1.53,2,   0.038,2,   0.024,2,   0.004,2,    -999,9,    -999,9,    -999,9,     -999,9,    -999,9,    -999,9,    -999,9,    -999,   0.114,2,    -999,9,    -999,9, 1576.10,     1034,  12.1970, -66.0052,    -999,     -999,    -999,     -999,9,     -999,9,     -999,9,     -999,9,     -999,9,     -999,9,   4.0989,    -999,9,       -999,9,    -999,9,    -999,9
 316N200310,        A22,       7,          1,         13,         13,2,20031025,       0931,    12.1902,   -66.0082,       4277,  1701.6,   4.1551,  34.9737,2,  34.9740,2,    212.2,2,   212.2,2,   26.68,2,   22.45,2,    0.00,2,    1.50,2,   0.035,2,   0.026,2,   0.002,2,    -999,9,    -999,9,    -999,9,     -999,9,    -999,9,    -999,9,    -999,9,    -999,   0.109,2,    -999,9,    -999,9, 1701.60,     1030,  12.1969, -66.0050,    -999,     -999,    -999,     -999,9,     -999,9,     -999,9,     -999,9,     -999,9,     -999,9,   4.0143,    -999,9,       -999,9,    -999,9,    -999,9
 316N200310,        A22,       7,          1,         12,         12,2,20031025,       0931,    12.1902,   -66.0082,       4277,  1851.0,   4.1185,  34.9747,2,  34.9705,4,    213.1,2,   213.3,2,   27.17,2,   22.35,2,    0.00,2,    1.50,2,   0.026,2,   0.024,2,   0.002,2,    -999,9,    -999,9,    -999,9,     -999,9,    -999,9,    -999,9,    -999,9,    -999,   0.100,2,    -999,9,    -999,9, 1851.00,     1027,  12.1966, -66.0052,    -999,     -999,    -999,     -999,9,     -999,9,     -999,9,     -999,9,     -999,9,     -999,9,   3.9638,    -999,9,       -999,9,    -999,9,    -999,9
 316N200310,        A22,       7,          1,         11,         11,2,20031025,       0931,    12.1902,   -66.0082,       4277,  2001.0,   4.0932,  34.9754,2,  34.9689,4,    213.9,2,   214.3,2,   27.45,2,   22.24,2,    0.00,2,    1.50,2,   0.028,6,   0.026,6,   0.002,6,    -999,9,    -999,9,    -999,9,     -999,9,    -999,9,    -999,9,    -999,9,    -999,   0.094,6,    -999,9,    -999,9, 2001.00,     1023,  12.1963, -66.0056,    -999,     -999,    -999,     -999,9,     -999,9,     -999,9,     -999,9,     -999,9,     -999,9,   3.9242,    -999,9,       -999,9,    -999,9,    -999,9
 316N200310,        A22,       7,          1,         10,         10,2,20031025,       0931,    12.1902,   -66.0082,       4277,  2250.2,   4.0896,  34.9760,2,  34.9721,4,    213.7,2,   214.1,2,   28.35,2,   22.23,2,    0.00,2,    1.50,2,   0.024,2,   0.028,2,   0.004,4,    -999,9,    -999,9,    -999,9,     -999,9,    -999,9,    -999,9,    -999,9,    -999,   0.087,2,    -999,9,    -999,9, 2250.20,     1018,  12.1958, -66.0060,    -999,     -999,    -999,     -999,9,     -999,9,     -999,9,     -999,9,     -999,9,     -999,9,   3.8957,    -999,9,       -999,9,    -999,9,    -999,9
 316N200310,        A22,       7,          1,          9,          9,2,20031025,       0931,    12.1902,   -66.0082,       4277,  2502.2,   4.1124,  34.9761,2,  34.9702,4,    213.8,2,   215.0,2,   28.23,2,   22.18,2,    0.00,2,    1.51,2,   0.024,2,   0.027,2,   0.004,2,    -999,9,    -999,9,    -999,9,     -999,9,    -999,9,    -999,9,    -999,9,    -999,   0.083,2,    -999,9,    -999,9, 2502.20,     1012,  12.1953, -66.0068,    -999,     -999,    -999,     -999,9,     -999,9,     -999,9,     -999,9,     -999,9,     -999,9,   3.8919,    -999,9,       -999,9,    -999,9,    -999,9
 316N200310,        A22,       7,          1,          8,          8,2,20031025,       0931,    12.1902,   -66.0082,       4277,  2752.6,   4.1350,  34.9762,2,  34.9721,4,    214.5,2,   214.6,2,   28.32,2,   22.17,2,    0.00,2,    1.50,2,   0.022,2,   0.028,2,   0.002,2,    -999,9,    -999,9,    -999,9,     -999,9,    -999,9,    -999,9,    -999,9,    -999,   0.075,2,    -999,9,    -999,9, 2752.60,     1007,  12.1949, -66.0075,    -999,     -999,    -999,     -999,9,     -999,9,     -999,9,     -999,9,     -999,9,     -999,9,   3.8871,    -999,9,       -999,9,    -999,9,    -999,9
 316N200310,        A22,       7,          1,          7,          7,2,20031025,       0931,    12.1902,   -66.0082,       4277,  3005.1,   4.1571,  34.9764,2,  34.9715,4,    214.9,2,   215.6,2,   28.19,2,   22.17,2,    0.00,2,    1.50,2,   0.023,2,   0.026,2,   0.002,2,    -999,9,    -999,9,    -999,9,     -999,9,    -999,9,    -999,9,    -999,9,    -999,   0.078,2,    -999,9,    -999,9, 3005.10,     1001,  12.1946, -66.0082,    -999,     -999,    -999,     -999,9,     -999,9,     -999,9,     -999,9,     -999,9,     -999,9,   3.8809,    -999,9,       -999,9,    -999,9,    -999,9
 316N200310,        A22,       7,          1,          6,          6,2,20031025,       0931,    12.1902,   -66.0082,       4277,  3203.7,   4.1786,  34.9766,2,  34.9716,4,    215.4,2,   215.3,2,   28.39,2,   22.11,2,    0.00,2,    1.50,2,   0.026,2,   0.024,2,   0.002,2,    -999,9,    -999,9,    -999,9,     -999,9,    -999,9,    -999,9,    -999,9,    -999,   0.088,2,    -999,9,    -999,9, 3203.70,      956,  12.1940, -66.0089,    -999,     -999,    -999,     -999,9,     -999,9,     -999,9,     -999,9,     -999,9,     -999,9,   3.8792,    -999,9,       -999,9,    -999,9,    -999,9
 316N200310,        A22,       7,          1,          5,          5,2,20031025,       0931,    12.1902,   -66.0082,       4277,  3402.1,   4.1993,  34.9767,2,  34.9713,4,    215.5,2,   215.5,2,   28.16,2,   22.11,2,    0.00,2,    1.49,2,   0.029,2,   0.034,2,   0.006,2,    -999,9,    -999,9,    -999,9,     -999,9,    -999,9,    -999,9,    -999,9,    -999,   0.091,2,    -999,9,    -999,9, 3402.10,      952,  12.1934, -66.0093,    -999,     -999,    -999,     -999,9,     -999,9,     -999,9,     -999,9,     -999,9,     -999,9,   3.8764,    -999,9,       -999,9,    -999,9,    -999,9
 316N200310,        A22,       7,          1,          4,          4,2,20031025,       0931,    12.1902,   -66.0082,       4277,  3601.3,   4.2226,  34.9769,2,  34.9726,4,    215.8,2,   215.7,2,   28.05,2,   22.11,2,    0.00,2,    1.49,2,   0.031,2,   0.030,2,   0.002,2,    -999,9,    -999,9,    -999,9,     -999,9,    -999,9,    -999,9,    -999,9,    -999,   0.091,2,    -999,9,    -999,9, 3601.30,      947,  12.1927, -66.0091,    -999,     -999,    -999,     -999,9,     -999,9,     -999,9,     -999,9,     -999,9,     -999,9,   3.8755,    -999,9,       -999,9,    -999,9,    -999,9
 316N200310,        A22,       7,          1,          3,          3,2,20031025,       0931,    12.1902,   -66.0082,       4277,  3800.9,   4.2478,  34.9770,2,  34.9726,4,    216.0,2,   215.6,2,   28.23,2,   22.11,2,    0.00,2,    1.48,2,   0.029,2,   0.026,2,   0.002,2,    -999,9,    -999,9,    -999,9,     -999,9,    -999,9,    -999,9,    -999,9,    -999,   0.092,2,    -999,9,    -999,9, 3800.90,      943,  12.1921, -66.0087,    -999,     -999,    -999,     -999,9,     -999,9,     -999,9,     -999,9,     -999,9,     -999,9,   3.8758,    -999,9,       -999,9,    -999,9,    -999,9
 316N200310,        A22,       7,          1,          2,          2,2,20031025,       0931,    12.1902,   -66.0082,       4277,  4050.3,   4.2795,  34.9771,2,     -999,5,    216.1,2,   215.8,2,   28.12,2,   22.10,2,    0.00,2,    1.49,2,   0.035,2,   0.036,2,   0.002,2,    -999,9,    -999,9,    -999,9,     -999,9,    -999,9,    -999,9,    -999,9,    -999,   0.094,2,    -999,9,    -999,9, 4050.30,      937,  12.1912, -66.0085,    -999,     -999,    -999,     -999,9,     -999,9,     -999,9,     -999,9,     -999,9,     -999,9,   3.8756,    -999,9,       -999,9,    -999,9,    -999,9