BOTTLE,20220517CCHSIOLMM
EXPOCODE,SECT_ID,STNNBR,CASTNO,SAMPNO,BTLNBR,BTLNBR_FLAG_W,DATE,TIME,LATITUDE,LONGITUDE,DEPTH,CTDPRS,CTDTMP,CTDSAL,CTDSAL_FLAG_W,SALNTY,SALNTY_FLAG_W,CTDOXY,CTDOXY_FLAG_W,OXYGEN,OXYGEN_FLAG_W,SILCAT,SILCAT_FLAG_W,NITRAT,NITRAT_FLAG_W,NITRIT,NITRIT_FLAG_W,PHSPHT,PHSPHT_FLAG_W,CFC-11,CFC-11_FLAG_W,CFC-12,CFC-12_FLAG_W,CFC113,CFC113_FLAG_W,TCARBN,TCARBN_FLAG_W,ALKALI,ALKALI_FLAG_W,TRITUM,TRITUM_FLAG_W,HELIUM,HELIUM_FLAG_W,DELHE3,DELHE3_FLAG_W,DELC13,DELC13_FLAG_W,DELC14,DELC14_FLAG_W,C14ERR,CCL4,CCL4_FLAG_W,DOC,DOC_FLAG_W,TDN,TDN_FLAG_W,CTDRAW,BTL_TIME,BTL_LAT,BTL_LON,TRITER,HELIER,DELHER,CDOM325,CDOM325_FLAG_W,CDOM340,CDOM340_FLAG_W,CDOM380,CDOM380_FLAG_W,CDOM412,CDOM412_FLAG_W,CDOMSL,CDOMSL_FLAG_W,CDOMSN,CDOMSN_FLAG_W,THETA,BACT,BACT_FLAG_W,PROC,PROC_FLAG_W,SYN,SYN_FLAG_W,PEUK,PEUK_FLAG_W
,,,,,,,,,,,METERS,DBAR,ITS-90,PSS-78,,PSS-78,,UMOL/KG,,UMOL/KG,,UMOL/KG,,UMOL/KG,,UMOL/KG,,UMOL/KG,,PMOL/KG,,PMOL/KG,,PMOL/KG,,UMOL/KG,,UMOL/KG,,TU,,NMOL/KG,,PERCNT,,/MILLE,,/MILLE,,/MILLE,PMOL/KG,,UMOL/KG,,UMOL/KG,,DBAR,,,,TU,NMOL/KG,PERCNT,1/M,,1/M,,1/M,,1/M,,1/NM,,1/NM,,DEG C,E8/L,,E7/L,,E6/L,,E6/L,
 316N200310,        A22,      59,          1,         33,         33,2,20031108,       0722,    33.7743,   -65.9905,       5113,     3.9,  25.4734,  36.3014,2,  36.2988,2,    191.4,2,   201.8,2,    0.86,2,    0.10,2,    0.00,2,    0.02,2,   1.758,2,   1.088,2,   0.137,2,  2024.9,2,  2371.3,2,    -999,9,     -999,9,    -999,9,    -999,9,    -999,9,    -999,    -999,9,    -999,9,    -999,9,    3.90,      923,  33.7597, -65.9867,    -999,     -999,    -999,     -999,9,     -999,9,     -999,9,     -999,9,     -999,9,     -999,9,  25.4726,    -999,9,       -999,9,    -999,9,    -999,9
 316N200310,        A22,      59,          1,         32,         32,2,20031108,       0722,    33.7743,   -65.9905,       5113,    30.3,  25.4803,  36.3015,2,  36.2978,2,    202.0,2,   201.7,2,    0.85,2,    0.10,2,    0.00,2,    0.01,2,   1.746,2,   1.087,2,   0.135,2,  2024.8,2,  2370.5,2,    -999,9,     -999,9,    -999,9,    -999,9,    -999,9,    -999,    -999,9,    -999,9,    -999,9,   30.30,      922,  33.7599, -65.9868,    -999,     -999,    -999,     -999,9,     -999,9,     -999,9,     -999,9,     -999,9,     -999,9,  25.4736,    -999,9,       -999,9,    -999,9,    -999,9
 316N200310,        A22,      59,          1,         31,         31,2,20031108,       0722,    33.7743,   -65.9905,       5113,    59.9,  25.4969,  36.3037,2,  36.3014,2,    201.7,2,   201.4,2,    0.84,2,    0.00,2,    0.00,2,    0.01,2,   1.736,6,   1.089,6,   0.140,6,  2024.7,2,  2370.9,2,    -999,9,     -999,9,    -999,9,    -999,9,    -999,9,    -999,   1.705,2,    -999,9,    -999,9,   59.90,      920,  33.7600, -65.9869,    -999,     -999,    -999,     -999,9,     -999,9,     -999,9,     -999,9,     -999,9,     -999,9,  25.4837,    -999,9,       -999,9,    -999,9,    -999,9
 316N200310,        A22,      59,          1,         30,         30,2,20031108,       0722,    33.7743,   -65.9905,       5113,   100.5,  25.5140,  36.3294,2,  36.3249,2,    201.0,2,   199.4,2,    0.72,2,    0.06,2,    0.04,2,    0.01,2,   1.742,2,   1.083,2,   0.138,2,  2029.7,2,  2377.8,2,    -999,9,     -999,9,    -999,9,    -999,9,    -999,9,    -999,    -999,9,    -999,9,    -999,9,  100.50,      918,  33.7602, -65.9870,    -999,     -999,    -999,     -999,9,     -999,9,     -999,9,     -999,9,     -999,9,     -999,9,  25.4918,    -999,9,       -999,9,    -999,9,    -999,9
 316N200310,        A22,      59,          1,         29,         29,2,20031108,       0722,    33.7743,   -65.9905,       5113,   149.8,  22.4084,  36.6917,2,  36.6903,2,    189.0,2,   192.5,2,    0.62,2,    1.40,2,    0.01,2,    0.07,2,   2.053,2,   1.238,2,   0.102,2,    -999,9,    -999,9,    -999,9,     -999,9,    -999,9,    -999,9,    -999,9,    -999,    -999,9,    -999,9,    -999,9,  149.80,      916,  33.7604, -65.9871,    -999,     -999,    -999,     -999,9,     -999,9,     -999,9,     -999,9,     -999,9,     -999,9,  22.3781,    -999,9,       -999,9,    -999,9,    -999,9
 316N200310,        A22,      59,          1,         28,         28,2,20031108,       0722,    33.7743,   -65.9905,       5113,   200.5,  20.1776,  36.6665,2,  36.6633,2,    197.1,2,   197.7,2,    0.70,2,    1.70,2,    0.00,2,    0.08,2,   2.190,2,   1.312,2,   0.079,2,  2088.3,2,  2411.8,3,    -999,9,     -999,9,    -999,9,    -999,9,    -999,9,    -999,    -999,9,    -999,9,    -999,9,  200.50,      915,  33.7605, -65.9871,    -999,     -999,    -999,     -999,9,     -999,9,     -999,9,     -999,9,     -999,9,     -999,9,  20.1400,    -999,9,       -999,9,    -999,9,    -999,9
 316N200310,        A22,      59,          1,         27,         27,2,20031108,       0722,    33.7743,   -65.9905,       5113,   249.6,  19.2870,  36.6300,2,  36.6271,2,    205.6,2,   204.3,2,    0.69,2,    1.85,2,    0.00,2,    0.08,2,   2.267,2,   1.356,2,   0.068,2,    -999,9,    -999,9,    -999,9,     -999,9,    -999,9,    -999,9,    -999,9,    -999,    -999,9,    -999,9,    -999,9,  249.60,      913,  33.7607, -65.9871,    -999,     -999,    -999,     -999,9,     -999,9,     -999,9,     -999,9,     -999,9,     -999,9,  19.2415,    -999,9,       -999,9,    -999,9,    -999,9
 316N200310,        A22,      59,          1,         26,         26,2,20031108,       0722,    33.7743,   -65.9905,       5113,   300.9,  19.0456,  36.6188,2,  36.6162,2,    202.4,2,   203.2,2,    0.88,2,    2.43,2,    0.00,2,    0.11,2,   2.295,2,   1.370,2,   0.068,2,  2091.2,2,  2394.1,2,    -999,9,     -999,9,    -999,9,    -999,9,    -999,9,    -999,    -999,9,    -999,9,    -999,9,  300.90,      911,  33.7609, -65.9873,    -999,     -999,    -999,     -999,9,     -999,9,     -999,9,     -999,9,     -999,9,     -999,9,  18.9912,    -999,9,       -999,9,    -999,9,    -999,9
 316N200310,        A22,      59,          1,         25,         25,2,20031108,       0722,    33.7743,   -65.9905,       5113,   402.0,  18.4412,  36.5656,2,  36.5642,2,    201.9,2,   201.4,2,    1.07,2,    3.56,2,    0.00,2,    0.17,2,   2.368,6,   1.390,6,   0.068,6,    -999,9,    -999,9,    -999,9,     -999,9,    -999,9,    -999,9,    -999,9,    -999,    -999,9,    -999,9,    -999,9,  402.00,      908,  33.7612, -65.9875,    -999,     -999,    -999,     -999,9,     -999,9,     -999,9,     -999,9,     -999,9,     -999,9,  18.3700,    -999,9,       -999,9,    -999,9,    -999,9
 316N200310,        A22,      59,          1,         24,         24,2,20031108,       0722,    33.7743,   -65.9905,       5113,   500.9,  17.7875,  36.4831,2,  36.4822,2,    188.3,2,   196.3,2,    1.46,2,    5.22,2,    0.00,2,    0.25,2,   2.340,2,   1.360,2,   0.064,2,    -999,9,    -999,9,    -999,9,     -999,9,    -999,9,    -999,9,    -999,9,    -999,    -999,9,    -999,9,    -999,9,  500.90,      905,  33.7615, -65.9875,    -999,     -999,    -999,     -999,9,     -999,9,     -999,9,     -999,9,     -999,9,     -999,9,  17.7007,    -999,9,       -999,9,    -999,9,    -999,9
 316N200310,        A22,      59,          1,         23,         23,2,20031108,       0722,    33.7743,   -65.9905,       5113,   626.2,  16.4321,  36.2529,2,  36.2511,2,    187.9,2,   180.3,2,    2.75,2,    8.82,2,    0.01,2,    0.49,2,   2.257,2,   1.260,2,   0.039,2,    -999,9,    -999,9,    -999,9,     -999,9,    -999,9,    -999,9,    -999,9,    -999,    -999,9,    -999,9,    -999,9,  626.20,      902,  33.7620, -65.9875,    -999,     -999,    -999,     -999,9,     -999,9,     -999,9,     -999,9,     -999,9,     -999,9,  16.3290,    -999,9,       -999,9,    -999,9,    -999,9
 316N200310,        A22,      59,          1,         22,         22,2,20031108,       0722,    33.7743,   -65.9905,       5113,   751.1,  14.0251,  35.8376,2,  35.8400,2,    173.0,2,   170.0,2,    5.27,2,   13.67,2,    0.01,2,    0.81,2,   2.028,2,   1.129,2,   0.050,2,  2147.3,2,  2347.1,2,    -999,9,     -999,9,    -999,9,    -999,9,    -999,9,    -999,    -999,9,    -999,9,    -999,9,  751.10,      859,  33.7625, -65.9875,    -999,     -999,    -999,     -999,9,     -999,9,     -999,9,     -999,9,     -999,9,     -999,9,  13.9136,    -999,9,       -999,9,    -999,9,    -999,9
 316N200310,        A22,      59,          1,         21,         21,2,20031108,       0722,    33.7743,   -65.9905,       5113,   900.8,  10.5282,  35.3666,2,  35.3693,2,    152.8,2,   149.2,2,   10.84,2,   21.31,2,    0.01,2,    1.33,2,   1.248,2,   0.661,2,   0.011,2,  2179.1,2,  2326.6,2,    -999,9,     -999,9,    -999,9,    -999,9,    -999,9,    -999,    -999,9,    -999,9,    -999,9,  900.80,      855,  33.7629, -65.9875,    -999,     -999,    -999,     -999,9,     -999,9,     -999,9,     -999,9,     -999,9,     -999,9,  10.4161,    -999,9,       -999,9,    -999,9,    -999,9
 316N200310,        A22,      59,          1,         20,         20,2,20031108,       0722,    33.7743,   -65.9905,       5113,  1051.2,   7.6335,  35.1422,2,  35.1421,2,    174.6,2,   176.5,2,   13.08,2,   21.97,2,    0.00,2,    1.41,2,   1.219,2,   0.629,2,   0.046,2,    -999,9,    -999,9,    -999,9,     -999,9,    -999,9,    -999,9,    -999,9,    -999,    -999,9,    -999,9,    -999,9, 1051.20,      851,  33.7635, -65.9875,    -999,     -999,    -999,     -999,9,     -999,9,     -999,9,     -999,9,     -999,9,     -999,9,   7.5239,    -999,9,       -999,9,    -999,9,    -999,9
 316N200310,        A22,      59,          1,         19,         19,2,20031108,       0722,    33.7743,   -65.9905,       5113,  1201.6,   6.0558,  35.0942,2,  35.0943,2,    207.2,2,   210.2,2,   12.66,2,   20.12,2,    0.00,2,    1.31,2,   1.420,2,   0.728,2,   0.060,2,    -999,9,    -999,9,    -999,9,     -999,9,    -999,9,    -999,9,    -999,9,    -999,    -999,9,    -999,9,    -999,9, 1201.60,      848,  33.7640, -65.9875,    -999,     -999,    -999,     -999,9,     -999,9,     -999,9,     -999,9,     -999,9,     -999,9,   5.9433,    -999,9,       -999,9,    -999,9,    -999,9
 316N200310,        A22,      59,          1,         18,         18,2,20031108,       0722,    33.7743,   -65.9905,       5113,  1350.5,   5.3357,  35.0801,2,  35.0817,2,    231.6,2,   231.3,2,   12.03,2,   18.97,2,    0.00,2,    1.23,2,   1.573,2,   0.791,2,   0.074,2,    -999,9,    -999,9,    -999,9,     -999,9,    -999,9,    -999,9,    -999,9,    -999,    -999,9,    -999,9,    -999,9, 1350.50,      844,  33.7647, -65.9875,    -999,     -999,    -999,     -999,9,     -999,9,     -999,9,     -999,9,     -999,9,     -999,9,   5.2151,    -999,9,       -999,9,    -999,9,    -999,9
 316N200310,        A22,      59,          1,         17,         17,2,20031108,       0722,    33.7743,   -65.9905,       5113,  1500.8,   4.6617,  35.0257,2,  35.0260,2,    245.1,2,   246.6,2,   11.82,2,   18.38,2,    0.00,2,    1.20,2,   1.665,2,   0.823,2,   0.085,2,    -999,9,    -999,9,    -999,9,     -999,9,    -999,9,    -999,9,    -999,9,    -999,    -999,9,    -999,9,    -999,9, 1500.80,      841,  33.7652, -65.9875,    -999,     -999,    -999,     -999,9,     -999,9,     -999,9,     -999,9,     -999,9,     -999,9,   4.5339,    -999,9,       -999,9,    -999,9,    -999,9
 316N200310,        A22,      59,          1,         16,         16,2,20031108,       0722,    33.7743,   -65.9905,       5113,  1650.4,   4.3073,  34.9988,2,  35.0004,2,    254.3,2,   255.2,2,   11.81,2,   17.99,2,    0.00,2,    1.17,2,   1.788,2,   0.862,2,   0.084,2,    -999,9,    -999,9,    -999,9,     -999,9,    -999,9,    -999,9,    -999,9,    -999,    -999,9,    -999,9,    -999,9, 1650.40,      837,  33.7656, -65.9876,    -999,     -999,    -999,     -999,9,     -999,9,     -999,9,     -999,9,     -999,9,     -999,9,   4.1694,    -999,9,       -999,9,    -999,9,    -999,9
 316N200310,        A22,      59,          1,         15,         15,2,20031108,       0722,    33.7743,   -65.9905,       5113,  1798.7,   4.0417,  34.9800,2,  34.9813,2,    259.4,2,   260.6,2,   12.21,2,   17.84,2,    0.00,2,    1.17,2,   1.639,2,   0.801,2,   0.075,2,    -999,9,    -999,9,    -999,9,     -999,9,    -999,9,    -999,9,    -999,9,    -999,    -999,9,    -999,9,    -999,9, 1798.70,      834,  33.7662, -65.9877,    -999,     -999,    -999,     -999,9,     -999,9,     -999,9,     -999,9,     -999,9,     -999,9,   3.8931,    -999,9,       -999,9,    -999,9,    -999,9
 316N200310,        A22,      59,          1,         14,         14,2,20031108,       0722,    33.7743,   -65.9905,       5113,  2000.3,   3.7791,  34.9632,2,  34.9640,2,    264.3,2,   264.2,2,   12.82,2,   17.74,2,    0.00,2,    1.17,2,   1.506,2,   0.749,2,   0.065,2,  2160.2,2,    -999,9,    -999,9,     -999,9,    -999,9,    -999,9,    -999,9,    -999,    -999,9,    -999,9,    -999,9, 2000.30,      829,  33.7671, -65.9878,    -999,     -999,    -999,     -999,9,     -999,9,     -999,9,     -999,9,     -999,9,     -999,9,   3.6149,    -999,9,       -999,9,    -999,9,    -999,9
 316N200310,        A22,      59,          1,         13,         13,2,20031108,       0722,    33.7743,   -65.9905,       5113,  2249.2,   3.5972,  34.9630,2,  34.9634,2,    265.2,2,   264.3,2,   14.44,2,   17.90,2,    0.00,2,    1.17,2,   1.127,2,   0.551,2,   0.061,2,    -999,9,    -999,9,    -999,9,     -999,9,    -999,9,    -999,9,    -999,9,    -999,    -999,9,    -999,9,    -999,9, 2249.20,      824,  33.7678, -65.9878,    -999,     -999,    -999,     -999,9,     -999,9,     -999,9,     -999,9,     -999,9,     -999,9,   3.4115,    -999,9,       -999,9,    -999,9,    -999,9
 316N200310,        A22,      59,          1,         12,         12,2,20031108,       0722,    33.7743,   -65.9905,       5113,  2500.4,   3.4150,  34.9633,2,  34.9634,2,    263.4,2,   262.7,2,   16.70,2,   18.00,2,    0.00,2,    1.19,2,   0.715,2,   0.349,2,   0.024,2,    -999,9,    -999,9,    -999,9,     -999,9,    -999,9,    -999,9,    -999,9,    -999,    -999,9,    -999,9,    -999,9, 2500.40,      819,  33.7685, -65.9881,    -999,     -999,    -999,     -999,9,     -999,9,     -999,9,     -999,9,     -999,9,     -999,9,   3.2074,    -999,9,       -999,9,    -999,9,    -999,9
 316N200310,        A22,      59,          1,         11,         11,2,20031108,       0722,    33.7743,   -65.9905,       5113,  2749.8,   3.1974,  34.9548,2,  34.9549,2,    262.8,2,   262.3,2,   18.74,2,   18.11,2,    0.00,2,    1.20,2,   0.502,2,   0.246,2,   0.018,2,    -999,9,    -999,9,    -999,9,     -999,9,    -999,9,    -999,9,    -999,9,    -999,    -999,9,    -999,9,    -999,9, 2749.80,      814,  33.7691, -65.9885,    -999,     -999,    -999,     -999,9,     -999,9,     -999,9,     -999,9,     -999,9,     -999,9,   2.9685,    -999,9,       -999,9,    -999,9,    -999,9
 316N200310,        A22,      59,          1,         10,         10,2,20031108,       0722,    33.7743,   -65.9905,       5113,  2998.6,   2.9751,  34.9427,2,  34.9433,2,    264.0,2,   263.7,2,   20.18,2,   18.16,2,    0.00,2,    1.20,2,   0.452,2,   0.228,2,   0.014,2,  2163.8,2,  2320.8,2,    -999,9,     -999,9,    -999,9,    -999,9,    -999,9,    -999,    -999,9,    -999,9,    -999,9, 2998.60,      809,  33.7697, -65.9889,    -999,     -999,    -999,     -999,9,     -999,9,     -999,9,     -999,9,     -999,9,     -999,9,   2.7250,    -999,9,       -999,9,    -999,9,    -999,9
 316N200310,        A22,      59,          1,          9,          9,2,20031108,       0722,    33.7743,   -65.9905,       5113,  3250.0,   2.7218,  34.9279,2,  34.9292,2,    266.3,2,   266.3,2,   21.72,2,   17.96,2,    0.00,2,    1.20,2,   0.515,2,   0.254,2,   0.027,2,    -999,9,    -999,9,    -999,9,     -999,9,    -999,9,    -999,9,    -999,9,    -999,    -999,9,    -999,9,    -999,9, 3250.00,      803,  33.7704, -65.9890,    -999,     -999,    -999,     -999,9,     -999,9,     -999,9,     -999,9,     -999,9,     -999,9,   2.4509,    -999,9,       -999,9,    -999,9,    -999,9
 316N200310,        A22,      59,          1,          8,          8,2,20031108,       0722,    33.7743,   -65.9905,       5113,  3500.3,   2.5224,  34.9156,2,  34.9156,2,    267.6,2,   267.4,2,   23.47,2,   18.02,2,    0.00,2,    1.20,2,   0.493,2,   0.244,2,   0.025,2,    -999,9,    -999,9,    -999,9,     -999,9,    -999,9,    -999,9,    -999,9,    -999,    -999,9,    -999,9,    -999,9, 3500.30,      758,  33.7709, -65.9892,    -999,     -999,    -999,     -999,9,     -999,9,     -999,9,     -999,9,     -999,9,     -999,9,   2.2293,    -999,9,       -999,9,    -999,9,    -999,9
 316N200310,        A22,      59,          1,          7,          7,2,20031108,       0722,    33.7743,   -65.9905,       5113,  3749.2,   2.3888,  34.9056,2,  34.9054,2,    266.9,2,   267.2,2,   26.27,2,   18.27,2,    0.00,2,    1.23,2,   0.544,2,   0.268,2,   0.035,2,    -999,9,    -999,9,    -999,9,     -999,9,    -999,9,    -999,9,    -999,9,    -999,    -999,9,    -999,9,    -999,9, 3749.20,      753,  33.7715, -65.9894,    -999,     -999,    -999,     -999,9,     -999,9,     -999,9,     -999,9,     -999,9,     -999,9,   2.0719,    -999,9,       -999,9,    -999,9,    -999,9
 316N200310,        A22,      59,          1,          6,          6,2,20031108,       0722,    33.7743,   -65.9905,       5113,  4000.9,   2.3177,  34.8988,2,  34.8998,2,    266.0,2,   266.1,2,   28.67,2,   18.53,2,    0.00,2,    1.25,2,   0.522,2,   0.249,2,   0.029,2,  2171.9,2,  2327.2,2,    -999,9,     -999,9,    -999,9,    -999,9,    -999,9,    -999,    -999,9,    -999,9,    -999,9, 4000.90,      748,  33.7720, -65.9898,    -999,     -999,    -999,     -999,9,     -999,9,     -999,9,     -999,9,     -999,9,     -999,9,   1.9744,    -999,9,       -999,9,    -999,9,    -999,9
 316N200310,        A22,      59,          1,          5,          5,2,20031108,       0722,    33.7743,   -65.9905,       5113,  4249.2,   2.2779,  34.8933,2,  34.8938,2,    264.2,2,   264.3,2,   31.26,2,   18.93,2,    0.00,2,    1.28,2,   0.477,2,   0.244,2,   0.026,2,    -999,9,    -999,9,    -999,9,     -999,9,    -999,9,    -999,9,    -999,9,    -999,    -999,9,    -999,9,    -999,9, 4249.20,      743,  33.7725, -65.9899,    -999,     -999,    -999,     -999,9,     -999,9,     -999,9,     -999,9,     -999,9,     -999,9,   1.9072,    -999,9,       -999,9,    -999,9,    -999,9
 316N200310,        A22,      59,          1,          4,          4,2,20031108,       0722,    33.7743,   -65.9905,       5113,  4500.8,   2.2601,  34.8888,2,  34.8894,2,    262.3,2,   262.3,2,   33.76,2,   19.28,2,    0.00,2,    1.30,2,   0.410,2,   0.205,2,   0.018,2,    -999,9,    -999,9,    -999,9,     -999,9,    -999,9,    -999,9,    -999,9,    -999,    -999,9,    -999,9,    -999,9, 4500.80,      737,  33.7731, -65.9900,    -999,     -999,    -999,     -999,9,     -999,9,     -999,9,     -999,9,     -999,9,     -999,9,   1.8601,    -999,9,       -999,9,    -999,9,    -999,9
 316N200310,        A22,      59,          1,          3,          3,2,20031108,       0722,    33.7743,   -65.9905,       5113,  4749.9,   2.2590,  34.8852,2,  34.8855,2,    260.6,2,   260.7,2,   35.85,2,   19.64,2,    0.00,2,    1.33,2,   0.377,2,   0.201,2,   0.021,2,    -999,9,    -999,9,    -999,9,     -999,9,    -999,9,    -999,9,    -999,9,    -999,    -999,9,    -999,9,    -999,9, 4749.90,      733,  33.7736, -65.9900,    -999,     -999,    -999,     -999,9,     -999,9,     -999,9,     -999,9,     -999,9,     -999,9,   1.8288,    -999,9,       -999,9,    -999,9,    -999,9
 316N200310,        A22,      59,          1,          2,          2,2,20031108,       0722,    33.7743,   -65.9905,       5113,  5000.2,   2.2588,  34.8816,2,  34.8833,2,    258.6,2,   259.1,2,   38.25,2,   19.95,2,    0.00,2,    1.35,2,   0.312,2,   0.162,2,   0.018,2,    -999,9,    -999,9,    -999,9,     -999,9,    -999,9,    -999,9,    -999,9,    -999,    -999,9,    -999,9,    -999,9, 5000.20,      727,  33.7740, -65.9903,    -999,     -999,    -999,     -999,9,     -999,9,     -999,9,     -999,9,     -999,9,     -999,9,   1.7975,    -999,9,       -999,9,    -999,9,    -999,9