BOTTLE,20220517CCHSIOLMM
EXPOCODE,SECT_ID,STNNBR,CASTNO,SAMPNO,BTLNBR,BTLNBR_FLAG_W,DATE,TIME,LATITUDE,LONGITUDE,DEPTH,CTDPRS,CTDTMP,CTDSAL,CTDSAL_FLAG_W,SALNTY,SALNTY_FLAG_W,CTDOXY,CTDOXY_FLAG_W,OXYGEN,OXYGEN_FLAG_W,SILCAT,SILCAT_FLAG_W,NITRAT,NITRAT_FLAG_W,NITRIT,NITRIT_FLAG_W,PHSPHT,PHSPHT_FLAG_W,CFC-11,CFC-11_FLAG_W,CFC-12,CFC-12_FLAG_W,CFC113,CFC113_FLAG_W,TCARBN,TCARBN_FLAG_W,ALKALI,ALKALI_FLAG_W,TRITUM,TRITUM_FLAG_W,HELIUM,HELIUM_FLAG_W,DELHE3,DELHE3_FLAG_W,DELC13,DELC13_FLAG_W,DELC14,DELC14_FLAG_W,C14ERR,CCL4,CCL4_FLAG_W,DOC,DOC_FLAG_W,TDN,TDN_FLAG_W,CTDRAW,BTL_TIME,BTL_LAT,BTL_LON,TRITER,HELIER,DELHER,CDOM325,CDOM325_FLAG_W,CDOM340,CDOM340_FLAG_W,CDOM380,CDOM380_FLAG_W,CDOM412,CDOM412_FLAG_W,CDOMSL,CDOMSL_FLAG_W,CDOMSN,CDOMSN_FLAG_W,THETA,BACT,BACT_FLAG_W,PROC,PROC_FLAG_W,SYN,SYN_FLAG_W,PEUK,PEUK_FLAG_W
,,,,,,,,,,,METERS,DBAR,ITS-90,PSS-78,,PSS-78,,UMOL/KG,,UMOL/KG,,UMOL/KG,,UMOL/KG,,UMOL/KG,,UMOL/KG,,PMOL/KG,,PMOL/KG,,PMOL/KG,,UMOL/KG,,UMOL/KG,,TU,,NMOL/KG,,PERCNT,,/MILLE,,/MILLE,,/MILLE,PMOL/KG,,UMOL/KG,,UMOL/KG,,DBAR,,,,TU,NMOL/KG,PERCNT,1/M,,1/M,,1/M,,1/M,,1/NM,,1/NM,,DEG C,E8/L,,E7/L,,E6/L,,E6/L,
 316N200310,        A22,      41,          1,          4,          4,2,20031102,       0456,    23.5372,   -65.9972,       5833,  5124.8,   2.1824,  34.8710,2,  34.8698,2,    255.4,2,   255.3,2,   44.20,2,   21.19,2,    0.00,2,    1.43,2,   0.123,2,   0.086,2,   0.010,2,    -999,9,    -999,9,    -999,9,     -999,9,    -999,9,    -999,9,    -999,9,    -999,    -999,9,    -999,9,    -999,9, 5124.80,      516,  23.5388, -65.9975,    -999,     -999,    -999,     -999,9,     -999,9,     -999,9,     -999,9,     -999,9,     -999,9,   1.7080,    -999,9,       -999,9,    -999,9,    -999,9
 316N200310,        A22,      41,          1,          3,          3,2,20031102,       0456,    23.5372,   -65.9972,       5833,  5373.6,   2.0774,  34.8541,2,  34.8528,2,    249.4,2,   250.4,2,   52.48,2,   22.46,2,    0.00,2,    1.51,2,   0.058,2,   0.037,2,   0.002,2,    -999,9,    -999,9,    -999,9,     -999,9,    -999,9,    -999,9,    -999,9,    -999,    -999,9,    -999,9,    -999,9, 5373.60,      510,  23.5384, -65.9974,    -999,     -999,    -999,     -999,9,     -999,9,     -999,9,     -999,9,     -999,9,     -999,9,   1.5749,    -999,9,       -999,9,    -999,9,    -999,9
 316N200310,        A22,      41,          1,          2,          2,2,20031102,       0456,    23.5372,   -65.9972,       5833,  5624.6,   2.0628,  34.8480,2,  34.8464,2,    248.2,2,   248.5,2,   55.40,2,   22.89,2,    0.00,2,    1.54,2,   0.053,2,   0.031,2,   0.004,2,    -999,9,    -999,9,    -999,9,     -999,9,    -999,9,    -999,9,    -999,9,    -999,    -999,9,    -999,9,    -999,9, 5624.60,      505,  23.5379, -65.9973,    -999,     -999,    -999,     -999,9,     -999,9,     -999,9,     -999,9,     -999,9,     -999,9,   1.5281,    -999,9,       -999,9,    -999,9,    -999,9
 316N200310,        A22,      41,          1,          1,          1,2,20031102,       0456,    23.5372,   -65.9972,       5833,  5930.4,   2.0862,  34.8454,2,  34.8442,2,    247.9,2,   247.3,2,   56.61,2,   22.92,2,    0.00,2,    1.55,2,   0.062,2,   0.037,2,   0.003,2,    -999,9,    -999,9,    -999,9,     -999,9,    -999,9,    -999,9,    -999,9,    -999,    -999,9,    -999,9,    -999,9, 5930.40,      457,  23.5372, -65.9972,    -999,     -999,    -999,   0.1200,2,   0.0830,2,   0.0380,2,   0.0230,2,   0.0200,2,   0.0220,2,   1.5097,    -999,9,       -999,9,    -999,9,    -999,9
 316N200310,        A22,      41,          2,          4,          4,9,20031102,       0242,    23.5352,   -65.9965,       5833,     4.2,  28.1035,  36.5088,2,     -999,9,    198.4,2,    -999,9,    -999,9,    -999,9,    -999,9,    -999,9,    -999,9,    -999,9,    -999,9,    -999,9,    -999,9,    -999,9,     -999,9,    -999,9,    -999,9,    -999,9,    -999,    -999,9,    -999,9,    -999,9,    4.20,      250,  23.5340, -65.9962,    -999,     -999,    -999,     -999,9,     -999,9,     -999,9,     -999,9,     -999,9,     -999,9,  28.1025,    -999,9,       -999,9,    -999,9,    -999,9
 316N200310,        A22,      41,          2,          3,          3,9,20031102,       0242,    23.5352,   -65.9965,       5833,     4.2,  28.1037,  36.5088,2,     -999,9,    198.4,2,    -999,9,    -999,9,    -999,9,    -999,9,    -999,9,    -999,9,    -999,9,    -999,9,    -999,9,    -999,9,    -999,9,     -999,9,    -999,9,    -999,9,    -999,9,    -999,    -999,9,    -999,9,    -999,9,    4.20,      250,  23.5340, -65.9963,    -999,     -999,    -999,     -999,9,     -999,9,     -999,9,     -999,9,     -999,9,     -999,9,  28.1027,    -999,9,       -999,9,    -999,9,    -999,9
 316N200310,        A22,      41,          2,          2,          2,9,20031102,       0242,    23.5352,   -65.9965,       5833,     4.3,  28.1036,  36.5088,2,     -999,9,    198.4,2,    -999,9,    -999,9,    -999,9,    -999,9,    -999,9,    -999,9,    -999,9,    -999,9,    -999,9,    -999,9,    -999,9,     -999,9,    -999,9,    -999,9,    -999,9,    -999,    -999,9,    -999,9,    -999,9,    4.30,      250,  23.5341, -65.9963,    -999,     -999,    -999,     -999,9,     -999,9,     -999,9,     -999,9,     -999,9,     -999,9,  28.1026,    -999,9,       -999,9,    -999,9,    -999,9
 316N200310,        A22,      41,          2,          1,          1,9,20031102,       0242,    23.5352,   -65.9965,       5833,   249.0,  19.3889,  36.6877,2,     -999,9,    187.5,2,    -999,9,    -999,9,    -999,9,    -999,9,    -999,9,    -999,9,    -999,9,    -999,9,    -999,9,    -999,9,    -999,9,     -999,9,    -999,9,    -999,9,    -999,9,    -999,    -999,9,    -999,9,    -999,9,  249.00,      242,  23.5352, -65.9964,    -999,     -999,    -999,     -999,9,     -999,9,     -999,9,     -999,9,     -999,9,     -999,9,  19.3434,    -999,9,       -999,9,    -999,9,    -999,9