BOTTLE,20220517CCHSIOLMM
EXPOCODE,SECT_ID,STNNBR,CASTNO,SAMPNO,BTLNBR,BTLNBR_FLAG_W,DATE,TIME,LATITUDE,LONGITUDE,DEPTH,CTDPRS,CTDTMP,CTDSAL,CTDSAL_FLAG_W,SALNTY,SALNTY_FLAG_W,CTDOXY,CTDOXY_FLAG_W,OXYGEN,OXYGEN_FLAG_W,SILCAT,SILCAT_FLAG_W,NITRAT,NITRAT_FLAG_W,NITRIT,NITRIT_FLAG_W,PHSPHT,PHSPHT_FLAG_W,CFC-11,CFC-11_FLAG_W,CFC-12,CFC-12_FLAG_W,CFC113,CFC113_FLAG_W,TCARBN,TCARBN_FLAG_W,ALKALI,ALKALI_FLAG_W,TRITUM,TRITUM_FLAG_W,HELIUM,HELIUM_FLAG_W,DELHE3,DELHE3_FLAG_W,DELC13,DELC13_FLAG_W,DELC14,DELC14_FLAG_W,C14ERR,CCL4,CCL4_FLAG_W,DOC,DOC_FLAG_W,TDN,TDN_FLAG_W,CTDRAW,BTL_TIME,BTL_LAT,BTL_LON,TRITER,HELIER,DELHER,CDOM325,CDOM325_FLAG_W,CDOM340,CDOM340_FLAG_W,CDOM380,CDOM380_FLAG_W,CDOM412,CDOM412_FLAG_W,CDOMSL,CDOMSL_FLAG_W,CDOMSN,CDOMSN_FLAG_W,THETA,BACT,BACT_FLAG_W,PROC,PROC_FLAG_W,SYN,SYN_FLAG_W,PEUK,PEUK_FLAG_W
,,,,,,,,,,,METERS,DBAR,ITS-90,PSS-78,,PSS-78,,UMOL/KG,,UMOL/KG,,UMOL/KG,,UMOL/KG,,UMOL/KG,,UMOL/KG,,PMOL/KG,,PMOL/KG,,PMOL/KG,,UMOL/KG,,UMOL/KG,,TU,,NMOL/KG,,PERCNT,,/MILLE,,/MILLE,,/MILLE,PMOL/KG,,UMOL/KG,,UMOL/KG,,DBAR,,,,TU,NMOL/KG,PERCNT,1/M,,1/M,,1/M,,1/M,,1/NM,,1/NM,,DEG C,E8/L,,E7/L,,E6/L,,E6/L,
 316N200310,        A22,      77,          1,         28,         28,2,20031112,       1033,    39.4710,   -69.6427,       2405,     3.8,  17.1969,  34.5598,2,  34.5573,2,    154.4,2,   239.5,2,    0.63,2,    0.00,2,    0.00,2,    0.10,2,   2.596,2,   1.541,2,   0.214,2,  2018.9,2,    -999,9,    -999,9,     -999,9,    -999,9,    -999,9,    -999,9,    -999,    -999,9,    -999,9,    -999,9,    3.80,     1148,  39.4629, -69.6503,    -999,     -999,    -999,     -999,9,     -999,9,     -999,9,     -999,9,     -999,9,     -999,9,  17.1963,    -999,9,       -999,9,    -999,9,    -999,9
 316N200310,        A22,      77,          1,         27,         27,2,20031112,       1033,    39.4710,   -69.6427,       2405,    25.0,  17.1911,  34.5703,2,  34.5696,2,    238.9,2,   239.6,2,    0.62,2,    0.06,2,    0.00,2,    0.10,2,   2.609,2,   1.548,2,   0.224,2,    -999,9,    -999,9,    -999,9,     -999,9,    -999,9,    -999,9,    -999,9,    -999,    -999,9,    -999,9,    -999,9,   25.00,     1147,  39.4629, -69.6503,    -999,     -999,    -999,     -999,9,     -999,9,     -999,9,     -999,9,     -999,9,     -999,9,  17.1870,    -999,9,       -999,9,    -999,9,    -999,9
 316N200310,        A22,      77,          1,         26,         26,2,20031112,       1033,    39.4710,   -69.6427,       2405,    50.5,  14.5917,  34.8380,2,  34.8448,2,    224.2,2,   220.6,2,    2.82,2,    4.89,2,    0.07,2,    0.45,2,   3.008,2,   1.707,2,   0.205,2,    -999,9,    -999,9,    -999,9,     -999,9,    -999,9,    -999,9,    -999,9,    -999,    -999,9,    -999,9,    -999,9,   50.50,     1145,  39.4629, -69.6503,    -999,     -999,    -999,     -999,9,     -999,9,     -999,9,     -999,9,     -999,9,     -999,9,  14.5843,    -999,9,       -999,9,    -999,9,    -999,9
 316N200310,        A22,      77,          1,         25,         25,2,20031112,       1033,    39.4710,   -69.6427,       2405,    75.9,  14.0131,  35.2464,2,  35.2379,2,    201.7,2,   202.2,2,    2.81,2,    7.40,2,    0.02,2,    0.55,2,    -999,9,    -999,9,    -999,9,    -999,9,    -999,9,    -999,9,     -999,9,    -999,9,    -999,9,    -999,9,    -999,    -999,9,    -999,9,    -999,9,   75.90,     1144,  39.4630, -69.6503,    -999,     -999,    -999,     -999,9,     -999,9,     -999,9,     -999,9,     -999,9,     -999,9,  14.0021,    -999,9,       -999,9,    -999,9,    -999,9
 316N200310,        A22,      77,          1,         24,         24,2,20031112,       1033,    39.4710,   -69.6427,       2405,    99.8,  14.2071,  35.5503,2,  35.5539,2,    186.8,2,   187.9,2,    3.11,2,    9.42,2,    0.02,2,    0.62,2,   2.688,2,   1.509,2,   0.140,2,    -999,9,    -999,9,    -999,9,     -999,9,    -999,9,    -999,9,    -999,9,    -999,    -999,9,    -999,9,    -999,9,   99.80,     1142,  39.4630, -69.6502,    -999,     -999,    -999,     -999,9,     -999,9,     -999,9,     -999,9,     -999,9,     -999,9,  14.1925,    -999,9,       -999,9,    -999,9,    -999,9
 316N200310,        A22,      77,          1,         23,         23,2,20031112,       1033,    39.4710,   -69.6427,       2405,   125.5,  13.8523,  35.6162,2,  35.6107,2,    182.4,2,   184.4,2,    3.51,2,   10.85,2,    0.02,2,    0.68,2,    -999,9,    -999,9,    -999,9,    -999,9,    -999,9,    -999,9,     -999,9,    -999,9,    -999,9,    -999,9,    -999,    -999,9,    -999,9,    -999,9,  125.50,     1141,  39.4631, -69.6502,    -999,     -999,    -999,     -999,9,     -999,9,     -999,9,     -999,9,     -999,9,     -999,9,  13.8342,    -999,9,       -999,9,    -999,9,    -999,9
 316N200310,        A22,      77,          1,         22,         22,2,20031112,       1033,    39.4710,   -69.6427,       2405,   150.7,  13.5532,  35.6383,2,  35.6222,2,    183.7,2,   184.9,2,    4.10,2,   11.90,2,    0.02,2,    0.74,2,   2.450,2,   1.375,2,   0.108,2,    -999,9,    -999,9,    -999,9,     -999,9,    -999,9,    -999,9,    -999,9,    -999,    -999,9,    -999,9,    -999,9,  150.70,     1140,  39.4631, -69.6502,    -999,     -999,    -999,     -999,9,     -999,9,     -999,9,     -999,9,     -999,9,     -999,9,  13.5318,    -999,9,       -999,9,    -999,9,    -999,9
 316N200310,        A22,      77,          1,         21,         21,2,20031112,       1033,    39.4710,   -69.6427,       2405,   176.3,  13.0265,  35.6011,2,  35.5993,2,    188.6,2,   191.3,2,    4.70,2,   12.60,2,    0.01,2,    0.79,2,   2.424,2,   1.357,2,   0.125,2,    -999,9,    -999,9,    -999,9,     -999,9,    -999,9,    -999,9,    -999,9,    -999,    -999,9,    -999,9,    -999,9,  176.30,     1138,  39.4632, -69.6501,    -999,     -999,    -999,     -999,9,     -999,9,     -999,9,     -999,9,     -999,9,     -999,9,  13.0021,    -999,9,       -999,9,    -999,9,    -999,9
 316N200310,        A22,      77,          1,         20,         20,2,20031112,       1033,    39.4710,   -69.6427,       2405,   226.1,  12.0034,  35.4842,2,  35.4827,2,    181.0,2,   175.9,2,    7.11,2,   15.98,2,    0.02,2,    1.01,2,   2.079,2,   1.155,2,   0.099,2,    -999,9,    -999,9,    -999,9,   1.7331,2,   -2.00,2,    -999,9,    -999,9,    -999,    -999,9,    -999,9,    -999,9,  226.10,     1136,  39.4632, -69.6499,    -999,   0.0087,    0.15,     -999,9,     -999,9,     -999,9,     -999,9,     -999,9,     -999,9,  11.9738,    -999,9,       -999,9,    -999,9,    -999,9
 316N200310,        A22,      77,          1,         19,         19,2,20031112,       1033,    39.4710,   -69.6427,       2405,   277.1,  10.9530,  35.3752,2,  35.3764,2,    152.0,2,   149.3,2,   10.14,2,   20.40,2,    0.02,2,    1.28,2,   1.578,2,   0.855,2,   0.090,2,    -999,9,    -999,9,    -999,9,     -999,9,    -999,9,    -999,9,    -999,9,    -999,    -999,9,    -999,9,    -999,9,  277.10,     1134,  39.4634, -69.6495,    -999,     -999,    -999,     -999,9,     -999,9,     -999,9,     -999,9,     -999,9,     -999,9,  10.9186,    -999,9,       -999,9,    -999,9,    -999,9
 316N200310,        A22,      77,          1,         18,         18,2,20031112,       1033,    39.4710,   -69.6427,       2405,   351.4,   9.0693,  35.1911,2,  35.1894,2,    142.6,2,   142.5,2,   13.57,2,   23.89,2,    0.01,2,    1.52,2,   1.037,2,   0.546,2,   0.032,2,    -999,9,    -999,9,    -999,9,     -999,9,    -999,9,    -999,9,    -999,9,    -999,    -999,9,    -999,9,    -999,9,  351.40,     1132,  39.4637, -69.6489,    -999,     -999,    -999,     -999,9,     -999,9,     -999,9,     -999,9,     -999,9,     -999,9,   9.0305,    -999,9,       -999,9,    -999,9,    -999,9
 316N200310,        A22,      77,          1,         17,         17,2,20031112,       1033,    39.4710,   -69.6427,       2405,   450.4,   7.1781,  35.0533,2,  35.0524,2,    170.4,2,   174.6,2,   13.57,2,   22.53,2,    0.01,2,    1.47,2,   1.517,2,   0.780,2,   0.068,2,    -999,9,    -999,9,    -999,9,   1.7674,2,   -1.62,2,    -999,9,    -999,9,    -999,    -999,9,    -999,9,    -999,9,  450.40,     1129,  39.4640, -69.6482,    -999,   0.0088,    0.15,     -999,9,     -999,9,     -999,9,     -999,9,     -999,9,     -999,9,   7.1345,    -999,9,       -999,9,    -999,9,    -999,9
 316N200310,        A22,      77,          1,         16,         16,2,20031112,       1033,    39.4710,   -69.6427,       2405,   551.8,   5.8983,  35.0042,2,  35.0039,2,    203.0,2,   206.4,2,   12.75,2,   20.57,2,    0.01,2,    1.35,2,   1.994,2,   1.015,2,   0.117,2,    -999,9,    -999,9,    -999,9,   1.7758,2,    0.32,2,    -999,9,    -999,9,    -999,    -999,9,    -999,9,    -999,9,  551.80,     1126,  39.4644, -69.6475,    -999,   0.0089,    0.15,     -999,9,     -999,9,     -999,9,     -999,9,     -999,9,     -999,9,   5.8498,    -999,9,       -999,9,    -999,9,    -999,9
 316N200310,        A22,      77,          1,         15,         15,2,20031112,       1033,    39.4710,   -69.6427,       2405,   676.7,   5.0504,  34.9797,2,  34.9799,2,    230.3,2,   232.9,2,   11.83,2,   18.96,2,    0.01,2,    1.25,2,   2.383,2,   1.221,2,   0.146,2,    -999,9,    -999,9,    -999,9,   1.7678,2,    2.53,2,    -999,9,    -999,9,    -999,    -999,9,    -999,9,    -999,9,  676.70,     1122,  39.4650, -69.6467,    -999,   0.0088,    0.15,     -999,9,     -999,9,     -999,9,     -999,9,     -999,9,     -999,9,   4.9948,    -999,9,       -999,9,    -999,9,    -999,9
 316N200310,        A22,      77,          1,         14,         14,2,20031112,       1033,    39.4710,   -69.6427,       2405,   799.8,   4.7956,  34.9964,2,  34.9955,2,    242.7,2,   241.3,2,   11.52,2,   18.46,2,    0.01,2,    1.22,2,   2.271,2,   1.143,2,   0.123,2,    -999,9,    -999,9,    -999,9,   1.7799,2,    5.01,2,    -999,9,    -999,9,    -999,    -999,9,    -999,9,    -999,9,  799.80,     1119,  39.4654, -69.6461,    -999,   0.0089,    0.15,     -999,9,     -999,9,     -999,9,     -999,9,     -999,9,     -999,9,   4.7308,    -999,9,       -999,9,    -999,9,    -999,9
 316N200310,        A22,      77,          1,         13,         13,2,20031112,       1033,    39.4710,   -69.6427,       2405,   900.8,   4.5378,  34.9880,2,  34.9880,2,    250.1,2,   249.2,2,   11.40,2,   18.11,2,    0.01,2,    1.19,2,   2.291,2,   1.155,2,   0.131,2,    -999,9,    -999,9,    -999,9,     -999,9,    -999,9,    -999,9,    -999,9,    -999,    -999,9,    -999,9,    -999,9,  900.80,     1116,  39.4658, -69.6457,    -999,     -999,    -999,     -999,9,     -999,9,     -999,9,     -999,9,     -999,9,     -999,9,   4.4658,    -999,9,       -999,9,    -999,9,    -999,9
 316N200310,        A22,      77,          1,         12,         12,2,20031112,       1033,    39.4710,   -69.6427,       2405,  1001.3,   4.3723,  34.9844,2,  34.9833,2,    254.9,2,   253.2,2,   11.50,2,   18.01,2,    0.01,2,    1.19,2,   2.133,2,   1.066,2,   0.122,2,    -999,9,    -999,9,    -999,9,     -999,9,    -999,9,    -999,9,    -999,9,    -999,    -999,9,    -999,9,    -999,9, 1001.30,     1113,  39.4662, -69.6454,    -999,     -999,    -999,     -999,9,     -999,9,     -999,9,     -999,9,     -999,9,     -999,9,   4.2929,    -999,9,       -999,9,    -999,9,    -999,9
 316N200310,        A22,      77,          1,         11,         11,2,20031112,       1033,    39.4710,   -69.6427,       2405,  1126.7,   4.1551,  34.9741,2,  34.9730,2,    258.7,2,   257.9,2,   11.59,2,   17.76,2,    0.01,2,    1.18,2,   2.006,2,   0.999,2,   0.112,2,    -999,9,    -999,9,    -999,9,     -999,9,    -999,9,    -999,9,    -999,9,    -999,    -999,9,    -999,9,    -999,9, 1126.70,     1110,  39.4665, -69.6452,    -999,     -999,    -999,     -999,9,     -999,9,     -999,9,     -999,9,     -999,9,     -999,9,   4.0666,    -999,9,       -999,9,    -999,9,    -999,9
 316N200310,        A22,      77,          1,         10,         10,2,20031112,       1033,    39.4710,   -69.6427,       2405,  1275.3,   3.9680,  34.9615,2,  34.9612,2,    262.6,2,   261.9,2,   11.69,2,   17.62,2,    0.01,2,    1.17,2,   1.971,2,   0.970,2,   0.108,2,    -999,9,    -999,9,    -999,9,     -999,9,    -999,9,    -999,9,    -999,9,    -999,    -999,9,    -999,9,    -999,9, 1275.30,     1106,  39.4667, -69.6447,    -999,     -999,    -999,     -999,9,     -999,9,     -999,9,     -999,9,     -999,9,     -999,9,   3.8682,    -999,9,       -999,9,    -999,9,    -999,9
 316N200310,        A22,      77,          1,          9,          9,2,20031112,       1033,    39.4710,   -69.6427,       2405,  1401.4,   3.8395,  34.9552,2,  34.9536,2,    265.0,2,   264.6,2,   11.98,2,   17.51,2,    0.00,2,    1.17,2,   1.848,2,   0.910,2,   0.093,2,    -999,9,    -999,9,    -999,9,     -999,9,    -999,9,    -999,9,    -999,9,    -999,    -999,9,    -999,9,    -999,9, 1401.40,     1103,  39.4673, -69.6444,    -999,     -999,    -999,     -999,9,     -999,9,     -999,9,     -999,9,     -999,9,     -999,9,   3.7300,    -999,9,       -999,9,    -999,9,    -999,9
 316N200310,        A22,      77,          1,          8,          8,2,20031112,       1033,    39.4710,   -69.6427,       2405,  1501.5,   3.7415,  34.9500,2,  34.9486,2,    266.3,2,   266.2,2,   12.08,2,   17.52,2,    0.00,2,    1.16,2,   1.783,2,   0.868,2,   0.104,2,    -999,9,    -999,9,    -999,9,     -999,9,    -999,9,    -999,9,    -999,9,    -999,    -999,9,    -999,9,    -999,9, 1501.50,     1100,  39.4676, -69.6442,    -999,     -999,    -999,     -999,9,     -999,9,     -999,9,     -999,9,     -999,9,     -999,9,   3.6241,    -999,9,       -999,9,    -999,9,    -999,9
 316N200310,        A22,      77,          1,          7,          7,2,20031112,       1033,    39.4710,   -69.6427,       2405,  1600.9,   3.6585,  34.9458,2,  34.9453,2,    268.0,2,   267.4,2,   12.37,2,   17.52,2,    0.00,2,    1.16,2,   1.728,6,   0.851,6,   0.083,6,    -999,9,    -999,9,    -999,9,     -999,9,    -999,9,    -999,9,    -999,9,    -999,    -999,9,    -999,9,    -999,9, 1600.90,     1057,  39.4679, -69.6441,    -999,     -999,    -999,     -999,9,     -999,9,     -999,9,     -999,9,     -999,9,     -999,9,   3.5332,    -999,9,       -999,9,    -999,9,    -999,9
 316N200310,        A22,      77,          1,          6,          6,2,20031112,       1033,    39.4710,   -69.6427,       2405,  1700.1,   3.5795,  34.9421,2,  34.9423,2,    268.3,2,   268.8,2,   12.66,2,   17.52,2,    0.00,2,    1.16,2,   1.765,2,   0.882,2,   0.108,2,    -999,9,    -999,9,    -999,9,     -999,9,    -999,9,    -999,9,    -999,9,    -999,    -999,9,    -999,9,    -999,9, 1700.10,     1054,  39.4683, -69.6440,    -999,     -999,    -999,     -999,9,     -999,9,     -999,9,     -999,9,     -999,9,     -999,9,   3.4462,    -999,9,       -999,9,    -999,9,    -999,9
 316N200310,        A22,      77,          1,          5,          5,2,20031112,       1033,    39.4710,   -69.6427,       2405,  1826.3,   3.4953,  34.9416,2,  34.9410,2,    268.6,2,   269.0,2,   13.27,2,   17.42,2,    0.00,2,    1.16,2,   1.605,2,   0.798,2,   0.087,2,    -999,9,    -999,9,    -999,9,     -999,9,    -999,9,    -999,9,    -999,9,    -999,    -999,9,    -999,9,    -999,9, 1826.30,     1051,  39.4688, -69.6437,    -999,     -999,    -999,     -999,9,     -999,9,     -999,9,     -999,9,     -999,9,     -999,9,   3.3516,    -999,9,       -999,9,    -999,9,    -999,9
 316N200310,        A22,      77,          1,          4,          4,2,20031112,       1033,    39.4710,   -69.6427,       2405,  1975.8,   3.3845,  34.9401,2,  34.9402,2,    268.9,2,   269.2,2,   14.07,2,   17.52,2,    0.00,2,    1.16,2,   1.472,2,   0.726,2,   0.082,2,    -999,9,    -999,9,    -999,9,     -999,9,    -999,9,    -999,9,    -999,9,    -999,    -999,9,    -999,9,    -999,9, 1975.80,     1048,  39.4691, -69.6436,    -999,     -999,    -999,     -999,9,     -999,9,     -999,9,     -999,9,     -999,9,     -999,9,   3.2284,    -999,9,       -999,9,    -999,9,    -999,9
 316N200310,        A22,      77,          1,          3,          3,2,20031112,       1033,    39.4710,   -69.6427,       2405,  2101.0,   3.2838,  34.9358,2,  34.9353,2,    269.2,2,   269.8,2,   14.57,2,   17.42,2,    0.00,2,    1.15,2,   1.475,2,   0.738,2,   0.071,2,    -999,9,    -999,9,    -999,9,     -999,9,    -999,9,    -999,9,    -999,9,    -999,    -999,9,    -999,9,    -999,9, 2101.00,     1044,  39.4695, -69.6433,    -999,     -999,    -999,     -999,9,     -999,9,     -999,9,     -999,9,     -999,9,     -999,9,   3.1176,    -999,9,       -999,9,    -999,9,    -999,9
 316N200310,        A22,      77,          1,          2,          2,2,20031112,       1033,    39.4710,   -69.6427,       2405,  2302.2,   3.0829,  34.9352,2,  34.9347,2,    267.9,2,   268.6,2,   16.39,2,   17.47,2,    0.00,2,    1.16,2,   1.279,2,   0.629,2,   0.079,2,    -999,9,    -999,9,    -999,9,     -999,9,    -999,9,    -999,9,    -999,9,    -999,    -999,9,    -999,9,    -999,9, 2302.20,     1040,  39.4701, -69.6430,    -999,     -999,    -999,     -999,9,     -999,9,     -999,9,     -999,9,     -999,9,     -999,9,   2.9008,    -999,9,       -999,9,    -999,9,    -999,9
 316N200310,        A22,      77,          1,          1,          1,2,20031112,       1033,    39.4710,   -69.6427,       2405,  2421.5,   3.0068,  34.9324,2,  34.9315,2,    268.0,2,   268.9,2,   16.89,2,   17.37,2,    0.00,2,    1.16,2,   1.164,6,   0.575,6,   0.052,6,    -999,9,    -999,9,    -999,9,     -999,9,    -999,9,    -999,9,    -999,9,    -999,   1.511,2,    -999,9,    -999,9, 2421.50,     1034,  39.4709, -69.6427,    -999,     -999,    -999,     -999,9,     -999,9,     -999,9,     -999,9,     -999,9,     -999,9,   2.8144,    -999,9,       -999,9,    -999,9,    -999,9