BOTTLE,20220517CCHSIOLMM
EXPOCODE,SECT_ID,STNNBR,CASTNO,SAMPNO,BTLNBR,BTLNBR_FLAG_W,DATE,TIME,LATITUDE,LONGITUDE,DEPTH,CTDPRS,CTDTMP,CTDSAL,CTDSAL_FLAG_W,SALNTY,SALNTY_FLAG_W,CTDOXY,CTDOXY_FLAG_W,OXYGEN,OXYGEN_FLAG_W,SILCAT,SILCAT_FLAG_W,NITRAT,NITRAT_FLAG_W,NITRIT,NITRIT_FLAG_W,PHSPHT,PHSPHT_FLAG_W,CFC-11,CFC-11_FLAG_W,CFC-12,CFC-12_FLAG_W,CFC113,CFC113_FLAG_W,TCARBN,TCARBN_FLAG_W,ALKALI,ALKALI_FLAG_W,TRITUM,TRITUM_FLAG_W,HELIUM,HELIUM_FLAG_W,DELHE3,DELHE3_FLAG_W,DELC13,DELC13_FLAG_W,DELC14,DELC14_FLAG_W,C14ERR,CCL4,CCL4_FLAG_W,DOC,DOC_FLAG_W,TDN,TDN_FLAG_W,CTDRAW,BTL_TIME,BTL_LAT,BTL_LON,TRITER,HELIER,DELHER,CDOM325,CDOM325_FLAG_W,CDOM340,CDOM340_FLAG_W,CDOM380,CDOM380_FLAG_W,CDOM412,CDOM412_FLAG_W,CDOMSL,CDOMSL_FLAG_W,CDOMSN,CDOMSN_FLAG_W,THETA,BACT,BACT_FLAG_W,PROC,PROC_FLAG_W,SYN,SYN_FLAG_W,PEUK,PEUK_FLAG_W
,,,,,,,,,,,METERS,DBAR,ITS-90,PSS-78,,PSS-78,,UMOL/KG,,UMOL/KG,,UMOL/KG,,UMOL/KG,,UMOL/KG,,UMOL/KG,,PMOL/KG,,PMOL/KG,,PMOL/KG,,UMOL/KG,,UMOL/KG,,TU,,NMOL/KG,,PERCNT,,/MILLE,,/MILLE,,/MILLE,PMOL/KG,,UMOL/KG,,UMOL/KG,,DBAR,,,,TU,NMOL/KG,PERCNT,1/M,,1/M,,1/M,,1/M,,1/NM,,1/NM,,DEG C,E8/L,,E7/L,,E6/L,,E6/L,
 316N200310,        A22,      28,          1,         24,         24,2,20031029,       2242,    18.7510,   -66.0043,       1972,     2.7,  29.3433,  35.3966,2,  35.3957,2,    163.0,2,   193.6,2,    0.70,2,    0.06,2,    0.00,2,    0.01,2,   1.529,2,   0.935,2,   0.099,2,  1973.9,2,  2329.8,2,    -999,9,     -999,9,    -999,9,    -999,9,    -999,9,    -999,   1.583,2,    -999,9,    -999,9,    2.70,     2335,  18.7547, -66.0049,    -999,     -999,    -999,   0.0660,2,   0.0400,2,   0.0100,2,   0.0050,2,   0.0340,2,   0.0330,2,  29.3426,    -999,9,       -999,9,    -999,9,    -999,9
 316N200310,        A22,      28,          1,         23,         23,2,20031029,       2242,    18.7510,   -66.0043,       1972,    24.7,  29.2909,  35.4389,2,  35.4409,2,    195.8,2,   193.7,2,    0.80,2,    0.06,2,    0.00,2,    0.01,2,   1.541,2,   0.934,2,   0.099,2,    -999,9,    -999,9,    -999,9,     -999,9,    -999,9,    -999,9,    -999,9,    -999,   1.621,2,    -999,9,    -999,9,   24.70,     2334,  18.7545, -66.0049,    -999,     -999,    -999,     -999,9,     -999,9,     -999,9,     -999,9,     -999,9,     -999,9,  29.2849,    -999,9,       -999,9,    -999,9,    -999,9
 316N200310,        A22,      28,          1,         22,         22,2,20031029,       2242,    18.7510,   -66.0043,       1972,    50.4,  29.0099,  36.2194,2,  36.1559,2,    199.1,2,   197.9,2,    0.79,2,    0.05,2,    0.00,2,    0.01,2,   1.595,2,   0.969,2,   0.077,2,    -999,9,    -999,9,    -999,9,     -999,9,    -999,9,    -999,9,    -999,9,    -999,   1.342,2,    -999,9,    -999,9,   50.40,     2332,  18.7544, -66.0049,    -999,     -999,    -999,   0.1020,2,   0.0660,2,   0.0230,2,   0.0140,2,   0.0280,2,   0.0280,2,  28.9977,    -999,9,       -999,9,    -999,9,    -999,9
 316N200310,        A22,      28,          1,         21,         21,2,20031029,       2242,    18.7510,   -66.0043,       1972,    75.9,  27.0080,  36.8368,2,  36.8312,2,    203.1,2,   202.4,2,    0.69,2,    0.00,2,    0.00,2,    0.01,2,   1.723,2,   1.054,2,   0.069,2,    -999,9,    -999,9,    -999,9,     -999,9,    -999,9,    -999,9,    -999,9,    -999,   1.001,2,    -999,9,    -999,9,   75.90,     2331,  18.7542, -66.0048,    -999,     -999,    -999,     -999,9,     -999,9,     -999,9,     -999,9,     -999,9,     -999,9,  26.9905,    -999,9,       -999,9,    -999,9,    -999,9
 316N200310,        A22,      28,          1,         20,         20,2,20031029,       2242,    18.7510,   -66.0043,       1972,    96.1,  26.2751,  36.9679,2,  36.9632,2,    196.6,2,   196.6,2,    0.59,2,    0.00,2,    0.00,2,    0.01,2,   1.760,2,   1.086,2,   0.086,2,    -999,9,    -999,9,    -999,9,     -999,9,    -999,9,    -999,9,    -999,9,    -999,   0.877,2,    -999,9,    -999,9,   96.10,     2329,  18.7541, -66.0048,    -999,     -999,    -999,   0.1130,2,   0.0770,2,   0.0310,2,   0.0230,2,   0.0240,2,   0.0240,2,  26.2534,    -999,9,       -999,9,    -999,9,    -999,9
 316N200310,        A22,      28,          1,         19,         19,2,20031029,       2242,    18.7510,   -66.0043,       1972,   118.1,  25.5587,  37.0959,2,  37.0887,2,    195.7,2,   199.5,2,    0.49,2,    0.10,2,    0.04,2,    0.02,2,   1.826,2,   1.142,2,   0.078,2,    -999,9,    -999,9,    -999,9,     -999,9,    -999,9,    -999,9,    -999,9,    -999,   0.809,2,    -999,9,    -999,9,  118.10,     2328,  18.7540, -66.0048,    -999,     -999,    -999,     -999,9,     -999,9,     -999,9,     -999,9,     -999,9,     -999,9,  25.5324,    -999,9,       -999,9,    -999,9,    -999,9
 316N200310,        A22,      28,          1,         18,         18,2,20031029,       2242,    18.7510,   -66.0043,       1972,   150.9,  24.2014,  37.2455,2,  37.2413,2,    187.8,2,   187.3,2,    0.39,2,    0.78,2,    0.04,2,    0.05,2,   1.905,2,   1.157,2,   0.110,2,    -999,9,    -999,9,    -999,9,     -999,9,    -999,9,    -999,9,    -999,9,    -999,   0.579,2,    -999,9,    -999,9,  150.90,     2326,  18.7538, -66.0048,    -999,     -999,    -999,   0.1160,2,   0.0810,2,   0.0350,2,   0.0240,2,   0.0210,2,   0.0220,2,  24.1691,    -999,9,       -999,9,    -999,9,    -999,9
 316N200310,        A22,      28,          1,         17,         17,2,20031029,       2242,    18.7510,   -66.0043,       1972,   175.8,  22.5180,  37.1603,2,  37.1572,2,    183.2,2,   183.0,2,    0.29,2,    0.98,2,    0.02,2,    0.05,2,   2.034,2,   1.225,2,   0.083,2,    -999,9,    -999,9,    -999,9,     -999,9,    -999,9,    -999,9,    -999,9,    -999,   0.362,2,    -999,9,    -999,9,  175.80,     2325,  18.7538, -66.0048,    -999,     -999,    -999,     -999,9,     -999,9,     -999,9,     -999,9,     -999,9,     -999,9,  22.4823,    -999,9,       -999,9,    -999,9,    -999,9
 316N200310,        A22,      28,          1,         16,         16,2,20031029,       2242,    18.7510,   -66.0043,       1972,   226.3,  20.0092,  36.8305,2,  36.8329,2,    174.1,2,   176.1,2,    0.59,2,    3.05,2,    0.01,2,    0.13,2,   2.198,2,   1.311,2,   0.020,2,    -999,9,    -999,9,    -999,9,     -999,9,    -999,9,    -999,9,    -999,9,    -999,   0.259,2,    -999,9,    -999,9,  226.30,     2324,  18.7536, -66.0048,    -999,     -999,    -999,   0.0880,2,   0.0610,2,   0.0240,2,   0.0170,2,   0.0250,2,   0.0250,2,  19.9668,    -999,9,       -999,9,    -999,9,    -999,9
 316N200310,        A22,      28,          1,         15,         15,2,20031029,       2242,    18.7510,   -66.0043,       1972,   276.3,  18.3779,  36.5821,2,  36.5779,2,    178.5,2,   182.9,2,    1.07,2,    5.02,2,    0.01,2,    0.24,2,   2.302,2,   1.346,2,   0.012,2,    -999,9,    -999,9,    -999,9,     -999,9,    -999,9,    -999,9,    -999,9,    -999,   0.310,2,    -999,9,    -999,9,  276.30,     2322,  18.7535, -66.0049,    -999,     -999,    -999,     -999,9,     -999,9,     -999,9,     -999,9,     -999,9,     -999,9,  18.3292,    -999,9,       -999,9,    -999,9,    -999,9
 316N200310,        A22,      28,          1,         14,         14,2,20031029,       2242,    18.7510,   -66.0043,       1972,   351.0,  16.6130,  36.2940,2,  36.2923,2,    179.6,2,   173.6,2,    2.35,2,    8.88,2,    0.01,2,    0.50,2,   2.250,2,   1.266,2,   0.017,2,    -999,9,    -999,9,    -999,9,     -999,9,    -999,9,    -999,9,    -999,9,    -999,   0.351,2,    -999,9,    -999,9,  351.00,     2320,  18.7534, -66.0049,    -999,     -999,    -999,   0.0860,2,   0.0580,2,   0.0230,2,   0.0150,2,   0.0250,2,   0.0250,2,  16.5552,    -999,9,       -999,9,    -999,9,    -999,9
 316N200310,        A22,      28,          1,         13,         13,2,20031029,       2242,    18.7510,   -66.0043,       1972,   450.8,  14.2503,  35.8897,2,  35.8876,2,    152.6,2,   148.8,2,    5.11,2,   15.29,2,    0.01,2,    0.89,2,   1.892,6,   1.007,6,   0.023,2,    -999,9,    -999,9,    -999,9,     -999,9,    -999,9,    -999,9,    -999,9,    -999,   0.297,2,    -999,9,    -999,9,  450.80,     2318,  18.7532, -66.0048,    -999,     -999,    -999,   0.1080,2,   0.0760,2,   0.0350,2,   0.0240,2,   0.0200,2,   0.0210,2,  14.1834,    -999,9,       -999,9,    -999,9,    -999,9
 316N200310,        A22,      28,          1,         12,         12,2,20031029,       2242,    18.7510,   -66.0043,       1972,   550.1,  11.9212,  35.5151,2,  35.5109,2,    140.5,2,   139.4,2,    8.58,2,   20.46,2,    0.01,2,    1.24,2,   1.391,2,   0.714,2,   0.012,2,    -999,9,    -999,9,    -999,9,     -999,9,    -999,9,    -999,9,    -999,9,    -999,   0.273,2,    -999,9,    -999,9,  550.10,     2315,  18.7530, -66.0048,    -999,     -999,    -999,   0.1050,2,   0.0720,2,   0.0330,2,   0.0230,2,   0.0210,2,   0.0220,2,  11.8483,    -999,9,       -999,9,    -999,9,    -999,9
 316N200310,        A22,      28,          1,         11,         11,2,20031029,       2242,    18.7510,   -66.0043,       1972,   676.6,   9.3313,  35.1905,2,  35.1898,2,    134.4,2,   135.0,2,   13.94,2,   25.53,2,    0.01,2,    1.60,2,   0.625,2,   0.333,2,   0.006,2,    -999,9,    -999,9,    -999,9,     -999,9,    -999,9,    -999,9,    -999,9,    -999,   0.201,2,    -999,9,    -999,9,  676.60,     2312,  18.7528, -66.0047,    -999,     -999,    -999,     -999,9,     -999,9,     -999,9,     -999,9,     -999,9,     -999,9,   9.2540,    -999,9,       -999,9,    -999,9,    -999,9
 316N200310,        A22,      28,          1,         10,         10,2,20031029,       2242,    18.7510,   -66.0043,       1972,   826.7,   7.4800,  35.0159,2,  35.0152,2,    141.5,2,   143.5,2,   18.14,2,   27.70,2,    0.01,2,    1.79,2,   0.298,2,   0.172,2,   0.004,2,    -999,9,    -999,9,    -999,9,     -999,9,    -999,9,    -999,9,    -999,9,    -999,   0.179,2,    -999,9,    -999,9,  826.70,     2309,  18.7526, -66.0047,    -999,     -999,    -999,   0.1170,2,   0.0810,2,   0.0400,2,   0.0280,2,   0.0170,2,   0.0190,2,   7.3961,    -999,9,       -999,9,    -999,9,    -999,9
 316N200310,        A22,      28,          1,          9,          9,2,20031029,       2242,    18.7510,   -66.0043,       1972,   975.5,   6.2572,  35.0095,2,  35.0092,2,    173.1,2,   176.4,2,   17.63,2,   24.88,2,    0.10,2,    1.61,2,   0.406,6,   0.216,6,   0.006,6,    -999,9,    -999,9,    -999,9,     -999,9,    -999,9,    -999,9,    -999,9,    -999,   0.417,6,    -999,9,    -999,9,  975.50,     2306,  18.7524, -66.0047,    -999,     -999,    -999,     -999,9,     -999,9,     -999,9,     -999,9,     -999,9,     -999,9,   6.1660,    -999,9,       -999,9,    -999,9,    -999,9
 316N200310,        A22,      28,          1,          8,          8,2,20031029,       2242,    18.7510,   -66.0043,       1972,  1125.8,   5.4167,  35.0378,2,  35.0388,2,    212.7,2,   213.1,2,   14.94,2,   21.30,2,    0.00,2,    1.39,2,   0.715,2,   0.369,2,   0.019,2,    -999,9,    -999,9,    -999,9,     -999,9,    -999,9,    -999,9,    -999,9,    -999,   0.909,2,    -999,9,    -999,9, 1125.80,     2302,  18.7522, -66.0047,    -999,     -999,    -999,   0.1300,2,   0.0930,2,   0.0460,2,   0.0310,2,   0.0160,2,   0.0180,2,   5.3174,    -999,9,       -999,9,    -999,9,    -999,9
 316N200310,        A22,      28,          1,          7,          7,2,20031029,       2242,    18.7510,   -66.0043,       1972,  1275.6,   4.8936,  35.0326,2,  35.0342,2,    233.3,2,   233.4,2,   13.45,2,   19.62,2,    0.00,2,    1.28,2,   0.974,2,   0.494,2,   0.029,2,    -999,9,    -999,9,    -999,9,     -999,9,    -999,9,    -999,9,    -999,9,    -999,   1.273,2,    -999,9,    -999,9, 1275.60,     2259,  18.7520, -66.0046,    -999,     -999,    -999,     -999,9,     -999,9,     -999,9,     -999,9,     -999,9,     -999,9,   4.7848,    -999,9,       -999,9,    -999,9,    -999,9
 316N200310,        A22,      28,          1,          6,          6,2,20031029,       2242,    18.7510,   -66.0043,       1972,  1401.9,   4.5558,  35.0224,2,  35.0270,2,    245.8,2,   245.6,2,   12.55,2,   18.70,2,    0.00,2,    1.22,2,   1.120,2,   0.556,2,   0.035,2,    -999,9,    -999,9,    -999,9,     -999,9,    -999,9,    -999,9,    -999,9,    -999,   1.505,2,    -999,9,    -999,9, 1401.90,     2256,  18.7518, -66.0046,    -999,     -999,    -999,     -999,9,     -999,9,     -999,9,     -999,9,     -999,9,     -999,9,   4.4385,    -999,9,       -999,9,    -999,9,    -999,9
 316N200310,        A22,      28,          1,          5,          5,2,20031029,       2242,    18.7510,   -66.0043,       1972,  1501.0,   4.2790,  35.0037,2,  35.0049,2,    252.8,2,   252.8,2,   12.55,2,   18.35,2,    0.00,2,    1.20,2,   1.187,2,   0.578,2,   0.040,2,    -999,9,    -999,9,    -999,9,     -999,9,    -999,9,    -999,9,    -999,9,    -999,   1.634,2,    -999,9,    -999,9, 1501.00,     2254,  18.7516, -66.0046,    -999,     -999,    -999,   0.1330,2,   0.0950,2,   0.0460,2,   0.0320,2,   0.0170,2,   0.0190,2,   4.1554,    -999,9,       -999,9,    -999,9,    -999,9
 316N200310,        A22,      28,          1,          4,          4,2,20031029,       2242,    18.7510,   -66.0043,       1972,  1600.4,   4.0381,  34.9871,2,  34.9923,2,    257.1,2,   257.2,2,   12.84,2,   18.15,2,    0.00,2,    1.18,2,   1.179,2,   0.568,2,   0.046,2,    -999,9,    -999,9,    -999,9,     -999,9,    -999,9,    -999,9,    -999,9,    -999,   1.672,2,    -999,9,    -999,9, 1600.40,     2251,  18.7515, -66.0046,    -999,     -999,    -999,     -999,9,     -999,9,     -999,9,     -999,9,     -999,9,     -999,9,   3.9082,    -999,9,       -999,9,    -999,9,    -999,9
 316N200310,        A22,      28,          1,          3,          3,2,20031029,       2242,    18.7510,   -66.0043,       1972,  1700.0,   3.8729,  34.9776,2,  34.9785,2,    260.2,2,   260.4,2,   13.15,2,   18.05,2,    0.00,2,    1.18,2,   1.132,2,   0.558,2,   0.043,2,    -999,9,    -999,9,    -999,9,     -999,9,    -999,9,    -999,9,    -999,9,    -999,   1.633,2,    -999,9,    -999,9, 1700.00,     2249,  18.7513, -66.0045,    -999,     -999,    -999,     -999,9,     -999,9,     -999,9,     -999,9,     -999,9,     -999,9,   3.7358,    -999,9,       -999,9,    -999,9,    -999,9
 316N200310,        A22,      28,          1,          2,          2,2,20031029,       2242,    18.7510,   -66.0043,       1972,  1825.6,   3.8250,  34.9749,2,  34.9754,2,    260.9,2,   261.0,2,   13.44,2,   18.00,2,    0.00,2,    1.18,2,   1.100,2,   0.539,2,   0.042,2,    -999,9,    -999,9,    -999,9,     -999,9,    -999,9,    -999,9,    -999,9,    -999,   1.594,2,    -999,9,    -999,9, 1825.60,     2246,  18.7512, -66.0045,    -999,     -999,    -999,     -999,9,     -999,9,     -999,9,     -999,9,     -999,9,     -999,9,   3.6768,    -999,9,       -999,9,    -999,9,    -999,9
 316N200310,        A22,      28,          1,          1,          1,2,20031029,       2242,    18.7510,   -66.0043,       1972,  1976.5,   3.6986,  34.9702,2,  34.9717,2,    261.8,2,   262.2,2,   14.13,2,   18.00,2,    0.00,2,    1.18,2,   0.980,2,   0.492,2,   0.035,2,    -999,9,    -999,9,    -999,9,     -999,9,    -999,9,    -999,9,    -999,9,    -999,   1.465,2,    -999,9,    -999,9, 1976.50,     2243,  18.7510, -66.0044,    -999,     -999,    -999,   0.1260,2,   0.0890,2,   0.0430,2,   0.0290,2,   0.0180,2,   0.0190,2,   3.5378,    -999,9,       -999,9,    -999,9,    -999,9