BOTTLE,20220517CCHSIOLMM
EXPOCODE,SECT_ID,STNNBR,CASTNO,SAMPNO,BTLNBR,BTLNBR_FLAG_W,DATE,TIME,LATITUDE,LONGITUDE,DEPTH,CTDPRS,CTDTMP,CTDSAL,CTDSAL_FLAG_W,SALNTY,SALNTY_FLAG_W,CTDOXY,CTDOXY_FLAG_W,OXYGEN,OXYGEN_FLAG_W,SILCAT,SILCAT_FLAG_W,NITRAT,NITRAT_FLAG_W,NITRIT,NITRIT_FLAG_W,PHSPHT,PHSPHT_FLAG_W,CFC-11,CFC-11_FLAG_W,CFC-12,CFC-12_FLAG_W,CFC113,CFC113_FLAG_W,TCARBN,TCARBN_FLAG_W,ALKALI,ALKALI_FLAG_W,TRITUM,TRITUM_FLAG_W,HELIUM,HELIUM_FLAG_W,DELHE3,DELHE3_FLAG_W,DELC13,DELC13_FLAG_W,DELC14,DELC14_FLAG_W,C14ERR,CCL4,CCL4_FLAG_W,DOC,DOC_FLAG_W,TDN,TDN_FLAG_W,CTDRAW,BTL_TIME,BTL_LAT,BTL_LON,TRITER,HELIER,DELHER,CDOM325,CDOM325_FLAG_W,CDOM340,CDOM340_FLAG_W,CDOM380,CDOM380_FLAG_W,CDOM412,CDOM412_FLAG_W,CDOMSL,CDOMSL_FLAG_W,CDOMSN,CDOMSN_FLAG_W,THETA,BACT,BACT_FLAG_W,PROC,PROC_FLAG_W,SYN,SYN_FLAG_W,PEUK,PEUK_FLAG_W
,,,,,,,,,,,METERS,DBAR,ITS-90,PSS-78,,PSS-78,,UMOL/KG,,UMOL/KG,,UMOL/KG,,UMOL/KG,,UMOL/KG,,UMOL/KG,,PMOL/KG,,PMOL/KG,,PMOL/KG,,UMOL/KG,,UMOL/KG,,TU,,NMOL/KG,,PERCNT,,/MILLE,,/MILLE,,/MILLE,PMOL/KG,,UMOL/KG,,UMOL/KG,,DBAR,,,,TU,NMOL/KG,PERCNT,1/M,,1/M,,1/M,,1/M,,1/NM,,1/NM,,DEG C,E8/L,,E7/L,,E6/L,,E6/L,
 316N200310,        A22,      42,          1,          4,          4,2,20031102,       1219,    24.2148,   -66.0035,       5370,  4750.3,   2.2630,  34.8866,2,  34.8855,2,    261.2,2,   260.8,2,   36.26,2,   19.90,2,    0.00,2,    1.33,2,    -999,9,    -999,9,    -999,9,  2181.1,2,  2338.2,2,    -999,9,     -999,9,    -999,9,    -999,9,    -999,9,    -999,    -999,9,    -999,9,    -999,9, 4750.30,     1236,  24.2171, -66.0031,    -999,     -999,    -999,     -999,9,     -999,9,     -999,9,     -999,9,     -999,9,     -999,9,   1.8327,    -999,9,       -999,9,    -999,9,    -999,9
 316N200310,        A22,      42,          1,          3,          3,2,20031102,       1219,    24.2148,   -66.0035,       5370,  5001.4,   2.1945,  34.8746,2,  34.8735,2,    256.8,2,   256.6,2,   42.61,2,   20.92,2,    0.00,2,    1.41,2,    -999,9,    -999,9,    -999,9,  2186.6,2,  2344.1,2,    -999,9,     -999,9,    -999,9,    -999,9,    -999,9,    -999,    -999,9,   40.50,2,    -999,9, 5001.40,     1230,  24.2163, -66.0032,    -999,     -999,    -999,   0.1310,2,   0.0920,2,   0.0440,2,   0.0280,2,   0.0180,2,   0.0200,2,   1.7353,    -999,9,       -999,9,    -999,9,    -999,9
 316N200310,        A22,      42,          1,          2,          2,2,20031102,       1219,    24.2148,   -66.0035,       5370,  5250.8,   2.0872,  34.8573,2,  34.8558,2,    250.7,2,   251.2,2,   51.19,2,   22.14,2,    0.00,2,    1.50,2,    -999,9,    -999,9,    -999,9,  2195.9,2,  2347.4,2,    -999,9,     -999,9,    -999,9,    -999,9,    -999,9,    -999,    -999,9,    -999,9,    -999,9, 5250.80,     1225,  24.2156, -66.0034,    -999,     -999,    -999,     -999,9,     -999,9,     -999,9,     -999,9,     -999,9,     -999,9,   1.6002,    -999,9,       -999,9,    -999,9,    -999,9
 316N200310,        A22,      42,          1,          1,          1,2,20031102,       1219,    24.2148,   -66.0035,       5370,  5456.7,   2.0541,  34.8497,2,  34.8503,2,    248.0,2,   249.3,2,   54.83,2,   22.51,2,    0.00,2,    1.53,2,    -999,9,    -999,9,    -999,9,  2200.0,2,  2350.8,6,    -999,9,     -999,9,    -999,9,    -999,9,    -999,9,    -999,    -999,9,   40.40,2,    -999,9, 5456.70,     1220,  24.2150, -66.0035,    -999,     -999,    -999,   0.1330,2,   0.0930,2,   0.0450,2,   0.0290,2,   0.0180,2,   0.0200,2,   1.5417,    -999,9,       -999,9,    -999,9,    -999,9