BOTTLE,20220517CCHSIOLMM
EXPOCODE,SECT_ID,STNNBR,CASTNO,SAMPNO,BTLNBR,BTLNBR_FLAG_W,DATE,TIME,LATITUDE,LONGITUDE,DEPTH,CTDPRS,CTDTMP,CTDSAL,CTDSAL_FLAG_W,SALNTY,SALNTY_FLAG_W,CTDOXY,CTDOXY_FLAG_W,OXYGEN,OXYGEN_FLAG_W,SILCAT,SILCAT_FLAG_W,NITRAT,NITRAT_FLAG_W,NITRIT,NITRIT_FLAG_W,PHSPHT,PHSPHT_FLAG_W,CFC-11,CFC-11_FLAG_W,CFC-12,CFC-12_FLAG_W,CFC113,CFC113_FLAG_W,TCARBN,TCARBN_FLAG_W,ALKALI,ALKALI_FLAG_W,TRITUM,TRITUM_FLAG_W,HELIUM,HELIUM_FLAG_W,DELHE3,DELHE3_FLAG_W,DELC13,DELC13_FLAG_W,DELC14,DELC14_FLAG_W,C14ERR,CCL4,CCL4_FLAG_W,DOC,DOC_FLAG_W,TDN,TDN_FLAG_W,CTDRAW,BTL_TIME,BTL_LAT,BTL_LON,TRITER,HELIER,DELHER,CDOM325,CDOM325_FLAG_W,CDOM340,CDOM340_FLAG_W,CDOM380,CDOM380_FLAG_W,CDOM412,CDOM412_FLAG_W,CDOMSL,CDOMSL_FLAG_W,CDOMSN,CDOMSN_FLAG_W,THETA,BACT,BACT_FLAG_W,PROC,PROC_FLAG_W,SYN,SYN_FLAG_W,PEUK,PEUK_FLAG_W
,,,,,,,,,,,METERS,DBAR,ITS-90,PSS-78,,PSS-78,,UMOL/KG,,UMOL/KG,,UMOL/KG,,UMOL/KG,,UMOL/KG,,UMOL/KG,,PMOL/KG,,PMOL/KG,,PMOL/KG,,UMOL/KG,,UMOL/KG,,TU,,NMOL/KG,,PERCNT,,/MILLE,,/MILLE,,/MILLE,PMOL/KG,,UMOL/KG,,UMOL/KG,,DBAR,,,,TU,NMOL/KG,PERCNT,1/M,,1/M,,1/M,,1/M,,1/NM,,1/NM,,DEG C,E8/L,,E7/L,,E6/L,,E6/L,
 316N200310,        A22,       1,          1,          8,          8,2,20031024,       0909,    11.3358,   -64.7563,        985,   701.2,   6.7823,  34.7735,2,  34.7710,2,    127.4,2,   126.7,2,   22.21,2,   31.83,2,    0.00,2,    2.11,2,   0.271,2,   0.142,2,   0.007,2,  2215.0,2,    -999,9,    -999,9,     -999,9,    -999,9,    -999,9,    -999,9,    -999,    -999,9,   44.00,2,    -999,9,  701.20,      918,  11.3367, -64.7569,    -999,     -999,    -999,   0.1570,2,   0.1120,2,   0.0620,2,   0.0470,2,   0.0130,2,   0.0150,2,   6.7156,    -999,9,       -999,9,    -999,9,    -999,9
 316N200310,        A22,       1,          1,          7,          7,2,20031024,       0909,    11.3358,   -64.7563,        985,   701.2,   6.7785,  34.7733,2,  34.7695,2,    127.4,2,   126.6,2,   22.40,2,   31.84,2,    0.00,2,    2.11,2,   0.263,6,   0.149,6,   0.006,6,  2215.5,2,    -999,9,    -999,9,     -999,9,    -999,9,    -999,9,    -999,9,    -999,   0.222,6,    -999,9,    -999,9,  701.20,      918,  11.3367, -64.7568,    -999,     -999,    -999,     -999,9,     -999,9,     -999,9,     -999,9,     -999,9,     -999,9,   6.7119,    -999,9,       -999,9,    -999,9,    -999,9
 316N200310,        A22,       1,          1,          5,          5,2,20031024,       0909,    11.3358,   -64.7563,        985,   800.0,   6.1812,  34.7765,2,  34.7799,2,    137.9,2,   135.7,2,   24.04,2,   31.30,2,    0.00,2,    2.09,2,   0.146,2,   0.082,2,   0.006,2,  2213.9,2,    -999,9,    -999,9,     -999,9,    -999,9,    -999,9,    -999,9,    -999,   0.163,2,    -999,9,    -999,9,  800.00,      915,  11.3363, -64.7566,    -999,     -999,    -999,     -999,9,     -999,9,     -999,9,     -999,9,     -999,9,     -999,9,   6.1082,    -999,9,       -999,9,    -999,9,    -999,9
 316N200310,        A22,       1,          1,          6,          6,2,20031024,       0909,    11.3358,   -64.7563,        985,   800.0,   6.1815,  34.7765,2,  34.7732,2,    137.9,2,   136.0,2,   23.94,2,   31.40,2,    0.00,2,    2.09,2,   0.149,2,   0.082,2,   0.001,2,  2214.9,2,    -999,9,    -999,9,     -999,9,    -999,9,    -999,9,    -999,9,    -999,    -999,9,   44.90,2,    -999,9,  800.00,      915,  11.3363, -64.7566,    -999,     -999,    -999,   0.1500,2,   0.1070,2,   0.0580,2,   0.0430,2,   0.0130,2,   0.0150,2,   6.1085,    -999,9,       -999,9,    -999,9,    -999,9
 316N200310,        A22,       1,          1,          3,          3,2,20031024,       0909,    11.3358,   -64.7563,        985,   900.9,   5.5863,  34.8561,2,  34.8578,2,    157.6,2,   157.2,2,   24.64,2,   28.61,2,    0.00,2,    1.94,2,   0.083,2,   0.054,2,   0.006,2,  2218.5,3,    -999,9,    -999,9,     -999,9,    -999,9,    -999,9,    -999,9,    -999,   0.133,2,    -999,9,    -999,9,  900.90,      911,  11.3360, -64.7564,    -999,     -999,    -999,     -999,9,     -999,9,     -999,9,     -999,9,     -999,9,     -999,9,   5.5074,    -999,9,       -999,9,    -999,9,    -999,9
 316N200310,        A22,       1,          1,          4,          4,2,20031024,       0909,    11.3358,   -64.7563,        985,   901.0,   5.5866,  34.8561,2,  34.8576,2,    158.0,2,   157.2,2,   24.65,2,   28.65,2,    0.00,2,    1.94,2,   0.088,2,   0.053,2,   0.001,2,  2210.4,2,    -999,9,    -999,9,     -999,9,    -999,9,    -999,9,    -999,9,    -999,    -999,9,   43.70,2,    -999,9,  901.00,      912,  11.3360, -64.7564,    -999,     -999,    -999,   0.1540,2,   0.1110,2,   0.0600,2,   0.0430,2,   0.0140,2,   0.0160,2,   5.5077,    -999,9,       -999,9,    -999,9,    -999,9
 316N200310,        A22,       1,          1,          1,          1,2,20031024,       0909,    11.3358,   -64.7563,        985,   975.1,   5.1859,  34.9076,2,  34.9052,2,    172.1,2,   172.6,2,   25.34,2,   26.57,2,    0.01,2,    1.81,2,   0.061,2,   0.042,2,   0.005,2,  2204.6,2,    -999,9,    -999,9,     -999,9,    -999,9,    -999,9,    -999,9,    -999,   0.133,2,    -999,9,    -999,9,  975.10,      908,  11.3357, -64.7563,    -999,     -999,    -999,     -999,9,     -999,9,     -999,9,     -999,9,     -999,9,     -999,9,   5.1028,    -999,9,       -999,9,    -999,9,    -999,9
 316N200310,        A22,       1,          1,          2,          2,2,20031024,       0909,    11.3358,   -64.7563,        985,   975.5,   5.1826,  34.9080,2,  34.9077,2,    172.1,2,   172.5,2,   25.35,2,   26.62,2,    0.00,2,    1.81,2,   0.067,2,   0.036,2,   0.000,2,  2205.8,2,    -999,9,    -999,9,     -999,9,    -999,9,    -999,9,    -999,9,    -999,    -999,9,   44.90,2,    -999,9,  975.50,      909,  11.3358, -64.7563,    -999,     -999,    -999,   0.1610,2,   0.1160,2,   0.0610,2,   0.0430,2,   0.0140,2,   0.0160,2,   5.0995,    -999,9,       -999,9,    -999,9,    -999,9
 316N200310,        A22,       2,          1,         10,         10,2,20031024,       2005,    11.0008,   -66.0048,        234,     3.0,  28.7371,  36.5507,2,  36.5444,2,    114.2,2,   195.9,2,    0.80,2,    0.17,2,    0.00,2,    0.03,2,   1.573,2,   0.983,2,   0.131,2,  2040.8,2,  2400.4,6,    -999,9,     -999,9,    -999,9,    -999,9,    -999,9,    -999,    -999,9,   63.70,2,    4.50,2,    3.00,     2019,  11.0004, -66.0057,    -999,     -999,    -999,   0.1260,2,   0.0860,2,   0.0370,2,   0.0240,2,   0.0220,2,   0.0230,2,  28.7363,    -999,9,       -999,9,    -999,9,    -999,9
 316N200310,        A22,       2,          1,          9,          9,2,20031024,       2005,    11.0008,   -66.0048,        234,    25.5,  28.1445,  36.5531,2,  36.5531,2,    200.1,2,   197.7,2,    1.01,2,    0.17,2,    0.00,2,    0.03,2,   1.631,2,   1.004,2,   0.139,2,  2043.3,2,  2400.4,2,    -999,9,     -999,9,    -999,9,    -999,9,    -999,9,    -999,    -999,9,   63.40,2,    4.70,2,   25.50,     2017,  11.0005, -66.0056,    -999,     -999,    -999,   0.1530,2,   0.1080,2,   0.0490,2,   0.0330,2,   0.0180,2,   0.0200,2,  28.1385,    4.83,2,       6.05,2,   21.23,2,    0.58,2
 316N200310,        A22,       2,          1,          8,          8,2,20031024,       2005,    11.0008,   -66.0048,        234,    50.5,  26.0592,  36.7163,2,  36.7082,2,    192.6,2,   194.0,2,    0.81,2,    0.17,2,    0.01,2,    0.03,2,   1.744,2,   1.062,2,   0.133,2,  2060.9,2,  2396.3,2,    -999,9,     -999,9,    -999,9,    -999,9,    -999,9,    -999,    -999,9,   65.30,2,    4.60,2,   50.50,     2016,  11.0006, -66.0055,    -999,     -999,    -999,   0.1680,2,   0.1190,2,   0.0560,2,   0.0400,2,   0.0160,2,   0.0180,2,  26.0478,    4.03,2,       8.44,2,    5.17,2,    0.81,2
 316N200310,        A22,       2,          1,          7,          7,2,20031024,       2005,    11.0008,   -66.0048,        234,    75.8,  22.6201,  36.9751,2,  36.9622,2,    160.7,2,   157.1,2,    1.42,2,    4.25,2,    0.03,2,    0.23,2,   1.933,2,   1.161,2,   0.064,2,  2128.0,2,  2409.5,2,    -999,9,     -999,9,    -999,9,    -999,9,    -999,9,    -999,    -999,9,   58.00,2,    7.80,2,   75.80,     2015,  11.0007, -66.0054,    -999,     -999,    -999,   0.1680,2,   0.1230,2,   0.0630,2,   0.0490,2,   0.0140,2,   0.0160,2,  22.6047,    1.96,2,       0.90,2,    0.19,2,    0.55,2
 316N200310,        A22,       2,          1,          6,          6,2,20031024,       2005,    11.0008,   -66.0048,        234,   100.5,  21.4660,  36.8878,2,  36.8808,2,    148.8,2,   151.0,2,    1.93,2,    5.66,2,    0.02,2,    0.30,2,   1.975,2,   1.175,2,   0.043,2,  2135.3,2,  2402.4,2,    -999,9,     -999,9,    -999,9,    -999,9,    -999,9,    -999,    -999,9,   55.40,2,    8.50,2,  100.50,     2013,  11.0007, -66.0053,    -999,     -999,    -999,   0.1520,2,   0.1110,2,   0.0560,2,   0.0430,2,   0.0140,2,   0.0160,2,  21.4463,    1.60,2,       0.19,2,    0.05,2,    0.08,2
 316N200310,        A22,       2,          1,          5,          5,2,20031024,       2005,    11.0008,   -66.0048,        234,   125.5,  20.5466,  36.7895,2,  36.7788,2,    145.1,2,   145.8,2,    2.34,2,    7.07,2,    0.02,2,    0.38,2,   2.002,6,   1.161,6,   0.023,2,  2143.6,2,  2396.8,2,    -999,9,     -999,9,    -999,9,    -999,9,    -999,9,    -999,   0.174,2,   54.20,2,   10.20,2,  125.50,     2012,  11.0008, -66.0052,    -999,     -999,    -999,   0.1590,2,   0.1170,2,   0.0610,2,   0.0470,2,   0.0130,2,   0.0150,2,  20.5227,    1.81,2,       0.08,2,    0.03,2,    0.10,2
 316N200310,        A22,       2,          1,          4,          4,2,20031024,       2005,    11.0008,   -66.0048,        234,   150.2,  20.1109,  36.7439,2,  36.7367,2,    144.6,2,   145.1,2,    2.45,2,    7.52,2,    0.03,2,    0.40,2,   2.034,2,   1.200,2,   0.031,2,  2146.2,2,  2393.9,2,    -999,9,     -999,9,    -999,9,    -999,9,    -999,9,    -999,    -999,9,   50.00,2,   10.70,2,  150.20,     2010,  11.0008, -66.0051,    -999,     -999,    -999,   0.1470,2,   0.1080,2,   0.0550,2,   0.0430,2,   0.0140,2,   0.0160,2,  20.0828,    1.52,2,       0.04,2,    0.02,2,    0.13,2
 316N200310,        A22,       2,          1,          2,          2,2,20031024,       2005,    11.0008,   -66.0048,        234,   200.1,  17.0655,  36.2965,2,  36.2879,2,    136.7,2,   136.6,2,    4.59,2,   12.68,2,    0.21,2,    0.73,2,   1.983,2,   1.125,2,   0.018,2,  2159.7,2,  2369.3,2,    -999,9,     -999,9,    -999,9,    -999,9,    -999,9,    -999,    -999,9,    -999,9,    -999,9,  200.10,     2008,  11.0009, -66.0050,    -999,     -999,    -999,     -999,9,     -999,9,     -999,9,     -999,9,     -999,9,     -999,9,  17.0321,    -999,9,       -999,9,    -999,9,    -999,9
 316N200310,        A22,       2,          1,          3,          3,2,20031024,       2005,    11.0008,   -66.0048,        234,   200.2,  17.0635,  36.2960,2,  36.2863,2,    136.7,2,    -999,9,    4.48,2,   12.61,2,    0.20,2,    0.73,2,   1.991,2,   1.126,2,   0.017,2,    -999,9,    -999,9,    -999,9,     -999,9,    -999,9,    -999,9,    -999,9,    -999,    -999,9,   44.80,2,   15.50,3,  200.20,     2008,  11.0008, -66.0050,    -999,     -999,    -999,   0.1540,2,   0.1130,2,   0.0610,2,   0.0500,2,   0.0120,2,   0.0140,2,  17.0301,    1.98,2,       0.00,2,    0.02,2,    0.02,2
 316N200310,        A22,       2,          1,          1,          1,2,20031024,       2005,    11.0008,   -66.0048,        234,   218.8,  16.4965,  36.2019,2,  36.2077,2,    139.7,2,   139.4,2,    4.70,2,   13.27,2,    0.04,2,    0.75,2,   1.960,2,   1.108,2,   0.017,2,  2158.4,2,  2365.1,6,    -999,9,     -999,9,    -999,9,    -999,9,    -999,9,    -999,    -999,9,   45.00,2,   16.30,2,  218.80,     2006,  11.0009, -66.0049,    -999,     -999,    -999,   0.1450,2,   0.1050,2,   0.0540,2,   0.0390,2,   0.0140,2,   0.0170,2,  16.4608,    1.23,2,       0.00,2,    0.02,2,    0.01,2
 316N200310,        A22,       3,          1,         13,         13,2,20031024,       2208,    11.2550,   -65.9987,        589,     2.6,  29.1529,  36.5877,2,  36.5888,2,    194.4,2,   193.0,2,    0.73,2,    0.06,2,    0.00,2,    0.02,2,   1.517,2,   0.918,2,   0.094,2,  2039.7,2,  2389.9,6,   0.485,2,   1.7870,2,    2.43,2,    -999,9,    -999,9,    -999,   1.659,2,    -999,9,    -999,9,    2.60,     2230,  11.2594, -65.9988,   0.012,   0.0089,    0.15,   0.0530,2,   0.0330,2,   0.0090,2,   0.0050,2,   0.0330,2,   0.0330,2,  29.1523,    -999,9,       -999,9,    -999,9,    -999,9
 316N200310,        A22,       3,          1,         12,         12,2,20031024,       2208,    11.2550,   -65.9987,        589,    25.2,  28.0071,  36.5741,2,  36.5862,2,    198.9,2,   197.4,2,    0.74,2,    0.06,2,    0.00,2,    0.02,2,   1.612,2,   0.977,2,   0.088,2,  2042.8,2,  2388.8,2,    -999,9,   1.8035,2,    0.88,2,    -999,9,    -999,9,    -999,   1.332,2,    -999,9,    -999,9,   25.20,     2229,  11.2591, -65.9988,    -999,   0.0090,    0.15,   0.0900,2,   0.0590,2,   0.0220,2,   0.0140,2,   0.0270,2,   0.0280,2,  28.0011,    -999,9,       -999,9,    -999,9,    -999,9
 316N200310,        A22,       3,          1,         11,         11,2,20031024,       2208,    11.2550,   -65.9987,        589,    50.8,  25.4209,  36.7729,2,  36.7722,2,    192.9,2,   191.8,2,    0.84,2,    0.06,2,    0.00,2,    0.02,2,   1.777,2,   1.062,2,   0.070,2,  2072.1,2,  2399.4,2,   0.219,2,   1.7939,2,   -0.13,2,    -999,9,    -999,9,    -999,   0.533,2,    -999,9,    -999,9,   50.80,     2228,  11.2588, -65.9988,   0.012,   0.0090,    0.15,   0.1800,2,   0.1270,2,   0.0590,2,   0.0410,2,   0.0160,2,   0.0190,2,  25.4097,    -999,9,       -999,9,    -999,9,    -999,9
 316N200310,        A22,       3,          1,         10,         10,2,20031024,       2208,    11.2550,   -65.9987,        589,    75.1,  23.4365,  36.9570,2,  36.9507,2,    160.9,2,   161.5,2,    1.36,2,    3.08,2,    0.16,2,    0.19,2,   1.886,2,   1.118,2,   0.063,2,  2118.2,2,  2408.3,2,    -999,9,     -999,9,    -999,9,    -999,9,    -999,9,    -999,   0.233,2,    -999,9,    -999,9,   75.10,     2226,  11.2585, -65.9988,    -999,     -999,    -999,   0.1600,2,   0.1160,2,   0.0570,2,   0.0430,2,   0.0150,2,   0.0170,2,  23.4209,    -999,9,       -999,9,    -999,9,    -999,9
 316N200310,        A22,       3,          1,          9,          9,2,20031024,       2208,    11.2550,   -65.9987,        589,    99.1,  22.0293,  36.9310,2,  36.9241,2,    150.3,2,   150.0,2,    1.86,2,    5.38,2,    0.05,2,    0.28,2,   1.972,2,   1.154,2,   0.038,2,  2137.9,2,  2403.7,2,    -999,9,     -999,9,    -999,9,    -999,9,    -999,9,    -999,   0.180,2,    -999,9,    -999,9,   99.10,     2224,  11.2582, -65.9988,    -999,     -999,    -999,   0.1450,2,   0.1050,2,   0.0510,2,   0.0380,2,   0.0150,2,   0.0170,2,  22.0095,    -999,9,       -999,9,    -999,9,    -999,9
 316N200310,        A22,       3,          1,          8,          8,2,20031024,       2208,    11.2550,   -65.9987,        589,   125.3,  20.0103,  36.7458,2,  36.7302,2,    149.5,2,   148.1,2,    2.27,2,    7.33,2,    0.02,2,    0.38,2,   2.054,6,   1.196,6,   0.029,2,  2146.2,2,  2393.0,2,    -999,9,     -999,9,    -999,9,    -999,9,    -999,9,    -999,   0.187,2,    -999,9,    -999,9,  125.30,     2223,  11.2579, -65.9988,    -999,     -999,    -999,     -999,9,     -999,9,     -999,9,     -999,9,     -999,9,     -999,9,  19.9869,    -999,9,       -999,9,    -999,9,    -999,9
 316N200310,        A22,       3,          1,          7,          7,2,20031024,       2208,    11.2550,   -65.9987,        589,   150.4,  18.9002,  36.5862,2,  36.5749,2,    145.0,2,   145.7,2,    2.78,2,    9.13,2,    0.01,2,    0.49,2,   2.072,2,   1.172,2,   0.013,2,  2150.9,2,  2393.9,2,    -999,9,     -999,9,    -999,9,    -999,9,    -999,9,    -999,   0.211,2,    -999,9,    -999,9,  150.40,     2222,  11.2577, -65.9988,    -999,     -999,    -999,   0.1280,2,   0.0920,2,   0.0450,2,   0.0330,2,   0.0160,2,   0.0180,2,  18.8732,    -999,9,       -999,9,    -999,9,    -999,9
 316N200310,        A22,       3,          1,          6,          6,2,20031024,       2208,    11.2550,   -65.9987,        589,   200.5,  17.1913,  36.3219,2,  36.3081,2,    144.9,2,   146.3,2,    3.70,2,   11.73,2,    0.01,2,    0.64,2,   2.023,2,   1.132,2,   0.012,2,  2154.7,2,  2379.8,2,    -999,9,     -999,9,    -999,9,    -999,9,    -999,9,    -999,   0.260,2,    -999,9,    -999,9,  200.50,     2220,  11.2573, -65.9988,    -999,     -999,    -999,     -999,9,     -999,9,     -999,9,     -999,9,     -999,9,     -999,9,  17.1576,    -999,9,       -999,9,    -999,9,    -999,9
 316N200310,        A22,       3,          1,          5,          5,2,20031024,       2208,    11.2550,   -65.9987,        589,   250.9,  15.7690,  36.0782,2,  36.0699,2,    138.0,2,   137.8,2,    5.23,2,   14.97,2,    0.01,2,    0.85,2,   1.934,2,   1.058,2,   0.014,2,  2162.8,2,  2366.4,2,    -999,9,     -999,9,    -999,9,    -999,9,    -999,9,    -999,   0.273,2,    -999,9,    -999,9,  250.90,     2218,  11.2570, -65.9988,    -999,     -999,    -999,     -999,9,     -999,9,     -999,9,     -999,9,     -999,9,     -999,9,  15.7293,    -999,9,       -999,9,    -999,9,    -999,9
 316N200310,        A22,       3,          1,          4,          4,2,20031024,       2208,    11.2550,   -65.9987,        589,   300.8,  13.5530,  35.6879,2,  35.6790,2,    128.8,2,   129.2,2,    7.78,2,   19.76,2,    0.01,2,    1.16,2,   1.647,2,   0.874,2,   0.012,2,  2178.6,2,  2346.0,2,    -999,9,     -999,9,    -999,9,    -999,9,    -999,9,    -999,   0.289,2,    -999,9,    -999,9,  300.80,     2217,  11.2566, -65.9988,    -999,     -999,    -999,     -999,9,     -999,9,     -999,9,     -999,9,     -999,9,     -999,9,  13.5100,    -999,9,       -999,9,    -999,9,    -999,9
 316N200310,        A22,       3,          1,          3,          3,2,20031024,       2208,    11.2550,   -65.9987,        589,   401.2,  10.2863,  35.1585,2,  35.1534,2,    118.7,2,   119.2,2,   13.18,2,   26.99,2,    0.01,2,    1.65,2,   1.076,2,   0.573,2,   0.012,2,  2197.9,2,  2324.6,2,    -999,9,     -999,9,    -999,9,    -999,9,    -999,9,    -999,   0.330,2,    -999,9,    -999,9,  401.20,     2214,  11.2560, -65.9988,    -999,     -999,    -999,     -999,9,     -999,9,     -999,9,     -999,9,     -999,9,     -999,9,  10.2384,    -999,9,       -999,9,    -999,9,    -999,9
 316N200310,        A22,       3,          1,          2,          2,2,20031024,       2208,    11.2550,   -65.9987,        589,   500.8,   8.5301,  34.9152,2,  34.9103,2,    117.7,2,   118.5,2,   17.27,2,   30.69,2,    0.00,2,    1.92,2,   0.687,2,   0.372,2,   0.008,2,  2207.2,2,  2312.9,2,    -999,9,     -999,9,    -999,9,    -999,9,    -999,9,    -999,   0.319,2,    -999,9,    -999,9,  500.80,     2211,  11.2555, -65.9987,    -999,     -999,    -999,     -999,9,     -999,9,     -999,9,     -999,9,     -999,9,     -999,9,   8.4766,    -999,9,       -999,9,    -999,9,    -999,9
 316N200310,        A22,       3,          1,          1,          1,2,20031024,       2208,    11.2550,   -65.9987,        589,   573.4,   8.0650,  34.8651,2,  34.8629,2,    118.4,2,   119.6,2,   18.60,2,   31.52,2,    0.01,2,    1.97,2,   0.573,6,   0.318,6,   0.009,6,  2211.0,2,  2309.9,6,    -999,9,     -999,9,    -999,9,    -999,9,    -999,9,    -999,   0.309,6,    -999,9,    -999,9,  573.40,     2209,  11.2551, -65.9987,    -999,     -999,    -999,     -999,9,     -999,9,     -999,9,     -999,9,     -999,9,     -999,9,   8.0054,    -999,9,       -999,9,    -999,9,    -999,9