BOTTLE,20220517CCHSIOLMM
EXPOCODE,SECT_ID,STNNBR,CASTNO,SAMPNO,BTLNBR,BTLNBR_FLAG_W,DATE,TIME,LATITUDE,LONGITUDE,DEPTH,CTDPRS,CTDTMP,CTDSAL,CTDSAL_FLAG_W,SALNTY,SALNTY_FLAG_W,CTDOXY,CTDOXY_FLAG_W,OXYGEN,OXYGEN_FLAG_W,SILCAT,SILCAT_FLAG_W,NITRAT,NITRAT_FLAG_W,NITRIT,NITRIT_FLAG_W,PHSPHT,PHSPHT_FLAG_W,CFC-11,CFC-11_FLAG_W,CFC-12,CFC-12_FLAG_W,CFC113,CFC113_FLAG_W,TCARBN,TCARBN_FLAG_W,ALKALI,ALKALI_FLAG_W,TRITUM,TRITUM_FLAG_W,HELIUM,HELIUM_FLAG_W,DELHE3,DELHE3_FLAG_W,DELC13,DELC13_FLAG_W,DELC14,DELC14_FLAG_W,C14ERR,CCL4,CCL4_FLAG_W,DOC,DOC_FLAG_W,TDN,TDN_FLAG_W,CTDRAW,BTL_TIME,BTL_LAT,BTL_LON,TRITER,HELIER,DELHER,CDOM325,CDOM325_FLAG_W,CDOM340,CDOM340_FLAG_W,CDOM380,CDOM380_FLAG_W,CDOM412,CDOM412_FLAG_W,CDOMSL,CDOMSL_FLAG_W,CDOMSN,CDOMSN_FLAG_W,THETA,BACT,BACT_FLAG_W,PROC,PROC_FLAG_W,SYN,SYN_FLAG_W,PEUK,PEUK_FLAG_W
,,,,,,,,,,,METERS,DBAR,ITS-90,PSS-78,,PSS-78,,UMOL/KG,,UMOL/KG,,UMOL/KG,,UMOL/KG,,UMOL/KG,,UMOL/KG,,PMOL/KG,,PMOL/KG,,PMOL/KG,,UMOL/KG,,UMOL/KG,,TU,,NMOL/KG,,PERCNT,,/MILLE,,/MILLE,,/MILLE,PMOL/KG,,UMOL/KG,,UMOL/KG,,DBAR,,,,TU,NMOL/KG,PERCNT,1/M,,1/M,,1/M,,1/M,,1/NM,,1/NM,,DEG C,E8/L,,E7/L,,E6/L,,E6/L,
 316N200310,        A22,      36,          1,          4,          4,2,20031031,       1352,    20.3742,   -66.0127,       5797,  5375.1,   2.1531,  34.8631,2,  34.8654,2,    254.1,2,   253.4,2,   47.87,2,   21.46,2,    0.00,2,    1.46,2,   0.172,2,   0.087,2,   0.007,2,  2193.0,2,  2339.5,2,    -999,9,     -999,9,    -999,9,    -999,9,    -999,9,    -999,   0.415,2,   39.10,2,    -999,9, 5375.10,     1411,  20.3754, -66.0144,    -999,     -999,    -999,   0.1250,2,   0.0870,2,   0.0400,2,   0.0260,2,   0.0190,2,   0.0210,2,   1.6476,    -999,9,       -999,9,    -999,9,    -999,9
 316N200310,        A22,      36,          1,          3,          3,2,20031031,       1352,    20.3742,   -66.0127,       5797,  5600.8,   2.0076,  34.8418,2,  34.8418,2,    247.8,2,   247.4,2,   58.39,2,   23.11,2,    0.00,2,    1.57,2,   0.077,2,   0.052,2,   0.009,2,  2203.1,2,  2345.3,2,    -999,9,     -999,9,    -999,9,    -999,9,    -999,9,    -999,   0.239,2,   39.60,2,    -999,9, 5600.80,     1405,  20.3749, -66.0138,    -999,     -999,    -999,   0.1290,2,   0.0900,2,   0.0430,2,   0.0280,2,   0.0180,2,   0.0200,2,   1.4781,    -999,9,       -999,9,    -999,9,    -999,9
 316N200310,        A22,      36,          1,          2,          2,2,20031031,       1352,    20.3742,   -66.0127,       5797,  5801.5,   1.9920,  34.8364,2,  34.8371,2,    246.5,2,   245.6,2,   60.83,2,   23.56,2,    0.00,2,    1.59,2,  -0.001,2,   0.035,2,   0.003,2,  2206.7,2,  2347.3,2,    -999,9,     -999,9,    -999,9,    -999,9,    -999,9,    -999,   0.209,2,   39.40,2,    -999,9, 5801.50,     1359,  20.3745, -66.0132,    -999,     -999,    -999,   0.1330,2,   0.0940,2,   0.0460,2,   0.0300,2,   0.0170,2,   0.0190,2,   1.4366,    -999,9,       -999,9,    -999,9,    -999,9
 316N200310,        A22,      36,          1,          1,          1,2,20031031,       1352,    20.3742,   -66.0127,       5797,  5947.6,   1.9986,  34.8346,2,  34.8340,2,    245.5,2,   245.0,2,   61.75,2,   23.70,2,    0.00,2,    1.60,2,   0.058,2,   0.044,2,   0.007,2,  2207.2,2,  2347.4,6,    -999,9,     -999,9,    -999,9,    -999,9,    -999,9,    -999,   0.214,2,   39.90,2,    -999,9, 5947.60,     1353,  20.3741, -66.0127,    -999,     -999,    -999,   0.1330,2,   0.0940,2,   0.0470,2,   0.0310,2,   0.0170,2,   0.0190,2,   1.4232,    -999,9,       -999,9,    -999,9,    -999,9