BOTTLE,20220517CCHSIOLMM
EXPOCODE,SECT_ID,STNNBR,CASTNO,SAMPNO,BTLNBR,BTLNBR_FLAG_W,DATE,TIME,LATITUDE,LONGITUDE,DEPTH,CTDPRS,CTDTMP,CTDSAL,CTDSAL_FLAG_W,SALNTY,SALNTY_FLAG_W,CTDOXY,CTDOXY_FLAG_W,OXYGEN,OXYGEN_FLAG_W,SILCAT,SILCAT_FLAG_W,NITRAT,NITRAT_FLAG_W,NITRIT,NITRIT_FLAG_W,PHSPHT,PHSPHT_FLAG_W,CFC-11,CFC-11_FLAG_W,CFC-12,CFC-12_FLAG_W,CFC113,CFC113_FLAG_W,TCARBN,TCARBN_FLAG_W,ALKALI,ALKALI_FLAG_W,TRITUM,TRITUM_FLAG_W,HELIUM,HELIUM_FLAG_W,DELHE3,DELHE3_FLAG_W,DELC13,DELC13_FLAG_W,DELC14,DELC14_FLAG_W,C14ERR,CCL4,CCL4_FLAG_W,DOC,DOC_FLAG_W,TDN,TDN_FLAG_W,CTDRAW,BTL_TIME,BTL_LAT,BTL_LON,TRITER,HELIER,DELHER,CDOM325,CDOM325_FLAG_W,CDOM340,CDOM340_FLAG_W,CDOM380,CDOM380_FLAG_W,CDOM412,CDOM412_FLAG_W,CDOMSL,CDOMSL_FLAG_W,CDOMSN,CDOMSN_FLAG_W,THETA,BACT,BACT_FLAG_W,PROC,PROC_FLAG_W,SYN,SYN_FLAG_W,PEUK,PEUK_FLAG_W
,,,,,,,,,,,METERS,DBAR,ITS-90,PSS-78,,PSS-78,,UMOL/KG,,UMOL/KG,,UMOL/KG,,UMOL/KG,,UMOL/KG,,UMOL/KG,,PMOL/KG,,PMOL/KG,,PMOL/KG,,UMOL/KG,,UMOL/KG,,TU,,NMOL/KG,,PERCNT,,/MILLE,,/MILLE,,/MILLE,PMOL/KG,,UMOL/KG,,UMOL/KG,,DBAR,,,,TU,NMOL/KG,PERCNT,1/M,,1/M,,1/M,,1/M,,1/NM,,1/NM,,DEG C,E8/L,,E7/L,,E6/L,,E6/L,
 316N200310,        A22,      73,          1,         33,         33,2,20031111,       1811,    38.5637,   -69.0215,       3457,     2.8,  17.6973,  34.5259,2,  34.5252,2,    154.5,2,   239.0,2,    1.14,2,    0.06,2,    0.00,2,    0.08,2,   2.455,6,   1.461,6,   0.191,6,  2011.6,2,  2291.8,2,    -999,9,     -999,9,    -999,9,    -999,9,    -999,9,    -999,   2.477,2,    -999,9,    -999,9,    2.80,     1939,  38.5718, -69.0161,    -999,     -999,    -999,   0.2230,2,   0.1580,2,   0.0700,2,   0.0430,2,   0.0190,2,   0.0200,2,  17.6969,    -999,9,       -999,9,    -999,9,    -999,9
 316N200310,        A22,      73,          1,         32,         32,2,20031111,       1811,    38.5637,   -69.0215,       3457,    25.0,  17.6876,  34.5276,2,  34.5284,2,    236.6,2,   238.6,2,    1.05,2,    0.00,2,    0.00,2,    0.08,2,    -999,9,    -999,9,    -999,9,    -999,9,    -999,9,    -999,9,     -999,9,    -999,9,    -999,9,    -999,9,    -999,    -999,9,    -999,9,    -999,9,   25.00,     1938,  38.5716, -69.0162,    -999,     -999,    -999,   0.2320,2,   0.1640,2,   0.0740,2,   0.0460,2,   0.0180,2,   0.0200,2,  17.6833,    -999,9,       -999,9,    -999,9,    -999,9
 316N200310,        A22,      73,          1,         31,         31,2,20031111,       1811,    38.5637,   -69.0215,       3457,    50.3,  15.3595,  34.9520,2,  34.9646,2,    211.8,2,   209.0,2,    3.32,2,    5.72,2,    0.08,2,    0.47,2,   2.896,6,   1.641,6,   0.195,6,    -999,9,    -999,9,    -999,9,     -999,9,    -999,9,    -999,9,    -999,9,    -999,    -999,9,    -999,9,    -999,9,   50.30,     1937,  38.5715, -69.0164,    -999,     -999,    -999,   0.2850,2,   0.2100,2,   0.1020,2,   0.0670,2,   0.0170,2,   0.0180,2,  15.3517,    -999,9,       -999,9,    -999,9,    -999,9
 316N200310,        A22,      73,          1,         30,         30,2,20031111,       1811,    38.5637,   -69.0215,       3457,    75.1,  14.1288,  35.3771,2,  35.3936,2,    180.3,2,   181.3,2,    4.51,2,   10.37,2,    0.04,2,    0.69,2,    -999,9,    -999,9,    -999,9,    -999,9,    -999,9,    -999,9,     -999,9,    -999,9,    -999,9,    -999,9,    -999,    -999,9,    -999,9,    -999,9,   75.10,     1935,  38.5713, -69.0165,    -999,     -999,    -999,   0.2160,2,   0.1580,2,   0.0780,2,   0.0520,2,   0.0160,2,   0.0170,2,  14.1179,    -999,9,       -999,9,    -999,9,    -999,9
 316N200310,        A22,      73,          1,         29,         29,2,20031111,       1811,    38.5637,   -69.0215,       3457,   100.6,  13.2500,  35.4679,2,  35.5064,2,    168.2,2,   169.4,2,    5.71,2,   13.47,2,    0.03,2,    0.85,2,   2.365,2,   1.306,2,   0.114,2,    -999,9,    -999,9,    -999,9,     -999,9,    -999,9,    -999,9,    -999,9,    -999,    -999,9,    -999,9,    -999,9,  100.60,     1934,  38.5712, -69.0166,    -999,     -999,    -999,   0.1660,2,   0.1200,2,   0.0580,2,   0.0390,2,   0.0160,2,   0.0180,2,  13.2360,    -999,9,       -999,9,    -999,9,    -999,9
 316N200310,        A22,      73,          1,         28,         28,2,20031111,       1811,    38.5637,   -69.0215,       3457,   125.3,  12.7950,  35.4871,2,  35.4993,2,    169.0,2,   171.2,2,    6.21,2,   14.31,2,    0.03,2,    0.90,2,    -999,9,    -999,9,    -999,9,    -999,9,    -999,9,    -999,9,     -999,9,    -999,9,    -999,9,    -999,9,    -999,    -999,9,    -999,9,    -999,9,  125.30,     1933,  38.5711, -69.0168,    -999,     -999,    -999,   0.1570,2,   0.1130,2,   0.0540,2,   0.0370,2,   0.0160,2,   0.0180,2,  12.7779,    -999,9,       -999,9,    -999,9,    -999,9
 316N200310,        A22,      73,          1,         27,         27,2,20031111,       1811,    38.5637,   -69.0215,       3457,   150.4,  12.3663,  35.4749,2,  35.4744,2,    173.3,2,   175.2,2,    6.81,2,   15.16,2,    0.03,2,    0.95,2,   2.268,2,   1.242,2,   0.112,2,    -999,9,    -999,9,    -999,9,     -999,9,    -999,9,    -999,9,    -999,9,    -999,    -999,9,    -999,9,    -999,9,  150.40,     1932,  38.5710, -69.0169,    -999,     -999,    -999,   0.1540,2,   0.1100,2,   0.0530,2,   0.0360,2,   0.0160,2,   0.0180,2,  12.3462,    -999,9,       -999,9,    -999,9,    -999,9
 316N200310,        A22,      73,          1,         26,         26,2,20031111,       1811,    38.5637,   -69.0215,       3457,   175.5,  11.9200,  35.4475,2,  35.4468,2,    170.8,2,   168.6,2,    7.80,2,   16.70,2,    0.03,2,    1.05,2,   2.047,2,   1.111,2,   0.089,2,    -999,9,    -999,9,    -999,9,     -999,9,    -999,9,    -999,9,    -999,9,    -999,    -999,9,    -999,9,    -999,9,  175.50,     1931,  38.5709, -69.0170,    -999,     -999,    -999,   0.1510,2,   0.1080,2,   0.0530,2,   0.0360,2,   0.0160,2,   0.0180,2,  11.8971,    -999,9,       -999,9,    -999,9,    -999,9
 316N200310,        A22,      73,          1,         25,         25,2,20031111,       1811,    38.5637,   -69.0215,       3457,   200.7,  11.6344,  35.4362,2,  35.4340,2,    163.8,2,   160.7,2,    8.81,2,   18.15,2,    0.03,2,    1.13,2,   1.829,2,   0.989,2,   0.083,2,    -999,9,    -999,9,    -999,9,   1.7546,2,   -0.32,2,    -999,9,    -999,9,    -999,    -999,9,    -999,9,    -999,9,  200.70,     1930,  38.5707, -69.0171,    -999,   0.0088,    0.15,   0.1390,2,   0.0980,2,   0.0480,2,   0.0330,2,   0.0170,2,   0.0190,2,  11.6086,    -999,9,       -999,9,    -999,9,    -999,9
 316N200310,        A22,      73,          1,         24,         24,2,20031111,       1811,    38.5637,   -69.0215,       3457,   225.4,  11.2088,  35.4175,2,  35.4224,2,    142.7,2,   142.0,2,   10.73,2,   21.10,2,    0.03,2,    1.31,2,   1.367,2,   0.733,2,   0.037,2,    -999,9,    -999,9,    -999,9,     -999,9,    -999,9,    -999,9,    -999,9,    -999,    -999,9,    -999,9,    -999,9,  225.40,     1928,  38.5706, -69.0172,    -999,     -999,    -999,   0.1340,2,   0.0950,2,   0.0470,2,   0.0330,2,   0.0160,2,   0.0180,2,  11.1805,    -999,9,       -999,9,    -999,9,    -999,9
 316N200310,        A22,      73,          1,         23,         23,2,20031111,       1811,    38.5637,   -69.0215,       3457,   251.1,  10.3084,  35.3154,2,  35.3157,2,    137.7,2,   134.5,2,   12.74,2,   23.37,2,    0.03,2,    1.47,2,   1.020,2,   0.537,2,   0.016,2,    -999,9,    -999,9,    -999,9,   1.7917,2,    2.41,2,    -999,9,    -999,9,    -999,    -999,9,    -999,9,    -999,9,  251.10,     1927,  38.5705, -69.0173,    -999,   0.0090,    0.15,   0.1480,2,   0.1050,2,   0.0560,2,   0.0400,2,   0.0140,2,   0.0160,2,  10.2785,    -999,9,       -999,9,    -999,9,    -999,9
 316N200310,        A22,      73,          1,         22,         22,2,20031111,       1811,    38.5637,   -69.0215,       3457,   276.0,   9.6481,  35.2425,2,  35.2467,2,    137.6,2,   135.5,2,   13.65,2,   24.22,2,    0.02,2,    1.52,2,   0.913,2,   0.481,2,   0.026,2,    -999,9,    -999,9,    -999,9,   1.7930,2,    6.91,2,    -999,9,    -999,9,    -999,    -999,9,    -999,9,    -999,9,  276.00,     1926,  38.5704, -69.0175,    -999,   0.0090,    0.15,   0.1410,2,   0.0990,2,   0.0490,2,   0.0340,2,   0.0160,2,   0.0180,2,   9.6165,    -999,9,       -999,9,    -999,9,    -999,9
 316N200310,        A22,      73,          1,         21,         21,2,20031111,       1811,    38.5637,   -69.0215,       3457,   351.2,   8.1614,  35.1342,2,  35.1350,2,    150.4,2,   154.3,2,   14.76,2,   24.16,2,    0.02,2,    1.54,2,   0.884,2,   0.457,2,   0.025,2,    -999,9,    -999,9,    -999,9,   1.8094,2,    7.73,2,    -999,9,    -999,9,    -999,    -999,9,    -999,9,    -999,9,  351.20,     1924,  38.5702, -69.0178,    -999,   0.0090,    0.15,   0.1290,2,   0.0890,2,   0.0430,2,   0.0300,2,   0.0170,2,   0.0190,2,   8.1249,    -999,9,       -999,9,    -999,9,    -999,9
 316N200310,        A22,      73,          1,         20,         20,2,20031111,       1811,    38.5637,   -69.0215,       3457,   450.1,   6.4745,  35.0660,2,  35.0673,2,    185.7,2,   192.9,2,   13.55,2,   21.68,2,    0.02,2,    1.40,2,   1.395,2,   0.714,2,   0.060,2,    -999,9,    -999,9,    -999,9,   1.8170,2,    7.28,2,    -999,9,    -999,9,    -999,    -999,9,    -999,9,    -999,9,  450.10,     1921,  38.5699, -69.0181,    -999,   0.0091,    0.15,   0.1490,2,   0.1060,2,   0.0530,2,   0.0360,2,   0.0160,2,   0.0180,2,   6.4333,    -999,9,       -999,9,    -999,9,    -999,9
 316N200310,        A22,      73,          1,         19,         19,2,20031111,       1811,    38.5637,   -69.0215,       3457,   550.4,   5.6402,  35.0428,2,  35.0431,2,    212.5,2,   215.9,2,   12.84,2,   20.06,2,    0.01,2,    1.30,2,   1.726,2,   0.873,2,   0.087,2,    -999,9,    -999,9,    -999,9,   1.7957,2,    5.10,2,    -999,9,    -999,9,    -999,    -999,9,    -999,9,    -999,9,  550.40,     1919,  38.5695, -69.0184,    -999,   0.0090,    0.15,   0.1450,2,   0.1010,2,   0.0470,2,   0.0310,2,   0.0180,2,   0.0200,2,   5.5929,    -999,9,       -999,9,    -999,9,    -999,9
 316N200310,        A22,      73,          1,         18,         18,2,20031111,       1811,    38.5637,   -69.0215,       3457,   674.8,   4.9570,  35.0133,2,  35.0134,2,    233.7,2,   236.1,2,   12.23,2,   18.95,2,    0.01,2,    1.23,2,   2.032,2,   1.027,2,   0.116,2,    -999,9,    -999,9,    -999,9,   1.8158,2,    5.41,2,    -999,9,    -999,9,    -999,    -999,9,    -999,9,    -999,9,  674.80,     1916,  38.5690, -69.0187,    -999,   0.0091,    0.15,     -999,9,     -999,9,     -999,9,     -999,9,     -999,9,     -999,9,   4.9020,    -999,9,       -999,9,    -999,9,    -999,9
 316N200310,        A22,      73,          1,         17,         17,2,20031111,       1811,    38.5637,   -69.0215,       3457,   824.6,   4.5445,  34.9982,2,  34.9990,2,    248.1,2,   248.0,2,   11.82,2,   18.33,2,    0.01,2,    1.20,2,   2.027,2,   1.010,2,   0.107,2,    -999,9,    -999,9,    -999,9,   1.8234,2,    5.87,2,    -999,9,    -999,9,    -999,    -999,9,    -999,9,    -999,9,  824.60,     1912,  38.5685, -69.0190,    -999,   0.0091,    0.15,     -999,9,     -999,9,     -999,9,     -999,9,     -999,9,     -999,9,   4.4790,    -999,9,       -999,9,    -999,9,    -999,9
 316N200310,        A22,      73,          1,         16,         16,2,20031111,       1811,    38.5637,   -69.0215,       3457,   975.4,   4.2333,  34.9775,2,  34.9797,2,    260.6,2,   256.4,2,   11.82,2,   17.97,2,    0.01,2,    1.17,2,   2.082,2,   1.033,2,   0.109,2,    -999,9,    -999,9,    -999,9,   1.8499,2,    7.29,2,    -999,9,    -999,9,    -999,    -999,9,    -999,9,    -999,9,  975.40,     1909,  38.5681, -69.0194,    -999,   0.0092,    0.15,     -999,9,     -999,9,     -999,9,     -999,9,     -999,9,     -999,9,   4.1572,    -999,9,       -999,9,    -999,9,    -999,9
 316N200310,        A22,      73,          1,         15,         15,2,20031111,       1811,    38.5637,   -69.0215,       3457,  1124.2,   3.9887,  34.9574,2,  34.9595,2,    265.0,2,   262.7,2,   11.72,2,   17.72,2,    0.01,2,    1.15,2,   2.195,2,   1.097,2,   0.127,2,    -999,9,    -999,9,    -999,9,   1.8705,2,    7.66,2,    -999,9,    -999,9,    -999,    -999,9,    -999,9,    -999,9, 1124.20,     1906,  38.5677, -69.0197,    -999,   0.0094,    0.15,     -999,9,     -999,9,     -999,9,     -999,9,     -999,9,     -999,9,   3.9018,    -999,9,       -999,9,    -999,9,    -999,9
 316N200310,        A22,      73,          1,         14,         14,2,20031111,       1811,    38.5637,   -69.0215,       3457,  1274.3,   3.8246,  34.9478,2,  34.9490,2,    266.4,2,   265.6,2,   11.92,2,   17.65,2,    0.01,2,    1.15,2,   2.189,2,   1.092,2,   0.128,2,    -999,9,    -999,9,    -999,9,   1.8581,2,    7.78,2,    -999,9,    -999,9,    -999,    -999,9,    -999,9,    -999,9, 1274.30,     1902,  38.5673, -69.0201,    -999,   0.0093,    0.15,     -999,9,     -999,9,     -999,9,     -999,9,     -999,9,     -999,9,   3.7264,    -999,9,       -999,9,    -999,9,    -999,9
 316N200310,        A22,      73,          1,         13,         13,2,20031111,       1811,    38.5637,   -69.0215,       3457,  1399.8,   3.7087,  34.9423,2,  34.9443,2,    268.0,2,   267.9,2,   12.23,2,   17.59,2,    0.01,2,    1.14,2,   1.996,2,   0.976,2,   0.115,2,    -999,9,    -999,9,    -999,9,   1.8598,2,    8.41,2,    -999,9,    -999,9,    -999,    -999,9,    -999,9,    -999,9, 1399.80,     1859,  38.5671, -69.0204,    -999,   0.0093,    0.15,     -999,9,     -999,9,     -999,9,     -999,9,     -999,9,     -999,9,   3.6007,    -999,9,       -999,9,    -999,9,    -999,9
 316N200310,        A22,      73,          1,         12,         12,2,20031111,       1811,    38.5637,   -69.0215,       3457,  1499.3,   3.6204,  34.9375,2,  34.9378,2,    269.3,2,   269.4,2,   12.42,2,   17.39,2,    0.01,2,    1.14,2,   1.941,2,   0.957,2,   0.114,2,    -999,9,    -999,9,    -999,9,   1.8508,2,    8.32,2,    -999,9,    -999,9,    -999,    -999,9,    -999,9,    -999,9, 1499.30,     1857,  38.5669, -69.0206,    -999,   0.0093,    0.15,     -999,9,     -999,9,     -999,9,     -999,9,     -999,9,     -999,9,   3.5046,    -999,9,       -999,9,    -999,9,    -999,9
 316N200310,        A22,      73,          1,         11,         11,2,20031111,       1811,    38.5637,   -69.0215,       3457,  1599.7,   3.5421,  34.9340,2,  34.9359,2,    270.1,2,   270.4,2,   12.63,2,   17.38,2,    0.01,2,    1.14,2,   1.889,2,   0.915,2,   0.100,2,    -999,9,    -999,9,    -999,9,   1.8512,2,    7.76,2,    -999,9,    -999,9,    -999,    -999,9,    -999,9,    -999,9, 1599.70,     1854,  38.5667, -69.0208,    -999,   0.0093,    0.15,     -999,9,     -999,9,     -999,9,     -999,9,     -999,9,     -999,9,   3.4184,    -999,9,       -999,9,    -999,9,    -999,9
 316N200310,        A22,      73,          1,         10,         10,2,20031111,       1811,    38.5637,   -69.0215,       3457,  1700.4,   3.4745,  34.9334,2,  34.9353,2,    270.3,2,   270.7,2,   13.03,2,   17.37,2,    0.01,2,    1.14,2,   1.796,2,   0.875,2,   0.107,2,    -999,9,    -999,9,    -999,9,   1.8491,2,    7.65,2,    -999,9,    -999,9,    -999,    -999,9,    -999,9,    -999,9, 1700.40,     1851,  38.5666, -69.0208,    -999,   0.0092,    0.15,     -999,9,     -999,9,     -999,9,     -999,9,     -999,9,     -999,9,   3.3425,    -999,9,       -999,9,    -999,9,    -999,9
 316N200310,        A22,      73,          1,          9,          9,2,20031111,       1811,    38.5637,   -69.0215,       3457,  1825.4,   3.3867,  34.9298,2,  34.9313,2,    271.0,2,   271.9,2,   13.33,2,   17.36,2,    0.00,2,    1.14,2,   1.761,2,   0.856,2,   0.089,2,    -999,9,    -999,9,    -999,9,   1.8543,2,    7.42,2,    -999,9,    -999,9,    -999,    -999,9,    -999,9,    -999,9, 1825.40,     1848,  38.5663, -69.0209,    -999,   0.0093,    0.15,     -999,9,     -999,9,     -999,9,     -999,9,     -999,9,     -999,9,   3.2446,    -999,9,       -999,9,    -999,9,    -999,9
 316N200310,        A22,      73,          1,          8,          8,2,20031111,       1811,    38.5637,   -69.0215,       3457,  1974.6,   3.3243,  34.9340,2,  34.9357,2,    270.7,2,   270.7,2,   14.14,2,   17.40,2,    0.00,2,    1.15,2,   1.518,2,   0.733,2,   0.080,2,    -999,9,    -999,9,    -999,9,   1.8549,2,    7.27,2,    -999,9,    -999,9,    -999,    -999,9,    -999,9,    -999,9, 1974.60,     1845,  38.5661, -69.0210,    -999,   0.0093,    0.15,     -999,9,     -999,9,     -999,9,     -999,9,     -999,9,     -999,9,   3.1693,    -999,9,       -999,9,    -999,9,    -999,9
 316N200310,        A22,      73,          1,          7,          7,2,20031111,       1811,    38.5637,   -69.0215,       3457,  2150.1,   3.2482,  34.9395,2,  34.9408,2,    269.5,2,   268.8,2,   15.35,2,   17.53,2,    0.00,2,    1.15,2,   1.211,2,   0.592,2,   0.068,2,    -999,9,    -999,9,    -999,9,   1.8904,2,    6.82,2,    -999,9,    -999,9,    -999,    -999,9,    -999,9,    -999,9, 2150.10,     1841,  38.5659, -69.0210,    -999,   0.0095,    0.15,     -999,9,     -999,9,     -999,9,     -999,9,     -999,9,     -999,9,   3.0778,    -999,9,       -999,9,    -999,9,    -999,9
 316N200310,        A22,      73,          1,          6,          6,2,20031111,       1811,    38.5637,   -69.0215,       3457,  2375.2,   3.0300,  34.9327,2,  34.9329,2,    268.9,2,   269.6,2,   16.58,2,   17.38,2,    0.00,2,    1.15,2,   1.174,2,   0.570,2,   0.053,2,    -999,9,    -999,9,    -999,9,   1.8963,2,    6.98,2,    -999,9,    -999,9,    -999,    -999,9,    -999,9,    -999,9, 2375.20,     1836,  38.5656, -69.0209,    -999,   0.0095,    0.15,     -999,9,     -999,9,     -999,9,     -999,9,     -999,9,     -999,9,   2.8417,    -999,9,       -999,9,    -999,9,    -999,9
 316N200310,        A22,      73,          1,          5,          5,2,20031111,       1811,    38.5637,   -69.0215,       3457,  2624.7,   2.7804,  34.9226,2,  34.9237,2,    270.7,2,   271.3,2,   17.69,2,   17.21,2,    0.00,2,    1.15,2,   1.238,2,   0.607,2,   0.054,2,    -999,9,    -999,9,    -999,9,   1.8726,2,    6.41,2,    -999,9,    -999,9,    -999,    -999,9,    -999,9,    -999,9, 2624.70,     1831,  38.5653, -69.0209,    -999,   0.0094,    0.15,     -999,9,     -999,9,     -999,9,     -999,9,     -999,9,     -999,9,   2.5724,    -999,9,       -999,9,    -999,9,    -999,9
 316N200310,        A22,      73,          1,          4,          4,2,20031111,       1811,    38.5637,   -69.0215,       3457,  2875.1,   2.5011,  34.9091,2,  34.9093,2,    273.2,2,   273.9,2,   18.82,2,   16.96,2,    0.00,2,    1.13,2,   1.465,2,   0.714,2,   0.084,2,    -999,9,    -999,9,    -999,9,   1.8951,2,    6.77,2,    -999,9,    -999,9,    -999,    -999,9,    -999,9,    -999,9, 2875.10,     1826,  38.5649, -69.0210,    -999,   0.0095,    0.15,     -999,9,     -999,9,     -999,9,     -999,9,     -999,9,     -999,9,   2.2739,    -999,9,       -999,9,    -999,9,    -999,9
 316N200310,        A22,      73,          1,          3,          3,2,20031111,       1811,    38.5637,   -69.0215,       3457,  3100.0,   2.3317,  34.9009,2,  34.9014,2,    274.0,2,   274.2,2,   20.86,2,   17.15,2,    0.00,2,    1.15,2,   1.459,2,   0.710,2,   0.091,2,    -999,9,    -999,9,    -999,9,   1.8724,2,    6.60,2,    -999,9,    -999,9,    -999,    -999,9,    -999,9,    -999,9, 3100.00,     1821,  38.5643, -69.0211,    -999,   0.0094,    0.15,     -999,9,     -999,9,     -999,9,     -999,9,     -999,9,     -999,9,   2.0854,    -999,9,       -999,9,    -999,9,    -999,9
 316N200310,        A22,      73,          1,          2,          2,2,20031111,       1811,    38.5637,   -69.0215,       3457,  3275.2,   2.1872,  34.8928,2,  34.8932,2,    272.3,2,   272.2,2,   24.75,2,   17.64,2,    0.00,2,    1.18,2,   1.362,2,   0.666,2,   0.094,2,    -999,9,    -999,9,    -999,9,   1.8877,2,    6.48,2,    -999,9,    -999,9,    -999,    -999,9,    -999,9,    -999,9, 3275.20,     1817,  38.5640, -69.0212,    -999,   0.0094,    0.15,     -999,9,     -999,9,     -999,9,     -999,9,     -999,9,     -999,9,   1.9263,    -999,9,       -999,9,    -999,9,    -999,9