BOTTLE,20220517CCHSIOLMM
EXPOCODE,SECT_ID,STNNBR,CASTNO,SAMPNO,BTLNBR,BTLNBR_FLAG_W,DATE,TIME,LATITUDE,LONGITUDE,DEPTH,CTDPRS,CTDTMP,CTDSAL,CTDSAL_FLAG_W,SALNTY,SALNTY_FLAG_W,CTDOXY,CTDOXY_FLAG_W,OXYGEN,OXYGEN_FLAG_W,SILCAT,SILCAT_FLAG_W,NITRAT,NITRAT_FLAG_W,NITRIT,NITRIT_FLAG_W,PHSPHT,PHSPHT_FLAG_W,CFC-11,CFC-11_FLAG_W,CFC-12,CFC-12_FLAG_W,CFC113,CFC113_FLAG_W,TCARBN,TCARBN_FLAG_W,ALKALI,ALKALI_FLAG_W,TRITUM,TRITUM_FLAG_W,HELIUM,HELIUM_FLAG_W,DELHE3,DELHE3_FLAG_W,DELC13,DELC13_FLAG_W,DELC14,DELC14_FLAG_W,C14ERR,CCL4,CCL4_FLAG_W,DOC,DOC_FLAG_W,TDN,TDN_FLAG_W,CTDRAW,BTL_TIME,BTL_LAT,BTL_LON,TRITER,HELIER,DELHER,CDOM325,CDOM325_FLAG_W,CDOM340,CDOM340_FLAG_W,CDOM380,CDOM380_FLAG_W,CDOM412,CDOM412_FLAG_W,CDOMSL,CDOMSL_FLAG_W,CDOMSN,CDOMSN_FLAG_W,THETA,BACT,BACT_FLAG_W,PROC,PROC_FLAG_W,SYN,SYN_FLAG_W,PEUK,PEUK_FLAG_W
,,,,,,,,,,,METERS,DBAR,ITS-90,PSS-78,,PSS-78,,UMOL/KG,,UMOL/KG,,UMOL/KG,,UMOL/KG,,UMOL/KG,,UMOL/KG,,PMOL/KG,,PMOL/KG,,PMOL/KG,,UMOL/KG,,UMOL/KG,,TU,,NMOL/KG,,PERCNT,,/MILLE,,/MILLE,,/MILLE,PMOL/KG,,UMOL/KG,,UMOL/KG,,DBAR,,,,TU,NMOL/KG,PERCNT,1/M,,1/M,,1/M,,1/M,,1/NM,,1/NM,,DEG C,E8/L,,E7/L,,E6/L,,E6/L,
 316N200310,        A22,      52,          1,          3,          3,2,20031105,       1417,    30.9053,   -66.0025,       4855,  4375.8,   2.2357,  34.8875,2,  34.8865,2,    262.8,2,   262.3,2,   34.59,2,   19.35,2,    0.00,2,    1.30,2,   0.452,2,   0.230,2,   0.021,2,  2180.7,2,  2332.5,2,    -999,9,     -999,9,    -999,9,    -999,9,    -999,9,    -999,   0.806,2,   42.00,2,    -999,9, 4375.80,     1429,  30.9070, -66.0018,    -999,     -999,    -999,   0.1430,2,   0.1010,2,   0.0480,2,   0.0310,2,   0.0180,2,   0.0190,2,   1.8514,    -999,9,       -999,9,    -999,9,    -999,9
 316N200310,        A22,      52,          1,          2,          2,2,20031105,       1417,    30.9053,   -66.0025,       4855,  4649.3,   2.2358,  34.8840,2,  34.8837,2,    261.2,2,   260.6,2,   36.96,2,   19.66,2,    0.00,2,    1.32,2,   0.377,2,   0.204,2,   0.020,2,  2182.8,2,  2334.4,2,    -999,9,     -999,9,    -999,9,    -999,9,    -999,9,    -999,   0.707,2,   43.60,2,    -999,9, 4649.30,     1423,  30.9062, -66.0022,    -999,     -999,    -999,   0.1390,2,   0.0980,2,   0.0470,2,   0.0300,2,   0.0180,2,   0.0190,2,   1.8187,    -999,9,       -999,9,    -999,9,    -999,9
 316N200310,        A22,      52,          1,          1,          1,2,20031105,       1417,    30.9053,   -66.0025,       4855,  4932.4,   2.2140,  34.8772,2,  34.8764,2,    258.0,2,   257.4,2,   41.14,2,   20.39,2,    0.00,2,    1.38,2,   0.222,2,   0.126,2,   0.017,2,  2185.7,2,  2336.4,6,    -999,9,     -999,9,    -999,9,    -999,9,    -999,9,    -999,   0.517,2,    -999,5,    -999,9, 4932.40,     1417,  30.9053, -66.0025,    -999,     -999,    -999,   0.1330,2,   0.0950,2,   0.0460,2,   0.0300,2,   0.0180,2,   0.0190,2,   1.7628,    -999,9,       -999,9,    -999,9,    -999,9