BOTTLE,20220517CCHSIOLMM
EXPOCODE,SECT_ID,STNNBR,CASTNO,SAMPNO,BTLNBR,BTLNBR_FLAG_W,DATE,TIME,LATITUDE,LONGITUDE,DEPTH,CTDPRS,CTDTMP,CTDSAL,CTDSAL_FLAG_W,SALNTY,SALNTY_FLAG_W,CTDOXY,CTDOXY_FLAG_W,OXYGEN,OXYGEN_FLAG_W,SILCAT,SILCAT_FLAG_W,NITRAT,NITRAT_FLAG_W,NITRIT,NITRIT_FLAG_W,PHSPHT,PHSPHT_FLAG_W,CFC-11,CFC-11_FLAG_W,CFC-12,CFC-12_FLAG_W,CFC113,CFC113_FLAG_W,TCARBN,TCARBN_FLAG_W,ALKALI,ALKALI_FLAG_W,TRITUM,TRITUM_FLAG_W,HELIUM,HELIUM_FLAG_W,DELHE3,DELHE3_FLAG_W,DELC13,DELC13_FLAG_W,DELC14,DELC14_FLAG_W,C14ERR,CCL4,CCL4_FLAG_W,DOC,DOC_FLAG_W,TDN,TDN_FLAG_W,CTDRAW,BTL_TIME,BTL_LAT,BTL_LON,TRITER,HELIER,DELHER,CDOM325,CDOM325_FLAG_W,CDOM340,CDOM340_FLAG_W,CDOM380,CDOM380_FLAG_W,CDOM412,CDOM412_FLAG_W,CDOMSL,CDOMSL_FLAG_W,CDOMSN,CDOMSN_FLAG_W,THETA,BACT,BACT_FLAG_W,PROC,PROC_FLAG_W,SYN,SYN_FLAG_W,PEUK,PEUK_FLAG_W
,,,,,,,,,,,METERS,DBAR,ITS-90,PSS-78,,PSS-78,,UMOL/KG,,UMOL/KG,,UMOL/KG,,UMOL/KG,,UMOL/KG,,UMOL/KG,,PMOL/KG,,PMOL/KG,,PMOL/KG,,UMOL/KG,,UMOL/KG,,TU,,NMOL/KG,,PERCNT,,/MILLE,,/MILLE,,/MILLE,PMOL/KG,,UMOL/KG,,UMOL/KG,,DBAR,,,,TU,NMOL/KG,PERCNT,1/M,,1/M,,1/M,,1/M,,1/NM,,1/NM,,DEG C,E8/L,,E7/L,,E6/L,,E6/L,
 316N200310,        A22,      61,          1,          4,          4,2,20031108,       2138,    34.7412,   -66.5970,       5177,  4624.9,   2.2801,  34.8889,2,  34.8884,2,    262.2,2,   262.1,2,   33.27,2,   19.29,2,    0.00,2,    1.30,2,   0.466,2,   0.232,2,    -999,9,    -999,9,    -999,9,    -999,9,     -999,9,    -999,9,    -999,9,    -999,9,    -999,    -999,9,    -999,9,    -999,9, 4624.90,     2152,  34.7408, -66.5994,    -999,     -999,    -999,     -999,9,     -999,9,     -999,9,     -999,9,     -999,9,     -999,9,   1.8645,    -999,9,       -999,9,    -999,9,    -999,9
 316N200310,        A22,      61,          1,          3,          3,2,20031108,       2138,    34.7412,   -66.5970,       5177,  4875.9,   2.2796,  34.8860,2,  34.8865,2,    260.9,2,   260.7,2,   35.13,2,   19.59,2,    0.00,2,    1.32,2,   0.387,2,   0.197,2,   0.026,2,    -999,9,    -999,9,    -999,9,     -999,9,    -999,9,    -999,9,    -999,9,    -999,    -999,9,    -999,9,    -999,9, 4875.90,     2147,  34.7410, -66.5985,    -999,     -999,    -999,     -999,9,     -999,9,     -999,9,     -999,9,     -999,9,     -999,9,   1.8332,    -999,9,       -999,9,    -999,9,    -999,9
 316N200310,        A22,      61,          1,          2,          2,2,20031108,       2138,    34.7412,   -66.5970,       5177,  5126.0,   2.2554,  34.8793,2,  34.8792,2,    257.9,2,   257.5,2,   39.51,2,   20.25,2,    0.00,2,    1.37,2,   0.272,2,   0.138,2,   0.024,2,    -999,9,    -999,9,    -999,9,     -999,9,    -999,9,    -999,9,    -999,9,    -999,    -999,9,    -999,9,    -999,9, 5126.00,     2142,  34.7411, -66.5976,    -999,     -999,    -999,     -999,9,     -999,9,     -999,9,     -999,9,     -999,9,     -999,9,   1.7783,    -999,9,       -999,9,    -999,9,    -999,9
 316N200310,        A22,      61,          1,          1,          1,2,20031108,       2138,    34.7412,   -66.5970,       5177,  5259.2,   2.2610,  34.8779,2,  34.8776,2,    256.7,2,   256.9,2,   40.34,2,   20.40,2,    0.00,2,    1.38,2,   0.246,2,   0.134,2,   0.020,2,    -999,9,    -999,9,    -999,9,     -999,9,    -999,9,    -999,9,    -999,9,    -999,    -999,9,    -999,9,    -999,9, 5259.20,     2139,  34.7412, -66.5970,    -999,     -999,    -999,     -999,9,     -999,9,     -999,9,     -999,9,     -999,9,     -999,9,   1.7667,    -999,9,       -999,9,    -999,9,    -999,9