BOTTLE,20220517CCHSIOLMM
EXPOCODE,SECT_ID,STNNBR,CASTNO,SAMPNO,BTLNBR,BTLNBR_FLAG_W,DATE,TIME,LATITUDE,LONGITUDE,DEPTH,CTDPRS,CTDTMP,CTDSAL,CTDSAL_FLAG_W,SALNTY,SALNTY_FLAG_W,CTDOXY,CTDOXY_FLAG_W,OXYGEN,OXYGEN_FLAG_W,SILCAT,SILCAT_FLAG_W,NITRAT,NITRAT_FLAG_W,NITRIT,NITRIT_FLAG_W,PHSPHT,PHSPHT_FLAG_W,CFC-11,CFC-11_FLAG_W,CFC-12,CFC-12_FLAG_W,CFC113,CFC113_FLAG_W,TCARBN,TCARBN_FLAG_W,ALKALI,ALKALI_FLAG_W,TRITUM,TRITUM_FLAG_W,HELIUM,HELIUM_FLAG_W,DELHE3,DELHE3_FLAG_W,DELC13,DELC13_FLAG_W,DELC14,DELC14_FLAG_W,C14ERR,CCL4,CCL4_FLAG_W,DOC,DOC_FLAG_W,TDN,TDN_FLAG_W,CTDRAW,BTL_TIME,BTL_LAT,BTL_LON,TRITER,HELIER,DELHER,CDOM325,CDOM325_FLAG_W,CDOM340,CDOM340_FLAG_W,CDOM380,CDOM380_FLAG_W,CDOM412,CDOM412_FLAG_W,CDOMSL,CDOMSL_FLAG_W,CDOMSN,CDOMSN_FLAG_W,THETA,BACT,BACT_FLAG_W,PROC,PROC_FLAG_W,SYN,SYN_FLAG_W,PEUK,PEUK_FLAG_W
,,,,,,,,,,,METERS,DBAR,ITS-90,PSS-78,,PSS-78,,UMOL/KG,,UMOL/KG,,UMOL/KG,,UMOL/KG,,UMOL/KG,,UMOL/KG,,PMOL/KG,,PMOL/KG,,PMOL/KG,,UMOL/KG,,UMOL/KG,,TU,,NMOL/KG,,PERCNT,,/MILLE,,/MILLE,,/MILLE,PMOL/KG,,UMOL/KG,,UMOL/KG,,DBAR,,,,TU,NMOL/KG,PERCNT,1/M,,1/M,,1/M,,1/M,,1/NM,,1/NM,,DEG C,E8/L,,E7/L,,E6/L,,E6/L,
 316N200310,        A22,      44,          1,          3,          3,2,20031103,       0258,    25.5590,   -66.0020,       5194,  4751.6,   2.2101,  34.8802,2,  34.8786,2,    259.1,2,   258.7,2,   39.58,2,   20.30,2,    0.00,2,    1.37,2,   0.155,2,   0.088,2,   0.017,2,  2183.7,2,  2334.1,2,    -999,9,     -999,9,    -999,9,    -999,9,    -999,9,    -999,   0.438,2,   40.40,2,    -999,9, 4751.60,      308,  25.5596, -66.0009,    -999,     -999,    -999,     -999,9,     -999,9,     -999,9,     -999,9,     -999,9,     -999,9,   1.7814,    -999,9,       -999,9,    -999,9,    -999,9
 316N200310,        A22,      44,          1,          2,          2,2,20031103,       0258,    25.5590,   -66.0020,       5194,  5001.8,   2.1365,  34.8672,2,  34.8666,2,    254.7,2,   254.3,2,   46.13,2,   21.30,2,    0.00,2,    1.45,2,   0.107,2,   0.055,2,   0.010,2,  2190.8,2,  2339.6,2,    -999,9,     -999,9,    -999,9,    -999,9,    -999,9,    -999,   0.328,2,   41.00,2,    -999,9, 5001.80,      302,  25.5593, -66.0015,    -999,     -999,    -999,     -999,9,     -999,9,     -999,9,     -999,9,     -999,9,     -999,9,   1.6792,    -999,9,       -999,9,    -999,9,    -999,9
 316N200310,        A22,      44,          1,          1,          1,2,20031103,       0258,    25.5590,   -66.0020,       5194,  5176.0,   2.1215,  34.8625,2,  34.8627,2,    253.0,2,   253.1,2,   48.52,2,   21.64,2,    0.00,2,    1.47,2,   0.085,2,   0.050,2,   0.008,2,  2194.6,2,  2342.2,6,    -999,9,     -999,9,    -999,9,    -999,9,    -999,9,    -999,   0.295,2,   42.30,2,    -999,9, 5176.00,      258,  25.5589, -66.0020,    -999,     -999,    -999,     -999,9,     -999,9,     -999,9,     -999,9,     -999,9,     -999,9,   1.6428,    -999,9,       -999,9,    -999,9,    -999,9