BOTTLE,20220517CCHSIOLMM
EXPOCODE,SECT_ID,STNNBR,CASTNO,SAMPNO,BTLNBR,BTLNBR_FLAG_W,DATE,TIME,LATITUDE,LONGITUDE,DEPTH,CTDPRS,CTDTMP,CTDSAL,CTDSAL_FLAG_W,SALNTY,SALNTY_FLAG_W,CTDOXY,CTDOXY_FLAG_W,OXYGEN,OXYGEN_FLAG_W,SILCAT,SILCAT_FLAG_W,NITRAT,NITRAT_FLAG_W,NITRIT,NITRIT_FLAG_W,PHSPHT,PHSPHT_FLAG_W,CFC-11,CFC-11_FLAG_W,CFC-12,CFC-12_FLAG_W,CFC113,CFC113_FLAG_W,TCARBN,TCARBN_FLAG_W,ALKALI,ALKALI_FLAG_W,TRITUM,TRITUM_FLAG_W,HELIUM,HELIUM_FLAG_W,DELHE3,DELHE3_FLAG_W,DELC13,DELC13_FLAG_W,DELC14,DELC14_FLAG_W,C14ERR,CCL4,CCL4_FLAG_W,DOC,DOC_FLAG_W,TDN,TDN_FLAG_W,CTDRAW,BTL_TIME,BTL_LAT,BTL_LON,TRITER,HELIER,DELHER,CDOM325,CDOM325_FLAG_W,CDOM340,CDOM340_FLAG_W,CDOM380,CDOM380_FLAG_W,CDOM412,CDOM412_FLAG_W,CDOMSL,CDOMSL_FLAG_W,CDOMSN,CDOMSN_FLAG_W,THETA,BACT,BACT_FLAG_W,PROC,PROC_FLAG_W,SYN,SYN_FLAG_W,PEUK,PEUK_FLAG_W
,,,,,,,,,,,METERS,DBAR,ITS-90,PSS-78,,PSS-78,,UMOL/KG,,UMOL/KG,,UMOL/KG,,UMOL/KG,,UMOL/KG,,UMOL/KG,,PMOL/KG,,PMOL/KG,,PMOL/KG,,UMOL/KG,,UMOL/KG,,TU,,NMOL/KG,,PERCNT,,/MILLE,,/MILLE,,/MILLE,PMOL/KG,,UMOL/KG,,UMOL/KG,,DBAR,,,,TU,NMOL/KG,PERCNT,1/M,,1/M,,1/M,,1/M,,1/NM,,1/NM,,DEG C,E8/L,,E7/L,,E6/L,,E6/L,
 316N200310,        A22,      51,          2,         34,         34,2,20031105,       0737,    30.2290,   -66.0080,       4985,     3.1,  25.8663,  36.6156,2,  36.6126,2,    202.2,2,   203.8,2,    0.69,2,    0.02,2,    0.00,2,    0.01,2,    -999,9,    -999,9,    -999,9,  2031.4,2,  2394.6,6,    -999,9,     -999,9,    -999,9,    -999,9,    -999,9,    -999,    -999,9,    -999,9,    -999,9,    3.10,      919,  30.2396, -66.0182,    -999,     -999,    -999,     -999,9,     -999,9,     -999,9,     -999,9,     -999,9,     -999,9,  25.8656,    -999,9,       -999,9,    -999,9,    -999,9
 316N200310,        A22,      51,          2,         33,         33,2,20031105,       0737,    30.2290,   -66.0080,       4985,    25.9,  25.8800,  36.6153,2,  36.6124,2,    204.5,2,   204.3,2,    0.64,2,    0.02,2,    0.00,2,    0.00,2,    -999,9,    -999,9,    -999,9,  2033.3,2,  2394.1,2,    -999,9,     -999,9,    -999,9,    -999,9,    -999,9,    -999,    -999,9,    -999,9,    -999,9,   25.90,      917,  30.2395, -66.0180,    -999,     -999,    -999,     -999,9,     -999,9,     -999,9,     -999,9,     -999,9,     -999,9,  25.8742,    -999,9,       -999,9,    -999,9,    -999,9
 316N200310,        A22,      51,          2,         32,         32,2,20031105,       0737,    30.2290,   -66.0080,       4985,    50.4,  25.8857,  36.6164,2,  36.6148,2,    204.3,2,   203.9,2,    0.68,2,    0.02,2,    0.00,2,    0.00,2,    -999,9,    -999,9,    -999,9,  2032.9,2,  2393.8,2,    -999,9,     -999,9,    -999,9,    -999,9,    -999,9,    -999,    -999,9,    -999,9,    -999,9,   50.40,      915,  30.2394, -66.0178,    -999,     -999,    -999,     -999,9,     -999,9,     -999,9,     -999,9,     -999,9,     -999,9,  25.8745,    -999,9,       -999,9,    -999,9,    -999,9
 316N200310,        A22,      51,          2,         31,         31,2,20031105,       0737,    30.2290,   -66.0080,       4985,    75.3,  25.8862,  36.6149,2,  36.6124,2,    204.1,2,   203.6,2,    0.83,2,    0.03,2,    0.00,2,    0.01,2,    -999,9,    -999,9,    -999,9,    -999,9,    -999,9,    -999,9,     -999,9,    -999,9,    -999,9,    -999,9,    -999,    -999,9,    -999,9,    -999,9,   75.30,      914,  30.2392, -66.0176,    -999,     -999,    -999,     -999,9,     -999,9,     -999,9,     -999,9,     -999,9,     -999,9,  25.8694,    -999,9,       -999,9,    -999,9,    -999,9
 316N200310,        A22,      51,          2,         30,         30,2,20031105,       0737,    30.2290,   -66.0080,       4985,    99.9,  22.5268,  36.6996,2,  36.7020,2,    229.0,2,   227.6,2,    0.59,2,    0.00,2,    0.00,2,    0.01,2,    -999,9,    -999,9,    -999,9,  2055.6,2,  2398.9,2,    -999,9,     -999,9,    -999,9,    -999,9,    -999,9,    -999,    -999,9,    -999,9,    -999,9,   99.90,      913,  30.2391, -66.0174,    -999,     -999,    -999,     -999,9,     -999,9,     -999,9,     -999,9,     -999,9,     -999,9,  22.5066,    -999,9,       -999,9,    -999,9,    -999,9
 316N200310,        A22,      51,          2,         29,         29,2,20031105,       0737,    30.2290,   -66.0080,       4985,   125.8,  21.0100,  36.7279,2,  36.7169,2,    208.6,2,   211.3,2,    0.62,2,    0.02,2,    0.07,2,    0.01,2,    -999,9,    -999,9,    -999,9,    -999,9,    -999,9,    -999,9,     -999,9,    -999,9,    -999,9,    -999,9,    -999,    -999,9,    -999,9,    -999,9,  125.80,      911,  30.2390, -66.0172,    -999,     -999,    -999,     -999,9,     -999,9,     -999,9,     -999,9,     -999,9,     -999,9,  20.9858,    -999,9,       -999,9,    -999,9,    -999,9
 316N200310,        A22,      51,          2,         28,         28,2,20031105,       0737,    30.2290,   -66.0080,       4985,   150.6,  20.0863,  36.6885,2,  36.6856,2,    202.6,2,   201.3,2,    0.77,2,    0.46,2,    0.04,2,    0.01,2,    -999,9,    -999,9,    -999,9,    -999,9,    -999,9,    -999,9,     -999,9,    -999,9,    -999,9,    -999,9,    -999,    -999,9,    -999,9,    -999,9,  150.60,      910,  30.2389, -66.0170,    -999,     -999,    -999,     -999,9,     -999,9,     -999,9,     -999,9,     -999,9,     -999,9,  20.0582,    -999,9,       -999,9,    -999,9,    -999,9
 316N200310,        A22,      51,          2,         27,         27,2,20031105,       0737,    30.2290,   -66.0080,       4985,   200.7,  19.1034,  36.6126,2,  36.6118,2,    201.9,2,   204.5,2,    0.91,2,    1.72,2,    0.01,2,    0.05,2,    -999,9,    -999,9,    -999,9,  2090.2,2,  2387.6,2,    -999,9,     -999,9,    -999,9,    -999,9,    -999,9,    -999,    -999,9,    -999,9,    -999,9,  200.70,      908,  30.2388, -66.0168,    -999,     -999,    -999,     -999,9,     -999,9,     -999,9,     -999,9,     -999,9,     -999,9,  19.0671,    -999,9,       -999,9,    -999,9,    -999,9
 316N200310,        A22,      51,          2,         26,         26,2,20031105,       0737,    30.2290,   -66.0080,       4985,   250.3,  18.7587,  36.6019,2,  36.5993,2,    195.1,2,   194.8,2,    1.15,2,    3.25,2,    0.01,2,    0.13,2,    -999,9,    -999,9,    -999,9,    -999,9,    -999,9,    -999,9,     -999,9,    -999,9,    -999,9,    -999,9,    -999,    -999,9,    -999,9,    -999,9,  250.30,      907,  30.2386, -66.0165,    -999,     -999,    -999,     -999,9,     -999,9,     -999,9,     -999,9,     -999,9,     -999,9,  18.7139,    -999,9,       -999,9,    -999,9,    -999,9
 316N200310,        A22,      51,          2,         25,         25,2,20031105,       0737,    30.2290,   -66.0080,       4985,   299.9,  18.4402,  36.5700,2,  36.5672,2,    195.3,2,   194.6,2,    1.29,2,    3.97,2,    0.01,2,    0.18,2,    -999,9,    -999,9,    -999,9,  2102.5,2,  2384.5,2,    -999,9,     -999,9,    -999,9,    -999,9,    -999,9,    -999,    -999,9,    -999,9,    -999,9,  299.90,      905,  30.2385, -66.0163,    -999,     -999,    -999,     -999,9,     -999,9,     -999,9,     -999,9,     -999,9,     -999,9,  18.3871,    -999,9,       -999,9,    -999,9,    -999,9
 316N200310,        A22,      51,          2,         24,         24,2,20031105,       0737,    30.2290,   -66.0080,       4985,   349.8,  18.1254,  36.5329,2,  36.5305,2,    193.2,2,   192.8,2,    1.53,2,    4.58,2,    0.01,2,    0.21,2,    -999,9,    -999,9,    -999,9,    -999,9,    -999,9,    -999,9,     -999,9,    -999,9,    -999,9,    -999,9,    -999,    -999,9,    -999,9,    -999,9,  349.80,      903,  30.2385, -66.0160,    -999,     -999,    -999,     -999,9,     -999,9,     -999,9,     -999,9,     -999,9,     -999,9,  18.0642,    -999,9,       -999,9,    -999,9,    -999,9
 316N200310,        A22,      51,          2,         23,         23,2,20031105,       0737,    30.2290,   -66.0080,       4985,   400.5,  17.8165,  36.4894,2,  36.4865,2,    192.1,2,   191.6,2,    1.77,2,    5.32,2,    0.01,2,    0.25,2,    -999,9,    -999,9,    -999,9,    -999,9,    -999,9,    -999,9,     -999,9,    -999,9,    -999,9,    -999,9,    -999,    -999,9,    -999,9,    -999,9,  400.50,      901,  30.2384, -66.0158,    -999,     -999,    -999,     -999,9,     -999,9,     -999,9,     -999,9,     -999,9,     -999,9,  17.7472,    -999,9,       -999,9,    -999,9,    -999,9
 316N200310,        A22,      51,          2,         22,         22,2,20031105,       0737,    30.2290,   -66.0080,       4985,   501.2,  16.9656,  36.3581,2,  36.3554,2,    191.8,2,   190.8,2,    2.39,2,    6.91,2,    0.01,2,    0.36,2,    -999,9,    -999,9,    -999,9,    -999,9,    -999,9,    -999,9,     -999,9,    -999,9,    -999,9,    -999,9,    -999,    -999,9,    -999,9,    -999,9,  501.20,      858,  30.2383, -66.0155,    -999,     -999,    -999,     -999,9,     -999,9,     -999,9,     -999,9,     -999,9,     -999,9,  16.8816,    -999,9,       -999,9,    -999,9,    -999,9
 316N200310,        A22,      51,          2,         21,         21,2,20031105,       0737,    30.2290,   -66.0080,       4985,   625.9,  15.1371,  36.0360,2,  36.0353,2,    175.4,2,   175.2,2,    4.19,2,   11.24,2,    0.01,2,    0.63,2,    -999,9,    -999,9,    -999,9,    -999,9,    -999,9,    -999,9,     -999,9,    -999,9,    -999,9,    -999,9,    -999,    -999,9,    -999,9,    -999,9,  625.90,      855,  30.2380, -66.0152,    -999,     -999,    -999,     -999,9,     -999,9,     -999,9,     -999,9,     -999,9,     -999,9,  15.0397,    -999,9,       -999,9,    -999,9,    -999,9
 316N200310,        A22,      51,          2,         20,         20,2,20031105,       0737,    30.2290,   -66.0080,       4985,   750.1,  12.3309,  35.5982,2,  35.5971,2,    154.7,2,   152.2,2,    8.52,2,   18.06,2,    0.01,2,    1.09,2,    -999,9,    -999,9,    -999,9,  2165.5,2,  2335.2,2,    -999,9,     -999,9,    -999,9,    -999,9,    -999,9,    -999,    -999,9,    -999,9,    -999,9,  750.10,      852,  30.2377, -66.0149,    -999,     -999,    -999,     -999,9,     -999,9,     -999,9,     -999,9,     -999,9,     -999,9,  12.2285,    -999,9,       -999,9,    -999,9,    -999,9
 316N200310,        A22,      51,          2,         19,         19,2,20031105,       0737,    30.2290,   -66.0080,       4985,   851.4,   9.5368,  35.2663,2,  35.2658,2,    152.8,2,   152.4,2,   12.68,2,   22.16,2,    0.01,2,    1.39,2,    -999,9,    -999,9,    -999,9,  2183.1,2,  2320.8,2,    -999,9,     -999,9,    -999,9,    -999,9,    -999,9,    -999,    -999,9,    -999,9,    -999,9,  851.40,      849,  30.2374, -66.0146,    -999,     -999,    -999,     -999,9,     -999,9,     -999,9,     -999,9,     -999,9,     -999,9,   9.4372,    -999,9,       -999,9,    -999,9,    -999,9
 316N200310,        A22,      51,          2,         18,         18,2,20031105,       0737,    30.2290,   -66.0080,       4985,  1001.3,   6.7531,  35.1017,2,  35.1039,2,    186.0,2,   190.8,2,   13.81,2,   21.32,2,    0.01,2,    1.38,2,    -999,9,    -999,9,    -999,9,  2182.0,2,  2316.2,6,    -999,9,     -999,9,    -999,9,    -999,9,    -999,9,    -999,    -999,9,    -999,9,    -999,9, 1001.30,      845,  30.2371, -66.0143,    -999,     -999,    -999,     -999,9,     -999,9,     -999,9,     -999,9,     -999,9,     -999,9,   6.6556,    -999,9,       -999,9,    -999,9,    -999,9
 316N200310,        A22,      51,          2,         17,         17,2,20031105,       0737,    30.2290,   -66.0080,       4985,  1149.6,   5.6529,  35.0879,2,  35.0886,2,    216.6,2,   218.1,2,   13.37,2,   19.87,2,    0.01,2,    1.28,2,    -999,9,    -999,9,    -999,9,    -999,9,    -999,9,    -999,9,     -999,9,    -999,9,    -999,9,    -999,9,    -999,   1.097,2,    -999,9,    -999,9, 1149.60,      842,  30.2368, -66.0139,    -999,     -999,    -999,     -999,9,     -999,9,     -999,9,     -999,9,     -999,9,     -999,9,   5.5492,    -999,9,       -999,9,    -999,9,    -999,9
 316N200310,        A22,      51,          2,         16,         16,2,20031105,       0737,    30.2290,   -66.0080,       4985,  1276.6,   5.1019,  35.0706,2,  35.0722,2,    233.8,2,   233.4,2,   13.12,2,   19.03,2,    0.01,2,    1.23,2,    -999,9,    -999,9,    -999,9,    -999,9,    -999,9,    -999,9,     -999,9,    -999,9,    -999,9,    -999,9,    -999,    -999,9,    -999,9,    -999,9, 1276.60,      839,  30.2365, -66.0135,    -999,     -999,    -999,     -999,9,     -999,9,     -999,9,     -999,9,     -999,9,     -999,9,   4.9909,    -999,9,       -999,9,    -999,9,    -999,9
 316N200310,        A22,      51,          2,         15,         15,2,20031105,       0737,    30.2290,   -66.0080,       4985,  1401.0,   4.7425,  35.0481,2,  35.0494,2,    243.5,2,   242.7,2,   12.97,2,   18.56,2,    0.01,2,    1.20,2,    -999,9,    -999,9,    -999,9,    -999,9,    -999,9,    -999,9,     -999,9,    -999,9,    -999,9,    -999,9,    -999,    -999,9,    -999,9,    -999,9, 1401.00,      836,  30.2361, -66.0131,    -999,     -999,    -999,     -999,9,     -999,9,     -999,9,     -999,9,     -999,9,     -999,9,   4.6233,    -999,9,       -999,9,    -999,9,    -999,9
 316N200310,        A22,      51,          2,         14,         14,2,20031105,       0737,    30.2290,   -66.0080,       4985,  1525.4,   4.4231,  35.0308,2,  35.0325,2,    250.0,2,   249.8,2,   13.21,2,   18.26,2,    0.01,2,    1.19,2,    -999,9,    -999,9,    -999,9,    -999,9,    -999,9,    -999,9,     -999,9,    -999,9,    -999,9,    -999,9,    -999,    -999,9,    -999,9,    -999,9, 1525.40,      833,  30.2358, -66.0129,    -999,     -999,    -999,     -999,9,     -999,9,     -999,9,     -999,9,     -999,9,     -999,9,   4.2956,    -999,9,       -999,9,    -999,9,    -999,9
 316N200310,        A22,      51,          2,         13,         13,2,20031105,       0737,    30.2290,   -66.0080,       4985,  1650.5,   4.1949,  35.0147,2,  35.0154,2,    255.4,2,   253.7,2,   13.55,2,   18.10,2,    0.01,2,    1.18,2,    -999,9,    -999,9,    -999,9,    -999,9,    -999,9,    -999,9,     -999,9,    -999,9,    -999,9,    -999,9,    -999,    -999,9,    -999,9,    -999,9, 1650.50,      830,  30.2354, -66.0126,    -999,     -999,    -999,     -999,9,     -999,9,     -999,9,     -999,9,     -999,9,     -999,9,   4.0583,    -999,9,       -999,9,    -999,9,    -999,9
 316N200310,        A22,      51,          2,         12,         12,2,20031105,       0737,    30.2290,   -66.0080,       4985,  1775.0,   4.0203,  35.0079,2,  35.0112,2,    254.4,2,   255.6,2,   14.49,2,   18.16,2,    0.01,2,    1.18,2,    -999,9,    -999,9,    -999,9,    -999,9,    -999,9,    -999,9,     -999,9,    -999,9,    -999,9,    -999,9,    -999,    -999,9,    -999,9,    -999,9, 1775.00,      827,  30.2350, -66.0124,    -999,     -999,    -999,     -999,9,     -999,9,     -999,9,     -999,9,     -999,9,     -999,9,   3.8741,    -999,9,       -999,9,    -999,9,    -999,9
 316N200310,        A22,      51,          2,         11,         11,2,20031105,       0737,    30.2290,   -66.0080,       4985,  1900.6,   3.8597,  35.0022,2,  35.0043,2,    255.8,2,   256.3,2,   15.52,2,   18.17,2,    0.00,2,    1.19,2,    -999,9,    -999,9,    -999,9,    -999,9,    -999,9,    -999,9,     -999,9,    -999,9,    -999,9,    -999,9,    -999,    -999,9,    -999,9,    -999,9, 1900.60,      824,  30.2346, -66.0121,    -999,     -999,    -999,     -999,9,     -999,9,     -999,9,     -999,9,     -999,9,     -999,9,   3.7038,    -999,9,       -999,9,    -999,9,    -999,9
 316N200310,        A22,      51,          2,         10,         10,2,20031105,       0737,    30.2290,   -66.0080,       4985,  2000.4,   3.7219,  34.9920,2,  34.9929,2,    257.4,2,   258.1,2,   16.16,2,   18.17,2,    0.00,2,    1.19,2,    -999,9,    -999,9,    -999,9,    -999,9,    -999,9,    -999,9,     -999,9,    -999,9,    -999,9,    -999,9,    -999,    -999,9,    -999,9,    -999,9, 2000.40,      821,  30.2342, -66.0119,    -999,     -999,    -999,     -999,9,     -999,9,     -999,9,     -999,9,     -999,9,     -999,9,   3.5584,    -999,9,       -999,9,    -999,9,    -999,9
 316N200310,        A22,      51,          2,          9,          9,2,20031105,       0737,    30.2290,   -66.0080,       4985,  2099.8,   3.5971,  34.9870,2,  34.9882,2,    257.6,2,   257.7,2,   17.39,2,   18.28,2,    0.01,2,    1.20,2,    -999,9,    -999,9,    -999,9,    -999,9,    -999,9,    -999,9,     -999,9,    -999,9,    -999,9,    -999,9,    -999,    -999,9,    -999,9,    -999,9, 2099.80,      818,  30.2339, -66.0116,    -999,     -999,    -999,     -999,9,     -999,9,     -999,9,     -999,9,     -999,9,     -999,9,   3.4259,    -999,9,       -999,9,    -999,9,    -999,9
 316N200310,        A22,      51,          2,          8,          8,2,20031105,       0737,    30.2290,   -66.0080,       4985,  2250.4,   3.4554,  34.9799,2,  34.9809,2,    257.8,2,   258.2,2,   18.83,2,   18.45,2,    0.00,2,    1.21,2,    -999,9,    -999,9,    -999,9,    -999,9,    -999,9,    -999,9,     -999,9,    -999,9,    -999,9,    -999,9,    -999,    -999,9,    -999,9,    -999,9, 2250.40,      815,  30.2335, -66.0113,    -999,     -999,    -999,     -999,9,     -999,9,     -999,9,     -999,9,     -999,9,     -999,9,   3.2718,    -999,9,       -999,9,    -999,9,    -999,9
 316N200310,        A22,      51,          2,          7,          7,2,20031105,       0737,    30.2290,   -66.0080,       4985,  2500.0,   3.1928,  34.9625,2,  34.9636,2,    259.1,2,   259.6,2,   20.75,2,   18.50,2,    0.00,2,    1.22,2,    -999,9,    -999,9,    -999,9,    -999,9,    -999,9,    -999,9,     -999,9,    -999,9,    -999,9,    -999,9,    -999,    -999,9,    -999,9,    -999,9, 2500.00,      810,  30.2328, -66.0109,    -999,     -999,    -999,     -999,9,     -999,9,     -999,9,     -999,9,     -999,9,     -999,9,   2.9892,    -999,9,       -999,9,    -999,9,    -999,9
 316N200310,        A22,      51,          2,          6,          6,2,20031105,       0737,    30.2290,   -66.0080,       4985,  2751.0,   2.9365,  34.9438,2,  34.9451,2,    262.6,2,   263.1,2,   21.30,2,   18.14,2,    0.00,2,    1.20,2,    -999,9,    -999,9,    -999,9,    -999,9,    -999,9,    -999,9,     -999,9,    -999,9,    -999,9,    -999,9,    -999,    -999,9,    -999,9,    -999,9, 2751.00,      805,  30.2323, -66.0105,    -999,     -999,    -999,     -999,9,     -999,9,     -999,9,     -999,9,     -999,9,     -999,9,   2.7127,    -999,9,       -999,9,    -999,9,    -999,9
 316N200310,        A22,      51,          2,          5,          5,2,20031105,       0737,    30.2290,   -66.0080,       4985,  3000.0,   2.7232,  34.9302,2,  34.9319,2,    265.4,2,   266.5,2,   22.04,2,   17.88,2,    0.00,2,    1.19,2,    -999,9,    -999,9,    -999,9,    -999,9,    -999,9,    -999,9,     -999,9,    -999,9,    -999,9,    -999,9,    -999,    -999,9,    -999,9,    -999,9, 3000.00,      800,  30.2318, -66.0101,    -999,     -999,    -999,     -999,9,     -999,9,     -999,9,     -999,9,     -999,9,     -999,9,   2.4784,    -999,9,       -999,9,    -999,9,    -999,9
 316N200310,        A22,      51,          2,          4,          4,2,20031105,       0737,    30.2290,   -66.0080,       4985,  3249.2,   2.5626,  34.9199,2,  34.9209,2,    266.9,2,   267.5,2,   23.28,2,   17.89,2,    0.00,2,    1.19,2,    -999,9,    -999,9,    -999,9,    -999,9,    -999,9,    -999,9,     -999,9,    -999,9,    -999,9,    -999,9,    -999,    -999,9,    -999,9,    -999,9, 3249.20,      755,  30.2312, -66.0097,    -999,     -999,    -999,     -999,9,     -999,9,     -999,9,     -999,9,     -999,9,     -999,9,   2.2955,    -999,9,       -999,9,    -999,9,    -999,9
 316N200310,        A22,      51,          2,          3,          3,2,20031105,       0737,    30.2290,   -66.0080,       4985,  3499.8,   2.4210,  34.9105,2,  34.9109,2,    267.4,2,   267.5,2,   25.12,2,   17.95,2,    0.00,2,    1.20,2,    -999,9,    -999,9,    -999,9,    -999,9,    -999,9,    -999,9,     -999,9,    -999,9,    -999,9,    -999,9,    -999,    -999,9,    -999,9,    -999,9, 3499.80,      750,  30.2305, -66.0092,    -999,     -999,    -999,     -999,9,     -999,9,     -999,9,     -999,9,     -999,9,     -999,9,   2.1306,    -999,9,       -999,9,    -999,9,    -999,9