BOTTLE,20220517CCHSIOLMM
EXPOCODE,SECT_ID,STNNBR,CASTNO,SAMPNO,BTLNBR,BTLNBR_FLAG_W,DATE,TIME,LATITUDE,LONGITUDE,DEPTH,CTDPRS,CTDTMP,CTDSAL,CTDSAL_FLAG_W,SALNTY,SALNTY_FLAG_W,CTDOXY,CTDOXY_FLAG_W,OXYGEN,OXYGEN_FLAG_W,SILCAT,SILCAT_FLAG_W,NITRAT,NITRAT_FLAG_W,NITRIT,NITRIT_FLAG_W,PHSPHT,PHSPHT_FLAG_W,CFC-11,CFC-11_FLAG_W,CFC-12,CFC-12_FLAG_W,CFC113,CFC113_FLAG_W,TCARBN,TCARBN_FLAG_W,ALKALI,ALKALI_FLAG_W,TRITUM,TRITUM_FLAG_W,HELIUM,HELIUM_FLAG_W,DELHE3,DELHE3_FLAG_W,DELC13,DELC13_FLAG_W,DELC14,DELC14_FLAG_W,C14ERR,CCL4,CCL4_FLAG_W,DOC,DOC_FLAG_W,TDN,TDN_FLAG_W,CTDRAW,BTL_TIME,BTL_LAT,BTL_LON,TRITER,HELIER,DELHER,CDOM325,CDOM325_FLAG_W,CDOM340,CDOM340_FLAG_W,CDOM380,CDOM380_FLAG_W,CDOM412,CDOM412_FLAG_W,CDOMSL,CDOMSL_FLAG_W,CDOMSN,CDOMSN_FLAG_W,THETA,BACT,BACT_FLAG_W,PROC,PROC_FLAG_W,SYN,SYN_FLAG_W,PEUK,PEUK_FLAG_W
,,,,,,,,,,,METERS,DBAR,ITS-90,PSS-78,,PSS-78,,UMOL/KG,,UMOL/KG,,UMOL/KG,,UMOL/KG,,UMOL/KG,,UMOL/KG,,PMOL/KG,,PMOL/KG,,PMOL/KG,,UMOL/KG,,UMOL/KG,,TU,,NMOL/KG,,PERCNT,,/MILLE,,/MILLE,,/MILLE,PMOL/KG,,UMOL/KG,,UMOL/KG,,DBAR,,,,TU,NMOL/KG,PERCNT,1/M,,1/M,,1/M,,1/M,,1/NM,,1/NM,,DEG C,E8/L,,E7/L,,E6/L,,E6/L,
 316N200310,        A22,      45,          1,          4,          4,2,20031103,       1000,    26.2110,   -66.0072,       5271,  4624.8,   2.2515,  34.8868,2,  34.8859,2,    260.8,2,   260.9,2,   36.17,2,   19.79,2,    0.00,2,    1.33,2,   0.193,2,   0.101,2,   0.011,2,    -999,9,    -999,9,    -999,9,     -999,9,    -999,9,    -999,9,    -999,9,    -999,    -999,9,    -999,9,    -999,9, 4624.80,     1016,  26.2108, -66.0084,    -999,     -999,    -999,     -999,9,     -999,9,     -999,9,     -999,9,     -999,9,     -999,9,   1.8369,    -999,9,       -999,9,    -999,9,    -999,9
 316N200310,        A22,      45,          1,          3,          3,2,20031103,       1000,    26.2110,   -66.0072,       5271,  4876.0,   2.2039,  34.8775,2,  34.8749,2,    258.0,2,   258.3,2,   40.87,2,   20.52,2,    0.00,2,    1.38,2,   0.155,2,   0.094,2,   0.013,2,    -999,9,    -999,9,    -999,9,     -999,9,    -999,9,    -999,9,    -999,9,    -999,    -999,9,    -999,9,    -999,9, 4876.00,     1011,  26.2110, -66.0080,    -999,     -999,    -999,     -999,9,     -999,9,     -999,9,     -999,9,     -999,9,     -999,9,   1.7601,    -999,9,       -999,9,    -999,9,    -999,9
 316N200310,        A22,      45,          1,          2,          2,2,20031103,       1000,    26.2110,   -66.0072,       5271,  5126.8,   2.1724,  34.8696,2,  34.8674,2,    254.9,2,   255.2,2,   44.86,2,   21.08,2,    0.00,2,    1.43,2,   0.117,2,   0.073,2,   0.006,2,    -999,9,    -999,9,    -999,9,     -999,9,    -999,9,    -999,9,    -999,9,    -999,    -999,9,    -999,9,    -999,9, 5126.80,     1006,  26.2111, -66.0077,    -999,     -999,    -999,     -999,9,     -999,9,     -999,9,     -999,9,     -999,9,     -999,9,   1.6981,    -999,9,       -999,9,    -999,9,    -999,9
 316N200310,        A22,      45,          1,          1,          1,2,20031103,       1000,    26.2110,   -66.0072,       5271,  5350.3,   2.1547,  34.8636,2,  34.8631,2,    252.5,2,   253.9,2,   47.86,2,   21.51,2,    0.00,2,    1.46,2,   0.092,2,   0.049,2,   0.008,2,    -999,9,    -999,9,    -999,9,     -999,9,    -999,9,    -999,9,    -999,9,    -999,    -999,9,    -999,9,    -999,9, 5350.30,     1001,  26.2111, -66.0072,    -999,     -999,    -999,     -999,9,     -999,9,     -999,9,     -999,9,     -999,9,     -999,9,   1.6525,    -999,9,       -999,9,    -999,9,    -999,9