BOTTLE,20220517CCHSIOLMM
EXPOCODE,SECT_ID,STNNBR,CASTNO,SAMPNO,BTLNBR,BTLNBR_FLAG_W,DATE,TIME,LATITUDE,LONGITUDE,DEPTH,CTDPRS,CTDTMP,CTDSAL,CTDSAL_FLAG_W,SALNTY,SALNTY_FLAG_W,CTDOXY,CTDOXY_FLAG_W,OXYGEN,OXYGEN_FLAG_W,SILCAT,SILCAT_FLAG_W,NITRAT,NITRAT_FLAG_W,NITRIT,NITRIT_FLAG_W,PHSPHT,PHSPHT_FLAG_W,CFC-11,CFC-11_FLAG_W,CFC-12,CFC-12_FLAG_W,CFC113,CFC113_FLAG_W,TCARBN,TCARBN_FLAG_W,ALKALI,ALKALI_FLAG_W,TRITUM,TRITUM_FLAG_W,HELIUM,HELIUM_FLAG_W,DELHE3,DELHE3_FLAG_W,DELC13,DELC13_FLAG_W,DELC14,DELC14_FLAG_W,C14ERR,CCL4,CCL4_FLAG_W,DOC,DOC_FLAG_W,TDN,TDN_FLAG_W,CTDRAW,BTL_TIME,BTL_LAT,BTL_LON,TRITER,HELIER,DELHER,CDOM325,CDOM325_FLAG_W,CDOM340,CDOM340_FLAG_W,CDOM380,CDOM380_FLAG_W,CDOM412,CDOM412_FLAG_W,CDOMSL,CDOMSL_FLAG_W,CDOMSN,CDOMSN_FLAG_W,THETA,BACT,BACT_FLAG_W,PROC,PROC_FLAG_W,SYN,SYN_FLAG_W,PEUK,PEUK_FLAG_W
,,,,,,,,,,,METERS,DBAR,ITS-90,PSS-78,,PSS-78,,UMOL/KG,,UMOL/KG,,UMOL/KG,,UMOL/KG,,UMOL/KG,,UMOL/KG,,PMOL/KG,,PMOL/KG,,PMOL/KG,,UMOL/KG,,UMOL/KG,,TU,,NMOL/KG,,PERCNT,,/MILLE,,/MILLE,,/MILLE,PMOL/KG,,UMOL/KG,,UMOL/KG,,DBAR,,,,TU,NMOL/KG,PERCNT,1/M,,1/M,,1/M,,1/M,,1/NM,,1/NM,,DEG C,E8/L,,E7/L,,E6/L,,E6/L,
 316N200310,        A22,      40,          1,          3,          3,2,20031101,       2029,    22.8595,   -65.9805,       5832,  5374.1,   2.1681,  34.8651,2,  34.8648,2,    254.3,2,   253.4,2,   47.39,2,   21.57,2,    0.00,2,    1.45,2,   0.096,2,   0.070,2,   0.008,2,  2192.7,2,  2345.7,2,    -999,9,     -999,9,    -999,9,    -999,9,    -999,9,    -999,   0.299,2,   40.60,2,    -999,9, 5374.10,     2042,  22.8588, -65.9787,    -999,     -999,    -999,     -999,9,     -999,9,     -999,9,     -999,9,     -999,9,     -999,9,   1.6622,    -999,9,       -999,9,    -999,9,    -999,9
 316N200310,        A22,      40,          1,          2,          2,2,20031101,       2029,    22.8595,   -65.9805,       5832,  5624.0,   2.0987,  34.8525,2,  34.8511,2,    249.1,2,   249.7,2,   53.69,2,   22.44,2,    0.00,2,    1.51,2,   0.059,2,   0.046,2,   0.004,2,  2199.0,2,  2350.1,2,    -999,9,     -999,9,    -999,9,    -999,9,    -999,9,    -999,   0.227,2,   41.20,2,    -999,9, 5624.00,     2037,  22.8590, -65.9795,    -999,     -999,    -999,     -999,9,     -999,9,     -999,9,     -999,9,     -999,9,     -999,9,   1.5627,    -999,9,       -999,9,    -999,9,    -999,9
 316N200310,        A22,      40,          1,          1,          1,2,20031101,       2029,    22.8595,   -65.9805,       5832,  5925.5,   2.0973,  34.8469,2,  34.8464,2,    247.6,2,   248.2,2,   56.31,2,   22.77,2,    0.00,2,    1.55,2,   0.000,2,   0.040,2,   0.005,2,  2202.5,2,  2351.4,6,    -999,9,     -999,9,    -999,9,    -999,9,    -999,9,    -999,   0.213,2,   39.90,2,    -999,9, 5925.50,     2030,  22.8594, -65.9805,    -999,     -999,    -999,     -999,9,     -999,9,     -999,9,     -999,9,     -999,9,     -999,9,   1.5211,    -999,9,       -999,9,    -999,9,    -999,9