BOTTLE,20220517CCHSIOLMM
EXPOCODE,SECT_ID,STNNBR,CASTNO,SAMPNO,BTLNBR,BTLNBR_FLAG_W,DATE,TIME,LATITUDE,LONGITUDE,DEPTH,CTDPRS,CTDTMP,CTDSAL,CTDSAL_FLAG_W,SALNTY,SALNTY_FLAG_W,CTDOXY,CTDOXY_FLAG_W,OXYGEN,OXYGEN_FLAG_W,SILCAT,SILCAT_FLAG_W,NITRAT,NITRAT_FLAG_W,NITRIT,NITRIT_FLAG_W,PHSPHT,PHSPHT_FLAG_W,CFC-11,CFC-11_FLAG_W,CFC-12,CFC-12_FLAG_W,CFC113,CFC113_FLAG_W,TCARBN,TCARBN_FLAG_W,ALKALI,ALKALI_FLAG_W,TRITUM,TRITUM_FLAG_W,HELIUM,HELIUM_FLAG_W,DELHE3,DELHE3_FLAG_W,DELC13,DELC13_FLAG_W,DELC14,DELC14_FLAG_W,C14ERR,CCL4,CCL4_FLAG_W,DOC,DOC_FLAG_W,TDN,TDN_FLAG_W,CTDRAW,BTL_TIME,BTL_LAT,BTL_LON,TRITER,HELIER,DELHER,CDOM325,CDOM325_FLAG_W,CDOM340,CDOM340_FLAG_W,CDOM380,CDOM380_FLAG_W,CDOM412,CDOM412_FLAG_W,CDOMSL,CDOMSL_FLAG_W,CDOMSN,CDOMSN_FLAG_W,THETA,BACT,BACT_FLAG_W,PROC,PROC_FLAG_W,SYN,SYN_FLAG_W,PEUK,PEUK_FLAG_W
,,,,,,,,,,,METERS,DBAR,ITS-90,PSS-78,,PSS-78,,UMOL/KG,,UMOL/KG,,UMOL/KG,,UMOL/KG,,UMOL/KG,,UMOL/KG,,PMOL/KG,,PMOL/KG,,PMOL/KG,,UMOL/KG,,UMOL/KG,,TU,,NMOL/KG,,PERCNT,,/MILLE,,/MILLE,,/MILLE,PMOL/KG,,UMOL/KG,,UMOL/KG,,DBAR,,,,TU,NMOL/KG,PERCNT,1/M,,1/M,,1/M,,1/M,,1/NM,,1/NM,,DEG C,E8/L,,E7/L,,E6/L,,E6/L,
 316N200310,        A22,      66,          1,          4,          4,2,20031110,       0529,    36.9065,   -67.9192,       4930,  4250.1,   2.2867,  34.8930,2,  34.8918,2,    266.4,2,   266.8,2,   29.07,2,   18.53,2,    0.00,2,    1.25,2,   0.768,2,   0.406,2,   0.028,2,  2173.5,2,  2324.0,2,    -999,9,     -999,9,    -999,9,    -999,9,    -999,9,    -999,   1.272,2,    -999,9,    -999,9, 4250.10,      545,  36.9095, -67.9217,    -999,     -999,    -999,     -999,9,     -999,9,     -999,9,     -999,9,     -999,9,     -999,9,   1.9156,    -999,9,       -999,9,    -999,9,    -999,9
 316N200310,        A22,      66,          1,          3,          3,2,20031110,       0529,    36.9065,   -67.9192,       4930,  4498.5,   2.2673,  34.8890,2,  34.8879,2,    264.0,2,   264.9,2,   31.55,2,   18.88,2,    0.00,2,    1.28,2,   0.686,2,   0.360,2,   0.034,2,  2175.9,2,  2324.5,2,    -999,9,     -999,9,    -999,9,    -999,9,    -999,9,    -999,   1.055,2,   42.30,2,    -999,9, 4498.50,      540,  36.9086, -67.9208,    -999,     -999,    -999,     -999,9,     -999,9,     -999,9,     -999,9,     -999,9,     -999,9,   1.8673,    -999,9,       -999,9,    -999,9,    -999,9
 316N200310,        A22,      66,          1,          2,          2,2,20031110,       0529,    36.9065,   -67.9192,       4930,  4749.0,   2.2578,  34.8850,2,  34.8845,2,    262.2,2,   262.8,2,   34.24,2,   19.27,2,    0.00,2,    1.31,2,   0.619,2,   0.321,2,   0.026,2,  2180.3,2,  2327.3,2,    -999,9,     -999,9,    -999,9,    -999,9,    -999,9,    -999,   0.935,2,    -999,9,    -999,9, 4749.00,      535,  36.9076, -67.9199,    -999,     -999,    -999,     -999,9,     -999,9,     -999,9,     -999,9,     -999,9,     -999,9,   1.8278,    -999,9,       -999,9,    -999,9,    -999,9
 316N200310,        A22,      66,          1,          1,          1,2,20031110,       0529,    36.9065,   -67.9192,       4930,  5012.9,   2.2466,  34.8799,2,  34.8816,2,    258.5,2,   260.1,2,   37.45,2,   19.82,2,    0.00,2,    1.35,2,   0.508,2,   0.273,2,   0.028,2,  2185.0,2,  2334.2,6,    -999,9,     -999,9,    -999,9,    -999,9,    -999,9,    -999,   0.785,2,   42.00,2,    -999,9, 5012.90,      529,  36.9065, -67.9192,    -999,     -999,    -999,   0.1320,2,   0.0920,2,   0.0430,2,   0.0270,2,   0.0190,2,   0.0200,2,   1.7842,    -999,9,       -999,9,    -999,9,    -999,9