BOTTLE,20220517CCHSIOLMM
EXPOCODE,SECT_ID,STNNBR,CASTNO,SAMPNO,BTLNBR,BTLNBR_FLAG_W,DATE,TIME,LATITUDE,LONGITUDE,DEPTH,CTDPRS,CTDTMP,CTDSAL,CTDSAL_FLAG_W,SALNTY,SALNTY_FLAG_W,CTDOXY,CTDOXY_FLAG_W,OXYGEN,OXYGEN_FLAG_W,SILCAT,SILCAT_FLAG_W,NITRAT,NITRAT_FLAG_W,NITRIT,NITRIT_FLAG_W,PHSPHT,PHSPHT_FLAG_W,CFC-11,CFC-11_FLAG_W,CFC-12,CFC-12_FLAG_W,CFC113,CFC113_FLAG_W,TCARBN,TCARBN_FLAG_W,ALKALI,ALKALI_FLAG_W,TRITUM,TRITUM_FLAG_W,HELIUM,HELIUM_FLAG_W,DELHE3,DELHE3_FLAG_W,DELC13,DELC13_FLAG_W,DELC14,DELC14_FLAG_W,C14ERR,CCL4,CCL4_FLAG_W,DOC,DOC_FLAG_W,TDN,TDN_FLAG_W,CTDRAW,BTL_TIME,BTL_LAT,BTL_LON,TRITER,HELIER,DELHER,CDOM325,CDOM325_FLAG_W,CDOM340,CDOM340_FLAG_W,CDOM380,CDOM380_FLAG_W,CDOM412,CDOM412_FLAG_W,CDOMSL,CDOMSL_FLAG_W,CDOMSN,CDOMSN_FLAG_W,THETA,BACT,BACT_FLAG_W,PROC,PROC_FLAG_W,SYN,SYN_FLAG_W,PEUK,PEUK_FLAG_W
,,,,,,,,,,,METERS,DBAR,ITS-90,PSS-78,,PSS-78,,UMOL/KG,,UMOL/KG,,UMOL/KG,,UMOL/KG,,UMOL/KG,,UMOL/KG,,PMOL/KG,,PMOL/KG,,PMOL/KG,,UMOL/KG,,UMOL/KG,,TU,,NMOL/KG,,PERCNT,,/MILLE,,/MILLE,,/MILLE,PMOL/KG,,UMOL/KG,,UMOL/KG,,DBAR,,,,TU,NMOL/KG,PERCNT,1/M,,1/M,,1/M,,1/M,,1/NM,,1/NM,,DEG C,E8/L,,E7/L,,E6/L,,E6/L,
 316N200310,        A22,       4,          1,         17,         17,2,20031025,       0027,    11.5057,   -65.9985,        997,     2.3,  29.1367,  36.5738,2,  36.5678,2,    192.4,2,   193.1,2,    0.78,2,    0.16,2,    0.00,2,    0.02,2,   1.519,2,   0.956,2,   0.121,2,  2037.1,2,  2388.3,6,    -999,9,     -999,9,    -999,9,    1.60,2,    77.6,2,     3.6,    -999,9,   71.70,2,    4.90,2,    2.30,      103,  11.5130, -65.9969,    -999,     -999,    -999,   0.0830,2,   0.0600,2,   0.0300,2,   0.0230,2,   0.0190,2,   0.0200,2,  29.1361,    -999,9,       -999,9,    -999,9,    -999,9
 316N200310,        A22,       4,          1,         16,         16,2,20031025,       0027,    11.5057,   -65.9985,        997,    25.2,  29.1066,  36.5651,2,  36.5612,2,    193.6,2,   193.2,2,    0.78,2,    0.16,2,    0.00,2,    0.02,2,   1.516,2,   0.948,2,   0.129,2,  2036.4,2,  2392.0,2,    -999,9,     -999,9,    -999,9,    -999,9,    -999,9,    -999,    -999,9,   70.20,2,    5.60,2,   25.20,      101,  11.5126, -65.9970,    -999,     -999,    -999,   0.0700,2,   0.0460,2,   0.0190,2,   0.0130,2,   0.0270,2,   0.0280,2,  29.1005,    -999,9,       -999,9,    -999,9,    -999,9
 316N200310,        A22,       4,          1,         15,         15,2,20031025,       0027,    11.5057,   -65.9985,        997,    50.3,  26.3443,  36.6399,2,  36.6372,2,    197.9,2,   197.6,2,    0.89,2,    0.10,2,    0.00,2,    0.02,2,   1.736,6,   1.059,6,   0.119,6,  2056.8,2,  2392.0,2,    -999,9,     -999,9,    -999,9,    -999,9,    -999,9,    -999,    -999,9,   67.00,2,    5.20,2,   50.30,       59,  11.5123, -65.9971,    -999,     -999,    -999,   0.1970,2,   0.1390,2,   0.0690,2,   0.0480,2,   0.0150,2,   0.0170,2,  26.3329,    -999,9,       -999,9,    -999,9,    -999,9
 316N200310,        A22,       4,          1,         14,         14,2,20031025,       0027,    11.5057,   -65.9985,        997,    75.4,  23.1026,  36.9990,2,  36.9868,2,    161.5,2,   158.8,2,    1.30,2,    3.73,2,    0.19,2,    0.20,2,   1.901,2,   1.154,2,   0.054,2,  2123.9,2,  2408.5,2,    -999,9,     -999,9,    -999,9,    -999,9,    -999,9,    -999,    -999,9,   75.40,3,    7.80,2,   75.40,       57,  11.5118, -65.9972,    -999,     -999,    -999,   0.1560,2,   0.1130,2,   0.0550,2,   0.0420,2,   0.0140,2,   0.0170,2,  23.0870,    -999,9,       -999,9,    -999,9,    -999,9
 316N200310,        A22,       4,          1,         13,         13,2,20031025,       0027,    11.5057,   -65.9985,        997,   100.2,  21.1973,  36.8613,2,  36.8462,2,    143.6,2,   142.2,2,    2.22,2,    7.03,2,    0.05,2,    0.36,2,   1.971,2,   1.157,2,   0.045,2,  2144.7,2,  2398.0,2,    -999,9,     -999,9,    -999,9,    -999,9,    -999,9,    -999,    -999,9,   58.70,2,   10.80,2,  100.20,       55,  11.5114, -65.9973,    -999,     -999,    -999,   0.1450,2,   0.1060,2,   0.0530,2,   0.0410,2,   0.0140,2,   0.0160,2,  21.1778,    -999,9,       -999,9,    -999,9,    -999,9
 316N200310,        A22,       4,          1,         12,         12,2,20031025,       0027,    11.5057,   -65.9985,        997,   125.5,  19.5735,  36.6787,2,  36.6671,2,    143.0,2,   145.2,2,    2.52,2,    8.51,2,    0.02,2,    0.43,2,   2.061,2,   1.200,2,   0.020,2,  2148.0,2,  2388.1,2,    -999,9,     -999,9,    -999,9,    -999,9,    -999,9,    -999,    -999,9,    -999,9,    -999,9,  125.50,       54,  11.5111, -65.9974,    -999,     -999,    -999,   0.1750,2,   0.1270,2,   0.0650,2,   0.0490,2,   0.0140,2,   0.0160,2,  19.5505,    -999,9,       -999,9,    -999,9,    -999,9
 316N200310,        A22,       4,          1,         11,         11,2,20031025,       0027,    11.5057,   -65.9985,        997,   150.6,  18.6208,  36.5496,2,  36.5385,2,    143.9,2,   145.4,2,    2.83,2,    9.77,2,    0.02,2,    0.50,2,   2.080,2,   1.213,2,   0.018,2,  2149.2,2,  2380.4,2,    -999,9,     -999,9,    -999,9,    -999,9,    -999,9,    -999,    -999,9,   50.30,2,   13.20,2,  150.60,       52,  11.5107, -65.9975,    -999,     -999,    -999,   0.1840,2,   0.1360,2,   0.0750,2,   0.0570,2,   0.0130,2,   0.0140,2,  18.5941,    -999,9,       -999,9,    -999,9,    -999,9
 316N200310,        A22,       4,          1,         10,         10,2,20031025,       0027,    11.5057,   -65.9985,        997,   175.6,  17.9157,  36.4403,2,  36.4315,2,    144.1,2,   145.9,2,    3.24,2,   10.88,2,    0.02,2,    0.57,2,   2.073,2,   1.182,2,   0.015,2,  2150.5,2,  2374.3,2,    -999,9,     -999,9,    -999,9,    -999,9,    -999,9,    -999,    -999,9,   50.00,2,   13.90,2,  175.60,       51,  11.5104, -65.9975,    -999,     -999,    -999,   0.1290,2,   0.0940,2,   0.0460,2,   0.0340,2,   0.0150,2,   0.0170,2,  17.8854,    -999,9,       -999,9,    -999,9,    -999,9
 316N200310,        A22,       4,          1,          9,          9,2,20031025,       0027,    11.5057,   -65.9985,        997,   225.4,  16.4109,  36.1891,2,  36.1820,2,    142.1,2,   141.5,2,    4.56,2,   13.86,2,    0.01,2,    0.75,2,   1.984,2,   1.094,2,   0.016,2,  2157.4,2,  2361.8,2,    -999,9,     -999,9,    -999,9,    -999,9,    -999,9,    -999,    -999,9,    -999,9,    -999,9,  225.40,       49,  11.5100, -65.9976,    -999,     -999,    -999,     -999,9,     -999,9,     -999,9,     -999,9,     -999,9,     -999,9,  16.3742,    -999,9,       -999,9,    -999,9,    -999,9
 316N200310,        A22,       4,          1,          8,          8,2,20031025,       0027,    11.5057,   -65.9985,        997,   276.3,  14.7179,  35.8927,2,  35.8919,2,    136.2,2,   134.9,2,    6.19,2,   16.65,2,    0.01,2,    0.99,2,   1.835,2,   1.003,2,   0.022,2,  2167.1,2,  2346.2,2,    -999,9,     -999,9,    -999,9,    -999,9,    -999,9,    -999,    -999,9,   46.40,2,   19.30,2,  276.30,       47,  11.5096, -65.9976,    -999,     -999,    -999,   0.1220,2,   0.0850,2,   0.0410,2,   0.0300,2,   0.0170,2,   0.0190,2,  14.6762,    -999,9,       -999,9,    -999,9,    -999,9
 316N200310,        A22,       4,          1,          7,          7,2,20031025,       0027,    11.5057,   -65.9985,        997,   351.1,  11.3991,  35.3301,2,  35.3260,2,    121.8,2,   122.1,2,   10.98,2,   23.35,2,    0.01,2,    1.49,2,   1.321,6,   0.698,6,   0.019,6,  2188.1,2,  2328.1,2,    -999,9,     -999,9,    -999,9,    -999,9,    -999,9,    -999,   0.292,2,    -999,9,    -999,9,  351.10,       45,  11.5091, -65.9978,    -999,     -999,    -999,     -999,9,     -999,9,     -999,9,     -999,9,     -999,9,     -999,9,  11.3544,    -999,9,       -999,9,    -999,9,    -999,9
 316N200310,        A22,       4,          1,          6,          6,2,20031025,       0027,    11.5057,   -65.9985,        997,   451.1,   9.4825,  35.0461,2,  35.0417,2,    117.9,2,   118.6,2,   14.77,2,   27.15,2,    0.01,2,    1.77,2,   0.898,2,   0.472,2,   0.013,2,  2200.2,2,  2316.6,2,    -999,9,     -999,9,    -999,9,    -999,9,    -999,9,    -999,    -999,9,   46.00,2,    -999,9,  451.10,       42,  11.5086, -65.9979,    -999,     -999,    -999,   0.1300,2,   0.0920,2,   0.0480,2,   0.0350,2,   0.0140,2,   0.0170,2,   9.4311,    -999,9,       -999,9,    -999,9,    -999,9
 316N200310,        A22,       4,          1,          5,          5,2,20031025,       0027,    11.5057,   -65.9985,        997,   550.8,   8.0949,  34.8717,2,  34.8729,2,    119.0,2,   120.1,2,   18.24,2,   29.75,2,    0.00,2,    1.96,2,   0.580,2,   0.302,2,   0.009,2,  2207.4,2,  2312.4,2,    -999,9,     -999,9,    -999,9,    -999,9,    -999,9,    -999,    -999,9,    -999,9,    -999,9,  550.80,       39,  11.5080, -65.9981,    -999,     -999,    -999,     -999,9,     -999,9,     -999,9,     -999,9,     -999,9,     -999,9,   8.0376,    -999,9,       -999,9,    -999,9,    -999,9
 316N200310,        A22,       4,          1,          4,          4,2,20031025,       0027,    11.5057,   -65.9985,        997,   675.9,   6.9425,  34.7668,2,  34.7663,2,    124.1,2,   124.9,2,   21.71,2,   31.40,2,    0.00,2,    2.10,2,   0.333,2,   0.162,2,   0.010,2,  2212.5,2,  2309.6,2,    -999,9,     -999,9,    -999,9,    -999,9,    -999,9,    -999,    -999,9,   43.00,2,    -999,9,  675.90,       36,  11.5074, -65.9982,    -999,     -999,    -999,   0.1420,2,   0.1010,2,   0.0540,2,   0.0410,2,   0.0140,2,   0.0160,2,   6.8775,    -999,9,       -999,9,    -999,9,    -999,9
 316N200310,        A22,       4,          1,          3,          3,2,20031025,       0027,    11.5057,   -65.9985,        997,   825.5,   6.0799,  34.7817,2,  34.7797,2,    137.3,2,   137.9,2,   24.27,2,   30.87,2,    0.00,2,    2.08,2,   0.143,2,   0.080,2,   0.003,2,  2213.9,2,  2314.0,2,    -999,9,     -999,9,    -999,9,    -999,9,    -999,9,    -999,    -999,9,   42.40,2,    -999,9,  825.50,       32,  11.5067, -65.9983,    -999,     -999,    -999,   0.1390,2,   0.0990,2,   0.0530,2,   0.0380,2,   0.0140,2,   0.0160,2,   6.0050,    -999,9,       -999,9,    -999,9,    -999,9
 316N200310,        A22,       4,          1,          2,          2,2,20031025,       0027,    11.5057,   -65.9985,        997,   974.9,   5.2176,  34.9054,2,  34.9044,2,    173.3,2,   172.3,2,   25.09,2,   26.41,2,    0.00,2,    1.81,2,   0.058,2,   0.039,2,   0.003,2,  2204.0,2,  2325.3,2,    -999,9,     -999,9,    -999,9,    -999,9,    -999,9,    -999,    -999,9,    -999,9,    -999,9,  974.90,       29,  11.5059, -65.9985,    -999,     -999,    -999,     -999,9,     -999,9,     -999,9,     -999,9,     -999,9,     -999,9,   5.1343,    -999,9,       -999,9,    -999,9,    -999,9
 316N200310,        A22,       4,          1,          1,          1,2,20031025,       0027,    11.5057,   -65.9985,        997,   995.5,   5.1457,  34.9133,2,  34.9109,2,    176.3,2,   175.1,2,   25.09,2,   26.13,2,    0.00,2,    1.79,2,   0.053,2,   0.038,2,   0.002,2,  2203.8,2,  2329.4,6,    -999,9,     -999,9,    -999,9,    -999,9,    -999,9,    -999,    -999,9,   42.90,2,    -999,9,  995.50,       27,  11.5056, -65.9985,    -999,     -999,    -999,   0.1570,2,   0.1130,2,   0.0600,2,   0.0420,2,   0.0140,2,   0.0160,2,   5.0611,    -999,9,       -999,9,    -999,9,    -999,9
 316N200310,        A22,       5,          1,         15,         15,2,20031025,       0257,    11.7577,   -65.9930,        800,     2.4,  28.9173,  36.5498,2,  36.5476,2,    193.5,2,   193.8,2,    0.59,2,   -0.01,2,    0.00,2,    0.03,2,   1.541,2,   0.912,2,   0.092,2,  2036.9,2,  2396.5,6,    -999,9,     -999,9,    -999,9,    -999,9,    -999,9,    -999,   1.536,2,    -999,9,    -999,9,    2.40,      326,  11.7618, -65.9931,    -999,     -999,    -999,   0.0920,2,   0.0650,2,   0.0310,2,   0.0220,2,   0.0210,2,   0.0220,2,  28.9167,    -999,9,       -999,9,    -999,9,    -999,9
 316N200310,        A22,       5,          1,         14,         14,2,20031025,       0257,    11.7577,   -65.9930,        800,    25.3,  28.9144,  36.5506,2,  36.5575,2,    194.6,2,   193.9,2,    0.47,2,   -0.01,2,    0.00,2,    0.02,2,   1.543,2,   0.943,2,   0.098,2,    -999,9,    -999,9,    -999,9,     -999,9,    -999,9,    -999,9,    -999,9,    -999,   1.523,2,    -999,9,    -999,9,   25.30,      325,  11.7615, -65.9930,    -999,     -999,    -999,   0.0690,2,   0.0450,2,   0.0170,2,   0.0120,2,   0.0280,2,   0.0280,2,  28.9082,    -999,9,       -999,9,    -999,9,    -999,9
 316N200310,        A22,       5,          1,         13,         13,2,20031025,       0257,    11.7577,   -65.9930,        800,    50.5,  25.9492,  36.6994,2,  36.7066,2,    194.8,2,   193.7,2,    0.56,2,   -0.01,2,    0.00,2,    0.02,2,   1.753,2,   1.072,2,   0.080,2,    -999,9,    -999,9,    -999,9,     -999,9,    -999,9,    -999,9,    -999,9,    -999,   0.643,2,    -999,9,    -999,9,   50.50,      323,  11.7611, -65.9929,    -999,     -999,    -999,   0.1740,2,   0.1220,2,   0.0570,2,   0.0390,2,   0.0170,2,   0.0190,2,  25.9379,    -999,9,       -999,9,    -999,9,    -999,9
 316N200310,        A22,       5,          1,         12,         12,2,20031025,       0257,    11.7577,   -65.9930,        800,    75.5,  23.5449,  36.9596,2,  36.9548,2,    165.4,2,   164.0,2,    0.94,2,    2.30,2,    0.12,2,    0.18,2,   1.880,2,   1.126,2,   0.058,2,    -999,9,    -999,9,    -999,9,     -999,9,    -999,9,    -999,9,    -999,9,    -999,   0.238,2,    -999,9,    -999,9,   75.50,      321,  11.7608, -65.9929,    -999,     -999,    -999,   0.1700,2,   0.1240,2,   0.0630,2,   0.0470,2,   0.0140,2,   0.0160,2,  23.5291,    -999,9,       -999,9,    -999,9,    -999,9
 316N200310,        A22,       5,          1,         11,         11,2,20031025,       0257,    11.7577,   -65.9930,        800,   100.1,  21.4871,  36.8777,2,  36.8699,2,    145.1,2,   144.9,2,    1.73,2,    5.54,2,    0.06,2,    0.33,2,   1.967,2,   1.178,2,   0.034,2,    -999,9,    -999,9,    -999,9,     -999,9,    -999,9,    -999,9,    -999,9,    -999,   0.179,2,    -999,9,    -999,9,  100.10,      319,  11.7605, -65.9928,    -999,     -999,    -999,   0.1620,2,   0.1200,2,   0.0620,2,   0.0480,2,   0.0140,2,   0.0150,2,  21.4674,    -999,9,       -999,9,    -999,9,    -999,9
 316N200310,        A22,       5,          1,         10,         10,2,20031025,       0257,    11.7577,   -65.9930,        800,   125.4,  20.2482,  36.7627,2,  36.7524,2,    142.1,2,   142.9,2,    2.02,2,    6.95,2,    0.02,2,    0.41,2,   2.024,2,   1.176,2,   0.029,2,    -999,9,    -999,9,    -999,9,     -999,9,    -999,9,    -999,9,    -999,9,    -999,   0.185,2,    -999,9,    -999,9,  125.40,      318,  11.7603, -65.9928,    -999,     -999,    -999,   0.1420,2,   0.1000,2,   0.0470,2,   0.0350,2,   0.0160,2,   0.0190,2,  20.2247,    -999,9,       -999,9,    -999,9,    -999,9
 316N200310,        A22,       5,          1,          9,          9,2,20031025,       0257,    11.7577,   -65.9930,        800,   150.3,  18.8208,  36.5820,2,  36.5727,2,    147.5,2,   148.7,2,    2.20,2,    8.16,2,    0.01,2,    0.47,2,   2.075,2,   1.185,2,   0.013,2,    -999,9,    -999,9,    -999,9,     -999,9,    -999,9,    -999,9,    -999,9,    -999,   0.219,2,    -999,9,    -999,9,  150.30,      316,  11.7601, -65.9928,    -999,     -999,    -999,   0.1670,2,   0.1270,2,   0.0700,2,   0.0540,2,   0.0120,2,   0.0140,2,  18.7939,    -999,9,       -999,9,    -999,9,    -999,9
 316N200310,        A22,       5,          1,          8,          8,2,20031025,       0257,    11.7577,   -65.9930,        800,   175.7,  18.2593,  36.4951,2,  36.4877,2,    145.4,2,   146.5,2,    2.79,2,    9.15,2,    0.01,2,    0.53,2,   2.061,2,   1.164,2,   0.009,2,    -999,9,    -999,9,    -999,9,     -999,9,    -999,9,    -999,9,    -999,9,    -999,   0.224,2,    -999,9,    -999,9,  175.70,      315,  11.7598, -65.9928,    -999,     -999,    -999,     -999,9,     -999,9,     -999,9,     -999,9,     -999,9,     -999,9,  18.2286,    -999,9,       -999,9,    -999,9,    -999,9
 316N200310,        A22,       5,          1,          7,          7,2,20031025,       0257,    11.7577,   -65.9930,        800,   225.2,  16.7209,  36.2444,2,  36.2481,2,    143.8,2,   144.2,2,    3.68,2,   11.78,2,    0.01,2,    0.69,2,   2.016,6,   1.125,6,   0.042,6,    -999,9,    -999,9,    -999,9,     -999,9,    -999,9,    -999,9,    -999,9,    -999,   0.259,2,    -999,9,    -999,9,  225.20,      313,  11.7596, -65.9929,    -999,     -999,    -999,     -999,9,     -999,9,     -999,9,     -999,9,     -999,9,     -999,9,  16.6838,    -999,9,       -999,9,    -999,9,    -999,9
 316N200310,        A22,       5,          1,          6,          6,2,20031025,       0257,    11.7577,   -65.9930,        800,   276.2,  14.0589,  35.7727,2,  35.7705,2,    131.4,2,   130.9,2,    6.79,2,   17.90,2,    0.01,2,    1.08,2,   1.744,2,   0.950,2,   0.017,2,    -999,9,    -999,9,    -999,9,     -999,9,    -999,9,    -999,9,    -999,9,    -999,   0.254,2,    -999,9,    -999,9,  276.20,      311,  11.7593, -65.9930,    -999,     -999,    -999,     -999,9,     -999,9,     -999,9,     -999,9,     -999,9,     -999,9,  14.0185,    -999,9,       -999,9,    -999,9,    -999,9
 316N200310,        A22,       5,          1,          5,          5,2,20031025,       0257,    11.7577,   -65.9930,        800,   350.9,  11.2215,  35.2995,2,  35.2919,2,    122.3,2,   121.0,2,   11.01,2,   23.98,2,    0.00,2,    1.50,2,   1.290,2,   0.677,2,   0.008,2,    -999,9,    -999,9,    -999,9,     -999,9,    -999,9,    -999,9,    -999,9,    -999,   0.299,2,    -999,9,    -999,9,  350.90,      309,  11.7589, -65.9931,    -999,     -999,    -999,     -999,9,     -999,9,     -999,9,     -999,9,     -999,9,     -999,9,  11.1772,    -999,9,       -999,9,    -999,9,    -999,9
 316N200310,        A22,       5,          1,          4,          4,2,20031025,       0257,    11.7577,   -65.9930,        800,   451.0,   9.4771,  35.0419,2,  35.0388,2,    117.3,2,   118.4,2,   14.33,2,   27.79,2,    0.00,2,    1.76,2,   0.898,2,   0.483,2,   0.008,2,    -999,9,    -999,9,    -999,9,     -999,9,    -999,9,    -999,9,    -999,9,    -999,   0.305,2,    -999,9,    -999,9,  451.00,      306,  11.7586, -65.9932,    -999,     -999,    -999,     -999,9,     -999,9,     -999,9,     -999,9,     -999,9,     -999,9,   9.4257,    -999,9,       -999,9,    -999,9,    -999,9
 316N200310,        A22,       5,          1,          3,          3,2,20031025,       0257,    11.7577,   -65.9930,        800,   550.5,   8.0006,  34.8630,2,  34.8591,2,    118.9,2,   120.3,2,   18.15,2,   30.66,2,    0.00,2,    1.96,2,   0.554,2,   0.302,2,   0.009,2,    -999,9,    -999,9,    -999,9,     -999,9,    -999,9,    -999,9,    -999,9,    -999,   0.294,2,    -999,9,    -999,9,  550.50,      303,  11.7583, -65.9933,    -999,     -999,    -999,     -999,9,     -999,9,     -999,9,     -999,9,     -999,9,     -999,9,   7.9437,    -999,9,       -999,9,    -999,9,    -999,9
 316N200310,        A22,       5,          1,          2,          2,2,20031025,       0257,    11.7577,   -65.9930,        800,   675.6,   6.9314,  34.7765,2,  34.7742,2,    123.6,2,   125.1,2,   21.38,2,   32.19,2,    0.00,2,    2.09,2,   0.298,6,   0.177,6,   0.006,6,    -999,9,    -999,9,    -999,9,     -999,9,    -999,9,    -999,9,    -999,9,    -999,   0.218,6,    -999,9,    -999,9,  675.60,      300,  11.7579, -65.9932,    -999,     -999,    -999,     -999,9,     -999,9,     -999,9,     -999,9,     -999,9,     -999,9,   6.8666,    -999,9,       -999,9,    -999,9,    -999,9
 316N200310,        A22,       5,          1,          1,          1,2,20031025,       0257,    11.7577,   -65.9930,        800,   758.5,   6.2491,  34.7714,2,  34.7712,2,    133.3,2,   133.7,2,   23.59,2,   31.93,2,    0.00,2,    2.09,2,   0.008,2,   0.104,2,   0.002,2,    -999,9,    -999,9,    -999,9,     -999,9,    -999,9,    -999,9,    -999,9,    -999,   0.158,2,    -999,9,    -999,9,  758.50,      258,  11.7576, -65.9930,    -999,     -999,    -999,     -999,9,     -999,9,     -999,9,     -999,9,     -999,9,     -999,9,   6.1797,    -999,9,       -999,9,    -999,9,    -999,9