BOTTLE,20220517CCHSIOLMM
EXPOCODE,SECT_ID,STNNBR,CASTNO,SAMPNO,BTLNBR,BTLNBR_FLAG_W,DATE,TIME,LATITUDE,LONGITUDE,DEPTH,CTDPRS,CTDTMP,CTDSAL,CTDSAL_FLAG_W,SALNTY,SALNTY_FLAG_W,CTDOXY,CTDOXY_FLAG_W,OXYGEN,OXYGEN_FLAG_W,SILCAT,SILCAT_FLAG_W,NITRAT,NITRAT_FLAG_W,NITRIT,NITRIT_FLAG_W,PHSPHT,PHSPHT_FLAG_W,CFC-11,CFC-11_FLAG_W,CFC-12,CFC-12_FLAG_W,CFC113,CFC113_FLAG_W,TCARBN,TCARBN_FLAG_W,ALKALI,ALKALI_FLAG_W,TRITUM,TRITUM_FLAG_W,HELIUM,HELIUM_FLAG_W,DELHE3,DELHE3_FLAG_W,DELC13,DELC13_FLAG_W,DELC14,DELC14_FLAG_W,C14ERR,CCL4,CCL4_FLAG_W,DOC,DOC_FLAG_W,TDN,TDN_FLAG_W,CTDRAW,BTL_TIME,BTL_LAT,BTL_LON,TRITER,HELIER,DELHER,CDOM325,CDOM325_FLAG_W,CDOM340,CDOM340_FLAG_W,CDOM380,CDOM380_FLAG_W,CDOM412,CDOM412_FLAG_W,CDOMSL,CDOMSL_FLAG_W,CDOMSN,CDOMSN_FLAG_W,THETA,BACT,BACT_FLAG_W,PROC,PROC_FLAG_W,SYN,SYN_FLAG_W,PEUK,PEUK_FLAG_W
,,,,,,,,,,,METERS,DBAR,ITS-90,PSS-78,,PSS-78,,UMOL/KG,,UMOL/KG,,UMOL/KG,,UMOL/KG,,UMOL/KG,,UMOL/KG,,PMOL/KG,,PMOL/KG,,PMOL/KG,,UMOL/KG,,UMOL/KG,,TU,,NMOL/KG,,PERCNT,,/MILLE,,/MILLE,,/MILLE,PMOL/KG,,UMOL/KG,,UMOL/KG,,DBAR,,,,TU,NMOL/KG,PERCNT,1/M,,1/M,,1/M,,1/M,,1/NM,,1/NM,,DEG C,E8/L,,E7/L,,E6/L,,E6/L,
 316N200310,        A22,      12,          1,         36,         36,2,20031026,       1558,    14.3608,   -65.9940,       4895,     2.0,  29.8980,  33.7203,2,  33.7204,2,    182.3,2,   194.0,2,    4.50,2,   -0.01,2,    0.00,2,    0.02,2,   1.486,2,   0.937,2,   0.107,2,  1894.0,2,  2220.4,6,    -999,9,     -999,9,    -999,9,    1.40,2,    66.8,2,     3.6,    -999,9,    -999,5,    5.80,2,    2.00,     1808,  14.3735, -65.9806,    -999,     -999,    -999,   0.4380,2,   0.3150,2,   0.1400,2,   0.0760,2,   0.0190,2,   0.0200,2,  29.8975,    5.47,2,      10.23,2,   13.52,2,    0.62,2
 316N200310,        A22,      12,          1,         35,         35,2,20031026,       1558,    14.3608,   -65.9940,       4895,    24.4,  29.9240,  34.6199,2,  34.5675,2,    194.2,2,   194.7,2,    2.98,2,    0.04,2,    0.00,2,    0.02,2,   1.509,2,   0.947,2,   0.110,2,  1937.5,2,  2274.4,2,    -999,9,     -999,9,    -999,9,    -999,9,    -999,9,    -999,    -999,9,   76.30,2,    5.40,2,   24.40,     1806,  14.3735, -65.9809,    -999,     -999,    -999,   0.3610,2,   0.2630,2,   0.1190,2,   0.0670,2,   0.0190,2,   0.0200,2,  29.9179,    5.12,2,       6.00,2,   57.08,2,    0.93,2
 316N200310,        A22,      12,          1,         34,         34,2,20031026,       1558,    14.3608,   -65.9940,       4895,    49.9,  28.0038,  36.0727,2,  36.0770,2,    196.0,2,   192.9,2,    0.85,2,    0.06,2,    0.18,2,    0.05,2,   1.624,2,   1.026,2,   0.117,2,  2019.3,2,  2362.5,2,    -999,9,     -999,9,    -999,9,    -999,9,    -999,9,    -999,    -999,9,   63.10,2,    5.60,2,   49.90,     1804,  14.3734, -65.9812,    -999,     -999,    -999,   0.1520,2,   0.1080,2,   0.0490,2,   0.0320,2,   0.0180,2,   0.0200,2,  27.9920,    4.32,2,       3.62,2,   16.37,2,    2.25,2
 316N200310,        A22,      12,          1,         33,         33,2,20031026,       1558,    14.3608,   -65.9940,       4895,    74.9,  26.6391,  36.5217,2,  36.5345,2,    186.2,2,   185.1,2,    0.64,2,    0.47,2,    0.16,2,    0.07,2,   1.693,6,   1.054,6,   0.133,6,  2051.1,2,  2389.7,2,    -999,9,   1.7308,2,   -1.34,2,    -999,9,    -999,9,    -999,   0.730,2,   65.40,2,    5.70,2,   74.90,     1802,  14.3733, -65.9815,    -999,   0.0087,    0.15,   0.1240,2,   0.0890,2,   0.0420,2,   0.0300,2,   0.0170,2,   0.0190,2,  26.6220,    3.60,2,       1.64,2,    0.54,2,    1.17,2
 316N200310,        A22,      12,          1,         32,         32,2,20031026,       1558,    14.3608,   -65.9940,       4895,    99.8,  25.2015,  36.7666,2,  36.7754,2,    174.3,2,   175.0,2,    0.94,2,    1.81,2,    0.05,2,    0.14,2,   1.761,2,   1.065,2,   0.117,2,  2081.6,2,  2403.2,2,    -999,9,     -999,9,    -999,9,    -999,9,    -999,9,    -999,    -999,9,   64.00,2,    5.90,2,   99.80,     1800,  14.3731, -65.9817,    -999,     -999,    -999,   0.1320,2,   0.0960,2,   0.0470,2,   0.0350,2,   0.0150,2,   0.0170,2,  25.1796,    2.68,2,       0.74,2,    0.01,2,    1.72,2
 316N200310,        A22,      12,          1,         31,         31,2,20031026,       1558,    14.3608,   -65.9940,       4895,   124.6,  23.6372,  37.1300,2,  37.1084,2,    175.5,2,   174.1,2,    0.62,2,    2.22,2,    0.03,2,    0.15,2,   1.924,6,   1.147,6,   0.103,6,  2111.8,2,  2421.4,2,   0.813,2,   1.7902,2,   -0.24,2,    -999,9,    -999,9,    -999,    -999,9,   55.80,2,    5.80,2,  124.60,     1759,  14.3730, -65.9819,   0.014,   0.0090,    0.15,   0.1450,2,   0.1040,2,   0.0500,2,   0.0360,2,   0.0160,2,   0.0180,2,  23.6110,    1.54,2,       0.28,2,    0.03,2,    0.24,2
 316N200310,        A22,      12,          1,         30,         30,2,20031026,       1558,    14.3608,   -65.9940,       4895,   150.2,  21.5533,  36.9041,2,  36.9000,2,    155.9,2,   156.2,2,    1.32,2,    5.06,2,    0.02,2,    0.28,2,   1.986,2,   1.162,2,   0.031,2,  2136.3,2,  2408.4,2,   1.007,2,   1.7456,2,    0.25,2,    -999,9,    -999,9,    -999,    -999,9,   54.70,2,    8.50,2,  150.20,     1757,  14.3728, -65.9821,   0.014,   0.0087,    0.15,   0.1160,2,   0.0840,2,   0.0400,2,   0.0290,2,   0.0160,2,   0.0190,2,  21.5238,    1.71,2,       0.00,2,    0.00,2,    1.02,2
 316N200310,        A22,      12,          1,         29,         29,2,20031026,       1558,    14.3608,   -65.9940,       4895,   200.6,  18.9158,  36.5761,2,  36.5785,2,    151.6,2,   152.0,2,    2.12,2,    8.24,2,    0.01,2,    0.46,2,   2.084,2,   1.199,2,   0.022,2,  2146.5,2,  2386.3,2,   1.085,2,   1.7769,2,    2.36,2,    -999,9,    -999,9,    -999,    -999,9,   47.20,2,   12.00,2,  200.60,     1756,  14.3726, -65.9822,   0.015,   0.0089,    0.15,   0.1080,2,   0.0780,2,   0.0370,2,   0.0280,2,   0.0170,2,   0.0190,2,  18.8798,    1.10,2,       0.00,2,    0.00,2,    0.08,2
 316N200310,        A22,      12,          1,         28,         28,2,20031026,       1558,    14.3608,   -65.9940,       4895,   249.8,  16.8515,  36.2786,2,  36.2740,2,    150.4,2,   151.2,2,    3.11,2,   11.37,2,    0.01,2,    0.64,2,   2.055,2,   1.150,2,   0.011,2,  2150.0,2,  2369.3,2,   1.075,2,   1.7847,2,    4.05,2,    -999,9,    -999,9,    -999,    -999,9,   45.80,2,   14.70,2,  249.80,     1754,  14.3725, -65.9823,   0.015,   0.0089,    0.15,   0.1050,2,   0.0750,2,   0.0360,2,   0.0260,2,   0.0180,2,   0.0200,2,  16.8101,    -999,9,       -999,9,    -999,9,    -999,9
 316N200310,        A22,      12,          1,         27,         27,2,20031026,       1558,    14.3608,   -65.9940,       4895,   349.8,  12.9538,  35.5817,2,  35.5803,2,    126.8,2,   128.9,2,    7.93,2,   20.15,2,    0.00,2,    1.25,2,   1.565,2,   0.836,2,   0.011,2,  2178.7,2,  2334.5,2,   0.859,2,   1.8068,2,    5.26,2,    -999,9,    -999,9,    -999,    -999,9,   45.60,2,    -999,9,  349.80,     1751,  14.3721, -65.9824,   0.017,   0.0090,    0.15,   0.1180,2,   0.0840,2,   0.0430,2,   0.0320,2,   0.0150,2,   0.0170,2,  12.9052,    -999,9,       -999,9,    -999,9,    -999,9
 316N200310,        A22,      12,          1,         26,         26,2,20031026,       1558,    14.3608,   -65.9940,       4895,   450.5,  10.3231,  35.1733,2,  35.1754,2,    119.3,2,   121.2,2,   12.36,2,   25.68,2,    0.00,2,    1.63,2,   1.073,2,   0.562,2,   0.011,2,  2194.1,2,  2316.1,6,    -999,9,   1.8131,2,    5.41,2,    -999,9,    -999,9,    -999,    -999,9,   42.20,2,    -999,9,  450.50,     1748,  14.3720, -65.9825,    -999,   0.0091,    0.15,   0.1200,2,   0.0850,2,   0.0450,2,   0.0330,2,   0.0140,2,   0.0170,2,  10.2690,    -999,9,       -999,9,    -999,9,    -999,9
 316N200310,        A22,      12,          1,         25,         25,2,20031026,       1558,    14.3608,   -65.9940,       4895,   550.1,   9.0382,  35.0277,2,  35.0272,2,    119.8,2,   121.5,2,   15.28,2,   28.01,2,    0.00,2,    1.80,2,   0.738,2,   0.386,2,   0.005,2,  2201.0,2,  2310.8,2,   0.322,2,     -999,9,    -999,9,    -999,9,    -999,9,    -999,    -999,9,   43.70,2,    -999,9,  550.10,     1745,  14.3718, -65.9828,   0.012,     -999,    -999,   0.1340,2,   0.0960,2,   0.0510,2,   0.0380,2,   0.0140,2,   0.0160,2,   8.9771,    -999,9,       -999,9,    -999,9,    -999,9
 316N200310,        A22,      12,          1,         24,         24,2,20031026,       1558,    14.3608,   -65.9940,       4895,   649.8,   7.5346,  34.8388,2,  34.8379,2,    121.4,2,   122.7,2,   19.41,2,   30.96,2,    0.00,2,    2.02,2,   0.402,2,   0.218,2,   0.008,2,  2210.1,2,  2305.3,2,   0.261,2,   1.8098,2,    2.07,2,    -999,9,    -999,9,    -999,    -999,9,   41.20,2,    -999,9,  649.80,     1743,  14.3717, -65.9830,   0.012,   0.0090,    0.15,   0.1250,2,   0.0870,2,   0.0460,2,   0.0340,2,   0.0140,2,   0.0170,2,   7.4693,    -999,9,       -999,9,    -999,9,    -999,9
 316N200310,        A22,      12,          1,         23,         23,2,20031026,       1558,    14.3608,   -65.9940,       4895,   749.3,   6.5534,  34.7793,2,  34.7789,2,    130.1,2,   129.9,2,   22.43,2,   31.79,2,    0.00,2,    2.10,2,   0.210,2,   0.112,2,   0.004,2,  2214.2,2,  2305.2,2,   0.139,2,   1.8448,2,    0.44,2,    -999,9,    -999,9,    -999,    -999,9,   39.70,2,    -999,9,  749.30,     1740,  14.3715, -65.9833,   0.012,   0.0092,    0.15,   0.1280,2,   0.0920,2,   0.0500,2,   0.0370,2,   0.0130,2,   0.0160,2,   6.4832,    -999,9,       -999,9,    -999,9,    -999,9
 316N200310,        A22,      12,          1,         22,         22,2,20031026,       1558,    14.3608,   -65.9940,       4895,   849.9,   5.8974,  34.8270,2,  34.8285,2,    147.7,2,   146.4,2,   23.73,2,   30.05,2,    0.00,2,    2.00,2,   0.120,2,   0.066,2,   0.009,2,  2212.1,2,  2311.4,2,   0.093,2,   1.8217,2,    1.25,2,    -999,9,    -999,9,    -999,    -999,9,   39.90,2,    -999,9,  849.90,     1737,  14.3713, -65.9835,   0.016,   0.0091,    0.15,   0.1310,2,   0.0910,2,   0.0470,2,   0.0320,2,   0.0160,2,   0.0180,2,   5.8213,    -999,9,       -999,9,    -999,9,    -999,9
 316N200310,        A22,      12,          1,         21,         21,2,20031026,       1558,    14.3608,   -65.9940,       4895,   950.4,   5.4569,  34.9083,2,  34.9107,2,    172.2,2,   169.8,2,   23.62,2,   27.05,2,    0.00,2,    1.82,2,   0.105,2,   0.062,2,   0.009,2,  2203.3,2,  2319.4,2,   0.099,2,   1.8732,2,    0.39,2,    -999,9,    -999,9,    -999,    -999,9,    -999,9,    -999,9,  950.40,     1734,  14.3711, -65.9836,   0.012,   0.0094,    0.15,     -999,9,     -999,9,     -999,9,     -999,9,     -999,9,     -999,9,   5.3742,    -999,9,       -999,9,    -999,9,    -999,9
 316N200310,        A22,      12,          1,         20,         20,2,20031026,       1558,    14.3608,   -65.9940,       4895,  1076.0,   4.8593,  34.9466,2,  34.9475,2,    190.9,2,   190.2,2,   24.01,2,   24.82,2,    0.00,2,    1.68,2,   0.058,2,   0.038,2,   0.005,2,  2197.7,2,  2322.9,2,   0.062,2,   1.8548,2,   -0.16,2,    -999,9,    -999,9,    -999,    -999,9,   40.00,2,    -999,9, 1076.00,     1731,  14.3709, -65.9838,   0.012,   0.0093,    0.15,   0.1280,2,   0.0900,2,   0.0440,2,   0.0290,2,   0.0180,2,   0.0190,2,   4.7695,    -999,9,       -999,9,    -999,9,    -999,9
 316N200310,        A22,      12,          1,         19,         19,2,20031026,       1558,    14.3608,   -65.9940,       4895,  1225.9,   4.5450,  34.9595,2,  34.9597,2,    199.9,2,   199.7,2,   24.72,2,   23.82,2,    0.00,2,    1.61,2,   0.054,2,   0.035,2,   0.009,2,  2195.9,2,  2326.1,2,   0.034,2,   1.8813,2,   -0.38,2,    -999,9,    -999,9,    -999,    -999,9,    -999,9,    -999,9, 1225.90,     1728,  14.3709, -65.9840,   0.011,   0.0094,    0.15,     -999,9,     -999,9,     -999,9,     -999,9,     -999,9,     -999,9,   4.4442,    -999,9,       -999,9,    -999,9,    -999,9
 316N200310,        A22,      12,          1,         18,         18,2,20031026,       1558,    14.3608,   -65.9940,       4895,  1376.6,   4.3685,  34.9663,2,  34.9669,2,    205.0,2,   205.1,2,   25.41,2,   23.21,2,    0.00,2,    1.57,2,   0.041,2,   0.023,2,   0.003,2,  2195.6,2,  2328.6,2,   0.050,2,   1.8476,2,    0.04,2,    -999,9,    -999,9,    -999,    -999,9,   40.70,2,    -999,9, 1376.60,     1724,  14.3707, -65.9844,   0.011,   0.0092,    0.15,   0.1520,2,   0.1090,2,   0.0550,2,   0.0370,2,   0.0160,2,   0.0170,2,   4.2556,    -999,9,       -999,9,    -999,9,    -999,9
 316N200310,        A22,      12,          1,         17,         17,2,20031026,       1558,    14.3608,   -65.9940,       4895,  1525.4,   4.2594,  34.9704,2,  34.9699,2,    208.3,2,   208.7,2,   26.01,2,   22.81,2,    0.00,2,    1.55,2,   0.037,2,   0.017,2,   0.003,2,  2195.6,2,  2331.5,2,   0.033,2,   1.8561,2,   -0.30,2,    -999,9,    -999,9,    -999,    -999,9,    -999,9,    -999,9, 1525.40,     1720,  14.3706, -65.9849,   0.011,   0.0093,    0.15,     -999,9,     -999,9,     -999,9,     -999,9,     -999,9,     -999,9,   4.1339,    -999,9,       -999,9,    -999,9,    -999,9
 316N200310,        A22,      12,          1,         16,         16,2,20031026,       1558,    14.3608,   -65.9940,       4895,  1675.8,   4.1872,  34.9728,2,  34.9732,2,    210.4,2,   211.4,2,   26.31,2,   22.56,2,    0.00,2,    1.53,2,   0.046,2,   0.018,2,   0.005,2,  2195.1,2,  2332.6,2,   0.011,2,   1.8618,2,   -1.10,2,    -999,9,    -999,9,    -999,    -999,9,    -999,9,    -999,9, 1675.80,     1716,  14.3702, -65.9852,   0.011,   0.0093,    0.15,     -999,9,     -999,9,     -999,9,     -999,9,     -999,9,     -999,9,   4.0484,    -999,9,       -999,9,    -999,9,    -999,9
 316N200310,        A22,      12,          1,         15,         15,2,20031026,       1558,    14.3608,   -65.9940,       4895,  1828.2,   4.1442,  34.9737,2,  34.9752,2,    211.9,2,   212.6,2,   26.90,2,   22.46,2,    0.00,2,    1.53,2,   0.028,2,   0.021,2,   0.007,2,  2196.0,2,    -999,9,   0.072,2,   1.9275,2,   -1.63,2,    -999,9,    -999,9,    -999,    -999,9,   39.10,2,    -999,9, 1828.20,     1712,  14.3696, -65.9853,   0.013,   0.0096,    0.15,   0.1340,2,   0.0940,2,   0.0460,2,   0.0290,2,   0.0180,2,   0.0190,2,   3.9914,    -999,9,       -999,9,    -999,9,    -999,9
 316N200310,        A22,      12,          1,         14,         14,2,20031026,       1558,    14.3608,   -65.9940,       4895,  2001.1,   4.1212,  34.9746,2,  34.9764,2,    213.3,2,   213.8,2,   27.10,2,   22.25,2,    0.00,2,    1.51,2,   0.024,2,   0.019,2,   0.006,2,  2196.9,2,  2334.6,2,    -999,9,     -999,9,    -999,9,    -999,9,    -999,9,    -999,    -999,9,    -999,9,    -999,9, 2001.10,     1708,  14.3692, -65.9852,    -999,     -999,    -999,     -999,9,     -999,9,     -999,9,     -999,9,     -999,9,     -999,9,   3.9517,    -999,9,       -999,9,    -999,9,    -999,9
 316N200310,        A22,      12,          1,         13,         13,2,20031026,       1558,    14.3608,   -65.9940,       4895,  2201.1,   4.1121,  34.9753,2,  34.9764,2,    214.0,2,   214.6,2,   27.39,2,   22.20,2,    0.00,2,    1.50,2,   0.016,2,   0.017,2,   0.000,2,  2196.0,2,  2335.9,2,   0.015,2,   1.8724,2,   -1.76,2,    -999,9,    -999,9,    -999,    -999,9,    -999,9,    -999,9, 2201.10,     1704,  14.3686, -65.9853,   0.011,   0.0094,    0.15,     -999,9,     -999,9,     -999,9,     -999,9,     -999,9,     -999,9,   3.9228,    -999,9,       -999,9,    -999,9,    -999,9
 316N200310,        A22,      12,          1,         12,         12,2,20031026,       1558,    14.3608,   -65.9940,       4895,  2425.1,   4.1167,  34.9757,2,  34.9809,2,    214.7,2,   215.2,2,   27.59,2,   22.20,2,    0.00,2,    1.50,2,   0.015,2,   0.017,2,   0.003,2,  2196.4,2,  2337.9,2,    -999,9,     -999,9,    -999,9,    -999,9,    -999,9,    -999,    -999,9,   40.30,2,    -999,9, 2425.10,     1656,  14.3675, -65.9861,    -999,     -999,    -999,   0.1310,2,   0.0930,2,   0.0440,2,   0.0280,2,   0.0180,2,   0.0200,2,   3.9041,    -999,9,       -999,9,    -999,9,    -999,9
 316N200310,        A22,      12,          1,         11,         11,2,20031026,       1558,    14.3608,   -65.9940,       4895,  2673.2,   4.1315,  34.9761,2,  34.9760,2,    214.8,2,   215.3,2,   27.77,2,   22.16,2,    0.00,2,    1.51,2,   0.021,2,   0.019,2,   0.000,2,  2196.4,2,  2336.8,2,   0.024,2,   1.9091,2,   -1.86,2,    -999,9,    -999,9,    -999,    -999,9,    -999,9,    -999,9, 2673.20,     1651,  14.3669, -65.9868,   0.011,   0.0095,    0.15,     -999,9,     -999,9,     -999,9,     -999,9,     -999,9,     -999,9,   3.8923,    -999,9,       -999,9,    -999,9,    -999,9
 316N200310,        A22,      12,          1,         10,         10,2,20031026,       1558,    14.3608,   -65.9940,       4895,  2926.6,   4.1532,  34.9762,2,  34.9772,2,    215.0,2,   215.3,2,   28.06,2,   22.11,2,    0.00,2,    1.50,2,   0.026,2,   0.024,2,   0.001,2,  2196.3,2,  2337.4,2,    -999,9,     -999,9,    -999,9,    -999,9,    -999,9,    -999,    -999,9,   40.00,2,    -999,9, 2926.60,     1646,  14.3665, -65.9882,    -999,     -999,    -999,   0.1420,2,   0.1000,2,   0.0490,2,   0.0320,2,   0.0170,2,   0.0190,2,   3.8859,    -999,9,       -999,9,    -999,9,    -999,9
 316N200310,        A22,      12,          1,          9,          9,2,20031026,       1558,    14.3608,   -65.9940,       4895,  3276.8,   4.1881,  34.9765,2,  34.9764,2,    215.4,2,   215.7,2,   28.16,2,   22.15,2,    0.00,2,    1.50,2,   0.043,2,   0.032,2,   0.008,2,  2197.0,2,  2337.9,2,   0.013,2,   1.8984,2,   -0.84,2,    -999,9,    -999,9,    -999,    -999,9,    -999,9,    -999,9, 3276.80,     1639,  14.3657, -65.9885,   0.011,   0.0095,    0.15,     -999,9,     -999,9,     -999,9,     -999,9,     -999,9,     -999,9,   3.8801,    -999,9,       -999,9,    -999,9,    -999,9
 316N200310,        A22,      12,          1,          8,          8,2,20031026,       1558,    14.3608,   -65.9940,       4895,  3524.8,   4.2148,  34.9768,2,  34.9778,2,    215.5,2,   215.7,2,   28.05,2,   22.11,2,    0.00,2,    1.49,2,   0.022,2,   0.023,2,   0.002,2,  2197.2,2,  2337.7,2,    -999,9,     -999,9,    -999,9,    -999,9,    -999,9,    -999,    -999,9,   40.20,2,    -999,9, 3524.80,     1633,  14.3650, -65.9888,    -999,     -999,    -999,   0.1360,2,   0.0960,2,   0.0470,2,   0.0300,2,   0.0180,2,   0.0190,2,   3.8770,    -999,9,       -999,9,    -999,9,    -999,9
 316N200310,        A22,      12,          1,          7,          7,2,20031026,       1558,    14.3608,   -65.9940,       4895,  3774.3,   4.2435,  34.9769,2,  34.9764,2,    215.8,2,   216.0,2,   28.24,2,   22.06,2,    0.00,2,    1.49,2,   0.026,2,   0.023,2,   0.005,2,  2197.1,2,  2339.4,2,   0.031,2,   1.8984,2,   -1.84,2,    -999,9,    -999,9,    -999,    -999,9,    -999,9,    -999,9, 3774.30,     1628,  14.3645, -65.9897,   0.011,   0.0095,    0.15,     -999,9,     -999,9,     -999,9,     -999,9,     -999,9,     -999,9,   3.8748,    -999,9,       -999,9,    -999,9,    -999,9
 316N200310,        A22,      12,          1,          6,          6,2,20031026,       1558,    14.3608,   -65.9940,       4895,  3999.7,   4.2705,  34.9772,2,  34.9799,2,    216.2,2,   216.5,2,   28.13,2,   22.06,2,    0.00,2,    1.49,2,   0.047,2,   0.035,2,   0.003,2,  2196.1,2,  2337.8,2,    -999,9,     -999,9,    -999,9,    -999,9,    -999,9,    -999,    -999,9,   41.30,2,    -999,9, 3999.70,     1624,  14.3640, -65.9905,    -999,     -999,    -999,   0.1420,2,   0.1000,2,   0.0490,2,   0.0320,2,   0.0170,2,   0.0190,2,   3.8732,    -999,9,       -999,9,    -999,9,    -999,9
 316N200310,        A22,      12,          1,          5,          5,2,20031026,       1558,    14.3608,   -65.9940,       4895,  4199.2,   4.2949,  34.9774,2,  34.9782,2,    216.7,2,   216.9,2,   28.22,2,   22.01,2,    0.00,2,    1.48,2,   0.035,2,   0.022,2,   0.000,2,  2196.9,2,  2336.5,2,   0.009,2,   1.9470,2,   -1.56,2,    -999,9,    -999,9,    -999,    -999,9,    -999,9,    -999,9, 4199.20,     1619,  14.3635, -65.9911,   0.011,   0.0097,    0.15,     -999,9,     -999,9,     -999,9,     -999,9,     -999,9,     -999,9,   3.8717,    -999,9,       -999,9,    -999,9,    -999,9