BOTTLE,20220517CCHSIOLMM
EXPOCODE,SECT_ID,STNNBR,CASTNO,SAMPNO,BTLNBR,BTLNBR_FLAG_W,DATE,TIME,LATITUDE,LONGITUDE,DEPTH,CTDPRS,CTDTMP,CTDSAL,CTDSAL_FLAG_W,SALNTY,SALNTY_FLAG_W,CTDOXY,CTDOXY_FLAG_W,OXYGEN,OXYGEN_FLAG_W,SILCAT,SILCAT_FLAG_W,NITRAT,NITRAT_FLAG_W,NITRIT,NITRIT_FLAG_W,PHSPHT,PHSPHT_FLAG_W,CFC-11,CFC-11_FLAG_W,CFC-12,CFC-12_FLAG_W,CFC113,CFC113_FLAG_W,TCARBN,TCARBN_FLAG_W,ALKALI,ALKALI_FLAG_W,TRITUM,TRITUM_FLAG_W,HELIUM,HELIUM_FLAG_W,DELHE3,DELHE3_FLAG_W,DELC13,DELC13_FLAG_W,DELC14,DELC14_FLAG_W,C14ERR,CCL4,CCL4_FLAG_W,DOC,DOC_FLAG_W,TDN,TDN_FLAG_W,CTDRAW,BTL_TIME,BTL_LAT,BTL_LON,TRITER,HELIER,DELHER,CDOM325,CDOM325_FLAG_W,CDOM340,CDOM340_FLAG_W,CDOM380,CDOM380_FLAG_W,CDOM412,CDOM412_FLAG_W,CDOMSL,CDOMSL_FLAG_W,CDOMSN,CDOMSN_FLAG_W,THETA,BACT,BACT_FLAG_W,PROC,PROC_FLAG_W,SYN,SYN_FLAG_W,PEUK,PEUK_FLAG_W
,,,,,,,,,,,METERS,DBAR,ITS-90,PSS-78,,PSS-78,,UMOL/KG,,UMOL/KG,,UMOL/KG,,UMOL/KG,,UMOL/KG,,UMOL/KG,,PMOL/KG,,PMOL/KG,,PMOL/KG,,UMOL/KG,,UMOL/KG,,TU,,NMOL/KG,,PERCNT,,/MILLE,,/MILLE,,/MILLE,PMOL/KG,,UMOL/KG,,UMOL/KG,,DBAR,,,,TU,NMOL/KG,PERCNT,1/M,,1/M,,1/M,,1/M,,1/NM,,1/NM,,DEG C,E8/L,,E7/L,,E6/L,,E6/L,
 316N200310,        A22,      53,          1,          4,          4,2,20031105,       2112,    31.5685,   -65.9902,       4860,  4124.7,   2.2568,  34.8932,2,  34.8938,2,    264.4,2,   264.6,2,   31.41,2,   18.69,2,    0.00,2,    1.25,2,   0.434,2,   0.222,2,   0.026,2,  2172.7,2,  2331.1,2,    -999,9,     -999,9,    -999,9,    -999,9,    -999,9,    -999,    -999,9,   42.10,2,    -999,9, 4124.70,     2130,  31.5702, -65.9880,    -999,     -999,    -999,     -999,9,     -999,9,     -999,9,     -999,9,     -999,9,     -999,9,   1.9011,    -999,9,       -999,9,    -999,9,    -999,9
 316N200310,        A22,      53,          1,          3,          3,2,20031105,       2112,    31.5685,   -65.9902,       4860,  4375.7,   2.2412,  34.8886,2,  34.8882,2,    262.8,2,   262.5,2,   34.10,2,   19.05,2,    0.00,2,    1.29,2,   0.396,2,   0.204,2,   0.023,2,    -999,9,    -999,9,   0.211,2,   1.9122,2,    2.61,2,    -999,9,    -999,9,    -999,    -999,9,    -999,9,    -999,9, 4375.70,     2124,  31.5696, -65.9886,   0.011,   0.0096,    0.15,     -999,9,     -999,9,     -999,9,     -999,9,     -999,9,     -999,9,   1.8567,    -999,9,       -999,9,    -999,9,    -999,9
 316N200310,        A22,      53,          1,          2,          2,2,20031105,       2112,    31.5685,   -65.9902,       4860,  4625.6,   2.2295,  34.8837,2,  34.8831,2,    260.5,2,   260.4,2,   36.89,2,   19.56,2,    0.00,2,    1.32,2,   0.346,2,   0.179,2,   0.024,2,    -999,9,    -999,9,    -999,9,     -999,9,    -999,9,    -999,9,    -999,9,    -999,    -999,9,    -999,9,    -999,9, 4625.60,     2119,  31.5690, -65.9894,    -999,     -999,    -999,     -999,9,     -999,9,     -999,9,     -999,9,     -999,9,     -999,9,   1.8154,    -999,9,       -999,9,    -999,9,    -999,9
 316N200310,        A22,      53,          1,          1,          1,2,20031105,       2112,    31.5685,   -65.9902,       4860,  4944.5,   2.2037,  34.8758,2,  34.8751,2,    256.7,2,   257.0,2,   41.69,2,   20.43,2,    0.00,2,    1.38,2,   0.208,2,   0.117,2,   0.017,2,  2188.7,2,  2338.4,6,   0.135,2,   1.9002,2,    1.86,2,    -999,9,    -999,9,    -999,    -999,9,   42.50,2,    -999,9, 4944.50,     2113,  31.5685, -65.9901,   0.011,   0.0095,    0.15,     -999,9,     -999,9,     -999,9,     -999,9,     -999,9,     -999,9,   1.7513,    -999,9,       -999,9,    -999,9,    -999,9