BOTTLE,20220517CCHSIOLMM
EXPOCODE,SECT_ID,STNNBR,CASTNO,SAMPNO,BTLNBR,BTLNBR_FLAG_W,DATE,TIME,LATITUDE,LONGITUDE,DEPTH,CTDPRS,CTDTMP,CTDSAL,CTDSAL_FLAG_W,SALNTY,SALNTY_FLAG_W,CTDOXY,CTDOXY_FLAG_W,OXYGEN,OXYGEN_FLAG_W,SILCAT,SILCAT_FLAG_W,NITRAT,NITRAT_FLAG_W,NITRIT,NITRIT_FLAG_W,PHSPHT,PHSPHT_FLAG_W,CFC-11,CFC-11_FLAG_W,CFC-12,CFC-12_FLAG_W,CFC113,CFC113_FLAG_W,TCARBN,TCARBN_FLAG_W,ALKALI,ALKALI_FLAG_W,TRITUM,TRITUM_FLAG_W,HELIUM,HELIUM_FLAG_W,DELHE3,DELHE3_FLAG_W,DELC13,DELC13_FLAG_W,DELC14,DELC14_FLAG_W,C14ERR,CCL4,CCL4_FLAG_W,DOC,DOC_FLAG_W,TDN,TDN_FLAG_W,CTDRAW,BTL_TIME,BTL_LAT,BTL_LON,TRITER,HELIER,DELHER,CDOM325,CDOM325_FLAG_W,CDOM340,CDOM340_FLAG_W,CDOM380,CDOM380_FLAG_W,CDOM412,CDOM412_FLAG_W,CDOMSL,CDOMSL_FLAG_W,CDOMSN,CDOMSN_FLAG_W,THETA,BACT,BACT_FLAG_W,PROC,PROC_FLAG_W,SYN,SYN_FLAG_W,PEUK,PEUK_FLAG_W
,,,,,,,,,,,METERS,DBAR,ITS-90,PSS-78,,PSS-78,,UMOL/KG,,UMOL/KG,,UMOL/KG,,UMOL/KG,,UMOL/KG,,UMOL/KG,,PMOL/KG,,PMOL/KG,,PMOL/KG,,UMOL/KG,,UMOL/KG,,TU,,NMOL/KG,,PERCNT,,/MILLE,,/MILLE,,/MILLE,PMOL/KG,,UMOL/KG,,UMOL/KG,,DBAR,,,,TU,NMOL/KG,PERCNT,1/M,,1/M,,1/M,,1/M,,1/NM,,1/NM,,DEG C,E8/L,,E7/L,,E6/L,,E6/L,
 316N200310,        A22,      36,          1,         36,         36,2,20031031,       1352,    20.3742,   -66.0127,       5797,     3.2,  29.1241,  35.4729,2,  35.4665,2,    176.6,2,   195.0,2,    1.03,2,    0.10,2,    0.00,2,    0.01,2,   1.548,2,   0.905,2,   0.104,2,  1975.5,2,  2334.9,6,    -999,9,     -999,9,    -999,9,    1.40,2,    71.6,2,     2.8,   1.610,2,   76.20,2,    5.80,2,    3.20,     1621,  20.3931, -66.0251,    -999,     -999,    -999,   0.0590,2,   0.0360,2,   0.0110,2,   0.0060,2,   0.0320,2,   0.0330,2,  29.1233,    2.48,2,       1.89,2,    5.45,2,    0.34,2
 316N200310,        A22,      36,          1,         35,         35,2,20031031,       1352,    20.3742,   -66.0127,       5797,    24.9,  29.2083,  36.4889,2,  36.4907,2,    199.2,2,   196.2,2,    1.23,2,    0.10,2,    0.00,2,    0.01,2,   1.554,2,   0.912,2,   0.079,2,  2017.4,2,  2392.1,2,    -999,9,     -999,9,    -999,9,    -999,9,    -999,9,    -999,   1.507,2,   77.10,2,    5.10,2,   24.90,     1618,  20.3927, -66.0249,    -999,     -999,    -999,   0.0460,2,   0.0280,2,   0.0080,2,   0.0050,2,   0.0340,2,   0.0340,2,  29.2023,    2.83,2,       3.93,2,    1.25,2,    0.23,2
 316N200310,        A22,      36,          1,         34,         34,2,20031031,       1352,    20.3742,   -66.0127,       5797,    75.0,  27.8468,  36.6237,2,  36.6189,2,    205.0,2,   208.3,2,    1.23,2,    0.10,2,    0.00,2,    0.01,2,   1.683,2,   1.006,2,   0.063,2,  2021.9,2,  2399.7,2,    -999,9,     -999,9,    -999,9,    -999,9,    -999,9,    -999,   1.183,2,   81.60,2,    5.00,2,   75.00,     1615,  20.3923, -66.0246,    -999,     -999,    -999,   0.0920,2,   0.0590,2,   0.0200,2,   0.0120,2,   0.0290,2,   0.0300,2,  27.8291,    3.42,2,       8.35,2,    1.39,2,    0.35,2
 316N200310,        A22,      36,          1,         33,         33,2,20031031,       1352,    20.3742,   -66.0127,       5797,   126.2,  25.6200,  37.1682,2,  37.1636,2,    196.8,2,   196.5,2,    0.83,2,    0.17,2,    0.13,2,    0.01,2,   1.812,2,   1.102,2,   0.105,2,  2072.7,2,  2436.2,2,    -999,9,     -999,9,    -999,9,    -999,9,    -999,9,    -999,   0.806,2,   72.00,2,    5.40,2,  126.20,     1613,  20.3919, -66.0243,    -999,     -999,    -999,   0.1100,2,   0.0760,2,   0.0320,2,   0.0230,2,   0.0230,2,   0.0240,2,  25.5919,    1.86,2,       3.69,2,    0.06,2,    1.13,2
 316N200310,        A22,      36,          1,         32,         32,2,20031031,       1352,    20.3742,   -66.0127,       5797,   175.5,  23.6644,  37.2375,2,  37.2332,2,    187.7,2,   184.3,2,    0.63,2,    0.99,2,    0.03,2,    0.04,2,   1.939,2,   1.186,2,   0.101,2,  2106.3,2,  2431.9,2,    -999,9,     -999,9,    -999,9,    -999,9,    -999,9,    -999,   0.420,2,   64.40,2,    4.70,2,  175.50,     1611,  20.3916, -66.0242,    -999,     -999,    -999,   0.1170,2,   0.0840,2,   0.0380,2,   0.0270,2,   0.0190,2,   0.0200,2,  23.6274,    1.16,2,       0.11,2,    0.00,2,    0.26,2
 316N200310,        A22,      36,          1,         31,         31,2,20031031,       1352,    20.3742,   -66.0127,       5797,   225.8,  20.8933,  36.9596,2,  36.9618,2,    172.4,2,   171.3,2,    0.93,2,    2.70,2,    0.01,2,    0.11,2,   2.131,2,   1.289,2,   0.028,2,  2127.7,2,  2415.2,2,    -999,9,     -999,9,    -999,9,    -999,9,    -999,9,    -999,   0.207,2,   57.40,2,    6.60,2,  225.80,     1609,  20.3913, -66.0240,    -999,     -999,    -999,   0.1060,2,   0.0770,2,   0.0360,2,   0.0270,2,   0.0180,2,   0.0200,2,  20.8498,    -999,9,       -999,9,    -999,9,    -999,9
 316N200310,        A22,      36,          1,         30,         30,2,20031031,       1352,    20.3742,   -66.0127,       5797,   274.3,  19.0512,  36.6743,2,  36.6725,2,    176.0,2,   181.6,2,    1.13,2,    3.87,2,    0.01,2,    0.16,2,   2.279,2,   1.332,2,   0.009,2,  2117.6,2,  2394.0,2,    -999,9,     -999,9,    -999,9,    -999,9,    -999,9,    -999,   0.271,2,   48.10,2,    7.00,2,  274.30,     1608,  20.3910, -66.0238,    -999,     -999,    -999,   0.0960,2,   0.0690,2,   0.0310,2,   0.0220,2,   0.0210,2,   0.0220,2,  19.0016,    -999,9,       -999,9,    -999,9,    -999,9
 316N200310,        A22,      36,          1,         29,         29,2,20031031,       1352,    20.3742,   -66.0127,       5797,   351.2,  17.5431,  36.4509,2,  36.4499,2,    184.8,2,   184.1,2,    1.82,2,    6.41,2,    0.00,2,    0.32,2,   2.332,2,   1.324,2,   0.019,2,  2120.8,2,  2381.7,2,    -999,9,     -999,9,    -999,9,    -999,9,    -999,9,    -999,   0.346,2,   50.00,2,    -999,9,  351.20,     1605,  20.3906, -66.0235,    -999,     -999,    -999,   0.0920,2,   0.0650,2,   0.0290,2,   0.0200,2,   0.0220,2,   0.0220,2,  17.4830,    -999,9,       -999,9,    -999,9,    -999,9
 316N200310,        A22,      36,          1,         28,         28,2,20031031,       1352,    20.3742,   -66.0127,       5797,   450.7,  15.3278,  36.0779,2,  36.0786,2,    161.2,2,   160.6,2,    4.02,2,   12.37,2,    0.00,2,    0.69,2,   2.105,2,   1.137,2,   0.018,2,  2148.4,2,  2359.9,2,    -999,9,     -999,9,    -999,9,    -999,9,    -999,9,    -999,   0.299,2,    -999,9,    -999,9,  450.70,     1603,  20.3902, -66.0233,    -999,     -999,    -999,     -999,9,     -999,9,     -999,9,     -999,9,     -999,9,     -999,9,  15.2574,    -999,9,       -999,9,    -999,9,    -999,9
 316N200310,        A22,      36,          1,         27,         27,2,20031031,       1352,    20.3742,   -66.0127,       5797,   575.3,  12.6853,  35.6455,2,  35.6441,2,    144.8,2,   145.0,2,    7.52,2,   18.49,2,    0.00,2,    1.09,2,   1.571,2,   0.821,2,   0.013,2,  2170.6,2,  2338.8,2,    -999,9,     -999,9,    -999,9,    -999,9,    -999,9,    -999,   0.266,2,   43.60,2,    -999,9,  575.30,     1559,  20.3897, -66.0229,    -999,     -999,    -999,   0.1130,2,   0.0790,2,   0.0380,2,   0.0270,2,   0.0180,2,   0.0200,2,  12.6058,    -999,9,       -999,9,    -999,9,    -999,9
 316N200310,        A22,      36,          1,         26,         26,2,20031031,       1352,    20.3742,   -66.0127,       5797,   700.3,   9.8061,  35.2153,2,  35.2168,2,    134.5,2,   132.2,2,   13.34,2,   25.24,2,    0.00,2,    1.56,2,   0.987,4,   0.867,4,   0.066,4,  2191.1,2,  2321.7,6,    -999,9,     -999,9,    -999,9,    -999,9,    -999,9,    -999,   0.291,4,   45.40,2,    -999,9,  700.30,     1556,  20.3892, -66.0226,    -999,     -999,    -999,   0.1200,2,   0.0820,2,   0.0400,2,   0.0280,2,   0.0180,2,   0.0200,2,   9.7235,    -999,9,       -999,9,    -999,9,    -999,9
 316N200310,        A22,      36,          1,         25,         25,2,20031031,       1352,    20.3742,   -66.0127,       5797,   825.4,   8.0384,  35.0405,2,  35.0409,2,    135.6,2,   135.1,2,   17.67,2,   27.92,2,    0.00,2,    1.77,2,   0.355,2,   0.201,2,   0.004,2,  2202.1,2,  2317.5,2,    -999,9,     -999,9,    -999,9,    -999,9,    -999,9,    -999,   0.150,2,    -999,9,    -999,9,  825.40,     1552,  20.3887, -66.0222,    -999,     -999,    -999,     -999,9,     -999,9,     -999,9,     -999,9,     -999,9,     -999,9,   7.9513,    -999,9,       -999,9,    -999,9,    -999,9
 316N200310,        A22,      36,          1,         24,         24,2,20031031,       1352,    20.3742,   -66.0127,       5797,   950.0,   6.8064,  34.9854,2,  34.9845,2,    150.4,2,   153.0,2,   19.38,2,   27.30,2,    0.00,2,    1.77,2,   0.241,2,   0.128,2,   0.005,2,  2202.0,2,  2315.0,2,    -999,9,     -999,9,    -999,9,    -999,9,    -999,9,    -999,   0.183,2,   42.10,2,    -999,9,  950.00,     1549,  20.3882, -66.0220,    -999,     -999,    -999,   0.1170,2,   0.0810,2,   0.0390,2,   0.0270,2,   0.0180,2,   0.0200,2,   6.7140,    -999,9,       -999,9,    -999,9,    -999,9
 316N200310,        A22,      36,          1,         23,         23,2,20031031,       1352,    20.3742,   -66.0127,       5797,  1125.9,   5.8312,  35.0460,2,  35.0455,2,    194.5,2,   198.1,2,   16.06,2,   22.49,2,    0.00,2,    1.46,2,   0.523,2,   0.265,2,   0.011,2,  2184.4,2,  2315.8,2,    -999,9,     -999,9,    -999,9,    -999,9,    -999,9,    -999,   0.580,2,   41.80,2,    -999,9, 1125.90,     1545,  20.3876, -66.0216,    -999,     -999,    -999,   0.1210,2,   0.0840,2,   0.0400,2,   0.0260,2,   0.0190,2,   0.0210,2,   5.7284,    -999,9,       -999,9,    -999,9,    -999,9
 316N200310,        A22,      36,          1,         22,         22,2,20031031,       1352,    20.3742,   -66.0127,       5797,  1250.6,   5.1740,  35.0532,2,  35.0527,2,    225.4,2,   224.8,2,   14.14,2,   20.23,2,    0.00,2,    1.31,2,   0.657,2,   0.351,2,   0.035,2,  2174.4,2,  2316.3,2,    -999,9,     -999,9,    -999,9,    -999,9,    -999,9,    -999,   0.934,2,   42.40,2,    -999,9, 1250.60,     1542,  20.3871, -66.0212,    -999,     -999,    -999,     -999,9,     -999,9,     -999,9,     -999,9,     -999,9,     -999,9,   5.0648,    -999,9,       -999,9,    -999,9,    -999,9
 316N200310,        A22,      36,          1,         21,         21,2,20031031,       1352,    20.3742,   -66.0127,       5797,  1426.0,   4.5323,  35.0223,2,  35.0238,2,    247.3,2,   247.0,2,   12.83,2,   18.72,2,    0.00,2,    1.20,2,   1.140,2,   0.575,2,   0.039,2,  2166.6,2,  2311.7,2,    -999,9,     -999,9,    -999,9,    -999,9,    -999,9,    -999,   1.530,2,    -999,9,    -999,9, 1426.00,     1538,  20.3866, -66.0209,    -999,     -999,    -999,     -999,9,     -999,9,     -999,9,     -999,9,     -999,9,     -999,9,   4.4130,    -999,9,       -999,9,    -999,9,    -999,9
 316N200310,        A22,      36,          1,         20,         20,2,20031031,       1352,    20.3742,   -66.0127,       5797,  1576.9,   4.1642,  34.9972,2,  34.9965,2,    257.1,2,   255.0,2,   13.04,2,   18.32,2,    0.00,2,    1.19,2,   1.098,2,   0.560,2,   0.040,2,  2161.2,2,  2315.3,2,    -999,9,     -999,9,    -999,9,    -999,9,    -999,9,    -999,   1.580,2,   43.50,2,    -999,9, 1576.90,     1534,  20.3860, -66.0205,    -999,     -999,    -999,   0.1250,2,   0.0870,2,   0.0400,2,   0.0270,2,   0.0190,2,   0.0210,2,   4.0349,    -999,9,       -999,9,    -999,9,    -999,9
 316N200310,        A22,      36,          1,         19,         19,2,20031031,       1352,    20.3742,   -66.0127,       5797,  1726.1,   3.9062,  34.9815,2,  34.9825,2,    260.8,2,   259.5,2,   13.64,2,   18.17,2,    0.00,2,    1.17,2,   1.056,2,   0.524,2,   0.040,2,  2161.4,2,  2311.3,2,    -999,9,     -999,9,    -999,9,    -999,9,    -999,9,    -999,   1.561,2,    -999,9,    -999,9, 1726.10,     1530,  20.3856, -66.0202,    -999,     -999,    -999,     -999,9,     -999,9,     -999,9,     -999,9,     -999,9,     -999,9,   3.7662,    -999,9,       -999,9,    -999,9,    -999,9
 316N200310,        A22,      36,          1,         18,         18,2,20031031,       1352,    20.3742,   -66.0127,       5797,  1901.2,   3.6117,  34.9704,2,  34.9709,2,    262.8,2,   262.3,2,   15.14,2,   18.12,2,    0.00,2,    1.18,2,   0.843,2,   0.430,2,   0.035,2,  2160.9,2,  2313.2,3,    -999,9,     -999,9,    -999,9,    -999,9,    -999,9,    -999,   1.359,2,    -999,9,    -999,9, 1901.20,     1526,  20.3850, -66.0198,    -999,     -999,    -999,     -999,9,     -999,9,     -999,9,     -999,9,     -999,9,     -999,9,   3.4593,    -999,9,       -999,9,    -999,9,    -999,9
 316N200310,        A22,      36,          1,         17,         17,2,20031031,       1352,    20.3742,   -66.0127,       5797,  2127.1,   3.3603,  34.9646,2,  34.9656,2,    262.3,2,   261.8,2,   17.45,2,   18.26,2,    0.00,2,    1.20,2,   0.547,2,   0.290,2,   0.015,2,  2162.0,2,  2316.1,2,    -999,9,     -999,9,    -999,9,    -999,9,    -999,9,    -999,   0.997,2,   43.70,2,    -999,9, 2127.10,     1520,  20.3844, -66.0193,    -999,     -999,    -999,   0.1240,2,   0.0860,2,   0.0400,2,   0.0260,2,   0.0200,2,   0.0210,2,   3.1903,    -999,9,       -999,9,    -999,9,    -999,9
 316N200310,        A22,      36,          1,         16,         16,2,20031031,       1352,    20.3742,   -66.0127,       5797,  2377.2,   3.1391,  34.9540,2,  34.9553,2,    262.3,2,   262.2,2,   19.48,2,   18.30,2,    0.00,2,    1.20,2,   0.463,2,   0.237,2,   0.012,2,  2163.2,2,  2317.1,2,    -999,9,     -999,9,    -999,9,    -999,9,    -999,9,    -999,   0.863,2,    -999,9,    -999,9, 2377.20,     1515,  20.3836, -66.0188,    -999,     -999,    -999,     -999,9,     -999,9,     -999,9,     -999,9,     -999,9,     -999,9,   2.9486,    -999,9,       -999,9,    -999,9,    -999,9
 316N200310,        A22,      36,          1,         15,         15,2,20031031,       1352,    20.3742,   -66.0127,       5797,  2626.2,   2.8579,  34.9382,2,  34.9392,2,    263.8,2,   263.8,2,   21.59,2,   18.30,2,    0.00,2,    1.21,2,   0.458,2,   0.247,2,   0.016,2,  2164.9,2,  2318.9,2,    -999,9,     -999,9,    -999,9,    -999,9,    -999,9,    -999,   0.831,2,   41.50,2,    -999,9, 2626.20,     1509,  20.3829, -66.0183,    -999,     -999,    -999,   0.1190,2,   0.0830,2,   0.0370,2,   0.0240,3,   0.0200,2,   0.0220,2,   2.6482,    -999,9,       -999,9,    -999,9,    -999,9
 316N200310,        A22,      36,          1,         14,         14,2,20031031,       1352,    20.3742,   -66.0127,       5797,  2878.8,   2.6395,  34.9244,2,  34.9246,2,    265.6,2,   266.8,2,   22.80,2,   18.25,2,    0.00,2,    1.20,2,   0.541,6,   0.269,6,   0.014,6,  2164.7,2,  2322.7,2,    -999,9,     -999,9,    -999,9,    -999,9,    -999,9,    -999,   0.941,6,    -999,9,    -999,9, 2878.80,     1504,  20.3821, -66.0180,    -999,     -999,    -999,     -999,9,     -999,9,     -999,9,     -999,9,     -999,9,     -999,9,   2.4089,    -999,9,       -999,9,    -999,9,    -999,9
 316N200310,        A22,      36,          1,         13,         13,2,20031031,       1352,    20.3742,   -66.0127,       5797,  3126.3,   2.4876,  34.9143,2,  34.9162,2,    266.7,2,   267.1,2,   24.12,2,   18.20,2,    0.00,2,    1.20,2,   0.584,2,   0.303,2,   0.022,2,  2166.4,2,  2323.1,2,    -999,9,     -999,9,    -999,9,    -999,9,    -999,9,    -999,   1.047,2,   41.30,2,    -999,9, 3126.30,     1459,  20.3813, -66.0178,    -999,     -999,    -999,   0.1290,2,   0.0900,2,   0.0410,2,   0.0270,2,   0.0190,2,   0.0210,2,   2.2350,    -999,9,       -999,9,    -999,9,    -999,9
 316N200310,        A22,      36,          1,         12,         12,2,20031031,       1352,    20.3742,   -66.0127,       5797,  3375.6,   2.3850,  34.9068,2,  34.9067,2,    267.0,2,   267.3,2,   25.83,2,   18.30,2,    0.00,2,    1.21,2,   0.614,2,   0.320,2,   0.025,2,  2168.9,2,  2325.7,2,    -999,9,     -999,9,    -999,9,    -999,9,    -999,9,    -999,   1.095,2,    -999,9,    -999,9, 3375.60,     1453,  20.3805, -66.0176,    -999,     -999,    -999,     -999,9,     -999,9,     -999,9,     -999,9,     -999,9,     -999,9,   2.1088,    -999,9,       -999,9,    -999,9,    -999,9
 316N200310,        A22,      36,          1,         11,         11,2,20031031,       1352,    20.3742,   -66.0127,       5797,  3625.3,   2.3454,  34.9026,2,  34.9034,2,    266.6,2,   267.0,2,   27.15,2,   18.39,2,    0.00,2,    1.23,2,   0.611,2,   0.298,2,   0.028,2,  2169.2,2,  2326.2,2,    -999,9,     -999,9,    -999,9,    -999,9,    -999,9,    -999,   1.076,2,   40.40,2,    -999,9, 3625.30,     1448,  20.3795, -66.0174,    -999,     -999,    -999,     -999,9,     -999,9,     -999,9,     -999,9,     -999,9,     -999,9,   2.0433,    -999,9,       -999,9,    -999,9,    -999,9
 316N200310,        A22,      36,          1,         10,         10,2,20031031,       1352,    20.3742,   -66.0127,       5797,  3874.3,   2.3316,  34.9001,2,  34.9002,2,    266.1,2,   266.6,2,   27.96,2,   18.43,2,    0.00,2,    1.23,2,   0.592,2,   0.305,2,   0.032,2,  2169.8,2,  2326.9,2,    -999,9,     -999,9,    -999,9,    -999,9,    -999,9,    -999,   1.049,2,    -999,9,    -999,9, 3874.30,     1443,  20.3786, -66.0172,    -999,     -999,    -999,     -999,9,     -999,9,     -999,9,     -999,9,     -999,9,     -999,9,   2.0023,    -999,9,       -999,9,    -999,9,    -999,9
 316N200310,        A22,      36,          1,          9,          9,2,20031031,       1352,    20.3742,   -66.0127,       5797,  4125.8,   2.3161,  34.8969,2,  34.8967,2,    265.3,2,   265.9,2,   29.37,2,   18.69,2,    0.00,2,    1.25,2,   0.549,2,   0.309,2,   0.019,2,  2171.8,2,  2328.2,2,    -999,9,     -999,9,    -999,9,    -999,9,    -999,9,    -999,   1.013,2,   41.00,2,    -999,9, 4125.80,     1438,  20.3778, -66.0169,    -999,     -999,    -999,   0.1300,2,   0.0910,2,   0.0430,2,   0.0270,2,   0.0190,2,   0.0200,2,   1.9586,    -999,9,       -999,9,    -999,9,    -999,9
 316N200310,        A22,      36,          1,          8,          8,2,20031031,       1352,    20.3742,   -66.0127,       5797,  4375.1,   2.3074,  34.8943,2,  34.8947,2,    264.4,2,   265.0,2,   30.79,2,   18.93,2,    0.00,2,    1.26,2,   0.506,2,   0.270,2,   0.024,2,  2173.6,2,  2326.4,2,    -999,9,     -999,9,    -999,9,    -999,9,    -999,9,    -999,   0.941,2,   41.60,2,    -999,9, 4375.10,     1432,  20.3771, -66.0164,    -999,     -999,    -999,     -999,9,     -999,9,     -999,9,     -999,9,     -999,9,     -999,9,   1.9210,    -999,9,       -999,9,    -999,9,    -999,9
 316N200310,        A22,      36,          1,          7,          7,2,20031031,       1352,    20.3742,   -66.0127,       5797,  4624.7,   2.3022,  34.8912,2,  34.8914,2,    263.3,2,   264.0,2,   32.51,2,   19.22,2,    0.00,2,    1.28,2,   0.459,2,   0.246,2,   0.022,2,  2176.0,2,  2328.5,2,    -999,9,     -999,9,    -999,9,    -999,9,    -999,9,    -999,   0.866,2,   41.00,2,    -999,9, 4624.70,     1427,  20.3766, -66.0157,    -999,     -999,    -999,   0.1310,2,   0.0930,2,   0.0430,2,   0.0280,2,   0.0190,2,   0.0200,2,   1.8859,    -999,9,       -999,9,    -999,9,    -999,9
 316N200310,        A22,      36,          1,          6,          6,2,20031031,       1352,    20.3742,   -66.0127,       5797,  4875.7,   2.2909,  34.8870,2,  34.8865,2,    261.5,2,   262.5,2,   35.15,2,   19.62,2,    0.00,2,    1.31,2,   0.374,2,   0.204,2,   0.022,2,  2179.3,2,  2330.8,2,    -999,9,     -999,9,    -999,9,    -999,9,    -999,9,    -999,   0.744,2,   40.10,2,    -999,9, 4875.70,     1422,  20.3762, -66.0152,    -999,     -999,    -999,     -999,9,     -999,9,     -999,9,     -999,9,     -999,9,     -999,9,   1.8442,    -999,9,       -999,9,    -999,9,    -999,9
 316N200310,        A22,      36,          1,          5,          5,2,20031031,       1352,    20.3742,   -66.0127,       5797,  5123.5,   2.2591,  34.8797,2,  34.8806,2,    258.6,2,   259.1,2,   39.32,2,   20.21,2,    0.00,2,    1.36,2,   0.288,2,   0.160,2,   0.015,2,  2184.2,2,  2334.4,2,    -999,9,     -999,9,    -999,9,    -999,9,    -999,9,    -999,   0.589,2,   42.00,2,    -999,9, 5123.50,     1417,  20.3759, -66.0148,    -999,     -999,    -999,   0.1280,2,   0.0900,2,   0.0420,2,   0.0260,2,   0.0190,2,   0.0210,2,   1.7822,    -999,9,       -999,9,    -999,9,    -999,9