BOTTLE,20220517CCHSIOLMM
EXPOCODE,SECT_ID,STNNBR,CASTNO,SAMPNO,BTLNBR,BTLNBR_FLAG_W,DATE,TIME,LATITUDE,LONGITUDE,DEPTH,CTDPRS,CTDTMP,CTDSAL,CTDSAL_FLAG_W,SALNTY,SALNTY_FLAG_W,CTDOXY,CTDOXY_FLAG_W,OXYGEN,OXYGEN_FLAG_W,SILCAT,SILCAT_FLAG_W,NITRAT,NITRAT_FLAG_W,NITRIT,NITRIT_FLAG_W,PHSPHT,PHSPHT_FLAG_W,CFC-11,CFC-11_FLAG_W,CFC-12,CFC-12_FLAG_W,CFC113,CFC113_FLAG_W,TCARBN,TCARBN_FLAG_W,ALKALI,ALKALI_FLAG_W,TRITUM,TRITUM_FLAG_W,HELIUM,HELIUM_FLAG_W,DELHE3,DELHE3_FLAG_W,DELC13,DELC13_FLAG_W,DELC14,DELC14_FLAG_W,C14ERR,CCL4,CCL4_FLAG_W,DOC,DOC_FLAG_W,TDN,TDN_FLAG_W,CTDRAW,BTL_TIME,BTL_LAT,BTL_LON,TRITER,HELIER,DELHER,CDOM325,CDOM325_FLAG_W,CDOM340,CDOM340_FLAG_W,CDOM380,CDOM380_FLAG_W,CDOM412,CDOM412_FLAG_W,CDOMSL,CDOMSL_FLAG_W,CDOMSN,CDOMSN_FLAG_W,THETA,BACT,BACT_FLAG_W,PROC,PROC_FLAG_W,SYN,SYN_FLAG_W,PEUK,PEUK_FLAG_W
,,,,,,,,,,,METERS,DBAR,ITS-90,PSS-78,,PSS-78,,UMOL/KG,,UMOL/KG,,UMOL/KG,,UMOL/KG,,UMOL/KG,,UMOL/KG,,PMOL/KG,,PMOL/KG,,PMOL/KG,,UMOL/KG,,UMOL/KG,,TU,,NMOL/KG,,PERCNT,,/MILLE,,/MILLE,,/MILLE,PMOL/KG,,UMOL/KG,,UMOL/KG,,DBAR,,,,TU,NMOL/KG,PERCNT,1/M,,1/M,,1/M,,1/M,,1/NM,,1/NM,,DEG C,E8/L,,E7/L,,E6/L,,E6/L,
 316N200310,        A22,      11,          1,         36,         36,2,20031026,       0836,    13.6893,   -65.9963,       4901,     3.5,  29.7147,  33.6005,2,  33.6029,4,    175.7,2,   193.8,2,    4.61,2,    0.10,2,    0.00,2,    0.02,2,   1.457,2,   0.920,2,   0.102,2,  1889.3,2,  2211.5,6,    -999,9,     -999,9,    -999,9,    -999,9,    -999,9,    -999,   1.396,2,    -999,9,    -999,9,    3.50,     1045,  13.7050, -65.9912,    -999,     -999,    -999,     -999,9,     -999,9,     -999,9,     -999,9,     -999,9,     -999,9,  29.7138,    -999,9,       -999,9,    -999,9,    -999,9
 316N200310,        A22,      11,          1,         35,         35,2,20031026,       0836,    13.6893,   -65.9963,       4901,    24.9,  29.7097,  34.2726,2,  34.2283,4,    194.7,2,   194.0,2,    3.00,2,    0.14,2,    0.00,2,    0.01,2,   1.449,2,   0.914,2,   0.099,2,    -999,9,    -999,9,    -999,9,     -999,9,    -999,9,    -999,9,    -999,9,    -999,   1.390,2,    -999,9,    -999,9,   24.90,     1043,  13.7049, -65.9911,    -999,     -999,    -999,     -999,9,     -999,9,     -999,9,     -999,9,     -999,9,     -999,9,  29.7036,    -999,9,       -999,9,    -999,9,    -999,9
 316N200310,        A22,      11,          1,         34,         34,3,20031026,       0836,    13.6893,   -65.9963,       4901,    49.8,  28.0526,  36.1215,2,  36.1456,4,    199.2,2,   200.7,2,    0.68,2,    0.14,2,    0.00,2,    0.02,2,   1.612,2,   1.023,2,   0.090,2,    -999,9,    -999,9,    -999,9,     -999,9,    -999,9,    -999,9,    -999,9,    -999,   0.807,2,    -999,9,    -999,9,   49.80,     1042,  13.7048, -65.9910,    -999,     -999,    -999,     -999,9,     -999,9,     -999,9,     -999,9,     -999,9,     -999,9,  28.0408,    -999,9,       -999,9,    -999,9,    -999,9
 316N200310,        A22,      11,          1,         33,         33,2,20031026,       0836,    13.6893,   -65.9963,       4901,    74.8,  26.1931,  36.6711,2,  36.6685,4,    184.4,2,   181.1,2,    0.78,2,    0.55,2,    0.09,2,    0.04,2,   1.704,6,   1.049,6,   0.138,6,    -999,9,    -999,9,    -999,9,     -999,9,    -999,9,    -999,9,    -999,9,    -999,   0.648,2,    -999,9,    -999,9,   74.80,     1040,  13.7046, -65.9909,    -999,     -999,    -999,     -999,9,     -999,9,     -999,9,     -999,9,     -999,9,     -999,9,  26.1762,    -999,9,       -999,9,    -999,9,    -999,9
 316N200310,        A22,      11,          1,         32,         32,2,20031026,       0836,    13.6893,   -65.9963,       4901,   100.1,  24.5906,  37.1104,2,  37.0893,4,    180.2,2,   178.0,2,    0.68,2,    1.90,2,    0.07,2,    0.12,2,   1.804,2,   1.102,2,   0.087,2,    -999,9,    -999,9,    -999,9,     -999,9,    -999,9,    -999,9,    -999,9,    -999,   0.362,2,    -999,9,    -999,9,  100.10,     1039,  13.7045, -65.9908,    -999,     -999,    -999,     -999,9,     -999,9,     -999,9,     -999,9,     -999,9,     -999,9,  24.5689,    -999,9,       -999,9,    -999,9,    -999,9
 316N200310,        A22,      11,          1,         31,         31,2,20031026,       0836,    13.6893,   -65.9963,       4901,   125.6,  22.7152,  36.9820,2,  36.9731,4,    164.5,2,   165.4,2,    1.19,2,    3.68,2,    0.02,2,    0.22,2,   1.921,2,   1.145,2,   0.051,2,    -999,9,    -999,9,    -999,9,     -999,9,    -999,9,    -999,9,    -999,9,    -999,   0.138,2,    -999,9,    -999,9,  125.60,     1037,  13.7043, -65.9907,    -999,     -999,    -999,     -999,9,     -999,9,     -999,9,     -999,9,     -999,9,     -999,9,  22.6896,    -999,9,       -999,9,    -999,9,    -999,9
 316N200310,        A22,      11,          1,         30,         30,2,20031026,       0836,    13.6893,   -65.9963,       4901,   150.3,  21.6873,  36.8909,2,  36.8828,4,    158.8,2,   159.1,2,    1.49,2,    4.82,2,    0.02,2,    0.28,2,   1.966,2,   1.173,2,   0.044,2,    -999,9,    -999,9,    -999,9,     -999,9,    -999,9,    -999,9,    -999,9,    -999,   0.138,2,    -999,9,    -999,9,  150.30,     1035,  13.7042, -65.9905,    -999,     -999,    -999,     -999,9,     -999,9,     -999,9,     -999,9,     -999,9,     -999,9,  21.6576,    -999,9,       -999,9,    -999,9,    -999,9
 316N200310,        A22,      11,          1,         29,         29,2,20031026,       0836,    13.6893,   -65.9963,       4901,   199.8,  18.6498,  36.6076,2,  36.6053,4,    162.4,2,   164.4,2,    1.49,2,    6.76,2,    0.01,2,    0.34,2,   2.169,2,   1.252,2,   0.012,2,    -999,9,    -999,9,    -999,9,     -999,9,    -999,9,    -999,9,    -999,9,    -999,   0.219,2,    -999,9,    -999,9,  199.80,     1033,  13.7040, -65.9904,    -999,     -999,    -999,     -999,9,     -999,9,     -999,9,     -999,9,     -999,9,     -999,9,  18.6143,    -999,9,       -999,9,    -999,9,    -999,9
 316N200310,        A22,      11,          1,         27,         27,2,20031026,       0836,    13.6893,   -65.9963,       4901,   299.5,  13.2509,  35.6474,2,  35.6401,4,    131.4,2,   130.6,2,    7.65,2,   19.42,2,    0.01,2,    1.18,2,   1.605,2,   0.873,2,   0.011,2,    -999,9,    -999,9,    -999,9,     -999,9,    -999,9,    -999,9,    -999,9,    -999,   0.232,2,    -999,9,    -999,9,  299.50,     1028,  13.7035, -65.9902,    -999,     -999,    -999,     -999,9,     -999,9,     -999,9,     -999,9,     -999,9,     -999,9,  13.2088,    -999,9,       -999,9,    -999,9,    -999,9
 316N200310,        A22,      11,          1,         28,         28,2,20031026,       0836,    13.6893,   -65.9963,       4901,   300.0,  13.3049,  35.6548,2,  35.6471,4,    131.4,2,   130.9,2,    7.55,2,   19.27,2,    0.01,2,    1.17,2,   1.612,2,   0.866,2,   0.010,2,    -999,9,    -999,9,    -999,9,     -999,9,    -999,9,    -999,9,    -999,9,    -999,   0.235,2,    -999,9,    -999,9,  300.00,     1029,  13.7035, -65.9903,    -999,     -999,    -999,     -999,9,     -999,9,     -999,9,     -999,9,     -999,9,     -999,9,  13.2625,    -999,9,       -999,9,    -999,9,    -999,9
 316N200310,        A22,      11,          1,         26,         26,2,20031026,       0836,    13.6893,   -65.9963,       4901,   399.8,  10.8360,  35.2554,2,  35.2503,4,    120.6,2,   122.4,2,   11.59,2,   24.55,2,    0.00,2,    1.54,2,    -999,9,    -999,9,    -999,9,    -999,9,    -999,9,    -999,9,     -999,9,    -999,9,    -999,9,    -999,9,    -999,    -999,9,    -999,9,    -999,9,  399.80,     1026,  13.7032, -65.9900,    -999,     -999,    -999,     -999,9,     -999,9,     -999,9,     -999,9,     -999,9,     -999,9,  10.7866,    -999,9,       -999,9,    -999,9,    -999,9
 316N200310,        A22,      11,          1,         25,         25,2,20031026,       0836,    13.6893,   -65.9963,       4901,   500.4,   8.8764,  34.9832,2,  34.9772,4,    119.0,2,   119.8,2,   15.74,2,   28.50,2,    0.00,2,    1.83,2,   0.679,2,   0.400,2,   0.008,2,    -999,9,    -999,9,    -999,9,     -999,9,    -999,9,    -999,9,    -999,9,    -999,   0.249,2,    -999,9,    -999,9,  500.40,     1023,  13.7029, -65.9898,    -999,     -999,    -999,     -999,9,     -999,9,     -999,9,     -999,9,     -999,9,     -999,9,   8.8215,    -999,9,       -999,9,    -999,9,    -999,9
 316N200310,        A22,      11,          1,         24,         24,3,20031026,       0836,    13.6893,   -65.9963,       4901,   625.5,   7.3293,  34.8174,2,  34.8135,4,    122.7,2,   123.8,2,   20.19,2,   31.10,2,    0.00,2,    2.03,2,    -999,9,    -999,9,    -999,9,    -999,9,    -999,9,    -999,9,     -999,9,    -999,9,    -999,9,    -999,9,    -999,    -999,9,    -999,9,    -999,9,  625.50,     1020,  13.7025, -65.9896,    -999,     -999,    -999,     -999,9,     -999,9,     -999,9,     -999,9,     -999,9,     -999,9,   7.2675,    -999,9,       -999,9,    -999,9,    -999,9
 316N200310,        A22,      11,          1,         23,         23,2,20031026,       0836,    13.6893,   -65.9963,       4901,   750.5,   6.2503,  34.7717,2,  34.7679,4,    132.3,2,   133.8,2,   23.64,2,   31.50,2,    0.00,2,    2.10,2,   0.145,2,   0.094,2,   0.002,2,    -999,9,    -999,9,    -999,9,     -999,9,    -999,9,    -999,9,    -999,9,    -999,   0.131,2,    -999,9,    -999,9,  750.50,     1017,  13.7021, -65.9902,    -999,     -999,    -999,     -999,9,     -999,9,     -999,9,     -999,9,     -999,9,     -999,9,   6.1817,    -999,9,       -999,9,    -999,9,    -999,9
 316N200310,        A22,      11,          1,         22,         22,2,20031026,       0836,    13.6893,   -65.9963,       4901,   900.4,   5.4858,  34.8661,2,  34.8619,4,    160.9,2,   159.8,2,   24.65,2,   28.35,2,    0.00,2,    1.89,2,   0.073,2,   0.051,2,   0.013,2,    -999,9,    -999,9,    -999,9,     -999,9,    -999,9,    -999,9,    -999,9,    -999,   0.105,2,    -999,9,    -999,9,  900.40,     1013,  13.7016, -65.9908,    -999,     -999,    -999,     -999,9,     -999,9,     -999,9,     -999,9,     -999,9,     -999,9,   5.4075,    -999,9,       -999,9,    -999,9,    -999,9
 316N200310,        A22,      11,          1,         21,         21,2,20031026,       0836,    13.6893,   -65.9963,       4901,  1048.9,   4.9722,  34.9321,2,  34.9290,4,    183.6,2,   183.5,2,   24.65,2,   25.50,2,    0.00,2,    1.72,2,   0.051,2,   0.034,2,   0.003,2,    -999,9,    -999,9,    -999,9,     -999,9,    -999,9,    -999,9,    -999,9,    -999,   0.103,2,    -999,9,    -999,9, 1048.90,     1009,  13.7006, -65.9910,    -999,     -999,    -999,     -999,9,     -999,9,     -999,9,     -999,9,     -999,9,     -999,9,   4.8839,    -999,9,       -999,9,    -999,9,    -999,9
 316N200310,        A22,      11,          1,         20,         20,2,20031026,       0836,    13.6893,   -65.9963,       4901,  1201.3,   4.6635,  34.9528,2,  34.9482,4,    195.5,2,   194.8,2,   24.65,2,   24.24,2,    0.00,2,    1.63,2,   0.041,2,   0.030,2,   0.002,2,    -999,9,    -999,9,    -999,9,     -999,9,    -999,9,    -999,9,    -999,9,    -999,   0.104,2,    -999,9,    -999,9, 1201.30,     1005,  13.6999, -65.9902,    -999,     -999,    -999,     -999,9,     -999,9,     -999,9,     -999,9,     -999,9,     -999,9,   4.5639,    -999,9,       -999,9,    -999,9,    -999,9
 316N200310,        A22,      11,          1,         19,         19,2,20031026,       0836,    13.6893,   -65.9963,       4901,  1325.8,   4.4966,  34.9606,2,  34.9595,4,    201.0,2,   200.1,2,   25.26,2,   23.64,2,    0.00,2,    1.60,2,   0.046,2,   0.026,2,   0.003,2,    -999,9,    -999,9,    -999,9,     -999,9,    -999,9,    -999,9,    -999,9,    -999,   0.101,2,    -999,9,    -999,9, 1325.80,     1002,  13.6994, -65.9901,    -999,     -999,    -999,     -999,9,     -999,9,     -999,9,     -999,9,     -999,9,     -999,9,   4.3871,    -999,9,       -999,9,    -999,9,    -999,9
 316N200310,        A22,      11,          1,         18,         18,2,20031026,       0836,    13.6893,   -65.9963,       4901,  1449.8,   4.3799,  34.9658,2,  34.9634,4,    204.8,2,   204.0,2,   25.67,2,   23.23,2,    0.00,2,    1.57,2,   0.037,2,   0.026,2,   0.002,2,    -999,9,    -999,9,    -999,9,     -999,9,    -999,9,    -999,9,    -999,9,    -999,   0.095,2,    -999,9,    -999,9, 1449.80,      958,  13.6990, -65.9905,    -999,     -999,    -999,     -999,9,     -999,9,     -999,9,     -999,9,     -999,9,     -999,9,   4.2601,    -999,9,       -999,9,    -999,9,    -999,9
 316N200310,        A22,      11,          1,         17,         17,2,20031026,       0836,    13.6893,   -65.9963,       4901,  1573.7,   4.2834,  34.9706,2,  34.9662,4,    208.2,2,   208.4,2,   25.67,2,   22.83,2,    0.00,2,    1.54,2,   0.036,2,   0.028,2,   0.003,2,    -999,9,    -999,9,    -999,9,     -999,9,    -999,9,    -999,9,    -999,9,    -999,   0.103,2,    -999,9,    -999,9, 1573.70,      955,  13.6986, -65.9910,    -999,     -999,    -999,     -999,9,     -999,9,     -999,9,     -999,9,     -999,9,     -999,9,   4.1531,    -999,9,       -999,9,    -999,9,    -999,9
 316N200310,        A22,      11,          1,         16,         16,2,20031026,       0836,    13.6893,   -65.9963,       4901,  1700.1,   4.2040,  34.9724,2,  34.9697,4,    210.0,2,   210.4,2,   26.27,2,   22.57,2,    0.00,2,    1.52,2,   0.032,2,   0.029,2,   0.002,2,    -999,9,    -999,9,    -999,9,     -999,9,    -999,9,    -999,9,    -999,9,    -999,   0.099,2,    -999,9,    -999,9, 1700.10,      952,  13.6982, -65.9914,    -999,     -999,    -999,     -999,9,     -999,9,     -999,9,     -999,9,     -999,9,     -999,9,   4.0627,    -999,9,       -999,9,    -999,9,    -999,9
 316N200310,        A22,      11,          1,         15,         15,2,20031026,       0836,    13.6893,   -65.9963,       4901,  1850.4,   4.1596,  34.9739,2,  34.9707,4,    211.5,2,   212.2,2,   26.69,2,   22.42,2,    0.00,2,    1.51,2,   0.027,2,   0.018,2,   0.000,2,    -999,9,    -999,9,    -999,9,     -999,9,    -999,9,    -999,9,    -999,9,    -999,   0.096,2,    -999,9,    -999,9, 1850.40,      949,  13.6977, -65.9917,    -999,     -999,    -999,     -999,9,     -999,9,     -999,9,     -999,9,     -999,9,     -999,9,   4.0044,    -999,9,       -999,9,    -999,9,    -999,9
 316N200310,        A22,      11,          1,         14,         14,2,20031026,       0836,    13.6893,   -65.9963,       4901,  2000.6,   4.1325,  34.9747,2,  34.9728,4,    212.7,2,   213.4,2,   26.99,2,   22.32,2,    0.00,2,    1.50,2,   0.024,2,   0.024,2,   0.003,2,    -999,9,    -999,9,    -999,9,     -999,9,    -999,9,    -999,9,    -999,9,    -999,   0.083,2,    -999,9,    -999,9, 2000.60,      945,  13.6973, -65.9920,    -999,     -999,    -999,     -999,9,     -999,9,     -999,9,     -999,9,     -999,9,     -999,9,   3.9630,    -999,9,       -999,9,    -999,9,    -999,9
 316N200310,        A22,      11,          1,         13,         13,2,20031026,       0836,    13.6893,   -65.9963,       4901,  2250.5,   4.1146,  34.9755,2,  34.9707,4,    213.9,2,   214.4,2,   27.39,2,   22.11,2,    0.00,2,    1.49,2,   0.022,2,   0.026,2,   0.003,2,    -999,9,    -999,9,    -999,9,     -999,9,    -999,9,    -999,9,    -999,9,    -999,   0.074,2,    -999,9,    -999,9, 2250.50,      940,  13.6966, -65.9921,    -999,     -999,    -999,     -999,9,     -999,9,     -999,9,     -999,9,     -999,9,     -999,9,   3.9202,    -999,9,       -999,9,    -999,9,    -999,9
 316N200310,        A22,      11,          1,         12,         12,2,20031026,       0836,    13.6893,   -65.9963,       4901,  2501.3,   4.1219,  34.9760,2,  34.9721,4,    214.1,2,   214.4,2,   27.80,2,   22.07,2,    0.00,2,    1.50,2,   0.019,2,   0.026,2,   0.002,2,    -999,9,    -999,9,    -999,9,     -999,9,    -999,9,    -999,9,    -999,9,    -999,   0.065,2,    -999,9,    -999,9, 2501.30,      934,  13.6960, -65.9925,    -999,     -999,    -999,     -999,9,     -999,9,     -999,9,     -999,9,     -999,9,     -999,9,   3.9013,    -999,9,       -999,9,    -999,9,    -999,9
 316N200310,        A22,      11,          1,         11,         11,2,20031026,       0836,    13.6893,   -65.9963,       4901,  2750.2,   4.1379,  34.9762,2,  34.9713,4,    214.4,2,   214.3,2,   28.00,2,   22.06,2,    0.00,2,    1.49,2,   0.020,2,   0.029,2,   0.004,2,    -999,9,    -999,9,    -999,9,     -999,9,    -999,9,    -999,9,    -999,9,    -999,   0.063,2,    -999,9,    -999,9, 2750.20,      929,  13.6954, -65.9928,    -999,     -999,    -999,     -999,9,     -999,9,     -999,9,     -999,9,     -999,9,     -999,9,   3.8903,    -999,9,       -999,9,    -999,9,    -999,9
 316N200310,        A22,      11,          1,         10,         10,2,20031026,       0836,    13.6893,   -65.9963,       4901,  3001.1,   4.1605,  34.9764,2,  34.9744,2,    214.6,2,   214.9,2,   28.20,2,   22.06,2,    0.00,2,    1.49,2,   0.010,2,   0.026,2,   0.004,4,    -999,9,    -999,9,    -999,9,     -999,9,    -999,9,    -999,9,    -999,9,    -999,   0.073,2,    -999,9,    -999,9, 3001.10,      924,  13.6948, -65.9932,    -999,     -999,    -999,     -999,9,     -999,9,     -999,9,     -999,9,     -999,9,     -999,9,   3.8846,    -999,9,       -999,9,    -999,9,    -999,9
 316N200310,        A22,      11,          1,          9,          9,2,20031026,       0836,    13.6893,   -65.9963,       4901,  3200.9,   4.1800,  34.9765,2,  34.9758,2,    215.0,2,   215.4,2,   28.10,2,   22.01,2,    0.00,2,    1.49,2,   0.011,2,   0.030,2,   0.004,2,    -999,9,    -999,9,    -999,9,     -999,9,    -999,9,    -999,9,    -999,9,    -999,   0.082,2,    -999,9,    -999,9, 3200.90,      919,  13.6943, -65.9935,    -999,     -999,    -999,     -999,9,     -999,9,     -999,9,     -999,9,     -999,9,     -999,9,   3.8810,    -999,9,       -999,9,    -999,9,    -999,9
 316N200310,        A22,      11,          1,          8,          8,2,20031026,       0836,    13.6893,   -65.9963,       4901,  3400.3,   4.2012,  34.9767,2,  34.9760,2,    215.1,2,   215.7,2,   28.21,2,   22.10,2,    0.00,2,    1.49,2,   0.021,2,   0.021,2,   0.004,2,    -999,9,    -999,9,    -999,9,     -999,9,    -999,9,    -999,9,    -999,9,    -999,   0.068,2,    -999,9,    -999,9, 3400.30,      915,  13.6936, -65.9937,    -999,     -999,    -999,     -999,9,     -999,9,     -999,9,     -999,9,     -999,9,     -999,9,   3.8785,    -999,9,       -999,9,    -999,9,    -999,9
 316N200310,        A22,      11,          1,          7,          7,2,20031026,       0836,    13.6893,   -65.9963,       4901,  3600.5,   4.2234,  34.9768,2,  34.9752,2,    215.2,2,   215.6,2,   28.21,2,   22.05,2,    0.00,2,    1.49,2,   0.021,2,   0.040,2,   0.006,2,    -999,9,    -999,9,    -999,9,     -999,9,    -999,9,    -999,9,    -999,9,    -999,   0.083,2,    -999,9,    -999,9, 3600.50,      910,  13.6931, -65.9941,    -999,     -999,    -999,     -999,9,     -999,9,     -999,9,     -999,9,     -999,9,     -999,9,   3.8763,    -999,9,       -999,9,    -999,9,    -999,9
 316N200310,        A22,      11,          1,          6,          6,2,20031026,       0836,    13.6893,   -65.9963,       4901,  3799.5,   4.2463,  34.9770,2,  34.9754,2,    215.4,2,   215.8,2,   28.21,2,   22.04,2,    0.00,2,    1.49,2,   0.024,2,   0.034,2,   0.014,2,    -999,9,    -999,9,    -999,9,     -999,9,    -999,9,    -999,9,    -999,9,    -999,   0.092,2,    -999,9,    -999,9, 3799.50,      906,  13.6925, -65.9945,    -999,     -999,    -999,     -999,9,     -999,9,     -999,9,     -999,9,     -999,9,     -999,9,   3.8745,    -999,9,       -999,9,    -999,9,    -999,9
 316N200310,        A22,      11,          1,          5,          5,2,20031026,       0836,    13.6893,   -65.9963,       4901,  3982.1,   4.2681,  34.9772,2,  34.9758,2,    215.8,2,   216.2,2,   28.21,2,   22.00,2,    0.00,2,    1.48,2,   0.027,2,   0.026,2,   0.004,2,    -999,9,    -999,9,    -999,9,     -999,9,    -999,9,    -999,9,    -999,9,    -999,   0.090,2,    -999,9,    -999,9, 3982.10,      902,  13.6919, -65.9948,    -999,     -999,    -999,     -999,9,     -999,9,     -999,9,     -999,9,     -999,9,     -999,9,   3.8731,    -999,9,       -999,9,    -999,9,    -999,9