BOTTLE,20220517CCHSIOLMM
EXPOCODE,SECT_ID,STNNBR,CASTNO,SAMPNO,BTLNBR,BTLNBR_FLAG_W,DATE,TIME,LATITUDE,LONGITUDE,DEPTH,CTDPRS,CTDTMP,CTDSAL,CTDSAL_FLAG_W,SALNTY,SALNTY_FLAG_W,CTDOXY,CTDOXY_FLAG_W,OXYGEN,OXYGEN_FLAG_W,SILCAT,SILCAT_FLAG_W,NITRAT,NITRAT_FLAG_W,NITRIT,NITRIT_FLAG_W,PHSPHT,PHSPHT_FLAG_W,CFC-11,CFC-11_FLAG_W,CFC-12,CFC-12_FLAG_W,CFC113,CFC113_FLAG_W,TCARBN,TCARBN_FLAG_W,ALKALI,ALKALI_FLAG_W,TRITUM,TRITUM_FLAG_W,HELIUM,HELIUM_FLAG_W,DELHE3,DELHE3_FLAG_W,DELC13,DELC13_FLAG_W,DELC14,DELC14_FLAG_W,C14ERR,CCL4,CCL4_FLAG_W,DOC,DOC_FLAG_W,TDN,TDN_FLAG_W,CTDRAW,BTL_TIME,BTL_LAT,BTL_LON,TRITER,HELIER,DELHER,CDOM325,CDOM325_FLAG_W,CDOM340,CDOM340_FLAG_W,CDOM380,CDOM380_FLAG_W,CDOM412,CDOM412_FLAG_W,CDOMSL,CDOMSL_FLAG_W,CDOMSN,CDOMSN_FLAG_W,THETA,BACT,BACT_FLAG_W,PROC,PROC_FLAG_W,SYN,SYN_FLAG_W,PEUK,PEUK_FLAG_W
,,,,,,,,,,,METERS,DBAR,ITS-90,PSS-78,,PSS-78,,UMOL/KG,,UMOL/KG,,UMOL/KG,,UMOL/KG,,UMOL/KG,,UMOL/KG,,PMOL/KG,,PMOL/KG,,PMOL/KG,,UMOL/KG,,UMOL/KG,,TU,,NMOL/KG,,PERCNT,,/MILLE,,/MILLE,,/MILLE,PMOL/KG,,UMOL/KG,,UMOL/KG,,DBAR,,,,TU,NMOL/KG,PERCNT,1/M,,1/M,,1/M,,1/M,,1/NM,,1/NM,,DEG C,E8/L,,E7/L,,E6/L,,E6/L,
 316N200310,        A22,      18,          1,         32,         32,2,20031028,       0711,    17.4940,   -66.0060,       3216,     3.2,  29.1693,  34.9919,2,  34.9848,2,    195.4,2,   193.6,2,    1.02,2,    0.10,2,    0.00,2,    0.01,2,   1.520,6,   0.948,6,   0.121,6,  1956.9,2,  2309.2,6,    -999,9,     -999,9,    -999,9,    -999,9,    -999,9,    -999,    -999,9,   75.60,2,    4.80,2,    3.20,      841,  17.4943, -66.0121,    -999,     -999,    -999,   0.0810,2,   0.0520,2,   0.0180,2,   0.0110,2,   0.0290,2,   0.0290,2,  29.1685,    0.26,2,       0.01,2,    0.03,2,    0.01,2
 316N200310,        A22,      18,          1,         31,         31,2,20031028,       0711,    17.4940,   -66.0060,       3216,    25.4,  29.1699,  35.1742,2,  35.1768,2,    195.8,2,   193.6,2,    0.72,2,    0.05,2,    0.00,2,    0.01,2,    -999,9,    -999,9,    -999,9,    -999,9,    -999,9,    -999,9,     -999,9,    -999,9,    -999,9,    -999,9,    -999,    -999,9,   73.90,2,    4.00,2,   25.40,      840,  17.4943, -66.0119,    -999,     -999,    -999,   0.0830,2,   0.0530,2,   0.0180,2,   0.0110,2,   0.0290,2,   0.0290,2,  29.1638,    0.11,2,       0.02,2,    0.07,2,    0.01,2
 316N200310,        A22,      18,          1,         30,         30,2,20031028,       0711,    17.4940,   -66.0060,       3216,    49.8,  27.8870,  36.4793,2,  36.4717,2,    201.8,2,   201.8,2,    0.53,2,    0.00,2,    0.00,2,    0.01,2,   1.648,2,   1.021,2,   0.131,2,  2023.9,2,  2395.8,2,    -999,9,     -999,9,    -999,9,    -999,9,    -999,9,    -999,    -999,9,   77.10,2,    4.40,2,   49.80,      838,  17.4944, -66.0118,    -999,     -999,    -999,   0.1240,2,   0.0830,2,   0.0330,2,   0.0210,2,   0.0240,2,   0.0250,2,  27.8752,    0.06,2,       0.00,2,    0.02,2,    0.01,2
 316N200310,        A22,      18,          1,         29,         29,2,20031028,       0711,    17.4940,   -66.0060,       3216,    74.9,  26.8670,  36.8970,2,  36.9102,2,    200.1,2,   199.6,2,    0.43,2,    0.10,2,    0.00,2,    0.01,2,    -999,9,    -999,9,    -999,9,    -999,9,    -999,9,    -999,9,     -999,9,    -999,9,    -999,9,    -999,9,    -999,    -999,9,   72.20,2,    5.50,2,   74.90,      837,  17.4944, -66.0116,    -999,     -999,    -999,   0.1180,2,   0.0800,2,   0.0330,2,   0.0230,2,   0.0230,2,   0.0240,2,  26.8498,    0.13,2,       0.06,2,    0.28,2,    0.00,2
 316N200310,        A22,      18,          1,         28,         28,2,20031028,       0711,    17.4940,   -66.0060,       3216,   100.2,  25.8844,  37.0607,2,  37.0583,2,    192.2,2,   192.8,2,    0.34,2,    0.23,2,    0.12,2,    0.02,2,   1.759,2,   1.077,2,   0.142,2,  2070.0,2,  2429.1,2,    -999,9,     -999,9,    -999,9,    -999,9,    -999,9,    -999,    -999,9,   70.00,2,    4.70,2,  100.20,      835,  17.4944, -66.0114,    -999,     -999,    -999,   0.1260,2,   0.0890,2,   0.0400,2,   0.0290,2,   0.0180,2,   0.0200,2,  25.8619,    1.92,2,       1.42,2,    0.03,2,    3.22,2
 316N200310,        A22,      18,          1,         27,         27,2,20031028,       0711,    17.4940,   -66.0060,       3216,   124.5,  25.1460,  37.1977,2,  37.1948,2,    190.1,2,   190.7,2,    0.15,2,    0.58,2,    0.07,2,    0.03,2,    -999,9,    -999,9,    -999,9,    -999,9,    -999,9,    -999,9,     -999,9,    -999,9,    -999,9,    -999,9,    -999,    -999,9,   64.90,2,    4.20,2,  124.50,      834,  17.4944, -66.0113,    -999,     -999,    -999,   0.1150,2,   0.0800,2,   0.0340,2,   0.0240,2,   0.0220,2,   0.0230,2,  25.1186,    1.98,2,       0.43,2,    0.01,2,    0.15,2
 316N200310,        A22,      18,          1,         26,         26,2,20031028,       0711,    17.4940,   -66.0060,       3216,   149.9,  23.6818,  37.2434,2,  37.2371,2,    184.9,2,   186.4,2,    0.05,2,    0.82,2,    0.04,2,    0.04,2,   1.923,2,   1.159,2,   0.130,2,  2105.0,2,  2439.1,2,    -999,9,     -999,9,    -999,9,    -999,9,    -999,9,    -999,    -999,9,   61.20,2,    4.60,2,  149.90,      832,  17.4945, -66.0111,    -999,     -999,    -999,   0.1160,2,   0.0820,2,   0.0350,2,   0.0250,2,   0.0210,2,   0.0220,2,  23.6503,    1.03,2,       0.02,2,    0.01,2,    0.02,2
 316N200310,        A22,      18,          1,         25,         25,2,20031028,       0711,    17.4940,   -66.0060,       3216,   200.1,  20.4842,  36.9001,2,  36.8865,2,    174.9,2,   174.7,2,    0.46,2,    3.13,2,    0.01,2,    0.14,2,   1.948,6,   1.186,6,   0.042,6,  2124.8,2,  2415.0,2,    -999,9,     -999,9,    -999,9,    -999,9,    -999,9,    -999,   0.166,2,   57.20,2,    7.10,2,  200.10,      831,  17.4945, -66.0110,    -999,     -999,    -999,   0.1070,2,   0.0770,2,   0.0350,2,   0.0250,2,   0.0190,2,   0.0210,2,  20.4462,    0.70,2,       0.00,2,    0.00,2,    0.00,2
 316N200310,        A22,      18,          1,         24,         24,2,20031028,       0711,    17.4940,   -66.0060,       3216,   250.6,  18.4601,  36.5937,2,  36.5906,2,    181.8,2,   182.0,2,    0.86,2,    5.07,2,    0.01,2,    0.23,2,    -999,9,    -999,9,    -999,9,    -999,9,    -999,9,    -999,9,     -999,9,    -999,9,    -999,9,    -999,9,    -999,    -999,9,   50.30,2,    7.80,3,  250.60,      829,  17.4946, -66.0108,    -999,     -999,    -999,   0.0880,2,   0.0610,2,   0.0260,2,   0.0180,2,   0.0230,2,   0.0230,2,  18.4158,    -999,9,       -999,9,    -999,9,    -999,9
 316N200310,        A22,      18,          1,         23,         23,2,20031028,       0711,    17.4940,   -66.0060,       3216,   300.0,  17.5076,  36.4434,2,  36.4394,2,    175.6,2,   176.6,2,    1.57,2,    7.36,2,    0.01,2,    0.38,2,   2.253,2,   1.280,2,   0.033,2,  2127.9,2,  2387.0,2,    -999,9,     -999,9,    -999,9,    -999,9,    -999,9,    -999,    -999,9,   51.00,2,   12.00,3,  300.00,      827,  17.4946, -66.0106,    -999,     -999,    -999,   0.0910,2,   0.0640,2,   0.0270,2,   0.0190,2,   0.0230,2,   0.0230,2,  17.4565,    -999,9,       -999,9,    -999,9,    -999,9
 316N200310,        A22,      18,          1,         22,         22,2,20031028,       0711,    17.4940,   -66.0060,       3216,   400.8,  15.0706,  36.0282,2,  36.0281,2,    154.3,2,   153.7,2,    3.99,2,   13.42,2,    0.00,2,    0.78,2,   2.021,2,   1.089,2,   0.030,2,  2154.8,2,  2364.4,2,    -999,9,     -999,9,    -999,9,    -999,9,    -999,9,    -999,    -999,9,   49.70,2,    -999,9,  400.80,      824,  17.4947, -66.0104,    -999,     -999,    -999,   0.1040,2,   0.0720,2,   0.0330,2,   0.0230,2,   0.0210,2,   0.0220,2,  15.0088,    -999,9,       -999,9,    -999,9,    -999,9
 316N200310,        A22,      18,          1,         21,         21,2,20031028,       0711,    17.4940,   -66.0060,       3216,   500.6,  13.2716,  35.7481,2,  35.7517,2,    146.7,2,   146.6,2,    6.11,2,   17.06,2,    0.00,2,    1.02,2,   1.678,2,   0.893,2,   0.019,2,  2166.5,2,  2349.6,2,    -999,9,     -999,9,    -999,9,    -999,9,    -999,9,    -999,    -999,9,   46.00,2,    -999,9,  500.60,      821,  17.4947, -66.0101,    -999,     -999,    -999,   0.1130,2,   0.0790,2,   0.0380,2,   0.0270,2,   0.0180,2,   0.0200,2,  13.2005,    -999,9,       -999,9,    -999,9,    -999,9
 316N200310,        A22,      18,          1,         20,         20,2,20031028,       0711,    17.4940,   -66.0060,       3216,   600.4,   9.8271,  35.1267,2,  35.1286,2,    121.4,2,   122.3,2,   13.37,2,   26.35,2,    0.00,2,    1.67,2,   0.935,2,   0.501,2,   0.009,2,  2196.6,2,  2318.7,6,    -999,9,     -999,9,    -999,9,    -999,9,    -999,9,    -999,    -999,9,   44.40,2,    -999,9,  600.40,      818,  17.4947, -66.0098,    -999,     -999,    -999,   0.1280,2,   0.0890,2,   0.0450,2,   0.0330,2,   0.0150,2,   0.0180,2,   9.7566,    -999,9,       -999,9,    -999,9,    -999,9
 316N200310,        A22,      18,          1,         19,         19,2,20031028,       0711,    17.4940,   -66.0060,       3216,   700.3,   8.4537,  34.9902,2,  34.9913,2,    123.2,2,   125.5,2,   16.90,2,   28.58,2,    0.00,2,    1.85,2,   0.546,2,   0.292,2,   0.008,2,  2204.2,2,  2312.9,2,    -999,9,     -999,9,    -999,9,    -999,9,    -999,9,    -999,    -999,9,   43.50,2,    -999,9,  700.30,      816,  17.4947, -66.0095,    -999,     -999,    -999,   0.1210,2,   0.0840,2,   0.0430,2,   0.0300,2,   0.0160,2,   0.0180,2,   8.3782,    -999,9,       -999,9,    -999,9,    -999,9
 316N200310,        A22,      18,          1,         18,         18,2,20031028,       0711,    17.4940,   -66.0060,       3216,   800.3,   7.1678,  34.8748,2,     -999,5,    131.5,2,   131.2,2,   20.35,2,   30.06,2,    0.00,2,    1.97,2,   0.301,2,   0.161,2,   0.013,2,  2210.0,2,    -999,9,    -999,9,     -999,9,    -999,9,    -999,9,    -999,9,    -999,    -999,9,   42.90,2,    -999,9,  800.30,      813,  17.4948, -66.0092,    -999,     -999,    -999,   0.1270,2,   0.0890,2,   0.0460,2,   0.0330,2,   0.0150,2,   0.0170,2,   7.0887,    -999,9,       -999,9,    -999,9,    -999,9
 316N200310,        A22,      18,          1,         17,         17,2,20031028,       0711,    17.4940,   -66.0060,       3216,   880.6,   6.5454,  34.8839,2,  34.8757,2,    142.1,2,   143.1,2,   21.56,2,   29.29,2,    0.00,2,    1.94,2,   0.204,2,   0.121,2,   0.006,2,  2208.4,2,  2312.3,2,    -999,9,     -999,9,    -999,9,    -999,9,    -999,9,    -999,    -999,9,   41.30,2,    -999,9,  880.60,      810,  17.4948, -66.0089,    -999,     -999,    -999,   0.1260,2,   0.0870,2,   0.0430,2,   0.0300,2,   0.0170,2,   0.0190,2,   6.4620,    -999,9,       -999,9,    -999,9,    -999,9
 316N200310,        A22,      18,          1,         16,         16,2,20031028,       0711,    17.4940,   -66.0060,       3216,  1060.7,   5.4324,  34.9375,2,  34.9380,2,    178.1,2,   176.8,2,   22.99,2,   25.90,2,    0.00,2,    1.73,2,   0.138,2,   0.074,2,   0.005,2,  2201.6,2,  2321.4,2,    -999,9,     -999,9,    -999,9,    -999,9,    -999,9,    -999,    -999,9,   40.70,2,    -999,9, 1060.70,      806,  17.4949, -66.0084,    -999,     -999,    -999,   0.1310,2,   0.0920,2,   0.0460,2,   0.0310,2,   0.0160,2,   0.0180,2,   5.3394,    -999,9,       -999,9,    -999,9,    -999,9
 316N200310,        A22,      18,          1,         15,         15,2,20031028,       0711,    17.4940,   -66.0060,       3216,  1200.0,   4.8265,  34.9597,2,  34.9612,2,    194.9,2,   195.6,2,   23.60,2,   24.03,2,    0.00,2,    1.61,2,   0.104,2,   0.062,2,   0.009,2,  2196.9,2,  2326.1,2,    -999,9,     -999,9,    -999,9,    -999,9,    -999,9,    -999,    -999,9,    -999,9,    -999,9, 1200.00,      803,  17.4949, -66.0080,    -999,     -999,    -999,     -999,9,     -999,9,     -999,9,     -999,9,     -999,9,     -999,9,   4.7255,    -999,9,       -999,9,    -999,9,    -999,9
 316N200310,        A22,      18,          1,         14,         14,2,20031028,       0711,    17.4940,   -66.0060,       3216,  1349.7,   4.3320,  34.9704,2,  34.9713,2,    207.3,2,   209.1,2,   24.82,2,   22.72,2,    0.00,2,    1.53,2,   0.095,2,   0.054,2,   0.007,2,  2196.5,2,  2330.1,2,    -999,9,     -999,9,    -999,9,    -999,9,    -999,9,    -999,    -999,9,   39.60,2,    -999,9, 1349.70,      759,  17.4948, -66.0075,    -999,     -999,    -999,   0.1300,2,   0.0910,2,   0.0440,2,   0.0280,2,   0.0180,2,   0.0200,2,   4.2220,    -999,9,       -999,9,    -999,9,    -999,9
 316N200310,        A22,      18,          1,         13,         13,2,20031028,       0711,    17.4940,   -66.0060,       3216,  1499.7,   4.1886,  34.9745,2,  34.9754,2,    215.5,2,   215.4,2,   24.93,2,   22.13,2,    0.00,2,    1.49,2,   0.138,2,   0.077,2,   0.011,2,  2193.2,2,  2329.8,2,    -999,9,     -999,9,    -999,9,    -999,9,    -999,9,    -999,    -999,9,    -999,9,    -999,9, 1499.70,      755,  17.4947, -66.0071,    -999,     -999,    -999,     -999,9,     -999,9,     -999,9,     -999,9,     -999,9,     -999,9,   4.0663,    -999,9,       -999,9,    -999,9,    -999,9
 316N200310,        A22,      18,          1,         12,         12,2,20031028,       0711,    17.4940,   -66.0060,       3216,  1650.7,   4.1559,  34.9803,2,  34.9811,2,    227.0,2,   227.4,2,   21.70,2,   21.03,2,    0.00,2,    1.41,2,   0.402,2,   0.207,2,   0.024,2,  2184.9,2,    -999,9,    -999,9,     -999,9,    -999,9,    -999,9,    -999,9,    -999,    -999,9,   40.50,2,    -999,9, 1650.70,      752,  17.4945, -66.0067,    -999,     -999,    -999,   0.1310,2,   0.0920,2,   0.0440,2,   0.0290,2,   0.0180,2,   0.0190,2,   4.0198,    -999,9,       -999,9,    -999,9,    -999,9
 316N200310,        A22,      18,          1,         11,         11,2,20031028,       0711,    17.4940,   -66.0060,       3216,  1829.7,   4.0905,  34.9777,2,  34.9789,2,    224.6,2,   223.5,2,   23.94,2,   21.33,2,    0.00,2,    1.44,2,   0.263,2,   0.139,2,   0.024,2,  2187.6,2,    -999,9,    -999,9,     -999,9,    -999,9,    -999,9,    -999,9,    -999,    -999,9,   41.50,2,    -999,9, 1829.70,      747,  17.4943, -66.0065,    -999,     -999,    -999,   0.1280,2,   0.0890,2,   0.0420,2,   0.0280,2,   0.0180,2,   0.0200,2,   3.9383,    -999,9,       -999,9,    -999,9,    -999,9
 316N200310,        A22,      18,          1,         10,         10,2,20031028,       0711,    17.4940,   -66.0060,       3216,  2000.3,   4.0805,  34.9772,2,  34.9780,2,    222.6,2,   222.4,2,   24.85,2,   21.47,2,    0.00,2,    1.45,2,   0.215,2,   0.120,2,   0.012,2,  2191.7,2,    -999,9,    -999,9,     -999,9,    -999,9,    -999,9,    -999,9,    -999,    -999,9,   40.40,2,    -999,9, 2000.30,      744,  17.4941, -66.0063,    -999,     -999,    -999,   0.1280,2,   0.0900,2,   0.0430,2,   0.0280,2,   0.0180,2,   0.0200,2,   3.9117,    -999,9,       -999,9,    -999,9,    -999,9
 316N200310,        A22,      18,          1,          9,          9,2,20031028,       0711,    17.4940,   -66.0060,       3216,  2149.9,   4.0814,  34.9762,2,  34.9756,2,    216.4,2,   216.7,2,   27.19,2,   22.03,2,    0.00,2,    1.48,2,   0.062,2,   0.040,2,   0.007,2,  2196.0,2,    -999,9,    -999,9,     -999,9,    -999,9,    -999,9,    -999,9,    -999,    -999,9,    -999,9,    -999,9, 2149.90,      740,  17.4941, -66.0062,    -999,     -999,    -999,     -999,9,     -999,9,     -999,9,     -999,9,     -999,9,     -999,9,   3.8977,    -999,9,       -999,9,    -999,9,    -999,9
 316N200310,        A22,      18,          1,          8,          8,2,20031028,       0711,    17.4940,   -66.0060,       3216,  2259.2,   4.0904,  34.9770,2,  34.9784,2,    218.2,2,   220.1,2,   26.18,2,   21.78,2,    0.00,2,    1.46,2,   0.147,2,   0.083,2,   0.013,2,  2192.4,2,    -999,9,    -999,9,     -999,9,    -999,9,    -999,9,    -999,9,    -999,    -999,9,    -999,9,    -999,9, 2259.20,      737,  17.4941, -66.0062,    -999,     -999,    -999,     -999,9,     -999,9,     -999,9,     -999,9,     -999,9,     -999,9,   3.8955,    -999,9,       -999,9,    -999,9,    -999,9
 316N200310,        A22,      18,          1,          7,          7,2,20031028,       0711,    17.4940,   -66.0060,       3216,  2399.7,   4.0962,  34.9762,2,  34.9762,2,    215.0,2,   215.6,2,   28.01,2,   22.13,2,    0.00,2,    1.49,2,   0.024,2,   0.020,2,   0.003,2,  2197.8,2,    -999,9,    -999,9,     -999,9,    -999,9,    -999,9,    -999,9,    -999,    -999,9,    -999,9,    -999,9, 2399.70,      734,  17.4940, -66.0062,    -999,     -999,    -999,     -999,9,     -999,9,     -999,9,     -999,9,     -999,9,     -999,9,   3.8867,    -999,9,       -999,9,    -999,9,    -999,9
 316N200310,        A22,      18,          1,          6,          6,2,20031028,       0711,    17.4940,   -66.0060,       3216,  2549.5,   4.1078,  34.9763,2,  34.9768,2,    215.4,2,   216.1,2,   27.91,2,   22.08,2,    0.00,2,    1.49,2,    -999,9,    -999,9,    -999,9,  2197.0,2,    -999,9,    -999,9,     -999,9,    -999,9,    -999,9,    -999,9,    -999,    -999,9,   41.50,2,    -999,9, 2549.50,      730,  17.4940, -66.0062,    -999,     -999,    -999,   0.1280,2,   0.0900,2,   0.0430,2,   0.0270,2,   0.0190,2,   0.0200,2,   3.8824,    -999,9,       -999,9,    -999,9,    -999,9
 316N200310,        A22,      18,          1,          5,          5,2,20031028,       0711,    17.4940,   -66.0060,       3216,  2659.2,   4.1153,  34.9770,2,  34.9776,2,    217.4,2,   219.5,2,   26.71,2,   21.73,2,    0.00,2,    1.46,2,   0.122,2,   0.069,2,   0.013,2,  2194.7,2,  2335.4,2,    -999,9,     -999,9,    -999,9,    -999,9,    -999,9,    -999,    -999,9,    -999,9,    -999,9, 2659.20,      727,  17.4940, -66.0062,    -999,     -999,    -999,     -999,9,     -999,9,     -999,9,     -999,9,     -999,9,     -999,9,   3.8779,    -999,9,       -999,9,    -999,9,    -999,9
 316N200310,        A22,      18,          1,          4,          4,2,20031028,       0711,    17.4940,   -66.0060,       3216,  2819.4,   4.1284,  34.9769,2,  34.9784,2,    217.2,2,   217.2,2,   27.72,2,   21.93,2,    0.00,2,    1.48,2,   0.053,2,   0.035,2,   0.006,2,  2196.9,2,  2339.1,2,    -999,9,     -999,9,    -999,9,    -999,9,    -999,9,    -999,    -999,9,    -999,9,    -999,9, 2819.40,      724,  17.4940, -66.0062,    -999,     -999,    -999,     -999,9,     -999,9,     -999,9,     -999,9,     -999,9,     -999,9,   3.8734,    -999,9,       -999,9,    -999,9,    -999,9
 316N200310,        A22,      18,          1,          3,          3,2,20031028,       0711,    17.4940,   -66.0060,       3216,  3000.0,   4.1443,  34.9774,2,  34.9778,2,    220.0,2,   220.2,2,   26.72,2,   21.73,2,    0.00,2,    1.46,2,   0.127,2,   0.077,2,   0.010,2,  2194.1,2,  2337.5,2,    -999,9,     -999,9,    -999,9,    -999,9,    -999,9,    -999,    -999,9,   40.20,2,    -999,9, 3000.00,      720,  17.4940, -66.0061,    -999,     -999,    -999,   0.1300,2,   0.0920,2,   0.0440,2,   0.0280,2,   0.0180,2,   0.0200,2,   3.8689,    -999,9,       -999,9,    -999,9,    -999,9
 316N200310,        A22,      18,          1,          2,          2,2,20031028,       0711,    17.4940,   -66.0060,       3216,  3149.3,   4.1587,  34.9776,2,  34.9776,2,    223.1,2,   222.5,2,   25.81,2,   21.53,2,    0.00,2,    1.45,2,   0.182,2,   0.107,2,   0.011,2,  2193.4,2,  2334.5,2,    -999,9,     -999,9,    -999,9,    -999,9,    -999,9,    -999,    -999,9,    -999,9,    -999,9, 3149.30,      717,  17.4939, -66.0061,    -999,     -999,    -999,     -999,9,     -999,9,     -999,9,     -999,9,     -999,9,     -999,9,   3.8661,    -999,9,       -999,9,    -999,9,    -999,9
 316N200310,        A22,      18,          1,          1,          1,2,20031028,       0711,    17.4940,   -66.0060,       3216,  3301.9,   4.1764,  34.9778,2,  34.9784,2,    225.5,2,   224.3,2,   25.12,2,   21.38,2,    0.00,2,    1.44,2,   0.230,2,   0.121,2,   0.011,2,  2191.5,2,  2333.2,6,    -999,9,     -999,9,    -999,9,    -999,9,    -999,9,    -999,    -999,9,   41.30,2,    -999,9, 3301.90,      713,  17.4939, -66.0060,    -999,     -999,    -999,   0.1280,2,   0.0910,2,   0.0440,2,   0.0280,2,   0.0180,2,   0.0200,2,   3.8658,    -999,9,       -999,9,    -999,9,    -999,9