BOTTLE,20220517CCHSIOLMM
EXPOCODE,SECT_ID,STNNBR,CASTNO,SAMPNO,BTLNBR,BTLNBR_FLAG_W,DATE,TIME,LATITUDE,LONGITUDE,DEPTH,CTDPRS,CTDTMP,CTDSAL,CTDSAL_FLAG_W,SALNTY,SALNTY_FLAG_W,CTDOXY,CTDOXY_FLAG_W,OXYGEN,OXYGEN_FLAG_W,SILCAT,SILCAT_FLAG_W,NITRAT,NITRAT_FLAG_W,NITRIT,NITRIT_FLAG_W,PHSPHT,PHSPHT_FLAG_W,CFC-11,CFC-11_FLAG_W,CFC-12,CFC-12_FLAG_W,CFC113,CFC113_FLAG_W,TCARBN,TCARBN_FLAG_W,ALKALI,ALKALI_FLAG_W,TRITUM,TRITUM_FLAG_W,HELIUM,HELIUM_FLAG_W,DELHE3,DELHE3_FLAG_W,DELC13,DELC13_FLAG_W,DELC14,DELC14_FLAG_W,C14ERR,CCL4,CCL4_FLAG_W,DOC,DOC_FLAG_W,TDN,TDN_FLAG_W,CTDRAW,BTL_TIME,BTL_LAT,BTL_LON,TRITER,HELIER,DELHER,CDOM325,CDOM325_FLAG_W,CDOM340,CDOM340_FLAG_W,CDOM380,CDOM380_FLAG_W,CDOM412,CDOM412_FLAG_W,CDOMSL,CDOMSL_FLAG_W,CDOMSN,CDOMSN_FLAG_W,THETA,BACT,BACT_FLAG_W,PROC,PROC_FLAG_W,SYN,SYN_FLAG_W,PEUK,PEUK_FLAG_W
,,,,,,,,,,,METERS,DBAR,ITS-90,PSS-78,,PSS-78,,UMOL/KG,,UMOL/KG,,UMOL/KG,,UMOL/KG,,UMOL/KG,,UMOL/KG,,PMOL/KG,,PMOL/KG,,PMOL/KG,,UMOL/KG,,UMOL/KG,,TU,,NMOL/KG,,PERCNT,,/MILLE,,/MILLE,,/MILLE,PMOL/KG,,UMOL/KG,,UMOL/KG,,DBAR,,,,TU,NMOL/KG,PERCNT,1/M,,1/M,,1/M,,1/M,,1/NM,,1/NM,,DEG C,E8/L,,E7/L,,E6/L,,E6/L,
 316N200310,        A22,       6,          1,         18,         18,2,20031025,       0605,    12.0967,   -66.0038,       1355,     3.4,  28.8997,  36.6016,2,  36.6039,2,    194.6,2,   194.0,2,    0.54,2,    0.11,2,    0.00,2,    0.03,2,   1.510,2,   0.962,2,   0.131,2,  2040.1,2,  2399.6,2,    -999,9,     -999,9,    -999,9,    -999,9,    -999,9,    -999,    -999,9,   72.10,2,    5.30,2,    3.40,      650,  12.1067, -66.0072,    -999,     -999,    -999,   0.0720,2,   0.0470,2,   0.0170,2,   0.0110,2,   0.0280,2,   0.0290,2,  28.8989,    -999,9,       -999,9,    -999,9,    -999,9
 316N200310,        A22,       6,          1,         17,         17,2,20031025,       0605,    12.0967,   -66.0038,       1355,    25.6,  28.9065,  36.6006,2,  36.5997,2,    195.2,2,   193.9,2,    0.42,2,    0.06,2,    0.00,2,    0.02,2,   1.517,2,   0.949,2,   0.123,2,  2041.4,2,  2388.1,6,   0.078,2,   1.7978,2,   -0.10,2,    -999,9,    -999,9,    -999,    -999,9,   69.40,2,    4.90,2,   25.60,      648,  12.1063, -66.0071,   0.011,   0.0090,    0.15,     -999,9,     -999,9,     -999,9,     -999,9,     -999,9,     -999,9,  28.9003,    -999,9,       -999,9,    -999,9,    -999,9
 316N200310,        A22,       6,          1,         16,         16,2,20031025,       0605,    12.0967,   -66.0038,       1355,    50.5,  27.0134,  36.5971,2,  36.5981,2,    202.1,2,   200.3,2,    0.50,2,    0.01,2,    0.00,2,    0.02,2,   1.690,2,   1.042,2,   0.116,2,  2050.3,2,  2401.6,2,   0.075,2,   1.8287,2,   -0.90,2,    -999,9,    -999,9,    -999,    -999,9,   66.90,2,    4.30,2,   50.50,      646,  12.1058, -66.0069,   0.014,   0.0091,    0.15,   0.1450,2,   0.0990,2,   0.0430,2,   0.0280,2,   0.0200,2,   0.0220,2,  27.0018,    -999,9,       -999,9,    -999,9,    -999,9
 316N200310,        A22,       6,          1,         15,         15,2,20031025,       0605,    12.0967,   -66.0038,       1355,    75.3,  23.9524,  36.9010,2,  36.8919,2,    170.8,2,   170.8,2,    0.89,2,    0.94,2,    0.21,2,    0.11,2,   1.832,2,   1.126,2,   0.078,2,  2106.1,2,  2416.0,3,   0.070,2,   1.8256,2,   -0.03,2,    -999,9,    -999,9,    -999,    -999,9,   58.70,2,    5.90,2,   75.30,      644,  12.1054, -66.0069,   0.011,   0.0091,    0.15,     -999,9,     -999,9,     -999,9,     -999,9,     -999,9,     -999,9,  23.9365,    -999,9,       -999,9,    -999,9,    -999,9
 316N200310,        A22,       6,          1,         14,         14,2,20031025,       0605,    12.0967,   -66.0038,       1355,   100.1,  21.5490,  36.9288,2,  36.9258,2,    151.2,2,   153.7,2,    1.27,2,    4.60,2,    0.04,2,    0.26,2,   1.965,2,   1.166,2,   0.054,2,  2138.0,2,  2415.8,2,   0.061,2,   1.8339,2,   -0.96,2,    -999,9,    -999,9,    -999,    -999,9,   53.10,2,    8.40,2,  100.10,      642,  12.1049, -66.0068,   0.011,   0.0092,    0.15,   0.1450,2,   0.1060,2,   0.0530,2,   0.0400,2,   0.0140,2,   0.0170,2,  21.5293,    -999,9,       -999,9,    -999,9,    -999,9
 316N200310,        A22,       6,          1,         13,         13,2,20031025,       0605,    12.0967,   -66.0038,       1355,   125.6,  20.4795,  36.8013,2,  36.7964,2,    145.9,2,   147.2,2,    1.76,2,    6.33,2,    0.02,2,    0.36,2,   2.016,6,   1.183,6,   0.043,6,  2144.1,2,  2406.4,2,   0.056,2,   1.8420,2,   -0.53,2,    -999,9,    -999,9,    -999,    -999,9,   42.40,2,   10.80,2,  125.60,      641,  12.1046, -66.0068,   0.011,   0.0092,    0.15,     -999,9,     -999,9,     -999,9,     -999,9,     -999,9,     -999,9,  20.4557,    -999,9,       -999,9,    -999,9,    -999,9
 316N200310,        A22,       6,          1,         12,         12,2,20031025,       0605,    12.0967,   -66.0038,       1355,   150.7,  19.1505,  36.6271,2,  36.6225,2,    145.8,2,   146.7,2,    2.24,2,    7.94,2,    0.02,2,    0.46,2,   2.041,2,   1.179,2,   0.017,2,  2148.3,2,  2395.6,2,    -999,9,     -999,9,    -999,9,    -999,9,    -999,9,    -999,    -999,9,   51.60,2,   12.20,2,  150.70,      640,  12.1042, -66.0067,    -999,     -999,    -999,   0.1300,2,   0.0920,2,   0.0450,2,   0.0330,2,   0.0150,2,   0.0180,2,  19.1232,    -999,9,       -999,9,    -999,9,    -999,9
 316N200310,        A22,       6,          1,         11,         11,2,20031025,       0605,    12.0967,   -66.0038,       1355,   201.5,  16.9486,  36.2809,2,  36.2831,2,    145.5,2,   145.1,2,    3.33,2,   11.42,2,    0.01,2,    0.66,2,   2.006,2,   1.122,2,   0.024,2,  2155.2,2,  2377.0,2,    -999,9,     -999,9,    -999,9,    -999,9,    -999,9,    -999,    -999,9,   48.60,2,   14.50,2,  201.50,      638,  12.1037, -66.0066,    -999,     -999,    -999,   0.1240,2,   0.0900,2,   0.0450,2,   0.0330,2,   0.0150,2,   0.0170,2,  16.9151,    -999,9,       -999,9,    -999,9,    -999,9
 316N200310,        A22,       6,          1,         10,         10,2,20031025,       0605,    12.0967,   -66.0038,       1355,   251.0,  14.3516,  35.8280,2,  35.8323,2,    135.4,2,   133.5,2,    6.14,2,   16.97,2,    0.00,2,    1.03,2,   1.750,2,   0.946,2,   0.019,2,  2172.3,2,  2346.2,2,    -999,9,     -999,9,    -999,9,    -999,9,    -999,9,    -999,    -999,9,    -999,9,    -999,9,  251.00,      636,  12.1033, -66.0064,    -999,     -999,    -999,     -999,9,     -999,9,     -999,9,     -999,9,     -999,9,     -999,9,  14.3144,    -999,9,       -999,9,    -999,9,    -999,9
 316N200310,        A22,       6,          1,          9,          9,2,20031025,       0605,    12.0967,   -66.0038,       1355,   301.8,  12.4328,  35.4946,2,  35.4951,2,    125.5,2,   125.1,2,    8.84,2,   21.29,2,    0.00,2,    1.32,2,   1.474,2,   0.791,2,   0.017,2,  2182.5,2,  2325.1,2,    -999,9,     -999,9,    -999,9,    -999,9,    -999,9,    -999,    -999,9,    -999,9,    -999,9,  301.80,      634,  12.1028, -66.0063,    -999,     -999,    -999,     -999,9,     -999,9,     -999,9,     -999,9,     -999,9,     -999,9,  12.3922,    -999,9,       -999,9,    -999,9,    -999,9
 316N200310,        A22,       6,          1,          8,          8,2,20031025,       0605,    12.0967,   -66.0038,       1355,   401.6,  10.1695,  35.1412,2,  35.1435,2,    119.2,2,   119.1,2,   12.76,2,   26.25,2,    0.00,2,    1.66,2,   1.029,2,   0.541,2,   0.004,2,  2199.0,2,  2311.7,3,    -999,9,     -999,9,    -999,9,    -999,9,    -999,9,    -999,    -999,9,   47.40,2,    -999,9,  401.60,      631,  12.1022, -66.0060,    -999,     -999,    -999,   0.1300,2,   0.0930,2,   0.0490,2,   0.0370,2,   0.0140,2,   0.0160,2,  10.1218,    -999,9,       -999,9,    -999,9,    -999,9
 316N200310,        A22,       6,          1,          7,          7,2,20031025,       0605,    12.0967,   -66.0038,       1355,   501.2,   8.5727,  34.9306,2,  34.9311,2,    118.7,2,   119.2,2,   16.38,2,   29.59,2,    0.00,2,    1.90,2,   0.657,2,   0.341,2,   0.026,2,  2205.6,2,  2304.7,2,    -999,9,     -999,9,    -999,9,    -999,9,    -999,9,    -999,    -999,9,    -999,9,    -999,9,  501.20,      629,  12.1015, -66.0057,    -999,     -999,    -999,     -999,9,     -999,9,     -999,9,     -999,9,     -999,9,     -999,9,   8.5190,    -999,9,       -999,9,    -999,9,    -999,9
 316N200310,        A22,       6,          1,          6,          6,2,20031025,       0605,    12.0967,   -66.0038,       1355,   626.1,   7.3581,  34.8098,2,  34.8100,2,    121.7,2,   123.0,2,   19.90,2,   31.63,2,    0.00,2,    2.05,2,   0.381,6,   0.213,6,   0.010,6,  2213.8,2,  2302.2,6,    -999,9,     -999,9,    -999,9,    -999,9,    -999,9,    -999,   0.239,2,    -999,9,    -999,9,  626.10,      625,  12.1008, -66.0054,    -999,     -999,    -999,     -999,9,     -999,9,     -999,9,     -999,9,     -999,9,     -999,9,   7.2962,    -999,9,       -999,9,    -999,9,    -999,9
 316N200310,        A22,       6,          1,          5,          5,2,20031025,       0605,    12.0967,   -66.0038,       1355,   751.1,   6.2423,  34.7698,2,  34.7703,2,    132.5,2,   133.3,2,   23.32,2,   32.02,2,    0.00,2,    2.11,2,   0.158,2,   0.089,2,   0.010,3,  2216.7,2,    -999,9,    -999,9,     -999,9,    -999,9,    -999,9,    -999,9,    -999,    -999,9,   42.20,2,    -999,9,  751.10,      622,  12.1000, -66.0052,    -999,     -999,    -999,   0.1380,2,   0.0980,2,   0.0530,2,   0.0390,2,   0.0140,2,   0.0160,2,   6.1737,    -999,9,       -999,9,    -999,9,    -999,9
 316N200310,        A22,       6,          1,          4,          4,2,20031025,       0605,    12.0967,   -66.0038,       1355,   901.0,   5.4327,  34.8780,2,  34.8790,2,    162.3,2,   163.3,2,   24.21,2,   28.09,2,    0.00,2,    1.88,2,   0.060,2,   0.040,2,   0.003,2,  2207.7,2,    -999,9,    -999,9,     -999,9,    -999,9,    -999,9,    -999,9,    -999,    -999,9,    -999,9,    -999,9,  901.00,      618,  12.0992, -66.0049,    -999,     -999,    -999,     -999,9,     -999,9,     -999,9,     -999,9,     -999,9,     -999,9,   5.3548,    -999,9,       -999,9,    -999,9,    -999,9
 316N200310,        A22,       6,          1,          3,          3,2,20031025,       0605,    12.0967,   -66.0038,       1355,  1051.0,   4.8718,  34.9390,2,  34.9386,2,    188.0,2,   186.9,2,   24.08,2,   25.18,2,    0.00,2,    1.70,2,   0.040,2,   0.029,2,   0.000,2,  2201.1,2,  2319.3,2,    -999,9,     -999,9,    -999,9,    -999,9,    -999,9,    -999,    -999,9,   42.00,2,    -999,9, 1051.00,      615,  12.0984, -66.0045,    -999,     -999,    -999,     -999,9,     -999,9,     -999,9,     -999,9,     -999,9,     -999,9,   4.7841,    -999,9,       -999,9,    -999,9,    -999,9
 316N200310,        A22,       6,          1,          2,          2,2,20031025,       0605,    12.0967,   -66.0038,       1355,  1201.0,   4.5352,  34.9588,2,  34.9579,2,    199.9,2,   199.1,2,   24.57,2,   23.85,2,    0.00,2,    1.61,2,   0.033,2,   0.019,2,   0.004,2,  2198.5,2,  2322.7,2,    -999,9,     -999,9,    -999,9,    -999,9,    -999,9,    -999,    -999,9,    -999,9,    -999,9, 1201.00,      610,  12.0975, -66.0043,    -999,     -999,    -999,     -999,9,     -999,9,     -999,9,     -999,9,     -999,9,     -999,9,   4.4367,    -999,9,       -999,9,    -999,9,    -999,9
 316N200310,        A22,       6,          1,          1,          1,2,20031025,       0605,    12.0967,   -66.0038,       1355,  1330.0,   4.4184,  34.9643,2,  34.9640,2,    203.9,2,   203.3,2,   25.06,2,   23.41,2,    0.00,2,    1.58,2,   0.034,2,   0.024,2,   0.005,2,  2196.6,2,  2324.4,6,    -999,9,     -999,9,    -999,9,    -999,9,    -999,9,    -999,    -999,9,   43.30,2,    -999,9, 1330.00,      607,  12.0968, -66.0040,    -999,     -999,    -999,   0.1540,2,   0.1120,2,   0.0580,2,   0.0400,2,   0.0150,2,   0.0160,2,   4.3093,    -999,9,       -999,9,    -999,9,    -999,9