BOTTLE,20220517CCHSIOLMM
# SYN flag changed from 1 to 2, original submission used IGOSS flags
#BOTTLE,20201022CCHSIOCBG
# Merged parameters: BACT, BACT_FLAG_W, PROC, PROC_FLAG_W, SYN, SYN_FLAG_W, PEUK, PEUK_FLAG_W
# 20140131SIOCCHCBG
# Merged parameters: OXYGEN, BTL_TIME, BTL_LAT, BTL_LON
# 20101110CCHDOSIOJCF
# BOTTLE,20100910CCHDOSIOCBG
#
# DATA CITATION
#| Following American Geophysical Union recommendations, the data should be cited as:
#| [Data providers of the parameter(s) used]. [Year of file access]. [CTD/Bottle] data
#| from cruise [expocode], [format version used]. Accessed from CCHDO [url of cruise
#| data page]. Access date [date of download]. [Applicable CCHDO cruise DOI if provided]
#|
#| For further information, please contact one of the parties listed above or cchdo@ucsd.edu.
#| Users are also requested to acknowledge the NSF/NOAA-funded U.S. Repeat Hydrography Program
#| in publications resulting from their use.
#|
#|
#| For data citation, please use the data providers listed below.
#|
#| Programs and Principal Investigators
#|
#| PARAMETER/PROGRAM   NAME                    EMAIL ADDRESS
#| -----------------   ----                    --------------
#| Chief Scientist     Terrence Joyce-WHOI     tjoyce@whoi.edu
#| Co-Chief Scientist  William Smethie-LDEO    bsmeth@ldeo.columbia.edu
#| CTDO/S/O2/Nutrients James Swift-SIO         jswift@ucsd.edu
#| DIC                 Richard Feely-PMEL      Richard.A.Feely@noaa.gov
#|                     Chris Sabine-PMEL       Chris.Sabine@noaa.gov
#| CFC                 William Smethie-LDEO    bsmeth@ldeo.columbia.edu
#|                     Rana Fine-UofMiami      rfine@rsmas.miami.edu
#| TALK                Frank Millero-UofMiami  fmillero@rsmas.miami.edu
#| CDOM, DOC, DON      Craig Carlson-UCSB      carlson@lifesci.ucsb.edu
#| He/Tr               William Jenkins-WHOI    wjenkins@whoi.edu
#| Surface C14         Ann McNichol-WHOI       amcnichol@whoi.edu
#|                     Robert Key-Princeton    rkey@princeton.edu
#| C13 profiles        Paul Quay-UofWash       pdquay@u.washington.ed
#|
#
EXPOCODE,SECT_ID,STNNBR,CASTNO,SAMPNO,BTLNBR,BTLNBR_FLAG_W,DATE,TIME,LATITUDE,LONGITUDE,DEPTH,CTDPRS,CTDTMP,CTDSAL,CTDSAL_FLAG_W,SALNTY,SALNTY_FLAG_W,CTDOXY,CTDOXY_FLAG_W,OXYGEN,OXYGEN_FLAG_W,SILCAT,SILCAT_FLAG_W,NITRAT,NITRAT_FLAG_W,NITRIT,NITRIT_FLAG_W,PHSPHT,PHSPHT_FLAG_W,CFC-11,CFC-11_FLAG_W,CFC-12,CFC-12_FLAG_W,CFC113,CFC113_FLAG_W,TCARBN,TCARBN_FLAG_W,ALKALI,ALKALI_FLAG_W,TRITUM,TRITUM_FLAG_W,HELIUM,HELIUM_FLAG_W,DELHE3,DELHE3_FLAG_W,DELC13,DELC13_FLAG_W,DELC14,DELC14_FLAG_W,C14ERR,CCL4,CCL4_FLAG_W,DOC,DOC_FLAG_W,TDN,TDN_FLAG_W,CTDRAW,BTL_TIME,BTL_LAT,BTL_LON,TRITER,HELIER,DELHER,CDOM325,CDOM325_FLAG_W,CDOM340,CDOM340_FLAG_W,CDOM380,CDOM380_FLAG_W,CDOM412,CDOM412_FLAG_W,CDOMSL,CDOMSL_FLAG_W,CDOMSN,CDOMSN_FLAG_W,THETA,BACT,BACT_FLAG_W,PROC,PROC_FLAG_W,SYN,SYN_FLAG_W,PEUK,PEUK_FLAG_W
,,,,,,,,,,,METERS,DBAR,ITS-90,PSS-78,,PSS-78,,UMOL/KG,,UMOL/KG,,UMOL/KG,,UMOL/KG,,UMOL/KG,,UMOL/KG,,PMOL/KG,,PMOL/KG,,PMOL/KG,,UMOL/KG,,UMOL/KG,,TU,,NMOL/KG,,PERCNT,,/MILLE,,/MILLE,,/MILLE,PMOL/KG,,UMOL/KG,,UMOL/KG,,DBAR,,,,TU,NMOL/KG,PERCNT,1/M,,1/M,,1/M,,1/M,,1/NM,,1/NM,,DEG C,E8/L,,E7/L,,E6/L,,E6/L,
 316N200310,        A22,       1,          1,         36,         36,2,20031024,       0909,    11.3358,   -64.7563,        985,     2.5,  28.9049,  36.7192,2,  36.7123,2,    194.6,2,   193.8,2,    0.50,2,    0.10,2,    0.00,2,    0.02,2,   1.526,2,   0.938,2,   0.112,2,  2050.1,2,    -999,9,    -999,9,     -999,9,    -999,9,    1.60,2,    74.7,2,     2.9,    -999,9,   72.00,2,    4.30,2,    2.50,      949,  11.3413, -64.7590,    -999,     -999,    -999,   0.0720,2,   0.0480,2,   0.0200,2,   0.0140,2,   0.0260,2,   0.0270,2,  28.9043,    4.37,2,      20.46,2,    7.66,2,    1.76,2
 316N200310,        A22,       1,          1,         35,         35,2,20031024,       0909,    11.3358,   -64.7563,        985,     2.5,  28.9053,  36.7192,2,  36.7127,2,    194.6,2,   193.3,2,    0.38,2,    0.05,2,    0.00,2,    0.02,2,   1.532,2,   0.934,2,   0.090,2,    -999,9,    -999,9,    -999,9,     -999,9,    -999,9,    -999,9,    -999,9,    -999,   1.557,2,    -999,9,    -999,9,    2.50,      949,  11.3413, -64.7589,    -999,     -999,    -999,     -999,9,     -999,9,     -999,9,     -999,9,     -999,9,     -999,9,  28.9047,    -999,9,       -999,9,    -999,9,    -999,9
 316N200310,        A22,       1,          1,         34,         34,2,20031024,       0909,    11.3358,   -64.7563,        985,    25.2,  28.8861,  36.7163,2,  36.6963,2,    197.8,2,   194.4,2,    0.59,2,    0.09,2,    0.00,2,    0.02,2,   1.605,2,   0.988,2,   0.124,2,  2051.4,2,    -999,9,    -999,9,     -999,9,    -999,9,    -999,9,    -999,9,    -999,    -999,9,   70.30,2,    4.10,2,   25.20,      947,  11.3410, -64.7588,    -999,     -999,    -999,   0.0940,2,   0.0620,2,   0.0250,2,   0.0170,2,   0.0260,2,   0.0270,2,  28.8800,    4.64,2,      23.05,2,    8.78,2,    3.00,2
 316N200310,        A22,       1,          1,         33,         33,2,20031024,       0909,    11.3358,   -64.7563,        985,    25.2,  28.8912,  36.7174,2,  36.6877,2,    197.8,2,   195.1,2,    0.47,2,    0.09,2,    0.00,2,    0.02,2,   1.615,2,   0.958,2,   0.084,2,    -999,9,    -999,9,    -999,9,     -999,9,    -999,9,    -999,9,    -999,9,    -999,   1.276,2,    -999,9,    -999,9,   25.20,      947,  11.3410, -64.7588,    -999,     -999,    -999,     -999,9,     -999,9,     -999,9,     -999,9,     -999,9,     -999,9,  28.8851,    -999,9,       -999,9,    -999,9,    -999,9
 316N200310,        A22,       1,          1,         31,         31,2,20031024,       0909,    11.3358,   -64.7563,        985,    50.2,  25.3379,  36.7902,2,  36.7935,2,    194.0,2,   191.2,2,    0.56,2,    0.08,2,    0.01,2,    0.03,2,   1.817,2,   1.093,2,   0.069,2,    -999,5,    -999,9,    -999,9,     -999,9,    -999,9,    -999,9,    -999,9,    -999,   0.463,2,    -999,9,    3.60,2,   50.20,      945,  11.3408, -64.7587,    -999,     -999,    -999,     -999,9,     -999,9,     -999,9,     -999,9,     -999,9,     -999,9,  25.3268,    -999,9,       -999,9,    -999,9,    -999,9
 316N200310,        A22,       1,          1,         32,         32,2,20031024,       0909,    11.3358,   -64.7563,        985,    50.3,  25.3350,  36.7918,2,  36.7956,2,    194.0,2,   190.7,2,    0.47,2,    0.13,2,    0.01,2,    0.03,2,   1.809,2,   1.088,2,   0.091,2,  2079.4,2,    -999,9,    -999,9,     -999,9,    -999,9,    -999,9,    -999,9,    -999,    -999,9,   66.40,2,    -999,9,   50.30,      945,  11.3408, -64.7587,    -999,     -999,    -999,   0.1820,2,   0.1320,2,   0.0680,2,   0.0510,2,   0.0140,2,   0.0160,2,  25.3239,    3.43,2,      16.69,2,   15.75,2,   26.46,2
 316N200310,        A22,       1,          1,         29,         29,2,20031024,       0909,    11.3358,   -64.7563,        985,    75.3,  23.5288,  36.9510,2,  36.9415,2,    155.2,2,   159.1,2,    1.16,2,    3.35,2,    0.16,2,    0.21,2,   1.871,2,   1.118,2,   0.049,2,    -999,5,    -999,9,    -999,9,     -999,9,    -999,9,    -999,9,    -999,9,    -999,   0.227,2,    -999,9,    -999,9,   75.30,      943,  11.3405, -64.7585,    -999,     -999,    -999,     -999,9,     -999,9,     -999,9,     -999,9,     -999,9,     -999,9,  23.5131,    -999,9,       -999,9,    -999,9,    -999,9
 316N200310,        A22,       1,          1,         30,         30,2,20031024,       0909,    11.3358,   -64.7563,        985,    75.4,  23.5322,  36.9470,2,  36.9395,2,    155.2,2,   159.2,2,    1.16,2,    3.24,2,    0.17,2,    0.20,2,   1.858,2,   1.120,2,   0.078,2,  2118.1,2,    -999,9,    -999,9,     -999,9,    -999,9,    -999,9,    -999,9,    -999,    -999,9,   59.40,2,    6.80,2,   75.40,      944,  11.3406, -64.7586,    -999,     -999,    -999,   0.2050,2,   0.1480,2,   0.0720,2,   0.0490,2,   0.0160,2,   0.0180,2,  23.5164,    3.12,2,       4.28,2,    0.47,2,    1.91,2
 316N200310,        A22,       1,          1,         28,         28,2,20031024,       0909,    11.3358,   -64.7563,        985,   100.5,  22.4363,  36.9228,2,  36.9177,2,    151.8,2,   151.3,2,    1.45,2,    5.03,2,    0.03,2,    0.28,2,   1.912,2,   1.140,2,   0.060,2,  2132.0,2,    -999,9,    -999,9,     -999,9,    -999,9,    -999,9,    -999,9,    -999,    -999,9,   56.40,2,    8.10,2,  100.50,      942,  11.3403, -64.7585,    -999,     -999,    -999,   0.1650,2,   0.1200,2,   0.0610,2,   0.0450,2,   0.0150,2,   0.0160,2,  22.4160,    1.95,2,       1.40,2,    0.16,2,    0.69,2
 316N200310,        A22,       1,          1,         27,         27,2,20031024,       0909,    11.3358,   -64.7563,        985,   100.5,  22.4392,  36.9232,2,  36.9177,2,    151.8,2,   151.4,2,    1.55,2,    5.03,2,    0.03,2,    0.28,2,   1.935,2,   1.135,2,   0.038,2,    -999,5,    -999,9,    -999,9,     -999,9,    -999,9,    -999,9,    -999,9,    -999,   0.181,2,    -999,9,    -999,9,  100.50,      942,  11.3402, -64.7585,    -999,     -999,    -999,     -999,9,     -999,9,     -999,9,     -999,9,     -999,9,     -999,9,  22.4189,    -999,9,       -999,9,    -999,9,    -999,9
 316N200310,        A22,       1,          1,         25,         25,2,20031024,       0909,    11.3358,   -64.7563,        985,   125.8,  21.2480,  36.8441,2,  36.8389,2,    143.3,2,   141.9,2,    2.05,2,    6.77,2,    0.02,2,    0.38,2,   1.984,2,   1.167,2,   0.028,2,    -999,5,    -999,9,    -999,9,     -999,9,    -999,9,    -999,9,    -999,9,    -999,   0.173,2,    -999,9,    -999,9,  125.80,      940,  11.3399, -64.7584,    -999,     -999,    -999,     -999,9,     -999,9,     -999,9,     -999,9,     -999,9,     -999,9,  21.2235,    -999,9,       -999,9,    -999,9,    -999,9
 316N200310,        A22,       1,          1,         26,         26,2,20031024,       0909,    11.3358,   -64.7563,        985,   125.8,  21.2525,  36.8444,2,  36.8373,2,    143.3,2,   142.1,2,    2.05,2,    6.78,2,    0.02,2,    0.38,2,   1.973,2,   1.158,2,   0.046,2,  2143.7,2,    -999,9,    -999,9,     -999,9,    -999,9,    -999,9,    -999,9,    -999,    -999,9,   54.80,2,    9.30,4,  125.80,      940,  11.3399, -64.7584,    -999,     -999,    -999,   0.1740,2,   0.1260,2,   0.0650,2,   0.0480,2,   0.0140,2,   0.0160,2,  21.2280,    1.93,2,       0.31,2,    0.00,2,    0.21,2
 316N200310,        A22,       1,          1,         24,         24,2,20031024,       0909,    11.3358,   -64.7563,        985,   150.6,  20.0959,  36.7362,2,  36.7282,2,    141.6,2,   137.7,2,    2.55,2,    8.13,2,    0.01,2,    0.45,2,   2.006,2,   1.190,2,   0.030,2,  2150.5,2,    -999,9,    -999,9,     -999,9,    -999,9,    -999,9,    -999,9,    -999,    -999,9,   51.10,2,   10.40,4,  150.60,      938,  11.3396, -64.7583,    -999,     -999,    -999,   0.1750,3,   0.1310,3,   0.0720,3,   0.0550,3,   0.0130,3,   0.0140,3,  20.0677,    1.69,2,       0.00,2,    0.00,2,    0.29,2
 316N200310,        A22,       1,          1,         23,         23,2,20031024,       0909,    11.3358,   -64.7563,        985,   150.6,  20.0951,  36.7362,2,  36.7284,2,    141.6,2,   137.5,2,    2.65,2,    8.18,2,    0.01,2,    0.46,2,   2.019,2,   1.172,2,   0.017,2,    -999,5,    -999,9,    -999,9,     -999,9,    -999,9,    -999,9,    -999,9,    -999,   0.168,2,    -999,9,    -999,9,  150.60,      938,  11.3395, -64.7583,    -999,     -999,    -999,     -999,9,     -999,9,     -999,9,     -999,9,     -999,9,     -999,9,  20.0669,    -999,9,       -999,9,    -999,9,    -999,9
 316N200310,        A22,       1,          1,         21,         21,2,20031024,       0909,    11.3358,   -64.7563,        985,   175.8,  19.1895,  36.6234,2,  36.6168,2,    143.1,2,   143.5,2,    2.63,2,    8.76,2,    0.01,2,    0.49,2,   2.041,2,   1.180,2,   0.013,2,  2148.1,2,    -999,9,    -999,9,     -999,9,    -999,9,    -999,9,    -999,9,    -999,   0.199,2,    -999,9,    -999,9,  175.80,      937,  11.3392, -64.7582,    -999,     -999,    -999,     -999,9,     -999,9,     -999,9,     -999,9,     -999,9,     -999,9,  19.1576,    -999,9,       -999,9,    -999,9,    -999,9
 316N200310,        A22,       1,          1,         22,         22,2,20031024,       0909,    11.3358,   -64.7563,        985,   175.9,  19.1898,  36.6235,2,  36.6177,2,    143.1,2,   143.6,2,    2.54,2,    8.76,2,    0.01,2,    0.49,2,   2.030,2,   1.177,2,   0.009,2,  2150.4,2,    -999,9,    -999,9,     -999,9,    -999,9,    -999,9,    -999,9,    -999,    -999,9,   52.60,2,   10.60,4,  175.90,      937,  11.3393, -64.7582,    -999,     -999,    -999,   0.1450,2,   0.1070,2,   0.0560,2,   0.0420,2,   0.0140,2,   0.0160,2,  19.1579,    1.56,2,       0.00,2,    0.00,2,    0.20,2
 316N200310,        A22,       1,          1,         19,         19,2,20031024,       0909,    11.3358,   -64.7563,        985,   200.3,  18.4221,  36.5207,2,  36.5123,2,    143.9,2,   145.4,2,    2.82,2,    9.58,2,    0.01,2,    0.53,2,   2.070,2,   1.168,2,   0.010,2,  2148.5,2,    -999,9,    -999,9,     -999,9,    -999,9,    -999,9,    -999,9,    -999,   0.223,2,    -999,9,    -999,9,  200.30,      935,  11.3390, -64.7580,    -999,     -999,    -999,     -999,9,     -999,9,     -999,9,     -999,9,     -999,9,     -999,9,  18.3868,    -999,9,       -999,9,    -999,9,    -999,9
 316N200310,        A22,       1,          1,         20,         20,2,20031024,       0909,    11.3358,   -64.7563,        985,   200.3,  18.4290,  36.5212,2,  36.5147,2,    143.9,2,   145.4,2,    2.83,2,    9.58,2,    0.01,2,    0.52,2,   2.050,2,   1.175,2,   0.014,2,  2149.6,2,    -999,9,    -999,9,     -999,9,    -999,9,    -999,9,    -999,9,    -999,    -999,9,   48.80,2,   11.90,4,  200.30,      935,  11.3390, -64.7580,    -999,     -999,    -999,   0.1310,2,   0.0950,2,   0.0480,2,   0.0360,2,   0.0150,2,   0.0170,2,  18.3937,    1.44,2,       0.00,2,    0.03,2,    0.08,2
 316N200310,        A22,       1,          1,         17,         17,2,20031024,       0909,    11.3358,   -64.7563,        985,   250.9,  16.0267,  36.1070,2,  36.1080,2,    140.0,2,   138.9,2,    4.65,2,   14.10,2,    0.01,2,    0.82,2,   1.967,2,   1.073,2,   0.013,2,  2160.3,2,    -999,9,    -999,9,     -999,9,    -999,9,    -999,9,    -999,9,    -999,   0.265,2,    -999,9,    -999,9,  250.90,      933,  11.3387, -64.7578,    -999,     -999,    -999,     -999,9,     -999,9,     -999,9,     -999,9,     -999,9,     -999,9,  15.9865,    -999,9,       -999,9,    -999,9,    -999,9
 316N200310,        A22,       1,          1,         18,         18,2,20031024,       0909,    11.3358,   -64.7563,        985,   250.9,  16.0195,  36.1060,2,  36.1049,2,    140.0,2,   139.1,2,    4.55,2,   14.10,2,    0.01,2,    0.82,2,   1.943,2,   1.083,2,   0.044,2,  2162.2,2,    -999,9,    -999,9,     -999,9,    -999,9,    -999,9,    -999,9,    -999,    -999,9,   47.70,2,   16.40,4,  250.90,      933,  11.3387, -64.7578,    -999,     -999,    -999,   0.1280,2,   0.0900,2,   0.0440,2,   0.0320,2,   0.0160,2,   0.0180,2,  15.9794,    -999,9,       -999,9,    -999,9,    -999,9
 316N200310,        A22,       1,          1,         15,         15,2,20031024,       0909,    11.3358,   -64.7563,        985,   302.9,  12.5941,  35.5241,2,  35.5227,2,    128.4,2,   126.7,2,    8.93,2,   21.19,2,    0.01,2,    1.32,2,   1.514,6,   0.805,6,   0.035,2,  2180.2,2,    -999,9,    -999,9,     -999,9,    -999,9,    -999,9,    -999,9,    -999,   0.300,2,    -999,9,    -999,9,  302.90,      930,  11.3383, -64.7575,    -999,     -999,    -999,     -999,9,     -999,9,     -999,9,     -999,9,     -999,9,     -999,9,  12.5529,    -999,9,       -999,9,    -999,9,    -999,9
 316N200310,        A22,       1,          1,         16,         16,2,20031024,       0909,    11.3358,   -64.7563,        985,   303.0,  12.5769,  35.5219,2,  35.5247,2,    128.4,2,   126.5,2,    8.73,2,   21.09,2,    0.01,2,    1.31,2,   1.512,2,   0.807,2,   0.010,2,  2181.9,2,    -999,9,    -999,9,     -999,9,    -999,9,    -999,9,    -999,9,    -999,    -999,9,   46.70,2,    -999,9,  303.00,      930,  11.3384, -64.7576,    -999,     -999,    -999,   0.1300,2,   0.0930,2,   0.0480,2,   0.0360,2,   0.0140,2,   0.0160,2,  12.5358,    -999,9,       -999,9,    -999,9,    -999,9
 316N200310,        A22,       1,          1,         13,         13,2,20031024,       0909,    11.3358,   -64.7563,        985,   399.6,   9.7984,  35.0872,2,  35.0870,2,    117.5,2,   118.6,2,   13.83,2,   27.03,2,    0.00,2,    1.73,2,   0.986,2,   0.512,2,   0.011,2,  2198.0,2,    -999,9,    -999,9,     -999,9,    -999,9,    -999,9,    -999,9,    -999,   0.341,2,    -999,9,    -999,9,  399.60,      927,  11.3380, -64.7573,    -999,     -999,    -999,     -999,9,     -999,9,     -999,9,     -999,9,     -999,9,     -999,9,   9.7521,    -999,9,       -999,9,    -999,9,    -999,9
 316N200310,        A22,       1,          1,         14,         14,2,20031024,       0909,    11.3358,   -64.7563,        985,   399.8,   9.7962,  35.0870,2,  35.0870,2,    117.5,2,   118.5,2,   13.84,2,   27.01,2,    0.00,2,    1.73,2,   0.964,2,   0.513,2,   0.009,2,  2199.4,2,    -999,9,    -999,9,     -999,9,    -999,9,    -999,9,    -999,9,    -999,    -999,9,   45.80,2,    -999,9,  399.80,      927,  11.3380, -64.7573,    -999,     -999,    -999,   0.1350,2,   0.0960,2,   0.0520,2,   0.0400,2,   0.0130,2,   0.0150,2,   9.7499,    -999,9,       -999,9,    -999,9,    -999,9
 316N200310,        A22,       1,          1,         11,         11,2,20031024,       0909,    11.3358,   -64.7563,        985,   501.1,   8.5199,  34.9159,2,  34.9144,2,    116.4,2,   118.9,2,   17.00,2,   29.57,2,    0.00,2,    1.93,2,   0.691,2,   0.368,2,   0.007,2,  2206.6,2,    -999,9,    -999,9,     -999,9,    -999,9,    -999,9,    -999,9,    -999,   0.320,2,    -999,9,    -999,9,  501.10,      924,  11.3375, -64.7571,    -999,     -999,    -999,     -999,9,     -999,9,     -999,9,     -999,9,     -999,9,     -999,9,   8.4664,    -999,9,       -999,9,    -999,9,    -999,9
 316N200310,        A22,       1,          1,         12,         12,2,20031024,       0909,    11.3358,   -64.7563,        985,   501.2,   8.5207,  34.9161,2,  34.9142,2,    116.4,2,   119.0,2,   17.01,2,   29.51,2,    0.00,2,    1.92,2,   0.695,2,   0.369,2,   0.004,2,  2207.1,2,    -999,9,    -999,9,     -999,9,    -999,9,    -999,9,    -999,9,    -999,    -999,9,   42.20,2,    -999,9,  501.20,      924,  11.3376, -64.7572,    -999,     -999,    -999,   0.1500,2,   0.1080,2,   0.0610,2,   0.0470,2,   0.0130,2,   0.0140,2,   8.4671,    -999,9,       -999,9,    -999,9,    -999,9
 316N200310,        A22,       1,          1,          9,          9,2,20031024,       0909,    11.3358,   -64.7563,        985,   602.8,   7.8296,  34.8462,2,  34.8440,2,    120.2,2,   120.8,2,   19.03,2,   30.63,2,    0.00,2,    2.01,2,   0.525,2,   0.288,2,   0.006,2,  2210.0,2,    -999,9,    -999,9,     -999,9,    -999,9,    -999,9,    -999,9,    -999,   0.291,2,    -999,9,    -999,9,  602.80,      921,  11.3371, -64.7570,    -999,     -999,    -999,     -999,9,     -999,9,     -999,9,     -999,9,     -999,9,     -999,9,   7.7679,    -999,9,       -999,9,    -999,9,    -999,9
 316N200310,        A22,       1,          1,         10,         10,2,20031024,       0909,    11.3358,   -64.7563,        985,   602.8,   7.8322,  34.8464,2,  34.8444,2,    120.2,2,   120.9,2,   18.94,2,   30.67,2,    0.00,2,    2.00,2,   0.522,6,   0.277,6,   0.009,6,  2210.6,2,    -999,9,    -999,9,     -999,9,    -999,9,    -999,9,    -999,9,    -999,    -999,9,   44.80,2,    -999,9,  602.80,      921,  11.3371, -64.7570,    -999,     -999,    -999,   0.1420,2,   0.1010,2,   0.0560,2,   0.0430,2,   0.0130,2,   0.0150,2,   7.7705,    -999,9,       -999,9,    -999,9,    -999,9