BOTTLE,20220517CCHSIOLMM
EXPOCODE,SECT_ID,STNNBR,CASTNO,SAMPNO,BTLNBR,BTLNBR_FLAG_W,DATE,TIME,LATITUDE,LONGITUDE,DEPTH,CTDPRS,CTDTMP,CTDSAL,CTDSAL_FLAG_W,SALNTY,SALNTY_FLAG_W,CTDOXY,CTDOXY_FLAG_W,OXYGEN,OXYGEN_FLAG_W,SILCAT,SILCAT_FLAG_W,NITRAT,NITRAT_FLAG_W,NITRIT,NITRIT_FLAG_W,PHSPHT,PHSPHT_FLAG_W,CFC-11,CFC-11_FLAG_W,CFC-12,CFC-12_FLAG_W,CFC113,CFC113_FLAG_W,TCARBN,TCARBN_FLAG_W,ALKALI,ALKALI_FLAG_W,TRITUM,TRITUM_FLAG_W,HELIUM,HELIUM_FLAG_W,DELHE3,DELHE3_FLAG_W,DELC13,DELC13_FLAG_W,DELC14,DELC14_FLAG_W,C14ERR,CCL4,CCL4_FLAG_W,DOC,DOC_FLAG_W,TDN,TDN_FLAG_W,CTDRAW,BTL_TIME,BTL_LAT,BTL_LON,TRITER,HELIER,DELHER,CDOM325,CDOM325_FLAG_W,CDOM340,CDOM340_FLAG_W,CDOM380,CDOM380_FLAG_W,CDOM412,CDOM412_FLAG_W,CDOMSL,CDOMSL_FLAG_W,CDOMSN,CDOMSN_FLAG_W,THETA,BACT,BACT_FLAG_W,PROC,PROC_FLAG_W,SYN,SYN_FLAG_W,PEUK,PEUK_FLAG_W
,,,,,,,,,,,METERS,DBAR,ITS-90,PSS-78,,PSS-78,,UMOL/KG,,UMOL/KG,,UMOL/KG,,UMOL/KG,,UMOL/KG,,UMOL/KG,,PMOL/KG,,PMOL/KG,,PMOL/KG,,UMOL/KG,,UMOL/KG,,TU,,NMOL/KG,,PERCNT,,/MILLE,,/MILLE,,/MILLE,PMOL/KG,,UMOL/KG,,UMOL/KG,,DBAR,,,,TU,NMOL/KG,PERCNT,1/M,,1/M,,1/M,,1/M,,1/NM,,1/NM,,DEG C,E8/L,,E7/L,,E6/L,,E6/L,
 316N200310,        A22,      24,          1,         36,         36,2,20031029,       0730,    17.9667,   -65.1393,       4248,     2.9,  28.9835,  35.0485,2,  35.0537,4,    195.5,2,   193.2,2,    1.08,2,    0.03,2,    0.00,2,    0.01,2,   1.532,2,   0.948,2,   0.121,2,  1960.1,2,  2308.2,2,    -999,9,     -999,9,    -999,9,    1.40,2,    72.9,2,     2.8,    -999,9,   76.10,2,    5.50,2,    2.90,      923,  17.9826, -65.1529,    -999,     -999,    -999,   0.0920,2,   0.0610,2,   0.0240,2,   0.0150,2,   0.0260,2,   0.0260,2,  28.9828,    -999,9,       -999,9,    -999,9,    -999,9
 316N200310,        A22,      24,          1,         35,         35,2,20031029,       0730,    17.9667,   -65.1393,       4248,    25.4,  29.1492,  35.9848,2,  35.9487,4,    196.8,2,   194.6,2,    0.60,2,    0.03,2,    0.00,2,    0.01,2,   1.524,2,   0.951,2,   0.129,2,  1997.4,2,  2359.0,6,    -999,9,     -999,9,    -999,9,    -999,9,    -999,9,    -999,    -999,9,   72.40,2,    4.90,2,   25.40,      922,  17.9823, -65.1528,    -999,     -999,    -999,   0.0750,2,   0.0520,2,   0.0250,2,   0.0180,2,   0.0220,2,   0.0230,2,  29.1431,    -999,9,       -999,9,    -999,9,    -999,9
 316N200310,        A22,      24,          1,         34,         34,2,20031029,       0730,    17.9667,   -65.1393,       4248,    50.5,  28.9507,  36.5306,2,  36.5311,4,    200.4,2,   198.6,2,    0.69,2,    0.02,2,    0.00,2,    0.01,2,   1.555,2,   0.972,2,   0.119,2,  2019.8,2,  2389.5,2,    -999,9,     -999,9,    -999,9,    -999,9,    -999,9,    -999,    -999,9,   75.60,2,    5.60,2,   50.50,      920,  17.9820, -65.1527,    -999,     -999,    -999,   0.0610,2,   0.0390,2,   0.0130,2,   0.0090,2,   0.0300,2,   0.0300,2,  28.9384,    -999,9,       -999,9,    -999,9,    -999,9
 316N200310,        A22,      24,          1,         33,         33,2,20031029,       0730,    17.9667,   -65.1393,       4248,    75.7,  27.7304,  36.6413,2,  36.6431,4,    205.7,2,   206.9,2,    0.50,2,    0.00,2,    0.00,2,    0.01,2,   1.665,6,   1.028,6,   0.135,6,  2026.7,2,  2404.0,2,    -999,9,     -999,9,    -999,9,    -999,9,    -999,9,    -999,    -999,9,   77.40,2,    4.30,2,   75.70,      919,  17.9818, -65.1527,    -999,     -999,    -999,   0.1060,2,   0.0720,2,   0.0310,2,   0.0210,2,   0.0230,2,   0.0240,2,  27.7126,    -999,9,       -999,9,    -999,9,    -999,9
 316N200310,        A22,      24,          1,         32,         32,2,20031029,       0730,    17.9667,   -65.1393,       4248,   100.2,  26.5194,  36.9173,2,  36.9213,4,    197.6,2,   198.4,2,    0.41,2,    0.00,2,    0.00,2,    0.01,2,   1.721,2,   1.057,2,   0.134,2,  2054.2,2,  2423.0,2,    -999,9,     -999,9,    -999,9,    -999,9,    -999,9,    -999,    -999,9,   72.90,2,    4.20,2,  100.20,      917,  17.9816, -65.1526,    -999,     -999,    -999,   0.1300,2,   0.0900,2,   0.0400,2,   0.0290,2,   0.0180,2,   0.0210,2,  26.4966,    -999,9,       -999,9,    -999,9,    -999,9
 316N200310,        A22,      24,          1,         31,         31,2,20031029,       0730,    17.9667,   -65.1393,       4248,   125.6,  25.2205,  37.1582,2,  37.1628,4,    193.3,2,   194.9,2,    0.31,2,    0.14,2,    0.07,2,    0.02,2,   1.810,2,   1.107,2,   0.129,2,  2077.5,2,  2426.5,2,    -999,9,     -999,9,    -999,9,    -999,9,    -999,9,    -999,    -999,9,   65.10,2,    4.80,2,  125.60,      916,  17.9814, -65.1526,    -999,     -999,    -999,   0.1220,2,   0.0860,2,   0.0370,2,   0.0260,2,   0.0200,2,   0.0220,2,  25.1929,    -999,9,       -999,9,    -999,9,    -999,9
 316N200310,        A22,      24,          1,         30,         30,2,20031029,       0730,    17.9667,   -65.1393,       4248,   151.0,  24.0905,  37.1847,2,  37.1962,4,    191.7,2,   191.4,2,    0.02,2,    0.45,2,    0.05,2,    0.03,2,   1.885,2,   1.138,2,   0.121,2,  2093.5,2,  2428.7,2,    -999,9,     -999,9,    -999,9,    -999,9,    -999,9,    -999,    -999,9,   61.90,2,    4.90,2,  151.00,      914,  17.9812, -65.1526,    -999,     -999,    -999,   0.1190,2,   0.0840,2,   0.0360,2,   0.0250,2,   0.0210,2,   0.0220,2,  24.0583,    -999,9,       -999,9,    -999,9,    -999,9
 316N200310,        A22,      24,          1,         29,         29,2,20031029,       0730,    17.9667,   -65.1393,       4248,   201.7,  21.3234,  37.0387,2,  37.0432,4,    178.0,2,   176.3,2,    0.22,2,    1.85,2,    0.02,2,    0.09,2,   2.096,6,   1.240,6,   0.062,2,  2124.7,2,  2423.2,2,    -999,9,     -999,9,    -999,9,    -999,9,    -999,9,    -999,   0.315,2,   56.40,2,    5.80,2,  201.70,      912,  17.9809, -65.1525,    -999,     -999,    -999,   0.1170,2,   0.0850,2,   0.0410,2,   0.0310,2,   0.0160,2,   0.0180,2,  21.2839,    -999,9,       -999,9,    -999,9,    -999,9
 316N200310,        A22,      24,          1,         28,         28,2,20031029,       0730,    17.9667,   -65.1393,       4248,   251.4,  19.1859,  36.7170,2,  36.7151,4,    172.9,2,   175.7,2,    0.73,2,    4.27,2,    0.01,2,    0.20,2,   2.216,2,   1.280,2,   0.011,2,  2125.5,2,  2395.3,2,    -999,9,     -999,9,    -999,9,    -999,9,    -999,9,    -999,    -999,9,   47.40,2,    8.20,2,  251.40,      910,  17.9807, -65.1525,    -999,     -999,    -999,   0.1020,2,   0.0740,2,   0.0350,2,   0.0260,2,   0.0190,2,   0.0200,2,  19.1402,    -999,9,       -999,9,    -999,9,    -999,9
 316N200310,        A22,      24,          1,         27,         27,2,20031029,       0730,    17.9667,   -65.1393,       4248,   351.5,  16.4172,  36.2698,2,  36.2697,4,    167.9,2,   167.6,2,    2.43,2,    9.73,2,    0.01,2,    0.55,2,   2.211,2,   1.224,2,   0.013,2,  2141.2,2,  2369.2,2,    -999,9,     -999,9,    -999,9,    -999,9,    -999,9,    -999,    -999,9,   49.10,2,    -999,9,  351.50,      908,  17.9804, -65.1524,    -999,     -999,    -999,   0.1090,2,   0.0790,2,   0.0390,2,   0.0290,2,   0.0160,2,   0.0180,2,  16.3598,    -999,9,       -999,9,    -999,9,    -999,9
 316N200310,        A22,      24,          1,         26,         26,2,20031029,       0730,    17.9667,   -65.1393,       4248,   450.6,  14.0244,  35.8434,2,  35.8414,4,    142.2,2,   140.4,2,    5.44,2,   16.59,2,    0.01,2,    0.99,2,   1.827,2,   0.978,2,   0.005,2,  2168.0,2,  2347.3,2,    -999,9,     -999,9,    -999,9,    -999,9,    -999,9,    -999,    -999,9,   45.60,2,    -999,9,  450.60,      905,  17.9800, -65.1523,    -999,     -999,    -999,   0.1250,2,   0.0900,2,   0.0460,2,   0.0330,2,   0.0150,2,   0.0170,2,  13.9582,    -999,9,       -999,9,    -999,9,    -999,9
 316N200310,        A22,      24,          1,         25,         25,2,20031029,       0730,    17.9667,   -65.1393,       4248,   551.5,  11.8986,  35.5215,2,  35.5146,4,    131.8,2,   134.5,2,    8.65,2,   20.90,2,    0.01,2,    1.27,2,   1.336,2,   0.705,2,   0.015,2,  2180.6,2,  2330.8,6,    -999,9,     -999,9,    -999,9,    -999,9,    -999,9,    -999,    -999,9,   44.30,2,    -999,9,  551.50,      902,  17.9796, -65.1522,    -999,     -999,    -999,   0.1220,2,   0.0870,2,   0.0440,2,   0.0320,2,   0.0150,2,   0.0180,2,  11.8257,    -999,9,       -999,9,    -999,9,    -999,9
 316N200310,        A22,      24,          1,         24,         24,2,20031029,       0730,    17.9667,   -65.1393,       4248,   651.7,   9.6964,  35.1754,2,  35.1778,4,    125.1,2,   125.1,2,   13.48,2,   26.22,2,    0.01,2,    1.64,2,   0.771,2,   0.401,2,   0.013,2,  2198.0,2,  2318.3,2,    -999,9,     -999,9,    -999,9,    -999,9,    -999,9,    -999,    -999,9,   44.10,2,    -999,9,  651.70,      859,  17.9792, -65.1519,    -999,     -999,    -999,   0.1260,2,   0.0900,2,   0.0470,2,   0.0340,2,   0.0140,2,   0.0170,2,   9.6203,    -999,9,       -999,9,    -999,9,    -999,9
 316N200310,        A22,      24,          1,         23,         23,2,20031029,       0730,    17.9667,   -65.1393,       4248,   752.4,   8.2418,  35.0791,2,  35.0817,4,    131.3,2,   130.2,2,   17.02,2,   27.92,2,    0.00,2,    1.78,2,   0.325,2,   0.176,2,   0.002,2,  2202.9,2,  2316.9,2,    -999,9,     -999,9,    -999,9,    -999,9,    -999,9,    -999,    -999,9,   41.50,2,    -999,9,  752.40,      857,  17.9788, -65.1517,    -999,     -999,    -999,     -999,9,     -999,9,     -999,9,     -999,9,     -999,9,     -999,9,   8.1615,    -999,9,       -999,9,    -999,9,    -999,9
 316N200310,        A22,      24,          1,         22,         22,2,20031029,       0730,    17.9667,   -65.1393,       4248,   852.7,   6.7420,  34.8964,2,  34.8993,4,    137.3,2,   135.8,2,   21.16,2,   30.03,2,    0.00,2,    1.96,2,   0.157,2,   0.087,2,   0.001,2,  2209.7,2,  2310.2,2,    -999,9,     -999,9,    -999,9,    -999,9,    -999,9,    -999,    -999,9,   41.20,2,    -999,9,  852.70,      854,  17.9784, -65.1514,    -999,     -999,    -999,   0.1410,2,   0.1010,2,   0.0550,2,   0.0410,2,   0.0130,2,   0.0150,2,   6.6601,    -999,9,       -999,9,    -999,9,    -999,9
 316N200310,        A22,      24,          1,         21,         21,2,20031029,       0730,    17.9667,   -65.1393,       4248,  1001.9,   5.9542,  34.9988,2,  35.0043,4,    177.5,2,   180.8,2,   18.44,2,   24.68,2,    0.00,2,    1.62,2,   0.334,2,   0.171,2,   0.007,2,  2193.5,2,  2320.6,2,    -999,9,     -999,9,    -999,9,    -999,9,    -999,9,    -999,    -999,9,   40.60,2,    -999,9, 1001.90,      850,  17.9779, -65.1509,    -999,     -999,    -999,   0.1340,2,   0.0960,2,   0.0500,2,   0.0350,2,   0.0150,2,   0.0170,2,   5.8627,    -999,9,       -999,9,    -999,9,    -999,9
 316N200310,        A22,      24,          1,         20,         20,2,20031029,       0730,    17.9667,   -65.1393,       4248,  1101.9,   5.0120,  34.9622,2,  34.9626,4,    194.3,2,   193.1,2,   22.49,2,   24.16,2,    0.00,2,    1.62,2,   0.190,2,   0.104,2,   0.002,2,  2196.6,2,  2325.4,2,    -999,9,     -999,9,    -999,9,    -999,9,    -999,9,    -999,    -999,9,    -999,9,    -999,9, 1101.90,      847,  17.9774, -65.1503,    -999,     -999,    -999,     -999,9,     -999,9,     -999,9,     -999,9,     -999,9,     -999,9,   4.9185,    -999,9,       -999,9,    -999,9,    -999,9
 316N200310,        A22,      24,          1,         19,         19,2,20031029,       0730,    17.9667,   -65.1393,       4248,  1231.5,   4.7610,  34.9787,2,  34.9772,4,    202.1,2,   205.2,2,   21.69,2,   22.83,2,    0.00,2,    1.52,2,   0.289,2,   0.147,2,   0.016,2,  2192.0,2,  2326.3,2,    -999,9,     -999,9,    -999,9,    -999,9,    -999,9,    -999,    -999,9,    -999,9,    -999,9, 1231.50,      844,  17.9768, -65.1500,    -999,     -999,    -999,     -999,9,     -999,9,     -999,9,     -999,9,     -999,9,     -999,9,   4.6576,    -999,9,       -999,9,    -999,9,    -999,9
 316N200310,        A22,      24,          1,         18,         18,2,20031029,       0730,    17.9667,   -65.1393,       4248,  1383.7,   4.4759,  34.9941,2,  34.9957,4,    224.8,2,   224.9,2,   19.06,2,   20.84,2,    0.00,2,    1.39,2,   0.546,2,   0.276,2,   0.021,2,  2181.3,2,  2325.4,3,    -999,9,     -999,9,    -999,9,    -999,9,    -999,9,    -999,    -999,9,   43.90,2,    -999,9, 1383.70,      840,  17.9761, -65.1498,    -999,     -999,    -999,     -999,9,     -999,9,     -999,9,     -999,9,     -999,9,     -999,9,   4.3612,    -999,9,       -999,9,    -999,9,    -999,9
 316N200310,        A22,      24,          1,         17,         17,2,20031029,       0730,    17.9667,   -65.1393,       4248,  1526.8,   4.2513,  34.9892,2,  34.9919,4,    233.5,2,   235.3,2,   17.96,2,   20.08,2,    0.00,2,    1.34,2,   0.655,2,   0.334,2,   0.034,2,  2176.0,2,  2324.0,2,    -999,9,     -999,9,    -999,9,    -999,9,    -999,9,    -999,    -999,9,    -999,9,    -999,9, 1526.80,      836,  17.9752, -65.1500,    -999,     -999,    -999,     -999,9,     -999,9,     -999,9,     -999,9,     -999,9,     -999,9,   4.1257,    -999,9,       -999,9,    -999,9,    -999,9
 316N200310,        A22,      24,          1,         16,         16,2,20031029,       0730,    17.9667,   -65.1393,       4248,  1650.4,   4.0680,  34.9861,2,  34.9907,4,    246.1,2,   248.9,2,   15.04,2,   18.80,2,    0.00,2,    1.24,2,   0.885,2,   0.432,2,   0.037,2,  2168.5,2,  2319.6,2,    -999,9,     -999,9,    -999,9,    -999,9,    -999,9,    -999,    -999,9,   43.90,2,    -999,9, 1650.40,      833,  17.9746, -65.1499,    -999,     -999,    -999,     -999,9,     -999,9,     -999,9,     -999,9,     -999,9,     -999,9,   3.9330,    -999,9,       -999,9,    -999,9,    -999,9
 316N200310,        A22,      24,          1,         15,         15,2,20031029,       0730,    17.9667,   -65.1393,       4248,  1775.3,   3.8947,  34.9791,2,  34.9837,4,    257.0,2,   256.3,2,   14.34,2,   18.35,2,    0.00,2,    1.21,2,   0.919,2,   0.457,2,   0.044,2,  2164.7,2,  2317.0,2,    -999,9,     -999,9,    -999,9,    -999,9,    -999,9,    -999,    -999,9,    -999,9,    -999,9, 1775.30,      830,  17.9739, -65.1496,    -999,     -999,    -999,     -999,9,     -999,9,     -999,9,     -999,9,     -999,9,     -999,9,   3.7502,    -999,9,       -999,9,    -999,9,    -999,9
 316N200310,        A22,      24,          1,         14,         14,2,20031029,       0730,    17.9667,   -65.1393,       4248,  1899.6,   3.8349,  34.9771,2,  34.9809,4,    259.4,2,   258.7,2,   14.04,2,   18.13,2,    0.00,2,    1.20,2,   0.933,2,   0.463,2,   0.041,2,  2162.8,2,  2311.9,2,    -999,9,     -999,9,    -999,9,    -999,9,    -999,9,    -999,    -999,9,    -999,9,    -999,9, 1899.60,      827,  17.9735, -65.1490,    -999,     -999,    -999,     -999,9,     -999,9,     -999,9,     -999,9,     -999,9,     -999,9,   3.6795,    -999,9,       -999,9,    -999,9,    -999,9
 316N200310,        A22,      24,          1,         13,         13,2,20031029,       0730,    17.9667,   -65.1393,       4248,  2049.1,   3.8126,  34.9761,2,  34.9750,4,    260.0,2,   259.1,2,   14.15,2,   18.09,2,    0.00,2,    1.19,2,   0.902,2,   0.452,2,   0.032,2,  2161.3,2,  2310.7,2,    -999,9,     -999,9,    -999,9,    -999,9,    -999,9,    -999,    -999,9,   42.60,2,    -999,9, 2049.10,      823,  17.9730, -65.1482,    -999,     -999,    -999,     -999,9,     -999,9,     -999,9,     -999,9,     -999,9,     -999,9,   3.6431,    -999,9,       -999,9,    -999,9,    -999,9
 316N200310,        A22,      24,          1,         12,         12,2,20031029,       0730,    17.9667,   -65.1393,       4248,  2198.8,   3.8171,  34.9773,2,  34.9778,4,    259.6,2,   259.0,2,   14.45,2,   18.18,2,    0.00,2,    1.19,2,   0.796,2,   0.394,2,   0.026,2,  2163.2,2,  2312.0,2,    -999,9,     -999,9,    -999,9,    -999,9,    -999,9,    -999,    -999,9,    -999,9,    -999,9, 2198.80,      820,  17.9725, -65.1473,    -999,     -999,    -999,     -999,9,     -999,9,     -999,9,     -999,9,     -999,9,     -999,9,   3.6328,    -999,9,       -999,9,    -999,9,    -999,9
 316N200310,        A22,      24,          1,         11,         11,2,20031029,       0730,    17.9667,   -65.1393,       4248,  2299.2,   3.8124,  34.9762,2,  34.9795,4,    260.2,2,   259.5,2,   14.26,2,   18.13,2,    0.00,2,    1.19,2,   0.830,2,   0.406,2,   0.041,2,  2162.4,2,  2310.6,2,    -999,9,     -999,9,    -999,9,    -999,9,    -999,9,    -999,    -999,9,    -999,9,    -999,9, 2299.20,      817,  17.9722, -65.1467,    -999,     -999,    -999,     -999,9,     -999,9,     -999,9,     -999,9,     -999,9,     -999,9,   3.6180,    -999,9,       -999,9,    -999,9,    -999,9
 316N200310,        A22,      24,          1,         10,         10,2,20031029,       0730,    17.9667,   -65.1393,       4248,  2499.4,   3.8380,  34.9793,2,  34.9825,4,    259.2,2,   258.5,2,   14.56,2,   18.17,2,    0.00,2,    1.20,2,   0.680,2,   0.340,2,   0.036,2,  2162.2,2,  2311.7,2,    -999,9,     -999,9,    -999,9,    -999,9,    -999,9,    -999,    -999,9,   40.10,2,    -999,9, 2499.40,      813,  17.9718, -65.1456,    -999,     -999,    -999,     -999,9,     -999,9,     -999,9,     -999,9,     -999,9,     -999,9,   3.6227,    -999,9,       -999,9,    -999,9,    -999,9
 316N200310,        A22,      24,          1,          9,          9,2,20031029,       0730,    17.9667,   -65.1393,       4248,  2749.0,   3.8624,  34.9799,2,  34.9835,4,    259.1,2,   258.8,2,   14.57,2,   18.17,2,    0.00,2,    1.20,2,   0.658,2,   0.334,2,   0.050,2,  2162.9,2,  2311.2,2,    -999,9,     -999,9,    -999,9,    -999,9,    -999,9,    -999,    -999,9,    -999,9,    -999,9, 2749.00,      808,  17.9712, -65.1445,    -999,     -999,    -999,     -999,9,     -999,9,     -999,9,     -999,9,     -999,9,     -999,9,   3.6203,    -999,9,       -999,9,    -999,9,    -999,9
 316N200310,        A22,      24,          1,          8,          8,2,20031029,       0730,    17.9667,   -65.1393,       4248,  2999.9,   3.8896,  34.9803,2,  34.9835,4,    258.9,2,   258.5,2,   14.68,2,   18.22,2,    0.00,2,    1.20,2,   0.624,2,   0.321,2,   0.041,2,  2161.9,2,  2310.9,2,    -999,9,     -999,9,    -999,9,    -999,9,    -999,9,    -999,    -999,9,   41.90,2,    -999,9, 2999.90,      803,  17.9706, -65.1434,    -999,     -999,    -999,     -999,9,     -999,9,     -999,9,     -999,9,     -999,9,     -999,9,   3.6196,    -999,9,       -999,9,    -999,9,    -999,9
 316N200310,        A22,      24,          1,          7,          7,2,20031029,       0730,    17.9667,   -65.1393,       4248,  3249.4,   3.9209,  34.9813,2,  34.9803,4,    258.7,2,   258.4,2,   14.79,2,   18.22,2,    0.00,2,    1.20,2,   0.593,2,   0.295,2,   0.043,2,  2162.9,2,  2313.9,2,    -999,9,     -999,9,    -999,9,    -999,9,    -999,9,    -999,    -999,9,    -999,9,    -999,9, 3249.40,      758,  17.9700, -65.1424,    -999,     -999,    -999,     -999,9,     -999,9,     -999,9,     -999,9,     -999,9,     -999,9,   3.6221,    -999,9,       -999,9,    -999,9,    -999,9
 316N200310,        A22,      24,          1,          6,          6,2,20031029,       0730,    17.9667,   -65.1393,       4248,  3448.9,   3.9479,  34.9823,2,  34.9827,4,    258.1,2,   258.2,2,   14.79,2,   18.26,2,    0.00,2,    1.20,2,   0.536,2,   0.277,2,   0.033,2,  2162.7,2,  2319.8,2,    -999,9,     -999,9,    -999,9,    -999,9,    -999,9,    -999,    -999,9,   40.50,2,    -999,9, 3448.90,      753,  17.9695, -65.1417,    -999,     -999,    -999,     -999,9,     -999,9,     -999,9,     -999,9,     -999,9,     -999,9,   3.6255,    -999,9,       -999,9,    -999,9,    -999,9
 316N200310,        A22,      24,          1,          5,          5,2,20031029,       0730,    17.9667,   -65.1393,       4248,  3649.7,   3.9745,  34.9831,2,  34.9846,4,    258.0,2,   257.8,2,   14.89,2,   18.31,2,    0.00,2,    1.20,2,   0.490,2,   0.249,2,   0.037,2,  2163.5,2,  2318.7,2,    -999,9,     -999,9,    -999,9,    -999,9,    -999,9,    -999,    -999,9,    -999,9,    -999,9, 3649.70,      749,  17.9691, -65.1411,    -999,     -999,    -999,     -999,9,     -999,9,     -999,9,     -999,9,     -999,9,     -999,9,   3.6278,    -999,9,       -999,9,    -999,9,    -999,9