BOTTLE,20220517CCHSIOLMM
EXPOCODE,SECT_ID,STNNBR,CASTNO,SAMPNO,BTLNBR,BTLNBR_FLAG_W,DATE,TIME,LATITUDE,LONGITUDE,DEPTH,CTDPRS,CTDTMP,CTDSAL,CTDSAL_FLAG_W,SALNTY,SALNTY_FLAG_W,CTDOXY,CTDOXY_FLAG_W,OXYGEN,OXYGEN_FLAG_W,SILCAT,SILCAT_FLAG_W,NITRAT,NITRAT_FLAG_W,NITRIT,NITRIT_FLAG_W,PHSPHT,PHSPHT_FLAG_W,CFC-11,CFC-11_FLAG_W,CFC-12,CFC-12_FLAG_W,CFC113,CFC113_FLAG_W,TCARBN,TCARBN_FLAG_W,ALKALI,ALKALI_FLAG_W,TRITUM,TRITUM_FLAG_W,HELIUM,HELIUM_FLAG_W,DELHE3,DELHE3_FLAG_W,DELC13,DELC13_FLAG_W,DELC14,DELC14_FLAG_W,C14ERR,CCL4,CCL4_FLAG_W,DOC,DOC_FLAG_W,TDN,TDN_FLAG_W,CTDRAW,BTL_TIME,BTL_LAT,BTL_LON,TRITER,HELIER,DELHER,CDOM325,CDOM325_FLAG_W,CDOM340,CDOM340_FLAG_W,CDOM380,CDOM380_FLAG_W,CDOM412,CDOM412_FLAG_W,CDOMSL,CDOMSL_FLAG_W,CDOMSN,CDOMSN_FLAG_W,THETA,BACT,BACT_FLAG_W,PROC,PROC_FLAG_W,SYN,SYN_FLAG_W,PEUK,PEUK_FLAG_W
,,,,,,,,,,,METERS,DBAR,ITS-90,PSS-78,,PSS-78,,UMOL/KG,,UMOL/KG,,UMOL/KG,,UMOL/KG,,UMOL/KG,,UMOL/KG,,PMOL/KG,,PMOL/KG,,PMOL/KG,,UMOL/KG,,UMOL/KG,,TU,,NMOL/KG,,PERCNT,,/MILLE,,/MILLE,,/MILLE,PMOL/KG,,UMOL/KG,,UMOL/KG,,DBAR,,,,TU,NMOL/KG,PERCNT,1/M,,1/M,,1/M,,1/M,,1/NM,,1/NM,,DEG C,E8/L,,E7/L,,E6/L,,E6/L,
 316N200310,        A22,      68,          1,          3,          3,2,20031110,       1620,    37.3805,   -68.1838,       4750,  4371.9,   2.2548,  34.8891,2,  34.8892,2,    266.7,2,   266.5,2,   30.76,2,   18.83,2,    0.00,2,    1.28,2,   0.783,2,   0.397,2,   0.041,2,  2176.0,2,  2324.0,2,    -999,9,     -999,9,    -999,9,    -999,9,    -999,9,    -999,   1.168,2,   42.90,2,    -999,9, 4371.90,     1631,  37.3795, -68.1800,    -999,     -999,    -999,   0.1330,2,   0.0930,2,   0.0430,2,   0.0270,2,   0.0190,2,   0.0210,2,   1.8704,    -999,9,       -999,9,    -999,9,    -999,9
 316N200310,        A22,      68,          1,          2,          2,2,20031110,       1620,    37.3805,   -68.1838,       4750,  4622.3,   2.2418,  34.8849,2,  34.8849,2,    264.3,2,   263.8,2,   33.55,2,   19.29,2,    0.00,2,    1.31,2,   0.681,2,   0.354,2,   0.031,2,  2179.6,2,  2327.0,2,    -999,9,     -999,9,    -999,9,    -999,9,    -999,9,    -999,   1.044,2,   41.40,2,    -999,9, 4622.30,     1626,  37.3802, -68.1819,    -999,     -999,    -999,   0.1360,2,   0.0950,2,   0.0440,2,   0.0280,2,   0.0190,2,   0.0200,2,   1.8278,    -999,9,       -999,9,    -999,9,    -999,9
 316N200310,        A22,      68,          1,          1,          1,2,20031110,       1620,    37.3805,   -68.1838,       4750,  4817.0,   2.2354,  34.8813,2,  34.8812,2,    261.5,2,   261.1,2,   36.88,2,   19.84,2,    0.00,2,    1.34,2,   0.536,2,   0.291,2,   0.027,2,  2183.4,2,  2331.6,2,    -999,9,     -999,9,    -999,9,    -999,9,    -999,9,    -999,   0.847,2,   43.00,2,    -999,9, 4817.00,     1621,  37.3805, -68.1836,    -999,     -999,    -999,   0.1340,2,   0.0940,2,   0.0440,2,   0.0280,2,   0.0190,2,   0.0200,2,   1.7978,    -999,9,       -999,9,    -999,9,    -999,9