BOTTLE,20220517CCHSIOLMM
EXPOCODE,SECT_ID,STNNBR,CASTNO,SAMPNO,BTLNBR,BTLNBR_FLAG_W,DATE,TIME,LATITUDE,LONGITUDE,DEPTH,CTDPRS,CTDTMP,CTDSAL,CTDSAL_FLAG_W,SALNTY,SALNTY_FLAG_W,CTDOXY,CTDOXY_FLAG_W,OXYGEN,OXYGEN_FLAG_W,SILCAT,SILCAT_FLAG_W,NITRAT,NITRAT_FLAG_W,NITRIT,NITRIT_FLAG_W,PHSPHT,PHSPHT_FLAG_W,CFC-11,CFC-11_FLAG_W,CFC-12,CFC-12_FLAG_W,CFC113,CFC113_FLAG_W,TCARBN,TCARBN_FLAG_W,ALKALI,ALKALI_FLAG_W,TRITUM,TRITUM_FLAG_W,HELIUM,HELIUM_FLAG_W,DELHE3,DELHE3_FLAG_W,DELC13,DELC13_FLAG_W,DELC14,DELC14_FLAG_W,C14ERR,CCL4,CCL4_FLAG_W,DOC,DOC_FLAG_W,TDN,TDN_FLAG_W,CTDRAW,BTL_TIME,BTL_LAT,BTL_LON,TRITER,HELIER,DELHER,CDOM325,CDOM325_FLAG_W,CDOM340,CDOM340_FLAG_W,CDOM380,CDOM380_FLAG_W,CDOM412,CDOM412_FLAG_W,CDOMSL,CDOMSL_FLAG_W,CDOMSN,CDOMSN_FLAG_W,THETA,BACT,BACT_FLAG_W,PROC,PROC_FLAG_W,SYN,SYN_FLAG_W,PEUK,PEUK_FLAG_W
,,,,,,,,,,,METERS,DBAR,ITS-90,PSS-78,,PSS-78,,UMOL/KG,,UMOL/KG,,UMOL/KG,,UMOL/KG,,UMOL/KG,,UMOL/KG,,PMOL/KG,,PMOL/KG,,PMOL/KG,,UMOL/KG,,UMOL/KG,,TU,,NMOL/KG,,PERCNT,,/MILLE,,/MILLE,,/MILLE,PMOL/KG,,UMOL/KG,,UMOL/KG,,DBAR,,,,TU,NMOL/KG,PERCNT,1/M,,1/M,,1/M,,1/M,,1/NM,,1/NM,,DEG C,E8/L,,E7/L,,E6/L,,E6/L,
 316N200310,        A22,      55,          1,          4,          4,2,20031106,       1847,    32.7468,   -64.1630,       4421,  3839.3,   2.2766,  34.8966,2,  34.8969,2,    265.3,2,   265.1,2,   29.41,2,   18.63,2,    0.00,2,    1.25,2,   0.501,2,   0.248,2,   0.025,2,  2172.3,2,  2327.4,2,    -999,9,     -999,9,    -999,9,    -999,9,    -999,9,    -999,    -999,9,    -999,9,    -999,9, 3839.30,     1901,  32.7468, -64.1619,    -999,     -999,    -999,     -999,9,     -999,9,     -999,9,     -999,9,     -999,9,     -999,9,   1.9527,    -999,9,       -999,9,    -999,9,    -999,9
 316N200310,        A22,      55,          1,          3,          3,2,20031106,       1847,    32.7468,   -64.1630,       4421,  4039.0,   2.2303,  34.8906,2,  34.8898,2,    263.4,2,   263.4,2,   32.33,2,   19.09,2,    0.00,2,    1.29,2,   0.487,2,   0.237,2,   0.024,2,  2175.2,2,  2327.7,2,    -999,9,     -999,9,    -999,9,    -999,9,    -999,9,    -999,    -999,9,    -999,9,    -999,9, 4039.00,     1857,  32.7468, -64.1622,    -999,     -999,    -999,     -999,9,     -999,9,     -999,9,     -999,9,     -999,9,     -999,9,   1.8852,    -999,9,       -999,9,    -999,9,    -999,9
 316N200310,        A22,      55,          1,          2,          2,2,20031106,       1847,    32.7468,   -64.1630,       4421,  4199.0,   2.2178,  34.8877,2,  34.8886,2,    261.6,2,   262.0,2,   34.21,2,   19.34,2,    0.00,2,    1.31,2,   0.425,2,   0.211,2,   0.028,2,  2177.8,2,  2330.0,2,    -999,9,     -999,9,    -999,9,    -999,9,    -999,9,    -999,    -999,9,   43.20,2,    -999,9, 4199.00,     1853,  32.7468, -64.1625,    -999,     -999,    -999,   0.1210,2,   0.0840,2,   0.0380,2,   0.0230,2,   0.0210,2,   0.0220,2,   1.8547,    -999,9,       -999,9,    -999,9,    -999,9
 316N200310,        A22,      55,          1,          1,          1,2,20031106,       1847,    32.7468,   -64.1630,       4421,  4480.1,   2.2277,  34.8849,2,  34.8859,2,    260.0,2,   260.8,2,   35.88,2,   19.64,2,    0.00,2,    1.33,2,   0.379,2,   0.196,2,   0.026,2,  2180.5,2,  2331.4,6,    -999,9,     -999,9,    -999,9,    -999,9,    -999,9,    -999,    -999,9,   42.20,2,    -999,9, 4480.10,     1848,  32.7468, -64.1629,    -999,     -999,    -999,   0.1270,2,   0.0890,2,   0.0410,2,   0.0260,2,   0.0190,2,   0.0210,2,   1.8313,    -999,9,       -999,9,    -999,9,    -999,9