BOTTLE,20220517CCHSIOLMM
EXPOCODE,SECT_ID,STNNBR,CASTNO,SAMPNO,BTLNBR,BTLNBR_FLAG_W,DATE,TIME,LATITUDE,LONGITUDE,DEPTH,CTDPRS,CTDTMP,CTDSAL,CTDSAL_FLAG_W,SALNTY,SALNTY_FLAG_W,CTDOXY,CTDOXY_FLAG_W,OXYGEN,OXYGEN_FLAG_W,SILCAT,SILCAT_FLAG_W,NITRAT,NITRAT_FLAG_W,NITRIT,NITRIT_FLAG_W,PHSPHT,PHSPHT_FLAG_W,CFC-11,CFC-11_FLAG_W,CFC-12,CFC-12_FLAG_W,CFC113,CFC113_FLAG_W,TCARBN,TCARBN_FLAG_W,ALKALI,ALKALI_FLAG_W,TRITUM,TRITUM_FLAG_W,HELIUM,HELIUM_FLAG_W,DELHE3,DELHE3_FLAG_W,DELC13,DELC13_FLAG_W,DELC14,DELC14_FLAG_W,C14ERR,CCL4,CCL4_FLAG_W,DOC,DOC_FLAG_W,TDN,TDN_FLAG_W,CTDRAW,BTL_TIME,BTL_LAT,BTL_LON,TRITER,HELIER,DELHER,CDOM325,CDOM325_FLAG_W,CDOM340,CDOM340_FLAG_W,CDOM380,CDOM380_FLAG_W,CDOM412,CDOM412_FLAG_W,CDOMSL,CDOMSL_FLAG_W,CDOMSN,CDOMSN_FLAG_W,THETA,BACT,BACT_FLAG_W,PROC,PROC_FLAG_W,SYN,SYN_FLAG_W,PEUK,PEUK_FLAG_W
,,,,,,,,,,,METERS,DBAR,ITS-90,PSS-78,,PSS-78,,UMOL/KG,,UMOL/KG,,UMOL/KG,,UMOL/KG,,UMOL/KG,,UMOL/KG,,PMOL/KG,,PMOL/KG,,PMOL/KG,,UMOL/KG,,UMOL/KG,,TU,,NMOL/KG,,PERCNT,,/MILLE,,/MILLE,,/MILLE,PMOL/KG,,UMOL/KG,,UMOL/KG,,DBAR,,,,TU,NMOL/KG,PERCNT,1/M,,1/M,,1/M,,1/M,,1/NM,,1/NM,,DEG C,E8/L,,E7/L,,E6/L,,E6/L,
 316N200310,        A22,      67,          1,          4,          4,2,20031110,       1050,    37.1468,   -68.0673,       4902,  4252.1,   2.2987,  34.8939,2,  34.8938,2,    267.8,2,   267.6,2,   28.51,2,   18.40,2,    0.00,2,    1.24,2,   0.762,2,   0.374,2,   0.042,2,    -999,9,    -999,9,    -999,9,   1.9228,2,    6.42,2,    -999,9,    -999,9,    -999,    -999,9,    -999,9,    -999,9, 4252.10,     1106,  37.1491, -68.0661,    -999,   0.0096,    0.15,     -999,9,     -999,9,     -999,9,     -999,9,     -999,9,     -999,9,   1.9270,    -999,9,       -999,9,    -999,9,    -999,9
 316N200310,        A22,      67,          1,          3,          3,2,20031110,       1050,    37.1468,   -68.0673,       4902,  4501.9,   2.2735,  34.8894,2,  34.8896,2,    265.6,2,   266.0,2,   31.42,2,   18.80,2,    0.00,2,    1.27,2,   0.717,6,   0.365,6,   0.042,2,    -999,9,    -999,9,    -999,9,     -999,9,    -999,9,    -999,9,    -999,9,    -999,   1.104,2,    -999,9,    -999,9, 4501.90,     1101,  37.1483, -68.0666,    -999,     -999,    -999,     -999,9,     -999,9,     -999,9,     -999,9,     -999,9,     -999,9,   1.8730,    -999,9,       -999,9,    -999,9,    -999,9
 316N200310,        A22,      67,          1,          2,          2,2,20031110,       1050,    37.1468,   -68.0673,       4902,  4752.4,   2.2651,  34.8856,2,  34.8853,2,    263.2,2,   263.6,2,   33.80,2,   19.20,2,    0.00,2,    1.30,2,   0.615,2,   0.310,2,   0.033,2,    -999,9,    -999,9,    -999,9,     -999,9,    -999,9,    -999,9,    -999,9,    -999,    -999,9,    -999,9,    -999,9, 4752.40,     1055,  37.1476, -68.0670,    -999,     -999,    -999,     -999,9,     -999,9,     -999,9,     -999,9,     -999,9,     -999,9,   1.8345,    -999,9,       -999,9,    -999,9,    -999,9
 316N200310,        A22,      67,          1,          1,          1,2,20031110,       1050,    37.1468,   -68.0673,       4902,  4985.1,   2.2610,  34.8820,2,  34.8816,2,    260.6,2,   262.0,2,   35.89,2,   19.44,2,    0.00,2,    1.33,2,   0.615,2,   0.315,2,   0.038,2,    -999,9,    -999,9,   0.298,2,   1.9041,2,    5.71,2,    -999,9,    -999,9,    -999,    -999,9,    -999,9,    -999,9, 4985.10,     1050,  37.1468, -68.0673,   0.012,   0.0095,    0.15,     -999,9,     -999,9,     -999,9,     -999,9,     -999,9,     -999,9,   1.8016,    -999,9,       -999,9,    -999,9,    -999,9