BOTTLE,20220517CCHSIOLMM
EXPOCODE,SECT_ID,STNNBR,CASTNO,SAMPNO,BTLNBR,BTLNBR_FLAG_W,DATE,TIME,LATITUDE,LONGITUDE,DEPTH,CTDPRS,CTDTMP,CTDSAL,CTDSAL_FLAG_W,SALNTY,SALNTY_FLAG_W,CTDOXY,CTDOXY_FLAG_W,OXYGEN,OXYGEN_FLAG_W,SILCAT,SILCAT_FLAG_W,NITRAT,NITRAT_FLAG_W,NITRIT,NITRIT_FLAG_W,PHSPHT,PHSPHT_FLAG_W,CFC-11,CFC-11_FLAG_W,CFC-12,CFC-12_FLAG_W,CFC113,CFC113_FLAG_W,TCARBN,TCARBN_FLAG_W,ALKALI,ALKALI_FLAG_W,TRITUM,TRITUM_FLAG_W,HELIUM,HELIUM_FLAG_W,DELHE3,DELHE3_FLAG_W,DELC13,DELC13_FLAG_W,DELC14,DELC14_FLAG_W,C14ERR,CCL4,CCL4_FLAG_W,DOC,DOC_FLAG_W,TDN,TDN_FLAG_W,CTDRAW,BTL_TIME,BTL_LAT,BTL_LON,TRITER,HELIER,DELHER,CDOM325,CDOM325_FLAG_W,CDOM340,CDOM340_FLAG_W,CDOM380,CDOM380_FLAG_W,CDOM412,CDOM412_FLAG_W,CDOMSL,CDOMSL_FLAG_W,CDOMSN,CDOMSN_FLAG_W,THETA,BACT,BACT_FLAG_W,PROC,PROC_FLAG_W,SYN,SYN_FLAG_W,PEUK,PEUK_FLAG_W
,,,,,,,,,,,METERS,DBAR,ITS-90,PSS-78,,PSS-78,,UMOL/KG,,UMOL/KG,,UMOL/KG,,UMOL/KG,,UMOL/KG,,UMOL/KG,,PMOL/KG,,PMOL/KG,,PMOL/KG,,UMOL/KG,,UMOL/KG,,TU,,NMOL/KG,,PERCNT,,/MILLE,,/MILLE,,/MILLE,PMOL/KG,,UMOL/KG,,UMOL/KG,,DBAR,,,,TU,NMOL/KG,PERCNT,1/M,,1/M,,1/M,,1/M,,1/NM,,1/NM,,DEG C,E8/L,,E7/L,,E6/L,,E6/L,
 316N200310,        A22,      42,          1,         36,         36,2,20031102,       1219,    24.2148,   -66.0035,       5370,     3.1,  28.0987,  36.5581,2,  36.5553,2,    152.5,2,   196.1,2,    0.81,2,    0.20,2,    0.00,2,    0.01,2,   1.599,2,   0.938,2,   0.078,2,  2018.8,2,  2397.8,6,    -999,9,     -999,9,    -999,9,    -999,9,    -999,9,    -999,   1.570,2,   71.80,2,    4.50,2,    3.10,     1430,  24.2333, -65.9991,    -999,     -999,    -999,   0.0440,2,   0.0280,2,   0.0090,2,   0.0060,2,   0.0310,2,   0.0310,2,  28.0979,    2.57,2,       2.86,2,    3.42,2,    0.50,2
 316N200310,        A22,      42,          1,         35,         35,2,20031102,       1219,    24.2148,   -66.0035,       5370,    50.9,  27.2082,  36.7129,2,  36.6973,2,    207.4,2,   207.3,2,    0.71,2,    0.08,2,    0.00,2,    0.01,2,   1.690,2,   1.021,2,   0.069,2,  2032.5,2,  2399.4,2,    -999,9,     -999,9,    -999,9,    -999,9,    -999,9,    -999,   1.240,2,   71.90,2,    4.50,2,   50.90,     1428,  24.2330, -65.9991,    -999,     -999,    -999,   0.0720,2,   0.0450,2,   0.0150,2,   0.0090,2,   0.0310,2,   0.0310,2,  27.1964,    3.25,2,       6.76,2,    2.56,2,    0.46,2
 316N200310,        A22,      42,          1,         34,         34,2,20031102,       1219,    24.2148,   -66.0035,       5370,    74.9,  26.5665,  36.8178,2,  36.8149,2,    208.4,2,   209.3,2,    0.70,2,    0.23,2,    0.00,2,    0.01,2,   1.783,2,   1.034,2,   0.070,2,  2041.2,2,  2406.8,2,    -999,9,     -999,9,    -999,9,    -999,9,    -999,9,    -999,   1.248,2,   73.60,2,    4.60,2,   74.90,     1426,  24.2327, -65.9992,    -999,     -999,    -999,   0.0850,2,   0.0550,2,   0.0190,2,   0.0120,2,   0.0290,2,   0.0290,2,  26.5495,    3.16,2,       8.97,2,    2.79,2,    0.33,2
 316N200310,        A22,      42,          1,         33,         33,9,20031102,       1219,    24.2148,   -66.0035,       5370,   101.2,  25.5418,  36.7999,2,     -999,9,    205.6,2,    -999,9,    -999,9,    -999,9,    -999,9,    -999,9,    -999,9,    -999,9,    -999,9,    -999,9,    -999,9,    -999,9,     -999,9,    -999,9,    -999,9,    -999,9,    -999,    -999,9,    -999,9,    -999,9,  101.20,     1424,  24.2325, -65.9993,    -999,     -999,    -999,     -999,9,     -999,9,     -999,9,     -999,9,     -999,9,     -999,9,  25.5193,    -999,9,       -999,9,    -999,9,    -999,9
 316N200310,        A22,      42,          1,         32,         32,2,20031102,       1219,    24.2148,   -66.0035,       5370,   124.9,  24.7491,  36.9741,2,  36.9747,2,    201.9,2,   201.3,2,    0.51,2,    0.20,2,    0.09,2,    0.01,2,   1.849,2,   1.090,2,   0.085,2,  2067.4,2,  2419.6,2,    -999,9,     -999,9,    -999,9,    -999,9,    -999,9,    -999,   0.940,2,   65.90,2,    4.30,2,  124.90,     1423,  24.2323, -65.9995,    -999,     -999,    -999,   0.1130,2,   0.0780,2,   0.0330,2,   0.0230,2,   0.0220,2,   0.0230,2,  24.7220,    2.19,2,       2.18,2,    0.07,2,    0.58,2
 316N200310,        A22,      42,          1,         31,         31,2,20031102,       1219,    24.2148,   -66.0035,       5370,   160.8,  22.4357,  37.0188,2,  37.0162,2,    192.9,2,   194.0,2,    0.40,2,    0.48,2,    0.02,2,    0.02,2,   2.013,6,   1.194,6,   0.141,2,  2095.3,2,  2418.8,2,    -999,9,     -999,9,    -999,9,    -999,9,    -999,9,    -999,   0.701,2,   62.00,2,    3.90,2,  160.80,     1421,  24.2320, -65.9997,    -999,     -999,    -999,   0.1160,2,   0.0830,2,   0.0370,2,   0.0270,2,   0.0190,2,   0.0210,2,  22.4031,    1.50,2,       0.54,2,    0.00,2,    0.22,2
 316N200310,        A22,      42,          1,         30,         30,2,20031102,       1219,    24.2148,   -66.0035,       5370,   200.8,  20.3210,  36.7893,2,  36.8014,2,    185.7,2,   186.0,2,    0.50,2,    1.67,2,    0.01,2,    0.05,2,   2.155,2,   1.283,2,   0.041,2,  2105.5,2,  2404.6,2,    -999,9,     -999,9,    -999,9,    -999,9,    -999,9,    -999,   0.338,2,   52.40,2,    4.90,2,  200.80,     1419,  24.2318, -65.9998,    -999,     -999,    -999,   0.1020,2,   0.0730,2,   0.0330,2,   0.0250,2,   0.0200,2,   0.0210,2,  20.2831,    0.99,2,       0.06,2,    0.00,2,    0.12,2
 316N200310,        A22,      42,          1,         29,         29,2,20031102,       1219,    24.2148,   -66.0035,       5370,   251.2,  19.2763,  36.6609,2,  36.6580,2,    187.3,2,   191.1,2,    0.69,2,    2.79,2,    0.00,2,    0.09,2,   2.243,2,   1.350,2,   0.026,2,  2103.8,2,  2398.6,2,    -999,9,     -999,9,    -999,9,    -999,9,    -999,9,    -999,   0.300,2,   52.70,2,    6.30,2,  251.20,     1418,  24.2315, -65.9999,    -999,     -999,    -999,   0.0910,2,   0.0650,2,   0.0290,2,   0.0210,2,   0.0220,2,   0.0220,2,  19.2306,    -999,9,       -999,9,    -999,9,    -999,9
 316N200310,        A22,      42,          1,         28,         28,2,20031102,       1219,    24.2148,   -66.0035,       5370,   302.4,  18.5476,  36.5900,2,  36.5904,2,    192.6,2,   191.1,2,    0.89,2,    4.31,2,    0.00,2,    0.18,2,   2.306,2,   1.312,2,   0.014,2,  2106.6,2,  2391.6,2,    -999,9,     -999,9,    -999,9,    -999,9,    -999,9,    -999,   0.319,2,   48.40,2,    6.60,3,  302.40,     1415,  24.2311, -66.0001,    -999,     -999,    -999,   0.0880,2,   0.0620,2,   0.0270,2,   0.0190,2,   0.0220,2,   0.0230,2,  18.4939,    -999,9,       -999,9,    -999,9,    -999,9
 316N200310,        A22,      42,          1,         27,         27,2,20031102,       1219,    24.2148,   -66.0035,       5370,   402.1,  17.3590,  36.4195,2,  36.4180,2,    187.7,2,   186.8,2,    1.67,2,    7.05,2,    0.01,2,    0.34,2,   2.306,6,   1.315,6,   0.026,6,  2118.4,2,  2381.5,2,    -999,9,     -999,9,    -999,9,    -999,9,    -999,9,    -999,   0.367,6,   44.20,2,    -999,9,  402.10,     1412,  24.2307, -66.0003,    -999,     -999,    -999,   0.0840,2,   0.0590,2,   0.0250,2,   0.0170,2,   0.0230,2,   0.0240,2,  17.2907,    -999,9,       -999,9,    -999,9,    -999,9
 316N200310,        A22,      42,          1,         26,         26,2,20031102,       1219,    24.2148,   -66.0035,       5370,   500.8,  15.8576,  36.1651,2,  36.1642,2,    173.8,2,   171.9,2,    3.04,2,   10.92,2,    0.01,2,    0.59,2,   2.177,2,   1.202,2,   0.019,2,  2135.8,2,  2373.9,2,    -999,9,     -999,9,    -999,9,    -999,9,    -999,9,    -999,   0.336,2,   47.10,2,    -999,9,  500.80,     1410,  24.2303, -66.0005,    -999,     -999,    -999,   0.0960,2,   0.0670,2,   0.0300,2,   0.0210,2,   0.0220,2,   0.0230,2,  15.7775,    -999,9,       -999,9,    -999,9,    -999,9
 316N200310,        A22,      42,          1,         25,         25,2,20031102,       1219,    24.2148,   -66.0035,       5370,   626.1,  13.3886,  35.7718,2,  35.7697,2,    156.2,2,   154.8,2,    6.00,2,   16.56,2,    0.01,2,    0.95,2,   1.741,2,   0.923,2,   0.019,2,  2159.4,2,  2352.2,2,    -999,9,     -999,9,    -999,9,    -999,9,    -999,9,    -999,   0.280,2,   45.40,2,    -999,9,  626.10,     1406,  24.2298, -66.0008,    -999,     -999,    -999,   0.1080,2,   0.0750,2,   0.0350,2,   0.0240,2,   0.0200,2,   0.0210,2,  13.2988,    -999,9,       -999,9,    -999,9,    -999,9
 316N200310,        A22,      42,          1,         24,         24,2,20031102,       1219,    24.2148,   -66.0035,       5370,   751.6,  10.8353,  35.4159,2,  35.4158,2,    145.3,2,   145.2,2,   10.25,2,   21.60,2,    0.00,2,    1.31,2,   0.997,2,   0.527,2,   0.014,2,  2177.3,2,  2336.4,2,    -999,9,     -999,9,    -999,9,    -999,9,    -999,9,    -999,   0.216,2,   43.80,2,    -999,9,  751.60,     1403,  24.2292, -66.0009,    -999,     -999,    -999,   0.1300,2,   0.0910,2,   0.0460,2,   0.0320,2,   0.0160,2,   0.0180,2,  10.7407,    -999,9,       -999,9,    -999,9,    -999,9
 316N200310,        A22,      42,          1,         23,         23,2,20031102,       1219,    24.2148,   -66.0035,       5370,   875.8,   8.6521,  35.1493,2,  35.1490,2,    139.7,2,   140.1,2,   15.31,2,   25.70,2,    0.00,2,    1.63,2,   0.438,2,   0.243,2,   0.008,2,  2192.5,2,  2321.6,6,    -999,9,     -999,9,    -999,9,    -999,9,    -999,9,    -999,   0.156,2,    -999,9,    -999,9,  875.80,     1400,  24.2287, -66.0011,    -999,     -999,    -999,     -999,9,     -999,9,     -999,9,     -999,9,     -999,9,     -999,9,   8.5552,    -999,9,       -999,9,    -999,9,    -999,9
 316N200310,        A22,      42,          1,         22,         22,2,20031102,       1219,    24.2148,   -66.0035,       5370,  1025.7,   6.8608,  35.0284,2,  35.0283,2,    157.5,2,   158.7,2,   18.00,2,   26.07,2,    0.00,2,    1.69,2,   0.248,2,   0.143,2,   0.014,2,  2194.3,2,  2318.1,2,    -999,9,     -999,9,    -999,9,    -999,9,    -999,9,    -999,   0.201,2,   42.20,2,    -999,9, 1025.70,     1357,  24.2281, -66.0012,    -999,     -999,    -999,   0.1220,2,   0.0840,2,   0.0400,2,   0.0280,2,   0.0180,2,   0.0200,2,   6.7600,    -999,9,       -999,9,    -999,9,    -999,9
 316N200310,        A22,      42,          1,         21,         21,2,20031102,       1219,    24.2148,   -66.0035,       5370,  1225.6,   5.5832,  35.0630,2,  35.0640,2,    210.3,2,   211.6,2,   14.50,2,   21.35,2,    0.00,2,    1.38,2,   0.604,2,   0.316,2,   0.018,2,  2176.0,2,  2320.4,2,    -999,9,     -999,9,    -999,9,    -999,9,    -999,9,    -999,   0.758,2,    -999,9,    -999,9, 1225.60,     1352,  24.2275, -66.0014,    -999,     -999,    -999,     -999,9,     -999,9,     -999,9,     -999,9,     -999,9,     -999,9,   5.4727,    -999,9,       -999,9,    -999,9,    -999,9
 316N200310,        A22,      42,          1,         20,         20,2,20031102,       1219,    24.2148,   -66.0035,       5370,  1351.7,   5.0011,  35.0539,2,  35.0535,2,    232.7,2,   233.0,2,   13.11,2,   19.78,2,    0.00,2,    1.27,2,   0.806,2,   0.400,2,   0.019,2,  2170.1,2,  2318.4,2,    -999,9,     -999,9,    -999,9,    -999,9,    -999,9,    -999,   1.116,2,   41.00,2,    -999,9, 1351.70,     1349,  24.2270, -66.0016,    -999,     -999,    -999,   0.1200,2,   0.0820,2,   0.0370,2,   0.0240,2,   0.0200,2,   0.0220,2,   4.8839,    -999,9,       -999,9,    -999,9,    -999,9
 316N200310,        A22,      42,          1,         19,         19,2,20031102,       1219,    24.2148,   -66.0035,       5370,  1500.3,   4.5381,  35.0322,2,  35.0333,2,    248.1,2,   246.7,2,   12.71,2,   18.97,2,    0.00,2,    1.21,2,   0.919,2,   0.447,2,   0.031,2,  2164.8,2,  2315.7,2,    -999,9,     -999,9,    -999,9,    -999,9,    -999,9,    -999,   1.347,2,    -999,9,    -999,9, 1500.30,     1346,  24.2264, -66.0018,    -999,     -999,    -999,     -999,9,     -999,9,     -999,9,     -999,9,     -999,9,     -999,9,   4.4116,    -999,9,       -999,9,    -999,9,    -999,9
 316N200310,        A22,      42,          1,         18,         18,2,20031102,       1219,    24.2148,   -66.0035,       5370,  1650.0,   4.1002,  34.9992,2,  35.0008,2,    255.1,2,   299.2,4,   13.01,2,   18.58,2,    0.00,2,    1.19,2,   0.968,2,   0.464,2,   0.032,2,  2161.5,2,  2314.6,2,    -999,9,     -999,9,    -999,9,    -999,9,    -999,9,    -999,   1.483,2,    -999,9,    -999,9, 1650.00,     1342,  24.2258, -66.0020,    -999,     -999,    -999,     -999,9,     -999,9,     -999,9,     -999,9,     -999,9,     -999,9,   3.9648,    -999,9,       -999,9,    -999,9,    -999,9
 316N200310,        A22,      42,          1,         17,         17,2,20031102,       1219,    24.2148,   -66.0035,       5370,  1751.3,   3.9428,  34.9907,2,  34.9909,2,    259.2,2,   258.9,2,   13.50,2,   18.52,2,    0.00,2,    1.18,2,   0.875,2,   0.440,2,   0.035,2,  2160.3,2,  2314.7,2,    -999,9,     -999,9,    -999,9,    -999,9,    -999,9,    -999,   1.411,2,   53.80,4,    -999,9, 1751.30,     1340,  24.2254, -66.0021,    -999,     -999,    -999,   0.1250,2,   0.0880,2,   0.0410,2,   0.0280,2,   0.0180,2,   0.0200,2,   3.7999,    -999,9,       -999,9,    -999,9,    -999,9
 316N200310,        A22,      42,          1,         16,         16,2,20031102,       1219,    24.2148,   -66.0035,       5370,  1850.6,   3.8121,  34.9896,2,  34.9906,2,    255.8,2,   258.1,2,   14.69,2,   18.56,2,    0.00,2,    1.20,2,   0.617,2,   0.307,2,   0.021,2,  2161.1,2,  2315.6,2,    -999,9,     -999,9,    -999,9,    -999,9,    -999,9,    -999,   1.096,2,    -999,9,    -999,9, 1850.60,     1337,  24.2250, -66.0021,    -999,     -999,    -999,     -999,9,     -999,9,     -999,9,     -999,9,     -999,9,     -999,9,   3.6616,    -999,9,       -999,9,    -999,9,    -999,9
 316N200310,        A22,      42,          1,         15,         15,2,20031102,       1219,    24.2148,   -66.0035,       5370,  1980.6,   3.6606,  34.9819,2,  34.9829,2,    259.8,2,   259.3,2,   15.48,2,   18.60,2,    0.00,2,    1.20,2,   0.566,2,   0.271,2,   0.018,2,  2161.2,2,  2315.6,2,    -999,9,     -999,9,    -999,9,    -999,9,    -999,9,    -999,   1.029,2,   43.70,2,    -999,9, 1980.60,     1334,  24.2246, -66.0021,    -999,     -999,    -999,   0.1470,2,   0.1040,2,   0.0520,2,   0.0360,2,   0.0160,2,   0.0180,2,   3.4999,    -999,9,       -999,9,    -999,9,    -999,9
 316N200310,        A22,      42,          1,         14,         14,2,20031102,       1219,    24.2148,   -66.0035,       5370,  2250.6,   3.3477,  34.9714,2,  34.9717,2,    258.1,2,   259.1,2,   18.76,2,   18.88,2,    0.00,2,    1.22,2,   0.160,2,   0.090,2,   0.008,2,  2165.1,2,  2320.6,2,    -999,9,     -999,9,    -999,9,    -999,9,    -999,9,    -999,   0.465,2,    -999,9,    -999,9, 2250.60,     1328,  24.2239, -66.0021,    -999,     -999,    -999,     -999,9,     -999,9,     -999,9,     -999,9,     -999,9,     -999,9,   3.1660,    -999,9,       -999,9,    -999,9,    -999,9
 316N200310,        A22,      42,          1,         13,         13,2,20031102,       1219,    24.2148,   -66.0035,       5370,  2500.8,   3.1459,  34.9629,2,  34.9628,2,    256.5,2,   256.3,2,   22.45,2,   19.35,2,    0.00,2,    1.26,2,   0.184,2,   0.113,2,   0.004,2,  2175.8,3,  2325.2,2,    -999,9,     -999,9,    -999,9,    -999,9,    -999,9,    -999,   0.454,2,   39.70,2,    -999,9, 2500.80,     1323,  24.2233, -66.0019,    -999,     -999,    -999,     -999,9,     -999,9,     -999,9,     -999,9,     -999,9,     -999,9,   2.9432,    -999,9,       -999,9,    -999,9,    -999,9
 316N200310,        A22,      42,          1,         12,         12,2,20031102,       1219,    24.2148,   -66.0035,       5370,  2750.2,   2.9326,  34.9466,2,  34.9471,2,    258.4,2,   258.0,2,   24.34,2,   19.39,2,    0.00,2,    1.27,2,   0.000,4,   0.000,4,   0.001,4,  2169.3,2,  2324.6,2,    -999,9,     -999,9,    -999,9,    -999,9,    -999,9,    -999,   0.007,4,    -999,9,    -999,9, 2750.20,     1318,  24.2227, -66.0019,    -999,     -999,    -999,     -999,9,     -999,9,     -999,9,     -999,9,     -999,9,     -999,9,   2.7089,    -999,9,       -999,9,    -999,9,    -999,9
 316N200310,        A22,      42,          1,         11,         11,2,20031102,       1219,    24.2148,   -66.0035,       5370,  2999.8,   2.7335,  34.9318,2,  34.9329,2,    258.9,2,   260.5,2,   25.64,2,   19.33,2,    0.00,2,    1.27,2,   0.237,2,   0.120,2,   0.006,2,  2170.4,2,  2324.1,2,    -999,9,     -999,9,    -999,9,    -999,9,    -999,9,    -999,   0.503,2,   39.20,2,    -999,9, 2999.80,     1313,  24.2220, -66.0019,    -999,     -999,    -999,   0.1550,2,   0.1100,2,   0.0550,2,   0.0370,2,   0.0160,2,   0.0180,2,   2.4885,    -999,9,       -999,9,    -999,9,    -999,9
 316N200310,        A22,      42,          1,         10,         10,2,20031102,       1219,    24.2148,   -66.0035,       5370,  3249.8,   2.5868,  34.9210,2,  34.9215,2,    263.5,2,   262.9,2,   26.24,2,   19.14,2,    0.00,2,    1.25,2,   0.292,2,   0.146,2,   0.012,2,  2168.1,2,  2324.8,2,    -999,9,     -999,9,    -999,9,    -999,9,    -999,9,    -999,   0.596,2,    -999,9,    -999,9, 3249.80,     1307,  24.2214, -66.0021,    -999,     -999,    -999,     -999,9,     -999,9,     -999,9,     -999,9,     -999,9,     -999,9,   2.3190,    -999,9,       -999,9,    -999,9,    -999,9
 316N200310,        A22,      42,          1,          9,          9,2,20031102,       1219,    24.2148,   -66.0035,       5370,  3500.6,   2.4813,  34.9132,2,  34.9128,2,    264.9,2,   264.3,2,   26.94,2,   19.03,2,    0.00,2,    1.25,2,   0.313,2,   0.150,2,   0.013,2,  2169.3,2,  2324.0,2,    -999,9,     -999,9,    -999,9,    -999,9,    -999,9,    -999,   0.630,2,   40.00,2,    -999,9, 3500.60,     1302,  24.2206, -66.0023,    -999,     -999,    -999,     -999,9,     -999,9,     -999,9,     -999,9,     -999,9,     -999,9,   2.1892,    -999,9,       -999,9,    -999,9,    -999,9
 316N200310,        A22,      42,          1,          8,          8,2,20031102,       1219,    24.2148,   -66.0035,       5370,  3749.5,   2.3903,  34.9061,2,  34.9087,2,    265.2,2,   265.2,2,   28.04,2,   18.83,2,    0.00,2,    1.26,2,   0.331,2,   0.161,2,   0.008,2,  2171.0,2,  2324.8,2,    -999,9,     -999,9,    -999,9,    -999,9,    -999,9,    -999,   0.730,2,    -999,9,    -999,9, 3749.50,     1257,  24.2199, -66.0025,    -999,     -999,    -999,     -999,9,     -999,9,     -999,9,     -999,9,     -999,9,     -999,9,   2.0733,    -999,9,       -999,9,    -999,9,    -999,9
 316N200310,        A22,      42,          1,          7,          7,2,20031102,       1219,    24.2148,   -66.0035,       5370,  3999.4,   2.3454,  34.9017,2,  34.9020,2,    265.3,2,   265.5,2,   28.94,2,   18.87,2,    0.00,2,    1.26,2,   0.346,2,   0.168,2,   0.009,2,  2171.8,2,  2326.4,2,    -999,9,     -999,9,    -999,9,    -999,9,    -999,9,    -999,   0.880,2,   43.00,2,    -999,9, 3999.40,     1251,  24.2191, -66.0027,    -999,     -999,    -999,   0.1360,2,   0.0950,2,   0.0450,2,   0.0290,2,   0.0180,2,   0.0200,2,   2.0015,    -999,9,       -999,9,    -999,9,    -999,9
 316N200310,        A22,      42,          1,          6,          6,2,20031102,       1219,    24.2148,   -66.0035,       5370,  4249.6,   2.3069,  34.8969,2,  34.8967,2,    265.1,2,   264.6,2,   30.54,2,   19.11,2,    0.00,2,    1.27,2,    -999,9,    -999,9,    -999,9,  2173.2,2,  2334.9,2,    -999,9,     -999,9,    -999,9,    -999,9,    -999,9,    -999,    -999,9,    -999,9,    -999,9, 4249.60,     1246,  24.2184, -66.0028,    -999,     -999,    -999,     -999,9,     -999,9,     -999,9,     -999,9,     -999,9,     -999,9,   1.9352,    -999,9,       -999,9,    -999,9,    -999,9
 316N200310,        A22,      42,          1,          5,          5,2,20031102,       1219,    24.2148,   -66.0035,       5370,  4501.1,   2.2852,  34.8923,2,  34.8947,2,    263.2,2,   263.7,2,   32.94,2,   19.43,2,    0.00,2,    1.30,2,    -999,9,    -999,9,    -999,9,  2176.4,2,  2334.5,2,    -999,9,     -999,9,    -999,9,    -999,9,    -999,9,    -999,    -999,9,   43.30,2,    -999,9, 4501.10,     1241,  24.2177, -66.0028,    -999,     -999,    -999,   0.1310,2,   0.0920,2,   0.0440,2,   0.0280,2,   0.0180,2,   0.0200,2,   1.8844,    -999,9,       -999,9,    -999,9,    -999,9