BOTTLE,20220517CCHSIOLMM
EXPOCODE,SECT_ID,STNNBR,CASTNO,SAMPNO,BTLNBR,BTLNBR_FLAG_W,DATE,TIME,LATITUDE,LONGITUDE,DEPTH,CTDPRS,CTDTMP,CTDSAL,CTDSAL_FLAG_W,SALNTY,SALNTY_FLAG_W,CTDOXY,CTDOXY_FLAG_W,OXYGEN,OXYGEN_FLAG_W,SILCAT,SILCAT_FLAG_W,NITRAT,NITRAT_FLAG_W,NITRIT,NITRIT_FLAG_W,PHSPHT,PHSPHT_FLAG_W,CFC-11,CFC-11_FLAG_W,CFC-12,CFC-12_FLAG_W,CFC113,CFC113_FLAG_W,TCARBN,TCARBN_FLAG_W,ALKALI,ALKALI_FLAG_W,TRITUM,TRITUM_FLAG_W,HELIUM,HELIUM_FLAG_W,DELHE3,DELHE3_FLAG_W,DELC13,DELC13_FLAG_W,DELC14,DELC14_FLAG_W,C14ERR,CCL4,CCL4_FLAG_W,DOC,DOC_FLAG_W,TDN,TDN_FLAG_W,CTDRAW,BTL_TIME,BTL_LAT,BTL_LON,TRITER,HELIER,DELHER,CDOM325,CDOM325_FLAG_W,CDOM340,CDOM340_FLAG_W,CDOM380,CDOM380_FLAG_W,CDOM412,CDOM412_FLAG_W,CDOMSL,CDOMSL_FLAG_W,CDOMSN,CDOMSN_FLAG_W,THETA,BACT,BACT_FLAG_W,PROC,PROC_FLAG_W,SYN,SYN_FLAG_W,PEUK,PEUK_FLAG_W
,,,,,,,,,,,METERS,DBAR,ITS-90,PSS-78,,PSS-78,,UMOL/KG,,UMOL/KG,,UMOL/KG,,UMOL/KG,,UMOL/KG,,UMOL/KG,,PMOL/KG,,PMOL/KG,,PMOL/KG,,UMOL/KG,,UMOL/KG,,TU,,NMOL/KG,,PERCNT,,/MILLE,,/MILLE,,/MILLE,PMOL/KG,,UMOL/KG,,UMOL/KG,,DBAR,,,,TU,NMOL/KG,PERCNT,1/M,,1/M,,1/M,,1/M,,1/NM,,1/NM,,DEG C,E8/L,,E7/L,,E6/L,,E6/L,
 316N200310,        A22,      72,          1,         35,         35,2,20031111,       1349,    38.3295,   -68.8737,       3799,     3.1,  19.1553,  35.1831,2,  35.1843,4,    172.7,2,   229.6,2,    0.79,2,    0.09,2,    0.00,2,    0.04,2,   2.229,2,   1.355,2,   0.140,2,  2022.4,2,  2322.3,6,    -999,9,     -999,9,    -999,9,    1.40,2,    71.7,2,     2.8,   2.096,2,   74.00,2,    4.20,2,    3.10,     1534,  38.3373, -68.8763,    -999,     -999,    -999,   0.2220,2,   0.1580,2,   0.0730,2,   0.0470,2,   0.0170,2,   0.0190,2,  19.1547,    4.58,2,       2.12,2,   54.70,2,   10.07,2
 316N200310,        A22,      72,          1,         34,         34,2,20031111,       1349,    38.3295,   -68.8737,       3799,    25.0,  19.1371,  35.1791,2,  35.1784,4,    230.6,2,   229.2,2,    0.78,2,    0.00,2,    0.00,2,    0.04,2,   2.196,2,   1.308,2,   0.145,2,  2022.0,2,  2327.6,2,    -999,9,     -999,9,    -999,9,    -999,9,    -999,9,    -999,   2.038,2,   71.60,2,    4.50,2,   25.00,     1532,  38.3371, -68.8764,    -999,     -999,    -999,   0.2290,3,   0.1640,3,   0.0770,3,   0.0500,3,   0.0170,3,   0.0190,3,  19.1326,    4.33,2,       3.26,2,   57.94,2,    9.15,2
 316N200310,        A22,      72,          1,         33,         33,2,20031111,       1349,    38.3295,   -68.8737,       3799,    50.0,  16.8008,  35.1689,2,  35.1492,4,    212.8,2,   210.0,2,    1.96,2,    2.70,2,    0.17,2,    0.25,2,   2.498,2,   1.479,2,   0.138,2,  2066.4,2,  2325.8,2,    -999,9,     -999,9,    -999,9,    -999,9,    -999,9,    -999,   1.511,2,   63.30,2,    7.10,2,   50.00,     1530,  38.3369, -68.8765,    -999,     -999,    -999,   0.2440,2,   0.1790,2,   0.0860,2,   0.0570,2,   0.0170,2,   0.0180,2,  16.7927,    3.97,2,       0.52,2,    3.93,2,    1.80,2
 316N200310,        A22,      72,          1,         32,         32,2,20031111,       1349,    38.3295,   -68.8737,       3799,    74.9,  14.7526,  35.4896,2,  35.4991,4,    173.4,2,   174.3,2,    4.65,2,    9.89,2,    0.04,2,    0.66,2,   2.529,2,   1.460,2,   0.105,2,  2129.8,2,  2333.5,2,    -999,9,     -999,9,    -999,9,    -999,9,    -999,9,    -999,   0.708,2,   55.80,2,   13.50,2,   74.90,     1528,  38.3368, -68.8766,    -999,     -999,    -999,   0.2230,2,   0.1640,2,   0.0820,2,   0.0560,2,   0.0160,2,   0.0170,2,  14.7414,    2.05,2,       0.53,2,    0.40,2,    0.57,2
 316N200310,        A22,      72,          1,         31,         31,2,20031111,       1349,    38.3295,   -68.8737,       3799,   100.4,  13.9036,  35.6463,2,  35.6469,4,    153.9,2,   164.0,2,    5.34,2,   13.39,2,    0.02,2,    0.82,2,   0.007,4,   0.000,4,   0.015,4,  2145.2,2,  2338.9,2,    -999,9,     -999,9,    -999,9,    -999,9,    -999,9,    -999,   0.002,4,   52.80,2,   18.10,2,  100.40,     1527,  38.3366, -68.8767,    -999,     -999,    -999,   0.1740,2,   0.1250,2,   0.0610,2,   0.0420,2,   0.0160,2,   0.0180,2,  13.8892,    1.43,2,       0.16,2,    0.06,2,    0.18,2
 316N200310,        A22,      72,          1,         30,         30,2,20031111,       1349,    38.3295,   -68.8737,       3799,   125.1,  13.2210,  35.6085,2,  35.6141,4,    160.5,2,   163.8,2,    6.23,2,   14.99,2,    0.02,2,    0.92,2,   2.108,2,   1.204,2,   0.067,2,  2151.3,2,  2337.4,2,    -999,9,     -999,9,    -999,9,    -999,9,    -999,9,    -999,   0.552,2,   51.90,2,   18.70,2,  125.10,     1525,  38.3364, -68.8768,    -999,     -999,    -999,   0.1460,2,   0.1040,2,   0.0500,2,   0.0340,2,   0.0170,2,   0.0190,2,  13.2036,    1.27,2,       0.00,2,    0.02,2,    0.07,2
 316N200310,        A22,      72,          1,         29,         29,2,20031111,       1349,    38.3295,   -68.8737,       3799,   150.0,  12.5860,  35.5693,2,  35.5725,4,    164.2,2,   156.4,2,    7.63,2,   17.16,2,    0.02,2,    1.05,2,   1.877,2,   1.057,2,   0.054,2,  2160.4,2,  2335.3,2,    -999,9,     -999,9,    -999,9,    -999,9,    -999,9,    -999,   0.501,2,   49.00,2,   20.60,2,  150.00,     1524,  38.3363, -68.8769,    -999,     -999,    -999,   0.1380,2,   0.0980,2,   0.0470,2,   0.0320,2,   0.0170,2,   0.0190,2,  12.5657,    0.88,2,       0.00,2,    0.02,2,    0.06,2
 316N200310,        A22,      72,          1,         28,         28,2,20031111,       1349,    38.3295,   -68.8737,       3799,   175.6,  12.0178,  35.5097,2,  35.5146,4,    155.9,2,   160.1,2,    8.22,2,   17.86,2,    0.02,2,    1.09,2,   1.789,2,   1.006,2,   0.056,2,  2162.7,2,  2333.0,2,    -999,9,     -999,9,    -999,9,    -999,9,    -999,9,    -999,   0.548,2,    -999,9,    -999,9,  175.60,     1522,  38.3361, -68.8770,    -999,     -999,    -999,     -999,9,     -999,9,     -999,9,     -999,9,     -999,9,     -999,9,  11.9947,    -999,9,       -999,9,    -999,9,    -999,9
 316N200310,        A22,      72,          1,         26,         26,2,20031111,       1349,    38.3295,   -68.8737,       3799,   225.4,  10.8108,  35.3727,2,  35.3774,4,    143.3,2,   138.4,2,   11.44,2,   22.05,2,    0.02,2,    1.38,2,   1.556,4,   1.442,4,   0.120,4,  2182.4,2,  2325.7,2,    -999,9,     -999,9,    -999,9,    -999,9,    -999,9,    -999,   0.496,4,   45.40,2,    -999,9,  225.40,     1518,  38.3357, -68.8772,    -999,     -999,    -999,   0.1330,2,   0.0940,2,   0.0470,2,   0.0330,2,   0.0160,2,   0.0180,2,  10.7831,    -999,9,       -999,9,    -999,9,    -999,9
 316N200310,        A22,      72,          1,         27,         27,2,20031111,       1349,    38.3295,   -68.8737,       3799,   225.5,  10.8121,  35.3728,2,     -999,9,    143.3,2,    -999,9,    -999,9,    -999,9,    -999,9,    -999,9,    -999,9,    -999,9,    -999,9,    -999,9,    -999,9,    -999,9,     -999,9,    -999,9,    -999,9,    -999,9,    -999,    -999,9,    -999,9,   24.70,4,  225.50,     1518,  38.3357, -68.8772,    -999,     -999,    -999,     -999,9,     -999,9,     -999,9,     -999,9,     -999,9,     -999,9,  10.7844,    -999,9,       -999,9,    -999,9,    -999,9
 316N200310,        A22,      72,          1,         25,         25,2,20031111,       1349,    38.3295,   -68.8737,       3799,   275.4,   9.4945,  35.2155,2,  35.2176,4,    138.7,2,   132.6,2,   14.48,2,   25.04,2,    0.02,2,    1.59,2,   0.775,2,   0.431,2,   0.009,2,  2192.4,2,  2320.6,2,    -999,9,     -999,9,    -999,9,    -999,9,    -999,9,    -999,   0.270,2,    -999,9,    -999,9,  275.40,     1516,  38.3355, -68.8772,    -999,     -999,    -999,     -999,9,     -999,9,     -999,9,     -999,9,     -999,9,     -999,9,   9.4634,    -999,9,       -999,9,    -999,9,    -999,9
 316N200310,        A22,      72,          1,         24,         24,2,20031111,       1349,    38.3295,   -68.8737,       3799,   350.7,   8.0074,  35.1262,2,  35.1293,4,    153.1,2,   155.5,2,   14.47,2,   24.04,2,    0.01,2,    1.53,2,   1.038,2,   0.546,2,   0.026,2,  2190.4,2,  2316.8,2,    -999,9,     -999,9,    -999,9,    -999,9,    -999,9,    -999,   0.642,2,   42.00,2,    -999,9,  350.70,     1513,  38.3352, -68.8773,    -999,     -999,    -999,   0.1260,2,   0.0880,2,   0.0420,2,   0.0290,2,   0.0180,2,   0.0200,2,   7.9714,    -999,9,       -999,9,    -999,9,    -999,9
 316N200310,        A22,      72,          1,         23,         23,2,20031111,       1349,    38.3295,   -68.8737,       3799,   450.2,   6.0324,  35.0491,2,  35.0529,4,    197.1,2,   203.1,2,   13.14,2,   21.00,2,    0.01,2,    1.37,2,   1.560,2,   0.803,2,   0.059,2,  2179.3,2,  2313.1,2,    -999,9,     -999,9,    -999,9,    -999,9,    -999,9,    -999,   1.365,2,    -999,9,    -999,9,  450.20,     1511,  38.3349, -68.8774,    -999,     -999,    -999,     -999,9,     -999,9,     -999,9,     -999,9,     -999,9,     -999,9,   5.9927,    -999,9,       -999,9,    -999,9,    -999,9
 316N200310,        A22,      72,          1,         22,         22,2,20031111,       1349,    38.3295,   -68.8737,       3799,   550.4,   5.3487,  35.0405,2,  35.0461,4,    223.0,2,   224.6,2,   12.63,2,   19.52,2,    0.01,2,    1.28,2,   1.648,2,   0.852,2,   0.082,2,  2172.1,2,  2312.7,2,    -999,9,     -999,9,    -999,9,    -999,9,    -999,9,    -999,   1.603,2,   46.90,2,    -999,9,  550.40,     1507,  38.3346, -68.8775,    -999,     -999,    -999,   0.1340,2,   0.0930,2,   0.0430,2,   0.0290,2,   0.0180,2,   0.0200,2,   5.3026,    -999,9,       -999,9,    -999,9,    -999,9
 316N200310,        A22,      72,          1,         21,         21,2,20031111,       1349,    38.3295,   -68.8737,       3799,   675.4,   4.7009,  34.9963,2,  35.0010,4,    240.9,2,   244.2,2,   11.81,2,   18.57,2,    0.01,2,    1.21,2,   2.143,2,   1.097,2,   0.108,2,  2168.2,2,  2313.4,2,    -999,9,     -999,9,    -999,9,    -999,9,    -999,9,    -999,   2.121,2,    -999,9,    -999,9,  675.40,     1504,  38.3342, -68.8776,    -999,     -999,    -999,     -999,9,     -999,9,     -999,9,     -999,9,     -999,9,     -999,9,   4.6472,    -999,9,       -999,9,    -999,9,    -999,9
 316N200310,        A22,      72,          1,         20,         20,2,20031111,       1349,    38.3295,   -68.8737,       3799,   825.9,   4.4248,  34.9898,2,  34.9947,4,    253.3,2,   251.1,2,   11.81,2,   18.22,2,    0.01,2,    1.19,2,   2.045,2,   1.037,2,   0.083,2,  2165.5,2,  2312.0,2,    -999,9,     -999,9,    -999,9,    -999,9,    -999,9,    -999,   2.139,2,    -999,9,    -999,9,  825.90,     1500,  38.3339, -68.8777,    -999,     -999,    -999,     -999,9,     -999,9,     -999,9,     -999,9,     -999,9,     -999,9,   4.3600,    -999,9,       -999,9,    -999,9,    -999,9
 316N200310,        A22,      72,          1,         19,         19,2,20031111,       1349,    38.3295,   -68.8737,       3799,   975.2,   4.1761,  34.9736,2,  34.9793,4,    260.3,2,   257.2,2,   11.80,2,   17.86,2,    0.01,2,    1.17,2,   2.065,2,   1.039,2,   0.097,2,  2161.2,2,  2310.6,2,    -999,9,     -999,9,    -999,9,    -999,9,    -999,9,    -999,   2.229,2,   44.90,2,    -999,9,  975.20,     1457,  38.3336, -68.8778,    -999,     -999,    -999,   0.1550,2,   0.1100,2,   0.0560,2,   0.0380,2,   0.0150,2,   0.0170,2,   4.1004,    -999,9,       -999,9,    -999,9,    -999,9
 316N200310,        A22,      72,          1,         18,         18,2,20031111,       1349,    38.3295,   -68.8737,       3799,  1124.8,   3.9807,  34.9609,2,  34.9656,4,    263.3,2,   262.3,2,   11.89,2,   17.76,2,    0.01,2,    1.16,2,   2.022,2,   1.014,2,   0.093,2,  2159.4,2,  2308.6,2,    -999,9,     -999,9,    -999,9,    -999,9,    -999,9,    -999,   2.274,2,    -999,9,    -999,9, 1124.80,     1454,  38.3332, -68.8778,    -999,     -999,    -999,     -999,9,     -999,9,     -999,9,     -999,9,     -999,9,     -999,9,   3.8939,    -999,9,       -999,9,    -999,9,    -999,9
 316N200310,        A22,      72,          1,         17,         17,2,20031111,       1349,    38.3295,   -68.8737,       3799,  1275.1,   3.8234,  34.9522,2,  34.9575,4,    265.6,2,   265.0,2,   12.10,2,   17.66,2,    0.01,2,    1.16,2,   1.928,2,   0.956,2,   0.099,2,  2158.6,2,  2304.2,2,    -999,9,     -999,9,    -999,9,    -999,9,    -999,9,    -999,   2.218,2,   45.60,2,    -999,9, 1275.10,     1450,  38.3329, -68.8779,    -999,     -999,    -999,   0.1220,2,   0.0840,2,   0.0380,2,   0.0250,2,   0.0200,2,   0.0220,2,   3.7251,    -999,9,       -999,9,    -999,9,    -999,9
 316N200310,        A22,      72,          1,         16,         16,2,20031111,       1349,    38.3295,   -68.8737,       3799,  1399.6,   3.7365,  34.9507,2,  34.9557,4,    266.6,2,   266.3,2,   12.39,2,   17.60,2,    0.00,2,    1.15,2,   1.765,2,   0.862,2,   0.067,2,  2157.8,2,  2305.3,2,    -999,9,     -999,9,    -999,9,    -999,9,    -999,9,    -999,   2.123,2,    -999,9,    -999,9, 1399.60,     1447,  38.3325, -68.8779,    -999,     -999,    -999,     -999,9,     -999,9,     -999,9,     -999,9,     -999,9,     -999,9,   3.6282,    -999,9,       -999,9,    -999,9,    -999,9
 316N200310,        A22,      72,          1,         15,         15,2,20031111,       1349,    38.3295,   -68.8737,       3799,  1499.7,   3.6357,  34.9439,2,  34.9494,4,    268.1,2,   268.0,2,   12.59,2,   17.60,2,    0.00,2,    1.15,2,   1.740,6,   0.858,6,   0.099,2,  2157.6,2,  2307.1,2,    -999,9,     -999,9,    -999,9,    -999,9,    -999,9,    -999,   2.618,2,   44.30,2,    -999,9, 1499.70,     1444,  38.3322, -68.8779,    -999,     -999,    -999,   0.1260,2,   0.0870,2,   0.0400,2,   0.0260,2,   0.0190,2,   0.0210,2,   3.5197,    -999,9,       -999,9,    -999,9,    -999,9
 316N200310,        A22,      72,          1,         14,         14,2,20031111,       1349,    38.3295,   -68.8737,       3799,  1600.2,   3.5777,  34.9434,2,  34.9496,4,    268.5,2,   268.2,2,   12.99,2,   17.55,2,    0.00,2,    1.15,2,   1.636,2,   0.812,2,   0.074,2,  2158.6,2,  2310.9,2,    -999,9,     -999,9,    -999,9,    -999,9,    -999,9,    -999,   2.043,2,   45.60,2,    -999,9, 1600.20,     1442,  38.3319, -68.8780,    -999,     -999,    -999,   0.1280,2,   0.0880,2,   0.0400,2,   0.0260,2,   0.0200,2,   0.0210,2,   3.4535,    -999,9,       -999,9,    -999,9,    -999,9
 316N200310,        A22,      72,          1,         13,         13,2,20031111,       1349,    38.3295,   -68.8737,       3799,  1700.4,   3.5138,  34.9430,2,  34.9494,4,    268.9,2,   268.8,2,   13.38,2,   17.55,2,    0.00,2,    1.15,2,   1.542,2,   0.764,2,   0.068,2,  2157.9,2,  2310.9,2,    -999,9,     -999,9,    -999,9,    -999,9,    -999,9,    -999,   1.950,2,   44.20,2,    -999,9, 1700.40,     1439,  38.3317, -68.8780,    -999,     -999,    -999,   0.1600,2,   0.1140,2,   0.0570,2,   0.0390,2,   0.0150,2,   0.0170,2,   3.3813,    -999,9,       -999,9,    -999,9,    -999,9
 316N200310,        A22,      72,          1,         12,         12,2,20031111,       1349,    38.3295,   -68.8737,       3799,  1824.8,   3.4328,  34.9414,2,  34.9465,4,    269.0,2,   269.5,2,   13.89,2,   17.54,2,    0.00,2,    1.15,2,   1.469,2,   0.715,2,   0.067,2,  2157.6,2,  2311.8,2,    -999,9,     -999,9,    -999,9,    -999,9,    -999,9,    -999,   1.880,2,    -999,9,    -999,9, 1824.80,     1436,  38.3314, -68.8780,    -999,     -999,    -999,     -999,9,     -999,9,     -999,9,     -999,9,     -999,9,     -999,9,   3.2901,    -999,9,       -999,9,    -999,9,    -999,9
 316N200310,        A22,      72,          1,         11,         11,2,20031111,       1349,    38.3295,   -68.8737,       3799,  1975.3,   3.3633,  34.9461,2,  34.9510,4,    267.9,2,   267.7,2,   14.89,2,   17.59,2,    0.00,2,    1.16,2,   1.189,2,   0.583,2,   0.046,2,  2157.9,2,  2311.3,2,    -999,9,     -999,9,    -999,9,    -999,9,    -999,9,    -999,   1.596,2,   47.90,3,    -999,9, 1975.30,     1433,  38.3312, -68.8780,    -999,     -999,    -999,   0.1200,2,   0.0830,2,   0.0370,2,   0.0240,2,   0.0210,2,   0.0220,2,   3.2076,    -999,9,       -999,9,    -999,9,    -999,9
 316N200310,        A22,      72,          1,         10,         10,2,20031111,       1349,    38.3295,   -68.8737,       3799,  2150.6,   3.2090,  34.9403,2,  34.9469,4,    268.0,2,   268.3,2,   15.80,2,   17.54,2,    0.00,2,    1.16,2,   1.154,2,   0.565,2,   0.045,2,  2158.9,2,  2310.3,2,    -999,9,     -999,9,    -999,9,    -999,9,    -999,9,    -999,   1.566,2,    -999,9,    -999,9, 2150.60,     1429,  38.3310, -68.8781,    -999,     -999,    -999,     -999,9,     -999,9,     -999,9,     -999,9,     -999,9,     -999,9,   3.0392,    -999,9,       -999,9,    -999,9,    -999,9
 316N200310,        A22,      72,          1,          9,          9,2,20031111,       1349,    38.3295,   -68.8737,       3799,  2375.6,   3.0438,  34.9390,2,  34.9443,4,    266.9,2,   267.8,2,   17.42,2,   17.59,2,    0.00,2,    1.17,2,   0.925,2,   0.462,2,   0.033,2,  2160.5,2,  2313.7,2,    -999,9,     -999,9,    -999,9,    -999,9,    -999,9,    -999,   1.348,2,    -999,9,    -999,9, 2375.60,     1424,  38.3307, -68.8782,    -999,     -999,    -999,     -999,9,     -999,9,     -999,9,     -999,9,     -999,9,     -999,9,   2.8552,    -999,9,       -999,9,    -999,9,    -999,9
 316N200310,        A22,      72,          1,          8,          8,2,20031111,       1349,    38.3295,   -68.8737,       3799,  2626.0,   2.8303,  34.9290,2,  34.9353,4,    268.2,2,   269.3,2,   18.54,2,   17.43,2,    0.00,2,    1.16,2,   0.967,2,   0.478,2,   0.036,2,  2160.5,2,  2313.5,2,    -999,9,     -999,9,    -999,9,    -999,9,    -999,9,    -999,   1.375,2,   43.20,2,    -999,9, 2626.00,     1419,  38.3304, -68.8781,    -999,     -999,    -999,   0.1240,2,   0.0860,2,   0.0390,2,   0.0250,2,   0.0200,2,   0.0210,2,   2.6212,    -999,9,       -999,9,    -999,9,    -999,9
 316N200310,        A22,      72,          1,          7,          7,2,20031111,       1349,    38.3295,   -68.8737,       3799,  2874.9,   2.5621,  34.9139,2,  34.9201,4,    271.1,2,   272.4,2,   19.25,2,   17.18,2,    0.00,2,    1.14,2,   1.241,2,   0.608,2,   0.060,2,  2162.3,2,  2312.6,2,    -999,9,     -999,9,    -999,9,    -999,9,    -999,9,    -999,   1.638,2,    -999,9,    -999,9, 2874.90,     1414,  38.3302, -68.8775,    -999,     -999,    -999,     -999,9,     -999,9,     -999,9,     -999,9,     -999,9,     -999,9,   2.3336,    -999,9,       -999,9,    -999,9,    -999,9
 316N200310,        A22,      72,          1,          6,          6,2,20031111,       1349,    38.3295,   -68.8737,       3799,  3100.3,   2.3982,  34.9051,2,  34.9103,4,    272.9,2,   273.2,2,   20.78,2,   17.13,2,    0.00,2,    1.15,2,   1.318,2,   0.653,2,   0.066,2,  2164.4,2,  2314.2,2,    -999,9,     -999,9,    -999,9,    -999,9,    -999,9,    -999,   1.703,2,   42.30,2,    -999,9, 3100.30,     1409,  38.3301, -68.8768,    -999,     -999,    -999,     -999,9,     -999,9,     -999,9,     -999,9,     -999,9,     -999,9,   2.1504,    -999,9,       -999,9,    -999,9,    -999,9
 316N200310,        A22,      72,          1,          5,          5,2,20031111,       1349,    38.3295,   -68.8737,       3799,  3275.0,   2.3060,  34.9003,2,  34.9065,4,    271.6,2,   271.9,2,   23.34,2,   17.44,2,    0.00,2,    1.17,2,   1.160,6,   0.573,6,   0.055,6,  2166.1,2,  2316.5,2,    -999,9,     -999,9,    -999,9,    -999,9,    -999,9,    -999,   1.556,6,   44.70,2,    -999,9, 3275.00,     1405,  38.3300, -68.8761,    -999,     -999,    -999,   0.1720,3,   0.1260,3,   0.0670,3,   0.0470,3,   0.0140,3,   0.0160,3,   2.0422,    -999,9,       -999,9,    -999,9,    -999,9
 316N200310,        A22,      72,          1,          4,          4,2,20031111,       1349,    38.3295,   -68.8737,       3799,  3425.7,   2.2496,  34.8956,2,  34.9006,4,    272.7,2,   272.9,2,   23.23,2,   17.33,2,    0.00,2,    1.17,2,   1.374,2,   0.685,2,   0.073,2,  2166.9,2,  2315.9,2,    -999,9,     -999,9,    -999,9,    -999,9,    -999,9,    -999,   1.741,2,    -999,9,    -999,9, 3425.70,     1401,  38.3300, -68.8755,    -999,     -999,    -999,     -999,9,     -999,9,     -999,9,     -999,9,     -999,9,     -999,9,   1.9714,    -999,9,       -999,9,    -999,9,    -999,9