BOTTLE,20220517CCHSIOLMM
EXPOCODE,SECT_ID,STNNBR,CASTNO,SAMPNO,BTLNBR,BTLNBR_FLAG_W,DATE,TIME,LATITUDE,LONGITUDE,DEPTH,CTDPRS,CTDTMP,CTDSAL,CTDSAL_FLAG_W,SALNTY,SALNTY_FLAG_W,CTDOXY,CTDOXY_FLAG_W,OXYGEN,OXYGEN_FLAG_W,SILCAT,SILCAT_FLAG_W,NITRAT,NITRAT_FLAG_W,NITRIT,NITRIT_FLAG_W,PHSPHT,PHSPHT_FLAG_W,CFC-11,CFC-11_FLAG_W,CFC-12,CFC-12_FLAG_W,CFC113,CFC113_FLAG_W,TCARBN,TCARBN_FLAG_W,ALKALI,ALKALI_FLAG_W,TRITUM,TRITUM_FLAG_W,HELIUM,HELIUM_FLAG_W,DELHE3,DELHE3_FLAG_W,DELC13,DELC13_FLAG_W,DELC14,DELC14_FLAG_W,C14ERR,CCL4,CCL4_FLAG_W,DOC,DOC_FLAG_W,TDN,TDN_FLAG_W,CTDRAW,BTL_TIME,BTL_LAT,BTL_LON,TRITER,HELIER,DELHER,CDOM325,CDOM325_FLAG_W,CDOM340,CDOM340_FLAG_W,CDOM380,CDOM380_FLAG_W,CDOM412,CDOM412_FLAG_W,CDOMSL,CDOMSL_FLAG_W,CDOMSN,CDOMSN_FLAG_W,THETA,BACT,BACT_FLAG_W,PROC,PROC_FLAG_W,SYN,SYN_FLAG_W,PEUK,PEUK_FLAG_W
,,,,,,,,,,,METERS,DBAR,ITS-90,PSS-78,,PSS-78,,UMOL/KG,,UMOL/KG,,UMOL/KG,,UMOL/KG,,UMOL/KG,,UMOL/KG,,PMOL/KG,,PMOL/KG,,PMOL/KG,,UMOL/KG,,UMOL/KG,,TU,,NMOL/KG,,PERCNT,,/MILLE,,/MILLE,,/MILLE,PMOL/KG,,UMOL/KG,,UMOL/KG,,DBAR,,,,TU,NMOL/KG,PERCNT,1/M,,1/M,,1/M,,1/M,,1/NM,,1/NM,,DEG C,E8/L,,E7/L,,E6/L,,E6/L,
 316N200310,        A22,      60,          1,         36,         36,2,20031108,       1431,    34.2565,   -66.3075,       5214,     2.8,  24.7419,  36.4906,2,  36.4883,2,    196.4,2,   206.7,2,    0.48,2,    0.14,2,    0.00,2,    0.01,2,   1.808,2,   1.090,2,   0.097,2,  2032.0,2,    -999,9,    -999,9,     -999,9,    -999,9,    -999,9,    -999,9,    -999,   1.768,2,   67.70,2,    4.00,2,    2.80,     1640,  34.2613, -66.3234,    -999,     -999,    -999,   0.0570,2,   0.0360,2,   0.0110,2,   0.0070,2,   0.0310,2,   0.0310,2,  24.7413,    3.27,2,       5.03,2,   21.17,2,    1.59,2
 316N200310,        A22,      60,          1,         35,         35,2,20031108,       1431,    34.2565,   -66.3075,       5214,    30.5,  24.7408,  36.4896,2,  36.4871,2,    207.5,2,   206.8,2,    0.46,2,    0.09,2,    0.00,2,    0.01,2,   1.798,2,   1.086,2,   0.095,2,  2029.1,2,    -999,9,    -999,9,     -999,9,    -999,9,    -999,9,    -999,9,    -999,   1.768,2,   67.90,2,    4.80,2,   30.50,     1638,  34.2611, -66.3229,    -999,     -999,    -999,   0.0550,2,   0.0350,2,   0.0110,2,   0.0070,2,   0.0310,2,   0.0310,2,  24.7342,    3.28,2,       5.91,2,   23.67,2,    2.04,2
 316N200310,        A22,      60,          1,         34,         34,2,20031108,       1431,    34.2565,   -66.3075,       5214,    75.5,  23.8220,  36.5543,2,  36.5392,2,    215.6,2,   212.0,2,    0.44,2,    0.09,2,    0.00,2,    0.01,2,   1.950,2,   1.140,2,   0.087,2,  2045.2,2,    -999,9,    -999,9,     -999,9,    -999,9,    -999,9,    -999,9,    -999,   1.357,2,   66.10,2,    4.90,2,   75.50,     1635,  34.2610, -66.3223,    -999,     -999,    -999,   0.1040,2,   0.0700,2,   0.0280,2,   0.0190,2,   0.0250,2,   0.0250,2,  23.8061,    3.37,2,       4.74,2,    9.36,2,    2.06,2
 316N200310,        A22,      60,          1,         33,         33,2,20031108,       1431,    34.2565,   -66.3075,       5214,   126.2,  20.0227,  36.6358,2,  36.6344,2,    210.8,2,   209.6,2,    0.52,2,    0.56,2,    0.07,2,    0.03,2,   2.202,2,   1.304,2,   0.108,2,  2081.4,2,    -999,9,    -999,9,     -999,9,    -999,9,    -999,9,    -999,9,    -999,   0.879,2,   60.40,2,    4.90,2,  126.20,     1632,  34.2607, -66.3217,    -999,     -999,    -999,   0.1320,2,   0.0960,2,   0.0450,2,   0.0320,2,   0.0170,2,   0.0180,2,  19.9992,    1.72,2,       4.98,2,    0.00,2,    1.71,2
 316N200310,        A22,      60,          1,         32,         32,2,20031108,       1431,    34.2565,   -66.3075,       5214,   174.6,  19.3131,  36.6244,2,  36.6221,2,    204.8,2,   205.7,2,    0.70,2,    1.45,2,    0.02,2,    0.05,2,   2.237,2,   1.343,2,   0.103,2,  2085.8,2,    -999,9,    -999,9,     -999,9,    -999,9,    -999,9,    -999,9,    -999,   0.710,2,   56.30,2,    5.30,2,  174.60,     1630,  34.2605, -66.3213,    -999,     -999,    -999,   0.1020,3,   0.0740,3,   0.0350,3,   0.0260,3,   0.0180,3,   0.0200,3,  19.2813,    1.27,2,       0.71,2,    0.01,2,    0.20,2
 316N200310,        A22,      60,          1,         31,         31,2,20031108,       1431,    34.2565,   -66.3075,       5214,   225.9,  18.9804,  36.6109,2,  36.6078,2,    200.9,2,   202.2,2,    0.78,2,    2.54,2,    0.01,2,    0.11,2,   2.288,6,   1.358,6,   0.063,6,  2092.0,2,  2387.6,2,   1.076,2,   1.7376,2,   -1.60,2,    -999,9,    -999,9,    -999,   0.545,2,   56.80,2,    5.30,2,  225.90,     1628,  34.2604, -66.3210,   0.013,   0.0087,    0.15,   0.0910,2,   0.0640,2,   0.0280,2,   0.0200,2,   0.0220,2,   0.0230,2,  18.9397,    -999,9,       -999,9,    -999,9,    -999,9
 316N200310,        A22,      60,          1,         30,         30,2,20031108,       1431,    34.2565,   -66.3075,       5214,   275.4,  18.7851,  36.5979,2,  36.5945,2,    205.7,2,   207.5,2,    0.76,2,    2.59,2,    0.01,2,    0.11,2,   2.282,2,   1.320,2,   0.063,2,  2090.7,2,  2388.2,2,    -999,9,     -999,9,    -999,9,    -999,9,    -999,9,    -999,   0.611,2,   53.30,2,    5.90,2,  275.40,     1627,  34.2602, -66.3206,    -999,     -999,    -999,   0.0860,2,   0.0610,2,   0.0270,2,   0.0200,2,   0.0220,2,   0.0220,2,  18.7358,    -999,9,       -999,9,    -999,9,    -999,9
 316N200310,        A22,      60,          1,         29,         29,2,20031108,       1431,    34.2565,   -66.3075,       5214,   350.3,  18.4836,  36.5734,2,  36.5712,2,    201.1,2,   204.6,2,    1.04,2,    3.28,2,    0.01,2,    0.15,2,   2.275,6,   1.328,6,   0.058,6,  2095.9,2,  2386.2,2,   1.047,2,   1.7654,2,   -0.14,2,    -999,9,    -999,9,    -999,   0.621,6,   52.20,2,    -999,9,  350.30,     1624,  34.2601, -66.3202,   0.013,   0.0088,    0.15,   0.0870,2,   0.0610,2,   0.0270,2,   0.0190,2,   0.0230,2,   0.0230,2,  18.4215,    -999,9,       -999,9,    -999,9,    -999,9
 316N200310,        A22,      60,          1,         28,         28,2,20031108,       1431,    34.2565,   -66.3075,       5214,   450.1,  17.7529,  36.4740,2,  36.4719,2,    190.2,2,   189.0,2,    1.62,2,    5.79,2,    0.01,2,    0.29,2,   2.308,2,   1.308,2,   0.020,2,  2111.1,2,  2378.7,2,   1.144,2,   1.7573,2,    0.34,2,    -999,9,    -999,9,    -999,   0.387,2,   47.90,2,    -999,9,  450.10,     1621,  34.2600, -66.3199,   0.016,   0.0088,    0.15,   0.0920,2,   0.0640,2,   0.0290,2,   0.0200,2,   0.0220,2,   0.0220,2,  17.6751,    -999,9,       -999,9,    -999,9,    -999,9
 316N200310,        A22,      60,          1,         27,         27,2,20031108,       1431,    34.2565,   -66.3075,       5214,   574.8,  16.5594,  36.2805,2,  36.2772,2,    187.2,2,   186.0,2,    2.51,2,    7.97,2,    0.01,2,    0.44,2,   2.266,2,   1.236,2,   0.031,2,  2122.1,2,    -999,9,   1.062,2,   1.7825,2,    0.64,2,    -999,9,    -999,9,    -999,   0.466,2,   48.60,2,    -999,9,  574.80,     1618,  34.2598, -66.3194,   0.013,   0.0089,    0.15,   0.0930,2,   0.0650,2,   0.0290,2,   0.0200,2,   0.0220,2,   0.0220,2,  16.4645,    -999,9,       -999,9,    -999,9,    -999,9
 316N200310,        A22,      60,          1,         26,         26,2,20031108,       1431,    34.2565,   -66.3075,       5214,   700.2,  14.6012,  35.9420,2,  35.9396,2,    171.3,2,   170.1,2,    4.61,2,   12.65,2,    0.02,2,    0.74,2,   2.040,2,   1.113,2,   0.028,2,  2141.9,2,  2352.8,2,   1.087,2,   1.7665,2,    1.45,2,    -999,9,    -999,9,    -999,   0.428,2,    -999,9,    -999,9,  700.20,     1615,  34.2597, -66.3191,   0.013,   0.0088,    0.15,     -999,9,     -999,9,     -999,9,     -999,9,     -999,9,     -999,9,  14.4946,    -999,9,       -999,9,    -999,9,    -999,9
 316N200310,        A22,      60,          1,         25,         25,2,20031108,       1431,    34.2565,   -66.3075,       5214,   800.9,  12.2676,  35.5868,2,  35.5865,2,    157.5,2,   155.1,2,    7.93,2,   18.01,2,    0.02,2,    1.09,2,   1.151,2,   0.862,2,   0.034,2,  2164.3,2,  2335.9,2,   1.113,2,   1.7649,2,    1.14,2,    -999,9,    -999,9,    -999,   0.389,2,   46.30,2,    -999,9,  800.90,     1613,  34.2596, -66.3188,   0.013,   0.0088,    0.15,   0.1130,2,   0.0770,2,   0.0360,2,   0.0240,2,   0.0200,2,   0.0220,2,  12.1585,    -999,9,       -999,9,    -999,9,    -999,9
 316N200310,        A22,      60,          1,         24,         24,2,20031108,       1431,    34.2565,   -66.3075,       5214,   899.0,  10.0838,  35.3065,2,  35.3058,2,    146.1,2,   143.7,2,   12.11,2,   22.74,2,    0.02,2,    1.43,2,   1.049,2,   0.566,2,   0.016,2,  2183.6,2,  2324.1,6,   1.107,2,   1.7640,2,   -0.11,2,    -999,9,    -999,9,    -999,   0.333,2,    -999,9,    -999,9,  899.00,     1609,  34.2593, -66.3183,   0.013,   0.0088,    0.15,     -999,9,     -999,9,     -999,9,     -999,9,     -999,9,     -999,9,   9.9749,    -999,9,       -999,9,    -999,9,    -999,9
 316N200310,        A22,      60,          1,         23,         23,2,20031108,       1431,    34.2565,   -66.3075,       5214,   999.6,   8.1397,  35.1504,2,  35.1506,2,    161.0,2,   161.8,2,   13.72,2,   23.20,2,    0.01,2,    1.48,2,   0.995,2,   0.519,2,   0.025,2,  2183.4,2,  2317.0,2,   1.155,2,   1.7680,2,    2.04,2,    -999,9,    -999,9,    -999,   0.546,2,   45.70,2,    -999,9,  999.60,     1606,  34.2592, -66.3179,   0.013,   0.0088,    0.15,   0.1220,2,   0.0840,2,   0.0400,2,   0.0270,2,   0.0190,2,   0.0200,2,   8.0321,    -999,9,       -999,9,    -999,9,    -999,9
 316N200310,        A22,      60,          1,         22,         22,2,20031108,       1431,    34.2565,   -66.3075,       5214,  1126.7,   6.2663,  35.0761,2,  35.0766,2,    198.5,2,   201.5,2,   12.99,2,   20.94,2,    0.01,2,    1.36,2,   1.377,2,   0.718,2,   0.064,2,  2178.5,2,  2314.7,2,   1.278,2,   1.7697,2,    5.77,2,    -999,9,    -999,9,    -999,   1.175,2,    -999,9,    -999,9, 1126.70,     1603,  34.2594, -66.3176,   0.014,   0.0088,    0.15,     -999,9,     -999,9,     -999,9,     -999,9,     -999,9,     -999,9,   6.1597,    -999,9,       -999,9,    -999,9,    -999,9
 316N200310,        A22,      60,          1,         21,         21,2,20031108,       1431,    34.2565,   -66.3075,       5214,  1275.2,   5.2786,  35.0542,2,  35.0549,2,    229.0,2,   229.7,2,   12.35,2,   19.37,2,    0.01,2,    1.26,2,   1.520,2,   0.778,2,   0.073,2,  2170.2,2,  2317.0,2,   1.213,2,   1.7820,2,    7.65,2,    -999,9,    -999,9,    -999,   1.553,2,   44.80,2,    -999,9, 1275.20,     1559,  34.2595, -66.3173,   0.014,   0.0089,    0.15,   0.1380,2,   0.0960,2,   0.0450,2,   0.0290,2,   0.0180,2,   0.0200,2,   5.1660,    -999,9,       -999,9,    -999,9,    -999,9
 316N200310,        A22,      60,          1,         20,         20,2,20031108,       1431,    34.2565,   -66.3075,       5214,  1426.2,   4.7358,  35.0248,2,  35.0248,2,    243.5,2,   244.3,2,   11.92,2,   18.62,2,    0.01,2,    1.21,2,   1.663,2,   0.837,2,   0.078,2,  2165.7,2,  2312.5,2,   1.042,2,   1.7999,2,    8.50,2,    -999,9,    -999,9,    -999,   1.858,2,    -999,9,    -999,9, 1426.20,     1556,  34.2595, -66.3169,   0.013,   0.0090,    0.15,     -999,9,     -999,9,     -999,9,     -999,9,     -999,9,     -999,9,   4.6143,    -999,9,       -999,9,    -999,9,    -999,9
 316N200310,        A22,      60,          1,         19,         19,2,20031108,       1431,    34.2565,   -66.3075,       5214,  1575.1,   4.3687,  35.0003,2,  35.0004,2,    253.3,2,   252.4,2,   11.91,2,   18.21,2,    0.01,2,    1.19,2,   1.675,2,   0.857,2,   0.079,2,  2165.2,2,  2312.0,2,   0.748,2,   1.8161,2,    8.53,2,    -999,9,    -999,9,    -999,   1.975,2,   46.40,2,    -999,9, 1575.10,     1552,  34.2596, -66.3164,   0.012,   0.0091,    0.15,   0.1270,2,   0.0880,2,   0.0400,2,   0.0270,2,   0.0190,2,   0.0210,2,   4.2372,    -999,9,       -999,9,    -999,9,    -999,9
 316N200310,        A22,      60,          1,         18,         18,2,20031108,       1431,    34.2565,   -66.3075,       5214,  1726.3,   4.1476,  34.9911,2,  34.9919,2,    256.6,2,   256.9,2,   12.30,2,   18.06,2,    0.01,2,    1.18,2,   1.449,2,   0.723,2,   0.067,2,  2160.1,2,  2312.2,2,   0.728,2,   1.8353,2,    7.83,2,    -999,9,    -999,9,    -999,   1.880,2,    -999,9,    -999,9, 1726.30,     1548,  34.2596, -66.3159,   0.012,   0.0092,    0.15,     -999,9,     -999,9,     -999,9,     -999,9,     -999,9,     -999,9,   4.0044,    -999,9,       -999,9,    -999,9,    -999,9
 316N200310,        A22,      60,          1,         17,         17,2,20031108,       1431,    34.2565,   -66.3075,       5214,  1900.8,   3.9311,  34.9809,2,  34.9821,2,    260.3,2,   260.4,2,   12.89,2,   17.96,2,    0.01,2,    1.17,2,   1.276,2,   0.654,2,   0.059,2,  2159.2,2,  2312.3,2,   0.706,2,   1.8413,2,    8.57,2,    -999,9,    -999,9,    -999,   1.808,2,   45.90,2,    -999,9, 1900.80,     1544,  34.2596, -66.3153,   0.012,   0.0092,    0.15,   0.1360,2,   0.0940,2,   0.0430,2,   0.0270,2,   0.0190,2,   0.0210,2,   3.7742,    -999,9,       -999,9,    -999,9,    -999,9
 316N200310,        A22,      60,          1,         16,         16,2,20031108,       1431,    34.2565,   -66.3075,       5214,  2000.4,   3.8062,  34.9711,2,  34.9730,2,    263.1,2,   262.6,2,   13.18,2,   17.91,2,    0.01,2,    1.17,2,   1.278,2,   0.640,2,   0.059,2,  2158.3,2,  2312.2,2,   0.806,2,   1.8521,2,    8.52,2,    -999,9,    -999,9,    -999,   1.824,2,   44.50,2,    -999,9, 2000.40,     1542,  34.2596, -66.3149,   0.012,   0.0093,    0.15,   0.1260,2,   0.0870,2,   0.0410,2,   0.0280,2,   0.0180,2,   0.0200,2,   3.6415,    -999,9,       -999,9,    -999,9,    -999,9
 316N200310,        A22,      60,          1,         15,         15,2,20031108,       1431,    34.2565,   -66.3075,       5214,  2125.0,   3.6827,  34.9651,2,  34.9669,2,    264.3,2,   263.6,2,   13.77,2,   17.86,2,    0.01,2,    1.17,2,   1.177,2,   0.598,2,   0.057,2,  2158.8,2,  2313.4,2,   0.884,2,   1.8653,2,    8.22,2,    -999,9,    -999,9,    -999,   1.748,2,    -999,9,    -999,9, 2125.00,     1538,  34.2596, -66.3144,   0.013,   0.0093,    0.15,     -999,9,     -999,9,     -999,9,     -999,9,     -999,9,     -999,9,   3.5078,    -999,9,       -999,9,    -999,9,    -999,9
 316N200310,        A22,      60,          1,         14,         14,2,20031108,       1431,    34.2565,   -66.3075,       5214,  2375.2,   3.4863,  34.9637,2,  34.9640,2,    263.6,2,   262.6,2,   15.82,2,   18.00,2,    0.01,2,    1.19,2,   0.832,2,   0.422,2,   0.026,2,  2159.9,2,  2312.0,2,   0.832,2,   1.8679,2,    8.27,2,    -999,9,    -999,9,    -999,   1.372,2,   45.70,2,    -999,9, 2375.20,     1533,  34.2594, -66.3139,   0.012,   0.0093,    0.15,   0.1220,2,   0.0850,2,   0.0400,2,   0.0260,2,   0.0190,2,   0.0210,2,   3.2899,    -999,9,       -999,9,    -999,9,    -999,9
 316N200310,        A22,      60,          1,         13,         13,2,20031108,       1431,    34.2565,   -66.3075,       5214,  2600.8,   3.3159,  34.9589,2,  34.9608,2,    263.0,2,   262.1,2,   17.55,2,   18.11,2,    0.00,2,    1.19,2,   0.621,2,   0.315,2,   0.021,2,  2161.9,2,  2313.7,2,   0.765,2,   1.8676,2,    8.50,2,    -999,9,    -999,9,    -999,   1.118,2,    -999,9,    -999,9, 2600.80,     1529,  34.2591, -66.3132,   0.012,   0.0093,    0.15,     -999,9,     -999,9,     -999,9,     -999,9,     -999,9,     -999,9,   3.0999,    -999,9,       -999,9,    -999,9,    -999,9
 316N200310,        A22,      60,          1,         12,         12,2,20031108,       1431,    34.2565,   -66.3075,       5214,  2724.5,   3.2331,  34.9584,2,  34.9583,2,    261.9,2,   261.3,2,   18.86,2,   18.26,2,    0.01,2,    1.21,2,   0.456,2,   0.239,2,   0.011,2,  2162.9,2,  2314.4,2,    -999,9,     -999,9,    -999,9,    -999,9,    -999,9,    -999,   0.908,2,   43.70,2,    -999,9, 2724.50,     1525,  34.2589, -66.3130,    -999,     -999,    -999,   0.1180,2,   0.0810,2,   0.0370,2,   0.0240,2,   0.0200,2,   0.0220,2,   3.0061,    -999,9,       -999,9,    -999,9,    -999,9
 316N200310,        A22,      60,          1,         11,         11,2,20031108,       1431,    34.2565,   -66.3075,       5214,  2899.9,   3.0884,  34.9495,2,  34.9514,2,    262.9,2,   262.2,2,   19.68,2,   18.26,2,    0.01,2,    1.21,2,   0.454,2,   0.229,2,   0.012,2,  2163.8,2,  2316.0,2,   0.427,2,   1.8730,2,    6.46,2,    -999,9,    -999,9,    -999,   0.867,2,    -999,9,    -999,9, 2899.90,     1521,  34.2588, -66.3126,   0.011,   0.0094,    0.15,     -999,9,     -999,9,     -999,9,     -999,9,     -999,9,     -999,9,   2.8462,    -999,9,       -999,9,    -999,9,    -999,9
 316N200310,        A22,      60,          1,         10,         10,2,20031108,       1431,    34.2565,   -66.3075,       5214,  3125.0,   2.8567,  34.9360,2,  34.9362,2,    264.7,2,   264.5,2,   21.01,2,   18.11,2,    0.00,2,    1.21,2,   0.458,2,   0.233,2,   0.012,2,  2163.3,2,  2315.8,2,    -999,9,     -999,9,    -999,9,    -999,9,    -999,9,    -999,   0.863,2,   42.10,2,    -999,9, 3125.00,     1517,  34.2586, -66.3122,    -999,     -999,    -999,   0.1430,2,   0.1010,2,   0.0470,2,   0.0300,2,   0.0180,2,   0.0200,2,   2.5959,    -999,9,       -999,9,    -999,9,    -999,9
 316N200310,        A22,      60,          1,          9,          9,2,20031108,       1431,    34.2565,   -66.3075,       5214,  3376.5,   2.6694,  34.9243,2,  34.9246,2,    266.6,2,   266.6,2,   21.92,2,   18.01,2,    0.00,2,    1.20,2,   0.496,2,   0.255,2,   0.012,2,  2163.2,2,  2316.7,2,   0.340,2,   1.8780,2,    6.72,2,    -999,9,    -999,9,    -999,   0.923,2,    -999,9,    -999,9, 3376.50,     1512,  34.2583, -66.3116,   0.011,   0.0094,    0.15,     -999,9,     -999,9,     -999,9,     -999,9,     -999,9,     -999,9,   2.3862,    -999,9,       -999,9,    -999,9,    -999,9
 316N200310,        A22,      60,          1,          8,          8,2,20031108,       1431,    34.2565,   -66.3075,       5214,  3623.9,   2.4986,  34.9133,2,  34.9140,2,    266.8,2,   266.8,2,   24.39,2,   18.16,2,    0.00,2,    1.23,2,   0.515,2,   0.262,2,   0.018,2,  2165.8,2,  2318.2,2,    -999,9,     -999,9,    -999,9,    -999,9,    -999,9,    -999,   0.952,2,   42.90,2,    -999,9, 3623.90,     1506,  34.2580, -66.3110,    -999,     -999,    -999,   0.1270,2,   0.0880,2,   0.0410,2,   0.0260,2,   0.0200,2,   0.0210,2,   2.1926,    -999,9,       -999,9,    -999,9,    -999,9
 316N200310,        A22,      60,          1,          7,          7,2,20031108,       1431,    34.2565,   -66.3075,       5214,  3875.0,   2.3949,  34.9051,2,  34.9048,2,    266.5,2,   266.8,2,   26.45,2,   18.26,2,    0.00,2,    1.23,2,   0.532,2,   0.268,2,   0.019,2,  2168.1,2,  2319.0,2,   0.365,2,   1.9009,2,    6.58,2,    -999,9,    -999,9,    -999,   1.021,2,    -999,9,    -999,9, 3875.00,     1501,  34.2576, -66.3104,   0.011,   0.0095,    0.15,     -999,9,     -999,9,     -999,9,     -999,9,     -999,9,     -999,9,   2.0638,    -999,9,       -999,9,    -999,9,    -999,9
 316N200310,        A22,      60,          1,          6,          6,2,20031108,       1431,    34.2565,   -66.3075,       5214,  4124.6,   2.3282,  34.8984,2,  34.8979,2,    265.6,2,   265.5,2,   28.84,2,   18.56,2,    0.00,2,    1.25,2,   0.524,2,   0.266,2,   0.025,2,  2171.0,2,  2328.5,2,    -999,9,     -999,9,    -999,9,    -999,9,    -999,9,    -999,   0.969,2,   42.90,2,    -999,9, 4124.60,     1456,  34.2572, -66.3098,    -999,     -999,    -999,   0.1280,2,   0.0890,2,   0.0410,2,   0.0260,2,   0.0200,2,   0.0210,2,   1.9704,    -999,9,       -999,9,    -999,9,    -999,9
 316N200310,        A22,      60,          1,          5,          5,2,20031108,       1431,    34.2565,   -66.3075,       5214,  4375.9,   2.2855,  34.8923,2,  34.8928,2,    264.0,2,   263.9,2,   31.64,2,   19.01,2,    0.00,2,    1.28,2,   0.511,2,   0.256,2,   0.025,2,  2174.2,2,  2330.1,2,   0.352,2,   1.9063,2,    6.52,2,    -999,9,    -999,9,    -999,   0.914,2,    -999,9,    -999,9, 4375.90,     1450,  34.2568, -66.3094,   0.011,   0.0095,    0.15,     -999,9,     -999,9,     -999,9,     -999,9,     -999,9,     -999,9,   1.8996,    -999,9,       -999,9,    -999,9,    -999,9