BOTTLE,20220517CCHSIOLMM
EXPOCODE,SECT_ID,STNNBR,CASTNO,SAMPNO,BTLNBR,BTLNBR_FLAG_W,DATE,TIME,LATITUDE,LONGITUDE,DEPTH,CTDPRS,CTDTMP,CTDSAL,CTDSAL_FLAG_W,SALNTY,SALNTY_FLAG_W,CTDOXY,CTDOXY_FLAG_W,OXYGEN,OXYGEN_FLAG_W,SILCAT,SILCAT_FLAG_W,NITRAT,NITRAT_FLAG_W,NITRIT,NITRIT_FLAG_W,PHSPHT,PHSPHT_FLAG_W,CFC-11,CFC-11_FLAG_W,CFC-12,CFC-12_FLAG_W,CFC113,CFC113_FLAG_W,TCARBN,TCARBN_FLAG_W,ALKALI,ALKALI_FLAG_W,TRITUM,TRITUM_FLAG_W,HELIUM,HELIUM_FLAG_W,DELHE3,DELHE3_FLAG_W,DELC13,DELC13_FLAG_W,DELC14,DELC14_FLAG_W,C14ERR,CCL4,CCL4_FLAG_W,DOC,DOC_FLAG_W,TDN,TDN_FLAG_W,CTDRAW,BTL_TIME,BTL_LAT,BTL_LON,TRITER,HELIER,DELHER,CDOM325,CDOM325_FLAG_W,CDOM340,CDOM340_FLAG_W,CDOM380,CDOM380_FLAG_W,CDOM412,CDOM412_FLAG_W,CDOMSL,CDOMSL_FLAG_W,CDOMSN,CDOMSN_FLAG_W,THETA,BACT,BACT_FLAG_W,PROC,PROC_FLAG_W,SYN,SYN_FLAG_W,PEUK,PEUK_FLAG_W
,,,,,,,,,,,METERS,DBAR,ITS-90,PSS-78,,PSS-78,,UMOL/KG,,UMOL/KG,,UMOL/KG,,UMOL/KG,,UMOL/KG,,UMOL/KG,,PMOL/KG,,PMOL/KG,,PMOL/KG,,UMOL/KG,,UMOL/KG,,TU,,NMOL/KG,,PERCNT,,/MILLE,,/MILLE,,/MILLE,PMOL/KG,,UMOL/KG,,UMOL/KG,,DBAR,,,,TU,NMOL/KG,PERCNT,1/M,,1/M,,1/M,,1/M,,1/NM,,1/NM,,DEG C,E8/L,,E7/L,,E6/L,,E6/L,
 316N200310,        A22,      61,          1,         36,         36,2,20031108,       2138,    34.7412,   -66.5970,       5177,     3.4,  24.2598,  36.4772,2,  36.4756,2,    207.2,2,   208.5,2,    0.40,2,    0.09,2,    0.00,2,    0.01,2,   1.822,2,   1.098,2,   0.154,2,  2036.0,2,  2387.8,2,    -999,9,     -999,9,    -999,9,    1.30,2,    79.6,2,     3.1,    -999,9,   64.50,2,    -999,9,    3.40,     2345,  34.7375, -66.6185,    -999,     -999,    -999,   0.0600,2,   0.0390,2,   0.0140,2,   0.0090,2,   0.0290,2,   0.0290,2,  24.2591,    -999,9,       -999,9,    -999,9,    -999,9
 316N200310,        A22,      61,          1,         35,         35,2,20031108,       2138,    34.7412,   -66.5970,       5177,    50.1,  24.2465,  36.4879,2,  36.4852,2,    208.4,2,   208.6,2,    0.38,2,    0.09,2,    0.00,2,    0.01,2,   1.550,6,   1.118,6,   0.157,6,    -999,9,    -999,9,    -999,9,     -999,9,    -999,9,    -999,9,    -999,9,    -999,   1.896,2,    -999,9,    -999,9,   50.10,     2343,  34.7376, -66.6182,    -999,     -999,    -999,   0.0680,2,   0.0460,2,   0.0170,2,   0.0100,2,   0.0260,2,   0.0270,2,  24.2358,    -999,9,       -999,9,    -999,9,    -999,9
 316N200310,        A22,      61,          1,         34,         34,2,20031108,       2138,    34.7412,   -66.5970,       5177,    75.5,  24.1742,  36.4954,2,  36.4970,2,    210.1,2,   209.2,2,    0.55,2,    0.09,2,    0.00,2,    0.01,2,   1.830,2,   1.113,2,   0.141,2,  2043.0,2,  2389.1,2,    -999,9,     -999,9,    -999,9,    -999,9,    -999,9,    -999,    -999,9,   66.60,2,    -999,9,   75.50,     2342,  34.7377, -66.6180,    -999,     -999,    -999,   0.0810,3,   0.0570,3,   0.0250,3,   0.0150,3,   0.0220,3,   0.0230,3,  24.1581,    -999,9,       -999,9,    -999,9,    -999,9
 316N200310,        A22,      61,          1,         33,         33,2,20031108,       2138,    34.7412,   -66.5970,       5177,   100.7,  21.3456,  36.6185,2,  36.6154,2,    222.2,2,   223.4,2,    0.42,2,    0.08,2,    0.00,2,    0.01,2,   2.173,2,   1.288,2,   0.150,2,    -999,9,    -999,9,    -999,9,     -999,9,    -999,9,    -999,9,    -999,9,    -999,    -999,9,   61.10,2,    -999,9,  100.70,     2340,  34.7377, -66.6178,    -999,     -999,    -999,   0.1850,2,   0.1350,2,   0.0650,2,   0.0430,2,   0.0160,2,   0.0180,2,  21.3260,    -999,9,       -999,9,    -999,9,    -999,9
 316N200310,        A22,      61,          1,         32,         32,2,20031108,       2138,    34.7412,   -66.5970,       5177,   125.0,  19.9479,  36.6423,2,  36.6395,2,    208.2,2,   207.4,2,    0.50,2,    0.74,2,    0.04,2,    0.04,2,   2.219,2,   1.315,2,   0.138,2,  2083.6,2,  2397.6,2,    -999,9,     -999,9,    -999,9,    -999,9,    -999,9,    -999,    -999,9,   55.20,2,    -999,9,  125.00,     2339,  34.7378, -66.6174,    -999,     -999,    -999,   0.1320,2,   0.0980,2,   0.0480,2,   0.0330,2,   0.0160,2,   0.0170,2,  19.9247,    -999,9,       -999,9,    -999,9,    -999,9
 316N200310,        A22,      61,          1,         31,         31,2,20031108,       2138,    34.7412,   -66.5970,       5177,   150.2,  19.4939,  36.6255,2,  36.6225,2,    206.1,2,   205.3,2,    0.57,2,    1.10,2,    0.03,2,    0.05,2,   2.229,2,   1.319,2,   0.126,2,    -999,9,    -999,9,    -999,9,     -999,9,    -999,9,    -999,9,    -999,9,    -999,    -999,9,    -999,9,    -999,9,  150.20,     2338,  34.7378, -66.6172,    -999,     -999,    -999,   0.1090,3,   0.0790,3,   0.0400,3,   0.0310,3,   0.0150,3,   0.0170,3,  19.4664,    -999,9,       -999,9,    -999,9,    -999,9
 316N200310,        A22,      61,          1,         30,         30,2,20031108,       2138,    34.7412,   -66.5970,       5177,   176.2,  19.2529,  36.6208,2,  36.6185,2,    205.5,2,   205.5,2,    0.64,2,    1.71,2,    0.02,2,    0.06,2,   2.242,2,   1.331,2,   0.101,2,  2088.3,2,  2397.2,2,    -999,9,     -999,9,    -999,9,    -999,9,    -999,9,    -999,    -999,9,   56.40,2,    -999,9,  176.20,     2336,  34.7379, -66.6169,    -999,     -999,    -999,   0.0970,2,   0.0700,2,   0.0340,2,   0.0270,2,   0.0170,2,   0.0190,2,  19.2209,    -999,9,       -999,9,    -999,9,    -999,9
 316N200310,        A22,      61,          1,         29,         29,2,20031108,       2138,    34.7412,   -66.5970,       5177,   224.8,  18.9191,  36.6057,2,  36.6029,2,    205.1,2,   205.5,2,    0.82,2,    2.46,2,    0.01,2,    0.11,2,   2.268,2,   1.334,2,   0.069,2,    -999,9,    -999,9,    -999,9,     -999,9,    -999,9,    -999,9,    -999,9,    -999,    -999,9,    -999,9,    -999,9,  224.80,     2334,  34.7380, -66.6165,    -999,     -999,    -999,   0.0770,2,   0.0520,2,   0.0210,2,   0.0150,2,   0.0260,2,   0.0260,2,  18.8787,    -999,9,       -999,9,    -999,9,    -999,9
 316N200310,        A22,      61,          1,         28,         28,2,20031108,       2138,    34.7412,   -66.5970,       5177,   275.7,  18.7259,  36.5956,2,  36.5926,2,    208.8,2,   210.2,2,    0.89,2,    2.52,2,    0.01,2,    0.11,2,   2.277,2,   1.352,2,   0.091,2,  2089.8,2,  2389.2,2,    -999,9,     -999,9,    -999,9,    -999,9,    -999,9,    -999,    -999,9,   52.70,2,    -999,9,  275.70,     2332,  34.7383, -66.6161,    -999,     -999,    -999,     -999,9,     -999,9,     -999,9,     -999,9,     -999,9,     -999,9,  18.6767,    -999,9,       -999,9,    -999,9,    -999,9
 316N200310,        A22,      61,          1,         27,         27,2,20031108,       2138,    34.7412,   -66.5970,       5177,   350.5,  18.4716,  36.5727,2,  36.5723,2,    207.4,2,   202.6,2,    1.16,2,    3.51,2,    0.01,2,    0.16,2,   2.255,2,   1.303,2,   0.069,2,    -999,9,    -999,9,    -999,9,     -999,9,    -999,9,    -999,9,    -999,9,    -999,    -999,9,    -999,9,    -999,9,  350.50,     2330,  34.7384, -66.6158,    -999,     -999,    -999,   0.0790,2,   0.0540,2,   0.0220,2,   0.0160,2,   0.0250,2,   0.0250,2,  18.4094,    -999,9,       -999,9,    -999,9,    -999,9
 316N200310,        A22,      61,          1,         26,         26,2,20031108,       2138,    34.7412,   -66.5970,       5177,   450.6,  17.8707,  36.4938,2,  36.4915,2,    195.1,2,   192.6,2,    1.43,2,    5.32,2,    0.01,2,    0.26,2,   2.306,2,   1.313,2,   0.040,2,  2108.4,2,  2384.1,2,    -999,9,     -999,9,    -999,9,    -999,9,    -999,9,    -999,    -999,9,   49.00,2,    -999,9,  450.60,     2327,  34.7384, -66.6154,    -999,     -999,    -999,     -999,9,     -999,9,     -999,9,     -999,9,     -999,9,     -999,9,  17.7925,    -999,9,       -999,9,    -999,9,    -999,9
 316N200310,        A22,      61,          1,         25,         25,2,20031108,       2138,    34.7412,   -66.5970,       5177,   575.2,  16.7498,  36.3137,2,  36.3113,2,    184.7,2,   187.0,2,    2.31,2,    7.77,2,    0.01,2,    0.41,2,   2.263,2,   1.281,2,   0.035,2,    -999,9,    -999,9,    -999,9,     -999,9,    -999,9,    -999,9,    -999,9,    -999,    -999,9,    -999,9,    -999,9,  575.20,     2324,  34.7385, -66.6148,    -999,     -999,    -999,     -999,9,     -999,9,     -999,9,     -999,9,     -999,9,     -999,9,  16.6540,    -999,9,       -999,9,    -999,9,    -999,9
 316N200310,        A22,      61,          1,         24,         24,2,20031108,       2138,    34.7412,   -66.5970,       5177,   701.3,  14.7339,  35.9599,2,  35.9583,2,    168.5,2,   166.6,2,    4.71,2,   12.91,2,    0.01,2,    0.74,2,   1.982,2,   1.086,2,   0.028,2,  2143.9,2,  2355.3,2,    -999,9,     -999,9,    -999,9,    -999,9,    -999,9,    -999,    -999,9,   45.80,2,    -999,9,  701.30,     2321,  34.7388, -66.6144,    -999,     -999,    -999,     -999,9,     -999,9,     -999,9,     -999,9,     -999,9,     -999,9,  14.6265,    -999,9,       -999,9,    -999,9,    -999,9
 316N200310,        A22,      61,          1,         23,         23,2,20031108,       2138,    34.7412,   -66.5970,       5177,   826.4,  11.8513,  35.5232,2,  35.5287,2,    147.3,2,   148.1,2,    9.03,2,   19.40,2,    0.01,2,    1.18,2,   1.442,2,   0.761,2,   0.027,2,  2170.5,2,  2337.4,2,    -999,9,     -999,9,    -999,9,    -999,9,    -999,9,    -999,    -999,9,    -999,9,    -999,9,  826.40,     2318,  34.7390, -66.6139,    -999,     -999,    -999,     -999,9,     -999,9,     -999,9,     -999,9,     -999,9,     -999,9,  11.7409,    -999,9,       -999,9,    -999,9,    -999,9
 316N200310,        A22,      61,          1,         22,         22,2,20031108,       2138,    34.7412,   -66.5970,       5177,   928.2,   9.4793,  35.2433,2,  35.2436,2,    145.2,2,   145.6,2,   12.88,2,   23.29,2,    0.01,2,    1.47,2,   0.996,2,   0.516,2,   0.025,2,  2186.9,2,  2321.5,2,    -999,9,     -999,9,    -999,9,    -999,9,    -999,9,    -999,    -999,9,   45.70,2,    -999,9,  928.20,     2316,  34.7392, -66.6136,    -999,     -999,    -999,     -999,9,     -999,9,     -999,9,     -999,9,     -999,9,     -999,9,   9.3708,    -999,9,       -999,9,    -999,9,    -999,9
 316N200310,        A22,      61,          1,         21,         21,2,20031108,       2138,    34.7412,   -66.5970,       5177,  1101.3,   6.8088,  35.0989,2,  35.0990,2,    189.7,2,   188.8,2,   13.47,2,   21.75,2,    0.01,2,    1.41,2,   1.130,2,   0.565,2,   0.044,2,    -999,9,    -999,9,    -999,9,     -999,9,    -999,9,    -999,9,    -999,9,    -999,    -999,9,    -999,9,    -999,9, 1101.30,     2312,  34.7394, -66.6130,    -999,     -999,    -999,     -999,9,     -999,9,     -999,9,     -999,9,     -999,9,     -999,9,   6.7003,    -999,9,       -999,9,    -999,9,    -999,9
 316N200310,        A22,      61,          1,         20,         20,2,20031108,       2138,    34.7412,   -66.5970,       5177,  1276.4,   5.3896,  35.0518,2,  35.0527,2,    227.6,2,   226.2,2,   12.32,2,   19.51,2,    0.01,2,    1.27,2,   1.588,2,   0.808,2,   0.093,2,  2170.5,2,  2335.2,3,    -999,9,     -999,9,    -999,9,    -999,9,    -999,9,    -999,    -999,9,   45.70,2,    -999,9, 1276.40,     2308,  34.7394, -66.6124,    -999,     -999,    -999,     -999,9,     -999,9,     -999,9,     -999,9,     -999,9,     -999,9,   5.2759,    -999,9,       -999,9,    -999,9,    -999,9
 316N200310,        A22,      61,          1,         19,         19,2,20031108,       2138,    34.7412,   -66.5970,       5177,  1425.9,   4.7218,  35.0206,2,  35.0211,2,    243.1,2,   243.8,2,   11.89,2,   18.59,2,    0.00,2,    1.21,2,   1.760,6,   0.875,6,   0.089,6,    -999,9,    -999,9,    -999,9,     -999,9,    -999,9,    -999,9,    -999,9,    -999,    -999,9,    -999,9,    -999,9, 1425.90,     2305,  34.7394, -66.6117,    -999,     -999,    -999,     -999,9,     -999,9,     -999,9,     -999,9,     -999,9,     -999,9,   4.6004,    -999,9,       -999,9,    -999,9,    -999,9
 316N200310,        A22,      61,          1,         18,         18,2,20031108,       2138,    34.7412,   -66.5970,       5177,  1564.8,   4.3885,  34.9991,2,  34.9992,2,    251.5,2,   252.1,2,   11.97,2,   18.29,2,    0.00,2,    1.19,2,   1.767,2,   0.883,2,   0.094,2,    -999,9,    -999,9,    -999,9,     -999,9,    -999,9,    -999,9,    -999,9,    -999,    -999,9,    -999,9,    -999,9, 1564.80,     2302,  34.7394, -66.6109,    -999,     -999,    -999,     -999,9,     -999,9,     -999,9,     -999,9,     -999,9,     -999,9,   4.2577,    -999,9,       -999,9,    -999,9,    -999,9
 316N200310,        A22,      61,          1,         17,         17,2,20031108,       2138,    34.7412,   -66.5970,       5177,  1726.0,   4.1143,  34.9803,2,  34.9813,2,    257.6,2,   258.4,2,   12.04,2,   17.98,2,    0.00,2,    1.17,2,   1.739,2,   0.860,2,   0.097,2,    -999,9,    -999,9,    -999,9,     -999,9,    -999,9,    -999,9,    -999,9,    -999,    -999,9,    -999,9,    -999,9, 1726.00,     2258,  34.7395, -66.6101,    -999,     -999,    -999,     -999,9,     -999,9,     -999,9,     -999,9,     -999,9,     -999,9,   3.9716,    -999,9,       -999,9,    -999,9,    -999,9
 316N200310,        A22,      61,          1,         16,         16,2,20031108,       2138,    34.7412,   -66.5970,       5177,  1900.7,   3.8722,  34.9640,2,  34.9652,2,    262.5,2,   263.2,2,   12.43,2,   17.83,2,    0.00,2,    1.16,2,   1.605,2,   0.787,2,   0.081,2,    -999,9,    -999,9,    -999,9,     -999,9,    -999,9,    -999,9,    -999,9,    -999,    -999,9,    -999,9,    -999,9, 1900.70,     2255,  34.7395, -66.6093,    -999,     -999,    -999,     -999,9,     -999,9,     -999,9,     -999,9,     -999,9,     -999,9,   3.7162,    -999,9,       -999,9,    -999,9,    -999,9
 316N200310,        A22,      61,          1,         15,         15,2,20031108,       2138,    34.7412,   -66.5970,       5177,  2125.7,   3.6499,  34.9510,2,  34.9516,2,    266.4,2,   266.5,2,   13.01,2,   17.72,2,    0.00,2,    1.15,2,   1.541,2,   0.754,2,   0.078,2,    -999,9,    -999,9,    -999,9,     -999,9,    -999,9,    -999,9,    -999,9,    -999,    -999,9,    -999,9,    -999,9, 2125.70,     2250,  34.7394, -66.6083,    -999,     -999,    -999,     -999,9,     -999,9,     -999,9,     -999,9,     -999,9,     -999,9,   3.4754,    -999,9,       -999,9,    -999,9,    -999,9
 316N200310,        A22,      61,          1,         14,         14,2,20031108,       2138,    34.7412,   -66.5970,       5177,  2376.3,   3.5179,  34.9541,2,  34.9543,2,    265.0,2,   265.3,2,   14.42,2,   17.82,2,    0.00,2,    1.17,2,   1.136,2,   0.552,2,   0.060,2,    -999,9,    -999,9,    -999,9,     -999,9,    -999,9,    -999,9,    -999,9,    -999,    -999,9,    -999,9,    -999,9, 2376.30,     2245,  34.7397, -66.6075,    -999,     -999,    -999,     -999,9,     -999,9,     -999,9,     -999,9,     -999,9,     -999,9,   3.3210,    -999,9,       -999,9,    -999,9,    -999,9
 316N200310,        A22,      61,          1,         13,         13,2,20031108,       2138,    34.7412,   -66.5970,       5177,  2625.3,   3.3719,  34.9631,2,  34.9642,2,    262.4,2,   261.2,2,   17.38,2,   18.18,2,    0.00,2,    1.20,2,   0.586,2,   0.286,2,   0.011,2,    -999,9,    -999,9,    -999,9,     -999,9,    -999,9,    -999,9,    -999,9,    -999,    -999,9,    -999,9,    -999,9, 2625.30,     2239,  34.7398, -66.6066,    -999,     -999,    -999,     -999,9,     -999,9,     -999,9,     -999,9,     -999,9,     -999,9,   3.1524,    -999,9,       -999,9,    -999,9,    -999,9
 316N200310,        A22,      61,          1,         12,         12,2,20031108,       2138,    34.7412,   -66.5970,       5177,  2683.4,   3.3108,  34.9598,2,  34.9604,2,    262.4,2,   261.7,2,   17.87,2,   18.17,2,    0.00,2,    1.20,2,   0.566,2,   0.276,2,   0.022,2,    -999,9,    -999,9,    -999,9,     -999,9,    -999,9,    -999,9,    -999,9,    -999,    -999,9,    -999,9,    -999,9, 2683.40,     2237,  34.7398, -66.6063,    -999,     -999,    -999,     -999,9,     -999,9,     -999,9,     -999,9,     -999,9,     -999,9,   3.0865,    -999,9,       -999,9,    -999,9,    -999,9
 316N200310,        A22,      61,          1,         11,         11,2,20031108,       2138,    34.7412,   -66.5970,       5177,  2877.1,   3.1267,  34.9501,2,  34.9502,2,    262.5,2,   262.4,2,   19.18,2,   18.22,2,    0.00,2,    1.20,2,   0.505,2,   0.246,2,   0.017,2,    -999,9,    -999,9,    -999,9,     -999,9,    -999,9,    -999,9,    -999,9,    -999,    -999,9,    -999,9,    -999,9, 2877.10,     2234,  34.7401, -66.6056,    -999,     -999,    -999,     -999,9,     -999,9,     -999,9,     -999,9,     -999,9,     -999,9,   2.8861,    -999,9,       -999,9,    -999,9,    -999,9
 316N200310,        A22,      61,          1,         10,         10,2,20031108,       2138,    34.7412,   -66.5970,       5177,  3175.7,   2.8449,  34.9345,2,  34.9349,2,    264.5,2,   264.6,2,   20.81,2,   18.12,2,    0.00,2,    1.20,2,   0.469,2,   0.232,2,   0.023,2,    -999,9,    -999,9,    -999,9,     -999,9,    -999,9,    -999,9,    -999,9,    -999,    -999,9,    -999,9,    -999,9, 3175.70,     2228,  34.7405, -66.6049,    -999,     -999,    -999,     -999,9,     -999,9,     -999,9,     -999,9,     -999,9,     -999,9,   2.5790,    -999,9,       -999,9,    -999,9,    -999,9
 316N200310,        A22,      61,          1,          9,          9,2,20031108,       2138,    34.7412,   -66.5970,       5177,  3375.3,   2.6718,  34.9243,2,  34.9248,2,    266.5,2,   266.5,2,   21.92,2,   18.06,2,    0.00,2,    1.20,2,   0.486,2,   0.238,2,   0.023,2,    -999,9,    -999,9,    -999,9,     -999,9,    -999,9,    -999,9,    -999,9,    -999,    -999,9,    -999,9,    -999,9, 3375.30,     2216,  34.7406, -66.6036,    -999,     -999,    -999,     -999,9,     -999,9,     -999,9,     -999,9,     -999,9,     -999,9,   2.3886,    -999,9,       -999,9,    -999,9,    -999,9
 316N200310,        A22,      61,          1,          8,          8,2,20031108,       2138,    34.7412,   -66.5970,       5177,  3625.2,   2.4893,  34.9130,2,  34.9132,2,    267.0,2,   267.4,2,   23.66,2,   18.07,2,    0.00,2,    1.20,2,   0.502,2,   0.246,2,   0.021,2,    -999,9,    -999,9,    -999,9,     -999,9,    -999,9,    -999,9,    -999,9,    -999,    -999,9,    -999,9,    -999,9, 3625.20,     2211,  34.7406, -66.6029,    -999,     -999,    -999,     -999,9,     -999,9,     -999,9,     -999,9,     -999,9,     -999,9,   2.1835,    -999,9,       -999,9,    -999,9,    -999,9
 316N200310,        A22,      61,          1,          7,          7,2,20031108,       2138,    34.7412,   -66.5970,       5177,  3874.7,   2.3913,  34.9056,2,  34.9061,2,    267.2,2,   267.2,2,   25.62,2,   18.22,2,    0.00,2,    1.22,2,   0.507,2,   0.250,2,   0.029,2,    -999,9,    -999,9,    -999,9,     -999,9,    -999,9,    -999,9,    -999,9,    -999,    -999,9,    -999,9,    -999,9, 3874.70,     2206,  34.7406, -66.6019,    -999,     -999,    -999,     -999,9,     -999,9,     -999,9,     -999,9,     -999,9,     -999,9,   2.0602,    -999,9,       -999,9,    -999,9,    -999,9
 316N200310,        A22,      61,          1,          6,          6,2,20031108,       2138,    34.7412,   -66.5970,       5177,  4124.9,   2.3375,  34.9000,2,  34.9000,2,    266.2,2,   266.2,2,   27.57,2,   18.48,2,    0.00,2,    1.24,2,   0.507,2,   0.239,2,   0.025,2,    -999,9,    -999,9,    -999,9,     -999,9,    -999,9,    -999,9,    -999,9,    -999,    -999,9,    -999,9,    -999,9, 4124.90,     2201,  34.7407, -66.6010,    -999,     -999,    -999,     -999,9,     -999,9,     -999,9,     -999,9,     -999,9,     -999,9,   1.9794,    -999,9,       -999,9,    -999,9,    -999,9
 316N200310,        A22,      61,          1,          5,          5,2,20031108,       2138,    34.7412,   -66.5970,       5177,  4374.5,   2.3093,  34.8953,2,  34.8957,2,    264.9,2,   264.8,2,   29.84,2,   18.78,2,    0.00,2,    1.26,2,   0.493,2,   0.238,2,   0.032,2,    -999,9,    -999,9,    -999,9,     -999,9,    -999,9,    -999,9,    -999,9,    -999,    -999,9,    -999,9,    -999,9, 4374.50,     2157,  34.7406, -66.6002,    -999,     -999,    -999,     -999,9,     -999,9,     -999,9,     -999,9,     -999,9,     -999,9,   1.9228,    -999,9,       -999,9,    -999,9,    -999,9