BOTTLE,20220517CCHSIOLMM
EXPOCODE,SECT_ID,STNNBR,CASTNO,SAMPNO,BTLNBR,BTLNBR_FLAG_W,DATE,TIME,LATITUDE,LONGITUDE,DEPTH,CTDPRS,CTDTMP,CTDSAL,CTDSAL_FLAG_W,SALNTY,SALNTY_FLAG_W,CTDOXY,CTDOXY_FLAG_W,OXYGEN,OXYGEN_FLAG_W,SILCAT,SILCAT_FLAG_W,NITRAT,NITRAT_FLAG_W,NITRIT,NITRIT_FLAG_W,PHSPHT,PHSPHT_FLAG_W,CFC-11,CFC-11_FLAG_W,CFC-12,CFC-12_FLAG_W,CFC113,CFC113_FLAG_W,TCARBN,TCARBN_FLAG_W,ALKALI,ALKALI_FLAG_W,TRITUM,TRITUM_FLAG_W,HELIUM,HELIUM_FLAG_W,DELHE3,DELHE3_FLAG_W,DELC13,DELC13_FLAG_W,DELC14,DELC14_FLAG_W,C14ERR,CCL4,CCL4_FLAG_W,DOC,DOC_FLAG_W,TDN,TDN_FLAG_W,CTDRAW,BTL_TIME,BTL_LAT,BTL_LON,TRITER,HELIER,DELHER,CDOM325,CDOM325_FLAG_W,CDOM340,CDOM340_FLAG_W,CDOM380,CDOM380_FLAG_W,CDOM412,CDOM412_FLAG_W,CDOMSL,CDOMSL_FLAG_W,CDOMSN,CDOMSN_FLAG_W,THETA,BACT,BACT_FLAG_W,PROC,PROC_FLAG_W,SYN,SYN_FLAG_W,PEUK,PEUK_FLAG_W
,,,,,,,,,,,METERS,DBAR,ITS-90,PSS-78,,PSS-78,,UMOL/KG,,UMOL/KG,,UMOL/KG,,UMOL/KG,,UMOL/KG,,UMOL/KG,,PMOL/KG,,PMOL/KG,,PMOL/KG,,UMOL/KG,,UMOL/KG,,TU,,NMOL/KG,,PERCNT,,/MILLE,,/MILLE,,/MILLE,PMOL/KG,,UMOL/KG,,UMOL/KG,,DBAR,,,,TU,NMOL/KG,PERCNT,1/M,,1/M,,1/M,,1/M,,1/NM,,1/NM,,DEG C,E8/L,,E7/L,,E6/L,,E6/L,
 316N200310,        A22,      60,          1,          4,          4,2,20031108,       1431,    34.2565,   -66.3075,       5214,  4624.6,   2.2843,  34.8904,2,  34.8904,2,    262.9,2,   262.6,2,   32.98,2,   19.21,2,    0.00,2,    1.29,2,   0.403,2,   0.205,2,   0.022,2,  2175.6,2,  2332.0,2,    -999,9,     -999,9,    -999,9,    -999,9,    -999,9,    -999,   0.814,2,   42.20,2,    -999,9, 4624.60,     1445,  34.2565, -66.3090,    -999,     -999,    -999,   0.1340,2,   0.0940,2,   0.0440,2,   0.0280,2,   0.0180,2,   0.0200,2,   1.8686,    -999,9,       -999,9,    -999,9,    -999,9
 316N200310,        A22,      60,          1,          3,          3,2,20031108,       1431,    34.2565,   -66.3075,       5214,  4874.8,   2.2826,  34.8864,2,  34.8865,2,    260.9,2,   261.1,2,   35.27,2,   19.56,2,    0.00,2,    1.32,2,   0.388,2,   0.202,2,   0.025,2,  2179.6,2,  2334.2,2,    -999,9,     -999,9,    -999,9,    -999,9,    -999,9,    -999,   0.744,2,    -999,9,    -999,9, 4874.80,     1440,  34.2564, -66.3084,    -999,     -999,    -999,     -999,9,     -999,9,     -999,9,     -999,9,     -999,9,     -999,9,   1.8363,    -999,9,       -999,9,    -999,9,    -999,9
 316N200310,        A22,      60,          1,          2,          2,2,20031108,       1431,    34.2565,   -66.3075,       5214,  5124.4,   2.2750,  34.8816,2,  34.8821,2,    258.5,2,   258.8,2,   38.19,2,   19.97,2,    0.00,2,    1.36,2,   0.326,2,   0.182,2,   0.019,2,  2183.3,2,  2337.0,2,    -999,9,     -999,9,    -999,9,    -999,9,    -999,9,    -999,   0.612,2,   45.00,2,    -999,9, 5124.40,     1435,  34.2565, -66.3080,    -999,     -999,    -999,   0.1350,2,   0.0940,2,   0.0440,2,   0.0270,2,   0.0190,2,   0.0200,2,   1.7975,    -999,9,       -999,9,    -999,9,    -999,9
 316N200310,        A22,      60,          1,          1,          1,2,20031108,       1431,    34.2565,   -66.3075,       5214,  5299.1,   2.2596,  34.8771,2,  34.8772,2,    256.2,2,   257.3,2,   40.90,2,   20.47,2,    0.00,2,    1.39,2,   0.229,2,   0.134,2,   0.017,2,  2187.0,2,  2340.7,6,   0.196,2,   1.8977,2,    5.62,2,    -999,9,    -999,9,    -999,   0.504,2,   42.10,2,    -999,9, 5299.10,     1431,  34.2565, -66.3075,   0.010,   0.0095,    0.15,   0.1390,2,   0.0990,2,   0.0480,2,   0.0320,2,   0.0170,2,   0.0190,2,   1.7602,    -999,9,       -999,9,    -999,9,    -999,9