BOTTLE,20220517CCHSIOLMM
EXPOCODE,SECT_ID,STNNBR,CASTNO,SAMPNO,BTLNBR,BTLNBR_FLAG_W,DATE,TIME,LATITUDE,LONGITUDE,DEPTH,CTDPRS,CTDTMP,CTDSAL,CTDSAL_FLAG_W,SALNTY,SALNTY_FLAG_W,CTDOXY,CTDOXY_FLAG_W,OXYGEN,OXYGEN_FLAG_W,SILCAT,SILCAT_FLAG_W,NITRAT,NITRAT_FLAG_W,NITRIT,NITRIT_FLAG_W,PHSPHT,PHSPHT_FLAG_W,CFC-11,CFC-11_FLAG_W,CFC-12,CFC-12_FLAG_W,CFC113,CFC113_FLAG_W,TCARBN,TCARBN_FLAG_W,ALKALI,ALKALI_FLAG_W,TRITUM,TRITUM_FLAG_W,HELIUM,HELIUM_FLAG_W,DELHE3,DELHE3_FLAG_W,DELC13,DELC13_FLAG_W,DELC14,DELC14_FLAG_W,C14ERR,CCL4,CCL4_FLAG_W,DOC,DOC_FLAG_W,TDN,TDN_FLAG_W,CTDRAW,BTL_TIME,BTL_LAT,BTL_LON,TRITER,HELIER,DELHER,CDOM325,CDOM325_FLAG_W,CDOM340,CDOM340_FLAG_W,CDOM380,CDOM380_FLAG_W,CDOM412,CDOM412_FLAG_W,CDOMSL,CDOMSL_FLAG_W,CDOMSN,CDOMSN_FLAG_W,THETA,BACT,BACT_FLAG_W,PROC,PROC_FLAG_W,SYN,SYN_FLAG_W,PEUK,PEUK_FLAG_W
,,,,,,,,,,,METERS,DBAR,ITS-90,PSS-78,,PSS-78,,UMOL/KG,,UMOL/KG,,UMOL/KG,,UMOL/KG,,UMOL/KG,,UMOL/KG,,PMOL/KG,,PMOL/KG,,PMOL/KG,,UMOL/KG,,UMOL/KG,,TU,,NMOL/KG,,PERCNT,,/MILLE,,/MILLE,,/MILLE,PMOL/KG,,UMOL/KG,,UMOL/KG,,DBAR,,,,TU,NMOL/KG,PERCNT,1/M,,1/M,,1/M,,1/M,,1/NM,,1/NM,,DEG C,E8/L,,E7/L,,E6/L,,E6/L,
 316N200310,        A22,      75,          1,         29,         29,2,20031112,       0250,    39.0137,   -69.3235,       3061,     2.9,  16.8594,  34.4322,2,  34.4318,2,    124.7,2,   243.0,2,    0.75,2,    0.07,2,    0.00,2,    0.12,2,   2.601,2,   1.519,2,   0.214,2,  2016.7,2,  2291.9,2,    -999,9,     -999,9,    -999,9,    1.50,2,    60.9,2,     3.5,    -999,9,    -999,9,    -999,9,    2.90,      412,  39.0089, -69.3087,    -999,     -999,    -999,   0.2540,2,   0.1800,2,   0.0820,2,   0.0500,2,   0.0180,2,   0.0200,2,  16.8589,    -999,9,       -999,9,    -999,9,    -999,9
 316N200310,        A22,      75,          1,         28,         28,2,20031112,       0250,    39.0137,   -69.3235,       3061,    25.3,  16.8720,  34.4392,2,  34.4381,2,    239.5,2,   242.5,2,    0.65,2,    0.00,2,    0.00,2,    0.12,2,    -999,9,    -999,9,    -999,9,    -999,9,    -999,9,    -999,9,     -999,9,    -999,9,    -999,9,    -999,9,    -999,    -999,9,    -999,9,    -999,9,   25.30,      410,  39.0091, -69.3091,    -999,     -999,    -999,     -999,9,     -999,9,     -999,9,     -999,9,     -999,9,     -999,9,  16.8679,    -999,9,       -999,9,    -999,9,    -999,9
 316N200310,        A22,      75,          1,         27,         27,2,20031112,       0250,    39.0137,   -69.3235,       3061,    50.2,  16.8681,  34.4688,2,  34.4869,2,    239.2,2,   237.1,2,    0.74,2,    0.20,2,    0.02,2,    0.13,2,   2.635,2,   1.525,2,   0.214,2,    -999,9,    -999,9,    -999,9,     -999,9,    -999,9,    -999,9,    -999,9,    -999,    -999,9,    -999,9,    -999,9,   50.20,      408,  39.0093, -69.3095,    -999,     -999,    -999,   0.2530,2,   0.1800,2,   0.0810,2,   0.0490,2,   0.0180,2,   0.0200,2,  16.8600,    -999,9,       -999,9,    -999,9,    -999,9
 316N200310,        A22,      75,          1,         26,         26,2,20031112,       0250,    39.0137,   -69.3235,       3061,    75.1,  14.9109,  35.5503,2,  35.5437,2,    177.7,2,   178.3,2,    3.26,2,    9.52,2,    0.02,2,    0.63,2,    -999,9,    -999,9,    -999,9,    -999,9,    -999,9,    -999,9,     -999,9,    -999,9,    -999,9,    -999,9,    -999,    -999,9,    -999,9,    -999,9,   75.10,      407,  39.0094, -69.3099,    -999,     -999,    -999,     -999,9,     -999,9,     -999,9,     -999,9,     -999,9,     -999,9,  14.8996,    -999,9,       -999,9,    -999,9,    -999,9
 316N200310,        A22,      75,          1,         25,         25,2,20031112,       0250,    39.0137,   -69.3235,       3061,   100.3,  14.3894,  35.6954,2,  35.6796,2,    174.8,2,   170.4,2,    3.87,2,   11.83,2,    0.01,2,    0.73,2,   2.393,6,   1.326,6,   0.104,6,    -999,9,    -999,9,    -999,9,     -999,9,    -999,9,    -999,9,    -999,9,    -999,   0.612,2,    -999,9,    -999,9,  100.30,      405,  39.0095, -69.3102,    -999,     -999,    -999,   0.1600,2,   0.1150,2,   0.0540,2,   0.0360,2,   0.0170,2,   0.0190,2,  14.3746,    -999,9,       -999,9,    -999,9,    -999,9
 316N200310,        A22,      75,          1,         24,         24,2,20031112,       0250,    39.0137,   -69.3235,       3061,   125.9,  13.8706,  35.6739,2,  35.6775,2,    167.5,2,   170.0,2,    4.37,2,   12.86,2,    0.01,2,    0.79,2,    -999,9,    -999,9,    -999,9,    -999,9,    -999,9,    -999,9,     -999,9,    -999,9,    -999,9,    -999,9,    -999,    -999,9,    -999,9,    -999,9,  125.90,      404,  39.0096, -69.3105,    -999,     -999,    -999,     -999,9,     -999,9,     -999,9,     -999,9,     -999,9,     -999,9,  13.8524,    -999,9,       -999,9,    -999,9,    -999,9
 316N200310,        A22,      75,          1,         23,         23,2,20031112,       0250,    39.0137,   -69.3235,       3061,   150.8,  13.5008,  35.6802,2,  35.6777,2,    167.4,2,   166.7,2,    5.18,2,   14.19,2,    0.01,2,    0.87,2,   2.179,2,   1.193,2,   0.076,2,    -999,9,    -999,9,    -999,9,     -999,9,    -999,9,    -999,9,    -999,9,    -999,    -999,9,    -999,9,    -999,9,  150.80,      402,  39.0097, -69.3109,    -999,     -999,    -999,   0.1340,2,   0.0950,2,   0.0440,2,   0.0290,2,   0.0180,2,   0.0200,2,  13.4794,    -999,9,       -999,9,    -999,9,    -999,9
 316N200310,        A22,      75,          1,         22,         22,2,20031112,       0250,    39.0137,   -69.3235,       3061,   200.1,  12.6525,  35.5912,2,  35.5900,2,    158.7,2,   156.9,2,    7.09,2,   17.07,2,    0.01,2,    1.05,2,   1.876,2,   1.018,2,   0.076,2,    -999,9,    -999,9,    -999,9,     -999,9,    -999,9,    -999,9,    -999,9,    -999,    -999,9,    -999,9,    -999,9,  200.10,      400,  39.0098, -69.3112,    -999,     -999,    -999,   0.1280,2,   0.0890,2,   0.0410,2,   0.0280,2,   0.0190,2,   0.0210,2,  12.6254,    -999,9,       -999,9,    -999,9,    -999,9
 316N200310,        A22,      75,          1,         21,         21,2,20031112,       0250,    39.0137,   -69.3235,       3061,   251.1,  11.4795,  35.4534,2,  35.4525,2,    142.0,2,   138.2,2,   10.14,2,   21.25,2,    0.01,2,    1.32,2,   1.302,2,   0.697,2,   0.033,2,    -999,9,    -999,9,    -999,9,     -999,9,    -999,9,    -999,9,    -999,9,    -999,    -999,9,    -999,9,    -999,9,  251.10,      359,  39.0100, -69.3115,    -999,     -999,    -999,     -999,9,     -999,9,     -999,9,     -999,9,     -999,9,     -999,9,  11.4475,    -999,9,       -999,9,    -999,9,    -999,9
 316N200310,        A22,      75,          1,         20,         20,2,20031112,       0250,    39.0137,   -69.3235,       3061,   300.9,  10.0768,  35.2867,2,  35.2854,2,    138.6,2,   136.8,2,   12.37,2,   23.39,2,    0.01,2,    1.48,2,   1.080,2,   0.567,2,   0.024,2,    -999,9,    -999,9,    -999,9,     -999,9,    -999,9,    -999,9,    -999,9,    -999,    -999,9,    -999,9,    -999,9,  300.90,      357,  39.0102, -69.3116,    -999,     -999,    -999,   0.1200,2,   0.0830,2,   0.0390,2,   0.0270,2,   0.0190,2,   0.0210,2,  10.0414,    -999,9,       -999,9,    -999,9,    -999,9
 316N200310,        A22,      75,          1,         19,         19,2,20031112,       0250,    39.0137,   -69.3235,       3061,   401.5,   7.8518,  35.0990,2,  35.1018,2,    159.0,2,   161.9,2,   13.58,2,   23.21,2,    0.00,2,    1.50,2,   1.281,2,   0.671,2,   0.058,2,    -999,9,    -999,9,    -999,9,     -999,9,    -999,9,    -999,9,    -999,9,    -999,    -999,9,    -999,9,    -999,9,  401.50,      355,  39.0105, -69.3119,    -999,     -999,    -999,   0.1310,2,   0.0910,2,   0.0430,2,   0.0290,2,   0.0180,2,   0.0200,2,   7.8110,    -999,9,       -999,9,    -999,9,    -999,9
 316N200310,        A22,      75,          1,         18,         18,2,20031112,       0250,    39.0137,   -69.3235,       3061,   501.1,   6.3246,  35.0429,2,  35.0364,2,    187.4,2,   196.8,2,   12.97,2,   21.22,2,    0.00,2,    1.39,2,   1.687,2,   0.867,2,   0.099,2,    -999,9,    -999,9,    -999,9,     -999,9,    -999,9,    -999,9,    -999,9,    -999,    -999,9,    -999,9,    -999,9,  501.10,      352,  39.0106, -69.3121,    -999,     -999,    -999,   0.1290,2,   0.0900,2,   0.0410,2,   0.0260,2,   0.0190,2,   0.0210,2,   6.2791,    -999,9,       -999,9,    -999,9,    -999,9
 316N200310,        A22,      75,          1,         17,         17,2,20031112,       0250,    39.0137,   -69.3235,       3061,   626.9,   5.3534,  35.0388,2,  35.0401,2,    220.4,2,   224.4,2,   12.15,2,   19.57,2,    0.00,2,    1.29,2,   1.719,2,   0.856,2,   0.080,2,    -999,9,    -999,9,    -999,9,     -999,9,    -999,9,    -999,9,    -999,9,    -999,    -999,9,    -999,9,    -999,9,  626.90,      349,  39.0108, -69.3124,    -999,     -999,    -999,   0.1360,3,   0.0960,3,   0.0450,3,   0.0300,3,   0.0180,3,   0.0200,3,   5.3006,    -999,9,       -999,9,    -999,9,    -999,9
 316N200310,        A22,      75,          1,         16,         16,2,20031112,       0250,    39.0137,   -69.3235,       3061,   751.6,   4.7520,  35.0067,2,  35.0081,2,    240.0,2,   242.4,2,   11.53,2,   18.53,2,    0.00,2,    1.22,2,   2.071,2,   1.037,2,   0.117,2,    -999,9,    -999,9,    -999,9,     -999,9,    -999,9,    -999,9,    -999,9,    -999,    -999,9,    -999,9,    -999,9,  751.60,      346,  39.0110, -69.3131,    -999,     -999,    -999,     -999,9,     -999,9,     -999,9,     -999,9,     -999,9,     -999,9,   4.6916,    -999,9,       -999,9,    -999,9,    -999,9
 316N200310,        A22,      75,          1,         15,         15,2,20031112,       0250,    39.0137,   -69.3235,       3061,   901.9,   4.4215,  34.9870,2,  34.9876,2,    253.9,2,   251.8,2,   11.32,2,   18.19,2,    0.00,2,    1.19,2,   2.138,2,   1.074,2,   0.130,2,    -999,9,    -999,9,    -999,9,     -999,9,    -999,9,    -999,9,    -999,9,    -999,    -999,9,    -999,9,    -999,9,  901.90,      342,  39.0112, -69.3138,    -999,     -999,    -999,   0.1400,2,   0.0990,2,   0.0470,2,   0.0320,2,   0.0170,2,   0.0190,2,   4.3503,    -999,9,       -999,9,    -999,9,    -999,9
 316N200310,        A22,      75,          1,         14,         14,2,20031112,       0250,    39.0137,   -69.3235,       3061,  1049.8,   4.1679,  34.9738,2,  34.9746,2,    259.9,2,   257.4,2,   11.32,2,   17.89,2,    0.00,2,    1.18,2,   2.054,2,   1.028,2,   0.131,2,    -999,9,    -999,9,    -999,9,     -999,9,    -999,9,    -999,9,    -999,9,    -999,    -999,9,    -999,9,    -999,9, 1049.80,      339,  39.0115, -69.3145,    -999,     -999,    -999,     -999,9,     -999,9,     -999,9,     -999,9,     -999,9,     -999,9,   4.0859,    -999,9,       -999,9,    -999,9,    -999,9
 316N200310,        A22,      75,          1,         13,         13,2,20031112,       0250,    39.0137,   -69.3235,       3061,  1199.7,   4.0039,  34.9655,2,  34.9663,2,    263.2,2,   261.2,2,   11.51,2,   17.70,2,    0.00,2,    1.17,2,   1.953,2,   0.974,2,   0.115,2,    -999,9,    -999,9,    -999,9,     -999,9,    -999,9,    -999,9,    -999,9,    -999,    -999,9,    -999,9,    -999,9, 1199.70,      335,  39.0118, -69.3153,    -999,     -999,    -999,   0.1320,2,   0.0920,2,   0.0430,2,   0.0290,2,   0.0180,2,   0.0200,2,   3.9104,    -999,9,       -999,9,    -999,9,    -999,9
 316N200310,        A22,      75,          1,         12,         12,2,20031112,       0250,    39.0137,   -69.3235,       3061,  1324.8,   3.8564,  34.9557,2,  34.9573,2,    265.6,2,   264.4,2,   11.71,2,   17.65,2,    0.00,2,    1.16,2,   1.892,2,   0.931,2,   0.102,2,    -999,9,    -999,9,    -999,9,     -999,9,    -999,9,    -999,9,    -999,9,    -999,    -999,9,    -999,9,    -999,9, 1324.80,      332,  39.0120, -69.3160,    -999,     -999,    -999,     -999,9,     -999,9,     -999,9,     -999,9,     -999,9,     -999,9,   3.7534,    -999,9,       -999,9,    -999,9,    -999,9
 316N200310,        A22,      75,          1,         11,         11,2,20031112,       0250,    39.0137,   -69.3235,       3061,  1452.0,   3.7502,  34.9502,2,  34.9508,2,    267.2,2,   266.2,2,   11.90,2,   17.55,2,    0.00,2,    1.16,2,   1.823,2,   0.896,2,   0.097,2,    -999,9,    -999,9,    -999,9,     -999,9,    -999,9,    -999,9,    -999,9,    -999,    -999,9,    -999,9,    -999,9, 1452.00,      329,  39.0122, -69.3167,    -999,     -999,    -999,     -999,9,     -999,9,     -999,9,     -999,9,     -999,9,     -999,9,   3.6372,    -999,9,       -999,9,    -999,9,    -999,9
 316N200310,        A22,      75,          1,         10,         10,2,20031112,       0250,    39.0137,   -69.3235,       3061,  1551.8,   3.6821,  34.9471,2,  34.9477,2,    268.1,2,   267.2,2,   12.10,2,   17.60,2,    0.00,2,    1.16,2,   1.771,2,   0.855,2,   0.084,2,    -999,9,    -999,9,    -999,9,     -999,9,    -999,9,    -999,9,    -999,9,    -999,    -999,9,    -999,9,    -999,9, 1551.80,      326,  39.0124, -69.3171,    -999,     -999,    -999,   0.1330,2,   0.0940,2,   0.0450,2,   0.0300,2,   0.0170,2,   0.0190,2,   3.5609,    -999,9,       -999,9,    -999,9,    -999,9
 316N200310,        A22,      75,          1,          9,          9,2,20031112,       0250,    39.0137,   -69.3235,       3061,  1651.7,   3.5997,  34.9431,2,  34.9439,2,    268.7,2,   268.7,2,   12.39,2,   17.55,2,    0.00,2,    1.16,2,   1.696,2,   0.821,2,   0.094,2,    -999,9,    -999,9,    -999,9,     -999,9,    -999,9,    -999,9,    -999,9,    -999,    -999,9,    -999,9,    -999,9, 1651.70,      323,  39.0126, -69.3174,    -999,     -999,    -999,     -999,9,     -999,9,     -999,9,     -999,9,     -999,9,     -999,9,   3.4706,    -999,9,       -999,9,    -999,9,    -999,9
 316N200310,        A22,      75,          1,          8,          8,2,20031112,       0250,    39.0137,   -69.3235,       3061,  1775.5,   3.5220,  34.9416,2,  34.9431,2,    269.4,2,   269.3,2,   12.90,2,   17.50,2,    0.00,2,    1.15,2,   1.657,2,   0.805,2,   0.098,2,    -999,9,    -999,9,    -999,9,     -999,9,    -999,9,    -999,9,    -999,9,    -999,    -999,9,    -999,9,    -999,9, 1775.50,      320,  39.0128, -69.3178,    -999,     -999,    -999,     -999,9,     -999,9,     -999,9,     -999,9,     -999,9,     -999,9,   3.3826,    -999,9,       -999,9,    -999,9,    -999,9
 316N200310,        A22,      75,          1,          7,          7,2,20031112,       0250,    39.0137,   -69.3235,       3061,  1899.5,   3.4661,  34.9426,2,  34.9431,2,    269.3,2,   268.8,2,   13.40,2,   17.51,2,    0.00,2,    1.16,2,   1.449,2,   0.710,2,   0.078,2,    -999,9,    -999,9,    -999,9,     -999,9,    -999,9,    -999,9,    -999,9,    -999,    -999,9,    -999,9,    -999,9, 1899.50,      317,  39.0129, -69.3187,    -999,     -999,    -999,     -999,9,     -999,9,     -999,9,     -999,9,     -999,9,     -999,9,   3.3160,    -999,9,       -999,9,    -999,9,    -999,9
 316N200310,        A22,      75,          1,          6,          6,2,20031112,       0250,    39.0137,   -69.3235,       3061,  2049.6,   3.3895,  34.9451,2,  34.9457,2,    268.1,2,   267.9,2,   14.31,2,   17.56,2,    0.00,2,    1.16,2,   1.258,2,   0.620,2,   0.052,2,    -999,9,    -999,9,    -999,9,     -999,9,    -999,9,    -999,9,    -999,9,    -999,    -999,9,    -999,9,    -999,9, 2049.60,      313,  39.0130, -69.3195,    -999,     -999,    -999,   0.1320,2,   0.0930,2,   0.0450,2,   0.0300,2,   0.0180,2,   0.0190,2,   3.2264,    -999,9,       -999,9,    -999,9,    -999,9
 316N200310,        A22,      75,          1,          5,          5,2,20031112,       0250,    39.0137,   -69.3235,       3061,  2249.3,   3.2600,  34.9474,2,  34.9479,2,    266.2,2,   266.3,2,   15.93,2,   17.66,2,    0.00,2,    1.17,2,   0.935,2,   0.459,2,   0.050,2,    -999,9,    -999,9,    -999,9,     -999,9,    -999,9,    -999,9,    -999,9,    -999,    -999,9,    -999,9,    -999,9, 2249.30,      309,  39.0131, -69.3204,    -999,     -999,    -999,     -999,9,     -999,9,     -999,9,     -999,9,     -999,9,     -999,9,   3.0799,    -999,9,       -999,9,    -999,9,    -999,9
 316N200310,        A22,      75,          1,          4,          4,2,20031112,       0250,    39.0137,   -69.3235,       3061,  2499.0,   3.0815,  34.9417,2,  34.9416,2,    266.7,2,   266.6,2,   17.24,2,   17.72,2,    0.00,2,    1.18,2,   0.843,2,   0.413,2,   0.028,2,    -999,9,    -999,9,    -999,9,     -999,9,    -999,9,    -999,9,    -999,9,    -999,    -999,9,    -999,9,    -999,9, 2499.00,      304,  39.0134, -69.3215,    -999,     -999,    -999,   0.1290,2,   0.0900,2,   0.0420,2,   0.0270,2,   0.0190,2,   0.0200,2,   2.8802,    -999,9,       -999,9,    -999,9,    -999,9
 316N200310,        A22,      75,          1,          3,          3,2,20031112,       0250,    39.0137,   -69.3235,       3061,  2749.7,   2.7993,  34.9251,2,  34.9252,2,    268.4,2,   270.3,2,   17.75,2,   17.32,2,    0.00,2,    1.16,2,   1.142,2,   0.554,2,   0.067,2,    -999,9,    -999,9,    -999,9,     -999,9,    -999,9,    -999,9,    -999,9,    -999,    -999,9,    -999,9,    -999,9, 2749.70,      259,  39.0135, -69.3224,    -999,     -999,    -999,     -999,9,     -999,9,     -999,9,     -999,9,     -999,9,     -999,9,   2.5785,    -999,9,       -999,9,    -999,9,    -999,9
 316N200310,        A22,      75,          1,          2,          2,2,20031112,       0250,    39.0137,   -69.3235,       3061,  3000.7,   2.4663,  34.9060,2,  34.9059,2,    272.2,2,   274.8,2,   18.45,2,   16.88,2,    0.00,2,    1.13,2,   1.578,2,   0.766,2,   0.087,2,    -999,9,    -999,9,    -999,9,     -999,9,    -999,9,    -999,9,    -999,9,    -999,    -999,9,    -999,9,    -999,9, 3000.70,      254,  39.0136, -69.3232,    -999,     -999,    -999,     -999,9,     -999,9,     -999,9,     -999,9,     -999,9,     -999,9,   2.2272,    -999,9,       -999,9,    -999,9,    -999,9
 316N200310,        A22,      75,          1,          1,          1,2,20031112,       0250,    39.0137,   -69.3235,       3061,  3087.3,   2.3890,  34.9024,2,  34.9028,2,    272.3,2,   274.6,2,   19.36,2,   16.98,2,    0.00,2,    1.14,2,   1.603,2,   0.775,2,   0.096,2,    -999,9,    -999,9,    -999,9,     -999,9,    -999,9,    -999,9,    -999,9,    -999,    -999,9,    -999,9,    -999,9, 3087.30,      251,  39.0136, -69.3234,    -999,     -999,    -999,   0.1440,2,   0.1020,2,   0.0490,2,   0.0320,2,   0.0170,2,   0.0190,2,   2.1428,    -999,9,       -999,9,    -999,9,    -999,9