BOTTLE,20220517CCHSIOLMM
EXPOCODE,SECT_ID,STNNBR,CASTNO,SAMPNO,BTLNBR,BTLNBR_FLAG_W,DATE,TIME,LATITUDE,LONGITUDE,DEPTH,CTDPRS,CTDTMP,CTDSAL,CTDSAL_FLAG_W,SALNTY,SALNTY_FLAG_W,CTDOXY,CTDOXY_FLAG_W,OXYGEN,OXYGEN_FLAG_W,SILCAT,SILCAT_FLAG_W,NITRAT,NITRAT_FLAG_W,NITRIT,NITRIT_FLAG_W,PHSPHT,PHSPHT_FLAG_W,CFC-11,CFC-11_FLAG_W,CFC-12,CFC-12_FLAG_W,CFC113,CFC113_FLAG_W,TCARBN,TCARBN_FLAG_W,ALKALI,ALKALI_FLAG_W,TRITUM,TRITUM_FLAG_W,HELIUM,HELIUM_FLAG_W,DELHE3,DELHE3_FLAG_W,DELC13,DELC13_FLAG_W,DELC14,DELC14_FLAG_W,C14ERR,CCL4,CCL4_FLAG_W,DOC,DOC_FLAG_W,TDN,TDN_FLAG_W,CTDRAW,BTL_TIME,BTL_LAT,BTL_LON,TRITER,HELIER,DELHER,CDOM325,CDOM325_FLAG_W,CDOM340,CDOM340_FLAG_W,CDOM380,CDOM380_FLAG_W,CDOM412,CDOM412_FLAG_W,CDOMSL,CDOMSL_FLAG_W,CDOMSN,CDOMSN_FLAG_W,THETA,BACT,BACT_FLAG_W,PROC,PROC_FLAG_W,SYN,SYN_FLAG_W,PEUK,PEUK_FLAG_W
,,,,,,,,,,,METERS,DBAR,ITS-90,PSS-78,,PSS-78,,UMOL/KG,,UMOL/KG,,UMOL/KG,,UMOL/KG,,UMOL/KG,,UMOL/KG,,PMOL/KG,,PMOL/KG,,PMOL/KG,,UMOL/KG,,UMOL/KG,,TU,,NMOL/KG,,PERCNT,,/MILLE,,/MILLE,,/MILLE,PMOL/KG,,UMOL/KG,,UMOL/KG,,DBAR,,,,TU,NMOL/KG,PERCNT,1/M,,1/M,,1/M,,1/M,,1/NM,,1/NM,,DEG C,E8/L,,E7/L,,E6/L,,E6/L,
 316N200310,        A22,      35,          1,         36,         36,2,20031031,       0727,    20.0203,   -66.0072,       7643,     3.1,  29.0545,  35.4316,2,  35.4312,4,    196.4,2,   194.7,2,    0.87,2,    0.10,2,    0.00,2,    0.01,2,   1.547,2,   0.953,2,   0.114,2,  1975.4,2,  2333.3,6,    -999,9,   1.7281,2,   -1.91,2,    -999,9,    -999,9,    -999,    -999,9,    -999,9,    -999,9,    3.10,      955,  20.0121, -66.0154,    -999,   0.0086,    0.15,   0.0590,2,   0.0370,2,   0.0120,2,   0.0070,2,   0.0320,2,   0.0320,2,  29.0538,    -999,9,       -999,9,    -999,9,    -999,9
 316N200310,        A22,      35,          1,         35,         35,2,20031031,       0727,    20.0203,   -66.0072,       7643,    24.8,  29.2096,  35.7816,2,  35.7325,4,    196.7,2,   194.6,2,    0.87,2,    0.10,2,    0.00,2,    0.01,2,   1.537,2,   0.962,2,   0.122,2,  1986.8,2,  2351.7,2,    -999,9,     -999,9,    -999,9,    -999,9,    -999,9,    -999,    -999,9,    -999,9,    -999,9,   24.80,      953,  20.0122, -66.0152,    -999,     -999,    -999,   0.0530,2,   0.0330,2,   0.0100,2,   0.0060,2,   0.0330,2,   0.0330,2,  29.2036,    -999,9,       -999,9,    -999,9,    -999,9
 316N200310,        A22,      35,          1,         34,         34,2,20031031,       0727,    20.0203,   -66.0072,       7643,    50.7,  28.9556,  36.4701,2,  36.4794,4,    199.1,2,   198.9,2,    0.98,2,    0.15,2,    0.00,2,    0.01,2,   1.589,2,   0.976,2,   0.133,2,    -999,9,    -999,9,   0.863,2,   1.7736,2,   -2.09,2,    -999,9,    -999,9,    -999,    -999,9,    -999,9,    -999,9,   50.70,      952,  20.0123, -66.0150,   0.013,   0.0089,    0.15,   0.0560,2,   0.0360,2,   0.0120,2,   0.0070,2,   0.0300,2,   0.0310,2,  28.9433,    -999,9,       -999,9,    -999,9,    -999,9
 316N200310,        A22,      35,          1,         33,         33,2,20031031,       0727,    20.0203,   -66.0072,       7643,    99.7,  26.7691,  36.7312,2,  36.7185,4,    212.5,2,   211.8,2,    0.78,2,    0.10,2,    0.00,2,    0.00,2,   1.772,2,   1.080,2,   0.135,2,  2032.5,2,  2406.2,2,   0.974,2,   1.7469,2,   -2.87,2,    -999,9,    -999,9,    -999,    -999,9,    -999,9,    -999,9,   99.70,      950,  20.0125, -66.0146,   0.013,   0.0087,    0.15,   0.1030,2,   0.0670,2,   0.0250,2,   0.0160,2,   0.0270,2,   0.0280,2,  26.7462,    -999,9,       -999,9,    -999,9,    -999,9
 316N200310,        A22,      35,          1,         32,         32,2,20031031,       0727,    20.0203,   -66.0072,       7643,   150.4,  24.0488,  37.1156,2,  37.1078,4,    194.5,2,   194.6,2,    0.38,2,    0.39,2,    0.05,2,    0.01,2,   1.934,2,   1.167,2,   0.133,2,    -999,9,    -999,9,   1.109,2,   1.7665,2,   -1.77,2,    -999,9,    -999,9,    -999,    -999,9,    -999,9,    -999,9,  150.40,      948,  20.0127, -66.0143,   0.013,   0.0088,    0.15,   0.1280,2,   0.0910,2,   0.0410,2,   0.0290,2,   0.0180,2,   0.0200,2,  24.0168,    -999,9,       -999,9,    -999,9,    -999,9
 316N200310,        A22,      35,          1,         31,         31,2,20031031,       0727,    20.0203,   -66.0072,       7643,   200.4,  22.2244,  37.1299,2,  37.1262,4,    181.4,2,   182.7,2,    0.39,2,    1.05,2,    0.02,2,    0.04,2,   2.052,2,   1.239,2,   0.090,2,  2113.9,2,  2431.1,2,   1.169,2,   1.7587,2,   -1.04,2,    -999,9,    -999,9,    -999,    -999,9,    -999,9,    -999,9,  200.40,      946,  20.0129, -66.0140,   0.014,   0.0088,    0.15,   0.1140,2,   0.0820,2,   0.0380,2,   0.0280,2,   0.0170,2,   0.0190,2,  22.1841,    -999,9,       -999,9,    -999,9,    -999,9
 316N200310,        A22,      35,          1,         30,         30,2,20031031,       0727,    20.0203,   -66.0072,       7643,   251.5,  20.3554,  36.8967,2,  36.8955,4,    176.4,2,   175.6,2,    0.69,2,    2.72,2,    0.01,2,    0.11,2,   2.167,6,   1.268,6,   0.029,6,    -999,9,    -999,9,   1.204,2,   1.7703,2,   -0.26,2,    -999,9,    -999,9,    -999,    -999,9,    -999,9,    -999,9,  251.50,      943,  20.0130, -66.0136,   0.014,   0.0089,    0.15,   0.1180,2,   0.0870,2,   0.0430,2,   0.0310,2,   0.0160,2,   0.0180,2,  20.3077,    -999,9,       -999,9,    -999,9,    -999,9
 316N200310,        A22,      35,          1,         29,         29,2,20031031,       0727,    20.0203,   -66.0072,       7643,   300.7,  18.3476,  36.5740,2,  36.5706,4,    183.2,2,   183.2,2,    1.19,2,    5.02,2,    0.01,2,    0.23,2,   2.308,2,   1.309,2,   0.017,2,  2116.4,2,  2388.5,2,   1.288,2,   1.7851,2,    2.97,2,    -999,9,    -999,9,    -999,    -999,9,    -999,9,    -999,9,  300.70,      942,  20.0132, -66.0134,   0.014,   0.0089,    0.15,   0.1030,2,   0.0750,2,   0.0350,2,   0.0250,2,   0.0190,2,   0.0200,2,  18.2947,    -999,9,       -999,9,    -999,9,    -999,9
 316N200310,        A22,      35,          1,         28,         28,2,20031031,       0727,    20.0203,   -66.0072,       7643,   400.7,  16.5580,  36.2812,2,  36.2792,4,    167.6,2,   170.8,2,    2.60,2,    9.31,2,    0.01,2,    0.52,2,   2.239,2,   1.230,2,   0.015,2,    -999,9,    -999,9,   1.025,2,   1.7892,2,    5.40,2,    -999,9,    -999,9,    -999,    -999,9,    -999,9,    -999,9,  400.70,      938,  20.0134, -66.0130,   0.013,   0.0089,    0.15,   0.0970,2,   0.0690,2,   0.0310,2,   0.0220,2,   0.0210,2,   0.0210,2,  16.4921,    -999,9,       -999,9,    -999,9,    -999,9
 316N200310,        A22,      35,          1,         27,         27,2,20031031,       0727,    20.0203,   -66.0072,       7643,   501.7,  13.8564,  35.8235,2,  35.8238,4,    148.9,2,   150.1,2,    5.80,2,   15.88,2,    0.01,2,    0.94,2,   1.826,2,   0.970,2,   0.022,2,  2160.1,2,  2348.1,2,   0.930,2,   1.7952,2,    7.43,2,    -999,9,    -999,9,    -999,    -999,9,    -999,9,    -999,9,  501.70,      935,  20.0137, -66.0126,   0.013,   0.0090,    0.15,   0.1070,2,   0.0730,2,   0.0330,2,   0.0220,2,   0.0210,2,   0.0220,2,  13.7831,    -999,9,       -999,9,    -999,9,    -999,9
 316N200310,        A22,      35,          1,         26,         26,2,20031031,       0727,    20.0203,   -66.0072,       7643,   625.9,  11.2310,  35.4383,2,  35.4383,4,    138.2,2,   137.9,2,    9.92,2,   21.77,2,    0.00,2,    1.33,2,   1.116,2,   0.582,2,   0.007,2,    -999,9,    -999,9,   0.601,2,   1.8250,2,    6.11,2,    -999,9,    -999,9,    -999,    -999,9,    -999,9,    -999,9,  625.90,      931,  20.0140, -66.0121,   0.011,   0.0091,    0.15,     -999,9,     -999,9,     -999,9,     -999,9,     -999,9,     -999,9,  11.1510,    -999,9,       -999,9,    -999,9,    -999,9
 316N200310,        A22,      35,          1,         25,         25,2,20031031,       0727,    20.0203,   -66.0072,       7643,   750.4,   8.6489,  35.0850,2,  35.0799,4,    132.2,2,   132.1,2,   16.07,2,   27.29,2,    0.00,2,    1.73,2,   0.488,2,   0.253,2,   0.013,2,  2198.5,2,  2316.2,6,   0.303,2,   1.8232,2,    3.00,2,    -999,9,    -999,9,    -999,    -999,9,    -999,9,    -999,9,  750.40,      928,  20.0143, -66.0118,   0.010,   0.0091,    0.15,     -999,9,     -999,9,     -999,9,     -999,9,     -999,9,     -999,9,   8.5666,    -999,9,       -999,9,    -999,9,    -999,9
 316N200310,        A22,      35,          1,         24,         24,2,20031031,       0727,    20.0203,   -66.0072,       7643,   901.5,   7.0543,  34.9639,2,  34.9595,4,    142.9,2,   142.2,2,   19.71,2,   28.56,2,    0.00,2,    1.85,2,   0.227,2,   0.119,2,   0.004,2,    -999,9,    -999,9,   0.187,2,   1.8253,2,    1.83,2,    -999,9,    -999,9,    -999,    -999,9,    -999,9,    -999,9,  901.50,      924,  20.0146, -66.0114,   0.010,   0.0091,    0.15,     -999,9,     -999,9,     -999,9,     -999,9,     -999,9,     -999,9,   6.9653,    -999,9,       -999,9,    -999,9,    -999,9
 316N200310,        A22,      35,          1,         23,         23,2,20031031,       0727,    20.0203,   -66.0072,       7643,  1052.2,   6.2200,  35.0175,2,  35.0155,4,    177.7,2,   178.2,2,   17.80,2,   24.68,2,    0.00,2,    1.60,2,   0.376,6,   0.185,6,   0.012,2,    -999,9,    -999,9,   0.132,2,   1.8250,2,    1.07,2,    -999,9,    -999,9,    -999,   0.375,2,    -999,9,    -999,9, 1052.20,      920,  20.0149, -66.0110,   0.010,   0.0091,    0.15,     -999,9,     -999,9,     -999,9,     -999,9,     -999,9,     -999,9,   6.1215,    -999,9,       -999,9,    -999,9,    -999,9
 316N200310,        A22,      35,          1,         22,         22,2,20031031,       0727,    20.0203,   -66.0072,       7643,  1201.6,   5.3072,  35.0551,2,  35.0522,4,    218.6,2,   221.3,2,   14.06,2,   20.42,2,    0.00,2,    1.32,2,   0.795,2,   0.386,2,   0.029,2,    -999,9,    -999,9,   0.349,2,   1.8710,2,    2.55,2,    -999,9,    -999,9,    -999,    -999,9,    -999,9,    -999,9, 1201.60,      916,  20.0153, -66.0107,   0.011,   0.0094,    0.15,     -999,9,     -999,9,     -999,9,     -999,9,     -999,9,     -999,9,   5.2015,    -999,9,       -999,9,    -999,9,    -999,9
 316N200310,        A22,      35,          1,         21,         21,2,20031031,       0727,    20.0203,   -66.0072,       7643,  1351.2,   4.7166,  35.0324,2,  35.0327,4,    241.5,2,   241.0,2,   13.06,2,   18.86,2,    0.00,2,    1.24,2,   1.027,2,   0.501,2,   0.056,2,    -999,9,    -999,9,   0.431,2,   1.8229,2,    4.02,2,    -999,9,    -999,9,    -999,    -999,9,    -999,9,    -999,9, 1351.20,      912,  20.0156, -66.0104,   0.011,   0.0091,    0.15,     -999,9,     -999,9,     -999,9,     -999,9,     -999,9,     -999,9,   4.6024,    -999,9,       -999,9,    -999,9,    -999,9
 316N200310,        A22,      35,          1,         20,         20,2,20031031,       0727,    20.0203,   -66.0072,       7643,  1501.7,   4.3152,  35.0108,2,  35.0094,4,    250.2,2,   250.1,2,   13.26,2,   18.60,2,    0.00,2,    1.21,2,   0.777,2,   0.387,2,   0.032,2,    -999,9,    -999,9,   0.620,2,   1.9253,2,    4.05,2,    -999,9,    -999,9,    -999,    -999,9,    -999,9,    -999,9, 1501.70,      908,  20.0159, -66.0101,   0.012,   0.0096,    0.15,     -999,9,     -999,9,     -999,9,     -999,9,     -999,9,     -999,9,   4.1911,    -999,9,       -999,9,    -999,9,    -999,9
 316N200310,        A22,      35,          1,         19,         19,2,20031031,       0727,    20.0203,   -66.0072,       7643,  1652.1,   4.0094,  34.9858,2,  34.9864,4,    259.2,2,   258.6,2,   13.07,2,   18.09,2,    0.00,2,    1.18,2,   1.159,2,   0.560,2,   0.047,2,    -999,9,    -999,9,    -999,9,   1.8472,2,    3.39,2,    -999,9,    -999,9,    -999,    -999,9,    -999,9,    -999,9, 1652.10,      905,  20.0161, -66.0098,    -999,   0.0092,    0.15,     -999,9,     -999,9,     -999,9,     -999,9,     -999,9,     -999,9,   3.8751,    -999,9,       -999,9,    -999,9,    -999,9
 316N200310,        A22,      35,          1,         18,         18,2,20031031,       0727,    20.0203,   -66.0072,       7643,  1801.6,   3.7822,  34.9728,2,  34.9709,4,    262.4,2,   262.1,2,   13.68,2,   17.98,2,    0.00,2,    1.18,2,   1.082,2,   0.530,2,   0.038,2,    -999,9,    -999,9,    -999,9,   1.8834,2,    1.97,2,    -999,9,    -999,9,    -999,    -999,9,    -999,9,    -999,9, 1801.60,      901,  20.0164, -66.0095,    -999,   0.0094,    0.15,     -999,9,     -999,9,     -999,9,     -999,9,     -999,9,     -999,9,   3.6368,    -999,9,       -999,9,    -999,9,    -999,9
 316N200310,        A22,      35,          1,         17,         17,2,20031031,       0727,    20.0203,   -66.0072,       7643,  2001.9,   3.5850,  34.9701,2,  34.9689,4,    262.3,2,   262.4,2,   15.30,2,   18.07,2,    0.00,2,    1.18,2,   0.795,2,   0.387,2,   0.034,2,    -999,9,    -999,9,    -999,9,     -999,9,    -999,9,    -999,9,    -999,9,    -999,    -999,9,    -999,9,    -999,9, 2001.90,      857,  20.0166, -66.0092,    -999,     -999,    -999,     -999,9,     -999,9,     -999,9,     -999,9,     -999,9,     -999,9,   3.4235,    -999,9,       -999,9,    -999,9,    -999,9
 316N200310,        A22,      35,          1,         16,         16,2,20031031,       0727,    20.0203,   -66.0072,       7643,  2244.9,   3.3308,  34.9645,2,  34.9652,4,    261.9,2,   261.4,2,   17.92,2,   18.22,2,    0.00,2,    1.20,2,   0.496,2,   0.248,2,   0.016,2,    -999,9,    -999,9,    -999,9,   1.8658,2,    1.07,2,    -999,9,    -999,9,    -999,    -999,9,    -999,9,    -999,9, 2244.90,      851,  20.0169, -66.0089,    -999,   0.0093,    0.15,     -999,9,     -999,9,     -999,9,     -999,9,     -999,9,     -999,9,   3.1499,    -999,9,       -999,9,    -999,9,    -999,9
 316N200310,        A22,      35,          1,         15,         15,2,20031031,       0727,    20.0203,   -66.0072,       7643,  2500.2,   3.0931,  34.9522,2,  34.9522,4,    262.0,2,   262.0,2,   19.95,2,   18.32,2,    0.00,2,    1.21,2,   0.418,2,   0.198,2,   0.012,2,    -999,9,    -999,9,    -999,9,     -999,9,    -999,9,    -999,9,    -999,9,    -999,    -999,9,    -999,9,    -999,9, 2500.20,      846,  20.0173, -66.0087,    -999,     -999,    -999,     -999,9,     -999,9,     -999,9,     -999,9,     -999,9,     -999,9,   2.8914,    -999,9,       -999,9,    -999,9,    -999,9
 316N200310,        A22,      35,          1,         14,         14,2,20031031,       0727,    20.0203,   -66.0072,       7643,  2749.8,   2.8203,  34.9359,2,  34.9341,4,    263.3,2,   264.1,2,   21.87,2,   18.31,2,    0.00,2,    1.21,2,   0.445,2,   0.221,2,   0.024,2,    -999,9,    -999,9,   0.274,2,   1.8583,2,    1.36,2,    -999,9,    -999,9,    -999,    -999,9,    -999,9,    -999,9, 2749.80,      841,  20.0176, -66.0084,   0.010,   0.0093,    0.15,     -999,9,     -999,9,     -999,9,     -999,9,     -999,9,     -999,9,   2.5990,    -999,9,       -999,9,    -999,9,    -999,9
 316N200310,        A22,      35,          1,         13,         13,2,20031031,       0727,    20.0203,   -66.0072,       7643,  3001.8,   2.6533,  34.9247,2,  34.9244,4,    265.5,2,   265.7,2,   22.79,2,   18.14,2,    0.00,2,    1.21,2,   0.524,2,   0.253,2,   0.020,2,    -999,9,    -999,9,    -999,9,     -999,9,    -999,9,    -999,9,    -999,9,    -999,    -999,9,    -999,9,    -999,9, 3001.80,      835,  20.0179, -66.0084,    -999,     -999,    -999,     -999,9,     -999,9,     -999,9,     -999,9,     -999,9,     -999,9,   2.4099,    -999,9,       -999,9,    -999,9,    -999,9
 316N200310,        A22,      35,          1,         12,         12,2,20031031,       0727,    20.0203,   -66.0072,       7643,  3250.4,   2.5089,  34.9152,2,  34.9146,4,    266.3,2,   267.1,2,   24.11,2,   18.14,2,    0.00,2,    1.21,2,   0.574,2,   0.283,2,   0.024,2,    -999,9,    -999,9,   0.334,2,   1.8696,2,    2.27,2,    -999,9,    -999,9,    -999,    -999,9,    -999,9,    -999,9, 3250.40,      830,  20.0183, -66.0084,   0.011,   0.0093,    0.15,     -999,9,     -999,9,     -999,9,     -999,9,     -999,9,     -999,9,   2.2429,    -999,9,       -999,9,    -999,9,    -999,9
 316N200310,        A22,      35,          1,         11,         11,2,20031031,       0727,    20.0203,   -66.0072,       7643,  3500.1,   2.4211,  34.9085,2,  34.9071,4,    267.1,2,   267.6,2,   25.33,2,   18.18,2,    0.00,2,    1.21,2,   0.617,2,   0.303,2,   0.026,2,    -999,9,    -999,9,    -999,9,     -999,9,    -999,9,    -999,9,    -999,9,    -999,    -999,9,    -999,9,    -999,9, 3500.10,      825,  20.0186, -66.0083,    -999,     -999,    -999,     -999,9,     -999,9,     -999,9,     -999,9,     -999,9,     -999,9,   2.1306,    -999,9,       -999,9,    -999,9,    -999,9
 316N200310,        A22,      35,          1,         10,         10,2,20031031,       0727,    20.0203,   -66.0072,       7643,  3749.3,   2.3707,  34.9038,2,  34.9026,4,    267.0,2,   267.3,2,   26.55,2,   18.23,2,    0.00,2,    1.22,2,   0.599,2,   0.294,2,   0.020,2,    -999,9,    -999,9,    -999,9,   1.9091,2,    2.90,2,    -999,9,    -999,9,    -999,    -999,9,    -999,9,    -999,9, 3749.30,      818,  20.0188, -66.0082,    -999,   0.0095,    0.15,     -999,9,     -999,9,     -999,9,     -999,9,     -999,9,     -999,9,   2.0543,    -999,9,       -999,9,    -999,9,    -999,9
 316N200310,        A22,      35,          1,          9,          9,2,20031031,       0727,    20.0203,   -66.0072,       7643,  3998.9,   2.3298,  34.8993,2,  34.8969,4,    266.3,2,   266.3,2,   28.29,2,   18.46,2,    0.00,2,    1.24,2,   0.581,2,   0.291,2,   0.026,2,    -999,9,    -999,9,    -999,9,     -999,9,    -999,9,    -999,9,    -999,9,    -999,    -999,9,    -999,9,    -999,9, 3998.90,      813,  20.0190, -66.0081,    -999,     -999,    -999,     -999,9,     -999,9,     -999,9,     -999,9,     -999,9,     -999,9,   1.9864,    -999,9,       -999,9,    -999,9,    -999,9
 316N200310,        A22,      35,          1,          8,          8,2,20031031,       0727,    20.0203,   -66.0072,       7643,  4249.4,   2.3138,  34.8960,2,  34.8963,4,    265.2,2,   266.4,2,   29.91,2,   18.71,2,    0.00,2,    1.26,2,   0.540,2,   0.266,2,   0.036,2,    -999,9,    -999,9,    -999,9,     -999,9,    -999,9,    -999,9,    -999,9,    -999,    -999,9,    -999,9,    -999,9, 4249.40,      808,  20.0191, -66.0080,    -999,     -999,    -999,     -999,9,     -999,9,     -999,9,     -999,9,     -999,9,     -999,9,   1.9419,    -999,9,       -999,9,    -999,9,    -999,9
 316N200310,        A22,      35,          1,          7,          7,2,20031031,       0727,    20.0203,   -66.0072,       7643,  4499.3,   2.3080,  34.8931,2,  34.8898,4,    264.0,2,   264.5,2,   31.54,2,   18.95,2,    0.00,2,    1.27,2,   0.491,2,   0.246,2,   0.030,2,    -999,9,    -999,9,    -999,9,     -999,9,    -999,9,    -999,9,    -999,9,    -999,    -999,9,    -999,9,    -999,9, 4499.30,      802,  20.0193, -66.0079,    -999,     -999,    -999,     -999,9,     -999,9,     -999,9,     -999,9,     -999,9,     -999,9,   1.9067,    -999,9,       -999,9,    -999,9,    -999,9
 316N200310,        A22,      35,          1,          6,          6,2,20031031,       0727,    20.0203,   -66.0072,       7643,  4748.8,   2.3047,  34.8900,2,  34.8863,4,    263.0,2,   263.7,2,   33.28,2,   19.25,2,    0.00,2,    1.29,2,   0.433,2,   0.224,2,   0.026,2,    -999,9,    -999,9,   0.220,2,   1.9301,2,    1.89,2,    -999,9,    -999,9,    -999,    -999,9,    -999,9,    -999,9, 4748.80,      757,  20.0195, -66.0077,   0.010,   0.0097,    0.15,     -999,9,     -999,9,     -999,9,     -999,9,     -999,9,     -999,9,   1.8732,    -999,9,       -999,9,    -999,9,    -999,9
 316N200310,        A22,      35,          1,          5,          5,2,20031031,       0727,    20.0203,   -66.0072,       7643,  4999.3,   2.2849,  34.8845,2,  34.8823,4,    260.4,2,   264.5,3,   36.55,2,   19.73,2,    0.00,2,    1.33,2,   0.367,2,   0.189,2,   0.012,2,    -999,9,    -999,9,    -999,9,     -999,9,    -999,9,    -999,9,    -999,9,    -999,    -999,9,    -999,9,    -999,9, 4999.30,      752,  20.0197, -66.0075,    -999,     -999,    -999,     -999,9,     -999,9,     -999,9,     -999,9,     -999,9,     -999,9,   1.8229,    -999,9,       -999,9,    -999,9,    -999,9