BOTTLE,20220517CCHSIOLMM
EXPOCODE,SECT_ID,STNNBR,CASTNO,SAMPNO,BTLNBR,BTLNBR_FLAG_W,DATE,TIME,LATITUDE,LONGITUDE,DEPTH,CTDPRS,CTDTMP,CTDSAL,CTDSAL_FLAG_W,SALNTY,SALNTY_FLAG_W,CTDOXY,CTDOXY_FLAG_W,OXYGEN,OXYGEN_FLAG_W,SILCAT,SILCAT_FLAG_W,NITRAT,NITRAT_FLAG_W,NITRIT,NITRIT_FLAG_W,PHSPHT,PHSPHT_FLAG_W,CFC-11,CFC-11_FLAG_W,CFC-12,CFC-12_FLAG_W,CFC113,CFC113_FLAG_W,TCARBN,TCARBN_FLAG_W,ALKALI,ALKALI_FLAG_W,TRITUM,TRITUM_FLAG_W,HELIUM,HELIUM_FLAG_W,DELHE3,DELHE3_FLAG_W,DELC13,DELC13_FLAG_W,DELC14,DELC14_FLAG_W,C14ERR,CCL4,CCL4_FLAG_W,DOC,DOC_FLAG_W,TDN,TDN_FLAG_W,CTDRAW,BTL_TIME,BTL_LAT,BTL_LON,TRITER,HELIER,DELHER,CDOM325,CDOM325_FLAG_W,CDOM340,CDOM340_FLAG_W,CDOM380,CDOM380_FLAG_W,CDOM412,CDOM412_FLAG_W,CDOMSL,CDOMSL_FLAG_W,CDOMSN,CDOMSN_FLAG_W,THETA,BACT,BACT_FLAG_W,PROC,PROC_FLAG_W,SYN,SYN_FLAG_W,PEUK,PEUK_FLAG_W
,,,,,,,,,,,METERS,DBAR,ITS-90,PSS-78,,PSS-78,,UMOL/KG,,UMOL/KG,,UMOL/KG,,UMOL/KG,,UMOL/KG,,UMOL/KG,,PMOL/KG,,PMOL/KG,,PMOL/KG,,UMOL/KG,,UMOL/KG,,TU,,NMOL/KG,,PERCNT,,/MILLE,,/MILLE,,/MILLE,PMOL/KG,,UMOL/KG,,UMOL/KG,,DBAR,,,,TU,NMOL/KG,PERCNT,1/M,,1/M,,1/M,,1/M,,1/NM,,1/NM,,DEG C,E8/L,,E7/L,,E6/L,,E6/L,
 316N200310,        A22,      15,          1,          3,          3,2,20031027,       1403,    16.3630,   -66.0027,       4457,  4049.8,   4.2764,  34.9772,2,  34.9760,2,    216.4,2,   216.3,2,   28.09,2,   21.98,2,    0.00,2,    1.49,2,   0.023,2,   0.018,2,   0.006,2,    -999,9,    -999,9,    -999,9,     -999,9,    -999,9,    -999,9,    -999,9,    -999,   0.058,2,    -999,9,    -999,9, 4049.80,     1413,  16.3636, -66.0021,    -999,     -999,    -999,     -999,9,     -999,9,     -999,9,     -999,9,     -999,9,     -999,9,   3.8727,    -999,9,       -999,9,    -999,9,    -999,9
 316N200310,        A22,      15,          1,          2,          2,2,20031027,       1403,    16.3630,   -66.0027,       4457,  4299.1,   4.3087,  34.9777,2,  34.9768,2,    216.8,2,   216.7,2,   28.29,2,   21.94,2,    0.00,2,    1.49,2,   0.039,2,   0.037,2,   0.006,2,    -999,9,    -999,9,    -999,9,     -999,9,    -999,9,    -999,9,    -999,9,    -999,   0.076,2,    -999,9,    -999,9, 4299.10,     1408,  16.3632, -66.0025,    -999,     -999,    -999,     -999,9,     -999,9,     -999,9,     -999,9,     -999,9,     -999,9,   3.8722,    -999,9,       -999,9,    -999,9,    -999,9
 316N200310,        A22,      15,          1,          1,          1,2,20031027,       1403,    16.3630,   -66.0027,       4457,  4512.1,   4.3365,  34.9779,2,  34.9774,2,    217.9,2,   217.8,2,   27.68,2,   21.83,2,    0.00,2,    1.48,2,   0.059,2,   0.050,2,   0.004,2,    -999,9,    -999,9,    -999,9,     -999,9,    -999,9,    -999,9,    -999,9,    -999,   0.118,2,    -999,9,    -999,9, 4512.10,     1403,  16.3629, -66.0027,    -999,     -999,    -999,     -999,9,     -999,9,     -999,9,     -999,9,     -999,9,     -999,9,   3.8715,    -999,9,       -999,9,    -999,9,    -999,9