BOTTLE,20220517CCHSIOLMM
EXPOCODE,SECT_ID,STNNBR,CASTNO,SAMPNO,BTLNBR,BTLNBR_FLAG_W,DATE,TIME,LATITUDE,LONGITUDE,DEPTH,CTDPRS,CTDTMP,CTDSAL,CTDSAL_FLAG_W,SALNTY,SALNTY_FLAG_W,CTDOXY,CTDOXY_FLAG_W,OXYGEN,OXYGEN_FLAG_W,SILCAT,SILCAT_FLAG_W,NITRAT,NITRAT_FLAG_W,NITRIT,NITRIT_FLAG_W,PHSPHT,PHSPHT_FLAG_W,CFC-11,CFC-11_FLAG_W,CFC-12,CFC-12_FLAG_W,CFC113,CFC113_FLAG_W,TCARBN,TCARBN_FLAG_W,ALKALI,ALKALI_FLAG_W,TRITUM,TRITUM_FLAG_W,HELIUM,HELIUM_FLAG_W,DELHE3,DELHE3_FLAG_W,DELC13,DELC13_FLAG_W,DELC14,DELC14_FLAG_W,C14ERR,CCL4,CCL4_FLAG_W,DOC,DOC_FLAG_W,TDN,TDN_FLAG_W,CTDRAW,BTL_TIME,BTL_LAT,BTL_LON,TRITER,HELIER,DELHER,CDOM325,CDOM325_FLAG_W,CDOM340,CDOM340_FLAG_W,CDOM380,CDOM380_FLAG_W,CDOM412,CDOM412_FLAG_W,CDOMSL,CDOMSL_FLAG_W,CDOMSN,CDOMSN_FLAG_W,THETA,BACT,BACT_FLAG_W,PROC,PROC_FLAG_W,SYN,SYN_FLAG_W,PEUK,PEUK_FLAG_W
,,,,,,,,,,,METERS,DBAR,ITS-90,PSS-78,,PSS-78,,UMOL/KG,,UMOL/KG,,UMOL/KG,,UMOL/KG,,UMOL/KG,,UMOL/KG,,PMOL/KG,,PMOL/KG,,PMOL/KG,,UMOL/KG,,UMOL/KG,,TU,,NMOL/KG,,PERCNT,,/MILLE,,/MILLE,,/MILLE,PMOL/KG,,UMOL/KG,,UMOL/KG,,DBAR,,,,TU,NMOL/KG,PERCNT,1/M,,1/M,,1/M,,1/M,,1/NM,,1/NM,,DEG C,E8/L,,E7/L,,E6/L,,E6/L,
 316N200310,        A22,      53,          1,         36,         36,2,20031105,       2112,    31.5685,   -65.9902,       4860,     3.5,  25.4081,  36.4829,2,  36.4869,2,    204.7,2,   205.1,2,    0.62,2,    0.00,2,    0.00,2,    0.01,2,   1.701,2,   1.067,2,   0.159,2,  2029.6,2,  2383.0,6,    -999,9,     -999,9,    -999,9,    -999,9,    -999,9,    -999,    -999,9,   66.40,2,    -999,9,    3.50,     2310,  31.5817, -65.9746,    -999,     -999,    -999,   0.0530,2,   0.0330,2,   0.0100,2,   0.0060,2,   0.0320,2,   0.0320,2,  25.4073,    -999,9,       -999,9,    -999,9,    -999,9
 316N200310,        A22,      53,          1,         35,         35,2,20031105,       2112,    31.5685,   -65.9902,       4860,    25.4,  25.4144,  36.4827,2,  36.4798,2,    208.5,2,   205.0,2,    0.59,2,    0.00,2,    0.00,2,    0.00,2,   1.706,2,   1.052,2,   0.155,2,    -999,9,    -999,9,    -999,9,     -999,9,    -999,9,    -999,9,    -999,9,    -999,    -999,9,   66.10,2,    -999,9,   25.40,     2308,  31.5815, -65.9749,    -999,     -999,    -999,   0.0540,2,   0.0340,2,   0.0100,2,   0.0060,2,   0.0320,2,   0.0320,2,  25.4088,    -999,9,       -999,9,    -999,9,    -999,9
 316N200310,        A22,      53,          1,         34,         34,2,20031105,       2112,    31.5685,   -65.9902,       4860,    50.8,  25.2466,  36.5388,2,  36.5347,2,    207.8,2,   206.6,2,    0.65,2,    0.05,2,    0.00,2,    0.00,2,   1.744,2,   1.071,2,   0.140,2,  2035.5,2,  2386.1,2,    -999,9,     -999,9,    -999,9,    -999,9,    -999,9,    -999,    -999,9,   64.10,2,    -999,9,   50.80,     2307,  31.5813, -65.9750,    -999,     -999,    -999,   0.0580,2,   0.0370,2,   0.0120,2,   0.0080,2,   0.0310,2,   0.0310,2,  25.2354,    -999,9,       -999,9,    -999,9,    -999,9
 316N200310,        A22,      53,          1,         33,         33,2,20031105,       2112,    31.5685,   -65.9902,       4860,    75.9,  25.1075,  36.5420,2,  36.5438,2,    208.1,2,   207.6,2,    0.62,2,   -0.01,2,    0.00,2,    0.00,2,   1.796,2,   1.085,2,   0.146,2,    -999,9,    -999,9,    -999,9,     -999,9,    -999,9,    -999,9,    -999,9,    -999,    -999,9,   66.70,2,    -999,9,   75.90,     2305,  31.5811, -65.9751,    -999,     -999,    -999,   0.0670,2,   0.0430,2,   0.0140,2,   0.0090,2,   0.0300,2,   0.0300,2,  25.0909,    -999,9,       -999,9,    -999,9,    -999,9
 316N200310,        A22,      53,          1,         32,         32,2,20031105,       2112,    31.5685,   -65.9902,       4860,   100.7,  21.7884,  36.6213,2,  36.6191,2,    215.7,2,   217.2,2,    0.49,2,   -0.01,2,    0.00,2,    0.01,2,   2.089,2,   1.248,2,   0.145,2,  2065.6,2,  2391.4,2,    -999,9,     -999,9,    -999,9,    -999,9,    -999,9,    -999,    -999,9,   58.00,2,    -999,9,  100.70,     2304,  31.5810, -65.9752,    -999,     -999,    -999,   0.1490,2,   0.1050,2,   0.0470,2,   0.0330,2,   0.0180,2,   0.0200,2,  21.7684,    -999,9,       -999,9,    -999,9,    -999,9
 316N200310,        A22,      53,          1,         31,         31,2,20031105,       2112,    31.5685,   -65.9902,       4860,   125.7,  20.0532,  36.6335,2,  36.6294,2,    206.0,2,   204.8,2,    0.65,2,    0.90,2,    0.04,2,    0.04,2,   2.171,6,   1.284,6,   0.131,6,    -999,9,    -999,9,   1.075,2,   1.7269,2,   -1.75,2,    -999,9,    -999,9,    -999,   0.838,2,   56.00,2,    -999,9,  125.70,     2302,  31.5808, -65.9754,   0.013,   0.0086,    0.15,   0.1260,2,   0.0910,2,   0.0420,2,   0.0300,2,   0.0170,2,   0.0190,2,  20.0297,    -999,9,       -999,9,    -999,9,    -999,9
 316N200310,        A22,      53,          1,         30,         30,2,20031105,       2112,    31.5685,   -65.9902,       4860,   175.2,  19.1069,  36.6209,2,  36.6171,2,    200.9,2,   202.4,2,    0.82,2,    1.92,2,    0.00,2,    0.07,2,   2.220,2,   1.309,2,   0.076,2,  2092.1,2,  2389.1,2,    -999,9,     -999,9,    -999,9,    -999,9,    -999,9,    -999,    -999,9,   52.50,2,    -999,9,  175.20,     2301,  31.5805, -65.9756,    -999,     -999,    -999,   0.0880,2,   0.0620,2,   0.0280,2,   0.0200,2,   0.0220,2,   0.0230,2,  19.0752,    -999,9,       -999,9,    -999,9,    -999,9
 316N200310,        A22,      53,          1,         29,         29,2,20031105,       2112,    31.5685,   -65.9902,       4860,   225.4,  18.7954,  36.6030,2,  36.6007,2,    205.8,2,   203.0,2,    0.99,2,    2.58,2,    0.00,2,    0.11,2,   2.244,2,   1.325,2,   0.064,2,    -999,9,    -999,9,   1.076,2,   1.7654,2,   -1.98,2,    -999,9,    -999,9,    -999,    -999,9,   51.90,2,    -999,9,  225.40,     2259,  31.5802, -65.9758,   0.013,   0.0088,    0.15,   0.0840,2,   0.0590,2,   0.0250,2,   0.0180,2,   0.0230,2,   0.0230,2,  18.7551,    -999,9,       -999,9,    -999,9,    -999,9
 316N200310,        A22,      53,          1,         28,         28,2,20031105,       2112,    31.5685,   -65.9902,       4860,   275.7,  18.5784,  36.5843,2,  36.5862,2,    196.3,2,   207.9,2,    1.04,2,    2.72,2,    0.00,2,    0.12,2,   2.258,2,   1.337,2,   0.087,2,  2092.5,2,  2394.1,2,   1.092,2,   1.7890,2,   -2.07,2,    -999,9,    -999,9,    -999,    -999,9,   51.10,2,    -999,9,  275.70,     2257,  31.5800, -65.9760,   0.013,   0.0089,    0.15,   0.0810,2,   0.0560,2,   0.0240,2,   0.0170,2,   0.0240,2,   0.0240,2,  18.5294,    -999,9,       -999,9,    -999,9,    -999,9
 316N200310,        A22,      53,          1,         27,         27,2,20031105,       2112,    31.5685,   -65.9902,       4860,   351.1,  18.1464,  36.5334,2,  36.5299,2,    194.8,2,   194.7,2,    1.31,2,    4.42,2,    0.00,2,    0.21,2,   2.273,2,   1.305,2,   0.045,2,    -999,9,    -999,9,   1.133,2,   1.8141,2,   -1.54,2,    -999,9,    -999,9,    -999,    -999,9,   49.70,2,    -999,9,  351.10,     2254,  31.5798, -65.9763,   0.015,   0.0091,    0.15,   0.0910,2,   0.0630,2,   0.0280,2,   0.0190,2,   0.0230,2,   0.0230,2,  18.0849,    -999,9,       -999,9,    -999,9,    -999,9
 316N200310,        A22,      53,          1,         26,         26,2,20031105,       2112,    31.5685,   -65.9902,       4860,   451.4,  17.4850,  36.4402,2,  36.4376,2,    193.8,2,    -999,9,    1.67,2,    5.77,2,    0.01,2,    0.29,2,    -999,9,    -999,9,    -999,9,    -999,9,    -999,9,   1.108,2,   1.7493,2,   -0.76,2,    -999,9,    -999,9,    -999,    -999,9,   46.60,2,    -999,9,  451.40,     2252,  31.5796, -65.9766,   0.013,   0.0087,    0.15,   0.0800,2,   0.0550,2,   0.0220,2,   0.0150,2,   0.0250,2,   0.0250,2,  17.4078,    -999,9,       -999,9,    -999,9,    -999,9
 316N200310,        A22,      53,          1,         25,         25,2,20031105,       2112,    31.5685,   -65.9902,       4860,   451.6,  17.4846,  36.4402,2,  36.4376,2,    193.8,2,   192.1,2,    1.74,2,    5.82,2,    0.01,2,    0.29,2,   2.278,2,   1.288,2,   0.030,2,  2109.6,2,  2385.3,2,   1.116,2,   1.7661,2,   -0.68,2,    -999,9,    -999,9,    -999,    -999,9,    -999,9,    -999,9,  451.60,     2251,  31.5796, -65.9767,   0.013,   0.0088,    0.15,     -999,9,     -999,9,     -999,9,     -999,9,     -999,9,     -999,9,  17.4074,    -999,9,       -999,9,    -999,9,    -999,9
 316N200310,        A22,      53,          1,         24,         24,2,20031105,       2112,    31.5685,   -65.9902,       4860,   551.7,  16.3494,  36.2475,2,  36.2448,2,    185.9,2,   187.4,2,    2.58,2,    8.08,2,    0.01,2,    0.44,2,   2.229,2,   1.268,2,   0.036,2,    -999,9,    -999,9,   1.137,2,   1.7716,2,   -0.44,2,    -999,9,    -999,9,    -999,    -999,9,    -999,5,    -999,9,  551.70,     2248,  31.5793, -65.9771,   0.013,   0.0089,    0.15,   0.0870,2,   0.0600,2,   0.0250,2,   0.0170,2,   0.0240,2,   0.0240,2,  16.2591,    -999,9,       -999,9,    -999,9,    -999,9
 316N200310,        A22,      53,          1,         23,         23,2,20031105,       2112,    31.5685,   -65.9902,       4860,   676.3,  13.7378,  35.8121,2,  35.8107,2,    167.1,2,   161.4,2,    5.77,2,   14.66,2,    0.02,2,    0.87,2,   1.796,6,   0.944,6,   0.033,6,  2148.3,2,  2351.7,2,   1.264,2,   1.7754,2,    2.53,2,    -999,9,    -999,9,    -999,    -999,9,    -999,9,    -999,9,  676.30,     2245,  31.5788, -65.9775,   0.014,   0.0089,    0.15,     -999,9,     -999,9,     -999,9,     -999,9,     -999,9,     -999,9,  13.6390,    -999,9,       -999,9,    -999,9,    -999,9
 316N200310,        A22,      53,          1,         22,         22,2,20031105,       2112,    31.5685,   -65.9902,       4860,   826.1,  10.4744,  35.3664,2,  35.3670,2,    148.4,2,   149.0,2,   10.95,2,   21.26,2,    0.02,2,    1.32,2,   1.131,2,   0.599,2,   0.021,2,  2176.3,2,  2331.9,2,   1.319,2,   1.7794,2,    3.83,2,    -999,9,    -999,9,    -999,    -999,9,    -999,9,    -999,9,  826.10,     2242,  31.5784, -65.9780,   0.014,   0.0089,    0.15,     -999,9,     -999,9,     -999,9,     -999,9,     -999,9,     -999,9,  10.3723,    -999,9,       -999,9,    -999,9,    -999,9
 316N200310,        A22,      53,          1,         21,         21,2,20031105,       2112,    31.5685,   -65.9902,       4860,   976.0,   7.4955,  35.1324,2,  35.1325,2,    170.8,2,   171.6,2,   14.18,2,   22.75,2,    0.02,2,    1.46,2,   0.765,2,   0.393,2,   0.027,2,  2181.4,2,  2323.5,2,   1.238,2,   1.7994,2,    5.22,2,    -999,9,    -999,9,    -999,    -999,9,    -999,9,    -999,9,  976.00,     2238,  31.5779, -65.9785,   0.014,   0.0090,    0.15,     -999,9,     -999,9,     -999,9,     -999,9,     -999,9,     -999,9,   7.3953,    -999,9,       -999,9,    -999,9,    -999,9
 316N200310,        A22,      53,          1,         20,         20,2,20031105,       2112,    31.5685,   -65.9902,       4860,  1175.6,   5.5946,  35.0842,2,  35.0835,2,    216.2,2,   220.2,2,   12.87,2,   19.73,2,    0.01,2,    1.28,2,   1.113,2,   0.560,2,   0.055,2,  2173.6,2,  2321.0,2,   0.979,2,   1.7883,2,    7.31,2,    -999,9,    -999,9,    -999,    -999,9,   42.20,2,    -999,9, 1175.60,     2233,  31.5773, -65.9792,   0.013,   0.0089,    0.15,     -999,9,     -999,9,     -999,9,     -999,9,     -999,9,     -999,9,   5.4888,    -999,9,       -999,9,    -999,9,    -999,9
 316N200310,        A22,      53,          1,         19,         19,2,20031105,       2112,    31.5685,   -65.9902,       4860,  1276.5,   5.2962,  35.0950,2,  35.0945,2,    229.1,2,   228.4,2,   12.94,2,   19.26,2,    0.01,2,    1.24,2,   0.900,2,   0.451,2,   0.042,2,    -999,9,    -999,9,   0.697,2,   1.8225,2,    6.71,2,    -999,9,    -999,9,    -999,    -999,9,    -999,9,    -999,9, 1276.50,     2231,  31.5770, -65.9796,   0.012,   0.0091,    0.15,     -999,9,     -999,9,     -999,9,     -999,9,     -999,9,     -999,9,   5.1833,    -999,9,       -999,9,    -999,9,    -999,9
 316N200310,        A22,      53,          1,         18,         18,2,20031105,       2112,    31.5685,   -65.9902,       4860,  1401.5,   4.8716,  35.0664,2,  35.0665,2,    239.4,2,   239.3,2,   12.90,2,   18.74,2,    0.01,2,    1.22,2,   0.956,2,   0.483,2,   0.047,2,  2166.5,2,  2319.9,2,   0.554,2,   1.8430,2,    4.80,2,    -999,9,    -999,9,    -999,    -999,9,   43.10,2,    -999,9, 1401.50,     2228,  31.5767, -65.9801,   0.011,   0.0092,    0.15,     -999,9,     -999,9,     -999,9,     -999,9,     -999,9,     -999,9,   4.7509,    -999,9,       -999,9,    -999,9,    -999,9
 316N200310,        A22,      53,          1,         17,         17,2,20031105,       2112,    31.5685,   -65.9902,       4860,  1501.2,   4.5795,  35.0436,2,  35.0439,2,    247.0,2,   246.4,2,   12.87,2,   18.38,2,    0.01,2,    1.20,2,   1.003,2,   0.503,2,   0.066,2,    -999,9,    -999,9,   0.577,2,   1.8592,2,    5.13,2,    -999,9,    -999,9,    -999,    -999,9,    -999,9,    -999,9, 1501.20,     2225,  31.5765, -65.9805,   0.011,   0.0093,    0.15,     -999,9,     -999,9,     -999,9,     -999,9,     -999,9,     -999,9,   4.4525,    -999,9,       -999,9,    -999,9,    -999,9
 316N200310,        A22,      53,          1,         16,         16,2,20031105,       2112,    31.5685,   -65.9902,       4860,  1624.8,   4.2021,  35.0028,2,  35.0033,2,    256.5,2,   256.3,2,   12.45,2,   17.86,2,    0.01,2,    1.17,2,   1.460,2,   0.727,2,   0.083,2,  2163.4,2,  2312.2,2,   0.786,2,   1.8369,2,    6.50,2,    -999,9,    -999,9,    -999,    -999,9,   42.90,2,    -999,9, 1624.80,     2222,  31.5762, -65.9810,   0.012,   0.0092,    0.15,     -999,9,     -999,9,     -999,9,     -999,9,     -999,9,     -999,9,   4.0679,    -999,9,       -999,9,    -999,9,    -999,9
 316N200310,        A22,      53,          1,         15,         15,2,20031105,       2112,    31.5685,   -65.9902,       4860,  1774.4,   3.8987,  34.9752,2,  34.9750,2,    261.4,2,   262.2,2,   12.82,2,   17.65,2,    0.01,2,    1.15,2,   1.470,2,   0.728,2,   0.077,2,    -999,9,    -999,9,   0.697,2,   1.8317,2,    5.81,2,    -999,9,    -999,9,    -999,    -999,9,    -999,9,    -999,9, 1774.40,     2218,  31.5759, -65.9816,   0.012,   0.0092,    0.15,     -999,9,     -999,9,     -999,9,     -999,9,     -999,9,     -999,9,   3.7543,    -999,9,       -999,9,    -999,9,    -999,9
 316N200310,        A22,      53,          1,         14,         14,2,20031105,       2112,    31.5685,   -65.9902,       4860,  1925.5,   3.7336,  34.9700,2,  34.9699,2,    264.0,2,   263.9,2,   13.77,2,   17.55,2,    0.01,2,    1.16,2,   1.278,2,   0.639,2,   0.081,2,  2159.4,2,  2311.3,2,   0.696,2,   1.8424,2,    5.92,2,    -999,9,    -999,9,    -999,    -999,9,   43.50,2,    -999,9, 1925.50,     2215,  31.5754, -65.9820,   0.013,   0.0092,    0.15,     -999,9,     -999,9,     -999,9,     -999,9,     -999,9,     -999,9,   3.5771,    -999,9,       -999,9,    -999,9,    -999,9
 316N200310,        A22,      53,          1,         13,         13,2,20031105,       2112,    31.5685,   -65.9902,       4860,  2124.5,   3.5726,  34.9684,2,  34.9691,2,    263.8,2,   262.7,2,   15.33,2,   17.75,2,    0.01,2,    1.17,2,   0.944,2,   0.465,2,   0.056,2,    -999,9,    -999,9,   0.480,2,   1.8588,2,    3.75,2,    -999,9,    -999,9,    -999,    -999,9,    -999,9,    -999,9, 2124.50,     2211,  31.5749, -65.9825,   0.012,   0.0093,    0.15,     -999,9,     -999,9,     -999,9,     -999,9,     -999,9,     -999,9,   3.3995,    -999,9,       -999,9,    -999,9,    -999,9
 316N200310,        A22,      53,          1,         12,         12,2,20031105,       2112,    31.5685,   -65.9902,       4860,  2375.7,   3.3298,  34.9579,2,  34.9585,2,    263.2,2,   263.3,2,   17.18,2,   17.80,2,    0.01,2,    1.18,2,   0.760,2,   0.375,2,   0.050,2,  2161.3,2,  2314.4,2,    -999,9,     -999,9,    -999,9,    -999,9,    -999,9,    -999,    -999,9,   42.10,2,    -999,9, 2375.70,     2206,  31.5742, -65.9832,    -999,     -999,    -999,     -999,9,     -999,9,     -999,9,     -999,9,     -999,9,     -999,9,   3.1362,    -999,9,       -999,9,    -999,9,    -999,9
 316N200310,        A22,      53,          1,         11,         11,2,20031105,       2112,    31.5685,   -65.9902,       4860,  2625.2,   3.1077,  34.9498,2,  34.9498,2,    262.9,2,   263.1,2,   19.43,2,   17.95,2,    0.00,2,    1.17,2,   0.549,2,   0.272,2,   0.028,2,    -999,9,    -999,9,   0.257,2,   1.8624,2,    2.46,2,    -999,9,    -999,9,    -999,    -999,9,    -999,9,    -999,9, 2625.20,     2201,  31.5737, -65.9839,   0.011,   0.0093,    0.15,     -999,9,     -999,9,     -999,9,     -999,9,     -999,9,     -999,9,   2.8933,    -999,9,       -999,9,    -999,9,    -999,9
 316N200310,        A22,      53,          1,         10,         10,2,20031105,       2112,    31.5685,   -65.9902,       4860,  2874.3,   2.8886,  34.9401,2,  34.9402,2,    262.6,2,   263.2,2,   21.89,2,   18.10,2,    0.00,2,    1.21,2,   0.375,2,   0.186,2,   0.023,2,  2166.4,2,  2319.0,2,    -999,9,     -999,9,    -999,9,    -999,9,    -999,9,    -999,    -999,9,   43.90,2,    -999,9, 2874.30,     2156,  31.5731, -65.9846,    -999,     -999,    -999,     -999,9,     -999,9,     -999,9,     -999,9,     -999,9,     -999,9,   2.6533,    -999,9,       -999,9,    -999,9,    -999,9
 316N200310,        A22,      53,          1,          9,          9,2,20031105,       2112,    31.5685,   -65.9902,       4860,  3102.0,   2.6878,  34.9273,2,  34.9274,2,    265.6,2,   266.1,2,   22.26,2,   17.84,2,    0.01,2,    1.19,2,   0.425,2,   0.210,2,   0.022,2,    -999,9,    -999,9,   0.213,2,   1.8779,2,    2.26,2,    -999,9,    -999,9,    -999,    -999,9,    -999,9,    -999,9, 3102.00,     2151,  31.5726, -65.9852,   0.011,   0.0094,    0.15,     -999,9,     -999,9,     -999,9,     -999,9,     -999,9,     -999,9,   2.4332,    -999,9,       -999,9,    -999,9,    -999,9
 316N200310,        A22,      53,          1,          8,          8,2,20031105,       2112,    31.5685,   -65.9902,       4860,  3302.1,   2.5429,  34.9182,2,  34.9176,2,    266.9,2,   267.4,2,   23.42,2,   17.83,2,    0.01,2,    1.20,2,   0.456,2,   0.218,2,   0.030,2,    -999,9,    -999,9,    -999,9,     -999,9,    -999,9,    -999,9,    -999,9,    -999,    -999,9,    -999,9,    -999,9, 3302.10,     2147,  31.5721, -65.9857,    -999,     -999,    -999,     -999,9,     -999,9,     -999,9,     -999,9,     -999,9,     -999,9,   2.2707,    -999,9,       -999,9,    -999,9,    -999,9
 316N200310,        A22,      53,          1,          7,          7,2,20031105,       2112,    31.5685,   -65.9902,       4860,  3501.2,   2.4080,  34.9084,2,  34.9081,2,    266.9,2,   267.5,2,   25.50,2,   17.99,2,    0.01,2,    1.20,2,   0.529,2,   0.259,2,   0.036,2,  2168.2,2,  2321.1,2,   0.224,2,   1.8574,2,    3.16,2,    -999,9,    -999,9,    -999,    -999,9,   43.10,2,    -999,9, 3501.20,     2142,  31.5716, -65.9862,   0.011,   0.0093,    0.15,     -999,9,     -999,9,     -999,9,     -999,9,     -999,9,     -999,9,   2.1177,    -999,9,       -999,9,    -999,9,    -999,9
 316N200310,        A22,      53,          1,          6,          6,2,20031105,       2112,    31.5685,   -65.9902,       4860,  3695.5,   2.3380,  34.9030,2,  34.9026,2,    266.7,2,   267.3,2,   27.06,2,   18.19,2,    0.00,2,    1.21,2,   0.503,2,   0.251,2,   0.029,2,    -999,9,    -999,9,    -999,9,     -999,9,    -999,9,    -999,9,    -999,9,    -999,    -999,9,    -999,9,    -999,9, 3695.50,     2138,  31.5712, -65.9868,    -999,     -999,    -999,     -999,9,     -999,9,     -999,9,     -999,9,     -999,9,     -999,9,   2.0284,    -999,9,       -999,9,    -999,9,    -999,9
 316N200310,        A22,      53,          1,          5,          5,2,20031105,       2112,    31.5685,   -65.9902,       4860,  3900.2,   2.2852,  34.8970,2,  34.8969,2,    265.7,2,   266.6,2,   29.44,2,   18.44,2,    0.00,2,    1.24,2,   0.517,2,   0.265,2,   0.030,2,    -999,9,    -999,9,   0.267,2,   1.9070,2,    3.19,2,    -999,9,    -999,9,    -999,    -999,9,    -999,9,    -999,9, 3900.20,     2134,  31.5708, -65.9874,   0.011,   0.0095,    0.15,     -999,9,     -999,9,     -999,9,     -999,9,     -999,9,     -999,9,   1.9542,    -999,9,       -999,9,    -999,9,    -999,9