BOTTLE,20220517CCHSIOLMM
EXPOCODE,SECT_ID,STNNBR,CASTNO,SAMPNO,BTLNBR,BTLNBR_FLAG_W,DATE,TIME,LATITUDE,LONGITUDE,DEPTH,CTDPRS,CTDTMP,CTDSAL,CTDSAL_FLAG_W,SALNTY,SALNTY_FLAG_W,CTDOXY,CTDOXY_FLAG_W,OXYGEN,OXYGEN_FLAG_W,SILCAT,SILCAT_FLAG_W,NITRAT,NITRAT_FLAG_W,NITRIT,NITRIT_FLAG_W,PHSPHT,PHSPHT_FLAG_W,CFC-11,CFC-11_FLAG_W,CFC-12,CFC-12_FLAG_W,CFC113,CFC113_FLAG_W,TCARBN,TCARBN_FLAG_W,ALKALI,ALKALI_FLAG_W,TRITUM,TRITUM_FLAG_W,HELIUM,HELIUM_FLAG_W,DELHE3,DELHE3_FLAG_W,DELC13,DELC13_FLAG_W,DELC14,DELC14_FLAG_W,C14ERR,CCL4,CCL4_FLAG_W,DOC,DOC_FLAG_W,TDN,TDN_FLAG_W,CTDRAW,BTL_TIME,BTL_LAT,BTL_LON,TRITER,HELIER,DELHER,CDOM325,CDOM325_FLAG_W,CDOM340,CDOM340_FLAG_W,CDOM380,CDOM380_FLAG_W,CDOM412,CDOM412_FLAG_W,CDOMSL,CDOMSL_FLAG_W,CDOMSN,CDOMSN_FLAG_W,THETA,BACT,BACT_FLAG_W,PROC,PROC_FLAG_W,SYN,SYN_FLAG_W,PEUK,PEUK_FLAG_W
,,,,,,,,,,,METERS,DBAR,ITS-90,PSS-78,,PSS-78,,UMOL/KG,,UMOL/KG,,UMOL/KG,,UMOL/KG,,UMOL/KG,,UMOL/KG,,PMOL/KG,,PMOL/KG,,PMOL/KG,,UMOL/KG,,UMOL/KG,,TU,,NMOL/KG,,PERCNT,,/MILLE,,/MILLE,,/MILLE,PMOL/KG,,UMOL/KG,,UMOL/KG,,DBAR,,,,TU,NMOL/KG,PERCNT,1/M,,1/M,,1/M,,1/M,,1/NM,,1/NM,,DEG C,E8/L,,E7/L,,E6/L,,E6/L,
 316N200310,        A22,      54,          1,         36,         36,2,20031106,       0945,    31.6362,   -64.1663,       4550,     3.4,  25.1062,  36.3921,2,  36.3897,2,    204.9,2,   205.5,2,    0.86,2,    0.00,2,    0.00,2,    0.01,2,   1.790,2,   1.071,2,   0.106,2,  2032.9,2,  2379.5,6,    -999,9,     -999,9,    -999,9,    -999,9,    -999,9,    -999,   1.683,2,   66.70,2,    3.60,2,    3.40,     1139,  31.6488, -64.1564,    -999,     -999,    -999,   0.0690,2,   0.0450,2,   0.0170,2,   0.0110,2,   0.0280,2,   0.0280,2,  25.1054,    2.67,2,       9.01,2,    3.53,2,    1.02,2
 316N200310,        A22,      54,          1,         35,         35,2,20031106,       0945,    31.6362,   -64.1663,       4550,     9.7,  25.1068,  36.3920,2,  36.3885,2,    203.0,2,   204.8,2,    0.76,2,    0.04,2,    0.00,2,    0.01,2,    -999,9,    -999,9,    -999,9,  2031.8,2,  2378.1,2,    -999,9,     -999,9,    -999,9,    -999,9,    -999,9,    -999,    -999,9,   65.60,2,    4.10,2,    9.70,     1138,  31.6486, -64.1566,    -999,     -999,    -999,   0.0840,2,   0.0580,2,   0.0240,2,   0.0160,2,   0.0240,2,   0.0250,2,  25.1047,    -999,9,       -999,9,    -999,9,    -999,9
 316N200310,        A22,      54,          1,         34,         34,2,20031106,       0945,    31.6362,   -64.1663,       4550,    20.1,  25.1150,  36.3918,2,  36.3893,2,    205.0,2,   204.6,2,    0.75,2,    0.05,2,    0.00,2,    0.01,2,   1.790,2,   1.055,2,   0.105,2,  2030.8,2,  2377.9,2,    -999,9,     -999,9,    -999,9,    -999,9,    -999,9,    -999,   1.660,2,   66.20,2,    4.60,2,   20.10,     1137,  31.6485, -64.1568,    -999,     -999,    -999,   0.0860,3,   0.0600,3,   0.0260,3,   0.0190,3,   0.0220,3,   0.0230,3,  25.1106,    2.59,2,       7.87,2,    3.06,2,    0.93,2
 316N200310,        A22,      54,          1,         33,         33,2,20031106,       0945,    31.6362,   -64.1663,       4550,    39.8,  25.1182,  36.3917,2,  36.3905,2,    204.5,2,   205.0,2,    0.75,2,    0.05,2,    0.00,2,    0.01,2,   1.773,2,   1.050,2,   0.104,2,  2030.9,2,  2379.6,2,    -999,9,     -999,9,    -999,9,    -999,9,    -999,9,    -999,   1.681,2,   65.30,2,    4.30,2,   39.80,     1135,  31.6483, -64.1570,    -999,     -999,    -999,   0.0860,2,   0.0590,2,   0.0250,2,   0.0180,2,   0.0230,2,   0.0230,2,  25.1095,    2.58,2,       7.95,2,    3.23,2,    0.87,2
 316N200310,        A22,      54,          1,         32,         32,2,20031106,       0945,    31.6362,   -64.1663,       4550,    60.3,  25.1154,  36.3962,2,  36.3962,2,    205.0,2,   204.4,2,    0.75,2,    0.05,2,    0.00,2,    0.01,2,   1.773,2,   1.061,2,   0.101,2,  2031.7,2,  2379.4,2,    -999,9,     -999,9,    -999,9,    -999,9,    -999,9,    -999,   1.645,2,   64.70,2,    4.00,2,   60.30,     1134,  31.6482, -64.1573,    -999,     -999,    -999,   0.0890,2,   0.0620,2,   0.0270,2,   0.0190,2,   0.0220,2,   0.0230,2,  25.1023,    2.49,2,       8.92,2,    3.22,2,    1.31,2
 316N200310,        A22,      54,          1,         31,         31,2,20031106,       0945,    31.6362,   -64.1663,       4550,    81.2,  23.2315,  36.6596,2,  36.6564,2,    197.2,2,   193.0,2,    0.75,2,    0.62,2,    0.01,2,    0.04,2,   1.975,2,   1.170,2,   0.082,2,  2073.8,2,  2399.4,2,    -999,9,     -999,9,    -999,9,    -999,9,    -999,9,    -999,   0.714,2,   60.10,2,    5.60,2,   81.20,     1133,  31.6480, -64.1575,    -999,     -999,    -999,   0.1380,2,   0.1000,2,   0.0480,2,   0.0350,2,   0.0150,2,   0.0180,2,  23.2147,    1.57,2,       6.58,2,    0.00,2,    2.88,2
 316N200310,        A22,      54,          1,         30,         30,2,20031106,       0945,    31.6362,   -64.1663,       4550,   100.8,  21.9093,  36.7064,2,  36.7052,2,    189.0,2,   191.9,2,    0.75,2,    1.15,2,    0.02,2,    0.07,2,   2.052,2,   1.217,2,   0.082,2,  2083.0,2,  2401.8,2,    -999,9,     -999,9,    -999,9,    -999,9,    -999,9,    -999,   0.563,2,   58.20,2,    5.40,2,  100.80,     1132,  31.6479, -64.1577,    -999,     -999,    -999,   0.1340,2,   0.0980,3,   0.0460,3,   0.0330,3,   0.0160,3,   0.0180,3,  21.8893,    1.32,2,       0.94,2,    0.00,2,    0.87,2
 316N200310,        A22,      54,          1,         29,         29,2,20031106,       0945,    31.6362,   -64.1663,       4550,   120.0,  20.7053,  36.6786,2,  36.6776,2,    199.1,2,   197.9,2,    0.85,2,    1.16,2,    0.01,2,    0.07,2,   2.151,2,   1.263,2,   0.075,2,  2089.2,2,  2400.7,2,    -999,9,     -999,9,    -999,9,    -999,9,    -999,9,    -999,   0.610,2,    -999,9,    -999,9,  120.00,     1130,  31.6478, -64.1579,    -999,     -999,    -999,   0.1410,2,   0.1040,2,   0.0520,2,   0.0380,2,   0.0150,2,   0.0170,2,  20.6824,    -999,9,       -999,9,    -999,9,    -999,9
 316N200310,        A22,      54,          1,         28,         28,2,20031106,       0945,    31.6362,   -64.1663,       4550,   140.2,  20.0523,  36.6574,2,  36.6540,2,    193.8,2,   197.2,2,    0.85,2,    1.43,2,    0.00,2,    0.09,2,   2.183,2,   1.264,2,   0.073,2,  2093.5,2,  2399.0,2,    -999,9,     -999,9,    -999,9,    -999,9,    -999,9,    -999,   0.540,2,   53.50,2,    5.70,2,  140.20,     1129,  31.6476, -64.1581,    -999,     -999,    -999,   0.1100,2,   0.0790,2,   0.0370,2,   0.0270,2,   0.0180,2,   0.0200,2,  20.0261,    1.01,2,       0.11,2,    0.00,2,    0.05,2
 316N200310,        A22,      54,          1,         27,         27,2,20031106,       0945,    31.6362,   -64.1663,       4550,   160.6,  19.5095,  36.6454,2,  36.6429,2,    200.7,2,   199.5,2,    0.84,2,    1.43,2,    0.00,2,    0.08,2,   2.215,2,   1.272,2,   0.061,2,  2091.2,2,  2398.0,2,    -999,9,     -999,9,    -999,9,    -999,9,    -999,9,    -999,   0.537,2,   52.60,2,    5.50,2,  160.60,     1127,  31.6475, -64.1584,    -999,     -999,    -999,   0.0950,2,   0.0680,2,   0.0310,2,   0.0230,2,   0.0210,2,   0.0210,2,  19.4801,    -999,9,       -999,9,    -999,9,    -999,9
 316N200310,        A22,      54,          1,         26,         26,2,20031106,       0945,    31.6362,   -64.1663,       4550,   200.1,  19.1809,  36.6288,2,  36.6251,2,    203.2,2,   204.1,2,    0.94,2,    1.71,2,    0.00,2,    0.09,2,   2.241,2,   1.300,2,   0.058,2,  2089.6,2,  2397.0,2,    -999,9,     -999,9,    -999,9,    -999,9,    -999,9,    -999,   0.530,2,   54.00,2,    5.60,2,  200.10,     1126,  31.6472, -64.1587,    -999,     -999,    -999,   0.0880,2,   0.0620,2,   0.0280,2,   0.0200,2,   0.0220,2,   0.0220,2,  19.1446,    0.95,2,       0.00,2,    0.00,2,    0.00,2
 316N200310,        A22,      54,          1,         25,         25,2,20031106,       0945,    31.6362,   -64.1663,       4550,   250.6,  18.9093,  36.6092,2,  36.6049,2,    201.9,2,   203.4,2,    1.04,2,    2.13,2,    0.00,2,    0.11,2,   2.279,6,   1.350,6,   0.049,6,  2094.1,2,  2395.3,2,    -999,9,     -999,9,    -999,9,    -999,9,    -999,9,    -999,   0.535,6,   52.40,2,    6.10,2,  250.60,     1124,  31.6470, -64.1590,    -999,     -999,    -999,   0.1020,2,   0.0740,2,   0.0360,2,   0.0270,2,   0.0180,2,   0.0190,2,  18.8642,    -999,9,       -999,9,    -999,9,    -999,9
 316N200310,        A22,      54,          1,         24,         24,2,20031106,       0945,    31.6362,   -64.1663,       4550,   301.0,  18.6937,  36.5949,2,  36.5922,2,    199.6,2,   201.6,2,    1.14,2,    2.61,2,    0.00,2,    0.14,2,   2.288,2,   1.311,2,   0.044,2,  2097.5,2,  2387.8,2,    -999,9,     -999,9,    -999,9,    -999,9,    -999,9,    -999,   0.539,2,    -999,9,    -999,9,  301.00,     1122,  31.6467, -64.1593,    -999,     -999,    -999,     -999,9,     -999,9,     -999,9,     -999,9,     -999,9,     -999,9,  18.6400,    -999,9,       -999,9,    -999,9,    -999,9
 316N200310,        A22,      54,          1,         23,         23,2,20031106,       0945,    31.6362,   -64.1663,       4550,   406.6,  17.9911,  36.5106,2,  36.5093,2,    194.7,2,   194.3,2,    1.54,2,    4.34,2,    0.01,2,    0.23,2,   2.333,2,   1.321,2,   0.035,2,  2108.3,2,  2382.3,2,    -999,9,     -999,9,    -999,9,    -999,9,    -999,9,    -999,   0.459,2,   54.10,2,    -999,9,  406.60,     1119,  31.6464, -64.1597,    -999,     -999,    -999,   0.0800,2,   0.0550,2,   0.0240,2,   0.0160,2,   0.0240,2,   0.0240,2,  17.9202,    -999,9,       -999,9,    -999,9,    -999,9
 316N200310,        A22,      54,          1,         22,         22,2,20031106,       0945,    31.6362,   -64.1663,       4550,   506.1,  16.9682,  36.3422,2,  36.3384,2,    187.5,2,   181.0,2,    2.55,2,    7.40,2,    0.02,2,    0.42,2,   2.249,2,   1.257,2,   0.033,2,  2125.1,2,  2373.3,2,    -999,9,     -999,9,    -999,9,    -999,9,    -999,9,    -999,   0.392,2,   51.40,2,    -999,9,  506.10,     1116,  31.6461, -64.1602,    -999,     -999,    -999,   0.0910,2,   0.0630,2,   0.0280,2,   0.0190,2,   0.0220,2,   0.0230,2,  16.8834,    -999,9,       -999,9,    -999,9,    -999,9
 316N200310,        A22,      54,          1,         21,         21,2,20031106,       0945,    31.6362,   -64.1663,       4550,   606.4,  15.4305,  36.0877,2,  36.0867,2,    187.1,2,   187.1,2,    3.46,2,    9.29,2,    0.02,2,    0.55,2,   2.252,2,   1.271,2,   0.033,2,  2131.7,2,  2361.2,2,    -999,9,     -999,9,    -999,9,    -999,9,    -999,9,    -999,   0.546,2,    -999,9,    -999,9,  606.40,     1114,  31.6458, -64.1606,    -999,     -999,    -999,     -999,9,     -999,9,     -999,9,     -999,9,     -999,9,     -999,9,  15.3349,    -999,9,       -999,9,    -999,9,    -999,9
 316N200310,        A22,      54,          1,         20,         20,2,20031106,       0945,    31.6362,   -64.1663,       4550,   707.2,  12.9924,  35.6832,2,  35.6814,2,    162.2,2,   161.1,2,    7.00,2,   15.93,2,    0.02,2,    0.97,2,   1.833,2,   0.985,2,   0.038,2,  2158.9,2,  2340.1,2,    -999,9,     -999,9,    -999,9,    -999,9,    -999,9,    -999,   0.415,2,   51.40,2,    -999,9,  707.20,     1111,  31.6456, -64.1610,    -999,     -999,    -999,   0.1140,2,   0.0800,2,   0.0370,2,   0.0250,2,   0.0190,2,   0.0210,2,  12.8927,    -999,9,       -999,9,    -999,9,    -999,9
 316N200310,        A22,      54,          1,         19,         19,2,20031106,       0945,    31.6362,   -64.1663,       4550,   811.1,  10.3114,  35.3332,2,  35.3317,2,    148.2,2,   147.9,2,   11.50,2,   21.75,2,    0.02,2,    1.36,2,   1.241,2,   0.644,2,   0.022,2,  2180.4,2,  2326.1,6,    -999,9,     -999,9,    -999,9,    -999,9,    -999,9,    -999,   0.381,2,    -999,9,    -999,9,  811.10,     1108,  31.6454, -64.1614,    -999,     -999,    -999,     -999,9,     -999,9,     -999,9,     -999,9,     -999,9,     -999,9,  10.2122,    -999,9,       -999,9,    -999,9,    -999,9
 316N200310,        A22,      54,          1,         18,         18,2,20031106,       0945,    31.6362,   -64.1663,       4550,   911.2,   7.7646,  35.1261,2,  35.1262,2,    169.4,2,   170.5,2,   13.55,2,   22.59,2,    0.02,2,    1.44,2,   1.226,2,   0.638,2,   0.033,2,  2186.8,2,  2323.5,6,    -999,9,     -999,9,    -999,9,    -999,9,    -999,9,    -999,   0.745,2,    -999,9,    -999,9,  911.20,     1105,  31.6451, -64.1619,    -999,     -999,    -999,     -999,9,     -999,9,     -999,9,     -999,9,     -999,9,     -999,9,   7.6696,    -999,9,       -999,9,    -999,9,    -999,9
 316N200310,        A22,      54,          1,         17,         17,2,20031106,       0945,    31.6362,   -64.1663,       4550,  1011.1,   6.6136,  35.1161,2,  35.1156,2,    201.0,2,   201.5,2,   12.52,2,   20.27,2,    0.02,2,    1.31,2,   1.591,2,   0.817,2,   0.055,2,  2180.1,2,  2322.9,2,    -999,9,     -999,9,    -999,9,    -999,9,    -999,9,    -999,   1.189,2,   43.20,2,    -999,9, 1011.10,     1103,  31.6448, -64.1623,    -999,     -999,    -999,   0.1270,2,   0.0890,2,   0.0410,2,   0.0270,2,   0.0190,2,   0.0200,2,   6.5160,    -999,9,       -999,9,    -999,9,    -999,9
 316N200310,        A22,      54,          1,         16,         16,2,20031106,       0945,    31.6362,   -64.1663,       4550,  1111.5,   5.8676,  35.0937,2,  35.0949,2,    217.8,2,   218.7,2,   12.20,2,   19.36,2,    0.01,2,    1.25,2,   1.733,2,   0.898,2,   0.077,2,  2176.1,2,  2321.3,2,    -999,9,     -999,9,    -999,9,    -999,9,    -999,9,    -999,   1.528,2,    -999,9,    -999,9, 1111.50,     1100,  31.6444, -64.1627,    -999,     -999,    -999,     -999,9,     -999,9,     -999,9,     -999,9,     -999,9,     -999,9,   5.7659,    -999,9,       -999,9,    -999,9,    -999,9
 316N200310,        A22,      54,          1,         15,         15,2,20031106,       0945,    31.6362,   -64.1663,       4550,  1212.0,   5.3289,  35.0760,2,  35.0748,2,    232.1,2,   232.0,2,   12.00,2,   18.81,2,    0.01,2,    1.22,2,   1.759,2,   0.893,2,   0.082,2,  2172.4,2,  2320.1,2,    -999,9,     -999,9,    -999,9,    -999,9,    -999,9,    -999,   1.667,2,    -999,9,    -999,9, 1212.00,     1057,  31.6440, -64.1631,    -999,     -999,    -999,     -999,9,     -999,9,     -999,9,     -999,9,     -999,9,     -999,9,   5.2220,    -999,9,       -999,9,    -999,9,    -999,9
 316N200310,        A22,      54,          1,         14,         14,2,20031106,       0945,    31.6362,   -64.1663,       4550,  1314.7,   4.7351,  35.0252,2,  35.0254,2,    243.8,2,   245.5,2,   11.79,2,   18.31,2,    0.01,2,    1.19,2,   1.912,2,   0.969,2,   0.092,2,  2167.4,2,  2315.8,2,    -999,9,     -999,9,    -999,9,    -999,9,    -999,9,    -999,   1.967,2,    -999,9,    -999,9, 1314.70,     1054,  31.6436, -64.1634,    -999,     -999,    -999,     -999,9,     -999,9,     -999,9,     -999,9,     -999,9,     -999,9,   4.6241,    -999,9,       -999,9,    -999,9,    -999,9
 316N200310,        A22,      54,          1,         13,         13,2,20031106,       0945,    31.6362,   -64.1663,       4550,  1414.6,   4.4550,  35.0041,2,  35.0039,2,    250.9,2,   251.5,2,   11.89,2,   18.14,2,    0.01,2,    1.18,2,   1.912,2,   0.961,2,   0.090,2,  2164.9,2,  2310.1,2,    -999,9,     -999,9,    -999,9,    -999,9,    -999,9,    -999,   2.061,2,   43.90,2,    -999,9, 1414.60,     1051,  31.6431, -64.1637,    -999,     -999,    -999,   0.1250,2,   0.0870,2,   0.0400,2,   0.0260,2,   0.0200,2,   0.0210,2,   4.3376,    -999,9,       -999,9,    -999,9,    -999,9
 316N200310,        A22,      54,          1,         12,         12,2,20031106,       0945,    31.6362,   -64.1663,       4550,  1620.7,   4.1337,  34.9942,2,  34.9947,2,    258.4,2,   258.3,2,   12.40,2,   17.86,2,    0.01,2,    1.16,2,   1.651,2,   0.822,2,   0.085,2,  2162.8,2,  2311.9,2,    -999,9,     -999,9,    -999,9,    -999,9,    -999,9,    -999,   2.020,2,    -999,9,    -999,9, 1620.70,     1047,  31.6423, -64.1641,    -999,     -999,    -999,     -999,9,     -999,9,     -999,9,     -999,9,     -999,9,     -999,9,   4.0007,    -999,9,       -999,9,    -999,9,    -999,9
 316N200310,        A22,      54,          1,         11,         11,2,20031106,       0945,    31.6362,   -64.1663,       4550,  1821.2,   3.7745,  34.9599,2,  34.9595,2,    266.5,2,   265.4,2,   12.71,2,   17.69,2,    0.01,2,    1.15,2,   1.641,2,   0.802,2,   0.083,2,  2160.2,2,  2309.3,2,    -999,9,     -999,9,    -999,9,    -999,9,    -999,9,    -999,   2.063,2,   46.00,3,    -999,9, 1821.20,     1043,  31.6417, -64.1644,    -999,     -999,    -999,   0.1270,2,   0.0890,2,   0.0420,2,   0.0270,2,   0.0190,2,   0.0200,2,   3.6273,    -999,9,       -999,9,    -999,9,    -999,9
 316N200310,        A22,      54,          1,         10,         10,2,20031106,       0945,    31.6362,   -64.1663,       4550,  2020.6,   3.5567,  34.9511,2,  34.9498,2,    266.3,2,   267.6,2,   13.84,2,   17.63,2,    0.01,2,    1.15,2,   1.455,2,   0.707,2,   0.073,2,  2158.2,2,  2310.3,2,    -999,9,     -999,9,    -999,9,    -999,9,    -999,9,    -999,   1.918,2,    -999,9,    -999,9, 2020.60,     1038,  31.6411, -64.1648,    -999,     -999,    -999,     -999,9,     -999,9,     -999,9,     -999,9,     -999,9,     -999,9,   3.3939,    -999,9,       -999,9,    -999,9,    -999,9
 316N200310,        A22,      54,          1,          9,          9,2,20031106,       0945,    31.6362,   -64.1663,       4550,  2225.8,   3.4359,  34.9488,2,  34.9486,2,    267.0,2,   267.0,2,   14.76,2,   17.61,2,    0.01,2,    1.16,2,   1.228,2,   0.619,2,   0.053,2,  2159.2,2,  2312.0,2,    -999,9,     -999,9,    -999,9,    -999,9,    -999,9,    -999,   1.715,2,   45.20,3,    -999,9, 2225.80,     1034,  31.6406, -64.1652,    -999,     -999,    -999,   0.1240,2,   0.0870,2,   0.0400,2,   0.0250,2,   0.0200,2,   0.0210,2,   3.2552,    -999,9,       -999,9,    -999,9,    -999,9
 316N200310,        A22,      54,          1,          8,          8,2,20031106,       0945,    31.6362,   -64.1663,       4550,  2425.8,   3.3090,  34.9525,2,  34.9528,2,    265.1,2,   264.8,2,   16.72,2,   17.86,2,    0.01,2,    1.18,2,   0.868,2,   0.441,2,   0.028,2,  2161.5,2,  2314.3,2,    -999,9,     -999,9,    -999,9,    -999,9,    -999,9,    -999,   1.330,2,    -999,9,    -999,9, 2425.80,     1030,  31.6401, -64.1656,    -999,     -999,    -999,     -999,9,     -999,9,     -999,9,     -999,9,     -999,9,     -999,9,   3.1107,    -999,9,       -999,9,    -999,9,    -999,9
 316N200310,        A22,      54,          1,          7,          7,2,20031106,       0945,    31.6362,   -64.1663,       4550,  2630.2,   3.0396,  34.9450,2,  34.9435,2,    264.4,2,   264.3,2,   19.41,2,   18.06,2,    0.01,2,    1.19,2,   0.624,2,   0.309,2,   0.024,2,  2163.5,2,  2316.7,2,    -999,9,     -999,9,    -999,9,    -999,9,    -999,9,    -999,   1.001,2,   43.40,2,    -999,9, 2630.20,     1025,  31.6396, -64.1659,    -999,     -999,    -999,   0.1200,2,   0.0840,2,   0.0380,2,   0.0240,2,   0.0200,2,   0.0220,2,   2.8259,    -999,9,       -999,9,    -999,9,    -999,9
 316N200310,        A22,      54,          1,          6,          6,2,20031106,       0945,    31.6362,   -64.1663,       4550,  3030.4,   2.6457,  34.9240,2,  34.9242,2,    266.3,2,   266.6,2,   22.41,2,   18.04,2,    0.00,2,    1.20,2,   0.571,2,   0.287,2,   0.024,2,  2165.0,2,  2318.2,2,    -999,9,     -999,9,    -999,9,    -999,9,    -999,9,    -999,   0.956,2,    -999,9,    -999,9, 3030.40,     1017,  31.6389, -64.1666,    -999,     -999,    -999,     -999,9,     -999,9,     -999,9,     -999,9,     -999,9,     -999,9,   2.3996,    -999,9,       -999,9,    -999,9,    -999,9
 316N200310,        A22,      54,          1,          5,          5,2,20031106,       0945,    31.6362,   -64.1663,       4550,  3436.1,   2.3616,  34.9050,2,  34.9050,2,    267.0,2,   268.3,2,   26.05,2,   18.19,2,    0.00,2,    1.22,2,   0.636,2,   0.326,2,   0.029,2,  2169.9,2,  2323.8,2,    -999,9,     -999,9,    -999,9,    -999,9,    -999,9,    -999,   1.079,2,   42.90,2,    -999,9, 3436.10,     1009,  31.6382, -64.1671,    -999,     -999,    -999,   0.1270,2,   0.0880,2,   0.0410,2,   0.0250,2,   0.0200,2,   0.0210,2,   2.0795,    -999,9,       -999,9,    -999,9,    -999,9