BOTTLE,20220517CCHSIOLMM
EXPOCODE,SECT_ID,STNNBR,CASTNO,SAMPNO,BTLNBR,BTLNBR_FLAG_W,DATE,TIME,LATITUDE,LONGITUDE,DEPTH,CTDPRS,CTDTMP,CTDSAL,CTDSAL_FLAG_W,SALNTY,SALNTY_FLAG_W,CTDOXY,CTDOXY_FLAG_W,OXYGEN,OXYGEN_FLAG_W,SILCAT,SILCAT_FLAG_W,NITRAT,NITRAT_FLAG_W,NITRIT,NITRIT_FLAG_W,PHSPHT,PHSPHT_FLAG_W,CFC-11,CFC-11_FLAG_W,CFC-12,CFC-12_FLAG_W,CFC113,CFC113_FLAG_W,TCARBN,TCARBN_FLAG_W,ALKALI,ALKALI_FLAG_W,TRITUM,TRITUM_FLAG_W,HELIUM,HELIUM_FLAG_W,DELHE3,DELHE3_FLAG_W,DELC13,DELC13_FLAG_W,DELC14,DELC14_FLAG_W,C14ERR,CCL4,CCL4_FLAG_W,DOC,DOC_FLAG_W,TDN,TDN_FLAG_W,CTDRAW,BTL_TIME,BTL_LAT,BTL_LON,TRITER,HELIER,DELHER,CDOM325,CDOM325_FLAG_W,CDOM340,CDOM340_FLAG_W,CDOM380,CDOM380_FLAG_W,CDOM412,CDOM412_FLAG_W,CDOMSL,CDOMSL_FLAG_W,CDOMSN,CDOMSN_FLAG_W,THETA,BACT,BACT_FLAG_W,PROC,PROC_FLAG_W,SYN,SYN_FLAG_W,PEUK,PEUK_FLAG_W
,,,,,,,,,,,METERS,DBAR,ITS-90,PSS-78,,PSS-78,,UMOL/KG,,UMOL/KG,,UMOL/KG,,UMOL/KG,,UMOL/KG,,UMOL/KG,,PMOL/KG,,PMOL/KG,,PMOL/KG,,UMOL/KG,,UMOL/KG,,TU,,NMOL/KG,,PERCNT,,/MILLE,,/MILLE,,/MILLE,PMOL/KG,,UMOL/KG,,UMOL/KG,,DBAR,,,,TU,NMOL/KG,PERCNT,1/M,,1/M,,1/M,,1/M,,1/NM,,1/NM,,DEG C,E8/L,,E7/L,,E6/L,,E6/L,
 316N200310,        A22,      44,          1,         35,         35,2,20031103,       0258,    25.5590,   -66.0020,       5194,     2.6,  27.4173,  36.5587,2,  36.5551,2,    200.6,2,   199.4,2,    0.09,2,    0.00,2,    0.00,2,    0.01,2,   1.653,2,   1.013,2,   0.095,2,  2019.5,2,  2385.7,6,    -999,9,     -999,9,    -999,9,    -999,9,    -999,9,    -999,   1.669,2,   72.50,2,    4.80,2,    2.60,      503,  25.5738, -65.9976,    -999,     -999,    -999,     -999,9,     -999,9,     -999,9,     -999,9,     -999,9,     -999,9,  27.4167,    2.74,2,       3.50,2,    3.10,2,    0.63,2
 316N200310,        A22,      44,          1,         34,         34,2,20031103,       0258,    25.5590,   -66.0020,       5194,    23.8,  27.4678,  36.6474,2,  36.6834,2,    202.3,2,   199.6,2,    0.17,2,    0.00,2,    0.00,2,    0.01,2,   1.656,2,   0.979,2,   0.096,2,  2026.7,2,  2404.7,2,    -999,9,     -999,9,    -999,9,    -999,9,    -999,9,    -999,   1.641,2,   73.70,2,    4.60,2,   23.80,      501,  25.5736, -65.9977,    -999,     -999,    -999,     -999,9,     -999,9,     -999,9,     -999,9,     -999,9,     -999,9,  27.4623,    3.38,2,       8.01,2,    1.66,2,    0.77,2
 316N200310,        A22,      44,          1,         33,         33,2,20031103,       0258,    25.5590,   -66.0020,       5194,    49.7,  27.4032,  36.8303,2,  36.8268,2,    205.0,2,   204.4,2,    0.14,2,    0.00,2,    0.00,2,    0.01,2,   1.700,2,   1.018,2,   0.091,2,  2034.2,2,  2414.2,2,    -999,9,     -999,9,    -999,9,    -999,9,    -999,9,    -999,   1.498,2,   74.00,2,    4.50,2,   49.70,      500,  25.5735, -65.9977,    -999,     -999,    -999,     -999,9,     -999,9,     -999,9,     -999,9,     -999,9,     -999,9,  27.3916,    2.23,2,      10.33,2,    1.07,2,    0.48,2
 316N200310,        A22,      44,          1,         32,         32,2,20031103,       0258,    25.5590,   -66.0020,       5194,    74.7,  25.2756,  36.8212,2,  36.8191,2,    215.2,2,   220.1,2,    0.00,2,    0.00,2,    0.00,2,    0.00,2,   1.910,2,   1.134,2,   0.086,2,  2045.0,2,  2412.4,2,    -999,9,     -999,9,    -999,9,    -999,9,    -999,9,    -999,   1.175,2,   71.20,2,    4.60,2,   74.70,      458,  25.5733, -65.9977,    -999,     -999,    -999,     -999,9,     -999,9,     -999,9,     -999,9,     -999,9,     -999,9,  25.2592,    2.26,2,       5.88,2,    0.00,2,    1.80,2
 316N200310,        A22,      44,          1,         31,         31,2,20031103,       0258,    25.5590,   -66.0020,       5194,   101.1,  23.2699,  36.8598,2,  36.8383,2,    213.2,2,   213.1,2,    0.00,2,    0.00,2,    0.00,2,    0.00,2,   2.009,2,   1.218,2,   0.095,2,  2061.9,2,  2413.1,2,    -999,9,     -999,9,    -999,9,    -999,9,    -999,9,    -999,   0.976,2,   67.60,2,    4.60,2,  101.10,      456,  25.5731, -65.9978,    -999,     -999,    -999,     -999,9,     -999,9,     -999,9,     -999,9,     -999,9,     -999,9,  23.2489,    1.41,2,       2.71,2,    0.00,2,    0.79,2
 316N200310,        A22,      44,          1,         30,         30,2,20031103,       0258,    25.5590,   -66.0020,       5194,   124.5,  22.1446,  36.8735,2,  36.8724,2,    203.6,2,   195.7,2,    0.00,2,    0.23,2,    0.01,2,    0.01,2,   2.050,2,   1.239,2,   0.095,2,  2083.5,2,  2407.1,2,    -999,9,     -999,9,    -999,9,    -999,9,    -999,9,    -999,   0.706,2,   59.70,2,    4.00,2,  124.50,      455,  25.5730, -65.9978,    -999,     -999,    -999,     -999,9,     -999,9,     -999,9,     -999,9,     -999,9,     -999,9,  22.1196,    0.76,2,       0.08,2,    0.00,2,    0.08,2
 316N200310,        A22,      44,          1,         29,         29,2,20031103,       0258,    25.5590,   -66.0020,       5194,   150.3,  21.2280,  36.8275,2,  36.8278,2,    188.6,2,   196.8,2,    0.00,2,    0.46,2,    0.02,2,    0.02,2,   2.119,2,   1.241,2,   0.101,2,  2089.8,2,  2404.7,2,    -999,9,     -999,9,    -999,9,    -999,9,    -999,9,    -999,   0.725,2,   58.40,2,    4.20,2,  150.30,      454,  25.5728, -65.9979,    -999,     -999,    -999,     -999,9,     -999,9,     -999,9,     -999,9,     -999,9,     -999,9,  21.1987,    -999,9,       -999,9,    -999,9,    -999,9
 316N200310,        A22,      44,          1,         28,         28,2,20031103,       0258,    25.5590,   -66.0020,       5194,   200.3,  19.6379,  36.6635,2,  36.6600,2,    194.8,2,   198.0,2,    0.10,2,    1.11,2,    0.00,2,    0.03,2,   2.144,6,   1.249,6,   0.087,6,  2094.2,2,  2394.3,2,    -999,9,     -999,9,    -999,9,    -999,9,    -999,9,    -999,   0.684,6,   52.90,2,    4.30,2,  200.30,      452,  25.5727, -65.9979,    -999,     -999,    -999,     -999,9,     -999,9,     -999,9,     -999,9,     -999,9,     -999,9,  19.6010,    -999,9,       -999,9,    -999,9,    -999,9
 316N200310,        A22,      44,          1,         27,         27,2,20031103,       0258,    25.5590,   -66.0020,       5194,   250.2,  18.9359,  36.6064,2,  36.6029,2,    205.0,2,   204.7,2,    0.17,2,    2.25,2,    0.00,2,    0.09,2,   2.276,2,   1.325,2,   0.053,2,  2092.6,2,  2388.3,2,    -999,9,     -999,9,    -999,9,    -999,9,    -999,9,    -999,   0.553,2,   49.90,2,    6.80,3,  250.20,      450,  25.5725, -65.9980,    -999,     -999,    -999,     -999,9,     -999,9,     -999,9,     -999,9,     -999,9,     -999,9,  18.8909,    -999,9,       -999,9,    -999,9,    -999,9
 316N200310,        A22,      44,          1,         26,         26,2,20031103,       0258,    25.5590,   -66.0020,       5194,   300.5,  18.6231,  36.5865,2,  36.5819,2,    202.8,2,   201.5,2,    0.44,2,    3.10,2,    0.00,2,    0.14,2,   2.307,2,   1.335,2,   0.036,2,  2097.1,2,  2387.0,2,    -999,9,     -999,9,    -999,9,    -999,9,    -999,9,    -999,   0.542,2,   48.90,2,    6.80,2,  300.50,      448,  25.5723, -65.9981,    -999,     -999,    -999,     -999,9,     -999,9,     -999,9,     -999,9,     -999,9,     -999,9,  18.5697,    -999,9,       -999,9,    -999,9,    -999,9
 316N200310,        A22,      44,          1,         25,         25,2,20031103,       0258,    25.5590,   -66.0020,       5194,   401.8,  17.6826,  36.4718,2,  36.4687,2,    194.9,2,   194.5,2,    1.01,2,    5.39,2,    0.00,2,    0.26,2,   2.339,2,   1.327,2,   0.019,2,  2107.8,2,  2379.1,2,    -999,9,     -999,9,    -999,9,    -999,9,    -999,9,    -999,   0.421,2,   48.00,2,    -999,9,  401.80,      446,  25.5721, -65.9982,    -999,     -999,    -999,     -999,9,     -999,9,     -999,9,     -999,9,     -999,9,     -999,9,  17.6135,    -999,9,       -999,9,    -999,9,    -999,9
 316N200310,        A22,      44,          1,         24,         24,2,20031103,       0258,    25.5590,   -66.0020,       5194,   501.0,  16.3765,  36.2561,2,  36.2519,2,    185.1,2,   183.8,2,    2.07,2,    8.60,2,    0.01,2,    0.46,2,   2.265,2,   1.246,2,   0.026,2,  2125.6,2,  2367.8,2,    -999,9,     -999,9,    -999,9,    -999,9,    -999,9,    -999,   0.419,2,   47.80,2,    -999,9,  501.00,      443,  25.5718, -65.9983,    -999,     -999,    -999,     -999,9,     -999,9,     -999,9,     -999,9,     -999,9,     -999,9,  16.2945,    -999,9,       -999,9,    -999,9,    -999,9
 316N200310,        A22,      44,          1,         23,         23,2,20031103,       0258,    25.5590,   -66.0020,       5194,   624.6,  14.1326,  35.8932,2,  35.8902,2,    168.0,2,   166.4,2,    4.41,2,   13.84,2,    0.01,2,    0.79,2,   1.975,2,   1.046,2,   0.018,2,  2148.5,2,  2348.3,2,    -999,9,     -999,9,    -999,9,    -999,9,    -999,9,    -999,   0.338,2,    -999,9,    -999,9,  624.60,      440,  25.5714, -65.9985,    -999,     -999,    -999,     -999,9,     -999,9,     -999,9,     -999,9,     -999,9,     -999,9,  14.0397,    -999,9,       -999,9,    -999,9,    -999,9
 316N200310,        A22,      44,          1,         22,         22,2,20031103,       0258,    25.5590,   -66.0020,       5194,   751.0,  11.0813,  35.4603,2,  35.4594,2,    156.2,2,   155.7,2,    9.15,2,   19.70,2,    0.01,2,    1.20,2,   1.335,2,   0.677,2,   0.033,2,  2171.1,2,  2329.4,2,    -999,9,     -999,9,    -999,9,    -999,9,    -999,9,    -999,   0.327,2,   46.70,2,    -999,9,  751.00,      437,  25.5709, -65.9987,    -999,     -999,    -999,     -999,9,     -999,9,     -999,9,     -999,9,     -999,9,     -999,9,  10.9855,    -999,9,       -999,9,    -999,9,    -999,9
 316N200310,        A22,      44,          1,         21,         21,2,20031103,       0258,    25.5590,   -66.0020,       5194,   851.7,   9.0409,  35.2230,2,  35.2221,2,    147.7,2,   146.0,2,   13.61,2,   24.13,2,    0.01,2,    1.52,2,   0.565,2,   0.281,2,   0.009,2,  2187.5,2,  2320.7,6,    -999,9,     -999,9,    -999,9,    -999,9,    -999,9,    -999,   0.195,2,    -999,9,    -999,9,  851.70,      434,  25.5706, -65.9988,    -999,     -999,    -999,     -999,9,     -999,9,     -999,9,     -999,9,     -999,9,     -999,9,   8.9444,    -999,9,       -999,9,    -999,9,    -999,9
 316N200310,        A22,      44,          1,         20,         20,2,20031103,       0258,    25.5590,   -66.0020,       5194,  1052.4,   6.5351,  35.0531,2,  35.0527,2,    171.1,2,   175.6,2,   16.49,2,   24.13,2,    0.00,2,    1.56,2,   0.375,2,   0.184,2,   0.004,2,  2189.2,2,  2325.1,2,    -999,9,     -999,9,    -999,9,    -999,9,    -999,9,    -999,   0.329,2,   40.70,2,    -999,9, 1052.40,      430,  25.5700, -65.9989,    -999,     -999,    -999,     -999,9,     -999,9,     -999,9,     -999,9,     -999,9,     -999,9,   6.4340,    -999,9,       -999,9,    -999,9,    -999,9
 316N200310,        A22,      44,          1,         19,         19,2,20031103,       0258,    25.5590,   -66.0020,       5194,  1202.7,   5.7127,  35.0790,2,  35.0779,2,    206.2,2,   208.4,2,   14.36,2,   21.30,2,    0.00,2,    1.38,2,   0.534,6,   0.259,6,   0.013,6,  2177.4,2,  2322.8,2,    -999,9,     -999,9,    -999,9,    -999,9,    -999,9,    -999,   0.618,2,    -999,9,    -999,9, 1202.70,      426,  25.5695, -65.9990,    -999,     -999,    -999,     -999,9,     -999,9,     -999,9,     -999,9,     -999,9,     -999,9,   5.6032,    -999,9,       -999,9,    -999,9,    -999,9
 316N200310,        A22,      44,          1,         18,         18,2,20031103,       0258,    25.5590,   -66.0020,       5194,  1351.3,   5.1448,  35.0760,2,  35.0764,2,    231.2,2,   230.5,2,   12.92,2,   19.67,2,    0.00,2,    1.26,2,   0.697,2,   0.351,2,   0.016,2,  2170.9,2,  2318.2,2,    -999,9,     -999,9,    -999,9,    -999,9,    -999,9,    -999,   0.972,2,    -999,9,    -999,9, 1351.30,      422,  25.5690, -65.9992,    -999,     -999,    -999,     -999,9,     -999,9,     -999,9,     -999,9,     -999,9,     -999,9,   5.0261,    -999,9,       -999,9,    -999,9,    -999,9
 316N200310,        A22,      44,          1,         17,         17,2,20031103,       0258,    25.5590,   -66.0020,       5194,  1501.6,   4.6745,  35.0593,2,  35.0585,2,    242.4,2,   242.6,2,   13.10,2,   18.95,2,    0.00,2,    1.22,2,   0.625,2,   0.305,2,   0.018,2,  2166.0,2,  2317.3,2,    -999,9,     -999,9,    -999,9,    -999,9,    -999,9,    -999,   1.007,2,   41.70,2,    -999,9, 1501.60,      418,  25.5684, -65.9993,    -999,     -999,    -999,     -999,9,     -999,9,     -999,9,     -999,9,     -999,9,     -999,9,   4.5464,    -999,9,       -999,9,    -999,9,    -999,9
 316N200310,        A22,      44,          1,         16,         16,2,20031103,       0258,    25.5590,   -66.0020,       5194,  1650.2,   4.3522,  35.0460,2,  35.0470,2,    248.0,2,   247.6,2,   14.07,2,   18.74,2,    0.00,2,    1.22,2,   0.478,2,   0.230,2,   0.010,2,  2164.4,2,  2318.5,2,    -999,9,     -999,9,    -999,9,    -999,9,    -999,9,    -999,   0.898,2,    -999,9,    -999,9, 1650.20,      414,  25.5678, -65.9994,    -999,     -999,    -999,     -999,9,     -999,9,     -999,9,     -999,9,     -999,9,     -999,9,   4.2136,    -999,9,       -999,9,    -999,9,    -999,9
 316N200310,        A22,      44,          1,         15,         15,2,20031103,       0258,    25.5590,   -66.0020,       5194,  1801.3,   4.0597,  35.0311,2,  35.0319,2,    250.2,2,   249.4,2,   16.03,2,   18.78,2,    0.00,2,    1.23,2,   0.249,2,   0.131,2,   0.004,2,  2164.0,2,  2321.7,2,    -999,9,     -999,9,    -999,9,    -999,9,    -999,9,    -999,   0.636,2,    -999,9,    -999,9, 1801.30,      411,  25.5672, -65.9995,    -999,     -999,    -999,     -999,9,     -999,9,     -999,9,     -999,9,     -999,9,     -999,9,   3.9104,    -999,9,       -999,9,    -999,9,    -999,9
 316N200310,        A22,      44,          1,         14,         14,2,20031103,       0258,    25.5590,   -66.0020,       5194,  2000.2,   3.7548,  35.0149,2,  35.0155,2,    250.2,2,   250.6,2,   18.90,2,   19.09,2,    0.00,2,    1.25,2,   0.116,2,   0.062,2,   0.004,2,  2167.2,2,  2319.9,2,    -999,9,     -999,9,    -999,9,    -999,9,    -999,9,    -999,   0.417,2,   43.00,2,    -999,9, 2000.20,      406,  25.5666, -65.9995,    -999,     -999,    -999,     -999,9,     -999,9,     -999,9,     -999,9,     -999,9,     -999,9,   3.5908,    -999,9,       -999,9,    -999,9,    -999,9
 316N200310,        A22,      44,          1,         13,         13,2,20031103,       0258,    25.5590,   -66.0020,       5194,  2251.0,   3.3840,  34.9847,2,  34.9843,2,    252.4,2,   253.1,2,   21.38,2,   19.13,2,    0.00,2,    1.26,2,   0.014,2,   0.058,2,   0.002,2,  2167.0,2,  2320.2,2,    -999,9,     -999,9,    -999,9,    -999,9,    -999,9,    -999,   0.398,2,    -999,9,    -999,9, 2251.00,      401,  25.5658, -65.9993,    -999,     -999,    -999,     -999,9,     -999,9,     -999,9,     -999,9,     -999,9,     -999,9,   3.2015,    -999,9,       -999,9,    -999,9,    -999,9
 316N200310,        A22,      44,          1,         12,         12,2,20031103,       0258,    25.5590,   -66.0020,       5194,  2499.3,   3.1437,  34.9653,2,  34.9667,2,    254.9,2,   254.6,2,   23.76,2,   19.32,2,    0.00,2,    1.27,2,   0.094,2,   0.059,2,   0.002,2,  2169.0,2,  2321.3,2,    -999,9,     -999,9,    -999,9,    -999,9,    -999,9,    -999,   0.334,2,   41.10,2,    -999,9, 2499.30,      356,  25.5651, -65.9992,    -999,     -999,    -999,     -999,9,     -999,9,     -999,9,     -999,9,     -999,9,     -999,9,   2.9411,    -999,9,       -999,9,    -999,9,    -999,9
 316N200310,        A22,      44,          1,         11,         11,2,20031103,       0258,    25.5590,   -66.0020,       5194,  2750.4,   2.9208,  34.9457,2,  34.9451,2,    258.0,2,   258.6,2,   24.13,2,   19.01,2,    0.00,2,    1.26,2,   0.213,6,   0.105,6,   0.008,6,  2167.1,2,  2320.9,2,    -999,9,     -999,9,    -999,9,    -999,9,    -999,9,    -999,   0.470,6,    -999,9,    -999,9, 2750.40,      351,  25.5644, -65.9990,    -999,     -999,    -999,     -999,9,     -999,9,     -999,9,     -999,9,     -999,9,     -999,9,   2.6973,    -999,9,       -999,9,    -999,9,    -999,9
 316N200310,        A22,      44,          1,         10,         10,2,20031103,       0258,    25.5590,   -66.0020,       5194,  3002.1,   2.7816,  34.9356,2,  34.9361,2,    258.4,2,   258.9,2,   26.31,2,   19.21,2,    0.00,2,    1.27,2,   0.174,2,   0.098,2,   0.007,2,  2168.9,2,  2323.1,3,    -999,9,     -999,9,    -999,9,    -999,9,    -999,9,    -999,   0.406,2,   44.30,2,    -999,9, 3002.10,      345,  25.5636, -65.9988,    -999,     -999,    -999,     -999,9,     -999,9,     -999,9,     -999,9,     -999,9,     -999,9,   2.5354,    -999,9,       -999,9,    -999,9,    -999,9
 316N200310,        A22,      44,          1,          9,          9,2,20031103,       0258,    25.5590,   -66.0020,       5194,  3250.6,   2.6454,  34.9251,2,  34.9254,2,    260.3,2,   260.4,2,   27.38,2,   19.20,2,    0.00,2,    1.27,2,   0.192,2,   0.094,2,   0.007,2,  2169.4,2,  2323.1,2,    -999,9,     -999,9,    -999,9,    -999,9,    -999,9,    -999,   0.432,2,    -999,9,    -999,9, 3250.60,      340,  25.5630, -65.9986,    -999,     -999,    -999,     -999,9,     -999,9,     -999,9,     -999,9,     -999,9,     -999,9,   2.3761,    -999,9,       -999,9,    -999,9,    -999,9
 316N200310,        A22,      44,          1,          8,          8,2,20031103,       0258,    25.5590,   -66.0020,       5194,  3501.6,   2.5238,  34.9159,2,  34.9164,2,    262.3,2,   262.7,2,   28.06,2,   19.04,2,    0.00,2,    1.26,2,   0.222,2,   0.109,2,   0.006,2,  2168.9,2,  2323.0,2,    -999,9,     -999,9,    -999,9,    -999,9,    -999,9,    -999,   0.489,2,   41.40,2,    -999,9, 3501.60,      334,  25.5622, -65.9990,    -999,     -999,    -999,     -999,9,     -999,9,     -999,9,     -999,9,     -999,9,     -999,9,   2.2306,    -999,9,       -999,9,    -999,9,    -999,9
 316N200310,        A22,      44,          1,          7,          7,2,20031103,       0258,    25.5590,   -66.0020,       5194,  3752.0,   2.4215,  34.9082,2,  34.9079,2,    263.4,2,   264.2,2,   28.73,2,   18.87,2,    0.00,2,    1.26,2,   0.239,2,   0.118,2,   0.009,2,  2169.1,2,  2322.8,2,    -999,9,     -999,9,    -999,9,    -999,9,    -999,9,    -999,   0.559,2,    -999,9,    -999,9, 3752.00,      329,  25.5617, -65.9992,    -999,     -999,    -999,     -999,9,     -999,9,     -999,9,     -999,9,     -999,9,     -999,9,   2.1034,    -999,9,       -999,9,    -999,9,    -999,9
 316N200310,        A22,      44,          1,          6,          6,2,20031103,       0258,    25.5590,   -66.0020,       5194,  3998.8,   2.3493,  34.9026,2,  34.9026,2,    264.7,2,   265.1,2,   29.20,2,   18.72,2,    0.00,2,    1.26,2,   0.218,2,   0.116,2,   0.011,2,  2169.6,2,  2329.1,2,    -999,9,     -999,9,    -999,9,    -999,9,    -999,9,    -999,   0.599,2,   40.40,2,    -999,9, 3998.80,      323,  25.5610, -65.9994,    -999,     -999,    -999,     -999,9,     -999,9,     -999,9,     -999,9,     -999,9,     -999,9,   2.0054,    -999,9,       -999,9,    -999,9,    -999,9
 316N200310,        A22,      44,          1,          5,          5,2,20031103,       0258,    25.5590,   -66.0020,       5194,  4252.1,   2.2949,  34.8960,2,  34.8967,2,    263.7,2,   264.5,2,   31.78,2,   19.12,2,    0.00,2,    1.28,2,   0.208,2,   0.110,2,   0.010,2,  2174.7,2,  2333.7,2,    -999,9,     -999,9,    -999,9,    -999,9,    -999,9,    -999,   0.603,2,    -999,9,    -999,9, 4252.10,      318,  25.5604, -65.9999,    -999,     -999,    -999,     -999,9,     -999,9,     -999,9,     -999,9,     -999,9,     -999,9,   1.9232,    -999,9,       -999,9,    -999,9,    -999,9
 316N200310,        A22,      44,          1,          4,          4,2,20031103,       0258,    25.5590,   -66.0020,       5194,  4502.2,   2.2569,  34.8892,2,  34.8894,2,    261.5,2,   261.7,2,   34.97,2,   19.56,2,    0.00,2,    1.32,2,   0.195,2,   0.109,2,   0.010,2,  2178.6,2,  2329.6,2,    -999,9,     -999,9,    -999,9,    -999,9,    -999,9,    -999,   0.526,2,   40.80,2,    -999,9, 4502.20,      313,  25.5599, -66.0004,    -999,     -999,    -999,     -999,9,     -999,9,     -999,9,     -999,9,     -999,9,     -999,9,   1.8568,    -999,9,       -999,9,    -999,9,    -999,9