BOTTLE,20220517CCHSIOLMM
EXPOCODE,SECT_ID,STNNBR,CASTNO,SAMPNO,BTLNBR,BTLNBR_FLAG_W,DATE,TIME,LATITUDE,LONGITUDE,DEPTH,CTDPRS,CTDTMP,CTDSAL,CTDSAL_FLAG_W,SALNTY,SALNTY_FLAG_W,CTDOXY,CTDOXY_FLAG_W,OXYGEN,OXYGEN_FLAG_W,SILCAT,SILCAT_FLAG_W,NITRAT,NITRAT_FLAG_W,NITRIT,NITRIT_FLAG_W,PHSPHT,PHSPHT_FLAG_W,CFC-11,CFC-11_FLAG_W,CFC-12,CFC-12_FLAG_W,CFC113,CFC113_FLAG_W,TCARBN,TCARBN_FLAG_W,ALKALI,ALKALI_FLAG_W,TRITUM,TRITUM_FLAG_W,HELIUM,HELIUM_FLAG_W,DELHE3,DELHE3_FLAG_W,DELC13,DELC13_FLAG_W,DELC14,DELC14_FLAG_W,C14ERR,CCL4,CCL4_FLAG_W,DOC,DOC_FLAG_W,TDN,TDN_FLAG_W,CTDRAW,BTL_TIME,BTL_LAT,BTL_LON,TRITER,HELIER,DELHER,CDOM325,CDOM325_FLAG_W,CDOM340,CDOM340_FLAG_W,CDOM380,CDOM380_FLAG_W,CDOM412,CDOM412_FLAG_W,CDOMSL,CDOMSL_FLAG_W,CDOMSN,CDOMSN_FLAG_W,THETA,BACT,BACT_FLAG_W,PROC,PROC_FLAG_W,SYN,SYN_FLAG_W,PEUK,PEUK_FLAG_W
,,,,,,,,,,,METERS,DBAR,ITS-90,PSS-78,,PSS-78,,UMOL/KG,,UMOL/KG,,UMOL/KG,,UMOL/KG,,UMOL/KG,,UMOL/KG,,PMOL/KG,,PMOL/KG,,PMOL/KG,,UMOL/KG,,UMOL/KG,,TU,,NMOL/KG,,PERCNT,,/MILLE,,/MILLE,,/MILLE,PMOL/KG,,UMOL/KG,,UMOL/KG,,DBAR,,,,TU,NMOL/KG,PERCNT,1/M,,1/M,,1/M,,1/M,,1/NM,,1/NM,,DEG C,E8/L,,E7/L,,E6/L,,E6/L,
 316N200310,        A22,      68,          1,         35,         35,2,20031110,       1620,    37.3805,   -68.1838,       4750,     4.0,  26.2014,  36.2895,2,  36.2877,2,    172.2,2,   197.2,2,    0.83,2,    0.22,2,    0.02,2,    0.01,2,   1.661,2,   1.036,2,   0.089,2,  2022.1,2,  2375.2,6,    -999,9,     -999,9,    -999,9,    1.40,2,    75.9,2,     2.8,   1.329,2,   65.30,2,    4.00,2,    4.00,     1820,  37.3680, -68.1416,    -999,     -999,    -999,   0.1030,2,   0.0730,2,   0.0340,2,   0.0250,2,   0.0200,2,   0.0210,2,  26.2005,    3.07,2,       5.53,2,    2.99,2,    1.31,2
 316N200310,        A22,      68,          1,         34,         34,2,20031110,       1620,    37.3805,   -68.1838,       4750,    24.5,  26.2263,  36.2887,2,  36.2869,2,    196.0,2,   197.4,2,    0.83,2,    0.18,2,    0.02,2,    0.01,2,   1.688,2,   1.018,2,   0.094,2,  2022.0,2,  2375.3,2,    -999,9,     -999,9,    -999,9,    -999,9,    -999,9,    -999,   1.338,2,   64.60,2,    4.00,2,   24.50,     1818,  37.3681, -68.1422,    -999,     -999,    -999,   0.0790,2,   0.0530,2,   0.0210,2,   0.0140,2,   0.0260,2,   0.0270,2,  26.2207,    3.47,2,       5.81,2,    3.13,2,    0.94,2
 316N200310,        A22,      68,          1,         33,         33,2,20031110,       1620,    37.3805,   -68.1838,       4750,    50.3,  26.2305,  36.2883,2,  36.2865,2,    196.0,2,   197.3,2,    0.72,2,    0.13,2,    0.02,2,    0.01,2,   1.663,2,   1.034,2,   0.092,2,  2022.3,2,  2375.0,2,    -999,9,     -999,9,    -999,9,    -999,9,    -999,9,    -999,   1.401,2,    -999,5,    3.70,2,   50.30,     1816,  37.3682, -68.1428,    -999,     -999,    -999,   0.0820,2,   0.0550,2,   0.0220,2,   0.0140,2,   0.0260,2,   0.0270,2,  26.2192,    3.32,2,       5.54,2,    3.01,2,    1.82,2
 316N200310,        A22,      68,          1,         32,         32,2,20031110,       1620,    37.3805,   -68.1838,       4750,    75.6,  26.2359,  36.2884,2,  36.2875,2,    196.0,2,   197.0,2,    0.72,2,    0.13,2,    0.02,2,    0.01,2,   1.668,2,   1.018,2,   0.090,2,  2022.1,2,  2375.0,2,    -999,9,     -999,9,    -999,9,    -999,9,    -999,9,    -999,   1.356,2,   62.80,2,    4.60,2,   75.60,     1815,  37.3683, -68.1434,    -999,     -999,    -999,   0.0810,2,   0.0540,2,   0.0210,2,   0.0140,2,   0.0260,2,   0.0270,2,  26.2189,    4.09,2,       5.78,2,    3.18,2,    1.46,2
 316N200310,        A22,      68,          1,         31,         31,2,20031110,       1620,    37.3805,   -68.1838,       4750,    99.2,  26.0022,  36.4701,2,  36.4564,2,    191.2,2,   190.3,2,    0.71,2,    0.48,2,    0.05,2,    0.03,2,   1.725,2,   0.360,4,   0.071,2,  2041.3,2,  2382.9,2,    -999,9,     -999,9,    -999,9,    -999,9,    -999,9,    -999,   1.014,2,   62.20,2,    4.30,2,   99.20,     1813,  37.3684, -68.1440,    -999,     -999,    -999,   0.1020,2,   0.0700,2,   0.0290,2,   0.0200,2,   0.0230,2,   0.0240,2,  25.9800,    3.00,2,       2.24,2,    1.39,2,    6.70,2
 316N200310,        A22,      68,          1,         30,         30,2,20031110,       1620,    37.3805,   -68.1838,       4750,   124.9,  24.4902,  36.7107,2,  36.7072,2,    197.4,2,   190.5,2,    0.52,2,    1.08,2,    0.03,2,    0.05,2,   1.866,2,   1.154,2,   0.073,2,  2066.0,2,  2395.2,2,    -999,9,     -999,9,    -999,9,    -999,9,    -999,9,    -999,   0.592,2,   61.40,2,    5.00,2,  124.90,     1812,  37.3685, -68.1446,    -999,     -999,    -999,   0.1220,2,   0.0850,2,   0.0380,2,   0.0260,2,   0.0200,2,   0.0210,2,  24.4634,    2.08,2,       0.43,2,    0.00,2,    0.28,2
 316N200310,        A22,      68,          1,         29,         29,2,20031110,       1620,    37.3805,   -68.1838,       4750,   175.5,  22.1264,  36.8235,2,  36.8212,2,    177.7,2,   181.0,2,    0.62,2,    2.27,2,    0.01,2,    0.11,2,   2.026,2,   1.211,2,   0.052,2,  2095.4,2,  2407.8,2,    -999,9,     -999,9,    -999,9,    -999,9,    -999,9,    -999,   0.334,2,    -999,9,    -999,9,  175.50,     1810,  37.3687, -68.1454,    -999,     -999,    -999,     -999,9,     -999,9,     -999,9,     -999,9,     -999,9,     -999,9,  22.0912,    1.29,2,       0.09,2,    0.00,2,    0.12,2
 316N200310,        A22,      68,          1,         28,         28,2,20031110,       1620,    37.3805,   -68.1838,       4750,   224.8,  20.5006,  36.7636,2,  36.7631,2,    168.2,2,   184.2,2,    0.61,2,    2.47,2,    0.01,2,    0.11,2,   2.140,2,   1.286,2,   0.034,2,  2103.1,2,  2404.5,2,    -999,9,     -999,9,    -999,9,    -999,9,    -999,9,    -999,   0.284,2,   57.70,2,    5.50,2,  224.80,     1808,  37.3689, -68.1463,    -999,     -999,    -999,   0.1390,2,   0.1030,2,   0.0520,2,   0.0380,2,   0.0150,2,   0.0160,2,  20.4579,    -999,9,       -999,9,    -999,9,    -999,9
 316N200310,        A22,      68,          1,         27,         27,2,20031110,       1620,    37.3805,   -68.1838,       4750,   276.1,  19.4383,  36.6629,2,  36.6614,2,    190.9,2,   174.5,2,    1.10,2,    4.85,2,    0.00,2,    0.22,2,   2.180,2,   1.308,2,   0.015,2,  2117.1,2,  2398.4,2,    -999,9,     -999,9,    -999,9,    -999,9,    -999,9,    -999,   0.238,2,   52.60,2,    8.10,2,  276.10,     1807,  37.3691, -68.1472,    -999,     -999,    -999,   0.1020,2,   0.0720,2,   0.0320,2,   0.0230,2,   0.0210,2,   0.0220,2,  19.3877,    -999,9,       -999,9,    -999,9,    -999,9
 316N200310,        A22,      68,          1,         26,         26,2,20031110,       1620,    37.3805,   -68.1838,       4750,   352.0,  18.7510,  36.6056,2,  36.6031,2,    187.7,2,   194.8,2,    0.70,2,    3.74,2,    0.00,2,    0.16,2,   2.289,2,   1.361,2,   0.019,2,  2100.4,2,  2390.0,2,    -999,9,     -999,9,    -999,9,    -999,9,    -999,9,    -999,   0.356,2,   49.10,2,    -999,9,  352.00,     1805,  37.3693, -68.1483,    -999,     -999,    -999,   0.0820,2,   0.0570,2,   0.0240,2,   0.0170,2,   0.0230,2,   0.0240,2,  18.6880,    -999,9,       -999,9,    -999,9,    -999,9
 316N200310,        A22,      68,          1,         25,         25,2,20031110,       1620,    37.3805,   -68.1838,       4750,   451.7,  17.5082,  36.3971,2,  36.3962,2,    168.0,2,   165.1,2,    2.39,2,    8.97,2,    0.00,2,    0.48,2,   2.177,2,   1.218,2,   0.014,2,  2132.8,2,  2377.6,2,    -999,9,     -999,9,    -999,9,    -999,9,    -999,9,    -999,   0.257,2,    -999,9,    -999,9,  451.70,     1802,  37.3695, -68.1495,    -999,     -999,    -999,     -999,9,     -999,9,     -999,9,     -999,9,     -999,9,     -999,9,  17.4309,    -999,9,       -999,9,    -999,9,    -999,9
 316N200310,        A22,      68,          1,         24,         24,2,20031110,       1620,    37.3805,   -68.1838,       4750,   550.8,  15.5391,  36.0470,2,  36.0465,2,    153.2,2,   141.9,2,    4.98,2,   14.73,2,    0.00,2,    0.85,2,   1.908,2,   1.039,2,   0.010,2,  2158.5,2,  2358.1,2,    -999,9,     -999,9,    -999,9,    -999,9,    -999,9,    -999,   0.225,2,   49.90,2,    -999,9,  550.80,     1759,  37.3696, -68.1506,    -999,     -999,    -999,   0.1100,2,   0.0780,2,   0.0370,2,   0.0270,2,   0.0180,2,   0.0200,2,  15.4521,    -999,9,       -999,9,    -999,9,    -999,9
 316N200310,        A22,      68,          1,         23,         23,2,20031110,       1620,    37.3805,   -68.1838,       4750,   671.5,  11.7423,  35.4923,2,  35.4931,2,    134.4,2,   134.9,2,    9.92,2,   21.69,2,    0.00,2,    1.33,2,   1.225,2,   0.647,2,   0.005,2,  2180.2,2,  2337.2,2,    -999,9,     -999,9,    -999,9,    -999,9,    -999,9,    -999,   0.241,2,   47.00,2,    -999,9,  671.50,     1756,  37.3699, -68.1515,    -999,     -999,    -999,   0.1160,2,   0.0810,2,   0.0380,2,   0.0270,2,   0.0190,2,   0.0200,2,  11.6538,    -999,9,       -999,9,    -999,9,    -999,9
 316N200310,        A22,      68,          1,         22,         22,2,20031110,       1620,    37.3805,   -68.1838,       4750,   827.4,   8.8143,  35.1925,2,  35.1933,2,    149.1,2,   151.6,2,   13.27,2,   24.05,2,    0.00,2,    1.52,2,   0.886,2,   0.458,2,   0.028,2,  2189.2,2,  2318.8,6,    -999,9,     -999,9,    -999,9,    -999,9,    -999,9,    -999,   0.385,2,    -999,9,    -999,9,  827.40,     1752,  37.3702, -68.1522,    -999,     -999,    -999,     -999,9,     -999,9,     -999,9,     -999,9,     -999,9,     -999,9,   8.7221,    -999,9,       -999,9,    -999,9,    -999,9
 316N200310,        A22,      68,          1,         21,         21,2,20031110,       1620,    37.3805,   -68.1838,       4750,   979.5,   6.0483,  35.0733,2,  35.0734,2,    202.8,2,   208.1,2,   12.86,2,   21.16,2,    0.00,2,    1.37,2,   1.284,6,   0.629,6,   0.039,6,  2177.4,2,  2313.2,2,    -999,9,     -999,9,    -999,9,    -999,9,    -999,9,    -999,   1.135,6,   45.60,2,    -999,9,  979.50,     1749,  37.3706, -68.1529,    -999,     -999,    -999,   0.1280,2,   0.0890,2,   0.0420,2,   0.0280,2,   0.0180,2,   0.0200,2,   5.9582,    -999,9,       -999,9,    -999,9,    -999,9
 316N200310,        A22,      68,          1,         20,         20,2,20031110,       1620,    37.3805,   -68.1838,       4750,  1129.8,   5.0031,  35.0143,2,  35.0138,2,    237.1,2,   236.5,2,   11.64,2,   19.32,2,    0.00,2,    1.26,2,   1.998,2,   1.022,2,   0.095,2,  2171.4,2,  2309.1,2,    -999,9,     -999,9,    -999,9,    -999,9,    -999,9,    -999,   1.879,2,   46.10,2,    -999,9, 1129.80,     1745,  37.3708, -68.1540,    -999,     -999,    -999,   0.1330,2,   0.0930,2,   0.0430,2,   0.0280,2,   0.0190,2,   0.0200,2,   4.9069,    -999,9,       -999,9,    -999,9,    -999,9
 316N200310,        A22,      68,          1,         19,         19,2,20031110,       1620,    37.3805,   -68.1838,       4750,  1278.1,   4.7440,  35.0225,2,  35.0240,2,    247.7,2,   243.6,2,   11.64,2,   18.93,2,    0.00,2,    1.23,2,   1.733,2,   0.863,2,   0.074,2,  2168.2,2,  2309.8,2,    -999,9,     -999,9,    -999,9,    -999,9,    -999,9,    -999,   1.791,2,    -999,9,    -999,9, 1278.10,     1741,  37.3713, -68.1556,    -999,     -999,    -999,     -999,9,     -999,9,     -999,9,     -999,9,     -999,9,     -999,9,   4.6363,    -999,9,       -999,9,    -999,9,    -999,9
 316N200310,        A22,      68,          1,         18,         18,2,20031110,       1620,    37.3805,   -68.1838,       4750,  1403.8,   4.2938,  34.9719,2,  34.9721,2,    253.7,2,   256.6,2,   11.12,2,   18.28,2,    0.00,2,    1.19,2,   2.287,2,   1.147,2,   0.122,2,  2165.4,2,  2305.9,2,    -999,9,     -999,9,    -999,9,    -999,9,    -999,9,    -999,   2.351,2,    -999,9,    -999,9, 1403.80,     1737,  37.3717, -68.1568,    -999,     -999,    -999,     -999,9,     -999,9,     -999,9,     -999,9,     -999,9,     -999,9,   4.1792,    -999,9,       -999,9,    -999,9,    -999,9
 316N200310,        A22,      68,          1,         17,         17,2,20031110,       1620,    37.3805,   -68.1838,       4750,  1503.7,   4.1214,  34.9641,2,  34.9654,2,    261.3,2,   260.0,2,   11.22,2,   18.19,2,    0.00,2,    1.18,2,   2.174,2,   1.091,2,   0.110,2,  2164.3,2,  2306.1,2,    -999,9,     -999,9,    -999,9,    -999,9,    -999,9,    -999,   2.343,2,   43.90,2,    -999,9, 1503.70,     1734,  37.3721, -68.1579,    -999,     -999,    -999,   0.1350,2,   0.0940,2,   0.0430,2,   0.0280,2,   0.0190,2,   0.0210,2,   3.9995,    -999,9,       -999,9,    -999,9,    -999,9
 316N200310,        A22,      68,          1,         16,         16,2,20031110,       1620,    37.3805,   -68.1838,       4750,  1628.5,   3.9989,  34.9617,2,  34.9628,2,    262.0,2,   262.4,2,   11.31,2,   18.04,2,    0.00,2,    1.17,2,   1.972,2,   0.961,2,   0.079,2,  2162.0,2,  2308.0,2,    -999,9,     -999,9,    -999,9,    -999,9,    -999,9,    -999,   2.189,2,    -999,9,    -999,9, 1628.50,     1731,  37.3726, -68.1591,    -999,     -999,    -999,     -999,9,     -999,9,     -999,9,     -999,9,     -999,9,     -999,9,   3.8669,    -999,9,       -999,9,    -999,9,    -999,9
 316N200310,        A22,      68,          1,         15,         15,2,20031110,       1620,    37.3805,   -68.1838,       4750,  1778.6,   3.7826,  34.9449,2,  34.9463,2,    265.7,2,   266.9,2,   11.71,2,   17.84,2,    0.00,2,    1.17,2,   2.003,2,   0.972,2,   0.097,2,  2161.6,2,  2304.4,2,    -999,9,     -999,9,    -999,9,    -999,9,    -999,9,    -999,   2.299,2,   43.30,2,    -999,9, 1778.60,     1727,  37.3729, -68.1605,    -999,     -999,    -999,   0.1260,2,   0.0870,2,   0.0400,2,   0.0260,2,   0.0200,2,   0.0210,2,   3.6395,    -999,9,       -999,9,    -999,9,    -999,9
 316N200310,        A22,      68,          1,         14,         14,2,20031110,       1620,    37.3805,   -68.1838,       4750,  1928.3,   3.6839,  34.9417,2,  34.9429,2,    267.9,2,   268.2,2,   12.02,2,   17.84,2,    0.00,2,    1.17,2,   1.869,2,   0.931,2,   0.096,2,  2159.6,2,  2304.6,2,    -999,9,     -999,9,    -999,9,    -999,9,    -999,9,    -999,   2.230,2,    -999,9,    -999,9, 1928.30,     1723,  37.3733, -68.1619,    -999,     -999,    -999,     -999,9,     -999,9,     -999,9,     -999,9,     -999,9,     -999,9,   3.5280,    -999,9,       -999,9,    -999,9,    -999,9
 316N200310,        A22,      68,          1,         13,         13,2,20031110,       1620,    37.3805,   -68.1838,       4750,  2128.4,   3.5596,  34.9379,2,  34.9392,2,    269.5,2,   270.0,2,   12.62,2,   17.80,2,    0.00,2,    1.16,2,   1.740,2,   0.842,2,   0.080,2,  2159.8,2,  2312.8,2,    -999,9,     -999,9,    -999,9,    -999,9,    -999,9,    -999,   2.142,2,   44.80,2,    -999,9, 2128.40,     1719,  37.3738, -68.1634,    -999,     -999,    -999,   0.1360,2,   0.0940,2,   0.0430,2,   0.0280,2,   0.0190,2,   0.0210,2,   3.3863,    -999,9,       -999,9,    -999,9,    -999,9
 316N200310,        A22,      68,          1,         12,         12,2,20031110,       1620,    37.3805,   -68.1838,       4750,  2375.7,   3.4258,  34.9401,2,  34.9390,2,    269.2,2,   269.5,2,   13.84,2,   17.80,2,    0.00,2,    1.17,2,   1.437,2,   0.694,2,   0.059,2,  2160.2,2,  2308.3,2,    -999,9,     -999,9,    -999,9,    -999,9,    -999,9,    -999,   1.869,2,    -999,9,    -999,9, 2375.70,     1713,  37.3744, -68.1653,    -999,     -999,    -999,     -999,9,     -999,9,     -999,9,     -999,9,     -999,9,     -999,9,   3.2306,    -999,9,       -999,9,    -999,9,    -999,9
 316N200310,        A22,      68,          1,         11,         11,2,20031110,       1620,    37.3805,   -68.1838,       4750,  2625.2,   3.2942,  34.9482,2,  34.9488,2,    268.0,2,   266.5,2,   15.98,2,   18.01,2,    0.00,2,    1.19,2,   0.913,2,   0.454,2,   0.021,2,  2161.5,2,  2313.1,2,    -999,9,     -999,9,    -999,9,    -999,9,    -999,9,    -999,   1.378,2,   43.30,2,    -999,9, 2625.20,     1708,  37.3750, -68.1671,    -999,     -999,    -999,   0.1230,2,   0.0860,2,   0.0390,2,   0.0250,2,   0.0200,2,   0.0210,2,   3.0761,    -999,9,       -999,9,    -999,9,    -999,9
 316N200310,        A22,      68,          1,         10,         10,2,20031110,       1620,    37.3805,   -68.1838,       4750,  2876.1,   3.0906,  34.9408,2,  34.9412,2,    267.0,2,   266.8,2,   17.50,2,   17.96,2,    0.00,2,    1.19,2,   0.818,2,   0.408,2,   0.025,2,  2161.5,2,  2314.6,2,    -999,9,     -999,9,    -999,9,    -999,9,    -999,9,    -999,   1.248,2,    -999,9,    -999,9, 2876.10,     1703,  37.3756, -68.1689,    -999,     -999,    -999,     -999,9,     -999,9,     -999,9,     -999,9,     -999,9,     -999,9,   2.8508,    -999,9,       -999,9,    -999,9,    -999,9
 316N200310,        A22,      68,          1,          9,          9,2,20031110,       1620,    37.3805,   -68.1838,       4750,  3100.7,   2.8495,  34.9295,2,  34.9303,2,    268.2,2,   269.0,2,   18.83,2,   17.81,2,    0.00,2,    1.19,2,   0.859,2,   0.438,2,   0.031,2,  2162.1,2,  2315.1,2,    -999,9,     -999,9,    -999,9,    -999,9,    -999,9,    -999,   1.307,2,   43.00,2,    -999,9, 3100.70,     1658,  37.3762, -68.1706,    -999,     -999,    -999,   0.1380,2,   0.0980,2,   0.0460,2,   0.0300,2,   0.0180,2,   0.0190,2,   2.5915,    -999,9,       -999,9,    -999,9,    -999,9
 316N200310,        A22,      68,          1,          8,          8,2,20031110,       1620,    37.3805,   -68.1838,       4750,  3299.0,   2.6610,  34.9188,2,  34.9189,2,    269.9,2,   270.9,2,   19.64,2,   17.57,2,    0.00,2,    1.18,2,   0.995,2,   0.485,2,   0.037,2,  2162.2,2,  2315.3,2,    -999,9,     -999,9,    -999,9,    -999,9,    -999,9,    -999,   1.435,2,    -999,9,    -999,9, 3299.00,     1653,  37.3769, -68.1721,    -999,     -999,    -999,     -999,9,     -999,9,     -999,9,     -999,9,     -999,9,     -999,9,   2.3863,    -999,9,       -999,9,    -999,9,    -999,9
 316N200310,        A22,      68,          1,          7,          7,2,20031110,       1620,    37.3805,   -68.1838,       4750,  3499.7,   2.5022,  34.9091,2,  34.9093,2,    271.7,2,   272.5,2,   20.46,2,   17.47,2,    0.00,2,    1.17,2,   1.174,2,   0.582,2,   0.050,2,  2162.9,2,  2316.3,2,    -999,9,     -999,9,    -999,9,    -999,9,    -999,9,    -999,   1.643,2,   43.70,2,    -999,9, 3499.70,     1649,  37.3775, -68.1736,    -999,     -999,    -999,   0.1350,2,   0.0950,2,   0.0450,2,   0.0290,2,   0.0180,2,   0.0200,2,   2.2098,    -999,9,       -999,9,    -999,9,    -999,9
 316N200310,        A22,      68,          1,          6,          6,2,20031110,       1620,    37.3805,   -68.1838,       4750,  3700.2,   2.3916,  34.9030,2,  34.9032,2,    271.5,2,   271.4,2,   22.93,2,   17.77,2,    0.00,2,    1.19,2,   1.068,2,   0.524,2,   0.050,2,  2166.0,2,  2315.3,2,    -999,9,     -999,9,    -999,9,    -999,9,    -999,9,    -999,   1.507,2,    -999,9,    -999,9, 3700.20,     1645,  37.3780, -68.1751,    -999,     -999,    -999,     -999,9,     -999,9,     -999,9,     -999,9,     -999,9,     -999,9,   2.0800,    -999,9,       -999,9,    -999,9,    -999,9
 316N200310,        A22,      68,          1,          5,          5,2,20031110,       1620,    37.3805,   -68.1838,       4750,  3899.3,   2.3232,  34.8979,2,  34.8973,2,    269.2,2,   270.1,2,   25.29,2,   18.08,2,    0.00,2,    1.22,2,   0.980,2,   0.494,2,   0.046,2,  2170.0,2,  2317.8,2,    -999,9,     -999,9,    -999,9,    -999,9,    -999,9,    -999,   1.416,2,   43.00,2,    -999,9, 3899.30,     1640,  37.3784, -68.1766,    -999,     -999,    -999,   0.1340,2,   0.0940,2,   0.0440,2,   0.0290,2,   0.0180,2,   0.0200,2,   1.9913,    -999,9,       -999,9,    -999,9,    -999,9
 316N200310,        A22,      68,          1,          4,          4,2,20031110,       1620,    37.3805,   -68.1838,       4750,  4124.0,   2.2787,  34.8933,2,  34.8941,2,    268.3,2,    -999,5,   28.27,2,   18.38,2,    0.00,2,    1.25,2,   0.851,2,   0.427,2,   0.038,2,  2172.6,2,  2321.5,2,    -999,9,     -999,9,    -999,9,    -999,9,    -999,9,    -999,   1.274,2,   42.80,2,    -999,9, 4124.00,     1636,  37.3788, -68.1783,    -999,     -999,    -999,   0.1340,2,   0.0940,2,   0.0440,2,   0.0280,2,   0.0190,2,   0.0200,2,   1.9225,    -999,9,       -999,9,    -999,9,    -999,9