BOTTLE,20220517CCHSIOLMM
EXPOCODE,SECT_ID,STNNBR,CASTNO,SAMPNO,BTLNBR,BTLNBR_FLAG_W,DATE,TIME,LATITUDE,LONGITUDE,DEPTH,CTDPRS,CTDTMP,CTDSAL,CTDSAL_FLAG_W,SALNTY,SALNTY_FLAG_W,CTDOXY,CTDOXY_FLAG_W,OXYGEN,OXYGEN_FLAG_W,SILCAT,SILCAT_FLAG_W,NITRAT,NITRAT_FLAG_W,NITRIT,NITRIT_FLAG_W,PHSPHT,PHSPHT_FLAG_W,CFC-11,CFC-11_FLAG_W,CFC-12,CFC-12_FLAG_W,CFC113,CFC113_FLAG_W,TCARBN,TCARBN_FLAG_W,ALKALI,ALKALI_FLAG_W,TRITUM,TRITUM_FLAG_W,HELIUM,HELIUM_FLAG_W,DELHE3,DELHE3_FLAG_W,DELC13,DELC13_FLAG_W,DELC14,DELC14_FLAG_W,C14ERR,CCL4,CCL4_FLAG_W,DOC,DOC_FLAG_W,TDN,TDN_FLAG_W,CTDRAW,BTL_TIME,BTL_LAT,BTL_LON,TRITER,HELIER,DELHER,CDOM325,CDOM325_FLAG_W,CDOM340,CDOM340_FLAG_W,CDOM380,CDOM380_FLAG_W,CDOM412,CDOM412_FLAG_W,CDOMSL,CDOMSL_FLAG_W,CDOMSN,CDOMSN_FLAG_W,THETA,BACT,BACT_FLAG_W,PROC,PROC_FLAG_W,SYN,SYN_FLAG_W,PEUK,PEUK_FLAG_W
,,,,,,,,,,,METERS,DBAR,ITS-90,PSS-78,,PSS-78,,UMOL/KG,,UMOL/KG,,UMOL/KG,,UMOL/KG,,UMOL/KG,,UMOL/KG,,PMOL/KG,,PMOL/KG,,PMOL/KG,,UMOL/KG,,UMOL/KG,,TU,,NMOL/KG,,PERCNT,,/MILLE,,/MILLE,,/MILLE,PMOL/KG,,UMOL/KG,,UMOL/KG,,DBAR,,,,TU,NMOL/KG,PERCNT,1/M,,1/M,,1/M,,1/M,,1/NM,,1/NM,,DEG C,E8/L,,E7/L,,E6/L,,E6/L,
 316N200310,        A22,      29,          1,         27,         27,2,20031030,       0128,    18.8380,   -66.0033,       2524,     2.5,  29.2220,  35.3152,2,  35.3135,2,    195.0,2,   194.0,2,    0.72,2,    0.00,2,    0.00,2,    0.01,2,   1.530,6,   0.944,6,   0.113,6,  1969.8,2,  2321.0,6,    -999,9,     -999,9,    -999,9,    -999,9,    -999,9,    -999,   1.509,2,   70.20,2,    5.10,2,    2.50,      241,  18.8430, -66.0063,    -999,     -999,    -999,     -999,9,     -999,9,     -999,9,     -999,9,     -999,9,     -999,9,  29.2214,    -999,9,       -999,9,    -999,9,    -999,9
 316N200310,        A22,      29,          1,         26,         26,2,20031030,       0128,    18.8380,   -66.0033,       2524,    25.6,  29.2219,  35.3264,2,  35.3212,2,    194.8,2,   193.8,2,    0.72,2,    0.06,2,    0.00,2,    0.01,2,   1.518,2,   0.954,2,   0.112,2,  1971.1,2,  2320.5,2,    -999,9,     -999,9,    -999,9,    -999,9,    -999,9,    -999,    -999,9,   69.80,2,    5.10,2,   25.60,      240,  18.8429, -66.0062,    -999,     -999,    -999,     -999,9,     -999,9,     -999,9,     -999,9,     -999,9,     -999,9,  29.2157,    -999,9,       -999,9,    -999,9,    -999,9
 316N200310,        A22,      29,          1,         25,         25,2,20031030,       0128,    18.8380,   -66.0033,       2524,    50.4,  28.7307,  36.4201,2,  36.4075,2,    202.5,2,   201.4,2,    0.82,2,    0.05,2,    0.00,2,    0.01,2,   1.611,6,   0.977,6,   0.132,6,  2017.1,2,  2385.6,2,    -999,9,     -999,9,    -999,9,    -999,9,    -999,9,    -999,    -999,9,   74.50,2,    4.40,2,   50.40,      238,  18.8429, -66.0062,    -999,     -999,    -999,     -999,9,     -999,9,     -999,9,     -999,9,     -999,9,     -999,9,  28.7185,    -999,9,       -999,9,    -999,9,    -999,9
 316N200310,        A22,      29,          1,         24,         24,2,20031030,       0128,    18.8380,   -66.0033,       2524,    75.4,  26.5024,  36.9247,2,  36.9256,2,    197.7,2,   199.2,2,    0.72,2,    0.09,2,    0.01,2,    0.01,2,   1.725,2,   1.062,2,   0.138,2,  2053.5,2,  2416.1,2,    -999,9,     -999,9,    -999,9,    -999,9,    -999,9,    -999,    -999,9,   70.40,2,    4.60,2,   75.40,      236,  18.8428, -66.0061,    -999,     -999,    -999,     -999,9,     -999,9,     -999,9,     -999,9,     -999,9,     -999,9,  26.4852,    -999,9,       -999,9,    -999,9,    -999,9
 316N200310,        A22,      29,          1,         23,         23,2,20031030,       0128,    18.8380,   -66.0033,       2524,   100.9,  25.7684,  37.0881,2,  37.0853,2,    198.7,2,   197.4,2,    0.53,2,    0.20,2,    0.10,2,    0.02,2,   1.768,2,   1.089,2,   0.147,2,  2066.5,2,  2424.0,2,    -999,9,     -999,9,    -999,9,    -999,9,    -999,9,    -999,    -999,9,   69.90,2,    4.40,2,  100.90,      234,  18.8428, -66.0061,    -999,     -999,    -999,     -999,9,     -999,9,     -999,9,     -999,9,     -999,9,     -999,9,  25.7459,    -999,9,       -999,9,    -999,9,    -999,9
 316N200310,        A22,      29,          1,         22,         22,2,20031030,       0128,    18.8380,   -66.0033,       2524,   125.1,  24.8146,  37.2279,2,  37.2260,2,    189.2,2,   189.1,2,    0.43,2,    0.79,2,    0.05,2,    0.04,2,   1.838,2,   1.138,2,   0.132,2,  2091.2,2,  2432.0,2,    -999,9,     -999,9,    -999,9,    -999,9,    -999,9,    -999,    -999,9,    -999,9,    -999,9,  125.10,      233,  18.8428, -66.0061,    -999,     -999,    -999,     -999,9,     -999,9,     -999,9,     -999,9,     -999,9,     -999,9,  24.7874,    -999,9,       -999,9,    -999,9,    -999,9
 316N200310,        A22,      29,          1,         21,         21,2,20031030,       0128,    18.8380,   -66.0033,       2524,   150.0,  23.3625,  37.2175,2,  37.2063,2,    186.4,2,   184.6,2,    0.33,2,    0.91,2,    0.03,2,    0.05,2,   1.950,2,   1.172,2,   0.109,2,  2108.8,2,  2436.8,2,    -999,9,     -999,9,    -999,9,    -999,9,    -999,9,    -999,    -999,9,   58.60,2,    5.30,2,  150.00,      231,  18.8428, -66.0060,    -999,     -999,    -999,     -999,9,     -999,9,     -999,9,     -999,9,     -999,9,     -999,9,  23.3312,    -999,9,       -999,9,    -999,9,    -999,9
 316N200310,        A22,      29,          1,         20,         20,2,20031030,       0128,    18.8380,   -66.0033,       2524,   175.7,  21.4448,  37.0532,2,  37.0309,2,    180.1,2,   179.7,2,    0.33,2,    1.61,2,    0.01,2,    0.07,2,   2.092,2,   1.238,2,   0.057,2,  2119.6,2,  2424.9,2,    -999,9,     -999,9,    -999,9,    -999,9,    -999,9,    -999,    -999,9,   53.20,2,    -999,9,  175.70,      230,  18.8428, -66.0060,    -999,     -999,    -999,     -999,9,     -999,9,     -999,9,     -999,9,     -999,9,     -999,9,  21.4104,    -999,9,       -999,9,    -999,9,    -999,9
 316N200310,        A22,      29,          1,         19,         19,2,20031030,       0128,    18.8380,   -66.0033,       2524,   225.5,  19.7825,  36.7969,2,  36.7921,2,    176.2,2,   177.0,2,    0.72,2,    3.29,2,    0.01,2,    0.15,2,   2.182,2,   1.279,2,   0.019,2,  2122.0,2,  2404.7,2,    -999,9,     -999,9,    -999,9,    -999,9,    -999,9,    -999,    -999,9,   51.70,2,    6.90,2,  225.50,      228,  18.8428, -66.0059,    -999,     -999,    -999,     -999,9,     -999,9,     -999,9,     -999,9,     -999,9,     -999,9,  19.7407,    -999,9,       -999,9,    -999,9,    -999,9
 316N200310,        A22,      29,          1,         18,         18,2,20031030,       0128,    18.8380,   -66.0033,       2524,   275.7,  18.4043,  36.5884,2,  36.5852,2,    177.1,2,   180.1,2,    1.22,2,    5.26,2,    0.01,2,    0.26,2,   2.275,2,   1.294,2,   0.022,2,  2121.1,2,  2386.7,2,    -999,9,     -999,9,    -999,9,    -999,9,    -999,9,    -999,    -999,9,    -999,9,    -999,9,  275.70,      226,  18.8428, -66.0058,    -999,     -999,    -999,     -999,9,     -999,9,     -999,9,     -999,9,     -999,9,     -999,9,  18.3556,    -999,9,       -999,9,    -999,9,    -999,9
 316N200310,        A22,      29,          1,         17,         17,2,20031030,       0128,    18.8380,   -66.0033,       2524,   351.1,  16.9514,  36.3535,2,  36.3560,2,    178.9,2,   178.3,2,    2.01,2,    7.93,2,    0.01,2,    0.43,2,   2.249,2,   1.249,2,   0.032,2,  2127.6,2,  2373.2,2,    -999,9,     -999,9,    -999,9,    -999,9,    -999,9,    -999,    -999,9,   46.90,2,    -999,9,  351.10,      224,  18.8427, -66.0058,    -999,     -999,    -999,     -999,9,     -999,9,     -999,9,     -999,9,     -999,9,     -999,9,  16.8927,    -999,9,       -999,9,    -999,9,    -999,9
 316N200310,        A22,      29,          1,         16,         16,2,20031030,       0128,    18.8380,   -66.0033,       2524,   450.6,  14.7202,  35.9679,2,  35.9667,2,    151.9,2,   150.9,2,    4.59,2,   14.34,2,    0.01,2,    0.84,2,   1.963,2,   1.043,2,   0.022,2,  2157.3,2,  2353.1,2,    -999,9,     -999,9,    -999,9,    -999,9,    -999,9,    -999,    -999,9,    -999,9,    -999,9,  450.60,      222,  18.8426, -66.0057,    -999,     -999,    -999,     -999,9,     -999,9,     -999,9,     -999,9,     -999,9,     -999,9,  14.6517,    -999,9,       -999,9,    -999,9,    -999,9
 316N200310,        A22,      29,          1,         15,         15,2,20031030,       0128,    18.8380,   -66.0033,       2524,   551.2,  11.9611,  35.5362,2,  35.5375,2,    141.1,2,   140.6,2,    8.46,2,   20.11,2,    0.01,2,    1.22,2,   1.359,2,   0.706,2,   0.019,2,  2175.8,2,  2333.3,3,    -999,9,     -999,9,    -999,9,    -999,9,    -999,9,    -999,    -999,9,   43.40,2,    -999,9,  551.20,      219,  18.8425, -66.0058,    -999,     -999,    -999,     -999,9,     -999,9,     -999,9,     -999,9,     -999,9,     -999,9,  11.8879,    -999,9,       -999,9,    -999,9,    -999,9
 316N200310,        A22,      29,          1,         14,         14,2,20031030,       0128,    18.8380,   -66.0033,       2524,   675.5,   9.3474,  35.1840,2,  35.1835,2,    131.4,2,   133.9,2,   14.15,2,   25.53,2,    0.01,2,    1.61,2,   0.636,2,   0.334,2,   0.011,2,  2194.9,2,  2319.0,2,    -999,9,     -999,9,    -999,9,    -999,9,    -999,9,    -999,    -999,9,    -999,9,    -999,9,  675.50,      216,  18.8422, -66.0059,    -999,     -999,    -999,     -999,9,     -999,9,     -999,9,     -999,9,     -999,9,     -999,9,   9.2701,    -999,9,       -999,9,    -999,9,    -999,9
 316N200310,        A22,      29,          1,         13,         13,2,20031030,       0128,    18.8380,   -66.0033,       2524,   825.6,   7.7567,  35.0293,2,  35.0287,2,    138.6,2,   138.8,2,   17.85,2,   27.65,2,    0.01,2,    1.78,2,   0.358,2,   0.173,2,   0.009,2,  2201.3,2,  2315.4,2,    -999,9,     -999,9,    -999,9,    -999,9,    -999,9,    -999,    -999,9,   40.50,2,    -999,9,  825.60,      213,  18.8418, -66.0061,    -999,     -999,    -999,     -999,9,     -999,9,     -999,9,     -999,9,     -999,9,     -999,9,   7.6712,    -999,9,       -999,9,    -999,9,    -999,9
 316N200310,        A22,      29,          1,         12,         12,2,20031030,       0128,    18.8380,   -66.0033,       2524,   975.5,   6.3384,  35.0244,2,  35.0236,2,    176.1,2,   176.2,2,   17.34,2,   24.62,2,    0.01,2,    1.61,2,   0.397,2,   0.199,2,   0.009,2,  2193.1,2,  2317.8,2,    -999,9,     -999,9,    -999,9,    -999,9,    -999,9,    -999,    -999,9,    -999,9,    -999,9,  975.50,      209,  18.8414, -66.0062,    -999,     -999,    -999,     -999,9,     -999,9,     -999,9,     -999,9,     -999,9,     -999,9,   6.2466,    -999,9,       -999,9,    -999,9,    -999,9
 316N200310,        A22,      29,          1,         11,         11,2,20031030,       0128,    18.8380,   -66.0033,       2524,  1125.8,   5.3263,  35.0366,2,  35.0360,2,    216.7,2,   216.2,2,   14.75,2,   20.94,2,    0.01,2,    1.38,2,   0.762,2,   0.377,2,   0.035,2,  2179.3,2,  2316.1,2,    -999,9,     -999,9,    -999,9,    -999,9,    -999,9,    -999,    -999,9,   43.40,2,    -999,9, 1125.80,      206,  18.8410, -66.0063,    -999,     -999,    -999,     -999,9,     -999,9,     -999,9,     -999,9,     -999,9,     -999,9,   5.2278,    -999,9,       -999,9,    -999,9,    -999,9
 316N200310,        A22,      29,          1,         10,         10,2,20031030,       0128,    18.8380,   -66.0033,       2524,  1274.3,   4.9141,  35.0359,2,  35.0356,2,    234.1,2,   233.4,2,   13.45,2,   19.41,2,    0.01,2,    1.28,2,   0.948,2,   0.476,2,   0.043,2,  2170.4,2,  2314.5,2,    -999,9,     -999,9,    -999,9,    -999,9,    -999,9,    -999,    -999,9,    -999,9,    -999,9, 1274.30,      202,  18.8405, -66.0061,    -999,     -999,    -999,     -999,9,     -999,9,     -999,9,     -999,9,     -999,9,     -999,9,   4.8052,    -999,9,       -999,9,    -999,9,    -999,9
 316N200310,        A22,      29,          1,          9,          9,2,20031030,       0128,    18.8380,   -66.0033,       2524,  1400.3,   4.5561,  35.0187,2,  35.0177,2,    245.2,2,   244.4,2,   12.95,2,   18.71,2,    0.01,2,    1.24,2,   1.065,2,   0.532,2,   0.047,2,  2166.2,2,  2312.0,2,    -999,9,     -999,9,    -999,9,    -999,9,    -999,9,    -999,    -999,9,    -999,9,    -999,9, 1400.30,      159,  18.8400, -66.0060,    -999,     -999,    -999,     -999,9,     -999,9,     -999,9,     -999,9,     -999,9,     -999,9,   4.4390,    -999,9,       -999,9,    -999,9,    -999,9
 316N200310,        A22,      29,          1,          8,          8,2,20031030,       0128,    18.8380,   -66.0033,       2524,  1499.8,   4.2461,  35.0015,2,  35.0028,2,    253.0,2,   253.4,2,   12.65,2,   18.20,2,    0.01,2,    1.20,2,   1.153,2,   0.557,2,   0.045,2,  2164.8,2,  2311.0,2,    -999,9,     -999,9,    -999,9,    -999,9,    -999,9,    -999,    -999,9,   43.20,2,    -999,9, 1499.80,      157,  18.8395, -66.0058,    -999,     -999,    -999,     -999,9,     -999,9,     -999,9,     -999,9,     -999,9,     -999,9,   4.1230,    -999,9,       -999,9,    -999,9,    -999,9
 316N200310,        A22,      29,          1,          7,          7,2,20031030,       0128,    18.8380,   -66.0033,       2524,  1600.3,   4.0260,  34.9871,2,  34.9866,2,    257.2,2,   257.9,2,   12.95,2,   17.95,2,    0.01,2,    1.19,2,   1.125,2,   0.549,2,   0.045,2,  2164.4,2,  2308.8,2,    -999,9,     -999,9,    -999,9,    -999,9,    -999,9,    -999,    -999,9,    -999,9,    -999,9, 1600.30,      154,  18.8391, -66.0055,    -999,     -999,    -999,     -999,9,     -999,9,     -999,9,     -999,9,     -999,9,     -999,9,   3.8962,    -999,9,       -999,9,    -999,9,    -999,9
 316N200310,        A22,      29,          1,          6,          6,2,20031030,       0128,    18.8380,   -66.0033,       2524,  1699.7,   3.8862,  34.9785,2,  34.9776,2,    259.6,2,   260.9,2,   13.25,2,   17.85,2,    0.01,2,    1.19,2,   1.095,2,   0.535,2,   0.045,2,  2162.8,2,  2314.5,2,    -999,9,     -999,9,    -999,9,    -999,9,    -999,9,    -999,    -999,9,   42.40,2,    -999,9, 1699.70,      151,  18.8388, -66.0051,    -999,     -999,    -999,     -999,9,     -999,9,     -999,9,     -999,9,     -999,9,     -999,9,   3.7489,    -999,9,       -999,9,    -999,9,    -999,9
 316N200310,        A22,      29,          1,          5,          5,2,20031030,       0128,    18.8380,   -66.0033,       2524,  1824.2,   3.7880,  34.9731,2,  34.9738,2,    260.7,2,   261.4,2,   13.65,2,   17.86,2,    0.00,2,    1.19,2,   1.059,2,   0.518,2,   0.050,2,  2163.1,2,  2315.3,2,    -999,9,     -999,9,    -999,9,    -999,9,    -999,9,    -999,    -999,9,    -999,9,    -999,9, 1824.20,      149,  18.8385, -66.0046,    -999,     -999,    -999,     -999,9,     -999,9,     -999,9,     -999,9,     -999,9,     -999,9,   3.6404,    -999,9,       -999,9,    -999,9,    -999,9
 316N200310,        A22,      29,          1,          4,          4,2,20031030,       0128,    18.8380,   -66.0033,       2524,  1975.3,   3.7050,  34.9718,2,  34.9721,2,    261.6,2,   261.9,2,   14.25,2,   17.86,2,    0.00,2,    1.19,2,   0.934,2,   0.459,2,   0.039,2,  2163.3,2,  2315.1,2,    -999,9,     -999,9,    -999,9,    -999,9,    -999,9,    -999,    -999,9,    -999,9,    -999,9, 1975.30,      143,  18.8383, -66.0041,    -999,     -999,    -999,     -999,9,     -999,9,     -999,9,     -999,9,     -999,9,     -999,9,   3.5442,    -999,9,       -999,9,    -999,9,    -999,9
 316N200310,        A22,      29,          1,          3,          3,2,20031030,       0128,    18.8380,   -66.0033,       2524,  2151.1,   3.5850,  34.9681,2,  34.9687,2,    262.3,2,   262.5,2,   15.15,2,   17.91,2,    0.00,2,    1.19,2,   0.818,2,   0.398,2,   0.033,2,  2162.8,2,  2311.9,2,    -999,9,     -999,9,    -999,9,    -999,9,    -999,9,    -999,    -999,9,   43.20,2,    -999,9, 2151.10,      139,  18.8383, -66.0038,    -999,     -999,    -999,     -999,9,     -999,9,     -999,9,     -999,9,     -999,9,     -999,9,   3.4091,    -999,9,       -999,9,    -999,9,    -999,9
 316N200310,        A22,      29,          1,          2,          2,2,20031030,       0128,    18.8380,   -66.0033,       2524,  2375.9,   3.4699,  34.9653,2,  34.9650,2,    262.2,2,   262.2,2,   16.35,2,   18.02,2,    0.00,2,    1.20,2,   0.667,2,   0.328,2,   0.025,2,  2163.6,2,  2313.0,2,    -999,9,     -999,9,    -999,9,    -999,9,    -999,9,    -999,    -999,9,    -999,9,    -999,9, 2375.90,      133,  18.8381, -66.0036,    -999,     -999,    -999,     -999,9,     -999,9,     -999,9,     -999,9,     -999,9,     -999,9,   3.2737,    -999,9,       -999,9,    -999,9,    -999,9
 316N200310,        A22,      29,          1,          1,          1,2,20031030,       0128,    18.8380,   -66.0033,       2524,  2532.5,   3.3843,  34.9619,2,  34.9644,2,    262.2,2,   262.3,2,   17.15,2,   18.07,2,    0.00,2,    1.22,2,   0.602,2,   0.303,2,   0.032,2,  2160.7,2,  2314.3,6,    -999,9,     -999,9,    -999,9,    -999,9,    -999,9,    -999,    -999,9,   41.50,2,    -999,9, 2532.50,      129,  18.8380, -66.0034,    -999,     -999,    -999,     -999,9,     -999,9,     -999,9,     -999,9,     -999,9,     -999,9,   3.1739,    -999,9,       -999,9,    -999,9,    -999,9