BOTTLE,20220517CCHSIOLMM
EXPOCODE,SECT_ID,STNNBR,CASTNO,SAMPNO,BTLNBR,BTLNBR_FLAG_W,DATE,TIME,LATITUDE,LONGITUDE,DEPTH,CTDPRS,CTDTMP,CTDSAL,CTDSAL_FLAG_W,SALNTY,SALNTY_FLAG_W,CTDOXY,CTDOXY_FLAG_W,OXYGEN,OXYGEN_FLAG_W,SILCAT,SILCAT_FLAG_W,NITRAT,NITRAT_FLAG_W,NITRIT,NITRIT_FLAG_W,PHSPHT,PHSPHT_FLAG_W,CFC-11,CFC-11_FLAG_W,CFC-12,CFC-12_FLAG_W,CFC113,CFC113_FLAG_W,TCARBN,TCARBN_FLAG_W,ALKALI,ALKALI_FLAG_W,TRITUM,TRITUM_FLAG_W,HELIUM,HELIUM_FLAG_W,DELHE3,DELHE3_FLAG_W,DELC13,DELC13_FLAG_W,DELC14,DELC14_FLAG_W,C14ERR,CCL4,CCL4_FLAG_W,DOC,DOC_FLAG_W,TDN,TDN_FLAG_W,CTDRAW,BTL_TIME,BTL_LAT,BTL_LON,TRITER,HELIER,DELHER,CDOM325,CDOM325_FLAG_W,CDOM340,CDOM340_FLAG_W,CDOM380,CDOM380_FLAG_W,CDOM412,CDOM412_FLAG_W,CDOMSL,CDOMSL_FLAG_W,CDOMSN,CDOMSN_FLAG_W,THETA,BACT,BACT_FLAG_W,PROC,PROC_FLAG_W,SYN,SYN_FLAG_W,PEUK,PEUK_FLAG_W
,,,,,,,,,,,METERS,DBAR,ITS-90,PSS-78,,PSS-78,,UMOL/KG,,UMOL/KG,,UMOL/KG,,UMOL/KG,,UMOL/KG,,UMOL/KG,,PMOL/KG,,PMOL/KG,,PMOL/KG,,UMOL/KG,,UMOL/KG,,TU,,NMOL/KG,,PERCNT,,/MILLE,,/MILLE,,/MILLE,PMOL/KG,,UMOL/KG,,UMOL/KG,,DBAR,,,,TU,NMOL/KG,PERCNT,1/M,,1/M,,1/M,,1/M,,1/NM,,1/NM,,DEG C,E8/L,,E7/L,,E6/L,,E6/L,
 316N200310,        A22,      80,          1,         16,         16,2,20031112,       1930,    39.8575,   -69.9322,       1173,     2.8,  14.1287,  33.3145,2,  33.3342,2,    271.7,2,   261.4,2,    1.15,2,    0.44,2,    0.04,2,    0.27,2,   2.941,2,   1.672,2,   0.211,2,  2006.8,2,  2239.9,2,    -999,9,     -999,9,    -999,9,    -999,9,    -999,9,    -999,   3.000,2,   68.00,2,    6.00,2,    2.80,     2005,  39.8560, -69.9306,    -999,     -999,    -999,     -999,9,     -999,9,     -999,9,     -999,9,     -999,9,     -999,9,  14.1283,    -999,9,       -999,9,    -999,9,    -999,9
 316N200310,        A22,      80,          1,         15,         15,2,20031112,       1930,    39.8575,   -69.9322,       1173,    25.1,  14.7655,  33.6821,2,  33.7421,2,    249.1,2,   247.3,2,    1.24,2,    0.97,2,    0.10,2,    0.28,2,   2.823,6,   1.593,6,   0.193,6,  2024.0,2,  2258.9,2,    -999,9,     -999,9,    -999,9,    -999,9,    -999,9,    -999,   2.812,6,   67.10,2,    5.60,2,   25.10,     2004,  39.8561, -69.9308,    -999,     -999,    -999,     -999,9,     -999,9,     -999,9,     -999,9,     -999,9,     -999,9,  14.7618,    -999,9,       -999,9,    -999,9,    -999,9
 316N200310,        A22,      80,          1,         14,         14,2,20031112,       1930,    39.8575,   -69.9322,       1173,    50.2,  14.2785,  34.5610,2,  34.5936,2,    211.4,2,   208.3,2,    4.27,2,    7.02,2,    0.07,2,    0.59,2,   2.885,2,   1.604,2,   0.170,2,  2094.5,2,  2297.4,2,    -999,9,     -999,9,    -999,9,    -999,9,    -999,9,    -999,   1.649,2,   59.40,2,   11.20,2,   50.20,     2002,  39.8561, -69.9309,    -999,     -999,    -999,     -999,9,     -999,9,     -999,9,     -999,9,     -999,9,     -999,9,  14.2712,    -999,9,       -999,9,    -999,9,    -999,9
 316N200310,        A22,      80,          1,         13,         13,2,20031112,       1930,    39.8575,   -69.9322,       1173,    75.7,  14.7838,  35.4287,2,  35.4342,2,    179.6,2,   178.7,2,    3.85,2,    9.71,2,    0.04,2,    0.65,2,   2.558,2,   1.425,2,   0.116,2,  2130.0,2,  2334.4,2,    -999,9,     -999,9,    -999,9,    -999,9,    -999,9,    -999,   0.817,2,   53.70,2,   13.10,2,   75.70,     2001,  39.8562, -69.9310,    -999,     -999,    -999,     -999,9,     -999,9,     -999,9,     -999,9,     -999,9,     -999,9,  14.7724,    -999,9,       -999,9,    -999,9,    -999,9
 316N200310,        A22,      80,          1,         12,         12,2,20031112,       1930,    39.8575,   -69.9322,       1173,    99.7,  14.2821,  35.5936,2,  35.5928,2,    168.0,2,   168.9,2,    4.35,2,   12.00,2,    0.02,2,    0.75,2,   2.403,2,   1.324,2,   0.102,2,  2141.5,2,  2340.5,2,    -999,9,     -999,9,    -999,9,    -999,9,    -999,9,    -999,   0.658,2,   52.80,2,   15.60,2,   99.70,     1959,  39.8561, -69.9312,    -999,     -999,    -999,     -999,9,     -999,9,     -999,9,     -999,9,     -999,9,     -999,9,  14.2675,    -999,9,       -999,9,    -999,9,    -999,9
 316N200310,        A22,      80,          1,         11,         11,2,20031112,       1930,    39.8575,   -69.9322,       1173,   123.3,  13.4202,  35.5573,2,  35.5504,2,    168.3,2,   170.0,2,    5.56,2,   13.81,2,    0.01,2,    0.87,2,   2.347,6,   1.303,6,   0.112,6,  2147.5,2,  2339.6,2,    -999,9,     -999,9,    -999,9,    -999,9,    -999,9,    -999,   0.652,2,   52.50,2,   16.80,2,  123.30,     1958,  39.8561, -69.9312,    -999,     -999,    -999,     -999,9,     -999,9,     -999,9,     -999,9,     -999,9,     -999,9,  13.4029,    -999,9,       -999,9,    -999,9,    -999,9
 316N200310,        A22,      80,          1,         10,         10,2,20031112,       1930,    39.8575,   -69.9322,       1173,   150.9,  12.8095,  35.5162,2,  35.5170,2,    168.8,2,   170.7,2,    6.36,2,   14.86,2,    0.01,2,    0.94,2,   2.228,2,   1.223,2,   0.093,2,  2151.6,2,  2334.6,2,    -999,9,     -999,9,    -999,9,    -999,9,    -999,9,    -999,   0.658,2,   49.10,2,   17.60,2,  150.90,     1957,  39.8561, -69.9312,    -999,     -999,    -999,     -999,9,     -999,9,     -999,9,     -999,9,     -999,9,     -999,9,  12.7889,    -999,9,       -999,9,    -999,9,    -999,9
 316N200310,        A22,      80,          1,          9,          9,2,20031112,       1930,    39.8575,   -69.9322,       1173,   200.4,  12.3594,  35.5258,2,  35.5229,2,    166.0,2,   169.1,2,    6.86,2,   16.36,2,    0.01,2,    1.02,2,   2.039,2,   1.107,2,   0.079,2,  2157.1,2,    -999,9,    -999,9,     -999,9,    -999,9,    -999,9,    -999,9,    -999,   0.605,2,   47.50,2,    9.10,4,  200.40,     1955,  39.8562, -69.9313,    -999,     -999,    -999,     -999,9,     -999,9,     -999,9,     -999,9,     -999,9,     -999,9,  12.3326,    -999,9,       -999,9,    -999,9,    -999,9
 316N200310,        A22,      80,          1,          8,          8,2,20031112,       1930,    39.8575,   -69.9322,       1173,   250.3,  10.7727,  35.3604,2,  35.3530,2,    154.3,2,   151.1,2,   10.61,2,   20.78,2,    0.01,2,    1.31,2,   1.538,2,   0.806,2,   0.041,2,  2177.5,2,  2327.6,2,    -999,9,     -999,9,    -999,9,    -999,9,    -999,9,    -999,   0.544,2,   45.50,2,   24.40,2,  250.30,     1953,  39.8563, -69.9313,    -999,     -999,    -999,     -999,9,     -999,9,     -999,9,     -999,9,     -999,9,     -999,9,  10.7420,    -999,9,       -999,9,    -999,9,    -999,9
 316N200310,        A22,      80,          1,          7,          7,2,20031112,       1930,    39.8575,   -69.9322,       1173,   300.2,   9.3154,  35.2312,2,  35.2312,2,    149.7,2,   145.3,2,   12.95,2,   23.56,2,    0.01,2,    1.50,2,   1.165,2,   0.591,2,   0.032,2,  2189.8,2,  2319.4,2,    -999,9,     -999,9,    -999,9,    -999,9,    -999,9,    -999,   0.533,2,   44.60,2,   27.20,2,  300.20,     1951,  39.8564, -69.9314,    -999,     -999,    -999,     -999,9,     -999,9,     -999,9,     -999,9,     -999,9,     -999,9,   9.2817,    -999,9,       -999,9,    -999,9,    -999,9
 316N200310,        A22,      80,          1,          6,          6,2,20031112,       1930,    39.8575,   -69.9322,       1173,   400.6,   7.5136,  35.1035,2,  35.1014,2,    167.0,2,   169.2,2,   13.56,2,   23.22,2,    0.01,2,    1.50,2,   1.337,2,   0.654,2,   0.049,2,  2189.1,2,    -999,9,    -999,9,     -999,9,    -999,9,    -999,9,    -999,9,    -999,   0.975,2,   45.30,2,    -999,9,  400.60,     1948,  39.8566, -69.9316,    -999,     -999,    -999,     -999,9,     -999,9,     -999,9,     -999,9,     -999,9,     -999,9,   7.4739,    -999,9,       -999,9,    -999,9,    -999,9
 316N200310,        A22,      80,          1,          5,          5,2,20031112,       1930,    39.8575,   -69.9322,       1173,   500.4,   6.1149,  35.0247,2,  35.0242,2,    197.8,2,   199.9,2,   12.83,2,   21.36,2,    0.02,2,    1.41,2,   1.886,2,   0.925,2,   0.097,2,  2182.2,2,  2313.2,2,    -999,9,     -999,9,    -999,9,    -999,9,    -999,9,    -999,   1.660,2,   43.00,2,    -999,9,  500.40,     1946,  39.8568, -69.9317,    -999,     -999,    -999,     -999,9,     -999,9,     -999,9,     -999,9,     -999,9,     -999,9,   6.0703,    -999,9,       -999,9,    -999,9,    -999,9
 316N200310,        A22,      80,          1,          4,          4,2,20031112,       1930,    39.8575,   -69.9322,       1173,   619.9,   5.1642,  34.9824,2,  34.9809,2,    222.2,2,   228.1,2,   12.01,2,   19.61,2,    0.01,2,    1.31,2,   2.316,2,   1.152,2,   0.130,2,  2173.1,2,  2309.8,2,    -999,9,     -999,9,    -999,9,    -999,9,    -999,9,    -999,   2.242,2,    -999,9,    -999,9,  619.90,     1943,  39.8569, -69.9318,    -999,     -999,    -999,     -999,9,     -999,9,     -999,9,     -999,9,     -999,9,     -999,9,   5.1130,    -999,9,       -999,9,    -999,9,    -999,9
 316N200310,        A22,      80,          1,          3,          3,2,20031112,       1930,    39.8575,   -69.9322,       1173,   749.7,   4.7349,  34.9690,2,  34.9683,2,    244.4,2,   241.8,2,   11.49,2,   18.80,2,    0.02,2,    1.25,2,   2.467,2,   1.229,2,   0.148,2,  2168.8,2,  2308.9,2,    -999,9,     -999,9,    -999,9,    -999,9,    -999,9,    -999,   2.468,2,   44.80,2,    -999,9,  749.70,     1939,  39.8571, -69.9318,    -999,     -999,    -999,     -999,9,     -999,9,     -999,9,     -999,9,     -999,9,     -999,9,   4.6747,    -999,9,       -999,9,    -999,9,    -999,9
 316N200310,        A22,      80,          1,          2,          2,2,20031112,       1930,    39.8575,   -69.9322,       1173,   900.3,   4.3539,  34.9584,2,  34.9589,2,    256.3,2,   253.4,2,   11.28,2,   18.16,2,    0.01,2,    1.20,2,   2.521,2,   1.248,2,   0.155,2,  2165.9,2,  2308.2,2,    -999,9,     -999,9,    -999,9,    -999,9,    -999,9,    -999,   2.631,2,    -999,9,    -999,9,  900.30,     1936,  39.8573, -69.9320,    -999,     -999,    -999,     -999,9,     -999,9,     -999,9,     -999,9,     -999,9,     -999,9,   4.2834,    -999,9,       -999,9,    -999,9,    -999,9
 316N200310,        A22,      80,          1,          1,          1,2,20031112,       1930,    39.8575,   -69.9322,       1173,  1153.8,   3.9487,  34.9462,2,  34.9473,2,    263.4,2,   263.9,2,   11.48,2,   17.78,2,    0.00,2,    1.24,2,   2.366,2,   1.167,2,   0.148,2,  2161.1,2,  2308.1,2,    -999,9,     -999,9,    -999,9,    -999,9,    -999,9,    -999,   2.584,2,   45.60,2,    -999,9, 1153.80,     1931,  39.8575, -69.9322,    -999,     -999,    -999,     -999,9,     -999,9,     -999,9,     -999,9,     -999,9,     -999,9,   3.8597,    -999,9,       -999,9,    -999,9,    -999,9
 316N200310,        A22,      81,          1,         14,         14,2,20031112,       2119,    39.8968,   -69.9303,        717,     4.2,  13.7266,  33.1558,2,  33.1915,2,    208.1,2,   261.9,2,    1.62,2,    0.48,2,    0.08,2,    0.29,2,   3.119,2,   1.777,2,   0.259,2,  2004.0,2,  2227.0,2,    -999,9,     -999,9,    -999,9,    -999,9,    -999,9,    -999,    -999,9,    -999,9,    -999,9,    4.20,     2143,  39.8961, -69.9292,    -999,     -999,    -999,     -999,9,     -999,9,     -999,9,     -999,9,     -999,9,     -999,9,  13.7261,    -999,9,       -999,9,    -999,9,    -999,9
 316N200310,        A22,      81,          1,         13,         13,2,20031112,       2119,    39.8968,   -69.9303,        717,    25.7,  14.8322,  33.6593,2,  33.8838,2,    246.6,2,   242.2,2,    1.31,2,    1.03,2,    0.17,2,    0.26,2,    -999,9,    -999,9,    -999,9,    -999,9,    -999,9,    -999,9,     -999,9,    -999,9,    -999,9,    -999,9,    -999,    -999,9,    -999,9,    -999,9,   25.70,     2142,  39.8961, -69.9293,    -999,     -999,    -999,     -999,9,     -999,9,     -999,9,     -999,9,     -999,9,     -999,9,  14.8284,    -999,9,       -999,9,    -999,9,    -999,9
 316N200310,        A22,      81,          1,         12,         12,2,20031112,       2119,    39.8968,   -69.9303,        717,    50.8,  13.8662,  34.4728,2,  34.4921,2,    207.1,2,   208.2,2,    4.74,2,    7.23,2,    0.04,2,    0.60,2,    -999,9,    -999,9,    -999,9,    -999,9,    -999,9,    -999,9,     -999,9,    -999,9,    -999,9,    -999,9,    -999,    -999,9,    -999,9,    -999,9,   50.80,     2140,  39.8961, -69.9294,    -999,     -999,    -999,     -999,9,     -999,9,     -999,9,     -999,9,     -999,9,     -999,9,  13.8589,    -999,9,       -999,9,    -999,9,    -999,9
 316N200310,        A22,      81,          1,         11,         11,2,20031112,       2119,    39.8968,   -69.9303,        717,    75.2,  14.6177,  35.3599,2,  35.3725,2,    178.2,2,   178.2,2,    4.43,2,    9.72,2,    0.04,2,    0.65,2,   2.705,2,   1.513,2,   0.166,2,    -999,9,    -999,9,    -999,9,     -999,9,    -999,9,    -999,9,    -999,9,    -999,    -999,9,    -999,9,    -999,9,   75.20,     2139,  39.8961, -69.9295,    -999,     -999,    -999,     -999,9,     -999,9,     -999,9,     -999,9,     -999,9,     -999,9,  14.6066,    -999,9,       -999,9,    -999,9,    -999,9
 316N200310,        A22,      81,          1,         10,         10,2,20031112,       2119,    39.8968,   -69.9303,        717,   100.5,  14.0935,  35.6109,2,  35.6084,2,    165.9,2,   167.6,2,    4.92,2,   12.46,2,    0.03,2,    0.78,2,   2.399,2,   1.335,2,   0.106,2,    -999,9,    -999,9,    -999,9,     -999,9,    -999,9,    -999,9,    -999,9,    -999,    -999,9,    -999,9,    -999,9,  100.50,     2138,  39.8962, -69.9295,    -999,     -999,    -999,     -999,9,     -999,9,     -999,9,     -999,9,     -999,9,     -999,9,  14.0789,    -999,9,       -999,9,    -999,9,    -999,9
 316N200310,        A22,      81,          1,          9,          9,2,20031112,       2119,    39.8968,   -69.9303,        717,   125.8,  13.4377,  35.5589,2,  35.5565,2,    165.8,2,   168.3,2,    5.82,2,   13.47,2,    0.03,2,    0.84,2,   2.324,6,   1.288,6,   0.098,6,    -999,9,    -999,9,    -999,9,     -999,9,    -999,9,    -999,9,    -999,9,    -999,   0.647,2,    -999,9,    -999,9,  125.80,     2137,  39.8962, -69.9296,    -999,     -999,    -999,     -999,9,     -999,9,     -999,9,     -999,9,     -999,9,     -999,9,  13.4200,    -999,9,       -999,9,    -999,9,    -999,9
 316N200310,        A22,      81,          1,          8,          8,2,20031112,       2119,    39.8968,   -69.9303,        717,   151.0,  13.1338,  35.5759,2,  35.5715,2,    165.6,2,   168.2,2,    6.11,2,   14.44,2,    0.02,2,    0.89,2,   2.273,2,   1.268,2,   0.098,2,    -999,9,    -999,9,    -999,9,     -999,9,    -999,9,    -999,9,    -999,9,    -999,    -999,9,    -999,9,    -999,9,  151.00,     2136,  39.8962, -69.9297,    -999,     -999,    -999,     -999,9,     -999,9,     -999,9,     -999,9,     -999,9,     -999,9,  13.1128,    -999,9,       -999,9,    -999,9,    -999,9
 316N200310,        A22,      81,          1,          7,          7,2,20031112,       2119,    39.8968,   -69.9303,        717,   200.3,  11.9196,  35.4712,2,  35.4734,2,    163.6,2,   163.1,2,    8.23,2,   17.40,2,    0.02,2,    1.07,2,   1.956,2,   1.094,2,   0.090,2,    -999,9,    -999,9,    -999,9,     -999,9,    -999,9,    -999,9,    -999,9,    -999,    -999,9,    -999,9,    -999,9,  200.30,     2134,  39.8963, -69.9297,    -999,     -999,    -999,     -999,9,     -999,9,     -999,9,     -999,9,     -999,9,     -999,9,  11.8935,    -999,9,       -999,9,    -999,9,    -999,9
 316N200310,        A22,      81,          1,          6,          6,2,20031112,       2119,    39.8968,   -69.9303,        717,   250.6,  10.8111,  35.3709,2,  35.3709,2,    149.9,2,   144.2,2,   10.87,2,   21.35,2,    0.02,2,    1.32,2,   1.396,2,   0.761,2,   0.039,2,    -999,9,    -999,9,    -999,9,     -999,9,    -999,9,    -999,9,    -999,9,    -999,    -999,9,    -999,9,    -999,9,  250.60,     2132,  39.8965, -69.9297,    -999,     -999,    -999,     -999,9,     -999,9,     -999,9,     -999,9,     -999,9,     -999,9,  10.7803,    -999,9,       -999,9,    -999,9,    -999,9
 316N200310,        A22,      81,          1,          5,          5,2,20031112,       2119,    39.8968,   -69.9303,        717,   301.0,   9.5007,  35.2478,2,  35.2440,2,    146.6,2,   145.2,2,   12.90,2,   23.18,2,    0.03,2,    1.47,2,   1.189,2,   0.647,2,   0.034,2,    -999,9,    -999,9,    -999,9,     -999,9,    -999,9,    -999,9,    -999,9,    -999,    -999,9,    -999,9,    -999,9,  301.00,     2130,  39.8965, -69.9298,    -999,     -999,    -999,     -999,9,     -999,9,     -999,9,     -999,9,     -999,9,     -999,9,   9.4666,    -999,9,       -999,9,    -999,9,    -999,9
 316N200310,        A22,      81,          1,          4,          4,2,20031112,       2119,    39.8968,   -69.9303,        717,   400.7,   7.1457,  35.0816,2,  35.0801,2,    174.1,2,   176.5,2,   13.60,2,   22.53,2,    0.02,2,    1.45,2,   1.494,2,   0.779,2,   0.062,2,    -999,9,    -999,9,    -999,9,     -999,9,    -999,9,    -999,9,    -999,9,    -999,    -999,9,    -999,9,    -999,9,  400.70,     2128,  39.8966, -69.9299,    -999,     -999,    -999,     -999,9,     -999,9,     -999,9,     -999,9,     -999,9,     -999,9,   7.1071,    -999,9,       -999,9,    -999,9,    -999,9
 316N200310,        A22,      81,          1,          3,          3,2,20031112,       2119,    39.8968,   -69.9303,        717,   500.9,   5.7646,  35.0064,2,  35.0065,2,    206.9,2,   208.5,2,   12.67,2,   20.69,2,    0.03,2,    1.35,2,   2.119,2,   1.087,2,   0.131,2,    -999,9,    -999,9,    -999,9,     -999,9,    -999,9,    -999,9,    -999,9,    -999,    -999,9,    -999,9,    -999,9,  500.90,     2125,  39.8966, -69.9301,    -999,     -999,    -999,     -999,9,     -999,9,     -999,9,     -999,9,     -999,9,     -999,9,   5.7213,    -999,9,       -999,9,    -999,9,    -999,9
 316N200310,        A22,      81,          1,          2,          2,2,20031112,       2119,    39.8968,   -69.9303,        717,   615.7,   5.0583,  34.9786,2,  34.9791,2,    228.9,2,   230.5,2,   12.06,2,   19.37,2,    0.04,2,    1.27,2,   2.395,2,   1.222,2,   0.152,2,    -999,9,    -999,9,    -999,9,     -999,9,    -999,9,    -999,9,    -999,9,    -999,    -999,9,    -999,9,    -999,9,  615.70,     2122,  39.8967, -69.9301,    -999,     -999,    -999,     -999,9,     -999,9,     -999,9,     -999,9,     -999,9,     -999,9,   5.0080,    -999,9,       -999,9,    -999,9,    -999,9
 316N200310,        A22,      81,          1,          1,          1,2,20031112,       2119,    39.8968,   -69.9303,        717,   732.0,   4.5655,  34.9636,2,  34.9675,2,    244.6,2,   245.2,2,   11.73,2,   18.41,2,    0.03,2,    1.21,2,   2.565,2,   1.303,2,   0.155,2,    -999,9,    -999,9,    -999,9,     -999,9,    -999,9,    -999,9,    -999,9,    -999,    -999,9,    -999,9,    -999,9,  732.00,     2119,  39.8968, -69.9303,    -999,     -999,    -999,     -999,9,     -999,9,     -999,9,     -999,9,     -999,9,     -999,9,   4.5078,    -999,9,       -999,9,    -999,9,    -999,9