BOTTLE,20220517CCHSIOLMM
EXPOCODE,SECT_ID,STNNBR,CASTNO,SAMPNO,BTLNBR,BTLNBR_FLAG_W,DATE,TIME,LATITUDE,LONGITUDE,DEPTH,CTDPRS,CTDTMP,CTDSAL,CTDSAL_FLAG_W,SALNTY,SALNTY_FLAG_W,CTDOXY,CTDOXY_FLAG_W,OXYGEN,OXYGEN_FLAG_W,SILCAT,SILCAT_FLAG_W,NITRAT,NITRAT_FLAG_W,NITRIT,NITRIT_FLAG_W,PHSPHT,PHSPHT_FLAG_W,CFC-11,CFC-11_FLAG_W,CFC-12,CFC-12_FLAG_W,CFC113,CFC113_FLAG_W,TCARBN,TCARBN_FLAG_W,ALKALI,ALKALI_FLAG_W,TRITUM,TRITUM_FLAG_W,HELIUM,HELIUM_FLAG_W,DELHE3,DELHE3_FLAG_W,DELC13,DELC13_FLAG_W,DELC14,DELC14_FLAG_W,C14ERR,CCL4,CCL4_FLAG_W,DOC,DOC_FLAG_W,TDN,TDN_FLAG_W,CTDRAW,BTL_TIME,BTL_LAT,BTL_LON,TRITER,HELIER,DELHER,CDOM325,CDOM325_FLAG_W,CDOM340,CDOM340_FLAG_W,CDOM380,CDOM380_FLAG_W,CDOM412,CDOM412_FLAG_W,CDOMSL,CDOMSL_FLAG_W,CDOMSN,CDOMSN_FLAG_W,THETA,BACT,BACT_FLAG_W,PROC,PROC_FLAG_W,SYN,SYN_FLAG_W,PEUK,PEUK_FLAG_W
,,,,,,,,,,,METERS,DBAR,ITS-90,PSS-78,,PSS-78,,UMOL/KG,,UMOL/KG,,UMOL/KG,,UMOL/KG,,UMOL/KG,,UMOL/KG,,PMOL/KG,,PMOL/KG,,PMOL/KG,,UMOL/KG,,UMOL/KG,,TU,,NMOL/KG,,PERCNT,,/MILLE,,/MILLE,,/MILLE,PMOL/KG,,UMOL/KG,,UMOL/KG,,DBAR,,,,TU,NMOL/KG,PERCNT,1/M,,1/M,,1/M,,1/M,,1/NM,,1/NM,,DEG C,E8/L,,E7/L,,E6/L,,E6/L,
 316N200310,        A22,      14,          1,         36,         36,2,20031027,       0654,    15.7037,   -66.0158,       4615,     2.9,  29.4524,  33.9932,2,  33.9929,2,    195.2,2,   193.9,2,    3.60,2,    0.06,2,    0.00,2,    0.01,2,   1.521,2,   0.936,2,   0.124,2,  1907.7,2,  2240.0,6,    -999,9,     -999,9,    -999,9,    -999,9,    -999,9,    -999,    -999,9,   80.10,2,    5.80,3,    2.90,      855,  15.7298, -66.0221,    -999,     -999,    -999,   0.2590,2,   0.1790,2,   0.0750,2,   0.0410,2,   0.0210,2,   0.0220,2,  29.4517,    4.78,2,      15.05,2,    7.58,2,    2.44,2
 316N200310,        A22,      14,          1,         35,         35,2,20031027,       0654,    15.7037,   -66.0158,       4615,    24.8,  29.7926,  34.4930,2,  34.6549,2,    194.4,2,   197.5,2,    1.89,2,    0.05,2,    0.00,2,    0.01,2,   1.510,2,   0.946,2,   0.124,2,  1938.7,2,  2282.7,4,    -999,9,     -999,9,    -999,9,    -999,9,    -999,9,    -999,    -999,9,   77.50,2,    5.50,2,   24.80,      854,  15.7295, -66.0220,    -999,     -999,    -999,   0.1520,2,   0.1030,2,   0.0420,2,   0.0250,2,   0.0220,2,   0.0240,2,  29.7865,    4.99,2,      14.66,2,    2.52,2,    1.04,2
 316N200310,        A22,      14,          1,         34,         34,2,20031027,       0654,    15.7037,   -66.0158,       4615,    50.6,  28.2321,  35.9939,2,  35.9923,2,    203.2,2,   201.8,2,    0.98,2,    0.00,2,    0.00,2,    0.02,2,   1.627,2,   0.995,2,   0.127,2,  1977.6,2,  2357.1,4,    -999,9,     -999,9,    -999,9,    -999,9,    -999,9,    -999,    -999,9,   70.60,2,    5.00,2,   50.60,      852,  15.7292, -66.0220,    -999,     -999,    -999,   0.1710,2,   0.1200,2,   0.0540,2,   0.0360,2,   0.0180,2,   0.0200,2,  28.2201,    4.74,2,      20.10,2,    2.90,2,    1.28,2
 316N200310,        A22,      14,          1,         33,         33,2,20031027,       0654,    15.7037,   -66.0158,       4615,    75.2,  27.1487,  36.2934,2,  36.2978,2,    194.3,2,   193.6,2,    0.68,2,   -0.01,2,    0.01,2,    0.03,2,   1.611,6,   1.011,6,   0.104,6,  2013.7,2,  2375.5,4,    -999,9,     -999,9,    -999,9,    -999,9,    -999,9,    -999,   0.569,2,   69.40,2,    3.40,2,   75.20,      851,  15.7289, -66.0220,    -999,     -999,    -999,   0.1600,2,   0.1160,2,   0.0560,2,   0.0400,2,   0.0150,2,   0.0180,2,  27.1314,    3.98,2,      14.38,2,   11.59,2,    1.79,2
 316N200310,        A22,      14,          1,         32,         32,2,20031027,       0654,    15.7037,   -66.0158,       4615,    99.9,  26.4731,  36.5009,2,  36.5123,2,    182.6,2,   183.2,2,    0.68,2,    0.35,2,    0.09,2,    0.06,2,   1.669,2,   1.022,2,   0.137,2,  2051.2,2,  2386.5,2,    -999,9,     -999,9,    -999,9,    -999,9,    -999,9,    -999,    -999,9,   65.40,2,    4.70,2,   99.90,      849,  15.7285, -66.0219,    -999,     -999,    -999,   0.1500,2,   0.1110,2,   0.0570,2,   0.0430,2,   0.0140,2,   0.0160,2,  26.4504,    3.43,2,       3.89,2,    0.52,2,    1.11,2
 316N200310,        A22,      14,          1,         31,         31,2,20031027,       0654,    15.7037,   -66.0158,       4615,   125.6,  25.4997,  36.7984,2,  36.8060,2,    180.1,2,   175.8,2,    0.89,2,    1.60,2,    0.05,2,    0.11,2,   1.698,2,   1.046,2,   0.147,2,  2079.0,2,  2403.5,2,    -999,9,     -999,9,    -999,9,    -999,9,    -999,9,    -999,    -999,9,   62.50,2,    5.90,2,  125.60,      848,  15.7282, -66.0219,    -999,     -999,    -999,   0.1390,2,   0.1010,2,   0.0500,2,   0.0370,2,   0.0150,2,   0.0170,2,  25.4719,    1.91,2,       1.15,2,    0.00,2,    0.49,2
 316N200310,        A22,      14,          1,         30,         30,2,20031027,       0654,    15.7037,   -66.0158,       4615,   150.3,  24.5283,  37.1857,2,  37.1928,2,    189.5,2,   186.3,2,    0.38,2,    1.11,2,    0.08,2,    0.08,2,   1.761,2,   1.075,2,   0.128,2,  2094.6,2,  2437.4,2,    -999,9,     -999,9,    -999,9,    -999,9,    -999,9,    -999,    -999,9,   66.60,3,    7.80,3,  150.30,      846,  15.7279, -66.0219,    -999,     -999,    -999,   0.1360,2,   0.1000,2,   0.0500,2,   0.0360,2,   0.0150,2,   0.0170,2,  24.4958,    1.91,2,       0.47,2,    0.03,2,    0.20,2
 316N200310,        A22,      14,          1,         29,         29,2,20031027,       0654,    15.7037,   -66.0158,       4615,   200.3,  19.8824,  36.6821,2,  36.6796,2,    146.9,2,   149.9,2,    2.09,2,    7.34,2,    0.01,2,    0.42,2,   2.016,6,   1.164,6,   0.030,6,  2145.2,2,  2402.8,2,    -999,9,     -999,9,    -999,9,    -999,9,    -999,9,    -999,    -999,9,   53.00,2,   12.00,2,  200.30,      844,  15.7274, -66.0219,    -999,     -999,    -999,   0.1400,2,   0.1040,2,   0.0540,2,   0.0400,2,   0.0140,2,   0.0160,2,  19.8451,    1.15,2,       0.00,2,    0.00,2,    0.11,2
 316N200310,        A22,      14,          1,         28,         28,2,20031027,       0654,    15.7037,   -66.0158,       4615,   250.1,  17.6272,  36.3638,2,  36.3617,2,    143.7,2,   147.2,2,    3.20,2,   10.61,2,    0.01,2,    0.61,2,   2.045,2,   1.154,2,   0.016,2,  2151.9,2,  2376.0,2,    -999,9,     -999,9,    -999,9,    -999,9,    -999,9,    -999,    -999,9,   53.60,2,   13.50,2,  250.10,      842,  15.7271, -66.0218,    -999,     -999,    -999,   0.1280,2,   0.0950,2,   0.0490,2,   0.0370,2,   0.0140,2,   0.0160,2,  17.5844,    -999,9,       -999,9,    -999,9,    -999,9
 316N200310,        A22,      14,          1,         27,         27,2,20031027,       0654,    15.7037,   -66.0158,       4615,   300.1,  15.5965,  36.0329,2,  36.0315,2,    140.3,2,   140.6,2,    4.91,2,   14.43,2,    0.01,2,    0.86,2,   1.929,2,   1.081,2,   0.018,2,  2162.4,2,  2358.8,2,    -999,9,     -999,9,    -999,9,    -999,9,    -999,9,    -999,    -999,9,   50.40,2,   17.70,2,  300.10,      841,  15.7268, -66.0217,    -999,     -999,    -999,   0.1490,2,   0.1110,2,   0.0600,2,   0.0460,2,   0.0130,2,   0.0140,2,  15.5493,    -999,9,       -999,9,    -999,9,    -999,9
 316N200310,        A22,      14,          1,         26,         26,2,20031027,       0654,    15.7037,   -66.0158,       4615,   400.9,  12.8148,  35.5330,2,  35.5312,2,    128.5,2,   128.1,2,    8.33,2,   20.39,2,    0.01,2,    1.27,2,   1.583,2,   0.858,2,   0.010,2,  2180.0,2,  2332.3,6,    -999,9,     -999,9,    -999,9,    -999,9,    -999,9,    -999,    -999,9,   44.60,2,    -999,9,  400.90,      838,  15.7263, -66.0217,    -999,     -999,    -999,   0.1440,2,   0.1070,2,   0.0590,2,   0.0450,2,   0.0130,2,   0.0140,2,  12.7595,    -999,9,       -999,9,    -999,9,    -999,9
 316N200310,        A22,      14,          1,         25,         25,2,20031027,       0654,    15.7037,   -66.0158,       4615,   499.6,  10.4118,  35.1726,2,  35.1731,2,    121.3,2,   120.6,2,   12.35,2,   25.53,2,    0.00,2,    1.62,2,   1.105,2,   0.580,2,   0.019,2,  2194.1,2,  2316.2,2,    -999,9,     -999,9,    -999,9,    -999,9,    -999,9,    -999,    -999,9,   44.90,2,    -999,9,  499.60,      835,  15.7258, -66.0216,    -999,     -999,    -999,   0.1530,2,   0.1130,2,   0.0640,2,   0.0490,2,   0.0120,2,   0.0140,2,  10.3513,    -999,9,       -999,9,    -999,9,    -999,9
 316N200310,        A22,      14,          1,         24,         24,2,20031027,       0654,    15.7037,   -66.0158,       4615,   600.8,   8.4185,  34.9271,2,  34.9284,2,    120.6,2,   121.4,2,   16.89,2,   29.32,2,    0.00,2,    1.89,2,   0.625,2,   0.337,2,   0.013,2,  2206.6,2,  2307.5,2,    -999,9,     -999,9,    -999,9,    -999,9,    -999,9,    -999,    -999,9,   44.80,2,    -999,9,  600.80,      833,  15.7253, -66.0217,    -999,     -999,    -999,   0.1400,2,   0.1020,2,   0.0580,2,   0.0440,2,   0.0120,2,   0.0140,2,   8.3544,    -999,9,       -999,9,    -999,9,    -999,9
 316N200310,        A22,      14,          1,         23,         23,2,20031027,       0654,    15.7037,   -66.0158,       4615,   701.5,   7.0018,  34.7868,2,  34.7864,2,    125.3,2,   125.7,2,   21.22,2,   31.53,2,    0.00,2,    2.08,2,   0.312,2,   0.182,2,   0.009,2,  2212.4,2,  2304.0,2,    -999,9,     -999,9,    -999,9,    -999,9,    -999,9,    -999,    -999,9,   42.30,2,    -999,9,  701.50,      830,  15.7247, -66.0216,    -999,     -999,    -999,   0.1470,2,   0.1080,2,   0.0620,2,   0.0470,2,   0.0120,2,   0.0140,2,   6.9339,    -999,9,       -999,9,    -999,9,    -999,9
 316N200310,        A22,      14,          1,         22,         22,2,20031027,       0654,    15.7037,   -66.0158,       4615,   752.7,   6.7475,  34.7739,2,  34.7736,2,    128.1,2,   127.6,2,   22.03,2,   31.73,2,    0.00,2,    2.10,2,   0.265,2,   0.134,2,   0.001,2,  2211.0,2,  2304.9,2,    -999,9,     -999,9,    -999,9,    -999,9,    -999,9,    -999,    -999,9,    -999,9,    -999,9,  752.70,      828,  15.7243, -66.0216,    -999,     -999,    -999,     -999,9,     -999,9,     -999,9,     -999,9,     -999,9,     -999,9,   6.6759,    -999,9,       -999,9,    -999,9,    -999,9
 316N200310,        A22,      14,          1,         21,         21,2,20031027,       0654,    15.7037,   -66.0158,       4615,   803.1,   6.5377,  34.7729,2,  34.7732,2,    131.0,2,   130.7,2,   22.74,2,   31.73,2,    0.00,2,    2.10,2,   0.216,2,   0.119,2,   0.016,2,  2213.6,2,  2304.4,2,    -999,9,     -999,9,    -999,9,    -999,9,    -999,9,    -999,    -999,9,   42.80,2,    -999,9,  803.10,      826,  15.7240, -66.0215,    -999,     -999,    -999,   0.1350,2,   0.0970,2,   0.0540,2,   0.0410,2,   0.0130,2,   0.0150,2,   6.4622,    -999,9,       -999,9,    -999,9,    -999,9
 316N200310,        A22,      14,          1,         20,         20,2,20031027,       0654,    15.7037,   -66.0158,       4615,   904.7,   5.9311,  34.8204,2,  34.8224,2,    144.9,2,   145.9,2,   23.74,2,   30.13,2,    0.00,2,    2.01,2,   0.124,2,   0.081,2,   0.008,2,  2196.5,2,  2309.6,2,    -999,9,     -999,9,    -999,9,    -999,9,    -999,9,    -999,    -999,9,    -999,9,    -999,9,  904.70,      823,  15.7234, -66.0212,    -999,     -999,    -999,     -999,9,     -999,9,     -999,9,     -999,9,     -999,9,     -999,9,   5.8495,    -999,9,       -999,9,    -999,9,    -999,9
 316N200310,        A22,      14,          1,         19,         19,2,20031027,       0654,    15.7037,   -66.0158,       4615,  1004.3,   5.4471,  34.9151,2,  34.9158,2,    169.1,2,   171.0,2,   23.64,2,   26.74,2,    0.00,2,    1.80,2,   0.097,2,   0.059,2,   0.007,2,  2186.5,2,  2320.9,4,    -999,9,     -999,9,    -999,9,    -999,9,    -999,9,    -999,    -999,9,   43.40,2,    -999,9, 1004.30,      819,  15.7228, -66.0207,    -999,     -999,    -999,   0.1490,2,   0.1080,2,   0.0580,2,   0.0420,2,   0.0140,2,   0.0150,2,   5.3593,    -999,9,       -999,9,    -999,9,    -999,9
 316N200310,        A22,      14,          1,         18,         18,2,20031027,       0654,    15.7037,   -66.0158,       4615,  1154.8,   4.8141,  34.9540,2,  34.9547,2,    193.9,2,   193.9,2,   23.84,2,   24.24,2,    0.00,2,    1.64,2,   0.083,2,   0.054,2,   0.009,4,  2179.7,2,  2327.0,4,    -999,9,     -999,9,    -999,9,    -999,9,    -999,9,    -999,    -999,9,    -999,9,    -999,9, 1154.80,      816,  15.7220, -66.0201,    -999,     -999,    -999,     -999,9,     -999,9,     -999,9,     -999,9,     -999,9,     -999,9,   4.7174,    -999,9,       -999,9,    -999,9,    -999,9
 316N200310,        A22,      14,          1,         17,         17,2,20031027,       0654,    15.7037,   -66.0158,       4615,  1302.2,   4.4924,  34.9652,2,  34.9648,2,    202.9,2,   203.5,2,   24.65,2,   23.27,2,    0.00,2,    1.58,2,   0.045,6,   0.033,6,   0.001,6,  2169.9,2,  2331.1,4,    -999,9,     -999,9,    -999,9,    -999,9,    -999,9,    -999,    -999,9,   41.90,2,    -999,9, 1302.20,      812,  15.7211, -66.0199,    -999,     -999,    -999,   0.1620,2,   0.1170,2,   0.0620,2,   0.0440,2,   0.0140,2,   0.0160,2,   4.3851,    -999,9,       -999,9,    -999,9,    -999,9
 316N200310,        A22,      14,          1,         16,         16,2,20031027,       0654,    15.7037,   -66.0158,       4615,  1452.7,   4.3060,  34.9681,2,  34.9689,2,    206.9,2,   206.6,2,   26.16,2,   22.91,2,    0.00,2,    1.55,2,   0.043,2,   0.028,2,   0.002,2,  2177.1,3,  2334.3,4,    -999,9,     -999,9,    -999,9,    -999,9,    -999,9,    -999,    -999,9,    -999,9,    -999,9, 1452.70,      808,  15.7202, -66.0196,    -999,     -999,    -999,     -999,9,     -999,9,     -999,9,     -999,9,     -999,9,     -999,9,   4.1867,    -999,9,       -999,9,    -999,9,    -999,9
 316N200310,        A22,      14,          1,         15,         15,2,20031027,       0654,    15.7037,   -66.0158,       4615,  1601.1,   4.2210,  34.9715,2,  34.9719,2,    210.7,2,   210.9,2,   26.16,2,   22.60,2,    0.00,2,    1.53,2,   0.051,2,   0.034,2,   0.001,2,  2196.9,2,  2329.2,2,    -999,9,     -999,9,    -999,9,    -999,9,    -999,9,    -999,    -999,9,   41.90,2,    -999,9, 1601.10,      804,  15.7193, -66.0193,    -999,     -999,    -999,   0.1640,2,   0.1220,2,   0.0660,2,   0.0480,2,   0.0130,2,   0.0150,2,   4.0888,    -999,9,       -999,9,    -999,9,    -999,9
 316N200310,        A22,      14,          1,         14,         14,2,20031027,       0654,    15.7037,   -66.0158,       4615,  1750.6,   4.1761,  34.9743,2,  34.9746,2,    211.5,2,   215.9,3,   25.36,2,   22.09,2,    0.00,2,    1.49,2,   0.140,2,   0.083,2,   0.012,2,  2192.8,2,  2329.2,2,    -999,9,     -999,9,    -999,9,    -999,9,    -999,9,    -999,    -999,9,    -999,9,    -999,9, 1750.60,      801,  15.7184, -66.0192,    -999,     -999,    -999,     -999,9,     -999,9,     -999,9,     -999,9,     -999,9,     -999,9,   4.0303,    -999,9,       -999,9,    -999,9,    -999,9
 316N200310,        A22,      14,          1,         13,         13,2,20031027,       0654,    15.7037,   -66.0158,       4615,  1901.3,   4.1353,  34.9743,2,  34.9748,2,    213.4,2,   213.4,2,   26.97,2,   22.29,2,    0.00,2,    1.51,2,   0.050,2,   0.027,2,   0.004,2,  2197.1,2,  2331.8,2,    -999,9,     -999,9,    -999,9,    -999,9,    -999,9,    -999,    -999,9,   40.80,2,    -999,9, 1901.30,      757,  15.7175, -66.0191,    -999,     -999,    -999,   0.1620,2,   0.1190,2,   0.0650,2,   0.0470,2,   0.0130,2,   0.0150,2,   3.9755,    -999,9,       -999,9,    -999,9,    -999,9
 316N200310,        A22,      14,          1,         12,         12,2,20031027,       0654,    15.7037,   -66.0158,       4615,  2103.1,   4.1190,  34.9751,2,  34.9746,2,    215.0,2,   214.7,2,   27.17,2,   22.24,2,    0.00,2,    1.50,2,   0.048,2,   0.033,2,   0.005,2,  2196.4,2,  2332.9,2,    -999,9,     -999,9,    -999,9,    -999,9,    -999,9,    -999,    -999,9,    -999,9,    -999,9, 2103.10,      753,  15.7164, -66.0190,    -999,     -999,    -999,     -999,9,     -999,9,     -999,9,     -999,9,     -999,9,     -999,9,   3.9395,    -999,9,       -999,9,    -999,9,    -999,9
 316N200310,        A22,      14,          1,         11,         11,2,20031027,       0654,    15.7037,   -66.0158,       4615,  2301.1,   4.1149,  34.9757,2,  34.9750,2,    215.3,2,   214.7,2,   27.58,2,   22.13,2,    0.00,2,    1.50,2,   0.027,2,   0.017,2,   0.001,2,  2197.9,2,  2334.4,2,    -999,9,     -999,9,    -999,9,    -999,9,    -999,9,    -999,    -999,9,    -999,9,    -999,9, 2301.10,      748,  15.7153, -66.0190,    -999,     -999,    -999,     -999,9,     -999,9,     -999,9,     -999,9,     -999,9,     -999,9,   3.9153,    -999,9,       -999,9,    -999,9,    -999,9
 316N200310,        A22,      14,          1,         10,         10,2,20031027,       0654,    15.7037,   -66.0158,       4615,  2553.2,   4.1265,  34.9760,2,  34.9756,2,    215.2,2,   214.9,2,   27.98,2,   22.08,2,    0.00,2,    1.50,2,   0.028,2,   0.022,2,   0.006,2,  2198.2,2,  2335.2,2,    -999,9,     -999,9,    -999,9,    -999,9,    -999,9,    -999,    -999,9,   40.90,2,    -999,9, 2553.20,      743,  15.7141, -66.0190,    -999,     -999,    -999,   0.1510,2,   0.1100,2,   0.0570,2,   0.0390,2,   0.0150,2,   0.0170,2,   3.9003,    -999,9,       -999,9,    -999,9,    -999,9
 316N200310,        A22,      14,          1,          9,          9,2,20031027,       0654,    15.7037,   -66.0158,       4615,  2802.1,   4.1442,  34.9762,2,  34.9760,2,    215.2,2,   215.7,2,   27.98,2,   22.02,2,    0.00,2,    1.49,2,   0.029,2,   0.020,2,   0.003,2,  2198.6,2,  2335.2,2,    -999,9,     -999,9,    -999,9,    -999,9,    -999,9,    -999,    -999,9,    -999,9,    -999,9, 2802.10,      737,  15.7129, -66.0190,    -999,     -999,    -999,     -999,9,     -999,9,     -999,9,     -999,9,     -999,9,     -999,9,   3.8908,    -999,9,       -999,9,    -999,9,    -999,9
 316N200310,        A22,      14,          1,          8,          8,2,20031027,       0654,    15.7037,   -66.0158,       4615,  3052.5,   4.1673,  34.9763,2,  34.9776,2,    215.3,2,   215.7,2,   27.98,2,   21.97,2,    0.00,2,    1.49,2,   0.026,2,   0.017,2,   0.002,2,  2197.7,2,  2338.0,2,    -999,9,     -999,9,    -999,9,    -999,9,    -999,9,    -999,    -999,9,   40.60,2,    -999,9, 3052.50,      732,  15.7117, -66.0190,    -999,     -999,    -999,   0.1470,2,   0.1070,2,   0.0550,2,   0.0380,2,   0.0150,2,   0.0170,2,   3.8855,    -999,9,       -999,9,    -999,9,    -999,9
 316N200310,        A22,      14,          1,          7,          7,2,20031027,       0654,    15.7037,   -66.0158,       4615,  3303.3,   4.1928,  34.9766,2,  34.9766,2,    215.5,2,   215.8,2,   28.09,2,   22.02,2,    0.00,2,    1.49,2,    -999,9,    -999,9,    -999,9,  2198.0,2,  2342.3,2,    -999,9,     -999,9,    -999,9,    -999,9,    -999,9,    -999,    -999,9,    -999,9,    -999,9, 3303.30,      726,  15.7106, -66.0191,    -999,     -999,    -999,     -999,9,     -999,9,     -999,9,     -999,9,     -999,9,     -999,9,   3.8817,    -999,9,       -999,9,    -999,9,    -999,9
 316N200310,        A22,      14,          1,          6,          6,2,20031027,       0654,    15.7037,   -66.0158,       4615,  3550.3,   4.2198,  34.9768,2,  34.9764,2,    215.5,2,   215.6,2,   28.28,2,   22.01,2,    0.00,2,    1.49,2,   0.033,2,   0.038,2,   0.005,2,  2198.3,2,  2341.8,2,    -999,9,     -999,9,    -999,9,    -999,9,    -999,9,    -999,    -999,9,   40.30,2,    -999,9, 3550.30,      720,  15.7094, -66.0192,    -999,     -999,    -999,   0.1410,2,   0.1020,2,   0.0520,2,   0.0350,2,   0.0150,2,   0.0170,2,   3.8789,    -999,9,       -999,9,    -999,9,    -999,9
 316N200310,        A22,      14,          1,          5,          5,2,20031027,       0654,    15.7037,   -66.0158,       4615,  3800.6,   4.2490,  34.9770,2,  34.9764,2,    215.7,2,   215.9,2,   28.28,2,   21.96,2,    0.00,2,    1.49,2,   0.027,2,   0.021,2,   0.001,2,  2198.2,2,  2343.3,2,    -999,9,     -999,9,    -999,9,    -999,9,    -999,9,    -999,    -999,9,    -999,9,    -999,9, 3800.60,      715,  15.7081, -66.0189,    -999,     -999,    -999,     -999,9,     -999,9,     -999,9,     -999,9,     -999,9,     -999,9,   3.8770,    -999,9,       -999,9,    -999,9,    -999,9