BOTTLE,20220517CCHSIOLMM
EXPOCODE,SECT_ID,STNNBR,CASTNO,SAMPNO,BTLNBR,BTLNBR_FLAG_W,DATE,TIME,LATITUDE,LONGITUDE,DEPTH,CTDPRS,CTDTMP,CTDSAL,CTDSAL_FLAG_W,SALNTY,SALNTY_FLAG_W,CTDOXY,CTDOXY_FLAG_W,OXYGEN,OXYGEN_FLAG_W,SILCAT,SILCAT_FLAG_W,NITRAT,NITRAT_FLAG_W,NITRIT,NITRIT_FLAG_W,PHSPHT,PHSPHT_FLAG_W,CFC-11,CFC-11_FLAG_W,CFC-12,CFC-12_FLAG_W,CFC113,CFC113_FLAG_W,TCARBN,TCARBN_FLAG_W,ALKALI,ALKALI_FLAG_W,TRITUM,TRITUM_FLAG_W,HELIUM,HELIUM_FLAG_W,DELHE3,DELHE3_FLAG_W,DELC13,DELC13_FLAG_W,DELC14,DELC14_FLAG_W,C14ERR,CCL4,CCL4_FLAG_W,DOC,DOC_FLAG_W,TDN,TDN_FLAG_W,CTDRAW,BTL_TIME,BTL_LAT,BTL_LON,TRITER,HELIER,DELHER,CDOM325,CDOM325_FLAG_W,CDOM340,CDOM340_FLAG_W,CDOM380,CDOM380_FLAG_W,CDOM412,CDOM412_FLAG_W,CDOMSL,CDOMSL_FLAG_W,CDOMSN,CDOMSN_FLAG_W,THETA,BACT,BACT_FLAG_W,PROC,PROC_FLAG_W,SYN,SYN_FLAG_W,PEUK,PEUK_FLAG_W
,,,,,,,,,,,METERS,DBAR,ITS-90,PSS-78,,PSS-78,,UMOL/KG,,UMOL/KG,,UMOL/KG,,UMOL/KG,,UMOL/KG,,UMOL/KG,,PMOL/KG,,PMOL/KG,,PMOL/KG,,UMOL/KG,,UMOL/KG,,TU,,NMOL/KG,,PERCNT,,/MILLE,,/MILLE,,/MILLE,PMOL/KG,,UMOL/KG,,UMOL/KG,,DBAR,,,,TU,NMOL/KG,PERCNT,1/M,,1/M,,1/M,,1/M,,1/NM,,1/NM,,DEG C,E8/L,,E7/L,,E6/L,,E6/L,
 316N200310,        A22,      43,          1,          4,          4,2,20031102,       1943,    24.8875,   -65.9972,       5541,  4999.8,   2.1294,  34.8666,2,  34.8664,2,    253.4,2,   253.9,2,   46.73,2,   21.46,2,    0.01,2,    1.45,2,   0.093,2,   0.059,2,   0.007,2,    -999,9,    -999,9,    -999,9,     -999,9,    -999,9,    -999,9,    -999,9,    -999,    -999,9,    -999,9,    -999,9, 4999.80,     1958,  24.8893, -65.9978,    -999,     -999,    -999,     -999,9,     -999,9,     -999,9,     -999,9,     -999,9,     -999,9,   1.6726,    -999,9,       -999,9,    -999,9,    -999,9
 316N200310,        A22,      43,          1,          3,          3,2,20031102,       1943,    24.8875,   -65.9972,       5541,  5248.7,   2.0714,  34.8553,2,  34.8548,2,    250.2,2,   250.2,2,   52.18,2,   22.17,2,    0.01,2,    1.51,2,   0.062,2,   0.038,2,   0.005,2,    -999,9,    -999,9,   0.070,2,   1.9135,2,    0.81,2,    -999,9,    -999,9,    -999,    -999,9,    -999,9,    -999,9, 5248.70,     1953,  24.8887, -65.9976,   0.011,   0.0096,    0.15,     -999,9,     -999,9,     -999,9,     -999,9,     -999,9,     -999,9,   1.5852,    -999,9,       -999,9,    -999,9,    -999,9
 316N200310,        A22,      43,          1,          2,          2,2,20031102,       1943,    24.8875,   -65.9972,       5541,  5498.6,   2.0703,  34.8510,2,  34.8507,2,    249.0,2,   249.0,2,   54.29,2,   22.60,2,    0.01,2,    1.53,2,   0.058,2,   0.038,2,   0.006,2,    -999,9,    -999,9,    -999,9,     -999,9,    -999,9,    -999,9,    -999,9,    -999,    -999,9,    -999,9,    -999,9, 5498.60,     1948,  24.8881, -65.9973,    -999,     -999,    -999,     -999,9,     -999,9,     -999,9,     -999,9,     -999,9,     -999,9,   1.5519,    -999,9,       -999,9,    -999,9,    -999,9
 316N200310,        A22,      43,          1,          1,          1,2,20031102,       1943,    24.8875,   -65.9972,       5541,  5629.6,   2.0707,  34.8487,2,  34.8477,2,    248.0,2,   248.7,2,   55.27,2,   22.75,2,    0.01,2,    1.54,2,   0.054,2,   0.037,2,   0.006,2,    -999,9,    -999,9,   0.050,2,   1.9166,2,    1.15,2,    -999,9,    -999,9,    -999,    -999,9,    -999,9,    -999,9, 5629.60,     1944,  24.8876, -65.9971,   0.011,   0.0096,    0.15,     -999,9,     -999,9,     -999,9,     -999,9,     -999,9,     -999,9,   1.5351,    -999,9,       -999,9,    -999,9,    -999,9