BOTTLE,20211101CCHSIORKP
# Original header:
# Original header:
# Changed all fill flags to 9
# Merged parameters: TCARBN, TCARBN_FLAG_W, ALKALI, ALKALI_FLAG_W
# 20090522OOCNOCBAK
# There are 12 instances of the bottle quality flag being set to 10. These correspond to cases where there was something anomalous about the bottle closure. The samples are believed to be good. In 9 of these cases the shallowest bottle was at 5 metres depth andappeared to have closed normally. The CFC sampler reported that a dribble leaked out of the bottom tap when it was pushed in even though the top vent was still closed. 
# The CTD PRS;  TMP;  SAL;  OXY; data are all calibrated and good .
EXPOCODE,SECT_ID,STNNBR,CASTNO,SAMPNO,BTLNBR,BTLNBR_FLAG_W,DATE,TIME,LATITUDE,LONGITUDE,DEPTH,CTDPRS,CTDTMP,CTDSAL,SALNTY,SALNTY_FLAG_W,CTDOXY,OXYGEN,OXYGEN_FLAG_W,SILCAT,SILCAT_FLAG_W,PHSPHT,PHSPHT_FLAG_W,TCARBN,TCARBN_FLAG_W,ALKALI,ALKALI_FLAG_W,THETA,NO2+NO3,NO2+NO3_FLAG_W
,,,,,,,,,,,METERS,DBAR,ITS-90,PSS-78,PSS-78,,UMOL/KG,UMOL/KG,,UMOL/KG,,UMOL/KG,,UMOL/KG,,UMOL/KG,,DEG C,UMOL/KG,
740H20090307,       A095,       1,          1,          1,          1,2,20090308,       0918,  -36.33089,  -53.49829,        246,   242.5,   7.8295,  34.4464,  34.4468,2,    222.8,   221.2,3,    9.22,2,    1.48,2,    2138,2,  2284.4,2,   7.8054,   21.06,2
740H20090307,       A095,       1,          1,          4,          4,2,20090308,       0918,  -36.33089,  -53.49829,        246,   180.3,   9.7968,  34.7272,  34.7141,2,    204.5,   205.0,2,    7.86,2,    1.26,2,  2130.1,2,  2294.3,2,   9.7762,   17.87,2
740H20090307,       A095,       1,          1,          7,          7,2,20090308,       0918,  -36.33089,  -53.49829,        246,    87.9,   7.4715,  33.7075,  33.7110,2,    206.1,   202.0,2,    6.25,2,    1.61,2,    2138,2,  2245.2,2,   7.4632,   20.54,2
740H20090307,       A095,       1,          1,          9,          9,3,20090308,       0918,  -36.33089,  -53.49829,        246,    88.2,   7.4817,  33.7056,-999.0000,9,    206.1,  -999.0,9, -999.00,9, -999.00,9,  -999.0,9,  -999.0,9,   7.4734, -999.00,9
740H20090307,       A095,       1,          1,         10,         10,2,20090308,       0918,  -36.33089,  -53.49829,        246,    75.4,   7.9002,  33.6441,  33.6468,2,    212.9,   206.5,2,    5.74,9,    1.51,2,  2128.9,2,  -999.0,9,   7.8928,   18.98,2
740H20090307,       A095,       1,          1,         13,         13,3,20090308,       0918,  -36.33089,  -53.49829,        246,    49.8,  13.8334,  33.6790,-999.0000,9,    249.3,  -999.0,9, -999.00,9, -999.00,9,  -999.0,9,  -999.0,9,  13.8264, -999.00,9
740H20090307,       A095,       1,          1,         14,         14,2,20090308,       0918,  -36.33089,  -53.49829,        246,    50.0,  13.7088,  33.6719,  33.6718,2,    249.2,   246.2,2,    3.04,2,    0.62,2,  2029.1,2,  2250.1,2,  13.7018,    5.21,2
740H20090307,       A095,       1,          1,         17,         17,2,20090308,       0918,  -36.33089,  -53.49829,        246,    26.7,  20.7220,  33.6106,  33.6178,2,    229.0,   229.7,2,    1.73,2,    0.35,2,  1990.6,2,  2250.5,2,  20.7169,    0.02,2
740H20090307,       A095,       1,          1,         21,         21,2,20090308,       0918,  -36.33089,  -53.49829,        246,     6.6,  22.3989,  32.0130,  32.0425,2,    220.4,   220.1,2,    2.08,2,    0.47,2,  1934.4,2,  2173.2,2,  22.3976,    0.04,2
740H20090307,       A095,       1,          1,         22,         22,3,20090308,       0918,  -36.33089,  -53.49829,        246,     6.4,  22.4099,  32.0010,-999.0000,9,    220.0,  -999.0,9, -999.00,9, -999.00,9,  -999.0,9,  -999.0,9,  22.4086, -999.00,9
740H20090307,       A095,       1,          1,         23,         23,3,20090308,       0918,  -36.33089,  -53.49829,        246,     6.6,  22.4158,  31.9937,-999.0000,9,    219.6,  -999.0,9, -999.00,9, -999.00,9,  -999.0,9,  -999.0,9,  22.4145, -999.00,9
740H20090307,       A095,       2,          1,          1,          1,2,20090308,       1220,  -36.39234,  -53.41257,        553,   549.2,   4.7616,  34.1560,  34.1578,2,    264.2,   264.1,2,   15.20,2,    1.73,2,  2118.2,2,  2285.8,2,   4.7190,   25.14,2
740H20090307,       A095,       2,          1,          4,          4,2,20090308,       1220,  -36.39234,  -53.41257,        553,   377.9,   6.0748,  34.2685,  34.2640,2,    250.1,   243.3,2,   10.83,2,    1.64,2,  2147.4,2,  2281.8,2,   6.0420,   24.09,2
740H20090307,       A095,       2,          1,          7,          7,2,20090308,       1220,  -36.39234,  -53.41257,        553,   252.4,   8.8117,  34.5156,  34.5229,2,    220.5,   216.4,2,    7.45,2,    1.33,2,  2137.9,2,  2292.2,2,   8.7847,   18.98,2
740H20090307,       A095,       2,          1,         10,         10,2,20090308,       1220,  -36.39234,  -53.41257,        553,   176.2,   8.3723,  34.1988,  34.2075,2,    212.1,   210.2,2,    6.39,2,    1.45,2,  2135.8,2,  2272.5,2,   8.3542,   19.10,2
740H20090307,       A095,       2,          1,         13,         13,2,20090308,       1220,  -36.39234,  -53.41257,        553,   100.9,  14.9399,  35.3770,-999.0000,9,    195.8,   192.3,2,    5.11,2,    0.67,2,  -999.0,9,  -999.0,9,  14.9246,    8.03,2
740H20090307,       A095,       2,          1,         16,         16,2,20090308,       1220,  -36.39234,  -53.41257,        553,    75.8,  14.9313,  35.0233,  34.7632,2,    193.0,   190.7,2,    6.16,2,    0.87,2,  2114.1,2,  2304.2,2,  14.9199,    8.87,2
740H20090307,       A095,       2,          1,         19,         19,2,20090308,       1220,  -36.39234,  -53.41257,        553,    50.7,  13.8271,  33.9017,  33.8966,2,    185.0,   186.8,2,    6.12,2,    1.07,2,  2098.5,2,    2264,2,  13.8199,    8.60,2
740H20090307,       A095,       2,          1,         21,         21,2,20090308,       1220,  -36.39234,  -53.41257,        553,    25.4,  20.6575,  33.7188,  33.7122,2,    223.4,   224.6,2,    1.51,2,    0.40,2,  2000.2,2,  2258.9,2,  20.6527,    0.03,2
740H20090307,       A095,       2,          1,         23,         23,2,20090308,       1220,  -36.39234,  -53.41257,        553,     5.7,  22.5495,  31.7781,  31.7916,2,    220.1,   220.4,2,    1.65,2,    0.43,2,  1919.8,2,  2165.1,2,  22.5484,    0.01,2
740H20090307,       A095,       3,          1,          1,          1,2,20090308,       1441,  -36.46875,  -53.30549,        981,   983.6,   3.7158,  34.1730,  34.1700,2,    246.7,   247.9,2,   24.35,2,    1.97,2,  2170.4,2,  2292.8,2,   3.6442,   30.59,2
740H20090307,       A095,       3,          1,          3,          3,2,20090308,       1441,  -36.46875,  -53.30549,        981,   883.9,   3.8134,  34.1600,  34.1598,2,    251.2,   253.4,2,   22.37,2,    1.93,2,  2165.1,2,  2291.1,2,   3.7491,   28.81,2
740H20090307,       A095,       3,          1,          5,          5,2,20090308,       1441,  -36.46875,  -53.30549,        981,   757.2,   4.4936,  34.2167,  34.2179,2,    242.0,   244.4,9,   18.74,2,    1.87,2,    2162,2,  2285.4,2,   4.4352,   27.80,2
740H20090307,       A095,       3,          1,          7,          7,2,20090308,       1441,  -36.46875,  -53.30549,        981,   630.6,   4.6453,  34.1847,  34.1868,2,    256.7,   256.5,9,   14.80,2,    1.77,2,  2151.2,2,  2282.5,2,   4.5965,   26.33,2
740H20090307,       A095,       3,          1,          9,          9,2,20090308,       1441,  -36.46875,  -53.30549,        981,   504.0,   4.9935,  34.1788,  34.1791,2,    261.3,   275.9,2,   11.74,2,    1.70,2,  -999.0,9,  -999.0,9,   4.9536,   25.27,2
740H20090307,       A095,       3,          1,         11,         11,2,20090308,       1441,  -36.46875,  -53.30549,        981,   377.6,   8.0830,  34.5547,  34.5406,2,    213.7,   214.6,2,   10.45,2,    1.48,2,  -999.0,9,  -999.0,9,   8.0443,   21.53,2
740H20090307,       A095,       3,          1,         13,         13,2,20090308,       1441,  -36.46875,  -53.30549,        981,   250.9,  11.4120,  35.0058,  35.0026,2,    200.0,   200.1,2,    6.78,2,    1.04,2,  -999.0,9,  -999.0,9,  11.3803,   14.53,2
740H20090307,       A095,       3,          1,         15,         15,2,20090308,       1441,  -36.46875,  -53.30549,        981,   174.3,  14.8806,  35.4933,  35.4928,2,    195.0,   195.7,2,    4.58,2,    0.62,2,  2116.3,2,  2336.4,2,  14.8543,    7.75,2
740H20090307,       A095,       3,          1,         17,         17,2,20090308,       1441,  -36.46875,  -53.30549,        981,   100.6,  18.1575,  35.8752,  35.8023,2,    204.5,   186.7,2,    5.58,2,    0.46,2,  2111.9,2,  2351.2,3,  18.1401,    4.09,2
740H20090307,       A095,       3,          1,         19,         19,2,20090308,       1441,  -36.46875,  -53.30549,        981,    76.6,  14.4657,  34.3718,  34.4139,2,    193.9,   190.7,2,    6.20,2,    0.88,2,  2100.1,2,  2291.5,2,  14.4545,    7.73,2
740H20090307,       A095,       3,          1,         21,         21,2,20090308,       1441,  -36.46875,  -53.30549,        981,    51.1,  22.1666,  36.0428,  36.1170,2,    206.4,   208.4,2,    3.33,2,    0.18,2,  2075.6,2,  2376.3,2,  22.1564,    0.66,2
740H20090307,       A095,       3,          1,         23,         23,2,20090308,       1441,  -36.46875,  -53.30549,        981,    25.7,  24.2881,  35.7359,  35.7123,2,    206.6,   211.2,2,    3.16,2,    0.10,2,  2041.1,2,  2354.7,2,  24.2826,    0.01,2
740H20090307,       A095,       3,          1,         24,         24,2,20090308,       1441,  -36.46875,  -53.30549,        981,     6.2,  22.5971,  31.9491,  31.9480,2,    219.8,   219.7,2,    1.86,2,    0.44,2,  1927.7,3,  2177.7,2,  22.5959,   -0.02,2
740H20090307,       A095,       4,          1,          1,          1,2,20090308,       1753,  -36.59975,  -53.12847,       1412,  1419.1,   2.9861,  34.4625,  34.4639,2,    186.6,   193.6,2,   55.07,2,    2.25,2,  2223.6,2,  2326.1,2,   2.8854,   33.63,2
740H20090307,       A095,       4,          1,          3,          3,2,20090308,       1753,  -36.59975,  -53.12847,       1412,  1260.6,   3.2970,  34.3277,  34.3258,2,    204.0,   207.2,2,   42.35,2,    2.21,2,  2210.1,2,    2310,2,   3.2063,   33.07,2
740H20090307,       A095,       4,          1,          5,          5,2,20090308,       1753,  -36.59975,  -53.12847,       1412,  1005.3,   3.9530,  34.2901,  34.2918,2,    216.4,   218.1,2,   29.93,2,    2.07,2,  2188.6,2,  2297.5,2,   3.8776,   30.89,2
740H20090307,       A095,       4,          1,          7,          7,2,20090308,       1753,  -36.59975,  -53.12847,       1412,   875.7,   3.9799,  34.1837,  34.1846,2,    244.9,   249.0,2,   21.90,2,    1.92,2,  -999.0,9,  -999.0,9,   3.9150,   28.52,2
740H20090307,       A095,       4,          1,          9,          9,2,20090308,       1753,  -36.59975,  -53.12847,       1412,   751.0,   4.9338,  34.2581,  34.2595,2,    234.7,   238.8,2,   17.07,2,    1.83,2,  2162.6,2,  2288.2,2,   4.8732,   27.54,2
740H20090307,       A095,       4,          1,         11,         11,2,20090308,       1753,  -36.59975,  -53.12847,       1412,   626.4,   6.1293,  34.3690,  34.3692,2,    221.3,   223.7,2,   14.30,2,    1.72,2,  2163.2,2,  2290.1,2,   6.0735,   25.43,2
740H20090307,       A095,       4,          1,         13,         13,2,20090308,       1753,  -36.59975,  -53.12847,       1412,   502.5,   8.1600,  34.5694,  34.5724,2,    206.9,   209.0,2,   10.50,2,    1.49,2,  2150.9,2,  2295.9,2,   8.1078,   22.20,2
740H20090307,       A095,       4,          1,         14,         14,2,20090308,       1753,  -36.59975,  -53.12847,       1412,   377.0,  11.7177,  35.0443,  33.0848,2,    201.7,   202.1,2,    5.84,2,    0.97,2,  -999.0,9,  -999.0,9,  11.6689,   13.56,2
740H20090307,       A095,       4,          1,         15,         15,2,20090308,       1753,  -36.59975,  -53.12847,       1412,   251.4,  14.3349,  35.4716,  35.4709,2,    207.5,   208.4,2,    3.84,2,    0.61,2,  2115.5,2,  2335.8,2,  14.2978,   10.16,2
740H20090307,       A095,       4,          1,         17,         17,2,20090308,       1753,  -36.59975,  -53.12847,       1412,   175.7,  15.9884,  35.7173,  35.7172,2,    202.7,  -999.0,9,    3.21,2,    0.47,2,  2105.7,2,  2348.7,2,  15.9605,    4.90,2
740H20090307,       A095,       4,          1,         19,         19,2,20090308,       1753,  -36.59975,  -53.12847,       1412,    99.4,  17.9949,  35.9898,  35.9834,2,    200.8,   206.6,2,    2.90,2,    0.27,2,  2102.8,2,  2364.6,2,  17.9778,    2.32,2
740H20090307,       A095,       4,          1,         21,         21,2,20090308,       1753,  -36.59975,  -53.12847,       1412,    74.6,  20.0537,  36.3366,  36.3381,2,    218.6,   219.4,2,    2.20,2,    0.08,2,  2083.7,2,  2386.3,2,  20.0398,    0.20,2
740H20090307,       A095,       4,          1,         22,         22,2,20090308,       1753,  -36.59975,  -53.12847,       1412,    49.8,  23.3247,  36.7283,  36.7233,2,    213.7,   217.6,2,    2.27,2,    0.03,2,  -999.0,9,  2409.3,2,  23.3143,    0.05,2
740H20090307,       A095,       4,          1,         23,         23,2,20090308,       1753,  -36.59975,  -53.12847,       1412,    24.3,  24.6168,  36.4708,  36.4844,2,    204.3,   207.3,2,    2.29,2,    0.02,2,  2062.4,2,  2394.7,2,  24.6116,    0.01,2
740H20090307,       A095,       4,          1,         24,         24,2,20090308,       1753,  -36.59975,  -53.12847,       1412,     4.6,  24.7682,  36.2651,  36.2720,2,    206.2,   208.1,2,    2.37,2,    0.04,2,  2053.8,2,  2385.1,2,  24.7672,    0.05,2
740H20090307,       A095,       5,          1,          1,          1,2,20090308,       2107,  -36.66486,  -53.06175,       2067,  2081.5,   3.4719,  34.9118,  34.9125,2,    228.1,   230.2,2,   30.08,2,    1.57,2,  2181.9,2,  2315.5,2,   3.3046,   22.73,2
740H20090307,       A095,       5,          1,          2,          2,2,20090308,       2107,  -36.66486,  -53.06175,       2067,  2013.3,   3.5352,  34.9142,  34.9143,2,    229.5,   231.0,2,   28.83,2,    1.54,2,  2180.7,2,  2316.3,2,   3.3735,   22.35,2
740H20090307,       A095,       5,          1,          3,          3,2,20090308,       2107,  -36.66486,  -53.06175,       2067,  1766.0,   3.6278,  34.8219,  34.8221,2,    206.1,   207.5,2,   35.70,2,    1.81,2,  2195.8,2,  2316.8,2,   3.4882,   25.90,2
740H20090307,       A095,       5,          1,          5,          5,2,20090308,       2107,  -36.66486,  -53.06175,       2067,  1512.5,   3.0854,  34.5122,  34.5138,2,    183.7,   185.1,2,   53.28,2,    2.32,2,  2217.2,2,  2327.7,3,   2.9757,   32.71,2
740H20090307,       A095,       5,          1,          6,          6,2,20090308,       2107,  -36.66486,  -53.06175,       2067,  1260.3,   3.3527,  34.3231,  34.3250,2,    203.2,   204.9,2,   41.09,2,    2.29,2,  2201.1,2,  2307.5,2,   3.2616,   32.49,2
740H20090307,       A095,       5,          1,          8,          8,2,20090308,       2107,  -36.66486,  -53.06175,       2067,  1005.8,   3.8538,  34.2995,  34.2992,2,    213.5,   217.5,2,   31.45,2,    2.19,2,  2185.6,2,  2297.3,2,   3.7792,   31.09,2
740H20090307,       A095,       5,          1,          9,          9,2,20090308,       2107,  -36.66486,  -53.06175,       2067,   879.2,   4.4383,  34.2729,  34.2728,2,    225.4,   237.5,2,   22.61,2,    2.05,2,  2170.1,2,  2293.5,2,   4.3700,   28.90,2
740H20090307,       A095,       5,          1,         11,         11,2,20090308,       2107,  -36.66486,  -53.06175,       2067,   753.7,   5.1647,  34.2769,  34.2772,2,    234.0,   235.2,2,   15.85,2,    1.89,2,  2154.4,2,  2291.4,2,   5.1026,   26.87,2
740H20090307,       A095,       5,          1,         12,         12,2,20090308,       2107,  -36.66486,  -53.06175,       2067,   627.6,   6.7198,  34.4369,  34.4381,2,    212.4,   216.3,2,   13.66,2,    1.77,2,  2154.6,2,  2294.9,2,   6.6610,   24.87,2
740H20090307,       A095,       5,          1,         14,         14,2,20090308,       2107,  -36.66486,  -53.06175,       2067,   501.1,   9.2833,  34.6999,  34.7030,2,    203.2,   204.5,2,    8.38,2,    1.40,2,  2140.4,2,  2294.3,2,   9.2271,   19.34,2
740H20090307,       A095,       5,          1,         15,         15,2,20090308,       2107,  -36.66486,  -53.06175,       2067,   374.4,  12.9783,  35.2525,  35.2560,2,    204.5,   207.7,2,    4.38,2,    0.84,2,  2116.8,2,  2320.6,2,  12.9264,   10.11,2
740H20090307,       A095,       5,          1,         17,         17,2,20090308,       2107,  -36.66486,  -53.06175,       2067,   249.9,  15.2324,  35.6421,  35.6409,2,    209.0,   213.7,2,    3.06,2,    0.53,2,  2104.9,2,    2347,2,  15.1939,    5.48,2
740H20090307,       A095,       5,          1,         18,         18,2,20090308,       2107,  -36.66486,  -53.06175,       2067,   174.9,  16.5094,  35.8429,  35.8384,2,    205.3,   209.1,2,    2.63,2,    0.40,2,    2099,2,  2357.3,2,  16.4809,    3.44,2
740H20090307,       A095,       5,          1,         20,         20,2,20090308,       2107,  -36.66486,  -53.06175,       2067,    99.2,  18.6509,  36.1247,  36.1266,2,    214.7,   212.8,2,    2.06,2,    0.24,2,    2087,2,  2375.2,2,  18.6334,    0.56,2
740H20090307,       A095,       5,          1,         21,         21,2,20090308,       2107,  -36.66486,  -53.06175,       2067,    73.8,  19.9004,  36.2811,  36.2761,2,    226.9,   221.8,2,    1.89,2,    0.12,2,  2079.3,2,    2387,2,  19.8867,    0.00,2
740H20090307,       A095,       5,          1,         22,         22,2,20090308,       2107,  -36.66486,  -53.06175,       2067,    49.2,  23.5238,  36.3679,  36.3519,2,    213.4,   217.1,2,    1.91,2,    0.05,2,  2062.1,2,  2389.8,2,  23.5136,    0.00,2
740H20090307,       A095,       5,          1,         23,         23,2,20090308,       2107,  -36.66486,  -53.06175,       2067,    23.4,  24.1542,  36.5012,  36.4947,2,    208.6,   223.7,2,    1.92,2,    0.06,2,  2060.6,2,  2396.7,2,  24.1492,    0.00,2
740H20090307,       A095,       5,          1,         24,         24,2,20090308,       2107,  -36.66486,  -53.06175,       2067,     3.8,  24.5905,  36.3461,  36.3468,2,    205.8,   206.2,2,    2.06,2,    0.09,2,  2053.2,2,  2389.2,2,  24.5897,    0.00,2