BOTTLE,20211101CCHSIORKP
EXPOCODE,SECT_ID,STNNBR,CASTNO,SAMPNO,BTLNBR,BTLNBR_FLAG_W,DATE,TIME,LATITUDE,LONGITUDE,DEPTH,CTDPRS,CTDTMP,CTDSAL,SALNTY,SALNTY_FLAG_W,CTDOXY,OXYGEN,OXYGEN_FLAG_W,SILCAT,SILCAT_FLAG_W,PHSPHT,PHSPHT_FLAG_W,TCARBN,TCARBN_FLAG_W,ALKALI,ALKALI_FLAG_W,THETA,NO2+NO3,NO2+NO3_FLAG_W
,,,,,,,,,,,METERS,DBAR,ITS-90,PSS-78,PSS-78,,UMOL/KG,UMOL/KG,,UMOL/KG,,UMOL/KG,,UMOL/KG,,UMOL/KG,,DEG C,UMOL/KG,
740H20090307,       A095,      97,          1,          1,          1,2,20090414,       1631,  -23.99972,    4.46754,       3643,  3687.5,   2.3468,  34.8835,  34.8833,2,    226.2,   226.1,2,   53.91,2,    1.57,2,  2209.8,2,  2352.5,2,   2.0379,   23.34,2
740H20090307,       A095,      97,          1,          2,          2,2,20090414,       1631,  -23.99972,    4.46754,       3643,  3637.3,   2.3613,  34.8832,  34.8829,2,    226.7,   226.7,2,   54.14,2,    1.57,2,  2206.3,2,  2355.9,2,   2.0576,   23.33,2
740H20090307,       A095,      97,          1,          3,         26,2,20090414,       1631,  -23.99972,    4.46754,       3643,  3437.8,   2.3796,  34.8821,  34.8820,2,    227.9,   227.8,2,   53.19,2,    1.57,2,  -999.0,9,  -999.0,9,   2.0970,   23.04,2
740H20090307,       A095,      97,          1,          4,          4,2,20090414,       1631,  -23.99972,    4.46754,       3643,  3284.9,   2.3956,  34.8796,  34.8796,2,    228.9,   229.5,2,   52.81,2,    1.58,2,  -999.0,9,  -999.0,9,   2.1289,   23.24,2
740H20090307,       A095,      97,          1,          5,          5,2,20090414,       1631,  -23.99972,    4.46754,       3643,  3029.7,   2.4434,  34.8726,  34.8718,2,    230.6,   231.4,2,   51.25,2,    1.57,2,  2195.8,2,  2341.5,2,   2.2020,   23.60,2
740H20090307,       A095,      97,          1,          6,          6,2,20090414,       1631,  -23.99972,    4.46754,       3643,  2776.1,   2.5217,  34.8697,  34.8697,2,    231.1,   231.0,2,   49.30,2,    1.59,2,  -999.0,9,  -999.0,9,   2.3041,   23.48,2
740H20090307,       A095,      97,          1,          7,          7,2,20090414,       1631,  -23.99972,    4.46754,       3643,  2520.6,   2.6771,  34.8741,  34.8742,2,    230.0,   230.2,2,   45.78,2,    1.56,2,  2189.3,2,  2330.9,2,   2.4813,   23.14,2
740H20090307,       A095,      97,          1,          8,          8,2,20090414,       1631,  -23.99972,    4.46754,       3643,  2268.9,   2.8874,  34.8841,  34.8840,2,    229.9,   230.3,2,   40.51,2,    1.53,2,  -999.0,9,  -999.0,9,   2.7119,   23.24,2
740H20090307,       A095,      97,          1,          9,          9,2,20090414,       1631,  -23.99972,    4.46754,       3643,  2015.4,   3.1074,  34.8805,  34.8814,2,    224.1,   225.1,2,   37.35,2,    1.56,2,  2184.8,2,  2326.6,2,   2.9520,   23.26,2
740H20090307,       A095,      97,          1,         10,         10,2,20090414,       1631,  -23.99972,    4.46754,       3643,  1762.3,   3.3134,  34.8565,-999.0000,9,    213.2,   213.9,2,   36.64,2,    1.65,2,  -999.0,9,  -999.0,9,   3.1782,   24.72,2
740H20090307,       A095,      97,          1,         11,         11,2,20090414,       1631,  -23.99972,    4.46754,       3643,  1509.3,   3.4594,  34.7973,  34.7970,2,    199.3,   200.0,2,   38.32,2,    1.81,2,  2198.5,2,    2320,2,   3.3450,   26.92,2
740H20090307,       A095,      97,          1,         12,         12,2,20090414,       1631,  -23.99972,    4.46754,       3643,  1257.5,   3.4896,  34.6682,  34.6693,2,    181.0,   181.3,2,   44.29,2,    2.05,2,  -999.0,9,  -999.0,9,   3.3966,   30.89,2
740H20090307,       A095,      97,          1,         13,         13,2,20090414,       1631,  -23.99972,    4.46754,       3643,  1004.6,   3.6909,  34.5109,  34.5116,2,    170.4,   170.6,2,   43.71,2,    2.24,2,  2220.9,2,  2315.8,2,   3.6173,   33.38,2
740H20090307,       A095,      97,          1,         14,         14,2,20090414,       1631,  -23.99972,    4.46754,       3643,   879.6,   3.9845,  34.4379,  34.4371,2,    168.4,   169.3,2,   39.90,2,    2.29,2,  -999.0,9,  -999.0,9,   3.9189,   34.21,2
740H20090307,       A095,      97,          1,         15,         15,2,20090414,       1631,  -23.99972,    4.46754,       3643,   752.5,   4.5474,  34.3984,  34.3981,2,    171.6,   171.9,2,   32.98,2,    2.24,2,  2208.6,2,  2298.9,2,   4.4888,   33.10,2
740H20090307,       A095,      97,          1,         16,         16,2,20090414,       1631,  -23.99972,    4.46754,       3643,   627.8,   5.6311,  34.4077,  34.4085,2,    179.9,   179.7,2,   23.45,2,    2.04,2,  -999.0,9,  -999.0,9,   5.5776,   30.79,2
740H20090307,       A095,      97,          1,         17,         17,2,20090414,       1631,  -23.99972,    4.46754,       3643,   501.8,   7.3547,  34.5286,  34.5300,2,    178.2,   177.5,2,   16.74,2,    1.79,2,    2177,2,  2291.4,2,   7.3057,   26.41,2
740H20090307,       A095,      97,          1,         18,         18,2,20090414,       1631,  -23.99972,    4.46754,       3643,   376.3,  10.0005,  34.7949,  34.7890,2,    186.8,   187.7,2,   10.16,2,    1.33,2,  2135.6,2,  2306.6,2,   9.9565,   18.94,2
740H20090307,       A095,      97,          1,         19,         19,10,20090414,       1631,  -23.99972,    4.46754,       3643,   251.8,  12.7616,  35.1075,  35.1029,2,    188.3,   192.0,2,    6.35,2,    0.92,2,  -999.0,9,  -999.0,9,  12.7273,   12.15,2
740H20090307,       A095,      97,          1,         20,         20,2,20090414,       1631,  -23.99972,    4.46754,       3643,   176.4,  14.5906,  35.3443,  35.3318,2,    206.0,   205.8,2,    4.90,2,    0.61,2,  -999.0,9,  -999.0,9,  14.5643,    7.15,2
740H20090307,       A095,      97,          1,         21,         25,2,20090414,       1631,  -23.99972,    4.46754,       3643,   102.0,  16.4897,  35.5563,  35.5506,2,    222.7,   220.7,2,    4.14,2,    0.33,2,  -999.0,9,  -999.0,9,  16.4732,    2.82,2
740H20090307,       A095,      97,          1,         22,         22,2,20090414,       1631,  -23.99972,    4.46754,       3643,    52.1,  19.0710,  35.6390,  35.6294,2,    240.9,   242.0,2,    3.24,2,    0.17,2,  2064.6,2,  2342.5,2,  19.0617,    0.07,2
740H20090307,       A095,      97,          1,         23,         23,2,20090414,       1631,  -23.99972,    4.46754,       3643,    27.3,  22.1257,  35.8693,  35.8720,2,    214.9,   214.7,2,    2.61,2,    0.18,2,  -999.0,9,  -999.0,9,  22.1203,    0.04,2
740H20090307,       A095,      97,          1,         24,         24,2,20090414,       1631,  -23.99972,    4.46754,       3643,     7.0,  22.1136,  35.7916,  35.7975,2,    215.2,   216.4,2,    2.35,2,    0.17,2,  2062.2,2,  2357.1,2,  22.1122,    0.03,2
740H20090307,       A095,      98,          1,          1,          1,2,20090414,       2130,  -24.00004,    4.78415,       3005,  3037.7,   2.4372,  34.8750,  34.8746,2,    229.4,   229.9,2,   51.36,2,    1.58,2,  2195.9,2,  2345.7,2,   2.1951,   22.95,2
740H20090307,       A095,      98,          1,          2,          2,2,20090414,       2130,  -24.00004,    4.78415,       3005,  2987.3,   2.4434,  34.8745,  34.8751,2,    230.0,   230.0,2,   51.07,2,    1.58,2,  2196.8,2,  2344.9,2,   2.2063,   22.77,2
740H20090307,       A095,      98,          1,          4,          4,2,20090414,       2130,  -24.00004,    4.78415,       3005,  2986.4,   2.4437,  34.8744,  34.8750,2,    230.0,   230.7,2,   50.88,2,    1.58,2,  -999.0,9,  -999.0,9,   2.2067,   23.04,2
740H20090307,       A095,      98,          1,          5,          5,2,20090414,       2130,  -24.00004,    4.78415,       3005,  2776.7,   2.5060,  34.8703,  34.8703,2,    230.6,   230.2,2,   49.45,2,    1.59,2,  2194.7,2,  2338.7,2,   2.2887,   23.72,2
740H20090307,       A095,      98,          1,          6,          6,2,20090414,       2130,  -24.00004,    4.78415,       3005,  2522.6,   2.6652,  34.8752,  34.8750,2,    229.9,   229.8,2,   45.79,2,    1.57,2,  -999.0,9,  -999.0,9,   2.4695,   22.97,2
740H20090307,       A095,      98,          1,          7,          7,2,20090414,       2130,  -24.00004,    4.78415,       3005,  2269.4,   2.8995,  34.8836,  34.8828,2,    228.8,   228.8,2,   40.47,2,    1.55,2,  2183.5,2,  2328.5,2,   2.7238,   22.46,2
740H20090307,       A095,      98,          1,          8,          8,2,20090414,       2130,  -24.00004,    4.78415,       3005,  2016.2,   3.1441,  34.8848,  34.8853,2,    224.4,   224.6,2,   36.35,2,    1.57,2,  -999.0,9,  -999.0,9,   2.9881,   23.27,2
740H20090307,       A095,      98,          1,          9,          9,2,20090414,       2130,  -24.00004,    4.78415,       3005,  1763.5,   3.3320,  34.8584,  34.8588,2,    213.4,   214.0,2,   36.01,2,    1.67,2,  2188.1,2,  2324.8,2,   3.1964,   24.63,2
740H20090307,       A095,      98,          1,         10,         10,2,20090414,       2130,  -24.00004,    4.78415,       3005,  1511.3,   3.4777,  34.8046,  34.8049,2,    199.6,   200.2,2,   37.29,2,    1.81,2,  -999.0,9,  -999.0,9,   3.3629,   25.86,2
740H20090307,       A095,      98,          1,         11,         11,2,20090414,       2130,  -24.00004,    4.78415,       3005,  1258.6,   3.5514,  34.6858,  34.6868,2,    182.7,   183.0,2,   41.46,2,    2.03,2,  2208.6,2,  2318.6,2,   3.4577,   29.14,2
740H20090307,       A095,      98,          1,         12,         12,2,20090414,       2130,  -24.00004,    4.78415,       3005,  1006.5,   3.6654,  34.5170,  34.5166,2,    170.6,   170.8,2,   44.35,2,    2.26,2,  -999.0,9,  -999.0,9,   3.5918,   32.78,2
740H20090307,       A095,      98,          1,         13,         13,2,20090414,       2130,  -24.00004,    4.78415,       3005,   880.3,   3.9259,  34.4439,  34.4423,2,    168.7,   168.5,2,   41.81,2,    2.34,2,  2215.6,2,  2306.7,2,   3.8607,   34.09,2
740H20090307,       A095,      98,          1,         14,         14,2,20090414,       2130,  -24.00004,    4.78415,       3005,   754.6,   4.4908,  34.4042,  34.4031,2,    168.8,   169.0,2,   34.03,2,    2.28,2,  -999.0,9,  -999.0,9,   4.4323,   33.32,2
740H20090307,       A095,      98,          1,         15,         15,2,20090414,       2130,  -24.00004,    4.78415,       3005,   629.6,   5.3424,  34.4051,  34.4021,2,    174.3,   175.1,2,   26.09,2,    2.13,2,  2198.3,2,    2292,2,   5.2901,   32.17,2
740H20090307,       A095,      98,          1,         16,         16,2,20090414,       2130,  -24.00004,    4.78415,       3005,   504.8,   7.2517,  34.5227,  34.5207,2,    172.7,   173.7,2,   17.62,2,    1.86,2,  -999.0,9,  -999.0,9,   7.2027,   27.19,2
740H20090307,       A095,      98,          1,         17,         17,2,20090414,       2130,  -24.00004,    4.78415,       3005,   379.1,   9.3496,  34.7241,  34.7120,2,    181.5,   180.5,2,   12.18,2,    1.50,2,  2162.9,2,  2294.4,2,   9.3071,   21.41,2
740H20090307,       A095,      98,          1,         18,         18,2,20090414,       2130,  -24.00004,    4.78415,       3005,   253.7,  12.0489,  35.0397,  35.0412,2,    191.2,   194.4,2,    6.65,2,    0.99,2,  -999.0,9,  -999.0,9,  12.0156,   13.37,2
740H20090307,       A095,      98,          1,         19,         19,2,20090414,       2130,  -24.00004,    4.78415,       3005,   178.6,  13.6200,  35.1991,  35.2008,2,    195.3,   194.3,2,    5.69,2,    0.82,2,  2129.3,2,  2314.8,2,  13.5946,   10.52,2
740H20090307,       A095,      98,          1,         20,         20,2,20090414,       2130,  -24.00004,    4.78415,       3005,   103.7,  16.1353,  35.4780,  35.4785,2,    213.3,   213.2,2,    4.20,2,    0.47,2,  -999.0,9,  -999.0,9,  16.1188,    4.87,2
740H20090307,       A095,      98,          1,         21,         25,2,20090414,       2130,  -24.00004,    4.78415,       3005,    78.3,  17.2717,  35.5537,  35.5571,2,    225.8,   230.4,2,    3.37,2,    0.29,2,  -999.0,9,  -999.0,9,  17.2587,    1.53,2
740H20090307,       A095,      98,          1,         22,         22,2,20090414,       2130,  -24.00004,    4.78415,       3005,    53.5,  20.9021,  35.7725,  35.6744,2,    228.2,   236.9,2,    2.91,2,    0.17,2,  -999.0,9,  -999.0,9,  20.8919,    0.00,2
740H20090307,       A095,      98,          1,         23,         23,2,20090414,       2130,  -24.00004,    4.78415,       3005,    28.6,  22.3436,  35.9370,  35.9385,2,    213.5,   213.0,2,    2.46,2,    0.19,2,  2069.7,2,  2368.3,2,  22.3378,   -0.04,2
740H20090307,       A095,      98,          1,         24,         24,2,20090414,       2130,  -24.00004,    4.78415,       3005,     8.6,  22.3816,  35.9316,  35.9309,2,    213.8,   213.0,2,    2.33,2,    0.20,2,  2069.2,2,    2364,2,  22.3799,    0.06,2
740H20090307,       A095,      99,          1,          1,          1,2,20090415,       0208,  -23.99860,    5.09778,       2459,  2481.1,   2.7531,  34.8813,  34.8809,2,    229.2,   229.7,2,   43.91,2,    1.56,2,  2188.5,2,  2335.1,2,   2.5598,   22.86,2
740H20090307,       A095,      99,          1,          2,          2,2,20090415,       0208,  -23.99860,    5.09778,       2459,  2482.3,   2.7533,  34.8813,  34.8832,2,    229.2,   229.8,2,   43.03,2,    1.54,2,  -999.0,9,  -999.0,9,   2.5599,   22.68,2
740H20090307,       A095,      99,          1,          4,          4,2,20090415,       0208,  -23.99860,    5.09778,       2459,  2430.6,   2.7607,  34.8816,  34.8807,2,    229.3,   228.4,2,   42.58,2,    1.54,2,  -999.0,9,  2335.8,2,   2.5721,   22.27,2
740H20090307,       A095,      99,          1,          5,          5,2,20090415,       0208,  -23.99860,    5.09778,       2459,  2268.7,   2.8624,  34.8856,  34.8857,2,    229.0,   229.4,2,   40.25,2,    1.53,2,  -999.0,9,  -999.0,9,   2.6873,   22.17,2
740H20090307,       A095,      99,          1,          6,          6,2,20090415,       0208,  -23.99860,    5.09778,       2459,  2016.0,   3.1140,  34.8841,  34.8840,2,    224.0,   224.8,2,   36.75,2,    1.56,2,  2187.9,2,  2322.2,2,   2.9584,   22.59,2
740H20090307,       A095,      99,          1,          7,          7,2,20090415,       0208,  -23.99860,    5.09778,       2459,  1763.5,   3.3208,  34.8607,  34.8606,2,    213.6,   213.9,2,   35.73,2,    1.65,2,  -999.0,9,  -999.0,9,   3.1854,   23.77,2
740H20090307,       A095,      99,          1,          8,          8,2,20090415,       0208,  -23.99860,    5.09778,       2459,  1510.6,   3.4446,  34.7956,  34.7945,2,    196.9,   197.4,2,   38.43,2,    1.83,2,  2203.9,2,  2320.9,2,   3.3302,   26.32,2
740H20090307,       A095,      99,          1,          9,          9,2,20090415,       0208,  -23.99860,    5.09778,       2459,  1259.1,   3.5118,  34.6820,  34.6826,2,    182.8,   183.2,2,   42.14,2,    2.03,2,  -999.0,9,  -999.0,9,   3.4184,   28.83,2
740H20090307,       A095,      99,          1,         10,         10,2,20090415,       0208,  -23.99860,    5.09778,       2459,  1006.8,   3.5980,  34.5079,  34.5078,2,    172.3,   172.7,2,   45.66,2,    2.25,2,  2219.3,2,    2317,2,   3.5249,   32.67,2
740H20090307,       A095,      99,          1,         11,         11,2,20090415,       0208,  -23.99860,    5.09778,       2459,   880.6,   3.7953,  34.4478,  34.4483,2,    173.1,   174.0,2,   42.47,2,    2.26,2,  -999.0,9,  -999.0,9,   3.7309,   32.37,2
740H20090307,       A095,      99,          1,         12,         12,2,20090415,       0208,  -23.99860,    5.09778,       2459,   753.8,   4.3500,  34.4073,  34.4070,2,    169.3,   170.1,2,   34.95,2,    2.26,2,  2211.8,2,  2303.5,2,   4.2925,   32.53,2
740H20090307,       A095,      99,          1,         13,         13,2,20090415,       0208,  -23.99860,    5.09778,       2459,   629.0,   5.1844,  34.3904,  34.3915,2,    179.8,   178.2,2,   26.32,2,    2.12,2,  -999.0,9,  -999.0,9,   5.1329,   30.88,2
740H20090307,       A095,      99,          1,         14,         14,2,20090415,       0208,  -23.99860,    5.09778,       2459,   504.1,   6.7336,  34.4825,  34.4837,2,    175.1,   174.9,2,   18.49,2,    1.91,2,  2178.8,3,  2294.1,2,   6.6868,   27.74,2
740H20090307,       A095,      99,          1,         15,         15,2,20090415,       0208,  -23.99860,    5.09778,       2459,   378.6,   9.5571,  34.7503,  34.7504,2,    173.0,   173.4,2,   11.15,2,    1.47,2,  -999.0,9,  -999.0,9,   9.5141,   20.74,2
740H20090307,       A095,      99,          1,         16,         16,2,20090415,       0208,  -23.99860,    5.09778,       2459,   252.4,  11.9791,  35.0271,  35.0278,2,    192.1,   192.6,2,    6.61,2,    1.01,2,  2135.1,2,  2313.2,2,  11.9462,   13.59,2
740H20090307,       A095,      99,          1,         17,         17,2,20090415,       0208,  -23.99860,    5.09778,       2459,   178.4,  13.9769,  35.2431,  35.2418,2,    194.9,   193.4,2,    5.02,2,    0.74,2,  -999.0,9,  -999.0,9,  13.9511,    9.16,2
740H20090307,       A095,      99,          1,         18,         18,2,20090415,       0208,  -23.99860,    5.09778,       2459,   103.1,  16.7377,  35.5900,  35.5947,2,    217.0,   215.5,2,    3.53,2,    0.38,2,  2089.9,2,    2339,2,  16.7208,    3.17,2
740H20090307,       A095,      99,          1,         19,         19,2,20090415,       0208,  -23.99860,    5.09778,       2459,   103.2,  16.7876,  35.5973,  35.6654,2,    217.0,   216.4,2,    3.50,2,    0.38,2,  -999.0,9,  -999.0,9,  16.7707,    3.06,2
740H20090307,       A095,      99,          1,         20,         20,2,20090415,       0208,  -23.99860,    5.09778,       2459,    77.9,  18.5393,  35.6641,  35.5964,2,    239.9,   240.0,2,    2.91,2,    0.18,2,  -999.0,9,  -999.0,9,  18.5256,    0.02,2
740H20090307,       A095,      99,          1,         21,         25,2,20090415,       0208,  -23.99860,    5.09778,       2459,    53.0,  22.0350,  35.8807,  35.8805,2,    215.2,   215.6,2,    2.38,2,    0.18,2,  -999.0,9,  -999.0,9,  22.0245,   -0.14,2
740H20090307,       A095,      99,          1,         22,         22,2,20090415,       0208,  -23.99860,    5.09778,       2459,    28.6,  22.1029,  35.8857,  35.8844,2,    214.7,   215.6,2,    2.37,2,    0.18,2,  -999.0,9,  -999.0,9,  22.0972,   -0.11,2
740H20090307,       A095,      99,          1,         23,         23,2,20090415,       0208,  -23.99860,    5.09778,       2459,     7.1,  22.0899,  35.8860,  35.8849,2,    214.9,   214.7,2,    2.32,2,    0.18,2,    2077,2,  2369.4,2,  22.0885,   -0.13,2
740H20090307,       A095,      99,          1,         24,         24,2,20090415,       0208,  -23.99860,    5.09778,       2459,     6.8,  22.0941,  35.8859,  35.8849,2,    214.6,   214.5,2,    2.25,2,    0.18,2,  -999.0,9,  -999.0,9,  22.0927,   -0.13,2