BOTTLE,20211101CCHSIORKP
EXPOCODE,SECT_ID,STNNBR,CASTNO,SAMPNO,BTLNBR,BTLNBR_FLAG_W,DATE,TIME,LATITUDE,LONGITUDE,DEPTH,CTDPRS,CTDTMP,CTDSAL,SALNTY,SALNTY_FLAG_W,CTDOXY,OXYGEN,OXYGEN_FLAG_W,SILCAT,SILCAT_FLAG_W,PHSPHT,PHSPHT_FLAG_W,TCARBN,TCARBN_FLAG_W,ALKALI,ALKALI_FLAG_W,THETA,NO2+NO3,NO2+NO3_FLAG_W
,,,,,,,,,,,METERS,DBAR,ITS-90,PSS-78,PSS-78,,UMOL/KG,UMOL/KG,,UMOL/KG,,UMOL/KG,,UMOL/KG,,UMOL/KG,,DEG C,UMOL/KG,
740H20090307,       A095,      70,          1,          1,          1,2,20090404,       2310,  -23.12841,  -14.96706,       4212,  4269.6,   1.4092,  34.7822,  34.7815,2,    227.3,   228.9,3,   87.60,2,    1.85,2,  2228.1,2,  2352.2,2,   1.0626,   27.83,2
740H20090307,       A095,      70,          1,          2,          2,2,20090404,       2310,  -23.12841,  -14.96706,       4212,  4219.1,   1.5165,  34.7925,  34.7913,2,    228.7,   228.3,2, -999.00,9, -999.00,9,  -999.0,9,  -999.0,9,   1.1722, -999.00,9
740H20090307,       A095,      70,          1,          3,          3,2,20090404,       2310,  -23.12841,  -14.96706,       4212,  4051.8,   1.6847,  34.8091,  34.8082,2,    230.8,   230.7,2,   77.14,2,    1.77,2,  2219.7,2,  2350.4,2,   1.3541,   27.28,2
740H20090307,       A095,      70,          1,          4,          4,2,20090404,       2310,  -23.12841,  -14.96706,       4212,  3795.3,   1.9032,  34.8309,  34.8300,2,    233.5,   233.1,2,   68.25,2,    1.68,2,  -999.0,9,  -999.0,9,   1.5946,   25.11,2
740H20090307,       A095,      70,          1,          5,          5,2,20090404,       2310,  -23.12841,  -14.96706,       4212,  3540.2,   2.1321,  34.8525,  34.8515,2,    235.6,   235.7,2,   59.60,2,    1.61,2,    2202,2,  2340.9,2,   1.8449,   24.68,2
740H20090307,       A095,      70,          1,          6,          6,2,20090404,       2310,  -23.12841,  -14.96706,       4212,  3283.9,   2.3397,  34.8717,  34.8707,2,    237.4,   236.7,2,   51.98,2,    1.55,2,  2199.8,2,  2338.9,2,   2.0744,   23.49,2
740H20090307,       A095,      70,          1,          7,          7,2,20090404,       2310,  -23.12841,  -14.96706,       4212,  3027.3,   2.5919,  34.8989,  34.8973,2,    241.2,   241.4,2,   41.91,2,    1.44,2,  2189.2,2,  2334.4,2,   2.3473,   21.82,2
740H20090307,       A095,      70,          1,          8,          8,2,20090404,       2310,  -23.12841,  -14.96706,       4212,  2519.8,   2.7463,  34.9022,-999.0000,9,    238.7,   238.7,2,   39.24,2,    1.45,2,  -999.0,9,  -999.0,9,   2.5493,   21.97,2
740H20090307,       A095,      70,          1,          9,          9,2,20090404,       2310,  -23.12841,  -14.96706,       4212,  2266.1,   2.8260,  34.8997,  34.8981,2,    236.9,   236.6,2,   38.15,2,    1.46,2,  -999.0,9,  -999.0,9,   2.6517,   22.16,2
740H20090307,       A095,      70,          1,         10,         10,2,20090404,       2310,  -23.12841,  -14.96706,       4212,  2013.2,   2.8392,  34.8660,  34.8652,2,    228.1,   227.7,2,   42.34,2,    1.56,2,    2196,2,  2329.2,2,   2.6881,   23.61,2
740H20090307,       A095,      70,          1,         11,         11,2,20090404,       2310,  -23.12841,  -14.96706,       4212,  1760.4,   3.0296,  34.8453,  34.8442,2,    221.5,   220.8,2,   40.84,2,    1.62,2,  -999.0,9,  -999.0,9,   2.8984,   24.64,2
740H20090307,       A095,      70,          1,         12,         12,2,20090404,       2310,  -23.12841,  -14.96706,       4212,  1507.3,   3.1418,  34.7708,  34.7699,2,    204.4,   204.2,2,   46.09,2,    1.82,2,  2209.1,2,  2325.6,2,   3.0313,   27.37,2
740H20090307,       A095,      70,          1,         13,         13,2,20090404,       2310,  -23.12841,  -14.96706,       4212,  1255.5,   3.3429,  34.6274,  34.6265,2,    185.6,   185.3,2,   47.86,2,    2.07,2,  -999.0,9,  -999.0,9,   3.2516,   30.82,2
740H20090307,       A095,      70,          1,         14,         14,3,20090404,       2310,  -23.12841,  -14.96706,       4212,  1003.8,   3.6885,  34.4574,-999.0000,9,    180.8,  -999.0,9, -999.00,9, -999.00,9,  -999.0,9,  -999.0,9,   3.6150, -999.00,9
740H20090307,       A095,      70,          1,         15,         15,2,20090404,       2310,  -23.12841,  -14.96706,       4212,   876.4,   4.1009,  34.3999,  34.3979,2,    184.8,   185.5,2,   37.96,2,    2.19,2,  -999.0,9,  -999.0,9,   4.0349,   32.76,2
740H20090307,       A095,      70,          1,         16,         16,2,20090404,       2310,  -23.12841,  -14.96706,       4212,   751.3,   5.1647,  34.3857,  34.3850,2,    188.2,   188.4,2,   26.58,2,    2.04,2,  2196.2,2,  2294.1,2,   5.1027,   30.48,2
740H20090307,       A095,      70,          1,         17,         17,2,20090404,       2310,  -23.12841,  -14.96706,       4212,   625.4,   6.9456,  34.4941,  34.4940,2,    187.2,   176.0,2,   17.68,2,    1.79,2,  2179.8,2,  2290.8,2,   6.8860,   26.89,2
740H20090307,       A095,      70,          1,         18,         18,2,20090404,       2310,  -23.12841,  -14.96706,       4212,   500.3,   9.3912,  34.7281,  34.7248,2,    189.0,   200.5,2,   11.05,2,    1.40,2,  -999.0,9,  -999.0,9,   9.3346,   20.57,2
740H20090307,       A095,      70,          1,         19,         19,2,20090404,       2310,  -23.12841,  -14.96706,       4212,   375.1,  12.2609,  35.0660,  35.0575,2,    200.1,   200.5,2,    6.04,2,    0.91,2,    2133,2,  2310.8,2,  12.2109,   12.22,2
740H20090307,       A095,      70,          1,         20,         20,2,20090404,       2310,  -23.12841,  -14.96706,       4212,   249.4,  15.1664,  35.4558,  35.4508,2,    212.2,   210.8,2,    3.65,2,    0.44,2,  -999.0,9,  -999.0,9,  15.1282,    4.84,2
740H20090307,       A095,      70,          1,         21,         25,2,20090404,       2310,  -23.12841,  -14.96706,       4212,   176.0,  17.4108,  35.8044,  35.7937,2,    212.7,   210.7,2,    3.21,2,    0.27,2,  -999.0,9,  -999.0,9,  17.3812,    1.83,2
740H20090307,       A095,      70,          1,         22,         22,2,20090404,       2310,  -23.12841,  -14.96706,       4212,    99.1,  20.0919,  36.2448,  36.2456,2,    222.7,   223.5,2,    2.85,2,    0.15,2,  -999.0,9,  -999.0,9,  20.0735,   -0.02,2
740H20090307,       A095,      70,          1,         23,         23,2,20090404,       2310,  -23.12841,  -14.96706,       4212,    50.6,  23.0258,  36.4709,  36.4645,2,    227.5,   225.4,2,    2.69,2,    0.11,2,  2086.3,2,  2398.4,2,  23.0154,   -0.02,2
740H20090307,       A095,      70,          1,         24,         24,2,20090404,       2310,  -23.12841,  -14.96706,       4212,     5.7,  25.8004,  36.7863,  36.7942,2,    202.2,   201.2,2,    2.62,2,    0.13,2,  2097.6,2,  2419.2,2,  25.7991,   -0.02,2
740H20090307,       A095,      71,          1,          1,          1,2,20090405,       0641,  -23.04956,  -14.36717,       4064,  4119.9,   1.8071,  34.8189,  34.8192,2,    231.0,   231.9,2,   72.86,2,    1.74,2,  2213.4,2,    2345,2,   1.4654,   25.90,2
740H20090307,       A095,      71,          1,          2,          2,2,20090405,       0641,  -23.04956,  -14.36717,       4064,  4070.7,   1.8470,  34.8228,  34.8226,2,    231.7,   232.3,2,   71.01,2,    1.72,2,  2213.2,2,  2342.1,2,   1.5096,   25.64,2
740H20090307,       A095,      71,          1,          3,          3,2,20090405,       0641,  -23.04956,  -14.36717,       4064,  4070.0,   1.8474,  34.8230,  34.8232,2,    231.7,   232.1,2,   71.28,2,    1.74,2,  -999.0,9,  -999.0,9,   1.5101,   26.30,2
740H20090307,       A095,      71,          1,          4,          4,2,20090405,       0641,  -23.04956,  -14.36717,       4064,  3796.0,   1.9716,  34.8364,  34.8366,2,    234.0,   233.8,2,   65.64,2,    1.69,2,    2209,2,  2344.6,2,   1.6611,   24.90,2
740H20090307,       A095,      71,          1,          5,          5,2,20090405,       0641,  -23.04956,  -14.36717,       4064,  3540.7,   2.2168,  34.8595,  34.8595,2,    236.1,   236.0,2,   56.62,2,    1.61,2,  2202.7,2,  2338.8,2,   1.9274,   23.38,2
740H20090307,       A095,      71,          1,          6,          6,2,20090405,       0641,  -23.04956,  -14.36717,       4064,  3284.7,   2.3805,  34.8709,  34.8707,2,    236.2,   236.0,2,   51.93,2,    1.58,2,  2197.6,2,  2338.9,2,   2.1142,   23.60,2
740H20090307,       A095,      71,          1,          7,          7,2,20090405,       0641,  -23.04956,  -14.36717,       4064,  2774.7,   2.5745,  34.8850,  34.8846,2,    236.3,   236.6,2,   45.35,2,    1.53,2,  2192.7,2,  2337.1,2,   2.3559,   22.84,2
740H20090307,       A095,      71,          1,          8,          8,2,20090405,       0641,  -23.04956,  -14.36717,       4064,  2520.9,   2.6578,  34.8926,  34.8923,2,    237.2,   237.8,2,   42.09,2,    1.51,2,  2191.1,2,    2332,2,   2.4623,   22.92,2
740H20090307,       A095,      71,          1,          9,          9,3,20090405,       0641,  -23.04956,  -14.36717,       4064,  2267.5,   2.7394,  34.8900,-999.0000,9,    235.0,  -999.0,9, -999.00,9, -999.00,9,  -999.0,9,  -999.0,9,   2.5665, -999.00,9
740H20090307,       A095,      71,          1,         10,         10,2,20090405,       0641,  -23.04956,  -14.36717,       4064,  2015.3,   2.8349,  34.8785,  34.8780,2,    231.2,   231.3,2,   40.50,2,    1.55,2,  -999.0,9,  -999.0,9,   2.6836,   23.51,2
740H20090307,       A095,      71,          1,         11,         11,2,20090405,       0641,  -23.04956,  -14.36717,       4064,  1761.0,   3.0272,  34.8387,  34.8384,2,    219.3,   219.2,2,   41.77,2,    1.68,2,  2198.6,2,  2329.1,2,   2.8960,   24.99,2
740H20090307,       A095,      71,          1,         12,         12,2,20090405,       0641,  -23.04956,  -14.36717,       4064,  1507.7,   3.1916,  34.7796,  34.7789,2,    205.5,   205.1,2,   43.78,2,    1.81,2,  -999.0,9,  -999.0,9,   3.0804,   27.22,2
740H20090307,       A095,      71,          1,         13,         13,2,20090405,       0641,  -23.04956,  -14.36717,       4064,  1255.8,   3.3441,  34.6452,  34.6448,2,    187.1,   187.0,2,   46.13,2,    2.05,2,  2216.8,2,  2320.7,2,   3.2527,   30.66,2
740H20090307,       A095,      71,          1,         14,         14,2,20090405,       0641,  -23.04956,  -14.36717,       4064,  1004.3,   3.6338,  34.4757,  34.4760,2,    179.7,   179.1,2,   44.26,2,    2.23,2,  -999.0,9,  -999.0,9,   3.5607,   33.38,2
740H20090307,       A095,      71,          1,         15,         15,2,20090405,       0641,  -23.04956,  -14.36717,       4064,   878.3,   4.0785,  34.4046,  34.4038,2,    184.1,   184.5,2,   37.76,2,    2.21,2,  2208.7,2,  2304.5,2,   4.0124,   33.03,2
740H20090307,       A095,      71,          1,         16,         16,2,20090405,       0641,  -23.04956,  -14.36717,       4064,   752.5,   5.1197,  34.3903,  34.3900,2,    188.5,   188.2,2,   26.58,2,    2.06,2,  2195.5,2,  2292.7,2,   5.0578,   30.86,2
740H20090307,       A095,      71,          1,         17,         17,2,20090405,       0641,  -23.04956,  -14.36717,       4064,   626.4,   6.7739,  34.4890,  34.4906,2,    182.9,   183.2,2,   18.36,2,    1.85,2,  2181.7,2,  2292.1,2,   6.7149,   27.67,2
740H20090307,       A095,      71,          1,         18,         18,2,20090405,       0641,  -23.04956,  -14.36717,       4064,   501.4,   9.6711,  34.7651,  34.7626,2,    185.1,   185.1,2,   10.63,2,    1.39,2,  2159.3,2,  2298.2,2,   9.6133,   20.42,2
740H20090307,       A095,      71,          1,         19,         19,2,20090405,       0641,  -23.04956,  -14.36717,       4064,   376.3,  12.0651,  35.0362,  35.0366,2,    198.5,   199.0,2,    6.30,2,    0.94,2,  -999.0,9,  -999.0,9,  12.0155,   13.09,2
740H20090307,       A095,      71,          1,         20,         20,2,20090405,       0641,  -23.04956,  -14.36717,       4064,   251.1,  14.8342,  35.3734,  35.3730,2,    208.8,   208.6,2,    4.22,2,    0.52,2,  -999.0,9,  -999.0,9,  14.7963,    6.00,2
740H20090307,       A095,      71,          1,         21,         25,2,20090405,       0641,  -23.04956,  -14.36717,       4064,   126.0,  18.8272,  36.0486,  36.0438,2,    221.1,   220.5,2,    3.15,2,    0.17,2,  -999.0,9,  -999.0,9,  18.8048,    0.12,2
740H20090307,       A095,      71,          1,         22,         22,3,20090405,       0641,  -23.04956,  -14.36717,       4064,   101.2,  19.6945,  36.1584,-999.0000,9,    225.1,  -999.0,9, -999.00,9, -999.00,9,  -999.0,9,  -999.0,9,  19.6759, -999.00,9
740H20090307,       A095,      71,          1,         23,         23,2,20090405,       0641,  -23.04956,  -14.36717,       4064,    51.1,  24.5609,  36.5956,  36.5640,2,    214.8,   214.7,2,    2.94,2,    0.11,2,  2092.8,2,  2401.5,2,  24.5499,    0.07,2
740H20090307,       A095,      71,          1,         24,         24,2,20090405,       0641,  -23.04956,  -14.36717,       4064,     7.0,  25.5163,  36.7238,  36.7287,2,    202.0,   201.8,2,    2.87,2,    0.13,2,  2096.9,2,  2411.5,2,  25.5148,    0.17,2
740H20090307,       A095,      72,          1,          1,          1,2,20090405,       1412,  -22.90684,  -13.76679,       3824,  3876.7,   2.0050,  34.8374,  34.8374,2,    232.5,   233.5,2,   66.57,2,    1.66,2,  2210.7,2,    2347,2,   1.6847,   26.61,2
740H20090307,       A095,      72,          1,          2,          2,2,20090405,       1412,  -22.90684,  -13.76679,       3824,  3826.5,   1.9969,  34.8374,  34.8382,2,    232.4,   233.1,2,   66.63,2,    1.67,2,  2217.4,2,  2344.5,2,   1.6823,   25.68,2
740H20090307,       A095,      72,          1,          3,          3,2,20090405,       1412,  -22.90684,  -13.76679,       3824,  3827.1,   1.9962,  34.8374,-999.0000,9,    232.4,   235.7,2,   46.44,2,    1.51,2,  -999.0,9,  -999.0,9,   1.6816,   22.86,2
740H20090307,       A095,      72,          1,          4,          4,2,20090405,       1412,  -22.90684,  -13.76679,       3824,  3539.5,   2.2848,  34.8609,  34.8763,2,    235.6,   235.7,2,   56.80,2,    1.57,2,  2208.5,2,  2339.9,2,   1.9938,   24.00,2
740H20090307,       A095,      72,          1,          5,          5,2,20090405,       1412,  -22.90684,  -13.76679,       3824,  3030.0,   2.4885,  34.8764,  34.8765,2,    235.7,   235.9,2,   49.45,2,    1.52,2,  2204.5,2,  2337.5,2,   2.2460,   23.30,2
740H20090307,       A095,      72,          1,          6,          6,2,20090405,       1412,  -22.90684,  -13.76679,       3824,  2777.1,   2.5667,  34.8808,  34.8811,2,    235.6,   235.5,2,   46.90,2,    1.51,2,  -999.0,9,  -999.0,9,   2.3481,   22.98,2
740H20090307,       A095,      72,          1,          7,          7,2,20090405,       1412,  -22.90684,  -13.76679,       3824,  2775.7,   2.5658,  34.8810,  34.8809,2,    235.4,   235.3,2,   47.13,2,    1.50,2,  -999.0,9,  -999.0,9,   2.3473,   22.90,2
740H20090307,       A095,      72,          1,          8,          8,2,20090405,       1412,  -22.90684,  -13.76679,       3824,  2523.8,   2.6044,  34.8822,  34.8820,2,    235.3,   235.4,2,   45.95,2,    1.50,2,  2202.4,2,  2331.8,2,   2.4097,   22.94,2
740H20090307,       A095,      72,          1,          9,          9,2,20090405,       1412,  -22.90684,  -13.76679,       3824,  2267.0,   2.6768,  34.8804,  34.8805,2,    233.6,   233.7,2,   44.43,2,    1.51,2,  2200.8,2,  2329.3,2,   2.5051,   22.81,2
740H20090307,       A095,      72,          1,         10,         10,2,20090405,       1412,  -22.90684,  -13.76679,       3824,  2013.5,   2.7880,  34.8696,  34.8701,2,    229.2,   228.9,2,   43.55,2,    1.54,2,  2199.1,2,  2326.3,2,   2.6376,   23.59,2
740H20090307,       A095,      72,          1,         11,         11,2,20090405,       1412,  -22.90684,  -13.76679,       3824,  1763.0,   2.9832,  34.8241,  34.8240,2,    216.5,   216.5,2,   45.00,2,    1.68,2,  -999.0,9,  -999.0,9,   2.8524,   25.56,2
740H20090307,       A095,      72,          1,         12,         12,2,20090405,       1412,  -22.90684,  -13.76679,       3824,  1508.9,   3.2637,  34.7705,  34.7701,2,    203.0,   202.7,2,   44.28,2,    1.82,2,  2198.5,2,  2321.4,2,   3.1515,   27.41,2
740H20090307,       A095,      72,          1,         13,         13,2,20090405,       1412,  -22.90684,  -13.76679,       3824,  1257.6,   3.3763,  34.6560,  34.6553,2,    187.2,   187.2,2,   46.96,2,    2.04,2,  -999.0,9,  -999.0,9,   3.2844,   30.57,2
740H20090307,       A095,      72,          1,         14,         14,2,20090405,       1412,  -22.90684,  -13.76679,       3824,  1004.4,   3.6481,  34.4725,  34.4714,2,    180.0,   179.6,2,   45.31,2,    2.22,2,  2213.6,2,  2309.9,2,   3.5748,   33.20,2
740H20090307,       A095,      72,          1,         15,         15,2,20090405,       1412,  -22.90684,  -13.76679,       3824,   878.0,   4.2090,  34.3909,  34.3906,2,    187.0,   187.1,2,   36.73,2,    2.18,2,  -999.0,9,  -999.0,9,   4.1421,   32.65,2
740H20090307,       A095,      72,          1,         16,         16,2,20090405,       1412,  -22.90684,  -13.76679,       3824,   752.3,   4.7942,  34.3719,  34.3722,2,    192.8,   193.0,2,   29.58,2,    2.07,2,  2190.7,2,  2294.8,2,   4.7342,   31.43,2
740H20090307,       A095,      72,          1,         17,         17,2,20090405,       1412,  -22.90684,  -13.76679,       3824,   626.5,   6.6212,  34.4712,  34.4712,2,    189.0,   188.6,2,   19.13,2,    1.84,2,  2174.9,2,  2290.2,2,   6.5630,   27.81,2
740H20090307,       A095,      72,          1,         18,         18,2,20090405,       1412,  -22.90684,  -13.76679,       3824,   502.0,   9.1801,  34.7114,  34.7106,2,    185.9,   184.1,2,   11.81,2,    1.45,2,  -999.0,9,  -999.0,9,   9.1242,   21.54,2
740H20090307,       A095,      72,          1,         19,         19,2,20090405,       1412,  -22.90684,  -13.76679,       3824,   376.8,  11.9594,  35.0271,  35.0316,2,    195.4,   196.2,2,    6.55,2,    0.96,2,  2130.1,2,  2309.2,2,  11.9100,   13.54,2
740H20090307,       A095,      72,          1,         20,         20,2,20090405,       1412,  -22.90684,  -13.76679,       3824,   251.0,  15.0069,  35.4084,  35.3988,2,    206.3,   205.5,2,    4.12,2,    0.51,2,  -999.0,9,  -999.0,9,  14.9687,    5.98,2
740H20090307,       A095,      72,          1,         21,         25,2,20090405,       1412,  -22.90684,  -13.76679,       3824,   176.4,  17.4570,  35.8085,  35.8122,2,    213.4,   213.0,2,    3.40,2,    0.26,2,  -999.0,9,  -999.0,9,  17.4272,    1.69,2
740H20090307,       A095,      72,          1,         22,         22,2,20090405,       1412,  -22.90684,  -13.76679,       3824,   101.2,  20.5531,  36.2306,  36.2278,2,    229.3,   229.6,2,    2.98,2,    0.13,2,  -999.0,9,  -999.0,9,  20.5340,    0.19,2
740H20090307,       A095,      72,          1,         23,         23,2,20090405,       1412,  -22.90684,  -13.76679,       3824,    51.2,  24.5813,  36.6083,  36.6130,2,    210.3,   211.8,2,    2.88,2,    0.12,2,  2089.2,2,  2403.4,2,  24.5703,    0.17,2
740H20090307,       A095,      72,          1,         24,         24,2,20090405,       1412,  -22.90684,  -13.76679,       3824,     6.5,  25.8441,  36.7629,  36.7690,2,    202.4,   201.5,2,    2.60,2,    0.13,2,  2092.1,2,  2414.6,2,  25.8427,    0.20,2