BOTTLE,20211101CCHSIORKP
EXPOCODE,SECT_ID,STNNBR,CASTNO,SAMPNO,BTLNBR,BTLNBR_FLAG_W,DATE,TIME,LATITUDE,LONGITUDE,DEPTH,CTDPRS,CTDTMP,CTDSAL,SALNTY,SALNTY_FLAG_W,CTDOXY,OXYGEN,OXYGEN_FLAG_W,SILCAT,SILCAT_FLAG_W,PHSPHT,PHSPHT_FLAG_W,TCARBN,TCARBN_FLAG_W,ALKALI,ALKALI_FLAG_W,THETA,NO2+NO3,NO2+NO3_FLAG_W
,,,,,,,,,,,METERS,DBAR,ITS-90,PSS-78,PSS-78,,UMOL/KG,UMOL/KG,,UMOL/KG,,UMOL/KG,,UMOL/KG,,UMOL/KG,,DEG C,UMOL/KG,
740H20090307,       A095,      45,          1,          1,          1,2,20090324,       1946,  -23.99981,  -31.79906,       5084,  5170.0,   0.4125,  34.6777,  34.6779,2,    213.6,   213.9,2,  127.32,2,    2.26,2,  2262.4,2,  2366.1,2,  -0.0045,   32.98,2
740H20090307,       A095,      45,          1,          2,          2,2,20090324,       1946,  -23.99981,  -31.79906,       5084,  5146.8,   0.4109,  34.6778,  34.6795,2,    213.7,   214.4,2,  126.76,2,    2.26,2,  -999.0,9,  -999.0,9,  -0.0033,   33.04,2
740H20090307,       A095,      45,          1,          3,          3,2,20090324,       1946,  -23.99981,  -31.79906,       5084,  5117.1,   0.4364,  34.6801,  34.6801,2,    214.4,   214.7,2,  125.93,2,    2.25,2,  2264.6,2,  2363.4,2,   0.0248,   33.13,2
740H20090307,       A095,      45,          1,          4,          4,2,20090324,       1946,  -23.99981,  -31.79906,       5084,  4575.1,   1.1558,  34.7558,  34.7551,2,    222.0,   222.9,2,   96.61,2,    1.98,2,  -999.0,9,  -999.0,9,   0.7825,   29.44,2
740H20090307,       A095,      45,          1,          5,          5,2,20090324,       1946,  -23.99981,  -31.79906,       5084,  4056.9,   1.9081,  34.8372,  34.8359,2,    236.0,   245.7,2,   64.43,2,    1.67,2,  2206.4,2,  2344.2,2,   1.5704,   24.63,2
740H20090307,       A095,      45,          1,          6,          6,2,20090324,       1946,  -23.99981,  -31.79906,       5084,  3543.3,   2.6187,  34.9081,  34.9077,2,    245.8,   245.2,2,   36.59,2,    1.39,2,  2182.4,2,  2330.7,2,   2.3186,   20.85,2
740H20090307,       A095,      45,          1,          7,          7,2,20090324,       1946,  -23.99981,  -31.79906,       5084,  3031.0,   2.8357,  34.9222,  34.9217,2,    243.8,   243.6,2,   32.92,2,    1.38,2,  2173.1,2,    2326,2,   2.5853,   20.76,2
740H20090307,       A095,      45,          1,          8,          8,2,20090324,       1946,  -23.99981,  -31.79906,       5084,  2520.4,   3.1019,  34.9384,  34.9384,2,    244.4,   243.8,2,   27.91,2,    1.34,2,  2170.7,2,  2327.5,2,   2.8981,   20.33,2
740H20090307,       A095,      45,          1,          9,          9,2,20090324,       1946,  -23.99981,  -31.79906,       5084,  2265.3,   3.2854,  34.9479,  34.9478,2,    244.1,   243.2,2,   25.12,2,    1.33,2,  -999.0,9,  -999.0,9,   3.1033,   19.98,2
740H20090307,       A095,      45,          1,         10,         10,2,20090324,       1946,  -23.99981,  -31.79906,       5084,  2010.9,   3.4825,  34.9522,  34.9535,2,    241.0,   240.7,2,   23.27,2,    1.33,2,  2169.6,2,  2319.2,2,   3.3216,   20.26,2
740H20090307,       A095,      45,          1,         11,         11,3,20090324,       1946,  -23.99981,  -31.79906,       5084,  1756.4,   3.6634,  34.9363,-999.0000,9,    232.2,   204.2,4,   14.19,4,    0.91,4,  -999.0,9,  -999.0,9,   3.5239,   13.01,4
740H20090307,       A095,      45,          1,         12,         12,2,20090324,       1946,  -23.99981,  -31.79906,       5084,  1502.8,   3.6286,  34.8259,  34.8275,2,    206.1,   206.8,2,   34.54,2,    1.73,2,  2194.2,2,  2321.2,2,   3.5127,   25.74,2
740H20090307,       A095,      45,          1,         13,         13,2,20090324,       1946,  -23.99981,  -31.79906,       5084,  1250.2,   3.4132,  34.6099,  34.6096,2,    184.0,   183.9,2,   45.53,2,    2.11,2,  -999.0,9,  -999.0,9,   3.3216,   31.53,2
740H20090307,       A095,      45,          1,         14,         14,2,20090324,       1946,  -23.99981,  -31.79906,       5084,   997.9,   3.7593,  34.4468,  34.4457,2,    181.5,   181.1,2,   40.50,2,    2.24,2,  2195.6,2,    2321,2,   3.6857,   32.78,2
740H20090307,       A095,      45,          1,         15,         15,2,20090324,       1946,  -23.99981,  -31.79906,       5084,   882.3,   4.3075,  34.4002,  34.4008,2,    181.9,   180.9,2,   34.13,2,    2.20,2,  -999.0,9,  -999.0,9,   4.2396,   32.60,2
740H20090307,       A095,      45,          1,         16,         16,2,20090324,       1946,  -23.99981,  -31.79906,       5084,   755.4,   5.5444,  34.4271,  34.4248,2,    179.6,   176.6,2,   24.19,2,    2.07,2,  2209.7,2,    2312,2,   5.4798,   30.89,2
740H20090307,       A095,      45,          1,         17,         17,2,20090324,       1946,  -23.99981,  -31.79906,       5084,   629.6,   7.3224,  34.5393,  34.5306,2,    178.6,   179.2,2,   16.38,2,    1.82,2,  2175.3,2,  2291.6,2,   7.2605,   26.79,2
740H20090307,       A095,      45,          1,         18,         18,2,20090324,       1946,  -23.99981,  -31.79906,       5084,   504.0,   9.9592,  34.7985,  34.7987,2,    183.3,   183.9,2,    9.80,2,    1.35,2,  -999.0,9,  -999.0,9,   9.9001,   19.55,2
740H20090307,       A095,      45,          1,         19,         19,2,20090324,       1946,  -23.99981,  -31.79906,       5084,   377.7,  12.6831,  35.1263,  35.1222,2,    196.4,   195.7,2,    5.55,2,    0.87,2,  2126.9,2,  2313.5,2,  12.6315,   11.88,2
740H20090307,       A095,      45,          1,         20,         20,2,20090324,       1946,  -23.99981,  -31.79906,       5084,   251.5,  15.9268,  35.5694,  35.5603,2,    207.1,   205.4,2,    3.23,2,    0.40,2,  -999.0,9,  -999.0,9,  15.8869,    4.12,2
740H20090307,       A095,      45,          1,         21,         21,2,20090324,       1946,  -23.99981,  -31.79906,       5084,   175.9,  18.5787,  36.0405,  36.0204,2,    209.2,   207.6,2,    2.54,2,    0.17,2,  2092.5,2,  2365.6,2,  18.5476,    0.98,2
740H20090307,       A095,      45,          1,         22,         22,2,20090324,       1946,  -23.99981,  -31.79906,       5084,   101.0,  21.8093,  36.5916,  36.5763,2,    206.4,   206.7,2,    2.40,2,    0.09,2,  -999.0,9,  -999.0,9,  21.7893,    0.05,2
740H20090307,       A095,      45,          1,         23,         23,2,20090324,       1946,  -23.99981,  -31.79906,       5084,    50.4,  25.7485,  36.8085,  36.8235,2,    223.2,   218.5,2,    2.41,2,   -0.01,2,    2064,2,  2415.4,2,  25.7373,    0.00,2
740H20090307,       A095,      45,          1,         24,         24,2,20090324,       1946,  -23.99981,  -31.79906,       5084,     5.6,  27.6177,  36.9474,  36.9485,2,    195.1,   195.5,2,    2.34,2,    0.00,2,  -999.0,9,  -999.0,9,  27.6164,    0.01,2
740H20090307,       A095,      46,          1,          1,          1,2,20090325,       0344,  -23.99955,  -31.16921,       5166,  5253.8,   0.4058,  34.6762,  34.6761,2,    214.1,   214.6,2,  128.97,2,    2.25,2,    2259,2,  2365.2,2,  -0.0208,   33.42,2
740H20090307,       A095,      46,          1,          2,          2,2,20090325,       0344,  -23.99955,  -31.16921,       5166,  5202.7,   0.4244,  34.6783,  34.6801,2,    214.8,   214.2,2,  127.88,2,    2.25,2,  2259.1,2,  2367.8,2,   0.0031,   34.04,2
740H20090307,       A095,      46,          1,          3,          3,2,20090325,       0344,  -23.99955,  -31.16921,       5166,  4841.2,   0.9110,  34.7284,  34.7284,2,    219.9,   219.4,2,  108.07,2,    2.06,2,  2242.6,2,  2363.5,2,   0.5151,   30.98,2
740H20090307,       A095,      46,          1,          4,          4,2,20090325,       0344,  -23.99955,  -31.16921,       5166,  4325.0,   1.4669,  34.7902,  34.7894,2,    228.9,   228.2,2,   83.55,2,    1.84,2,  2220.1,2,  2353.6,2,   1.1122,   27.58,2
740H20090307,       A095,      46,          1,          5,          5,2,20090325,       0344,  -23.99955,  -31.16921,       5166,  3808.4,   2.2353,  34.8723,  34.8725,2,    241.4,   241.2,2,   50.83,2,    1.51,2,  2190.4,2,  2340.8,2,   1.9161,   22.82,2
740H20090307,       A095,      46,          1,          6,          6,2,20090325,       0344,  -23.99955,  -31.16921,       5166,  3295.1,   2.6823,  34.9141,  34.9143,2,    245.2,   244.8,2,   35.57,2,    1.38,2,  2180.7,2,  2333.3,2,   2.4076,   20.86,2
740H20090307,       A095,      46,          1,          7,          7,2,20090325,       0344,  -23.99955,  -31.16921,       5166,  2782.1,   2.9025,  34.9271,  34.9260,2,    243.6,   244.0,2,   31.69,2,    1.36,2,  2174.4,2,  2333.4,2,   2.6763,   20.89,2
740H20090307,       A095,      46,          1,          8,          8,2,20090325,       0344,  -23.99955,  -31.16921,       5166,  2526.7,   3.0394,  34.9346,  34.9345,2,    243.7,   243.6,2,   29.36,2,    1.35,2,  -999.0,9,  -999.0,9,   2.8362,   20.83,2
740H20090307,       A095,      46,          1,          9,          9,2,20090325,       0344,  -23.99955,  -31.16921,       5166,  2271.8,   3.2132,  34.9430,  34.9426,2,    243.5,   243.4,2,   26.42,2,    1.33,2,  -999.0,9,  -999.0,9,   3.0318,   20.53,2
740H20090307,       A095,      46,          1,         10,         10,2,20090325,       0344,  -23.99955,  -31.16921,       5166,  2017.4,   3.3586,  34.9350,  34.9342,2,    238.3,   238.7,2,   26.78,2,    1.38,2,  -999.0,9,  -999.0,9,   3.1990,   21.25,2
740H20090307,       A095,      46,          1,         11,         11,2,20090325,       0344,  -23.99955,  -31.16921,       5166,  1764.2,   3.4258,  34.8898,  34.8890,2,    224.0,   224.6,2,   32.06,4,    1.52,4,  -999.0,9,  -999.0,9,   3.2888,   23.56,4
740H20090307,       A095,      46,          1,         12,         12,2,20090325,       0344,  -23.99955,  -31.16921,       5166,  1510.7,   3.5588,  34.8053,  34.8048,2,    203.2,   203.1,2,   37.67,2,    1.77,2,  -999.0,9,  -999.0,9,   3.4431,   26.87,2
740H20090307,       A095,      46,          1,         13,         13,2,20090325,       0344,  -23.99955,  -31.16921,       5166,  1257.5,   3.2829,  34.5973,  34.5958,2,    184.2,   183.0,2,   49.49,2,    2.14,2,  -999.0,9,  -999.0,9,   3.1921,   32.28,2
740H20090307,       A095,      46,          1,         14,         14,2,20090325,       0344,  -23.99955,  -31.16921,       5166,  1004.3,   3.6987,  34.4092,  34.4074,2,    186.7,   185.2,2,   42.10,2,    2.24,2,  -999.0,9,  -999.0,9,   3.6251,   33.15,2
740H20090307,       A095,      46,          1,         15,         15,2,20090325,       0344,  -23.99955,  -31.16921,       5166,   879.0,   4.4081,  34.3680,  34.3677,2,    191.7,   191.4,2,   31.99,2,    2.14,2,  2195.5,2,  2322.1,3,   4.3398,   32.27,2
740H20090307,       A095,      46,          1,         16,         16,2,20090325,       0344,  -23.99955,  -31.16921,       5166,   752.7,   5.6031,  34.4028,  34.4012,2,    198.9,   191.1,2,   22.50,2,    1.97,2,  -999.0,9,  -999.0,9,   5.5384,   30.01,2
740H20090307,       A095,      46,          1,         17,         17,2,20090325,       0344,  -23.99955,  -31.16921,       5166,   626.7,   7.7047,  34.5704,  34.5713,2,    178.2,   177.1,2,   15.48,2,    1.74,2,  2170.5,2,  2300.7,3,   7.6413,   26.38,2
740H20090307,       A095,      46,          1,         18,         18,2,20090325,       0344,  -23.99955,  -31.16921,       5166,   500.4,  10.3304,  34.8455,  34.8471,2,    177.3,   176.8,2,    9.43,2,    1.34,2,  2152.6,2,  2309.7,3,  10.2703,   19.72,2
740H20090307,       A095,      46,          1,         19,         19,2,20090325,       0344,  -23.99955,  -31.16921,       5166,   375.4,  13.1660,  35.1890,  35.1891,2,    198.2,   198.9,2,    4.75,2,    0.77,2,  -999.0,9,  -999.0,9,  13.1135,   10.52,2
740H20090307,       A095,      46,          1,         20,         20,2,20090325,       0344,  -23.99955,  -31.16921,       5166,   249.4,  16.3154,  35.6311,  35.6124,2,    203.3,   203.2,2,    3.08,2,    0.39,2,  2102.2,2,  2345.8,3,  16.2752,    3.92,2
740H20090307,       A095,      46,          1,         21,         21,2,20090325,       0344,  -23.99955,  -31.16921,       5166,   174.5,  19.1499,  36.1340,  36.1315,2,    206.0,   205.0,2,    2.38,2,    0.18,2,  -999.0,9,  -999.0,9,  19.1184,    0.75,2
740H20090307,       A095,      46,          1,         22,         22,2,20090325,       0344,  -23.99955,  -31.16921,       5166,    99.1,  22.1565,  36.6491,  36.6345,2,    213.2,   213.9,2,    2.23,2,    0.13,2,  2089.2,2,  2410.8,3,  22.1366,   -0.04,2
740H20090307,       A095,      46,          1,         23,         23,2,20090325,       0344,  -23.99955,  -31.16921,       5166,    48.4,  24.7054,  36.7380,  36.7443,2,    220.6,   219.9,2,    2.28,2,    0.06,2,  -999.0,9,  -999.0,9,  24.6949,   -0.05,2
740H20090307,       A095,      46,          1,         24,         24,2,20090325,       0344,  -23.99955,  -31.16921,       5166,     3.1,  27.2814,  36.9344,  36.9448,2,    195.4,   194.3,2,    2.17,2,    0.05,2,  2073.2,2,  2428.9,3,  27.2807,   -0.05,2
740H20090307,       A095,      47,          1,          1,          1,2,20090325,       1158,  -23.99794,  -30.53285,       5268,  5359.3,   0.4489,  34.6786,  34.6788,2,    213.5,   213.9,2,  126.13,2,    2.24,2,  2258.8,2,  2359.3,2,   0.0081,   34.77,2
740H20090307,       A095,      47,          1,          2,          2,2,20090325,       1158,  -23.99794,  -30.53285,       5268,  5304.6,   0.4932,  34.6833,  34.6835,2,    214.4,   214.2,2,  123.99,2,    2.22,2,  2256.9,2,  2357.7,2,   0.0574,   33.48,2
740H20090307,       A095,      47,          1,          3,          3,2,20090325,       1158,  -23.99794,  -30.53285,       5268,  5090.2,   0.6574,  34.7018,  34.7034,2,    216.7,   216.3,2,  117.05,2,    2.16,2,    2252,2,  2356.6,2,   0.2411,   32.69,2
740H20090307,       A095,      47,          1,          4,          4,2,20090325,       1158,  -23.99794,  -30.53285,       5268,  4575.0,   1.2017,  34.7608,  34.7610,2,    224.0,   223.4,2,   94.02,2,    1.93,2,    2232,2,  2350.1,2,   0.8269,   29.25,2
740H20090307,       A095,      47,          1,          5,          5,2,20090325,       1158,  -23.99794,  -30.53285,       5268,  4058.2,   1.7632,  34.8235,  34.8239,2,    233.6,   233.4,2,   69.44,2,    1.69,2,  2208.3,2,  2338.3,2,   1.4295,   25.80,2
740H20090307,       A095,      47,          1,          6,          6,2,20090325,       1158,  -23.99794,  -30.53285,       5268,  3544.7,   2.5177,  34.9009,  34.9004,2,    245.4,   244.8,2,   39.64,2,    1.40,2,  2180.8,2,    2322,2,   2.2201,   20.95,2
740H20090307,       A095,      47,          1,          7,          7,2,20090325,       1158,  -23.99794,  -30.53285,       5268,  3039.6,   2.7878,  34.9205,  34.9207,2,    243.9,   243.3,2,   33.65,2,    1.37,2,  2174.6,2,  2318.6,2,   2.5376,   20.99,2
740H20090307,       A095,      47,          1,          8,          8,2,20090325,       1158,  -23.99794,  -30.53285,       5268,  2528.3,   3.0120,  34.9335,  34.9337,2,    243.6,   243.6,2,   29.89,2,    1.35,2,  2171.8,2,  2317.7,2,   2.8091,   20.44,2
740H20090307,       A095,      47,          1,          9,          9,2,20090325,       1158,  -23.99794,  -30.53285,       5268,  2275.6,   3.1717,  34.9402,  34.9405,2,    243.0,   242.4,2,   27.41,2,    1.34,2,  -999.0,9,  -999.0,9,   2.9906,   20.76,2
740H20090307,       A095,      47,          1,         10,         10,2,20090325,       1158,  -23.99794,  -30.53285,       5268,  2021.8,   3.3468,  34.9381,  34.9387,2,    239.6,   238.7,2,   26.49,2,    1.37,2,  2173.6,2,  2318.9,2,   3.1871,   21.19,2
740H20090307,       A095,      47,          1,         11,         11,2,20090325,       1158,  -23.99794,  -30.53285,       5268,  1767.7,   3.4377,  34.8980,  34.9014,2,    226.2,   226.7,2,   30.51,2,    1.49,2,  -999.0,9,  -999.0,9,   3.3003,   23.27,2
740H20090307,       A095,      47,          1,         12,         12,2,20090325,       1158,  -23.99794,  -30.53285,       5268,  1513.5,   3.2913,  34.7768,  34.7780,2,    202.3,   201.7,2,   42.83,2,    1.82,2,  2204.2,2,  2322.1,2,   3.1784,   27.62,2
740H20090307,       A095,      47,          1,         13,         13,2,20090325,       1158,  -23.99794,  -30.53285,       5268,  1260.7,   3.2051,  34.5826,  34.5884,2,    183.2,   182.5,2,   50.67,2,    2.14,2,  -999.0,9,  -999.0,9,   3.1148,   32.00,2
740H20090307,       A095,      47,          1,         14,         14,2,20090325,       1158,  -23.99794,  -30.53285,       5268,  1007.8,   3.7533,  34.4272,  34.4290,2,    182.8,   181.4,2,   42.26,2,    2.22,2,  2211.6,2,  2305.2,2,   3.6790,   33.90,2
740H20090307,       A095,      47,          1,         15,         15,2,20090325,       1158,  -23.99794,  -30.53285,       5268,   881.1,   4.4280,  34.3802,  34.3814,2,    186.9,   186.2,2,   32.63,2,    2.16,2,  -999.0,9,  -999.0,9,   4.3594,   33.23,2
740H20090307,       A095,      47,          1,         16,         16,2,20090325,       1158,  -23.99794,  -30.53285,       5268,   755.7,   5.6100,  34.3986,  34.3993,2,    192.5,   191.9,2,   22.63,2,    1.97,2,  2183.3,2,  2289.5,2,   5.5450,   29.99,2
740H20090307,       A095,      47,          1,         17,         17,2,20090325,       1158,  -23.99794,  -30.53285,       5268,   629.0,   8.0602,  34.5970,  34.6003,2,    184.6,   184.5,2,   13.44,2,    1.61,2,  2163.7,2,  2290.6,2,   7.9948,   23.91,2
740H20090307,       A095,      47,          1,         18,         18,2,20090325,       1158,  -23.99794,  -30.53285,       5268,   503.2,  10.5759,  34.8702,  34.8656,2,    188.2,   187.7,2,    8.34,2,    1.23,2,  -999.0,9,  -999.0,9,  10.5146,   17.82,2
740H20090307,       A095,      47,          1,         19,         19,2,20090325,       1158,  -23.99794,  -30.53285,       5268,   377.4,  13.4479,  35.2166,  35.2162,2,    196.1,   196.7,2,    4.73,2,    0.76,2,    2121,2,  2314.1,2,  13.3944,    9.98,2
740H20090307,       A095,      47,          1,         20,         20,2,20090325,       1158,  -23.99794,  -30.53285,       5268,   251.8,  16.9070,  35.7267,  35.7148,2,    202.9,   201.8,2,    2.85,2,    0.35,2,  -999.0,9,  -999.0,9,  16.8653,    3.09,2
740H20090307,       A095,      47,          1,         21,         21,2,20090325,       1158,  -23.99794,  -30.53285,       5268,   176.0,  19.5227,  36.1896,  36.1633,2,    207.3,   206.0,2,    2.28,2,    0.18,2,  2095.2,2,  2372.6,2,  19.4905,    0.52,2
740H20090307,       A095,      47,          1,         22,         22,2,20090325,       1158,  -23.99794,  -30.53285,       5268,   121.0,  21.5424,  36.5539,  36.5232,2,    211.7,   212.9,2,    2.19,2,    0.12,2,  -999.0,9,  -999.0,9,  21.5187,    0.22,2
740H20090307,       A095,      47,          1,         23,         23,2,20090325,       1158,  -23.99794,  -30.53285,       5268,    50.3,  24.2839,  36.7350,  36.7339,2,    222.0,   219.7,2,    2.19,2,    0.08,2,  2078.9,2,  2408.6,2,  24.2732,    0.08,2
740H20090307,       A095,      47,          1,         24,         24,2,20090325,       1158,  -23.99794,  -30.53285,       5268,     5.1,  27.0983,  36.9804,  36.9818,2,    195.6,   195.5,2,    2.10,2,    0.06,2,  2079.6,2,  2426.7,2,  27.0971,   -0.04,2