BOTTLE,20211101CCHSIORKP
EXPOCODE,SECT_ID,STNNBR,CASTNO,SAMPNO,BTLNBR,BTLNBR_FLAG_W,DATE,TIME,LATITUDE,LONGITUDE,DEPTH,CTDPRS,CTDTMP,CTDSAL,SALNTY,SALNTY_FLAG_W,CTDOXY,OXYGEN,OXYGEN_FLAG_W,SILCAT,SILCAT_FLAG_W,PHSPHT,PHSPHT_FLAG_W,TCARBN,TCARBN_FLAG_W,ALKALI,ALKALI_FLAG_W,THETA,NO2+NO3,NO2+NO3_FLAG_W
,,,,,,,,,,,METERS,DBAR,ITS-90,PSS-78,PSS-78,,UMOL/KG,UMOL/KG,,UMOL/KG,,UMOL/KG,,UMOL/KG,,UMOL/KG,,DEG C,UMOL/KG,
740H20090307,       A095,      85,          1,          1,          1,2,20090410,       0237,  -23.99962,   -5.08445,       5234,  5323.7,   2.5066,  34.8830,  34.8836,2,    227.3,   228.7,3,   54.75,2,    1.55,2,  2212.8,3,  2368.5,2,   1.9952,   23.51,2
740H20090307,       A095,      85,          1,          2,          2,2,20090410,       0237,  -23.99962,   -5.08445,       5234,  5273.1,   2.5000,  34.8829,  34.8842,2,    227.8,   227.4,2,   54.32,2,    1.55,2,  2216.1,2,    2367,2,   1.9955,   23.60,2
740H20090307,       A095,      85,          1,          3,          3,3,20090410,       0237,  -23.99962,   -5.08445,       5234,  4820.4,   2.4450,  34.8833,  34.8297,2,    227.1,   215.1,3,   42.54,3,    1.68,3,  -999.0,9,  -999.0,9,   2.0001,   25.43,3
740H20090307,       A095,      85,          1,          4,          4,2,20090410,       0237,  -23.99962,   -5.08445,       5234,  4308.2,   2.3875,  34.8836,  34.8837,2,    228.0,   226.7,2,   54.50,2,    1.56,2,  2211.8,2,  2366.8,2,   2.0067,   23.47,2
740H20090307,       A095,      85,          1,          5,          5,2,20090410,       0237,  -23.99962,   -5.08445,       5234,  4051.3,   2.3649,  34.8835,  34.8844,2,    227.3,   226.6,2,   53.89,2,    1.55,2,  2211.2,2,  2363.3,2,   2.0147,   23.23,2
740H20090307,       A095,      85,          1,          6,          6,3,20090410,       0237,  -23.99962,   -5.08445,       5234,  3795.9,   2.3508,  34.8829,  34.8841,2,    227.9,   227.6,2,   53.92,2,    1.55,2,  2210.1,2,  2362.3,2,   2.0298,   23.70,2
740H20090307,       A095,      85,          1,          7,          7,2,20090410,       0237,  -23.99962,   -5.08445,       5234,  3285.4,   2.3594,  34.8772,  34.8783,2,    230.7,   229.9,2,   52.35,2,    1.56,2,  2203.4,2,  2351.7,2,   2.0935,   23.28,2
740H20090307,       A095,      85,          1,          8,          8,2,20090410,       0237,  -23.99962,   -5.08445,       5234,  2775.0,   2.4293,  34.8677,  34.8689,2,    232.4,   231.8,2,   50.52,2,    1.57,2,  2195.7,2,  2342.1,2,   2.2137,   23.40,2
740H20090307,       A095,      85,          1,          9,          9,2,20090410,       0237,  -23.99962,   -5.08445,       5234,  2395.6,   2.5344,  34.8600,  34.8612,2,    229.2,   229.0,2,   49.14,2,    1.59,2,  2194.4,2,  2336.7,2,   2.3532,   23.74,2
740H20090307,       A095,      85,          1,         10,         10,2,20090410,       0237,  -23.99962,   -5.08445,       5234,  2015.1,   2.7792,  34.8534,  34.8546,2,    224.2,   223.9,2,   45.30,2,    1.63,2,  -999.0,9,  -999.0,9,   2.6289,   23.88,2
740H20090307,       A095,      85,          1,         11,         11,2,20090410,       0237,  -23.99962,   -5.08445,       5234,  1762.7,   3.0493,  34.8288,  34.8302,2,    215.6,   215.4,2,   42.71,2,    1.69,2,  2195.9,2,  2329.9,2,   2.9176,   25.33,2
740H20090307,       A095,      85,          1,         12,         12,2,20090410,       0237,  -23.99962,   -5.08445,       5234,  1509.3,   3.3481,  34.7714,  34.7736,2,    200.3,   200.4,2,   41.08,2,    1.83,2,  -999.0,9,  -999.0,9,   3.2350,   27.36,2
740H20090307,       A095,      85,          1,         13,         13,2,20090410,       0237,  -23.99962,   -5.08445,       5234,  1257.3,   3.4803,  34.6585,  34.6594,2,    183.7,   184.1,2,   43.62,2,    2.03,2,  2212.7,2,  2322.9,2,   3.3874,   30.41,2
740H20090307,       A095,      85,          1,         14,         14,2,20090410,       0237,  -23.99962,   -5.08445,       5234,  1004.2,   3.5995,  34.5037,  34.5037,2,    175.2,   174.9,2,   44.78,2,    2.22,2,  -999.0,9,  -999.0,9,   3.5265,   33.08,2
740H20090307,       A095,      85,          1,         15,         15,2,20090410,       0237,  -23.99962,   -5.08445,       5234,   878.9,   3.8592,  34.4190,  34.4202,2,    178.8,   178.7,2,   40.90,2,    2.24,2,  2212.7,2,  2309.7,2,   3.7946,   33.53,2
740H20090307,       A095,      85,          1,         16,         16,2,20090410,       0237,  -23.99962,   -5.08445,       5234,   753.3,   4.4787,  34.3668,  34.3677,2,    187.8,   189.5,2,   31.70,2,    2.13,2,  -999.0,9,  -999.0,9,   4.4204,   32.05,2
740H20090307,       A095,      85,          1,         17,         17,2,20090410,       0237,  -23.99962,   -5.08445,       5234,   628.3,   5.9255,  34.4115,  34.4092,2,    191.6,   192.2,2,   20.87,2,    1.92,2,  2177.5,3,  2294.8,2,   5.8705,   28.67,2
740H20090307,       A095,      85,          1,         18,         18,2,20090410,       0237,  -23.99962,   -5.08445,       5234,   501.9,   8.4587,  34.6283,  34.6302,2,    184.0,   184.5,2,   13.33,2,    1.57,2,  2162.9,2,  2297.5,2,   8.4055,   22.80,2
740H20090307,       A095,      85,          1,         19,         19,2,20090410,       0237,  -23.99962,   -5.08445,       5234,   376.5,  11.3407,  34.9541,  34.9564,2,    198.3,   199.1,2,    7.24,2,    1.05,2,  -999.0,9,  -999.0,9,  11.2930,   14.54,2
740H20090307,       A095,      85,          1,         20,         20,2,20090410,       0237,  -23.99962,   -5.08445,       5234,   252.0,  13.5933,  35.1950,  35.2025,2,    202.8,   204.3,2,    4.83,2,    0.68,2,  2115.3,2,  2322.9,2,  13.5574,    8.49,2
740H20090307,       A095,      85,          1,         21,         25,2,20090410,       0237,  -23.99962,   -5.08445,       5234,   177.3,  15.3691,  35.4300,  35.4302,2,    208.6,   207.8,2,    4.21,2,    0.49,2,  -999.0,9,  -999.0,9,  15.3417,    5.26,2
740H20090307,       A095,      85,          1,         22,         22,2,20090410,       0237,  -23.99962,   -5.08445,       5234,   101.6,  18.8295,  35.9065,  35.8954,2,    232.6,   232.9,2,    3.16,2,    0.16,2,  2076.5,2,  2363.9,2,  18.8115,    0.02,2
740H20090307,       A095,      85,          1,         23,         23,2,20090410,       0237,  -23.99962,   -5.08445,       5234,    52.2,  23.8651,  36.5749,  36.5698,2,    208.9,   208.4,2,    2.83,2,    0.16,2,  -999.0,9,  -999.0,9,  23.8541,   -0.05,2
740H20090307,       A095,      85,          1,         24,         24,2,20090410,       0237,  -23.99962,   -5.08445,       5234,     6.7,  23.8547,  36.5766,  36.5825,2,    209.6,   208.0,2,    2.74,2,    0.16,2,  2091.8,2,  2409.3,2,  23.8532,   -0.04,2
740H20090307,       A095,      86,          1,          1,          1,2,20090410,       1225,  -23.99918,   -4.19635,       5151,  5232.1,   2.4952,  34.8830,  34.8842,2,    226.9,   226.6,2,   54.84,2,    1.57,2,  2213.5,2,  2358.8,2,   1.9963,   23.83,2
740H20090307,       A095,      86,          1,          2,          2,2,20090410,       1225,  -23.99918,   -4.19635,       5151,  5181.3,   2.4881,  34.8830,  34.8844,2,    227.4,   226.9,2,   54.97,2,    1.57,2,  2215.2,2,  2360.5,2,   1.9960,   23.91,2
740H20090307,       A095,      86,          1,          3,          3,2,20090410,       1225,  -23.99918,   -4.19635,       5151,  5182.7,   2.4883,  34.8832,  34.8835,2,    226.6,   226.9,2,   55.03,2,    1.57,2,  -999.0,9,  -999.0,9,   1.9960,   23.61,2
740H20090307,       A095,      86,          1,          4,          4,2,20090410,       1225,  -23.99918,   -4.19635,       5151,  4564.6,   2.4129,  34.8834,  34.8838,2,    227.2,   226.9,2,   55.37,2,    1.57,2,  2216.5,2,  2361.2,2,   2.0005,   23.64,2
740H20090307,       A095,      86,          1,          5,          5,2,20090410,       1225,  -23.99918,   -4.19635,       5151,  4052.9,   2.3643,  34.8834,  34.8838,2,    227.3,   227.1,2,   54.90,2,    1.56,2,    2216,2,  2361.9,2,   2.0138,   23.59,2
740H20090307,       A095,      86,          1,          6,          6,2,20090410,       1225,  -23.99918,   -4.19635,       5151,  3540.6,   2.3546,  34.8805,  34.8815,2,    228.9,   228.1,2,   54.22,2,    1.58,2,  2211.7,2,  2360.7,2,   2.0616,   24.42,2
740H20090307,       A095,      86,          1,          7,          7,2,20090410,       1225,  -23.99918,   -4.19635,       5151,  3031.6,   2.3984,  34.8730,  34.8733,2,    232.6,   231.9,2,   51.85,2,    1.57,2,  2201.1,2,    2341,2,   2.1577,   23.52,2
740H20090307,       A095,      86,          1,          8,          8,2,20090410,       1225,  -23.99918,   -4.19635,       5151,  2522.9,   2.5389,  34.8706,  34.8712,2,    232.0,   231.8,2,   48.50,2,    1.57,2,  2194.1,2,  2340.3,2,   2.3456,   23.83,2
740H20090307,       A095,      86,          1,          9,          9,2,20090410,       1225,  -23.99918,   -4.19635,       5151,  2268.8,   2.6357,  34.8623,  34.8634,2,    228.8,   228.2,2,   47.34,2,    1.60,2,  -999.0,9,  -999.0,9,   2.4645,   24.03,2
740H20090307,       A095,      86,          1,         10,         10,2,20090410,       1225,  -23.99918,   -4.19635,       5151,  2017.0,   2.7822,  34.8501,  34.8509,2,    223.4,   222.9,2,   46.38,2,    1.64,2,  2197.5,2,  2333.8,2,   2.6317,   24.83,2
740H20090307,       A095,      86,          1,         11,         11,2,20090410,       1225,  -23.99918,   -4.19635,       5151,  1764.3,   3.0043,  34.8208,  34.8225,2,    214.7,   213.9,2,   44.88,2,    1.71,2,  -999.0,9,  -999.0,9,   2.8731,   25.93,2
740H20090307,       A095,      86,          1,         12,         12,2,20090410,       1225,  -23.99918,   -4.19635,       5151,  1510.1,   3.2921,  34.7755,  34.7765,2,    201.2,   200.9,2,   42.67,2,    1.84,2,  2205.6,2,  2330.2,2,   3.1796,   28.39,2
740H20090307,       A095,      86,          1,         13,         13,2,20090410,       1225,  -23.99918,   -4.19635,       5151,  1258.0,   3.4756,  34.6710,  34.6738,2,    185.1,   185.4,2,   43.33,2,    2.02,2,  -999.0,9,  -999.0,9,   3.3827,   30.33,2
740H20090307,       A095,      86,          1,         14,         14,2,20090410,       1225,  -23.99918,   -4.19635,       5151,  1005.9,   3.4952,  34.5006,  34.5004,2,    176.1,   175.6,2,   47.76,2,    2.25,2,  2227.2,2,  2337.6,3,   3.4230,   33.57,2
740H20090307,       A095,      86,          1,         15,         15,2,20090410,       1225,  -23.99918,   -4.19635,       5151,   880.2,   3.7406,  34.4212,  34.4236,2,    179.8,   179.5,2,   43.89,2,    2.26,2,  -999.0,9,  -999.0,9,   3.6767,   33.61,2
740H20090307,       A095,      86,          1,         16,         16,2,20090410,       1225,  -23.99918,   -4.19635,       5151,   753.6,   4.5643,  34.3635,  34.3645,2,    191.1,   190.4,2,   31.20,2,    2.13,2,    2200,2,  2298.3,2,   4.5056,   32.30,2
740H20090307,       A095,      86,          1,         17,         17,2,20090410,       1225,  -23.99918,   -4.19635,       5151,   628.0,   5.8788,  34.4098,  34.4099,2,    190.7,   190.0,2,   21.13,2,    1.94,2,  2186.6,2,  2290.4,2,   5.8241,   29.22,2
740H20090307,       A095,      86,          1,         18,         18,2,20090410,       1225,  -23.99918,   -4.19635,       5151,   502.4,   8.6658,  34.6489,  34.6442,2,    183.8,   183.0,2,   13.02,2,    1.54,2,  -999.0,9,  -999.0,9,   8.6117,   22.69,2
740H20090307,       A095,      86,          1,         19,         19,2,20090410,       1225,  -23.99918,   -4.19635,       5151,   378.1,  11.1951,  34.9359,  34.9376,2,    196.3,   196.2,2,    7.43,2,    1.06,2,  2141.3,2,  2305.2,2,  11.1476,   15.40,2
740H20090307,       A095,      86,          1,         20,         20,2,20090410,       1225,  -23.99918,   -4.19635,       5151,   252.4,  13.7584,  35.2175,  35.2052,2,    202.5,   198.5,2,    5.00,2,    0.71,2,  -999.0,9,  -999.0,9,  13.7222,    9.23,2
740H20090307,       A095,      86,          1,         21,         25,2,20090410,       1225,  -23.99918,   -4.19635,       5151,   177.3,  16.2332,  35.5850,  35.5892,2,    215.0,   214.3,2,    3.86,2,    0.36,2,  -999.0,9,  -999.0,9,  16.2047,    3.26,2
740H20090307,       A095,      86,          1,         22,         22,2,20090410,       1225,  -23.99918,   -4.19635,       5151,   112.6,  18.3234,  35.8750,  35.8729,2,    230.7,   230.3,2,    3.10,2,    0.16,2,  -999.0,9,  -999.0,9,  18.3038,   -0.11,2
740H20090307,       A095,      86,          1,         23,         23,2,20090410,       1225,  -23.99918,   -4.19635,       5151,    52.6,  23.5174,  36.4521,  36.4494,2,    211.8,   209.2,2,    2.75,2,    0.16,2,  2090.6,2,  2394.7,2,  23.5064,   -0.20,2
740H20090307,       A095,      86,          1,         24,         24,2,20090410,       1225,  -23.99918,   -4.19635,       5151,     7.3,  23.6027,  36.4636,  36.4695,2,    209.6,   208.5,3,    2.66,2,    0.17,2,  2090.7,2,  2397.4,2,  23.6012,   -0.19,2
740H20090307,       A095,      87,          1,          1,          1,2,20090410,       2248,  -23.99999,   -3.30808,       4840,  4914.2,   2.4524,  34.8830,  34.8836,2,    227.2,   227.1,2,   55.49,2,    1.56,2,  2213.1,2,  2364.6,2,   1.9956,   23.94,2
740H20090307,       A095,      87,          1,          2,          2,2,20090410,       2248,  -23.99999,   -3.30808,       4840,  4862.3,   2.4468,  34.8831,  34.8845,2,    226.7,   226.9,2,   55.24,2,    1.56,2,  2215.3,2,  2364.8,2,   1.9967,   23.86,2
740H20090307,       A095,      87,          1,          3,          3,2,20090410,       2248,  -23.99999,   -3.30808,       4840,  4863.7,   2.4470,  34.8832,  34.8835,2,    227.3,   227.1,2,   55.63,2,    1.57,2,  -999.0,9,  -999.0,9,   1.9966,   23.74,2
740H20090307,       A095,      87,          1,          4,          4,2,20090410,       2248,  -23.99999,   -3.30808,       4840,  4308.4,   2.3901,  34.8831,  34.8839,2,    227.4,   227.4,2,   55.87,2,    1.57,2,  2213.8,2,  2364.8,2,   2.0092,   23.83,2
740H20090307,       A095,      87,          1,          5,          5,2,20090410,       2248,  -23.99999,   -3.30808,       4840,  3795.3,   2.3574,  34.8821,  34.8827,2,    228.0,   227.6,2,   55.26,2,    1.58,2,    2212,2,  2359.5,2,   2.0363,   24.09,2
740H20090307,       A095,      87,          1,          6,          6,2,20090410,       2248,  -23.99999,   -3.30808,       4840,  3285.9,   2.3733,  34.8772,  34.8772,2,    231.2,   230.5,2,   52.91,2,    1.57,2,  2203.8,2,  2351.5,2,   2.1070,   23.87,2
740H20090307,       A095,      87,          1,          7,          7,2,20090410,       2248,  -23.99999,   -3.30808,       4840,  2777.9,   2.4625,  34.8698,  34.8701,2,    232.7,   232.6,2,   50.38,2,    1.57,2,  2196.8,2,  2333.7,2,   2.2459,   23.92,2
740H20090307,       A095,      87,          1,          8,          8,2,20090410,       2248,  -23.99999,   -3.30808,       4840,  2522.8,   2.5380,  34.8670,  34.8672,2,    231.0,   230.8,2,   48.90,2,    1.58,2,  -999.0,9,  -999.0,9,   2.3447,   23.99,2
740H20090307,       A095,      87,          1,          9,          9,2,20090410,       2248,  -23.99999,   -3.30808,       4840,  2269.0,   2.7222,  34.8731,  34.8735,2,    230.2,   230.1,2,   44.60,2,    1.57,2,  2191.7,3,  2331.4,2,   2.5495,   23.69,2
740H20090307,       A095,      87,          1,         10,         10,2,20090410,       2248,  -23.99999,   -3.30808,       4840,  2016.8,   2.9804,  34.8813,  34.8817,2,    228.5,   228.5,2,   39.04,2,    1.55,2,  -999.0,9,  -999.0,9,   2.8268,   23.65,2
740H20090307,       A095,      87,          1,         11,         11,2,20090410,       2248,  -23.99999,   -3.30808,       4840,  1763.7,   3.2139,  34.8641,  34.8648,2,    220.5,   220.4,2,   36.48,2,    1.61,2,  2192.9,2,  2326.3,2,   3.0798,   24.19,2
740H20090307,       A095,      87,          1,         12,         12,2,20090410,       2248,  -23.99999,   -3.30808,       4840,  1511.3,   3.4189,  34.7988,  34.8010,2,    203.1,   203.3,2,   38.28,2,    1.80,2,  -999.0,9,  -999.0,9,   3.3047,   27.22,2
740H20090307,       A095,      87,          1,         13,         13,2,20090410,       2248,  -23.99999,   -3.30808,       4840,  1258.6,   3.5278,  34.6874,  34.6881,2,    186.0,   185.6,2,   41.47,2,    2.01,2,  2214.4,2,  2322.3,2,   3.4343,   30.12,2
740H20090307,       A095,      87,          1,         14,         14,2,20090410,       2248,  -23.99999,   -3.30808,       4840,  1005.6,   3.5735,  34.5147,  34.5150,2,    175.4,   175.8,2,   45.75,2,    2.23,2,  -999.0,9,  -999.0,9,   3.5006,   33.32,2
740H20090307,       A095,      87,          1,         15,         15,2,20090410,       2248,  -23.99999,   -3.30808,       4840,   881.4,   3.7847,  34.4325,  34.4308,2,    176.4,   177.1,2,   43.06,2,    2.25,2,  2220.8,2,  2313.4,2,   3.7204,   33.98,2
740H20090307,       A095,      87,          1,         16,         16,2,20090410,       2248,  -23.99999,   -3.30808,       4840,   754.2,   4.4128,  34.3798,  34.3798,2,    182.6,   182.3,2,   33.92,2,    2.19,2,  2208.5,2,  2304.7,2,   4.3549,   33.23,2
740H20090307,       A095,      87,          1,         17,         17,2,20090410,       2248,  -23.99999,   -3.30808,       4840,   628.5,   5.4541,  34.3783,  34.3793,2,    193.2,   194.3,2,   22.98,2,    1.97,2,  2188.2,2,  2296.8,2,   5.4014,   29.95,2
740H20090307,       A095,      87,          1,         18,         18,2,20090410,       2248,  -23.99999,   -3.30808,       4840,   503.5,   7.8093,  34.5638,  34.5728,2,    186.5,   185.2,2,   14.97,2,    1.66,2,  2171.7,2,  2295.7,2,   7.7584,   24.75,2
740H20090307,       A095,      87,          1,         19,         19,2,20090410,       2248,  -23.99999,   -3.30808,       4840,   377.6,  10.9807,  34.9105,  34.9053,2,    195.8,   195.2,2,    7.99,2,    1.12,2,  -999.0,9,  -999.0,9,  10.9338,   15.98,2
740H20090307,       A095,      87,          1,         20,         20,2,20090410,       2248,  -23.99999,   -3.30808,       4840,   252.6,  13.4575,  35.1813,  35.1846,2,    203.8,   203.6,2,    5.13,2,    0.71,2,  2120.5,2,  2320.2,2,  13.4218,    9.23,2
740H20090307,       A095,      87,          1,         21,         25,2,20090410,       2248,  -23.99999,   -3.30808,       4840,   176.8,  15.6249,  35.4845,  35.5070,2,    211.4,   211.6,2,    4.11,2,    0.42,2,  -999.0,9,  -999.0,9,  15.5973,    4.46,2
740H20090307,       A095,      87,          1,         22,         22,2,20090410,       2248,  -23.99999,   -3.30808,       4840,   102.5,  18.6158,  35.8641,  35.8575,2,    236.9,   236.1,2,    3.19,2,    0.14,2,  2077.3,2,  2361.5,2,  18.5977,   -0.06,2
740H20090307,       A095,      87,          1,         23,         23,2,20090410,       2248,  -23.99999,   -3.30808,       4840,    52.2,  23.2887,  36.3471,  36.3514,2,    211.5,   209.9,2,    2.92,2,    0.16,2,  -999.0,9,  -999.0,9,  23.2779,   -0.16,2
740H20090307,       A095,      87,          1,         24,         24,2,20090410,       2248,  -23.99999,   -3.30808,       4840,     7.1,  23.2736,  36.3461,  36.3507,2,    212.1,   210.2,2,    2.82,2,    0.16,2,  2089.8,2,  2394.7,2,  23.2722,   -0.16,2