BOTTLE,20211101CCHSIORKP
EXPOCODE,SECT_ID,STNNBR,CASTNO,SAMPNO,BTLNBR,BTLNBR_FLAG_W,DATE,TIME,LATITUDE,LONGITUDE,DEPTH,CTDPRS,CTDTMP,CTDSAL,SALNTY,SALNTY_FLAG_W,CTDOXY,OXYGEN,OXYGEN_FLAG_W,SILCAT,SILCAT_FLAG_W,PHSPHT,PHSPHT_FLAG_W,TCARBN,TCARBN_FLAG_W,ALKALI,ALKALI_FLAG_W,THETA,NO2+NO3,NO2+NO3_FLAG_W
,,,,,,,,,,,METERS,DBAR,ITS-90,PSS-78,PSS-78,,UMOL/KG,UMOL/KG,,UMOL/KG,,UMOL/KG,,UMOL/KG,,UMOL/KG,,DEG C,UMOL/KG,
740H20090307,       A095,     112,          1,          1,          1,2,20090418,       1651,  -23.99957,   12.49748,       2237,  2253.8,   3.0437,  34.9012,  34.9025,2,    218.5,   217.4,3,   40.89,2,    1.57,2,  -999.0,9,  2333.7,2,   2.8669,   23.16,2
740H20090307,       A095,     112,          1,          2,          2,2,20090418,       1651,  -23.99957,   12.49748,       2237,  2204.4,   3.0826,  34.9013,  34.9023,2,    218.5,   219.0,2,   40.77,2,    1.57,2,  -999.0,9,    2333,2,   2.9099,   23.66,2
740H20090307,       A095,     112,          1,          3,         26,2,20090418,       1651,  -23.99957,   12.49748,       2237,  2203.7,   3.0821,  34.9014,-999.0000,9,    218.5,   218.7,2,   39.84,2,    1.57,2,  -999.0,9,  -999.0,9,   2.9095,   23.56,2
740H20090307,       A095,     112,          1,          4,          4,2,20090418,       1651,  -23.99957,   12.49748,       2237,  2020.8,   3.2080,  34.8983,  34.8991,2,    216.9,   217.7,2,   36.97,2,    1.57,2,  -999.0,9,  -999.0,9,   3.0505,   23.61,2
740H20090307,       A095,     112,          1,          5,          5,2,20090418,       1651,  -23.99957,   12.49748,       2237,  2020.2,   3.2075,  34.8982,-999.0000,9,    216.9,  -999.0,9,   36.97,2,    1.57,2,  -999.0,9,  -999.0,9,   3.0501,   23.62,2
740H20090307,       A095,     112,          1,          6,          6,2,20090418,       1651,  -23.99957,   12.49748,       2237,  1768.0,   3.3334,  34.8712,  34.8712,2,    207.6,   208.6,2,   37.30,2,    1.66,2,  -999.0,9,  2324.9,2,   3.1974,   24.87,2
740H20090307,       A095,     112,          1,          7,          7,2,20090418,       1651,  -23.99957,   12.49748,       2237,  1515.3,   3.3943,  34.8042,  34.8065,2,    193.5,   194.0,2,   41.36,2,    1.83,2,  -999.0,9,  -999.0,9,   3.2801,   27.40,2
740H20090307,       A095,     112,          1,          8,          8,2,20090418,       1651,  -23.99957,   12.49748,       2237,  1515.0,   3.3941,  34.8046,-999.0000,9,    193.7,  -999.0,9,   41.55,2,    1.83,2,  -999.0,9,  -999.0,9,   3.2798,   27.58,2
740H20090307,       A095,     112,          1,          9,          9,2,20090418,       1651,  -23.99957,   12.49748,       2237,  1263.2,   3.4201,  34.6854,  34.6864,2,    179.4,   180.3,2,   46.72,2,    2.04,2,  -999.0,9,  2322.6,2,   3.3272,   30.94,2
740H20090307,       A095,     112,          1,         10,         10,2,20090418,       1651,  -23.99957,   12.49748,       2237,  1011.5,   3.6702,  34.5328,  34.5356,2,    168.6,   169.3,2,   45.55,2,    2.23,2,  -999.0,9,  -999.0,9,   3.5961,   34.30,2
740H20090307,       A095,     112,          1,         11,         11,2,20090418,       1651,  -23.99957,   12.49748,       2237,  1011.5,   3.6706,  34.5324,-999.0000,9,    168.6,  -999.0,9,   44.97,2,    2.22,2,  -999.0,9,  -999.0,9,   3.5965,   33.57,2
740H20090307,       A095,     112,          1,         12,         12,2,20090418,       1651,  -23.99957,   12.49748,       2237,   886.2,   3.9662,  34.4833,  34.4841,2,    156.7,   157.6,2,   41.87,2,    2.31,2,  -999.0,9,  2308.9,2,   3.9001,   35.58,2
740H20090307,       A095,     112,          1,         13,         13,2,20090418,       1651,  -23.99957,   12.49748,       2237,   885.5,   3.9626,  34.4840,-999.0000,9,    156.9,  -999.0,9,   41.53,2,    2.31,2,  -999.0,9,  -999.0,9,   3.8966,   35.34,2
740H20090307,       A095,     112,          1,         14,         14,2,20090418,       1651,  -23.99957,   12.49748,       2237,   634.2,   4.7582,  34.4153,  34.4146,2,    160.7,   161.4,2,   32.13,2,    2.22,2,  -999.0,9,    2283,3,   4.7084,   34.41,2
740H20090307,       A095,     112,          1,         15,         15,2,20090418,       1651,  -23.99957,   12.49748,       2237,   509.3,   5.9008,  34.4603,  34.4572,2,    143.8,   145.8,2,   25.36,2,    2.18,2,  -999.0,9,  -999.0,9,   5.8567,   33.92,2
740H20090307,       A095,     112,          1,         16,         16,2,20090418,       1651,  -23.99957,   12.49748,       2237,   383.7,   7.8602,  34.6168,  34.6209,2,    120.5,   116.5,2,   19.67,2,    2.05,2,  -999.0,9,  2291.8,2,   7.8215,   32.12,2
740H20090307,       A095,     112,          1,         17,         17,2,20090418,       1651,  -23.99957,   12.49748,       2237,   259.2,   9.9440,  34.8049,  34.8057,2,    148.1,   145.8,2,   13.08,2,    1.57,2,  -999.0,9,  -999.0,9,   9.9140,   23.41,2
740H20090307,       A095,     112,          1,         18,         18,2,20090418,       1651,  -23.99957,   12.49748,       2237,   183.8,  11.8027,  35.0147,  35.0043,2,    167.2,   162.4,2,    8.90,2,    1.24,2,  -999.0,9,  2306.1,2,  11.7790,   17.93,2
740H20090307,       A095,     112,          1,         19,         19,2,20090418,       1651,  -23.99957,   12.49748,       2237,   108.9,  13.1944,  35.1135,  35.1119,2,    183.1,   181.7,2,    6.95,2,    1.01,2,  -999.0,9,  -999.0,9,  13.1794,   13.80,2
740H20090307,       A095,     112,          1,         20,         20,2,20090418,       1651,  -23.99957,   12.49748,       2237,    83.9,  13.8582,  35.1685,  35.1629,2,    191.5,   189.8,2,    6.45,2,    0.94,2,  -999.0,9,  2307.1,2,  13.8462,   12.57,2
740H20090307,       A095,     112,          1,         21,         25,2,20090418,       1651,  -23.99957,   12.49748,       2237,    83.4,  13.8454,  35.1709,-999.0000,9,    191.5,   189.9,2,    6.40,2,    0.94,2,  -999.0,9,  -999.0,9,  13.8335,   12.44,2
740H20090307,       A095,     112,          1,         22,         22,2,20090418,       1651,  -23.99957,   12.49748,       2237,    59.1,  16.1462,  35.1846,  35.1927,2,    201.6,   207.8,2,    3.75,2,    0.87,2,  -999.0,9,  -999.0,9,  16.1368,    7.98,2
740H20090307,       A095,     112,          1,         23,         23,2,20090418,       1651,  -23.99957,   12.49748,       2237,    33.4,  18.6244,  35.2611,  35.2651,2,    231.0,   229.0,2,    1.63,2,    0.40,2,  -999.0,9,    2328,2,  18.6185,    2.17,2
740H20090307,       A095,     112,          1,         24,         24,2,20090418,       1651,  -23.99957,   12.49748,       2237,    13.8,  19.3557,  35.2761,  35.2771,2,    231.3,   231.3,2,    1.53,2,    0.32,2,  -999.0,9,  2330.4,2,  19.3533,    1.37,2
740H20090307,       A095,     113,          1,          1,          1,2,20090418,       1954,  -23.95964,   12.64976,       1912,  1926.8,   3.3407,  34.8902,  34.8903,2,    208.3,   208.8,2,   36.84,2,    1.59,2,  2198.9,2,  2328.3,2,   3.1900,   23.71,2
740H20090307,       A095,     113,          1,          2,          2,2,20090418,       1954,  -23.95964,   12.64976,       1912,  1875.9,   3.3543,  34.8886,  34.8893,2,    208.0,   208.2,2,   35.96,2,    1.59,2,  2198.9,2,  2327.6,2,   3.2081,   23.61,2
740H20090307,       A095,     113,          1,          3,         26,2,20090418,       1954,  -23.95964,   12.64976,       1912,  1876.5,   3.3545,  34.8886,-999.0000,9,    207.9,   208.4,2,   35.87,2,    1.59,2,  -999.0,9,  -999.0,9,   3.2082,   23.56,2
740H20090307,       A095,     113,          1,          4,          4,2,20090418,       1954,  -23.95964,   12.64976,       1912,  1766.3,   3.3961,  34.8839,  34.8837,2,    205.8,   206.7,2,   35.47,2,    1.60,2,  -999.0,9,  -999.0,9,   3.2594,   23.69,2
740H20090307,       A095,     113,          1,          5,          5,2,20090418,       1954,  -23.95964,   12.64976,       1912,  1514.1,   3.4852,  34.8191,  34.8187,2,    191.2,   191.8,2,   38.52,2,    1.78,2,  2208.1,2,    2324,2,   3.3699,   26.29,2
740H20090307,       A095,     113,          1,          6,          6,2,20090418,       1954,  -23.95964,   12.64976,       1912,  1513.1,   3.4867,  34.8191,-999.0000,9,    191.1,  -999.0,9,   38.31,2,    1.78,2,  -999.0,9,  -999.0,9,   3.3716,   26.23,2
740H20090307,       A095,     113,          1,          7,          7,2,20090418,       1954,  -23.95964,   12.64976,       1912,  1261.2,   3.4474,  34.6692,  34.6702,2,    177.0,   177.3,2,   44.69,2,    2.02,2,  -999.0,9,  -999.0,9,   3.3545,   30.50,2
740H20090307,       A095,     113,          1,          8,          8,2,20090418,       1954,  -23.95964,   12.64976,       1912,  1009.4,   3.7272,  34.5349,  34.5363,2,    164.3,   165.7,2,   42.43,2,    2.18,2,  -999.0,9,  2308.8,2,   3.6528,   32.54,2
740H20090307,       A095,     113,          1,          9,          9,2,20090418,       1954,  -23.95964,   12.64976,       1912,  1009.4,   3.7265,  34.5347,-999.0000,9,    164.2,  -999.0,9,   42.43,2,    2.19,2,  -999.0,9,  -999.0,9,   3.6521,   33.39,2
740H20090307,       A095,     113,          1,         10,         10,2,20090418,       1954,  -23.95964,   12.64976,       1912,   883.6,   4.0210,  34.4764,  34.4749,2,    155.4,   155.9,2,   39.04,2,    2.27,2,  -999.0,9,  -999.0,9,   3.9549,   34.47,2
740H20090307,       A095,     113,          1,         11,         11,2,20090418,       1954,  -23.95964,   12.64976,       1912,   758.3,   4.3853,  34.4474,  34.4483,2,    151.7,   151.4,2,   35.16,2,    2.28,2,  2222.9,2,  2298.4,2,   4.3271,   34.87,2
740H20090307,       A095,     113,          1,         12,         12,2,20090418,       1954,  -23.95964,   12.64976,       1912,   757.8,   4.3891,  34.4472,-999.0000,9,    151.6,  -999.0,9,   35.07,2,    2.28,2,  -999.0,9,  -999.0,9,   4.3309,   34.58,2
740H20090307,       A095,     113,          1,         13,         13,2,20090418,       1954,  -23.95964,   12.64976,       1912,   633.2,   4.9192,  34.4356,  34.4367,2,    148.4,   148.3,2,   30.61,2,    2.25,2,  -999.0,9,  -999.0,9,   4.8686,   35.34,2
740H20090307,       A095,     113,          1,         14,         14,2,20090418,       1954,  -23.95964,   12.64976,       1912,   507.2,   5.7351,  34.4243,  34.4206,2,    172.5,   170.3,2,   23.30,2,    2.03,2,    2198,2,  2290.3,2,   5.6918,   31.52,2
740H20090307,       A095,     113,          1,         15,         15,2,20090418,       1954,  -23.95964,   12.64976,       1912,   507.6,   5.7640,  34.4261,-999.0000,9,    172.6,  -999.0,9,   23.11,2,    2.03,2,  -999.0,9,  -999.0,9,   5.7206,   31.21,2
740H20090307,       A095,     113,          1,         16,         16,2,20090418,       1954,  -23.95964,   12.64976,       1912,   382.8,   7.6453,  34.5786,  34.5730,2,    141.6,   143.8,2,   18.01,2,    1.91,2,  -999.0,9,  -999.0,9,   7.6074,   28.83,2
740H20090307,       A095,     113,          1,         17,         17,2,20090418,       1954,  -23.95964,   12.64976,       1912,   256.6,  10.4626,  34.8554,  34.8525,2,    165.6,   164.2,2,   10.57,2,    1.37,2,  -999.0,9,  2295.8,2,  10.4319,   19.74,2
740H20090307,       A095,     113,          1,         18,         18,2,20090418,       1954,  -23.95964,   12.64976,       1912,   182.8,  11.9124,  35.0251,  35.0248,2,    175.8,   177.5,2,    7.22,2,    1.08,2,  -999.0,9,  -999.0,9,  11.8887,   15.12,2
740H20090307,       A095,     113,          1,         19,         19,2,20090418,       1954,  -23.95964,   12.64976,       1912,   107.0,  13.2701,  35.1449,  35.1497,2,    189.9,   191.3,2,    5.87,2,    0.86,2,  2131.3,2,  2312.9,2,  13.2553,   11.41,2
740H20090307,       A095,     113,          1,         20,         20,2,20090418,       1954,  -23.95964,   12.64976,       1912,    81.7,  14.1506,  35.1899,  35.1826,2,    197.3,   190.1,2,    5.88,2,    0.94,2,  -999.0,9,  -999.0,9,  14.1387,   12.28,2
740H20090307,       A095,     113,          1,         21,         25,2,20090418,       1954,  -23.95964,   12.64976,       1912,    82.2,  14.1493,  35.1844,-999.0000,9,    195.1,   191.6,2,    5.75,2,    0.89,2,  -999.0,9,  -999.0,9,  14.1374,   11.41,2
740H20090307,       A095,     113,          1,         22,         22,2,20090418,       1954,  -23.95964,   12.64976,       1912,    57.2,  15.5064,  35.2233,  35.2080,2,    198.6,   198.6,2,    4.39,2,    0.86,2,  2124.8,2,  2314.2,2,  15.4976,    9.86,2
740H20090307,       A095,     113,          1,         23,         23,2,20090418,       1954,  -23.95964,   12.64976,       1912,    26.0,  19.0793,  35.2724,  35.2620,2,    231.4,   228.7,2,    1.34,2,    0.38,2,  -999.0,9,  -999.0,9,  19.0746,    2.10,2
740H20090307,       A095,     113,          1,         24,         24,2,20090418,       1954,  -23.95964,   12.64976,       1912,     5.2,  19.5515,  35.2813,  35.2820,2,    233.0,   231.1,2,    1.26,2,    0.28,2,  2055.7,2,  2324.3,2,  19.5505,    0.95,2
740H20090307,       A095,     114,          1,          1,          1,2,20090418,       2300,  -23.92285,   12.79027,       1518,  1524.6,   3.5354,  34.8258,  34.8247,2,    186.9,   187.5,2,   40.13,2,    1.86,2,  -999.0,9,  2320.9,3,   3.4187,   27.69,2
740H20090307,       A095,     114,          1,          4,          4,2,20090418,       2300,  -23.92285,   12.79027,       1518,  1474.8,   3.5657,  34.7970,  34.7973,2,    181.7,   181.9,2,   41.20,2,    1.91,2,  -999.0,9,  -999.0,9,   3.4530,   28.75,2
740H20090307,       A095,     114,          1,          5,          5,2,20090418,       2300,  -23.92285,   12.79027,       1518,  1259.4,   3.5891,  34.7133,  34.7141,2,    169.7,   171.9,2,   44.47,2,    2.08,2,  -999.0,9,    2318,2,   3.4949,   31.27,2
740H20090307,       A095,     114,          1,          7,          7,2,20090418,       2300,  -23.92285,   12.79027,       1518,  1008.7,   3.7312,  34.5192,  34.5201,2,    160.7,   161.4,2,   45.85,2,    2.33,2,  -999.0,9,  -999.0,9,   3.6569,   35.33,2
740H20090307,       A095,     114,          1,          8,          8,2,20090418,       2300,  -23.92285,   12.79027,       1518,   881.7,   4.0970,  34.4714,  34.4711,2,    152.2,   152.6,2,   40.11,2,    2.34,2,  -999.0,9,    2302,2,   4.0305,   36.29,2
740H20090307,       A095,     114,          1,         10,         10,2,20090418,       2300,  -23.92285,   12.79027,       1518,   756.2,   4.5480,  34.4521,  34.4526,2,    143.5,   144.0,2,   35.32,2,    2.38,2,  -999.0,9,  -999.0,9,   4.4890,   37.79,2
740H20090307,       A095,     114,          1,         11,         11,2,20090418,       2300,  -23.92285,   12.79027,       1518,   631.3,   5.2567,  34.4559,  34.4546,2,    135.2,   135.9,2,   30.03,2,    2.34,2,    2222,2,  2291.3,2,   5.2046,   37.42,2
740H20090307,       A095,     114,          1,         13,         13,2,20090418,       2300,  -23.92285,   12.79027,       1518,   505.8,   6.0864,  34.4841,  34.4846,2,    135.7,   135.9,2,   24.60,2,    2.29,2,  -999.0,9,  -999.0,9,   6.0419,   35.28,2
740H20090307,       A095,     114,          1,         14,         14,2,20090418,       2300,  -23.92285,   12.79027,       1518,   381.5,   7.8182,  34.6011,  34.6001,2,    135.4,   137.6,2,   18.20,2,    1.96,2,  -999.0,9,  2289.4,2,   7.7799,   30.57,2
740H20090307,       A095,     114,          1,         16,         16,2,20090418,       2300,  -23.92285,   12.79027,       1518,   255.4,  10.1137,  34.8139,  34.8138,2,    177.6,   174.4,2,   10.82,2,    1.39,2,  -999.0,9,  -999.0,9,  10.0838,   20.33,2
740H20090307,       A095,     114,          1,         17,         17,2,20090418,       2300,  -23.92285,   12.79027,       1518,   181.0,  11.7865,  35.0097,  35.0147,2,    176.6,   177.3,2,    8.13,2,    1.16,2,  -999.0,9,  2303.4,2,  11.7632,   15.98,2
740H20090307,       A095,     114,          1,         19,         19,2,20090418,       2300,  -23.92285,   12.79027,       1518,   105.4,  13.2903,  35.1505,  35.1467,2,    177.4,   175.8,2,    7.14,2,    1.00,2,  -999.0,9,  -999.0,9,  13.2756,   13.67,2
740H20090307,       A095,     114,          1,         20,         20,2,20090418,       2300,  -23.92285,   12.79027,       1518,    80.5,  14.2317,  35.2490,  35.2128,2,    194.1,   184.8,2,    6.41,2,    0.93,2,    2132,2,  2306.6,2,  14.2200,   12.05,2
740H20090307,       A095,     114,          1,         21,         25,2,20090418,       2300,  -23.92285,   12.79027,       1518,    54.9,  14.5984,  35.1663,  35.1729,2,    188.5,   189.6,2,    5.73,2,    0.98,2,  -999.0,9,  -999.0,9,  14.5903,   12.69,2
740H20090307,       A095,     114,          1,         22,         22,2,20090418,       2300,  -23.92285,   12.79027,       1518,    25.9,  17.1521,  35.2216,  35.2204,2,    229.7,   227.2,2,    2.37,2,    0.59,2,  -999.0,9,  -999.0,9,  17.1479,    4.41,2
740H20090307,       A095,     114,          1,         24,         24,2,20090418,       2300,  -23.92285,   12.79027,       1518,     6.2,  17.5868,  35.2165,  35.2173,2,    247.7,   245.8,2,    1.80,2,    0.42,2,  -999.0,9,  2323.3,2,  17.5858,    3.04,2