BOTTLE,20211101CCHSIORKP
EXPOCODE,SECT_ID,STNNBR,CASTNO,SAMPNO,BTLNBR,BTLNBR_FLAG_W,DATE,TIME,LATITUDE,LONGITUDE,DEPTH,CTDPRS,CTDTMP,CTDSAL,SALNTY,SALNTY_FLAG_W,CTDOXY,OXYGEN,OXYGEN_FLAG_W,SILCAT,SILCAT_FLAG_W,PHSPHT,PHSPHT_FLAG_W,TCARBN,TCARBN_FLAG_W,ALKALI,ALKALI_FLAG_W,THETA,NO2+NO3,NO2+NO3_FLAG_W
,,,,,,,,,,,METERS,DBAR,ITS-90,PSS-78,PSS-78,,UMOL/KG,UMOL/KG,,UMOL/KG,,UMOL/KG,,UMOL/KG,,UMOL/KG,,DEG C,UMOL/KG,
740H20090307,       A095,     106,          1,          1,          1,2,20090416,       1557,  -24.00019,    8.14969,       4672,  4745.0,   1.1458,  34.7345,  34.7361,2,    212.1,   211.2,2,  110.96,2,    2.10,2,  2254.9,3,  2376.7,2,   0.7534,   31.18,2
740H20090307,       A095,     106,          1,          2,          2,2,20090416,       1557,  -24.00019,    8.14969,       4672,  4692.4,   1.1393,  34.7345,  34.7356,2,    212.1,   211.1,2,  110.14,2,    2.09,2,    2257,2,  2376.8,2,   0.7532,   31.70,2
740H20090307,       A095,     106,          1,          3,         26,2,20090416,       1557,  -24.00019,    8.14969,       4672,  4307.1,   1.2422,  34.7478,  34.7478,2,    214.4,   213.4,2,  105.03,2,    2.05,2,  -999.0,9,  -999.0,9,   0.8966,   30.71,2
740H20090307,       A095,     106,          1,          4,          4,2,20090416,       1557,  -24.00019,    8.14969,       4672,  3792.0,   1.9593,  34.8214,  34.8221,2,    221.7,   220.4,2,   74.85,2,    1.80,2,  2227.5,2,  2361.6,2,   1.6496,   26.66,2
740H20090307,       A095,     106,          1,          5,          5,2,20090416,       1557,  -24.00019,    8.14969,       4672,  3283.5,   2.3552,  34.8613,  34.8619,2,    226.7,   228.8,2,   57.20,2,    1.64,2,    2212,2,  2353.6,2,   2.0896,   24.49,2
740H20090307,       A095,     106,          1,          6,          6,2,20090416,       1557,  -24.00019,    8.14969,       4672,  2772.3,   2.5791,  34.8712,  34.8716,2,    227.7,   226.1,2,   50.13,2,    1.60,2,  2203.1,2,  2341.4,2,   2.3607,   24.17,2
740H20090307,       A095,     106,          1,          7,          7,2,20090416,       1557,  -24.00019,    8.14969,       4672,  2520.7,   2.7277,  34.8775,  34.8777,2,    227.0,   226.8,2,   45.81,2,    1.57,2,  -999.0,9,  -999.0,9,   2.5311,   23.68,2
740H20090307,       A095,     106,          1,          8,          8,2,20090416,       1557,  -24.00019,    8.14969,       4672,  2267.4,   2.8976,  34.8831,  34.8836,2,    225.4,   224.8,2,   41.61,2,    1.56,2,  2197.4,2,    2341,2,   2.7221,   23.41,2
740H20090307,       A095,     106,          1,          9,          9,2,20090416,       1557,  -24.00019,    8.14969,       4672,  2014.4,   3.0631,  34.8734,  34.8737,2,    219.7,   219.2,2,   39.97,2,    1.61,2,  -999.0,9,  -999.0,9,   2.9085,   24.12,2
740H20090307,       A095,     106,          1,         10,         10,2,20090416,       1557,  -24.00019,    8.14969,       4672,  1763.2,   3.2854,  34.8581,  34.8572,2,    210.4,   211.0,2,   37.70,2,    1.68,2,  2200.1,2,  2330.6,2,   3.1505,   25.34,2
740H20090307,       A095,     106,          1,         11,         11,2,20090416,       1557,  -24.00019,    8.14969,       4672,  1506.8,   3.3833,  34.8007,  34.8016,2,    196.5,   196.8,2,   40.33,2,    1.82,2,  -999.0,9,  -999.0,9,   3.2699,   27.01,2
740H20090307,       A095,     106,          1,         12,         12,2,20090416,       1557,  -24.00019,    8.14969,       4672,  1257.0,   3.3702,  34.6679,  34.6699,2,    178.4,   179.7,2,   47.83,2,    2.08,2,  2223.9,2,  2327.8,2,   3.2784,   30.94,2
740H20090307,       A095,     106,          1,         13,         13,2,20090416,       1557,  -24.00019,    8.14969,       4672,  1006.1,   3.4280,  34.5139,  34.5115,2,    172.7,   172.5,2,   51.37,2,    2.26,2,  -999.0,9,  -999.0,9,   3.3563,   33.91,2
740H20090307,       A095,     106,          1,         14,         14,2,20090416,       1557,  -24.00019,    8.14969,       4672,   879.2,   3.7399,  34.4183,  34.4188,2,    180.3,   180.1,2,   46.60,2,    2.28,2,  2221.1,2,  2316.3,2,   3.6761,   34.27,2
740H20090307,       A095,     106,          1,         15,         15,2,20090416,       1557,  -24.00019,    8.14969,       4672,   753.8,   4.2999,  34.3716,  34.3720,2,    187.3,   184.9,2,   35.37,2,    2.20,2,  -999.0,9,  -999.0,9,   4.2426,   33.05,2
740H20090307,       A095,     106,          1,         16,         16,2,20090416,       1557,  -24.00019,    8.14969,       4672,   629.2,   5.1161,  34.3595,  34.3589,2,    195.4,   196.4,2,   25.78,2,    2.03,2,  2194.1,2,  2299.6,2,   5.0649,   30.72,2
740H20090307,       A095,     106,          1,         17,         17,2,20090416,       1557,  -24.00019,    8.14969,       4672,   503.6,   7.0943,  34.5053,  34.5069,2,    176.7,   174.3,2,   18.40,2,    1.87,2,  2182.8,3,  2295.9,2,   7.0461,   28.23,2
740H20090307,       A095,     106,          1,         18,         18,2,20090416,       1557,  -24.00019,    8.14969,       4672,   378.5,  10.1221,  34.8189,  34.8147,2,    169.2,   160.3,2,   11.57,2,    1.49,2,  -999.0,9,  -999.0,9,  10.0775,   21.98,2
740H20090307,       A095,     106,          1,         19,         19,2,20090416,       1557,  -24.00019,    8.14969,       4672,   252.9,  12.4797,  35.0816,  35.0815,2,    201.2,   202.1,2,    6.33,2,    0.88,2,  2133.8,2,  2317.5,2,  12.4458,   11.79,2
740H20090307,       A095,     106,          1,         20,         20,3,20090416,       1557,  -24.00019,    8.14969,       4672,   178.4,  13.9392,  35.2832,-999.0000,9,    216.0,  -999.0,9, -999.00,9, -999.00,9,  -999.0,9,  -999.0,9,  13.9134, -999.00,9
740H20090307,       A095,     106,          1,         21,         25,2,20090416,       1557,  -24.00019,    8.14969,       4672,   102.9,  15.9173,  35.4825,  35.4821,2,    223.4,   223.3,2,    4.80,2,    0.37,2,  -999.0,9,  -999.0,9,  15.9010,    2.95,2
740H20090307,       A095,     106,          1,         22,         22,2,20090416,       1557,  -24.00019,    8.14969,       4672,    51.8,  20.5537,  35.3719,  35.3931,2,    221.8,   223.4,2,    2.64,2,    0.26,2,  -999.0,9,  -999.0,9,  20.5439,   -0.02,2
740H20090307,       A095,     106,          1,         23,         23,2,20090416,       1557,  -24.00019,    8.14969,       4672,    27.1,  21.2794,  35.4384,  35.4367,2,    220.6,   219.8,2,    2.65,2,    0.22,2,  2060.1,2,    2341,2,  21.2741,   -0.16,2
740H20090307,       A095,     106,          1,         24,         24,2,20090416,       1557,  -24.00019,    8.14969,       4672,     7.5,  21.8319,  35.5269,  35.5208,2,    220.1,   216.8,2,    2.52,2,    0.21,2,  2059.7,2,  2345.4,2,  21.8304,   -0.15,2
740H20090307,       A095,     107,          1,          1,          1,2,20090417,       0045,  -24.00018,    8.96868,       4621,  4691.0,   1.1348,  34.7339,  34.7349,2,    212.1,   212.9,3,  109.94,2,    2.09,2,  2257.3,2,  2368.1,2,   0.7489,   30.46,2
740H20090307,       A095,     107,          1,          2,          2,2,20090417,       0045,  -24.00018,    8.96868,       4621,  4640.7,   1.1287,  34.7339,  34.7350,2,    212.7,   211.0,2,  110.24,2,    2.09,2,  2257.2,2,    2369,2,   0.7489,   30.55,2
740H20090307,       A095,     107,          1,          3,         26,3,20090417,       0045,  -24.00018,    8.96868,       4621,  4641.6,   1.1287,  34.7338,  34.8007,2,    212.8,   218.2,4,   82.76,3,    1.86,3,  -999.0,9,  -999.0,9,   0.7488,   27.23,3
740H20090307,       A095,     107,          1,          4,          4,2,20090417,       0045,  -24.00018,    8.96868,       4621,  4312.2,   1.2031,  34.7442,  34.7453,2,    213.7,   213.1,2,  105.91,2,    2.06,2,  -999.0,9,  -999.0,9,   0.8581,   29.90,2
740H20090307,       A095,     107,          1,          5,          5,2,20090417,       0045,  -24.00018,    8.96868,       4621,  4054.3,   1.5189,  34.7759,  34.7766,2,    216.7,   215.4,2,   92.47,2,    1.94,2,  -999.0,9,  -999.0,9,   1.1929,   28.42,2
740H20090307,       A095,     107,          1,          6,          6,2,20090417,       0045,  -24.00018,    8.96868,       4621,  3544.9,   2.2216,  34.8499,  34.8506,2,    225.3,   224.5,2,   62.17,2,    1.68,2,  -999.0,9,  -999.0,9,   1.9317,   24.56,2
740H20090307,       A095,     107,          1,          7,          7,2,20090417,       0045,  -24.00018,    8.96868,       4621,  3032.6,   2.4083,  34.8626,  34.8631,2,    227.1,   226.6,2,   54.37,2,    1.63,2,  -999.0,9,  -999.0,9,   2.1674,   23.61,2
740H20090307,       A095,     107,          1,          8,          8,2,20090417,       0045,  -24.00018,    8.96868,       4621,  2525.7,   2.6371,  34.8666,  34.8672,2,    226.0,   226.2,2,   48.57,2,    1.62,2,  -999.0,9,  -999.0,9,   2.4416,   23.71,2
740H20090307,       A095,     107,          1,          9,          9,2,20090417,       0045,  -24.00018,    8.96868,       4621,  2273.5,   2.8379,  34.8750,  34.8761,2,    224.4,   225.0,2,   43.36,2,    1.60,2,  -999.0,9,  -999.0,9,   2.6629,   23.28,2
740H20090307,       A095,     107,          1,         10,         10,2,20090417,       0045,  -24.00018,    8.96868,       4621,  2017.7,   3.0446,  34.8708,  34.8721,2,    219.1,   219.6,2,   40.58,2,    1.63,2,  -999.0,9,  -999.0,9,   2.8900,   23.69,2
740H20090307,       A095,     107,          1,         11,         11,2,20090417,       0045,  -24.00018,    8.96868,       4621,  1765.7,   3.2411,  34.8565,  34.8576,2,    211.1,   211.2,2,   37.65,2,    1.66,2,  -999.0,9,  -999.0,9,   3.1066,   24.13,2
740H20090307,       A095,     107,          1,         12,         12,2,20090417,       0045,  -24.00018,    8.96868,       4621,  1514.5,   3.3226,  34.7931,  34.7944,2,    196.5,   197.0,2,   41.01,2,    1.83,2,  -999.0,9,  -999.0,9,   3.2093,   26.52,2
740H20090307,       A095,     107,          1,         13,         13,2,20090417,       0045,  -24.00018,    8.96868,       4621,  1262.5,   3.4187,  34.6675,  34.6648,2,    177.1,   177.1,2,   46.15,2,    2.08,2,  -999.0,9,  -999.0,9,   3.3260,   30.35,2
740H20090307,       A095,     107,          1,         14,         14,2,20090417,       0045,  -24.00018,    8.96868,       4621,  1010.4,   3.6542,  34.5131,  34.5145,2,    168.9,   169.5,2,   45.48,2,    2.25,2,  -999.0,9,  -999.0,9,   3.5804,   32.90,2
740H20090307,       A095,     107,          1,         15,         15,2,20090417,       0045,  -24.00018,    8.96868,       4621,   883.9,   3.9805,  34.4485,  34.4480,2,    161.1,   163.8,2,   41.59,2,    2.31,2,  -999.0,9,  -999.0,9,   3.9147,   33.65,2
740H20090307,       A095,     107,          1,         16,         16,2,20090417,       0045,  -24.00018,    8.96868,       4621,   757.5,   4.5165,  34.4286,  34.4280,2,    152.8,   153.9,2,   35.31,2,    2.32,2,  -999.0,9,  -999.0,9,   4.4576,   34.58,2
740H20090307,       A095,     107,          1,         17,         17,2,20090417,       0045,  -24.00018,    8.96868,       4621,   632.2,   5.3730,  34.4227,  34.4232,2,    165.0,   161.4,2,   26.56,2,    2.18,2,  -999.0,9,  -999.0,9,   5.3203,   32.54,2
740H20090307,       A095,     107,          1,         18,         18,2,20090417,       0045,  -24.00018,    8.96868,       4621,   507.6,   6.7826,  34.4949,  34.4968,2,    165.0,   166.2,2,   19.45,2,    1.94,2,  -999.0,9,  -999.0,9,   6.7352,   28.88,2
740H20090307,       A095,     107,          1,         19,         19,2,20090417,       0045,  -24.00018,    8.96868,       4621,   382.0,   9.4016,  34.7350,  34.7367,2,    169.5,   164.8,2,   12.93,2,    1.55,2,  -999.0,9,  -999.0,9,   9.3587,   22.28,2
740H20090307,       A095,     107,          1,         20,         20,2,20090417,       0045,  -24.00018,    8.96868,       4621,   256.6,  11.5917,  34.9810,  34.9815,2,    180.2,   180.7,2,    8.35,2,    1.14,2,  -999.0,9,  -999.0,9,  11.5589,   15.98,2
740H20090307,       A095,     107,          1,         21,         25,2,20090417,       0045,  -24.00018,    8.96868,       4621,   182.1,  13.3084,  35.1828,  35.1863,2,    208.8,   207.0,2,    5.65,2,    0.73,2,  -999.0,9,  -999.0,9,  13.2829,    9.23,2
740H20090307,       A095,     107,          1,         22,         22,2,20090417,       0045,  -24.00018,    8.96868,       4621,   106.6,  15.8651,  35.4882,  35.4889,2,    217.8,   221.8,2,    4.65,2,    0.39,2,  -999.0,9,  -999.0,9,  15.8483,    3.68,2
740H20090307,       A095,     107,          1,         23,         23,2,20090417,       0045,  -24.00018,    8.96868,       4621,    57.8,  20.9881,  35.5568,  35.5613,2,    220.7,   219.4,2,    3.40,2,    0.16,2,  -999.0,9,  -999.0,9,  20.9770,    0.01,2
740H20090307,       A095,     107,          1,         24,         24,2,20090417,       0045,  -24.00018,    8.96868,       4621,     6.9,  20.8286,  35.4560,  35.4561,2,    220.2,   221.5,2,    3.03,2,    0.20,2,  -999.0,9,  -999.0,9,  20.8273,   -0.09,2
740H20090307,       A095,     108,          1,          1,          1,2,20090417,       0928,  -23.99907,    9.71367,       4305,  4365.7,   1.1535,  34.7386,  34.7385,2,    210.2,   209.3,2,  108.37,2,    2.10,2,  2263.9,3,  2382.5,2,   0.8041,   32.44,2
740H20090307,       A095,     108,          1,          2,          2,2,20090417,       0928,  -23.99907,    9.71367,       4305,  4315.7,   1.1594,  34.7398,  34.7398,2,    210.3,   209.2,2,  107.71,2,    2.10,2,  2267.2,2,  2382.4,2,   0.8154,   31.11,2
740H20090307,       A095,     108,          1,          3,         26,2,20090417,       0928,  -23.99907,    9.71367,       4305,  4316.0,   1.1599,  34.7398,  34.7406,2,    210.3,   209.0,2,  108.05,2,    2.09,2,  -999.0,9,  -999.0,9,   0.8158,   30.79,2
740H20090307,       A095,     108,          1,          4,          4,2,20090417,       0928,  -23.99907,    9.71367,       4305,  4055.8,   1.5464,  34.7788,  34.7790,2,    216.8,   216.3,2,   90.22,2,    1.94,2,    2244,2,    2362,2,   1.2195,   28.52,2
740H20090307,       A095,     108,          1,          5,          5,2,20090417,       0928,  -23.99907,    9.71367,       4305,  3799.9,   2.0347,  34.8293,  34.8298,2,    222.6,   221.7,2,   69.83,2,    1.77,2,  -999.0,9,  -999.0,9,   1.7221,   26.70,2
740H20090307,       A095,     108,          1,          6,          6,2,20090417,       0928,  -23.99907,    9.71367,       4305,  3287.1,   2.3661,  34.8625,  34.8626,2,    226.8,   226.4,2,   55.43,2,    1.64,2,  2215.1,2,    2350,2,   2.0999,   24.30,2
740H20090307,       A095,     108,          1,          7,          7,2,20090417,       0928,  -23.99907,    9.71367,       4305,  2778.3,   2.5627,  34.8703,  34.8709,2,    227.4,   227.6,2,   48.42,2,    1.61,2,    2201,2,  2342.9,2,   2.3440,   23.62,2
740H20090307,       A095,     108,          1,          8,          8,2,20090417,       0928,  -23.99907,    9.71367,       4305,  2525.6,   2.6950,  34.8755,  34.8763,2,    227.1,   227.4,2,   45.20,2,    1.59,2,  -999.0,9,  -999.0,9,   2.4985,   23.61,2
740H20090307,       A095,     108,          1,          9,          9,2,20090417,       0928,  -23.99907,    9.71367,       4305,  2271.6,   2.9232,  34.8895,  34.8902,2,    226.1,   226.5,2,   39.28,2,    1.56,2,  2193.5,2,  2334.7,2,   2.7468,   23.54,2
740H20090307,       A095,     108,          1,         10,         10,2,20090417,       0928,  -23.99907,    9.71367,       4305,  2019.3,   3.0864,  34.8819,  34.8829,2,    220.7,   221.5,2,   37.50,2,    1.60,2,  -999.0,9,  -999.0,9,   2.9310,   24.11,2
740H20090307,       A095,     108,          1,         11,         11,2,20090417,       0928,  -23.99907,    9.71367,       4305,  1765.8,   3.3373,  34.8799,  34.8799,2,    213.6,   213.9,2,   33.76,2,    1.64,2,  2194.9,2,    2327,2,   3.2014,   24.54,2
740H20090307,       A095,     108,          1,         12,         12,2,20090417,       0928,  -23.99907,    9.71367,       4305,  1512.5,   3.4237,  34.8110,  34.8113,2,    196.9,   197.2,2,   37.76,2,    1.83,2,  -999.0,9,  -999.0,9,   3.3093,   26.77,2
740H20090307,       A095,     108,          1,         13,         13,2,20090417,       0928,  -23.99907,    9.71367,       4305,  1261.3,   3.3463,  34.6741,  34.6769,2,    179.7,   179.9,2,   47.32,2,    2.05,2,  2222.3,2,  2328.7,2,   3.2543,   30.80,2
740H20090307,       A095,     108,          1,         14,         14,3,20090417,       0928,  -23.99907,    9.71367,       4305,  1008.5,   3.6698,  34.5388,-999.0000,9,    164.6,  -999.0,9, -999.00,9, -999.00,9,  -999.0,9,  -999.0,9,   3.5960, -999.00,9
740H20090307,       A095,     108,          1,         15,         15,2,20090417,       0928,  -23.99907,    9.71367,       4305,   882.8,   3.9013,  34.4684,  34.4689,2,    164.4,   164.5,2,   41.11,2,    2.29,2,  2223.6,2,  2312.6,2,   3.8360,   34.20,2
740H20090307,       A095,     108,          1,         16,         16,2,20090417,       0928,  -23.99907,    9.71367,       4305,   756.9,   4.2492,  34.4260,  34.4257,2,    162.1,   163.5,2,   36.76,2,    2.29,2,  2219.8,2,    2307,2,   4.1920,   34.60,2
740H20090307,       A095,     108,          1,         17,         17,2,20090417,       0928,  -23.99907,    9.71367,       4305,   632.9,   4.8978,  34.3987,  34.3984,2,    166.6,   169.8,2,   29.18,2,    2.19,2,    2207,2,    2302,2,   4.8474,   33.55,2
740H20090307,       A095,     108,          1,         18,         18,2,20090417,       0928,  -23.99907,    9.71367,       4305,   507.1,   6.1718,  34.4385,  34.4378,2,    175.5,   175.6,2,   20.70,2,    1.98,2,  2192.2,2,  2295.4,2,   6.1269,   30.08,2
740H20090307,       A095,     108,          1,         19,         19,2,20090417,       0928,  -23.99907,    9.71367,       4305,   383.3,   8.4815,  34.6348,  34.6363,2,    173.4,   172.9,2,   14.24,2,    1.64,2,  -999.0,9,  -999.0,9,   8.4410,   24.30,2
740H20090307,       A095,     108,          1,         20,         20,2,20090417,       0928,  -23.99907,    9.71367,       4305,   256.2,  11.2695,  34.9473,  34.9493,2,    186.2,   191.7,2,    7.74,2,    1.10,2,  2143.7,2,  2310.1,2,  11.2373,   15.36,2
740H20090307,       A095,     108,          1,         21,         25,2,20090417,       0928,  -23.99907,    9.71367,       4305,   181.7,  12.6342,  35.1000,  35.3971,2,    205.0,   196.8,2,    6.31,2,    0.91,2,  -999.0,9,  -999.0,9,  12.6096,   12.02,2
740H20090307,       A095,     108,          1,         22,         22,2,20090417,       0928,  -23.99907,    9.71367,       4305,   107.6,  14.6817,  35.3939,  35.3988,2,    218.0,   218.3,2,    4.75,2,    0.50,2,  2101.1,2,  2330.4,2,  14.6656,    5.68,2
740H20090307,       A095,     108,          1,         23,         23,2,20090417,       0928,  -23.99907,    9.71367,       4305,    52.1,  17.6637,  35.5278,  35.5296,2,    237.7,   235.9,2,    3.64,2,    0.17,2,  -999.0,9,  -999.0,9,  17.6549,    0.52,2
740H20090307,       A095,     108,          1,         24,         24,2,20090417,       0928,  -23.99907,    9.71367,       4305,    12.0,  20.7818,  35.3664,  35.3681,2,    225.1,   223.5,2,    1.91,2,    0.26,2,  2056.7,2,  2341.5,2,  20.7795,   -0.04,2