BOTTLE,20211101CCHSIORKP
EXPOCODE,SECT_ID,STNNBR,CASTNO,SAMPNO,BTLNBR,BTLNBR_FLAG_W,DATE,TIME,LATITUDE,LONGITUDE,DEPTH,CTDPRS,CTDTMP,CTDSAL,SALNTY,SALNTY_FLAG_W,CTDOXY,OXYGEN,OXYGEN_FLAG_W,SILCAT,SILCAT_FLAG_W,PHSPHT,PHSPHT_FLAG_W,TCARBN,TCARBN_FLAG_W,ALKALI,ALKALI_FLAG_W,THETA,NO2+NO3,NO2+NO3_FLAG_W
,,,,,,,,,,,METERS,DBAR,ITS-90,PSS-78,PSS-78,,UMOL/KG,UMOL/KG,,UMOL/KG,,UMOL/KG,,UMOL/KG,,UMOL/KG,,DEG C,UMOL/KG,
740H20090307,       A095,      15,          1,          1,          1,2,20090314,       1311,  -26.03520,  -44.20733,       2211,  2227.9,   3.3309,  34.9441,  34.9448,2,    240.3,   240.6,2,   26.61,3,    1.35,3,    2173,2,  2327.6,2,   3.1518,   20.88,3
740H20090307,       A095,      15,          1,          3,          3,2,20090314,       1311,  -26.03520,  -44.20733,       2211,  2172.9,   3.4463,  34.9474,  34.9478,2,    239.7,   239.5,4,   24.92,3,    1.35,3,  2172.2,2,  2323.1,2,   3.2706,   21.12,3
740H20090307,       A095,      15,          1,          5,          5,2,20090314,       1311,  -26.03520,  -44.20733,       2211,  2019.4,   3.7582,  34.9485,  34.9490,2,    234.2,   234.5,2,   22.49,3,    1.38,3,  -999.0,9,  -999.0,9,   3.5924,   21.53,3
740H20090307,       A095,      15,          1,          6,          6,2,20090314,       1311,  -26.03520,  -44.20733,       2211,  1765.2,   3.9624,  34.8854,  34.8873,2,    212.9,   213.1,2,   26.31,3,    1.58,3,  2187.8,2,  2321.6,2,   3.8183,   24.17,3
740H20090307,       A095,      15,          1,          7,          7,2,20090314,       1311,  -26.03520,  -44.20733,       2211,  1511.6,   3.7235,  34.7268,  34.7302,2,    191.4,   191.0,2,   37.47,3,    1.91,3,  -999.0,9,  -999.0,9,   3.6060,   29.18,3
740H20090307,       A095,      15,          1,          8,          8,2,20090314,       1311,  -26.03520,  -44.20733,       2211,  1258.3,   3.4006,  34.5116,  34.5146,2,    183.9,   186.1,2,   46.64,3,    2.20,3,  2219.4,2,  2323.9,2,   3.3087,   33.23,3
740H20090307,       A095,      15,          1,          9,          9,2,20090314,       1311,  -26.03520,  -44.20733,       2211,  1005.7,   3.9961,  34.3661,  34.3660,2,    195.3,   209.0,2,   35.07,3,    2.17,3,  -999.0,9,  -999.0,9,   3.9203,   32.57,3
740H20090307,       A095,      15,          1,         10,         10,2,20090314,       1311,  -26.03520,  -44.20733,       2211,   879.7,   4.7622,  34.3401,  34.3406,2,    204.0,   204.5,2,   25.21,3,    2.03,3,  2184.4,2,  2298.9,2,   4.6915,   30.31,3
740H20090307,       A095,      15,          1,         12,         12,2,20090314,       1311,  -26.03520,  -44.20733,       2211,   753.1,   5.9852,  34.3827,  34.9910,2,    208.9,   211.0,2,   16.28,3,    1.81,3,  -999.0,9,  -999.0,9,   5.9183,   27.33,3
740H20090307,       A095,      15,          1,         13,         13,2,20090314,       1311,  -26.03520,  -44.20733,       2211,   627.4,   8.6326,  34.6393,  34.6364,2,    198.2,   199.6,2,   10.20,3,    1.47,3,  2152.9,2,  2296.8,2,   8.5647,   21.99,3
740H20090307,       A095,      15,          1,         14,         14,2,20090314,       1311,  -26.03520,  -44.20733,       2211,   501.3,  11.5565,  35.0052,  35.0127,2,    196.4,   197.2,2,    5.98,3,    1.01,3,  -999.0,9,  -999.0,9,  11.4918,   14.68,3
740H20090307,       A095,      15,          1,         15,         15,2,20090314,       1311,  -26.03520,  -44.20733,       2211,   375.4,  13.9856,  35.3744,  35.3751,2,    203.2,   203.0,2,    3.81,3,    0.64,3,  2118.1,2,  2331.7,2,  13.9309,    8.73,3
740H20090307,       A095,      15,          1,         17,         17,2,20090314,       1311,  -26.03520,  -44.20733,       2211,   250.2,  16.7077,  35.7680,  35.7669,2,    200.1,   200.5,2,    2.75,3,    0.35,3,  -999.0,9,  -999.0,9,  16.6666,    4.09,3
740H20090307,       A095,      15,          1,         18,         18,2,20090314,       1311,  -26.03520,  -44.20733,       2211,   174.8,  19.4991,  36.2998,  36.2900,2,    200.9,   199.4,2,    2.13,3,    0.18,3,  2098.9,2,  2385.9,2,  19.4671,    1.83,3
740H20090307,       A095,      15,          1,         20,         20,2,20090314,       1311,  -26.03520,  -44.20733,       2211,    99.4,  21.3851,  36.6884,  36.6879,2,    206.9,   206.8,2,    1.94,3,    0.04,3,  -999.0,9,  -999.0,9,  21.3657,    0.30,3
740H20090307,       A095,      15,          1,         22,         22,2,20090314,       1311,  -26.03520,  -44.20733,       2211,    74.2,  21.9416,  36.6439,  36.6572,2,    219.3,   218.4,2,    1.96,3,    0.00,3,  2078.2,2,  2409.7,2,  21.9269,    0.25,3
740H20090307,       A095,      15,          1,         23,         23,2,20090314,       1311,  -26.03520,  -44.20733,       2211,    24.2,  26.7206,  36.7949,  36.8003,2,    197.9,   200.3,2,    1.98,3,   -0.01,3,  -999.0,9,  -999.0,9,  26.7151,    0.26,3
740H20090307,       A095,      15,          1,         24,         24,2,20090314,       1311,  -26.03520,  -44.20733,       2211,     3.9,  26.8613,  36.7495,  36.7506,2,    196.7,   197.0,2,    1.94,3,   -0.01,3,  2065.9,2,    2415,2,  26.8604,    0.26,3
740H20090307,       A095,      16,          1,          1,          1,2,20090314,       1742,  -25.74560,  -44.35583,       2064,  2078.3,   3.5201,  34.9468,  34.9487,2,    237.5,   238.5,2,   25.61,2,    1.35,2,  2176.8,2,  2319.4,2,   3.3523,   20.97,2
740H20090307,       A095,      16,          1,          3,          3,2,20090314,       1742,  -25.74560,  -44.35583,       2064,  2024.9,   3.5910,  34.9472,  34.9479,2,    236.8,   237.4,2,   25.00,2,    1.36,2,  2177.3,2,  2317.3,2,   3.4272,   20.72,2
740H20090307,       A095,      16,          1,          5,          5,2,20090314,       1742,  -25.74560,  -44.35583,       2064,  1766.9,   3.8801,  34.9048,  34.9074,2,    219.2,   221.6,2,   26.97,2,    1.52,2,  -999.0,9,  -999.0,9,   3.7369,   23.63,2
740H20090307,       A095,      16,          1,          6,          6,2,20090314,       1742,  -25.74560,  -44.35583,       2064,  1513.9,   3.7386,  34.7280,  34.7293,2,    191.0,   191.3,2,   38.91,2,    1.91,2,  2210.4,2,  2317.8,2,   3.6208,   28.88,2
740H20090307,       A095,      16,          1,          8,          8,2,20090314,       1742,  -25.74560,  -44.35583,       2064,  1261.3,   3.3710,  34.5169,  34.5181,2,    184.5,   184.9,2,   48.42,2,    2.19,2,  -999.0,9,  -999.0,9,   3.2791,   32.98,2
740H20090307,       A095,      16,          1,          9,          9,2,20090314,       1742,  -25.74560,  -44.35583,       2064,  1008.6,   3.9003,  34.3618,  34.3641,2,    197.2,   197.3,2,   37.48,2,    2.17,2,    2207,2,    2302,2,   3.8249,   32.50,2
740H20090307,       A095,      16,          1,         11,         11,2,20090314,       1742,  -25.74560,  -44.35583,       2064,   882.3,   4.6615,  34.3411,  34.3418,2,    204.4,   204.4,2,   27.80,2,    2.05,2,  -999.0,9,  -999.0,9,   4.5913,   30.80,2
740H20090307,       A095,      16,          1,         12,         12,2,20090314,       1742,  -25.74560,  -44.35583,       2064,   756.3,   6.2259,  34.4180,  34.4163,2,    203.5,   204.2,2,   17.85,2,    1.82,2,  2181.4,2,  2291.1,2,   6.1573,   27.22,2
740H20090307,       A095,      16,          1,         14,         14,2,20090314,       1742,  -25.74560,  -44.35583,       2064,   630.7,   8.4004,  34.6232,  34.6227,2,    192.1,   192.8,2,   12.42,2,    1.53,2,  -999.0,9,  -999.0,9,   8.3333,   22.94,2
740H20090307,       A095,      16,          1,         15,         15,2,20090314,       1742,  -25.74560,  -44.35583,       2064,   504.2,  11.0909,  34.9389,  34.9247,2,    195.1,   195.3,2,    7.60,2,    1.11,2,    2134,2,  2308.8,2,  11.0275,   16.12,2
740H20090307,       A095,      16,          1,         17,         17,2,20090314,       1742,  -25.74560,  -44.35583,       2064,   378.2,  13.9767,  35.3770,  35.3684,2,    203.5,   203.7,2,    4.37,2,    0.65,2,  -999.0,9,  -999.0,9,  13.9216,    8.40,2
740H20090307,       A095,      16,          1,         18,         18,2,20090314,       1742,  -25.74560,  -44.35583,       2064,   252.4,  16.8570,  35.8623,  35.8632,2,    208.0,   207.8,2,    3.03,2,    0.29,2,  2095.2,2,  2360.9,2,  16.8153,    3.01,2
740H20090307,       A095,      16,          1,         19,         19,2,20090314,       1742,  -25.74560,  -44.35583,       2064,   177.1,  19.0322,  36.2093,  36.1886,2,    199.9,   199.7,2,    2.70,2,    0.21,2,  -999.0,9,  -999.0,9,  19.0003,    1.93,2
740H20090307,       A095,      16,          1,         20,         20,2,20090314,       1742,  -25.74560,  -44.35583,       2064,   101.3,  21.3123,  36.6905,  36.6746,2,    203.3,   202.7,2,    2.45,2,    0.08,2,  -999.0,9,  -999.0,9,  21.2926,    0.27,2
740H20090307,       A095,      16,          1,         21,         21,2,20090314,       1742,  -25.74560,  -44.35583,       2064,    76.1,  21.9216,  36.7271,  36.7208,2,    216.0,   214.3,2,    2.43,2,    0.01,2,  -999.0,9,  -999.0,9,  21.9065,   -0.07,2
740H20090307,       A095,      16,          1,         22,         22,2,20090314,       1742,  -25.74560,  -44.35583,       2064,    50.8,  22.9099,  36.7523,  36.7624,2,    224.2,   222.7,2,    2.42,2,   -0.01,2,  2068.6,2,  2415.5,2,  22.8995,   -0.06,2
740H20090307,       A095,      16,          1,         23,         23,2,20090314,       1742,  -25.74560,  -44.35583,       2064,    25.8,  26.9615,  36.6793,  36.7084,2,    198.8,   205.0,2,    2.51,2,    0.00,2,  -999.0,9,  -999.0,9,  26.9556,   -0.07,2
740H20090307,       A095,      16,          1,         24,         24,2,20090314,       1742,  -25.74560,  -44.35583,       2064,     5.9,  27.2608,  36.6898,  36.6903,2,    196.1,   195.7,2,    2.58,2,    0.01,2,  2058.2,2,  2408.7,2,  27.2595,   -0.05,2
740H20090307,       A095,      17,          1,          1,          1,2,20090314,       2144,  -25.50235,  -44.48484,       1863,  1877.1,   3.8556,  34.9229,  34.9232,2,    224.0,   224.1,2,   25.75,2,    1.47,2,  2179.6,2,  2314.6,3,   3.7022,   22.74,2
740H20090307,       A095,      17,          1,          3,          3,2,20090314,       2144,  -25.50235,  -44.48484,       1863,  1826.9,   3.9374,  34.9205,  34.9223,2,    221.6,   220.9,2,   25.03,2,    1.47,2,  -999.0,9,  -999.0,9,   3.7876,   22.93,2
740H20090307,       A095,      17,          1,          4,          4,2,20090314,       2144,  -25.50235,  -44.48484,       1863,  1766.8,   3.8705,  34.8778,  34.8822,2,    213.5,  -999.0,9, -999.00,9, -999.00,9,  -999.0,9,  -999.0,9,   3.7275, -999.00,9
740H20090307,       A095,      17,          1,          5,          5,2,20090314,       2144,  -25.50235,  -44.48484,       1863,  1513.9,   3.7242,  34.7371,  34.7424,2,    192.0,   191.1,2,   38.10,2,    1.91,2,  2205.9,2,  2316.8,2,   3.6064,   28.73,2
740H20090307,       A095,      17,          1,          7,          7,2,20090314,       2144,  -25.50235,  -44.48484,       1863,  1260.9,   3.4247,  34.5352,  34.5405,2,    183.6,   182.9,2,   46.64,2,    2.17,2,  -999.0,9,  -999.0,9,   3.3323,   32.31,2
740H20090307,       A095,      17,          1,          8,          8,2,20090314,       2144,  -25.50235,  -44.48484,       1863,  1008.5,   3.8743,  34.3675,  34.3691,2,    195.7,   195.6,2,   37.63,2,    2.17,2,  2202.1,2,  2300.9,2,   3.7992,   32.77,2
740H20090307,       A095,      17,          1,         10,         10,2,20090314,       2144,  -25.50235,  -44.48484,       1863,   882.4,   4.5635,  34.3410,  34.3422,2,    203.3,   202.0,2,   28.47,2,    2.06,2,  -999.0,9,  -999.0,9,   4.4939,   30.94,2
740H20090307,       A095,      17,          1,         11,         11,2,20090314,       2144,  -25.50235,  -44.48484,       1863,   756.1,   5.8805,  34.3958,  34.3933,2,    203.3,   203.1,2,   19.47,2,    1.87,2,  2173.7,2,  2287.6,2,   5.8139,   27.95,2
740H20090307,       A095,      17,          1,         13,         13,2,20090314,       2144,  -25.50235,  -44.48484,       1863,   630.2,   7.9086,  34.5731,  34.5653,2,    194.8,   195.2,2,   13.33,2,    1.60,2,  -999.0,9,  -999.0,9,   7.8439,   24.02,2
740H20090307,       A095,      17,          1,         14,         14,2,20090314,       2144,  -25.50235,  -44.48484,       1863,   504.3,  10.6438,  34.8915,  34.8736,2,    191.6,   192.1,2,    8.15,2,    1.18,2,  2142.1,2,  2299.5,3,  10.5821,   17.23,2
740H20090307,       A095,      17,          1,         16,         16,2,20090314,       2144,  -25.50235,  -44.48484,       1863,   378.5,  13.2722,  35.2357,  35.2231,2,    197.4,   196.6,2,    5.13,2,    0.78,2,  -999.0,9,  -999.0,9,  13.2189,   10.75,2
740H20090307,       A095,      17,          1,         17,         17,2,20090314,       2144,  -25.50235,  -44.48484,       1863,   252.3,  15.8810,  35.6045,  35.6024,2,    201.2,   200.7,3,    3.40,2,    0.42,2,  2107.4,2,  2339.1,2,  15.8410,    4.75,2
740H20090307,       A095,      17,          1,         19,         19,2,20090314,       2144,  -25.50235,  -44.48484,       1863,   177.1,  18.2735,  36.0355,  36.0422,2,    201.7,   200.5,2,    2.71,2,    0.22,2,  -999.0,9,  -999.0,9,  18.2426,    2.00,2
740H20090307,       A095,      17,          1,         20,         20,2,20090314,       2144,  -25.50235,  -44.48484,       1863,   101.5,  20.9606,  36.5713,  36.5542,2,    208.9,   206.1,2,    2.32,2,    0.05,2,  -999.0,9,  -999.0,9,  20.9411,    0.15,2
740H20090307,       A095,      17,          1,         21,         21,2,20090314,       2144,  -25.50235,  -44.48484,       1863,    75.9,  21.5227,  36.5970,  36.6014,2,    216.6,   216.3,2,    2.33,2,    0.01,2,  -999.0,9,  -999.0,9,  21.5079,   -0.09,2
740H20090307,       A095,      17,          1,         22,         22,2,20090314,       2144,  -25.50235,  -44.48484,       1863,    51.6,  23.2405,  36.8672,  36.8282,2,    219.0,   216.5,2,    2.35,2,    0.00,2,  2083.4,2,  2415.8,2,  23.2298,   -0.06,2
740H20090307,       A095,      17,          1,         23,         23,2,20090314,       2144,  -25.50235,  -44.48484,       1863,    26.0,  26.0322,  36.7909,  36.7933,2,    212.0,   215.3,2,    2.42,2,   -0.01,2,  -999.0,9,  -999.0,9,  26.0263,   -0.07,2
740H20090307,       A095,      17,          1,         24,         24,2,20090314,       2144,  -25.50235,  -44.48484,       1863,     6.2,  27.4355,  36.6502,  36.6699,2,    195.7,   201.5,2,    2.47,2,    0.00,2,  2067.4,2,  2407.3,2,  27.4340,   -0.02,2
740H20090307,       A095,      18,          1,          1,          1,2,20090315,       0134,  -25.26355,  -44.61061,       1501,  1510.9,   3.5157,  34.6377,  34.6384,2,    186.0,   184.8,2,   44.26,2,    2.05,2,  2210.8,2,  2324.1,2,   3.4008,   30.55,2
740H20090307,       A095,      18,          1,          3,          3,2,20090315,       0134,  -25.26355,  -44.61061,       1501,  1460.4,   3.4634,  34.6010,  34.6028,2,    185.0,   184.5,2,   45.45,2,    2.10,2,  2213.9,2,  2324.8,2,   3.3536,   31.09,2
740H20090307,       A095,      18,          1,          5,          5,2,20090315,       0134,  -25.26355,  -44.61061,       1501,  1257.5,   3.4342,  34.4814,  34.4840,2,    184.5,   184.2,2,   46.27,2,    2.21,2,  -999.0,9,  -999.0,9,   3.3421,   32.23,2
740H20090307,       A095,      18,          1,          6,          6,2,20090315,       0134,  -25.26355,  -44.61061,       1501,  1004.1,   3.8623,  34.3703,  34.3710,2,    195.0,   191.1,2,   37.55,2,    2.18,2,  -999.0,9,  -999.0,9,   3.7876,   31.96,2
740H20090307,       A095,      18,          1,          8,          8,2,20090315,       0134,  -25.26355,  -44.61061,       1501,   878.9,   4.5245,  34.3431,  34.3443,2,    204.8,   200.9,2,   28.35,2,    2.07,2,  2187.4,2,  2298.9,2,   4.4555,   30.86,2
740H20090307,       A095,      18,          1,         10,         10,2,20090315,       0134,  -25.26355,  -44.61061,       1501,   753.8,   5.5142,  34.3638,  34.3639,2,    209.4,   208.0,2,   19.81,2,    1.90,2,  -999.0,9,  -999.0,9,   5.4500,   28.07,2
740H20090307,       A095,      18,          1,         11,         11,2,20090315,       0134,  -25.26355,  -44.61061,       1501,   628.9,   7.2221,  34.5017,  34.5027,2,    201.0,   200.6,2,   14.04,2,    1.67,2,  2156.9,2,  2295.8,2,   7.1608,   24.51,2
740H20090307,       A095,      18,          1,         13,         13,2,20090315,       0134,  -25.26355,  -44.61061,       1501,   503.0,   9.7640,  34.7798,  34.7741,2,    192.3,   192.1,2,    9.50,2,    1.33,2,  -999.0,9,  -999.0,9,   9.7058,   19.08,2
740H20090307,       A095,      18,          1,         14,         14,2,20090315,       0134,  -25.26355,  -44.61061,       1501,   377.5,  12.7776,  35.1822,  35.1724,2,    199.8,   198.6,2,    5.28,2,    0.84,2,  2122.4,2,  2323.3,2,  12.7259,   11.31,2
740H20090307,       A095,      18,          1,         16,         16,2,20090315,       0134,  -25.26355,  -44.61061,       1501,   251.9,  15.5316,  35.5483,  35.5420,2,    202.4,   200.3,2,    3.54,2,    0.48,2,  -999.0,9,  -999.0,9,  15.4923,    5.35,2
740H20090307,       A095,      18,          1,         17,         17,2,20090315,       0134,  -25.26355,  -44.61061,       1501,   176.3,  18.2056,  36.0266,  36.0180,2,    199.1,   199.0,2,    2.78,2,    0.25,2,  2097.8,2,  2370.1,2,  18.1749,    2.31,2
740H20090307,       A095,      18,          1,         19,         19,2,20090315,       0134,  -25.26355,  -44.61061,       1501,   101.1,  21.1422,  36.6100,  36.6185,2,    209.1,  -999.0,9,    2.38,2,    0.06,2,  -999.0,9,  -999.0,9,  21.1226,    0.02,2
740H20090307,       A095,      18,          1,         20,         20,2,20090315,       0134,  -25.26355,  -44.61061,       1501,    75.7,  21.8097,  36.6619,  36.6632,2,    218.4,   215.4,2,    2.34,2,    0.02,2,  2078.9,2,  2411.5,2,  21.7947,   -0.02,2
740H20090307,       A095,      18,          1,         22,         22,2,20090315,       0134,  -25.26355,  -44.61061,       1501,    50.5,  23.0523,  36.8469,  36.8483,2,    219.6,   216.3,2,    2.37,2,    0.02,2,  -999.0,9,  -999.0,9,  23.0419,   -0.01,2
740H20090307,       A095,      18,          1,         23,         23,2,20090315,       0134,  -25.26355,  -44.61061,       1501,    25.6,  25.0121,  36.8937,  36.8937,2,    218.2,   215.1,2,    2.44,2,    0.01,2,  -999.0,9,  -999.0,9,  25.0065,   -0.02,2
740H20090307,       A095,      18,          1,         24,         24,2,20090315,       0134,  -25.26355,  -44.61061,       1501,     5.8,  26.8489,  36.5112,  36.5116,2,    198.2,   198.6,2,    2.88,2,    0.04,2,  2058.2,2,  2402.5,2,  26.8475,   -0.02,2