BOTTLE,20211101CCHSIORKP
EXPOCODE,SECT_ID,STNNBR,CASTNO,SAMPNO,BTLNBR,BTLNBR_FLAG_W,DATE,TIME,LATITUDE,LONGITUDE,DEPTH,CTDPRS,CTDTMP,CTDSAL,SALNTY,SALNTY_FLAG_W,CTDOXY,OXYGEN,OXYGEN_FLAG_W,SILCAT,SILCAT_FLAG_W,PHSPHT,PHSPHT_FLAG_W,TCARBN,TCARBN_FLAG_W,ALKALI,ALKALI_FLAG_W,THETA,NO2+NO3,NO2+NO3_FLAG_W
,,,,,,,,,,,METERS,DBAR,ITS-90,PSS-78,PSS-78,,UMOL/KG,UMOL/KG,,UMOL/KG,,UMOL/KG,,UMOL/KG,,UMOL/KG,,DEG C,UMOL/KG,
740H20090307,       A095,      73,          1,          1,          1,2,20090405,       2217,  -22.80337,  -13.13188,       3988,  4041.7,   2.2148,  34.8519,  34.8517,2,    232.2,   234.7,2,   59.42,2,    1.62,2,  2208.9,2,  2338.9,2,   1.8701,   24.70,2
740H20090307,       A095,      73,          1,          2,          2,2,20090405,       2217,  -22.80337,  -13.13188,       3988,  3990.5,   2.2107,  34.8521,  34.8523,2,    232.5,   234.8,2,   59.52,2,    1.62,2,  2209.2,2,  2339.7,2,   1.8719,   24.80,2
740H20090307,       A095,      73,          1,          3,          3,2,20090405,       2217,  -22.80337,  -13.13188,       3988,  3542.3,   2.2768,  34.8600,  34.8603,2,    235.0,   235.5,2,   55.87,2,    1.59,2,  2205.8,2,  2339.8,2,   1.9857,   23.71,2
740H20090307,       A095,      73,          1,          4,          4,2,20090405,       2217,  -22.80337,  -13.13188,       3988,  3030.9,   2.5290,  34.8780,  34.8769,2,    235.7,   235.5,2,   47.85,2,    1.53,2,  2206.5,2,  2335.1,2,   2.2856,   23.37,2
740H20090307,       A095,      73,          1,          5,          5,2,20090405,       2217,  -22.80337,  -13.13188,       3988,  2776.1,   2.5560,  34.8806,  34.8800,2,    235.5,   235.5,2,   46.44,2,    1.53,2,  2200.2,2,  2332.1,2,   2.3376,   23.61,2
740H20090307,       A095,      73,          1,          6,          6,2,20090405,       2217,  -22.80337,  -13.13188,       3988,  2524.0,   2.5761,  34.8807,  34.8794,2,    235.1,   235.3,2,   45.59,2,    1.52,2,  2196.1,2,  2331.1,2,   2.3819,   23.22,2
740H20090307,       A095,      73,          1,          7,          7,2,20090405,       2217,  -22.80337,  -13.13188,       3988,  2269.2,   2.6008,  34.8707,  34.8703,2,    232.1,   231.8,2,   45.98,2,    1.56,2,  2196.6,2,  2331.7,2,   2.4302,   23.86,2
740H20090307,       A095,      73,          1,          8,          8,2,20090405,       2217,  -22.80337,  -13.13188,       3988,  2014.8,   2.6846,  34.8493,  34.8491,2,    225.0,   224.8,2,   47.28,2,    1.63,2,  -999.0,9,  -999.0,9,   2.5357,   24.82,2
740H20090307,       A095,      73,          1,          9,          9,2,20090405,       2217,  -22.80337,  -13.13188,       3988,  1764.3,   2.8605,  34.8168,  34.8162,2,    214.6,   215.2,2,   47.11,2,    1.73,2,  -999.0,9,  -999.0,9,   2.7313,   26.15,2
740H20090307,       A095,      73,          1,         10,         10,2,20090405,       2217,  -22.80337,  -13.13188,       3988,  1510.7,   3.2532,  34.7745,  34.7744,2,    203.8,   203.8,2,   42.77,2,    1.83,2,  2206.4,2,  2321.9,2,   3.1411,   27.45,2
740H20090307,       A095,      73,          1,         11,         11,2,20090405,       2217,  -22.80337,  -13.13188,       3988,  1258.4,   3.4139,  34.6499,  34.6494,2,    186.1,   186.1,2,   44.76,2,    2.06,2,  -999.0,9,  -999.0,9,   3.3216,   31.32,2
740H20090307,       A095,      73,          1,         12,         12,3,20090405,       2217,  -22.80337,  -13.13188,       3988,  1005.8,   3.7117,  34.4779,  34.4766,2,    178.0,   178.1,2,   43.48,2,    2.21,2,  2214.8,2,  2305.9,2,   3.6378,   33.46,2
740H20090307,       A095,      73,          1,         13,         13,2,20090405,       2217,  -22.80337,  -13.13188,       3988,   879.8,   4.1093,  34.4020,  34.4021,2,    183.8,   183.9,2,   37.52,2,    2.18,2,  -999.0,9,  -999.0,9,   4.0429,   33.06,2
740H20090307,       A095,      73,          1,         14,         14,2,20090405,       2217,  -22.80337,  -13.13188,       3988,   754.5,   4.9708,  34.3903,  34.3890,2,    185.3,   185.4,2,   28.31,2,    2.09,2,  2199.4,2,  2292.5,2,   4.9096,   31.09,2
740H20090307,       A095,      73,          1,         15,         15,2,20090405,       2217,  -22.80337,  -13.13188,       3988,   628.9,   6.5074,  34.4581,  34.4513,2,    192.6,   191.9,2,   18.70,2,    1.83,2,  -999.0,9,  -999.0,9,   6.4495,   27.48,2
740H20090307,       A095,      73,          1,         16,         16,2,20090405,       2217,  -22.80337,  -13.13188,       3988,   503.1,   8.9159,  34.6780,  34.6758,2,    191.3,   190.7,2,   11.53,2,    1.46,2,  2161.3,2,  2294.1,2,   8.8608,   21.32,2
740H20090307,       A095,      73,          1,         17,         17,2,20090405,       2217,  -22.80337,  -13.13188,       3988,   377.9,  12.0003,  35.0294,  35.0239,2,    193.5,   192.3,2,    6.58,2,    0.98,2,  -999.0,9,  -999.0,9,  11.9506,   13.96,2
740H20090307,       A095,      73,          1,         18,         18,2,20090405,       2217,  -22.80337,  -13.13188,       3988,   251.8,  14.9234,  35.3893,  35.3903,2,    202.7,   200.3,2,    4.21,2,    0.57,2,  2113.1,2,  2325.9,2,  14.8852,    6.76,2
740H20090307,       A095,      73,          1,         19,         19,2,20090405,       2217,  -22.80337,  -13.13188,       3988,   175.9,  17.8898,  35.8761,  35.8962,2,    207.7,   209.5,2,    3.25,2,    0.30,2,  -999.0,9,  -999.0,9,  17.8596,    2.02,2
740H20090307,       A095,      73,          1,         20,         20,2,20090405,       2217,  -22.80337,  -13.13188,       3988,   101.3,  20.3623,  36.2839,  36.2898,2,    220.2,   220.7,2,    2.63,2,    0.17,2,  2093.9,2,  2386.2,2,  20.3433,    0.02,2
740H20090307,       A095,      73,          1,         21,         25,2,20090405,       2217,  -22.80337,  -13.13188,       3988,    76.4,  21.7420,  36.3821,  36.3869,2,    225.9,   225.6,2,    2.51,2,    0.15,2,  -999.0,9,  -999.0,9,  21.7269,    0.01,2
740H20090307,       A095,      73,          1,         22,         22,2,20090405,       2217,  -22.80337,  -13.13188,       3988,    52.1,  25.3616,  36.7398,  36.7349,2,    204.2,   205.5,2,    2.54,2,    0.14,2,  2096.3,2,  2413.2,2,  25.3501,   -0.02,2
740H20090307,       A095,      73,          1,         23,         23,2,20090405,       2217,  -22.80337,  -13.13188,       3988,    26.8,  25.3927,  36.7284,  36.7339,2,    203.0,   202.7,2,    2.45,2,    0.15,2,  -999.0,9,  -999.0,9,  25.3868,    0.03,2
740H20090307,       A095,      73,          1,         24,         24,10,20090405,       2217,  -22.80337,  -13.13188,       3988,     7.6,  25.3821,  36.7245,  36.7296,2,    202.9,   202.9,2,    2.40,2,    0.15,2,  2095.8,2,  2415.2,2,  25.3804,    0.00,2
740H20090307,       A095,      74,          1,          1,          1,2,20090406,       0438,  -22.52674,  -12.81714,       4433,  4490.4,   2.2314,  34.8507,  34.8505,2,    233.4,   236.1,3,   61.88,2,    1.62,2,  2202.8,2,  2350.5,2,   1.8338,   24.63,2
740H20090307,       A095,      74,          1,          2,          2,2,20090406,       0438,  -22.52674,  -12.81714,       4433,  4438.4,   2.2253,  34.8506,  34.8507,2,    234.3,   234.8,2,   61.62,2,    1.62,2,  -999.0,9,  -999.0,9,   1.8342,   24.56,2
740H20090307,       A095,      74,          1,          3,          3,2,20090406,       0438,  -22.52674,  -12.81714,       4433,  4440.3,   2.2254,  34.8507,  34.8503,2,    234.1,   234.9,2,   61.28,2,    1.62,2,  -999.0,9,  -999.0,9,   1.8340,   24.57,2
740H20090307,       A095,      74,          1,          4,          4,2,20090406,       0438,  -22.52674,  -12.81714,       4433,  4053.4,   2.2028,  34.8526,  34.8522,2,    234.6,   235.3,2,   60.80,2,    1.62,2,  2206.2,2,  2351.4,2,   1.8571,   24.70,2
740H20090307,       A095,      74,          1,          5,          5,2,20090406,       0438,  -22.52674,  -12.81714,       4433,  3540.4,   2.2910,  34.8641,  34.8638,2,    236.2,   236.1,2,   56.16,2,    1.57,2,  -999.0,9,  -999.0,9,   1.9997,   24.16,2
740H20090307,       A095,      74,          1,          6,          6,2,20090406,       0438,  -22.52674,  -12.81714,       4433,  3029.4,   2.5451,  34.8908,  34.8896,2,    238.6,   238.9,2,   45.65,2,    1.48,2,  2191.8,2,  2341.7,2,   2.3014,   22.85,2
740H20090307,       A095,      74,          1,          7,          7,2,20090406,       0438,  -22.52674,  -12.81714,       4433,  2775.9,   2.6644,  34.9022,  34.9011,2,    240.1,   240.6,2,   40.99,2,    1.45,2,  -999.0,9,  -999.0,9,   2.4438,   22.19,2
740H20090307,       A095,      74,          1,          8,          8,2,20090406,       0438,  -22.52674,  -12.81714,       4433,  2521.9,   2.7498,  34.9036,  34.9026,2,    239.5,   239.5,2,   39.51,2,    1.46,2,  2188.2,2,  2341.6,2,   2.5524,   22.17,2
740H20090307,       A095,      74,          1,          9,          9,3,20090406,       0438,  -22.52674,  -12.81714,       4433,  2269.9,   2.8454,  34.8989,  34.8988,2,    237.3,   236.6,2,   38.66,2,    1.47,2,  -999.0,9,  -999.0,9,   2.6704,   22.23,2
740H20090307,       A095,      74,          1,         10,         10,2,20090406,       0438,  -22.52674,  -12.81714,       4433,  2016.4,   3.0598,  34.9016,  34.9001,2,    234.6,   234.4,2,   34.97,2,    1.47,2,  -999.0,9,  -999.0,9,   2.9049,   22.54,2
740H20090307,       A095,      74,          1,         11,         11,2,20090406,       0438,  -22.52674,  -12.81714,       4433,  1764.0,   3.2155,  34.8681,  34.8674,2,    223.8,   223.4,2,   36.95,2,    1.57,2,  -999.0,9,  -999.0,9,   3.0814,   24.22,2
740H20090307,       A095,      74,          1,         12,         12,2,20090406,       0438,  -22.52674,  -12.81714,       4433,  1510.6,   3.3064,  34.7853,  34.7844,2,    205.2,   204.2,2,   42.52,2,    1.79,2,  2206.8,2,  2335.2,2,   3.1936,   26.96,2
740H20090307,       A095,      74,          1,         13,         13,2,20090406,       0438,  -22.52674,  -12.81714,       4433,  1257.6,   3.4975,  34.6558,  34.6528,2,    186.2,   186.0,2,   43.73,2,    2.02,2,  -999.0,9,  -999.0,9,   3.4045,   30.32,2
740H20090307,       A095,      74,          1,         14,         14,2,20090406,       0438,  -22.52674,  -12.81714,       4433,  1007.3,   3.7189,  34.5042,  34.5028,2,    174.3,   174.1,2,   43.34,2,    2.22,2,    2222,2,  2320.3,2,   3.6448,   33.33,2
740H20090307,       A095,      74,          1,         15,         15,2,20090406,       0438,  -22.52674,  -12.81714,       4433,   880.6,   4.1311,  34.4245,  34.4231,2,    175.5,   175.3,2,   38.15,2,    2.23,2,  -999.0,9,  -999.0,9,   4.0645,   33.01,2
740H20090307,       A095,      74,          1,         16,         16,2,20090406,       0438,  -22.52674,  -12.81714,       4433,   754.3,   4.8796,  34.3959,  34.3952,2,    180.6,   179.7,2,   29.81,2,    2.13,2,  2206.8,2,    2308,2,   4.8189,   32.43,2
740H20090307,       A095,      74,          1,         17,         17,2,20090406,       0438,  -22.52674,  -12.81714,       4433,   627.8,   6.2700,  34.4519,  34.4523,2,    180.8,   181.3,2,   20.73,2,    1.91,2,  -999.0,9,  -999.0,9,   6.2134,   29.18,2
740H20090307,       A095,      74,          1,         18,         18,2,20090406,       0438,  -22.52674,  -12.81714,       4433,   503.2,   8.8746,  34.6843,  34.6852,2,    166.9,   170.9,2,   13.36,2,    1.57,2,  -999.0,9,  -999.0,9,   8.8197,   23.57,2
740H20090307,       A095,      74,          1,         19,         19,2,20090406,       0438,  -22.52674,  -12.81714,       4433,   377.0,  11.5056,  34.9736,  34.9746,2,    189.7,   189.9,2,    7.59,2,    1.06,2,  2144.1,2,  2309.7,2,  11.4573,   15.61,2
740H20090307,       A095,      74,          1,         20,         20,2,20090406,       0438,  -22.52674,  -12.81714,       4433,   251.9,  14.5610,  35.3340,  35.3383,2,    202.6,   201.7,2,    4.67,2,    0.59,2,  -999.0,9,  -999.0,9,  14.5235,    7.47,2
740H20090307,       A095,      74,          1,         21,         25,2,20090406,       0438,  -22.52674,  -12.81714,       4433,   176.8,  17.5312,  35.8204,  35.8305,2,    209.2,   209.2,2,    3.42,2,    0.29,2,  -999.0,9,  -999.0,9,  17.5012,    2.08,2
740H20090307,       A095,      74,          1,         22,         22,2,20090406,       0438,  -22.52674,  -12.81714,       4433,   102.1,  20.4887,  36.2780,  36.2746,2,    223.4,   223.7,2,    3.00,2,    0.14,2,  -999.0,9,  -999.0,9,  20.4694,    0.00,2
740H20090307,       A095,      74,          1,         23,         23,2,20090406,       0438,  -22.52674,  -12.81714,       4433,    53.3,  24.1949,  36.5803,  36.5830,2,    216.5,   212.9,2,    2.76,2,    0.15,2,  2093.9,2,  2289.8,3,  24.1835,    0.00,2
740H20090307,       A095,      74,          1,         24,         24,2,20090406,       0438,  -22.52674,  -12.81714,       4433,     7.5,  25.2647,  36.6930,  36.6975,2,    204.6,   201.4,2,    2.67,2,    0.16,2,  2096.5,2,  2419.1,2,  25.2631,    0.01,2
740H20090307,       A095,      75,          1,          1,          1,2,20090406,       1204,  -22.25701,  -12.26801,       4397,  4457.5,   2.2170,  34.8504,  34.8541,2,    234.7,   234.8,2,   61.74,2,    1.63,2,  2201.7,2,  2339.4,2,   1.8238,   24.51,2
740H20090307,       A095,      75,          1,          6,          6,2,20090406,       1204,  -22.25701,  -12.26801,       4397,  4053.9,   2.2202,  34.8548,  34.8556,2,    235.0,   235.5,2,   59.81,2,    1.61,2,  2199.7,2,    2339,2,   1.8739,   24.42,2
740H20090307,       A095,      75,          1,          7,          7,2,20090406,       1204,  -22.25701,  -12.26801,       4397,  3288.1,   2.4285,  34.8777,  34.8771,2,    237.4,   237.3,2,   50.90,2,    1.54,2,  2191.9,2,  2336.3,2,   2.1607,   23.25,2
740H20090307,       A095,      75,          1,          8,          8,2,20090406,       1204,  -22.25701,  -12.26801,       4397,  2777.2,   2.6552,  34.8951,  34.8961,2,    238.3,   238.0,2,   42.83,2,    1.47,2,  2185.2,2,    2332,2,   2.4347,   22.35,2
740H20090307,       A095,      75,          1,          9,          9,2,20090406,       1204,  -22.25701,  -12.26801,       4397,  2523.4,   2.7355,  34.8972,  34.8967,2,    237.8,   237.6,2,   40.65,2,    1.47,2,  2183.5,2,  2327.7,2,   2.5384,   22.57,2
740H20090307,       A095,      75,          1,         10,         10,2,20090406,       1204,  -22.25701,  -12.26801,       4397,  2268.3,   2.8392,  34.8953,  34.8945,2,    235.5,   235.4,2,   39.11,2,    1.48,2,  2182.6,2,  2324.1,2,   2.6646,   22.76,2
740H20090307,       A095,      75,          1,         11,         11,2,20090406,       1204,  -22.25701,  -12.26801,       4397,  2017.0,   3.0355,  34.8866,  34.8863,2,    230.7,   231.4,2,   37.26,2,    1.49,2,  2182.7,2,  2321.3,2,   2.8811,   22.88,2
740H20090307,       A095,      75,          1,         12,         12,3,20090406,       1204,  -22.25701,  -12.26801,       4397,  1763.2,   3.2107,  34.8646,-999.0000,9,    222.8,  -999.0,9, -999.00,9, -999.00,9,  -999.0,9,  -999.0,9,   3.0767, -999.00,9
740H20090307,       A095,      75,          1,         13,         13,2,20090406,       1204,  -22.25701,  -12.26801,       4397,  1510.2,   3.3185,  34.7978,  34.7970,2,    207.1,   207.1,2,   40.16,2,    1.74,2,  2197.4,2,  2319.2,2,   3.2056,   26.38,2
740H20090307,       A095,      75,          1,         14,         14,2,20090406,       1204,  -22.25701,  -12.26801,       4397,  1258.3,   3.5453,  34.6750,  34.6750,2,    185.5,   185.3,2,   41.35,2,    1.99,2,    2210,2,  2315.1,2,   3.4517,   30.24,2
740H20090307,       A095,      75,          1,         15,         15,2,20090406,       1204,  -22.25701,  -12.26801,       4397,  1005.3,   3.6664,  34.5350,  34.5347,2,    174.9,   175.3,2,   42.62,2,    2.18,2,  2214.5,2,  2310.8,2,   3.5928,   33.17,2
740H20090307,       A095,      75,          1,         16,         16,2,20090406,       1204,  -22.25701,  -12.26801,       4397,   879.7,   4.0433,  34.4350,  34.4339,2,    173.4,   173.8,2,   38.54,2,    2.23,2,  2207.7,2,  2302.4,2,   3.9774,   33.85,2
740H20090307,       A095,      75,          1,         17,         17,2,20090406,       1204,  -22.25701,  -12.26801,       4397,   753.3,   4.9202,  34.4089,  34.4072,2,    170.1,   169.8,2,   29.88,2,    2.18,2,  -999.0,9,  -999.0,9,   4.8594,   32.92,2
740H20090307,       A095,      75,          1,         18,         18,2,20090406,       1204,  -22.25701,  -12.26801,       4397,   504.1,   8.3784,  34.6383,  34.6378,2,    170.5,   164.9,2,   14.85,2,    1.70,2,  2176.2,2,    2293,2,   8.3252,   25.41,2
740H20090307,       A095,      75,          1,         19,         19,2,20090406,       1204,  -22.25701,  -12.26801,       4397,   376.7,  11.0728,  34.9272,  34.9342,2,    185.8,   186.5,2,    8.14,2,    1.15,2,  -999.0,9,  -999.0,9,  11.0258,   16.59,2
740H20090307,       A095,      75,          1,         20,         20,2,20090406,       1204,  -22.25701,  -12.26801,       4397,   252.9,  14.7558,  35.3629,  35.3478,2,    204.0,   203.4,2,    4.44,2,    0.59,2,  2109.4,2,    2322,2,  14.7177,    6.79,2
740H20090307,       A095,      75,          1,         21,         25,2,20090406,       1204,  -22.25701,  -12.26801,       4397,   122.8,  20.2114,  36.2540,  36.2547,2,    220.2,   222.0,2,    2.95,2,    0.15,2,  -999.0,9,  -999.0,9,  20.1884,    0.71,2
740H20090307,       A095,      75,          1,         22,         22,2,20090406,       1204,  -22.25701,  -12.26801,       4397,   102.4,  20.9241,  36.3323,  36.3314,2,    226.6,   227.0,2,    2.86,2,    0.13,2,  2084.5,2,  2384.9,2,  20.9045,    0.04,2
740H20090307,       A095,      75,          1,         23,         23,2,20090406,       1204,  -22.25701,  -12.26801,       4397,    52.4,  25.0200,  36.7637,  36.7601,2,    207.8,   204.9,2,    2.63,2,    0.15,2,  2090.7,2,  2389.5,3,  25.0086,    0.02,2
740H20090307,       A095,      75,          1,         24,         24,2,20090406,       1204,  -22.25701,  -12.26801,       4397,     8.5,  25.1866,  36.7746,  36.7790,2,    204.2,   203.7,3,    2.55,2,    0.15,2,  2093.9,2,  2414.1,2,  25.1847,    0.02,2