BOTTLE,20211101CCHSIORKP
EXPOCODE,SECT_ID,STNNBR,CASTNO,SAMPNO,BTLNBR,BTLNBR_FLAG_W,DATE,TIME,LATITUDE,LONGITUDE,DEPTH,CTDPRS,CTDTMP,CTDSAL,SALNTY,SALNTY_FLAG_W,CTDOXY,OXYGEN,OXYGEN_FLAG_W,SILCAT,SILCAT_FLAG_W,PHSPHT,PHSPHT_FLAG_W,TCARBN,TCARBN_FLAG_W,ALKALI,ALKALI_FLAG_W,THETA,NO2+NO3,NO2+NO3_FLAG_W
,,,,,,,,,,,METERS,DBAR,ITS-90,PSS-78,PSS-78,,UMOL/KG,UMOL/KG,,UMOL/KG,,UMOL/KG,,UMOL/KG,,UMOL/KG,,DEG C,UMOL/KG,
740H20090307,       A095,      39,          1,          1,          1,2,20090322,       2109,  -24.00195,  -35.59773,       4204,  4264.6,   0.4973,  34.6924,  34.6924,2,    214.6,   214.1,3,  124.21,2,    2.21,2,  2257.4,2,    2362,2,   0.1791,   32.68,2
740H20090307,       A095,      39,          1,          2,          2,2,20090322,       2109,  -24.00195,  -35.59773,       4204,  4213.3,   0.5081,  34.6939,  34.6937,2,    215.3,   215.0,2,  123.75,2,    2.22,2,  2253.3,2,  2361.6,2,   0.1950,   32.16,2
740H20090307,       A095,      39,          1,          3,          3,2,20090322,       2109,  -24.00195,  -35.59773,       4204,  4214.1,   0.5083,  34.6939,  34.6943,2,    215.3,   214.6,2,  123.91,2,    2.22,2,  -999.0,9,  -999.0,9,   0.1951,   32.35,2
740H20090307,       A095,      39,          1,          4,          4,2,20090322,       2109,  -24.00195,  -35.59773,       4204,  4061.7,   0.9182,  34.7355,  34.7350,2,    221.5,   219.9,2,  107.28,2,    2.06,2,  2240.9,2,  2357.2,2,   0.6089,   30.32,2
740H20090307,       A095,      39,          1,          5,          5,2,20090322,       2109,  -24.00195,  -35.59773,       4204,  4060.9,   0.9210,  34.7357,  34.7356,2,    220.6,   219.7,2,  106.39,2,    2.06,2,  -999.0,9,  -999.0,9,   0.6117,   30.37,2
740H20090307,       A095,      39,          1,          6,          6,2,20090322,       2109,  -24.00195,  -35.59773,       4204,  3545.9,   2.1913,  34.8708,  34.8709,2,    242.1,   241.8,2,   52.92,2,    1.54,2,  2192.3,2,  2333.8,2,   1.9019,   23.21,2
740H20090307,       A095,      39,          1,          7,          7,2,20090322,       2109,  -24.00195,  -35.59773,       4204,  3034.5,   2.7269,  34.9175,  34.9169,2,    244.9,   245.3,2,   35.53,2,    1.39,2,  2176.3,2,  2323.7,2,   2.4785,   20.69,2
740H20090307,       A095,      39,          1,          8,          8,2,20090322,       2109,  -24.00195,  -35.59773,       4204,  2523.0,   2.9885,  34.9319,  34.9316,2,    244.0,   244.3,2,   30.94,2,    1.37,2,  2172.4,2,  2320.8,2,   2.7865,   20.71,2
740H20090307,       A095,      39,          1,          9,          9,2,20090322,       2109,  -24.00195,  -35.59773,       4204,  2268.2,   3.1780,  34.9419,  34.9416,2,    244.2,   244.4,2,   27.86,2,    1.36,2,  -999.0,9,  -999.0,9,   2.9975,   20.65,2
740H20090307,       A095,      39,          1,         10,         10,2,20090322,       2109,  -24.00195,  -35.59773,       4204,  2014.5,   3.4064,  34.9412,  34.9408,2,    240.3,   239.6,2,   26.38,2,    1.38,2,  2170.8,2,  2315.3,2,   3.2464,   20.64,2
740H20090307,       A095,      39,          1,         11,         11,2,20090322,       2109,  -24.00195,  -35.59773,       4204,  1760.3,   3.6601,  34.9336,  34.9342,2,    232.6,   232.0,2,   25.59,2,    1.44,2,  -999.0,9,  -999.0,9,   3.5203,   21.93,2
740H20090307,       A095,      39,          1,         12,         12,2,20090322,       2109,  -24.00195,  -35.59773,       4204,  1507.0,   3.7836,  34.8519,  34.8520,2,    208.5,   208.9,2,   32.40,2,    1.69,2,    2188,2,  2315.2,2,   3.6655,   25.71,2
740H20090307,       A095,      39,          1,         13,         13,2,20090322,       2109,  -24.00195,  -35.59773,       4204,  1253.5,   3.3392,  34.6109,  34.6117,2,    184.6,   183.9,2,   48.26,2,    2.10,2,  -999.0,9,  -999.0,9,   3.2481,   31.24,2
740H20090307,       A095,      39,          1,         14,         14,2,20090322,       2109,  -24.00195,  -35.59773,       4204,  1000.6,   3.7616,  34.4135,  34.4126,2,    186.3,   185.4,2,   41.41,2,    2.22,2,  2204.3,2,  2302.7,2,   3.6879,   33.06,2
740H20090307,       A095,      39,          1,         15,         15,2,20090322,       2109,  -24.00195,  -35.59773,       4204,   875.2,   4.4268,  34.3670,  34.3668,2,    192.0,   192.7,2,   31.96,2,    2.13,2,  2192.9,2,  2292.9,2,   4.3587,   31.64,2
740H20090307,       A095,      39,          1,         16,         16,2,20090322,       2109,  -24.00195,  -35.59773,       4204,   748.0,   5.4811,  34.3865,  34.3860,2,    196.8,   196.2,2,   22.87,2,    1.97,2,  2178.6,2,  2287.6,2,   5.4175,   29.16,2
740H20090307,       A095,      39,          1,         17,         17,2,20090322,       2109,  -24.00195,  -35.59773,       4204,   621.9,   7.8127,  34.5742,  34.5756,2,    185.9,   185.4,2,   14.51,2,    1.66,2,  2164.1,2,  2289.7,2,   7.7493,   24.73,2
740H20090307,       A095,      39,          1,         18,         18,2,20090322,       2109,  -24.00195,  -35.59773,       4204,   496.5,  10.6886,  34.8874,  34.8846,2,    190.5,   190.7,2,    8.28,2,    1.20,2,  -999.0,9,  -999.0,9,  10.6277,   17.11,2
740H20090307,       A095,      39,          1,         19,         19,2,20090322,       2109,  -24.00195,  -35.59773,       4204,   371.3,  13.5082,  35.2775,  35.2807,2,    202.8,   202.8,2,    4.67,2,    0.70,2,  2126.6,2,    2323,2,  13.4553,    9.18,2
740H20090307,       A095,      39,          1,         20,         20,2,20090322,       2109,  -24.00195,  -35.59773,       4204,   245.0,  16.5865,  35.6804,  35.6656,2,    201.1,   198.2,2,    3.52,2,    0.42,2,  -999.0,9,  -999.0,9,  16.5465,    4.02,2
740H20090307,       A095,      39,          1,         21,         21,2,20090322,       2109,  -24.00195,  -35.59773,       4204,   169.7,  19.7416,  36.2596,  36.2642,2,    198.5,   198.8,2,    2.81,2,    0.21,2,  2103.2,2,  2387.1,2,  19.7103,    1.32,2
740H20090307,       A095,      39,          1,         22,         22,2,20090322,       2109,  -24.00195,  -35.59773,       4204,   100.8,  23.2807,  36.8907,  36.8793,2,    205.8,   206.0,2,    2.56,2,    0.07,2,  -999.0,9,  -999.0,9,  23.2598,    0.07,2
740H20090307,       A095,      39,          1,         23,         23,2,20090322,       2109,  -24.00195,  -35.59773,       4204,    50.2,  27.9496,  37.1352,  37.1308,2,    199.4,   196.1,2,    2.58,2,    0.01,2,  2065.8,2,  2440.6,2,  27.9377,    0.00,2
740H20090307,       A095,      39,          1,         24,         24,2,20090322,       2109,  -24.00195,  -35.59773,       4204,     4.6,  28.0695,  37.1155,  37.1156,2,    194.5,   193.5,2,    2.49,2,    0.01,2,  2062.6,2,  2435.9,2,  28.0684,    0.02,2
740H20090307,       A095,      40,          1,          1,          1,2,20090323,       0434,  -23.99886,  -34.96597,       4243,  4306.6,   0.3754,  34.6818,  34.6823,2,    214.7,   215.1,3,  123.00,2,    2.22,2,    2260,2,  2360.1,2,   0.0565,   31.89,2
740H20090307,       A095,      40,          1,          2,          2,2,20090323,       0434,  -23.99886,  -34.96597,       4243,  4255.2,   0.3897,  34.6840,  34.6835,2,    215.0,   214.5,2,  121.28,2,    2.22,2,  2257.1,2,  2360.9,2,   0.0758,   31.46,2
740H20090307,       A095,      40,          1,          3,          3,2,20090323,       0434,  -23.99886,  -34.96597,       4243,  4256.4,   0.3909,  34.6841,  34.6844,2,    215.0,   215.5,2,  120.78,2,    2.22,2,  -999.0,9,  -999.0,9,   0.0769,   32.08,2
740H20090307,       A095,      40,          1,          4,          4,2,20090323,       0434,  -23.99886,  -34.96597,       4243,  3804.2,   1.4811,  34.7947,  34.7953,2,    229.0,   228.7,2,   78.95,2,    1.82,2,  2221.8,2,  2346.8,2,   1.1831,   26.71,2
740H20090307,       A095,      40,          1,          5,          5,2,20090323,       0434,  -23.99886,  -34.96597,       4243,  3805.0,   1.4804,  34.7947,  34.7951,2,    228.9,   229.0,2,   78.49,2,    1.81,2,  -999.0,9,  -999.0,9,   1.1823,   26.41,2
740H20090307,       A095,      40,          1,          6,          6,2,20090323,       0434,  -23.99886,  -34.96597,       4243,  3290.4,   2.6050,  34.9085,  34.9085,2,    245.7,   245.1,2,   35.98,2,    1.38,2,  2176.6,2,  2326.4,2,   2.3325,   20.39,2
740H20090307,       A095,      40,          1,          7,          7,2,20090323,       0434,  -23.99886,  -34.96597,       4243,  2785.6,   2.8975,  34.9268,  34.9269,2,    244.4,   244.8,2,   30.77,2,    1.35,2,  2172.7,2,  2321.9,2,   2.6711,   20.47,2
740H20090307,       A095,      40,          1,          8,          8,2,20090323,       0434,  -23.99886,  -34.96597,       4243,  2529.1,   3.0624,  34.9360,  34.9363,2,    244.4,   245.0,2,   27.93,2,    1.34,2,  -999.0,9,  -999.0,9,   2.8585,   20.25,2
740H20090307,       A095,      40,          1,          9,          9,2,20090323,       0434,  -23.99886,  -34.96597,       4243,  2273.0,   3.3141,  34.9495,  34.9500,2,    244.6,   244.7,2,   24.12,2,    1.31,2,  2168.3,2,  2314.4,2,   3.1308,   19.34,2
740H20090307,       A095,      40,          1,         10,         10,2,20090323,       0434,  -23.99886,  -34.96597,       4243,  2022.1,   3.5213,  34.9564,  34.9564,2,    242.5,   243.3,2,   21.92,2,    1.31,2,  -999.0,9,  -999.0,9,   3.3588,   19.98,2
740H20090307,       A095,      40,          1,         11,         11,2,20090323,       0434,  -23.99886,  -34.96597,       4243,  1769.6,   3.6615,  34.9428,  34.9437,2,    234.3,   232.9,2,   23.01,2,    1.38,2,  2171.6,2,  2310.8,2,   3.5208,   20.77,2
740H20090307,       A095,      40,          1,         12,         12,2,20090323,       0434,  -23.99886,  -34.96597,       4243,  1519.1,   3.5970,  34.8337,  34.8343,2,    208.4,   207.7,2,   34.07,2,    1.70,2,  -999.0,9,  -999.0,9,   3.4800,   25.23,2
740H20090307,       A095,      40,          1,         13,         13,2,20090323,       0434,  -23.99886,  -34.96597,       4243,  1265.1,   3.5658,  34.6641,  34.6651,2,    186.8,   186.3,2,   41.21,2,    2.02,2,  2211.3,2,    2312,2,   3.4714,   29.72,2
740H20090307,       A095,      40,          1,         14,         14,2,20090323,       0434,  -23.99886,  -34.96597,       4243,  1008.8,   3.6361,  34.4213,  34.4213,2,    187.4,   185.8,2,   41.86,2,    2.23,2,  -999.0,9,  -999.0,9,   3.5627,   32.35,2
740H20090307,       A095,      40,          1,         15,         15,2,20090323,       0434,  -23.99886,  -34.96597,       4243,   882.5,   4.1508,  34.3530,  34.3540,2,    198.2,   196.9,2,   32.70,2,    2.13,2,  2197.4,2,  2292.8,2,   4.0840,   31.44,2
740H20090307,       A095,      40,          1,         16,         16,2,20090323,       0434,  -23.99886,  -34.96597,       4243,   755.3,   5.1645,  34.3624,  34.3625,2,    201.3,   201.6,2,   23.24,2,    1.98,2,  2184.2,2,  2285.7,2,   5.1021,   29.44,2
740H20090307,       A095,      40,          1,         17,         17,2,20090323,       0434,  -23.99886,  -34.96597,       4243,   628.0,   7.4511,  34.5348,  34.5287,2,    190.7,   190.1,2,   14.60,2,    1.70,2,  2169.2,2,  2287.5,2,   7.3888,   24.83,2
740H20090307,       A095,      40,          1,         18,         18,2,20090323,       0434,  -23.99886,  -34.96597,       4243,   500.7,  10.5414,  34.8660,  34.8579,2,    194.6,   194.0,2,    7.64,2,    1.18,2,  2141.9,2,    2298,2,  10.4805,   16.69,2
740H20090307,       A095,      40,          1,         19,         19,2,20090323,       0434,  -23.99886,  -34.96597,       4243,   370.1,  13.3798,  35.2255,  35.2269,2,    199.5,   198.9,2,    4.48,2,    0.75,2,  -999.0,9,  -999.0,9,  13.3275,   10.01,2
740H20090307,       A095,      40,          1,         20,         20,2,20090323,       0434,  -23.99886,  -34.96597,       4243,   252.5,  16.9722,  35.7430,  35.7457,2,    205.4,   198.0,2,    2.87,2,    0.37,2,  2105.1,2,  2346.5,2,  16.9303,    3.55,2
740H20090307,       A095,      40,          1,         21,         21,2,20090323,       0434,  -23.99886,  -34.96597,       4243,   175.6,  19.7065,  36.2281,  36.2263,2,    212.5,   212.2,2,    2.15,2,    0.10,2,  -999.0,9,  -999.0,9,  19.6741,    0.32,2
740H20090307,       A095,      40,          1,         22,         22,2,20090323,       0434,  -23.99886,  -34.96597,       4243,   101.3,  23.2974,  36.9282,  36.9189,2,    203.9,   203.9,2,    2.05,2,    0.06,2,    2095,2,  2418.4,2,  23.2764,    0.14,2
740H20090307,       A095,      40,          1,         23,         23,2,20090323,       0434,  -23.99886,  -34.96597,       4243,    49.7,  25.7726,  37.0106,  37.0113,2,    214.5,   213.2,2,    2.09,2,   -0.01,2,    2076,2,  2423.8,2,  25.7614,    0.01,2
740H20090307,       A095,      40,          1,         24,         24,2,20090323,       0434,  -23.99886,  -34.96597,       4243,     3.8,  27.7664,  36.9331,  36.9334,2,    195.1,   194.3,2,    2.22,2,   -0.02,2,  2060.8,2,  2417.1,2,  27.7655,   -0.01,2
740H20090307,       A095,      41,          1,          1,          1,2,20090323,       1227,  -24.00023,  -34.33492,       4439,  4505.4,   0.3653,  34.6786,  34.6784,2,    214.1,   214.9,2,  125.71,2,    2.24,2,    2263,2,  2372.4,2,   0.0254,   32.64,2
740H20090307,       A095,      41,          1,          2,          2,2,20090323,       1227,  -24.00023,  -34.33492,       4439,  4453.3,   0.3596,  34.6787,  34.6793,2,    214.5,   214.2,2,  126.30,2,    2.26,2,  2259.7,2,  2375.4,2,   0.0255,   32.85,2
740H20090307,       A095,      41,          1,          3,          3,2,20090323,       1227,  -24.00023,  -34.33492,       4439,  4453.6,   0.3597,  34.6787,  34.6796,2,    214.5,   214.3,2,  125.46,2,    2.25,2,  -999.0,9,  -999.0,9,   0.0255,   34.20,2
740H20090307,       A095,      41,          1,          4,          4,2,20090323,       1227,  -24.00023,  -34.33492,       4439,  4055.5,   1.2197,  34.7666,  34.7657,2,    225.3,   223.7,2,   91.92,2,    1.92,2,  2236.1,2,  2361.7,2,   0.9022,   27.85,2
740H20090307,       A095,      41,          1,          5,          5,2,20090323,       1227,  -24.00023,  -34.33492,       4439,  4055.9,   1.2201,  34.7665,  34.7668,2,    225.4,   225.0,2,   91.79,2,    1.93,2,  -999.0,9,  -999.0,9,   0.9025,   28.89,2
740H20090307,       A095,      41,          1,          6,          6,2,20090323,       1227,  -24.00023,  -34.33492,       4439,  3541.1,   2.2748,  34.8788,  34.8768,2,    243.3,   242.2,2,   48.07,2,    1.49,2,    2198,2,  2342.4,2,   1.9838,   22.26,2
740H20090307,       A095,      41,          1,          7,          7,2,20090323,       1227,  -24.00023,  -34.33492,       4439,  3027.9,   2.7378,  34.9180,  34.9176,2,    244.6,   244.4,2,   34.32,2,    1.37,2,  2184.5,2,  2331.7,2,   2.4899,   20.57,2
740H20090307,       A095,      41,          1,          8,          8,2,20090323,       1227,  -24.00023,  -34.33492,       4439,  2516.0,   3.0080,  34.9329,  34.9329,2,    244.2,   243.3,2,   29.68,2,    1.36,2,  2172.2,2,  2325.8,2,   2.8064,   20.33,2
740H20090307,       A095,      41,          1,          9,          9,2,20090323,       1227,  -24.00023,  -34.33492,       4439,  2261.9,   3.1805,  34.9374,  34.9376,2,    242.9,   242.4,2,   27.52,2,    1.35,2,  -999.0,9,  -999.0,9,   3.0006,   20.51,2
740H20090307,       A095,      41,          1,         10,         10,2,20090323,       1227,  -24.00023,  -34.33492,       4439,  2006.3,   3.3963,  34.9436,  34.9440,2,    242.5,   240.5,2,   24.95,2,    1.36,2,    2172,2,  2320.4,2,   3.2373,   20.79,2
740H20090307,       A095,      41,          1,         11,         11,2,20090323,       1227,  -24.00023,  -34.33492,       4439,  1752.9,   3.3130,  34.8797,  34.8811,2,    227.1,   223.9,2,   33.78,2,    1.57,2,  -999.0,9,  -999.0,9,   3.1786,   24.03,2
740H20090307,       A095,      41,          1,         12,         12,2,20090323,       1227,  -24.00023,  -34.33492,       4439,  1500.6,   3.0040,  34.7219,  34.7224,2,    198.4,   196.4,2,   49.52,2,    1.94,2,  2214.3,2,  2330.2,2,   2.8957,   29.12,2
740H20090307,       A095,      41,          1,         13,         13,2,20090323,       1227,  -24.00023,  -34.33492,       4439,  1247.5,   3.0926,  34.5792,  34.5778,2,    183.9,   183.0,2,   52.38,2,    2.17,2,  -999.0,9,  -999.0,9,   3.0045,   31.81,2
740H20090307,       A095,      41,          1,         14,         14,2,20090323,       1227,  -24.00023,  -34.33492,       4439,  1009.0,   3.6116,  34.4194,  34.4212,2,    187.0,   185.7,2,   42.00,2,    2.21,2,  2214.2,2,  2312.2,2,   3.5384,   32.67,2
740H20090307,       A095,      41,          1,         15,         15,2,20090323,       1227,  -24.00023,  -34.33492,       4439,   883.2,   4.1700,  34.3628,  34.3618,2,    194.0,   194.5,2,   33.29,2,    2.14,2,  2201.6,2,  2300.6,2,   4.1030,   31.39,2
740H20090307,       A095,      41,          1,         16,         16,2,20090323,       1227,  -24.00023,  -34.33492,       4439,   756.9,   5.1388,  34.3539,  34.3561,2,    201.5,   203.3,2,   22.45,2,    1.96,2,  2178.5,2,  2292.1,2,   5.0765,   28.88,2
740H20090307,       A095,      41,          1,         17,         17,2,20090323,       1227,  -24.00023,  -34.33492,       4439,   631.7,   6.9859,  34.4743,  34.4752,2,    201.8,   201.2,2,   13.88,2,    1.68,2,  2164.5,2,  2288.5,2,   6.9255,   24.91,2
740H20090307,       A095,      41,          1,         18,         18,2,20090323,       1227,  -24.00023,  -34.33492,       4439,   505.7,  10.0923,  34.8094,  34.7988,2,    197.7,   195.6,2,    8.17,2,    1.24,2,  -999.0,9,  -999.0,9,  10.0326,   17.79,2
740H20090307,       A095,      41,          1,         19,         19,2,20090323,       1227,  -24.00023,  -34.33492,       4439,   379.6,  12.8439,  35.1635,  35.1598,2,    204.2,   203.7,2,    4.52,2,    0.78,2,  2123.1,2,  2313.1,2,  12.7917,   10.64,2
740H20090307,       A095,      41,          1,         20,         20,2,20090323,       1227,  -24.00023,  -34.33492,       4439,   254.2,  15.2311,  35.4628,  35.4545,2,    205.6,   204.1,2,    3.09,2,    0.46,2,  -999.0,9,  -999.0,9,  15.1920,    5.30,2
740H20090307,       A095,      41,          1,         21,         21,2,20090323,       1227,  -24.00023,  -34.33492,       4439,   178.7,  17.5342,  35.8408,  35.8176,2,    208.2,   206.1,2,    2.38,2,    0.24,2,  2098.5,2,  2355.6,2,  17.5039,    1.85,2
740H20090307,       A095,      41,          1,         22,         22,2,20090323,       1227,  -24.00023,  -34.33492,       4439,   113.1,  19.5929,  36.2198,  36.2043,2,    215.9,   213.2,2,    1.94,2,    0.07,2,  -999.0,9,  -999.0,9,  19.5721,    0.18,2
740H20090307,       A095,      41,          1,         23,         23,2,20090323,       1227,  -24.00023,  -34.33492,       4439,    52.9,  23.0575,  36.3961,  36.3988,2,    227.8,   225.3,2,    1.83,2,   -0.03,2,  2060.5,2,  2386.6,2,  23.0466,   -0.07,2
740H20090307,       A095,      41,          1,         24,         24,2,20090323,       1227,  -24.00023,  -34.33492,       4439,     6.3,  26.9267,  36.3247,  36.3261,2,    198.1,   197.2,2,    1.80,2,   -0.03,2,  2043.1,2,  2383.5,2,  26.9252,   -0.07,2