BOTTLE,20211101CCHSIORKP
EXPOCODE,SECT_ID,STNNBR,CASTNO,SAMPNO,BTLNBR,BTLNBR_FLAG_W,DATE,TIME,LATITUDE,LONGITUDE,DEPTH,CTDPRS,CTDTMP,CTDSAL,SALNTY,SALNTY_FLAG_W,CTDOXY,OXYGEN,OXYGEN_FLAG_W,SILCAT,SILCAT_FLAG_W,PHSPHT,PHSPHT_FLAG_W,TCARBN,TCARBN_FLAG_W,ALKALI,ALKALI_FLAG_W,THETA,NO2+NO3,NO2+NO3_FLAG_W
,,,,,,,,,,,METERS,DBAR,ITS-90,PSS-78,PSS-78,,UMOL/KG,UMOL/KG,,UMOL/KG,,UMOL/KG,,UMOL/KG,,UMOL/KG,,DEG C,UMOL/KG,
740H20090307,       A095,      58,          1,          1,          1,2,20090331,       0047,  -23.99910,  -23.44949,       5144,  5228.7,   0.8061,  34.7148,  34.7149,2,    216.8,   218.7,3,  114.42,2,    2.11,2,  2244.5,2,  2366.8,2,   0.3680,   31.35,2
740H20090307,       A095,      58,          1,          2,          2,2,20090331,       0047,  -23.99910,  -23.44949,       5144,  5177.4,   0.8128,  34.7160,  34.7168,2,    217.8,   218.3,2,  114.02,2,    2.11,2,  2247.4,2,  2362.8,2,   0.3806,   31.28,2
740H20090307,       A095,      58,          1,          3,          3,2,20090331,       0047,  -23.99910,  -23.44949,       5144,  4885.6,   0.9521,  34.7329,  34.7335,2,    220.0,   221.1,2,  108.09,2,    2.05,2,  2242.1,2,  2362.7,2,   0.5496,   30.67,2
740H20090307,       A095,      58,          1,          4,          4,2,20090331,       0047,  -23.99910,  -23.44949,       5144,  4576.9,   1.0521,  34.7462,  34.7461,2,    221.8,   221.8,2,  102.62,2,    2.00,2,  2236.5,2,  2361.6,2,   0.6820,   30.06,2
740H20090307,       A095,      58,          1,          5,          5,2,20090331,       0047,  -23.99910,  -23.44949,       5144,  4320.1,   1.2899,  34.7718,  34.7722,2,    225.2,   225.6,2,   92.58,2,    1.90,2,  2228.1,2,  2354.8,2,   0.9412,   28.75,2
740H20090307,       A095,      58,          1,          6,          6,2,20090331,       0047,  -23.99910,  -23.44949,       5144,  4063.4,   1.6112,  34.8058,  34.8054,2,    229.5,   230.6,2,   79.16,2,    1.78,2,  2214.8,2,  2350.3,2,   1.2814,   26.83,2
740H20090307,       A095,      58,          1,          7,          7,2,20090331,       0047,  -23.99910,  -23.44949,       5144,  3552.3,   2.2710,  34.8773,  34.8766,2,    240.9,   241.5,2,   50.09,2,    1.50,2,  2187.8,2,  2335.3,2,   1.9788,   22.90,2
740H20090307,       A095,      58,          1,          8,          8,2,20090331,       0047,  -23.99910,  -23.44949,       5144,  3031.9,   2.6883,  34.9159,  34.9157,2,    243.6,   244.9,2,   35.73,2,    1.37,2,    2175,2,  2327.4,2,   2.4411,   21.02,2
740H20090307,       A095,      58,          1,          9,          9,2,20090331,       0047,  -23.99910,  -23.44949,       5144,  2532.3,   2.9412,  34.9302,  34.9300,2,    242.5,   244.3,2,   31.63,2,    1.36,2,  2172.8,2,  2320.9,2,   2.7393,   21.00,2
740H20090307,       A095,      58,          1,         10,         10,2,20090331,       0047,  -23.99910,  -23.44949,       5144,  2278.2,   3.0876,  34.9355,  34.9355,2,    241.6,   243.4,2,   29.52,2,    1.35,2,  -999.0,9,  -999.0,9,   2.9076,   20.94,2
740H20090307,       A095,      58,          1,         11,         11,2,20090331,       0047,  -23.99910,  -23.44949,       5144,  2022.2,   3.2070,  34.9239,  34.9236,2,    236.4,   237.3,2,   30.03,2,    1.40,2,    2174,2,  2319.3,2,   3.0493,   21.66,2
740H20090307,       A095,      58,          1,         12,         12,2,20090331,       0047,  -23.99910,  -23.44949,       5144,  1768.9,   3.1882,  34.8598,  34.8605,2,    220.4,   221.7,2,   38.05,2,    1.60,2,  -999.0,9,  -999.0,9,   3.0541,   24.61,2
740H20090307,       A095,      58,          1,         13,         13,2,20090331,       0047,  -23.99910,  -23.44949,       5144,  1515.7,   3.1296,  34.7508,  34.7504,2,    199.4,   200.2,2,   47.36,2,    1.88,2,  2205.3,2,  2323.7,2,   3.0185,   28.58,2
740H20090307,       A095,      58,          1,         14,         14,3,20090331,       0047,  -23.99910,  -23.44949,       5144,  1262.2,   3.2661,  34.6141,-999.0000,9,    183.3,  -999.0,9, -999.00,9, -999.00,9,  -999.0,9,  -999.0,9,   3.1750, -999.00,9
740H20090307,       A095,      58,          1,         15,         15,2,20090331,       0047,  -23.99910,  -23.44949,       5144,  1009.6,   3.7080,  34.4434,  34.4433,2,    179.8,   180.3,2,   44.06,2,    2.25,2,  2211.9,2,  2307.6,2,   3.6339,   33.81,2
740H20090307,       A095,      58,          1,         16,         16,2,20090331,       0047,  -23.99910,  -23.44949,       5144,   882.9,   4.3299,  34.3870,  34.3866,2,    183.8,   184.7,2,   34.42,2,    2.16,2,  -999.0,9,  -999.0,9,   4.2618,   32.91,2
740H20090307,       A095,      58,          1,         17,         17,2,20090331,       0047,  -23.99910,  -23.44949,       5144,   754.9,   5.3858,  34.3904,  34.3908,2,    190.5,   190.7,2,   24.31,2,    1.99,2,  2183.2,2,  2289.2,2,   5.3222,   30.54,2
740H20090307,       A095,      58,          1,         18,         18,2,20090331,       0047,  -23.99910,  -23.44949,       5144,   501.8,   9.7774,  34.7739,  34.7768,2,    185.0,   185.6,2,    9.99,2,    1.34,2,  -999.0,9,  -999.0,9,   9.7193,   19.96,2
740H20090307,       A095,      58,          1,         19,         19,2,20090331,       0047,  -23.99910,  -23.44949,       5144,   377.1,  12.7965,  35.1470,  35.1431,2,    201.3,   202.9,2,    5.16,2,    0.79,2,  2122.4,2,  2313.7,2,  12.7447,   10.87,2
740H20090307,       A095,      58,          1,         20,         20,2,20090331,       0047,  -23.99910,  -23.44949,       5144,   251.7,  15.2820,  35.4808,  35.4664,2,    209.5,   209.9,2,    3.50,2,    0.42,2,  -999.0,9,  -999.0,9,  15.2432,    4.70,2
740H20090307,       A095,      58,          1,         21,         21,2,20090331,       0047,  -23.99910,  -23.44949,       5144,   175.7,  17.6412,  35.8551,  35.8355,2,    205.7,   206.8,2,    2.95,2,    0.25,2,  2097.7,2,  2348.8,2,  17.6113,    1.73,2
740H20090307,       A095,      58,          1,         22,         22,2,20090331,       0047,  -23.99910,  -23.44949,       5144,   100.8,  20.8499,  36.3595,  36.3174,2,    220.1,   219.9,2,    2.57,2,    0.07,2,  -999.0,9,  -999.0,9,  20.8306,   -0.07,2
740H20090307,       A095,      58,          1,         23,         23,2,20090331,       0047,  -23.99910,  -23.44949,       5144,    50.4,  24.1645,  36.5996,  36.5877,2,    224.2,   223.9,2,    2.58,2,    0.03,2,  2073.8,2,  2391.8,2,  24.1537,   -0.04,2
740H20090307,       A095,      58,          1,         24,         24,2,20090331,       0047,  -23.99910,  -23.44949,       5144,     5.5,  26.2825,  36.7158,  36.7153,2,    198.6,   198.2,2,    2.49,2,    0.03,2,  2073.2,2,  2396.3,2,  26.2813,   -0.04,2
740H20090307,       A095,      59,          1,          1,          1,2,20090331,       0920,  -24.00194,  -22.73343,       5127,  5215.2,   0.9044,  34.7244,  34.7245,2,    218.1,   219.3,2,  110.12,2,    2.05,2,  2251.6,2,  2361.4,2,   0.4644,   30.50,2
740H20090307,       A095,      59,          1,          2,          2,2,20090331,       0920,  -24.00194,  -22.73343,       5127,  5163.6,   0.9085,  34.7254,  34.7257,2,    218.8,   219.4,2,  109.16,2,    2.07,2,  2252.8,2,    2360,2,   0.4746,   33.09,2
740H20090307,       A095,      59,          1,          3,          3,2,20090331,       0920,  -24.00194,  -22.73343,       5127,  4834.1,   0.9860,  34.7368,  34.7368,2,    221.2,   221.2,2,  105.43,2,    2.01,2,  2250.3,2,    2359,2,   0.5883,   30.16,2
740H20090307,       A095,      59,          1,          4,          4,2,20090331,       0920,  -24.00194,  -22.73343,       5127,  4319.0,   1.3005,  34.7731,  34.7723,2,    225.1,   225.6,2,   90.36,2,    1.88,2,  2238.1,2,  2354.1,2,   0.9516,   27.91,2
740H20090307,       A095,      59,          1,          5,          5,2,20090331,       0920,  -24.00194,  -22.73343,       5127,  4063.8,   1.6049,  34.8046,  34.8043,2,    229.2,   230.3,2,   78.41,2,    1.76,2,  2225.9,2,  2348.2,2,   1.2752,   26.49,2
740H20090307,       A095,      59,          1,          6,          6,2,20090331,       0920,  -24.00194,  -22.73343,       5127,  3807.9,   2.0042,  34.8462,  34.8447,2,    235.1,   235.4,2,   62.74,2,    1.61,2,  2209.3,2,  2340.8,2,   1.6914,   24.44,2
740H20090307,       A095,      59,          1,          7,          7,2,20090331,       0920,  -24.00194,  -22.73343,       5127,  3296.5,   2.5572,  34.9049,  34.9041,2,    243.6,   244.1,2,   39.63,2,    1.39,2,    2190,2,  2327.7,2,   2.2853,   21.11,2
740H20090307,       A095,      59,          1,          8,          8,2,20090331,       0920,  -24.00194,  -22.73343,       5127,  2787.1,   2.8267,  34.9236,  34.9230,2,    242.7,   243.4,2,   33.72,2,    1.36,2,  2178.8,3,  2322.7,2,   2.6016,   20.79,2
740H20090307,       A095,      59,          1,          9,          9,2,20090331,       0920,  -24.00194,  -22.73343,       5127,  2404.9,   3.0260,  34.9338,  34.9331,2,    242.1,   242.8,2,   30.30,2,    1.34,2,  2170.5,2,  2321.3,2,   2.8349,   20.57,2
740H20090307,       A095,      59,          1,         10,         10,2,20090331,       0920,  -24.00194,  -22.73343,       5127,  2026.5,   3.2077,  34.9249,  34.9247,2,    236.7,   237.6,2,   30.11,2,    1.39,2,  -999.0,9,  -999.0,9,   3.0496,   21.31,2
740H20090307,       A095,      59,          1,         11,         11,2,20090331,       0920,  -24.00194,  -22.73343,       5127,  1771.1,   3.1875,  34.8688,  34.8690,2,    222.4,   223.2,2,   37.00,2,    1.55,2,    2184,2,  2320.7,2,   3.0531,   23.62,2
740H20090307,       A095,      59,          1,         12,         12,2,20090331,       0920,  -24.00194,  -22.73343,       5127,  1520.6,   3.2096,  34.7787,  34.7786,2,    203.0,   203.8,2,   44.48,2,    1.80,2,  -999.0,9,  -999.0,9,   3.0971,   27.14,2
740H20090307,       A095,      59,          1,         13,         13,2,20090331,       0920,  -24.00194,  -22.73343,       5127,  1268.1,   3.2544,  34.6290,  34.6302,2,    184.3,   184.7,2,   49.99,2,    2.07,2,  2217.9,2,  2319.5,2,   3.1629,   30.80,2
740H20090307,       A095,      59,          1,         14,         14,3,20090331,       0920,  -24.00194,  -22.73343,       5127,  1009.1,   3.7366,  34.4443,-999.0000,9,    179.1,  -999.0,9, -999.00,9, -999.00,9,  -999.0,9,  -999.0,9,   3.6624, -999.00,9
740H20090307,       A095,      59,          1,         15,         15,2,20090331,       0920,  -24.00194,  -22.73343,       5127,   883.3,   4.3124,  34.3829,  34.3830,2,    184.9,   185.6,2,   35.13,2,    2.16,2,  2201.7,2,  2298.1,2,   4.2444,   32.27,2
740H20090307,       A095,      59,          1,         16,         16,2,20090331,       0920,  -24.00194,  -22.73343,       5127,   757.5,   5.3182,  34.3820,  34.3816,2,    191.9,   193.8,2,   25.15,2,    1.99,2,  -999.0,9,  -999.0,9,   5.2547,   29.74,2
740H20090307,       A095,      59,          1,         17,         17,2,20090331,       0920,  -24.00194,  -22.73343,       5127,   631.9,   6.9988,  34.4937,  34.4878,2,    190.5,   191.7,2,   16.99,2,    1.74,2,  2169.1,2,  2286.6,2,   6.9382,   26.13,2
740H20090307,       A095,      59,          1,         18,         18,2,20090331,       0920,  -24.00194,  -22.73343,       5127,   505.8,   9.7038,  34.7688,  34.7575,2,    187.1,   187.3,2,   10.43,2,    1.35,2,  2150.1,2,  2296.1,2,   9.6454,   20.03,2
740H20090307,       A095,      59,          1,         19,         19,2,20090331,       0920,  -24.00194,  -22.73343,       5127,   379.8,  12.6878,  35.1324,  35.1328,2,    199.0,   200.6,2,    5.46,2,    0.82,2,  -999.0,9,  -999.0,9,  12.6360,   11.10,2
740H20090307,       A095,      59,          1,         20,         20,2,20090331,       0920,  -24.00194,  -22.73343,       5127,   254.2,  15.6363,  35.5384,  35.5262,2,    210.7,   210.6,2,    3.45,2,    0.38,2,  2097.2,2,  2332.7,2,  15.5965,    4.07,2
740H20090307,       A095,      59,          1,         21,         21,2,20090331,       0920,  -24.00194,  -22.73343,       5127,   179.8,  17.2505,  35.7862,  35.7469,2,    208.0,   208.2,2,    3.12,2,    0.28,2,  -999.0,9,  -999.0,9,  17.2204,    2.15,2
740H20090307,       A095,      59,          1,         22,         22,2,20090331,       0920,  -24.00194,  -22.73343,       5127,   125.3,  20.1149,  36.2928,  36.2441,2,    216.5,   216.7,2,    2.78,2,    0.14,2,  2088.6,2,  2378.5,2,  20.0914,    0.01,2
740H20090307,       A095,      59,          1,         23,         23,2,20090331,       0920,  -24.00194,  -22.73343,       5127,    50.5,  25.5611,  36.8473,  36.8241,2,    209.4,   207.5,2,    2.68,2,    0.07,2,  -999.0,9,  -999.0,9,  25.5499,    0.00,2
740H20090307,       A095,      59,          1,         24,         24,2,20090331,       0920,  -24.00194,  -22.73343,       5127,     5.5,  26.1486,  36.8118,  36.8178,2,    197.4,   197.8,2,    2.63,2,    0.07,2,  2078.3,2,  2416.1,2,  26.1473,    0.03,2
740H20090307,       A095,      60,          1,          1,          1,2,20090331,       1749,  -24.00006,  -22.01598,       4978,  5061.4,   0.9509,  34.7306,  34.7311,2,    218.8,   222.1,2,  108.26,2,    2.06,2,  2243.9,2,    2360,2,   0.5277,   30.58,2
740H20090307,       A095,      60,          1,          2,          2,2,20090331,       1749,  -24.00006,  -22.01598,       4978,  5009.5,   0.9681,  34.7329,  34.7332,2,    218.7,   221.5,2,  107.44,2,    2.04,2,  2244.9,2,  2357.8,2,   0.5505,   30.53,2
740H20090307,       A095,      60,          1,          3,          3,2,20090331,       1749,  -24.00006,  -22.01598,       4978,  4566.3,   1.1385,  34.7543,  34.7551,2,    222.8,   224.8,2,   99.18,2,    1.96,2,    2231,2,  2356.6,2,   0.7668,   29.31,2
740H20090307,       A095,      60,          1,          4,          4,2,20090331,       1749,  -24.00006,  -22.01598,       4978,  4309.2,   1.3327,  34.7754,  34.7754,2,    225.3,   227.7,2,   90.63,2,    1.88,2,  2227.1,2,  2350.5,2,   0.9840,   28.19,2
740H20090307,       A095,      60,          1,          5,          5,2,20090331,       1749,  -24.00006,  -22.01598,       4978,  4063.9,   1.6630,  34.8099,  34.8097,2,    229.9,   232.2,2,   76.88,2,    1.76,2,  2217.5,2,  2346.5,2,   1.3316,   26.30,2
740H20090307,       A095,      60,          1,          6,          6,2,20090331,       1749,  -24.00006,  -22.01598,       4978,  3551.6,   2.3236,  34.8794,  34.8803,2,    240.2,   241.8,2,   49.48,2,    1.49,2,  2188.8,2,  2333.4,2,   2.0302,   22.79,2
740H20090307,       A095,      60,          1,          7,          7,2,20090331,       1749,  -24.00006,  -22.01598,       4978,  3042.1,   2.7083,  34.9166,  34.9172,2,    243.3,   247.3,2,   35.67,2,    1.37,2,    2179,2,  2325.2,2,   2.4596,   20.84,2
740H20090307,       A095,      60,          1,          8,          8,2,20090331,       1749,  -24.00006,  -22.01598,       4978,  2533.2,   2.9372,  34.9296,  34.9298,2,    242.2,   245.1,2,   31.62,2,    1.36,2,  2174.8,2,  2317.6,2,   2.7352,   20.65,2
740H20090307,       A095,      60,          1,          9,          9,2,20090331,       1749,  -24.00006,  -22.01598,       4978,  2278.9,   3.0878,  34.9342,  34.9351,2,    241.3,   244.4,2,   29.52,2,    1.35,2,  -999.0,9,  -999.0,9,   2.9077,   20.60,2
740H20090307,       A095,      60,          1,         10,         10,2,20090331,       1749,  -24.00006,  -22.01598,       4978,  2024.9,   3.2049,  34.9218,  34.9218,2,    236.1,   238.6,2,   30.23,2,    1.41,2,  2176.8,2,  2322.6,2,   3.0471,   21.43,2
740H20090307,       A095,      60,          1,         11,         11,2,20090331,       1749,  -24.00006,  -22.01598,       4978,  1771.2,   3.2379,  34.8787,  34.8783,2,    224.0,   226.7,2,   35.20,2,    1.54,2,  -999.0,9,  -999.0,9,   3.1028,   23.35,2
740H20090307,       A095,      60,          1,         12,         12,2,20090331,       1749,  -24.00006,  -22.01598,       4978,  1517.6,   3.2210,  34.7775,  34.7811,2,    202.7,   206.2,2,   43.77,2,    1.80,2,  2204.2,2,  2325.9,2,   3.1086,   27.25,2
740H20090307,       A095,      60,          1,         13,         13,2,20090331,       1749,  -24.00006,  -22.01598,       4978,  1263.2,   3.3388,  34.6255,  34.6295,2,    183.8,   185.9,2,   47.75,2,    2.07,2,  -999.0,9,  -999.0,9,   3.2468,   31.25,2
740H20090307,       A095,      60,          1,         14,         14,2,20090331,       1749,  -24.00006,  -22.01598,       4978,  1008.6,   3.6749,  34.4490,  34.4495,2,    179.4,   181.5,2,   44.16,2,    2.24,2,  2215.6,2,  2310.5,2,   3.6012,   33.56,2
740H20090307,       A095,      60,          1,         15,         15,2,20090331,       1749,  -24.00006,  -22.01598,       4978,   883.8,   4.3171,  34.3994,  34.4003,2,    179.5,   181.2,2,   35.32,2,    2.21,2,  -999.0,9,  -999.0,9,   4.2490,   33.41,2
740H20090307,       A095,      60,          1,         16,         16,2,20090331,       1749,  -24.00006,  -22.01598,       4978,   758.1,   5.7149,  34.4330,  34.4322,2,    174.4,   176.1,2,   24.35,2,    2.06,2,  2194.3,2,  2294.2,2,   5.6490,   31.24,2
740H20090307,       A095,      60,          1,         17,         17,2,20090331,       1749,  -24.00006,  -22.01598,       4978,   632.4,   7.3671,  34.5508,  34.5484,2,    168.4,   170.9,2,   17.47,2,    1.84,2,  2182.4,2,  2292.6,2,   7.3047,   27.43,2
740H20090307,       A095,      60,          1,         18,         18,2,20090331,       1749,  -24.00006,  -22.01598,       4978,   505.3,   9.7313,  34.7744,  34.7725,2,    177.8,   181.4,2,   10.52,2,    1.40,2,  -999.0,9,  -999.0,9,   9.6729,   19.60,2
740H20090307,       A095,      60,          1,         19,         19,2,20090331,       1749,  -24.00006,  -22.01598,       4978,   376.8,  12.4525,  35.0903,  35.0844,2,    195.4,   191.7,2,    6.07,2,    0.95,2,  2132.9,2,  2312.3,2,  12.4017,   13.11,2
740H20090307,       A095,      60,          1,         20,         20,2,20090331,       1749,  -24.00006,  -22.01598,       4978,   251.9,  15.3653,  35.4643,  35.4525,2,    201.8,   201.0,2,    3.80,2,    0.51,2,  -999.0,9,  -999.0,9,  15.3263,    5.78,2
740H20090307,       A095,      60,          1,         21,         21,2,20090331,       1749,  -24.00006,  -22.01598,       4978,   177.0,  18.6686,  36.0332,  35.9751,2,    209.6,   210.8,2,    2.79,2,    0.22,2,  2094.5,2,  2365.1,2,  18.6372,    0.87,2
740H20090307,       A095,      60,          1,         22,         22,2,20090331,       1749,  -24.00006,  -22.01598,       4978,   101.7,  20.9524,  36.3982,  36.3768,2,    221.8,   223.8,2,    2.44,2,    0.09,2,  -999.0,9,  -999.0,9,  20.9328,    0.09,2
740H20090307,       A095,      60,          1,         23,         23,2,20090331,       1749,  -24.00006,  -22.01598,       4978,    51.8,  26.0081,  36.9746,  36.9546,2,    201.0,   203.8,2,    2.37,2,    0.10,2,  2089.5,2,  2428.7,2,  25.9965,    0.11,2
740H20090307,       A095,      60,          1,         24,         24,2,20090331,       1749,  -24.00006,  -22.01598,       4978,     6.9,  26.2088,  37.0026,  37.0027,2,    198.3,   200.7,2,    2.31,2,    0.10,2,  2091.1,2,  2431.2,2,  26.2072,    0.11,2