BOTTLE,20211101CCHSIORKP
EXPOCODE,SECT_ID,STNNBR,CASTNO,SAMPNO,BTLNBR,BTLNBR_FLAG_W,DATE,TIME,LATITUDE,LONGITUDE,DEPTH,CTDPRS,CTDTMP,CTDSAL,SALNTY,SALNTY_FLAG_W,CTDOXY,OXYGEN,OXYGEN_FLAG_W,SILCAT,SILCAT_FLAG_W,PHSPHT,PHSPHT_FLAG_W,TCARBN,TCARBN_FLAG_W,ALKALI,ALKALI_FLAG_W,THETA,NO2+NO3,NO2+NO3_FLAG_W
,,,,,,,,,,,METERS,DBAR,ITS-90,PSS-78,PSS-78,,UMOL/KG,UMOL/KG,,UMOL/KG,,UMOL/KG,,UMOL/KG,,UMOL/KG,,DEG C,UMOL/KG,
740H20090307,       A095,      76,          1,          1,          1,2,20090406,       1943,  -22.21319,  -11.72023,       4369,  4431.0,   2.2359,  34.8519,  34.8518,2,    233.7,   235.5,2,   60.63,2,    1.62,2,  2200.5,2,  2342.3,3,   1.8453,   24.21,2
740H20090307,       A095,      76,          1,          2,          2,2,20090406,       1943,  -22.21319,  -11.72023,       4369,  4382.8,   2.2301,  34.8519,  34.8521,2,    233.7,   235.6,2,   60.66,2,    1.62,2,  2201.9,2,  2341.9,3,   1.8453,   24.23,2
740H20090307,       A095,      76,          1,          3,          3,2,20090406,       1943,  -22.21319,  -11.72023,       4369,  4382.2,   2.2301,  34.8520,  34.8525,2,    233.7,   236.2,2,   60.66,2,    1.62,2,  -999.0,9,  -999.0,9,   1.8454,   23.98,2
740H20090307,       A095,      76,          1,          4,          4,2,20090406,       1943,  -22.21319,  -11.72023,       4369,  4308.9,   2.2233,  34.8521,  34.8524,2,    234.1,   235.3,2,   60.41,2,    1.63,2,  2202.6,2,  2342.6,3,   1.8475,   24.27,2
740H20090307,       A095,      76,          1,          5,          5,2,20090406,       1943,  -22.21319,  -11.72023,       4369,  4051.4,   2.2187,  34.8540,  34.8518,2,    234.9,   235.3,2,   59.37,2,    1.62,2,  2201.2,2,  2344.3,3,   1.8727,   24.03,2
740H20090307,       A095,      76,          1,          6,          6,2,20090406,       1943,  -22.21319,  -11.72023,       4369,  3540.9,   2.4071,  34.8710,  34.8709,2,    236.3,   236.6,2,   52.46,2,    1.56,2,  2195.6,2,  2338.4,3,   2.1128,   23.27,2
740H20090307,       A095,      76,          1,          7,          7,2,20090406,       1943,  -22.21319,  -11.72023,       4369,  3031.5,   2.4860,  34.8787,  34.8785,2,    236.4,   236.2,2,   48.43,2,    1.53,2,  2187.2,2,  2343.1,3,   2.2434,   22.93,2
740H20090307,       A095,      76,          1,          8,          8,2,20090406,       1943,  -22.21319,  -11.72023,       4369,  2522.6,   2.6716,  34.8863,  34.8850,2,    235.3,   235.4,2,   43.82,2,    1.51,2,  2188.4,2,  2341.6,3,   2.4757,   22.59,2
740H20090307,       A095,      76,          1,          9,          9,2,20090406,       1943,  -22.21319,  -11.72023,       4369,  2269.9,   2.8829,  34.9033,  34.9030,2,    237.0,   237.6,2,   37.78,2,    1.47,2,  -999.0,9,  -999.0,9,   2.7073,   21.91,2
740H20090307,       A095,      76,          1,         10,         10,2,20090406,       1943,  -22.21319,  -11.72023,       4369,  2016.4,   3.1121,  34.9124,  34.9123,2,    236.2,   237.3,2,   32.80,2,    1.44,2,  2178.1,2,  2331.3,3,   2.9564,   21.58,2
740H20090307,       A095,      76,          1,         11,         11,2,20090406,       1943,  -22.21319,  -11.72023,       4369,  1762.8,   3.1913,  34.8621,  34.8615,2,    222.6,   223.0,2,   37.62,2,    1.57,2,  -999.0,9,  -999.0,9,   3.0577,   23.49,2
740H20090307,       A095,      76,          1,         12,         12,2,20090406,       1943,  -22.21319,  -11.72023,       4369,  1510.7,   3.3681,  34.7882,  34.7885,2,    203.9,   203.7,2,   39.54,2,    1.77,2,  2200.1,2,  2333.4,3,   3.2545,   26.18,2
740H20090307,       A095,      76,          1,         13,         13,3,20090406,       1943,  -22.21319,  -11.72023,       4369,  1258.0,   3.5840,  34.6922,-999.0000,9,    185.9,  -999.0,9, -999.00,9, -999.00,9,  -999.0,9,  -999.0,9,   3.4900, -999.00,9
740H20090307,       A095,      76,          1,         14,         14,2,20090406,       1943,  -22.21319,  -11.72023,       4369,  1006.1,   3.7261,  34.5109,  34.5116,2,    171.6,   171.8,2,   42.35,2,    2.22,2,  2217.5,2,  2323.9,3,   3.6520,   32.29,2
740H20090307,       A095,      76,          1,         15,         15,2,20090406,       1943,  -22.21319,  -11.72023,       4369,   880.4,   3.9595,  34.4515,  34.4508,2,    169.8,   171.9,2,   39.95,2,    2.25,2,  2225.5,2,    2301,3,   3.8940,   32.86,2
740H20090307,       A095,      76,          1,         16,         16,2,20090406,       1943,  -22.21319,  -11.72023,       4369,   754.9,   4.6948,  34.4070,  34.4061,2,    171.3,   168.8,2,   31.57,2,    2.20,2,  -999.0,9,  -999.0,9,   4.6351,   32.81,2
740H20090307,       A095,      76,          1,         17,         17,2,20090406,       1943,  -22.21319,  -11.72023,       4369,   628.8,   6.0203,  34.4458,  34.4452,2,    172.9,   177.8,3,   21.97,2,    2.01,2,  2190.4,2,  2306.2,3,   5.9648,   29.25,2
740H20090307,       A095,      76,          1,         18,         18,2,20090406,       1943,  -22.21319,  -11.72023,       4369,   503.5,   8.5537,  34.6539,  34.6608,2,    170.5,   169.9,2,   13.60,2,    1.62,2,  -999.0,9,  -999.0,9,   8.4999,   23.86,2
740H20090307,       A095,      76,          1,         19,         19,2,20090406,       1943,  -22.21319,  -11.72023,       4369,   378.4,  11.3002,  34.9517,  34.9539,2,    186.4,   186.5,2,    7.63,2,    1.12,2,    2145,2,  2320.6,3,  11.2523,   15.94,2
740H20090307,       A095,      76,          1,         20,         20,2,20090406,       1943,  -22.21319,  -11.72023,       4369,   252.1,  14.3630,  35.2992,  35.2817,2,    203.7,   201.6,2,    4.58,2,    0.62,2,  -999.0,9,  -999.0,9,  14.3258,    7.85,2
740H20090307,       A095,      76,          1,         21,         25,2,20090406,       1943,  -22.21319,  -11.72023,       4369,   178.0,  17.2933,  35.7607,  35.7599,2,    211.5,   211.4,2,    3.41,2,    0.32,2,  -999.0,9,  -999.0,9,  17.2634,    2.23,2
740H20090307,       A095,      76,          1,         22,         22,2,20090406,       1943,  -22.21319,  -11.72023,       4369,   103.1,  20.2831,  36.1944,  36.2004,2,    227.6,   228.6,2,    2.95,2,    0.17,2,  -999.0,9,  -999.0,9,  20.2637,    0.01,2
740H20090307,       A095,      76,          1,         23,         23,2,20090406,       1943,  -22.21319,  -11.72023,       4369,    52.2,  24.0146,  36.5978,  36.6271,2,    215.2,   211.8,2,    2.64,2,    0.16,2,  2092.7,2,  2419.9,3,  24.0035,    0.47,2
740H20090307,       A095,      76,          1,         24,         24,2,20090406,       1943,  -22.21319,  -11.72023,       4369,     7.5,  25.0237,  36.7210,  36.7260,2,    204.3,   203.9,2,    2.49,2,    0.17,2,    2095,2,  2427.1,3,  25.0221,    0.06,2
740H20090307,       A095,      77,          1,          1,          1,2,20090407,       0413,  -22.35283,  -11.00514,       4155,  4212.7,   2.3528,  34.8635,  34.8638,2,    233.0,   235.5,2,   56.65,2,    1.58,2,  2203.6,2,  2341.1,2,   1.9843,   24.14,2
740H20090307,       A095,      77,          1,          2,          2,2,20090407,       0413,  -22.35283,  -11.00514,       4155,  4161.9,   2.3468,  34.8634,  34.8638,2,    233.4,   234.8,2,   57.08,2,    1.59,2,  2204.1,2,  2340.2,2,   1.9844,   24.23,2
740H20090307,       A095,      77,          1,          3,          3,2,20090407,       0413,  -22.35283,  -11.00514,       4155,  4162.6,   2.3466,  34.8634,  34.8641,2,    233.2,   235.0,2,   57.03,2,    1.59,2,  -999.0,9,  -999.0,9,   1.9842,   24.13,2
740H20090307,       A095,      77,          1,          4,          4,2,20090407,       0413,  -22.35283,  -11.00514,       4155,  3796.4,   2.3540,  34.8663,  34.8663,2,    234.6,   234.8,2,   55.34,2,    1.58,2,  2204.2,2,  2339.8,2,   2.0330,   24.11,2
740H20090307,       A095,      77,          1,          5,          5,2,20090407,       0413,  -22.35283,  -11.00514,       4155,  3284.3,   2.4096,  34.8724,  34.8723,2,    234.3,   233.8,2,   52.59,2,    1.56,2,  2203.7,2,  2344.7,2,   2.1426,   23.65,2
740H20090307,       A095,      77,          1,          6,          6,2,20090407,       0413,  -22.35283,  -11.00514,       4155,  3029.6,   2.4455,  34.8732,  34.8725,2,    234.6,   234.6,2,   51.25,2,    1.56,2,    2202,2,  2338.9,2,   2.2040,   23.70,2
740H20090307,       A095,      77,          1,          7,          7,2,20090407,       0413,  -22.35283,  -11.00514,       4155,  2776.1,   2.4841,  34.8743,  34.8734,2,    234.5,   235.0,2,   49.40,2,    1.56,2,    2202,2,  2338.1,2,   2.2672,   23.71,2
740H20090307,       A095,      77,          1,          8,          8,2,20090407,       0413,  -22.35283,  -11.00514,       4155,  2523.0,   2.5642,  34.8762,  34.8761,2,    233.8,   234.4,2,   46.94,2,    1.54,2,  -999.0,9,  -999.0,9,   2.3703,   23.58,2
740H20090307,       A095,      77,          1,          9,          9,2,20090407,       0413,  -22.35283,  -11.00514,       4155,  2270.8,   2.7607,  34.8884,  34.8881,2,    234.6,   235.2,2,   41.48,2,    1.50,2,  2194.8,2,  2332.2,2,   2.5872,   23.11,2
740H20090307,       A095,      77,          1,         10,         10,2,20090407,       0413,  -22.35283,  -11.00514,       4155,  2017.3,   2.9641,  34.8760,  34.8760,2,    229.5,   229.5,2,   39.53,2,    1.55,2,  -999.0,9,  -999.0,9,   2.8107,   23.86,2
740H20090307,       A095,      77,          1,         11,         11,2,20090407,       0413,  -22.35283,  -11.00514,       4155,  1764.2,   3.1888,  34.8502,  34.8502,2,    220.7,   220.6,2,   38.97,2,    1.61,2,  2200.9,2,  2324.9,2,   3.0551,   24.57,2
740H20090307,       A095,      77,          1,         12,         12,2,20090407,       0413,  -22.35283,  -11.00514,       4155,  1509.5,   3.4405,  34.7855,  34.7852,2,    201.4,   202.0,2,   38.50,2,    1.79,2,  -999.0,9,  -999.0,9,   3.3262,   27.30,2
740H20090307,       A095,      77,          1,         13,         13,2,20090407,       0413,  -22.35283,  -11.00514,       4155,  1258.6,   3.6094,  34.6579,  34.6572,2,    182.5,   182.9,2,   41.15,2,    2.03,2,  2220.8,2,  2317.9,2,   3.5152,   30.57,2
740H20090307,       A095,      77,          1,         14,         14,2,20090407,       0413,  -22.35283,  -11.00514,       4155,  1007.2,   3.7288,  34.5012,  34.4998,2,    173.7,   174.2,2,   42.17,2,    2.22,2,  -999.0,9,  -999.0,9,   3.6546,   32.64,2
740H20090307,       A095,      77,          1,         15,         15,2,20090407,       0413,  -22.35283,  -11.00514,       4155,   881.5,   4.2269,  34.4395,  34.4391,2,    166.2,   165.9,2,   36.18,2,    2.27,2,    2223,2,    2304,2,   4.1596,   33.79,2
740H20090307,       A095,      77,          1,         16,         16,2,20090407,       0413,  -22.35283,  -11.00514,       4155,   754.2,   4.8467,  34.4305,  34.4307,2,    157.5,   161.1,2,   30.76,2,    2.24,2,  2220.2,2,  2295.1,2,   4.7862,   33.78,2
740H20090307,       A095,      77,          1,         17,         17,2,20090407,       0413,  -22.35283,  -11.00514,       4155,   628.6,   6.2277,  34.4866,  34.4868,2,    148.8,   146.1,2,   22.30,2,    2.13,2,  2209.9,2,    2288,2,   6.1712,   32.48,2
740H20090307,       A095,      77,          1,         18,         18,2,20090407,       0413,  -22.35283,  -11.00514,       4155,   504.4,   7.7562,  34.5833,  34.5837,2,    160.3,   161.2,2,   16.18,2,    1.82,2,  2187.7,2,  2290.4,2,   7.7053,   27.79,2
740H20090307,       A095,      77,          1,         19,         19,2,20090407,       0413,  -22.35283,  -11.00514,       4155,   377.7,  11.0962,  34.9255,  34.9265,2,    188.0,   186.9,2,    7.68,2,    1.14,2,  -999.0,9,  -999.0,9,  11.0491,   16.81,2
740H20090307,       A095,      77,          1,         20,         20,2,20090407,       0413,  -22.35283,  -11.00514,       4155,   252.4,  14.0006,  35.2524,  35.2595,2,    197.1,   198.0,2,    4.47,2,    0.66,2,  2120.3,2,  2318.7,2,  13.9639,    8.90,2
740H20090307,       A095,      77,          1,         21,         25,2,20090407,       0413,  -22.35283,  -11.00514,       4155,   177.2,  17.0190,  35.7221,  35.7253,2,    202.9,   203.8,2,    3.34,2,    0.40,2,  -999.0,9,  -999.0,9,  16.9896,    3.88,2
740H20090307,       A095,      77,          1,         22,         22,2,20090407,       0413,  -22.35283,  -11.00514,       4155,   102.3,  20.5967,  36.2754,  36.2703,2,    223.4,   226.9,2,    2.57,2,    0.14,2,    2084,2,  2383.1,2,  20.5773,   -0.11,2
740H20090307,       A095,      77,          1,         23,         23,2,20090407,       0413,  -22.35283,  -11.00514,       4155,    51.0,  24.7970,  36.6822,  36.6900,2,    209.4,   203.8,2,    2.22,2,    0.16,2,  -999.0,9,  -999.0,9,  24.7860,   -0.14,2
740H20090307,       A095,      77,          1,         24,         24,2,20090407,       0413,  -22.35283,  -11.00514,       4155,     7.1,  24.9060,  36.6979,  36.7027,2,    205.3,   203.4,2,    2.17,2,    0.16,2,  2092.6,2,  2411.8,2,  24.9045,   -0.12,2
740H20090307,       A095,      78,          1,          1,          1,2,20090407,       1233,  -22.50111,  -10.28519,       4074,  4125.4,   2.3876,  34.8734,  34.8736,2,    231.9,   231.7,2,   53.49,2,    1.55,2,  2204.2,2,  2344.2,2,   2.0282,   23.57,2
740H20090307,       A095,      78,          1,          2,          2,2,20090407,       1233,  -22.50111,  -10.28519,       4074,  4074.5,   2.3798,  34.8731,  34.8739,2,    231.4,   231.5,2,   52.99,2,    1.55,2,  2204.6,2,  2344.4,2,   2.0265,   23.39,2
740H20090307,       A095,      78,          1,          3,          3,2,20090407,       1233,  -22.50111,  -10.28519,       4074,  4075.1,   2.3797,  34.8731,  34.8724,2,    231.4,   233.6,2,   49.07,2,    1.53,2,  -999.0,9,  -999.0,9,   2.0263,   23.34,2
740H20090307,       A095,      78,          1,          4,          4,2,20090407,       1233,  -22.50111,  -10.28519,       4074,  3540.9,   2.3503,  34.8700,  34.8698,2,    233.7,   233.8,2,   52.05,2,    1.54,2,  2203.6,2,  2341.3,2,   2.0574,   23.90,2
740H20090307,       A095,      78,          1,          5,          5,2,20090407,       1233,  -22.50111,  -10.28519,       4074,  3539.6,   2.3503,  34.8700,  34.8697,2,    233.8,   233.8,2,   51.71,2,    1.55,2,  -999.0,9,  -999.0,9,   2.0575,   23.76,2
740H20090307,       A095,      78,          1,          6,          6,2,20090407,       1233,  -22.50111,  -10.28519,       4074,  3029.9,   2.4246,  34.8728,  34.8728,2,    233.8,   234.1,2,   48.35,2,    1.54,2,  2201.6,2,  2336.7,2,   2.1836,   22.93,2
740H20090307,       A095,      78,          1,          7,          7,2,20090407,       1233,  -22.50111,  -10.28519,       4074,  2522.7,   2.6039,  34.8738,  34.8732,2,    232.4,   232.6,2,   44.20,2,    1.53,2,    2197,2,  2333.8,2,   2.4094,   22.61,2
740H20090307,       A095,      78,          1,          8,          8,2,20090407,       1233,  -22.50111,  -10.28519,       4074,  2269.3,   2.7562,  34.8717,  34.8716,2,    230.0,   230.6,2,   41.42,2,    1.53,2,  2194.8,2,  2328.1,2,   2.5830,   23.04,2
740H20090307,       A095,      78,          1,          9,          9,3,20090407,       1233,  -22.50111,  -10.28519,       4074,  2015.5,   3.0385,  34.8798,-999.0000,9,    228.1,  -999.0,9, -999.00,9, -999.00,9,  -999.0,9,  -999.0,9,   2.8842, -999.00,9
740H20090307,       A095,      78,          1,         10,         10,2,20090407,       1233,  -22.50111,  -10.28519,       4074,  1763.2,   3.2433,  34.8621,  34.8617,2,    219.7,   219.9,2,   34.47,2,    1.59,2,  2191.3,2,    2323,2,   3.1089,   23.42,2
740H20090307,       A095,      78,          1,         11,         11,2,20090407,       1233,  -22.50111,  -10.28519,       4074,  1511.2,   3.4711,  34.7970,  34.7954,2,    202.2,   202.1,2,   37.67,2,    1.79,2,  2203.6,2,  2321.9,2,   3.3563,   26.81,2
740H20090307,       A095,      78,          1,         12,         12,2,20090407,       1233,  -22.50111,  -10.28519,       4074,  1257.7,   3.5995,  34.6714,  34.6712,2,    183.8,   183.7,2,   40.86,2,    2.03,2,  -999.0,9,  -999.0,9,   3.5054,   29.81,2
740H20090307,       A095,      78,          1,         13,         13,2,20090407,       1233,  -22.50111,  -10.28519,       4074,  1006.0,   3.7343,  34.5006,  34.5001,2,    174.0,   173.8,2,   42.24,2,    2.22,2,  2221.7,2,  2309.9,2,   3.6602,   33.02,2
740H20090307,       A095,      78,          1,         14,         14,2,20090407,       1233,  -22.50111,  -10.28519,       4074,   880.4,   4.0998,  34.4294,  34.4287,2,    173.2,   173.1,2,   37.96,2,    2.25,2,    2217,2,  2300.4,2,   4.0334,   33.37,2
740H20090307,       A095,      78,          1,         15,         15,2,20090407,       1233,  -22.50111,  -10.28519,       4074,   753.4,   4.9404,  34.4157,  34.4152,2,    166.0,   166.9,2,   29.85,2,    2.20,2,  2213.8,2,  2296.9,2,   4.8794,   32.63,2
740H20090307,       A095,      78,          1,         16,         16,2,20090407,       1233,  -22.50111,  -10.28519,       4074,   628.9,   6.2334,  34.4538,  34.4532,2,    173.5,   173.4,2,   21.12,2,    1.99,2,  2198.6,2,  2289.8,2,   6.1768,   29.94,2
740H20090307,       A095,      78,          1,         17,         17,2,20090407,       1233,  -22.50111,  -10.28519,       4074,   502.7,   8.4750,  34.6420,  34.6452,2,    172.9,   172.1,2,   13.87,2,    1.64,2,  -999.0,9,  -999.0,9,   8.4216,   24.45,2
740H20090307,       A095,      78,          1,         18,         18,2,20090407,       1233,  -22.50111,  -10.28519,       4074,   377.1,  11.7001,  34.9953,  34.9960,2,    188.6,   187.3,2,    7.02,2,    1.05,2,  2145.9,2,  2303.5,2,  11.6514,   14.94,2
740H20090307,       A095,      78,          1,         19,         19,2,20090407,       1233,  -22.50111,  -10.28519,       4074,   252.0,  14.3881,  35.3007,  35.3022,2,    198.7,   198.3,2,    4.59,2,    0.63,2,  -999.0,9,  -999.0,9,  14.3509,    8.06,2
740H20090307,       A095,      78,          1,         20,         20,2,20090407,       1233,  -22.50111,  -10.28519,       4074,   177.1,  17.8867,  35.8731,  35.8190,2,    212.2,   210.6,2,    3.41,2,    0.31,2,  2101.4,2,    2351,2,  17.8563,    2.10,2
740H20090307,       A095,      78,          1,         21,         25,2,20090407,       1233,  -22.50111,  -10.28519,       4074,   111.5,  20.2734,  36.2823,  36.2867,2,    220.5,   220.1,2,    2.67,2,    0.20,2,  -999.0,9,  -999.0,9,  20.2524,    0.07,2
740H20090307,       A095,      78,          1,         22,         22,2,20090407,       1233,  -22.50111,  -10.28519,       4074,    76.8,  21.3062,  36.2900,  36.2888,2,    229.3,   230.6,2,    2.70,2,    0.17,2,  2089.7,2,    2385,2,  21.2913,    0.04,2
740H20090307,       A095,      78,          1,         23,         23,2,20090407,       1233,  -22.50111,  -10.28519,       4074,    51.3,  24.4307,  36.6492,  36.5963,2,    212.6,   210.8,2,    2.52,2,    0.17,2,    2096,2,  2402.8,2,  24.4197,    0.01,2
740H20090307,       A095,      78,          1,         24,         24,2,20090407,       1233,  -22.50111,  -10.28519,       4074,     7.0,  24.8375,  36.6932,  36.6990,2,    205.1,   204.6,2,    2.43,2,    0.17,2,  2100.1,2,  2412.1,2,  24.8359,    0.01,2