BOTTLE,20211101CCHSIORKP
EXPOCODE,SECT_ID,STNNBR,CASTNO,SAMPNO,BTLNBR,BTLNBR_FLAG_W,DATE,TIME,LATITUDE,LONGITUDE,DEPTH,CTDPRS,CTDTMP,CTDSAL,SALNTY,SALNTY_FLAG_W,CTDOXY,OXYGEN,OXYGEN_FLAG_W,SILCAT,SILCAT_FLAG_W,PHSPHT,PHSPHT_FLAG_W,TCARBN,TCARBN_FLAG_W,ALKALI,ALKALI_FLAG_W,THETA,NO2+NO3,NO2+NO3_FLAG_W
,,,,,,,,,,,METERS,DBAR,ITS-90,PSS-78,PSS-78,,UMOL/KG,UMOL/KG,,UMOL/KG,,UMOL/KG,,UMOL/KG,,UMOL/KG,,DEG C,UMOL/KG,
740H20090307,       A095,      49,          1,          1,          1,2,20090327,       1423,  -24.00064,  -29.89986,       5350,  5439.7,   0.4573,  34.6784,  34.6799,2,    213.8,   214.9,2,  125.93,2,    2.23,2,  2260.2,2,  2367.3,2,   0.0064,   32.83,2
740H20090307,       A095,      49,          1,          2,          2,2,20090327,       1423,  -24.00064,  -29.89986,       5350,  5388.9,   0.4577,  34.6790,  34.6794,2,    213.9,   214.2,2,  125.49,2,    2.23,2,  2259.7,2,  2366.2,2,   0.0130,   33.30,2
740H20090307,       A095,      49,          1,          3,          3,2,20090327,       1423,  -24.00064,  -29.89986,       5350,  4825.5,   0.9747,  34.7352,  34.7370,2,    221.0,   220.4,2,  103.58,2,    2.03,2,  2239.7,2,  2359.6,2,   0.5784,   30.38,2
740H20090307,       A095,      49,          1,          4,          4,2,20090327,       1423,  -24.00064,  -29.89986,       5350,  4311.9,   1.5209,  34.7957,  34.7969,2,    229.1,   229.5,2,   80.23,2,    1.81,2,  2218.4,2,  2350.3,2,   1.1660,   27.37,2
740H20090307,       A095,      49,          1,          5,          5,2,20090327,       1423,  -24.00064,  -29.89986,       5350,  3799.2,   2.1807,  34.8676,  34.8696,2,    240.6,   240.7,2,   51.86,2,    1.52,2,  2191.6,2,  2336.4,2,   1.8640,   23.34,2
740H20090307,       A095,      49,          1,          6,          6,2,20090327,       1423,  -24.00064,  -29.89986,       5350,  3288.6,   2.6441,  34.9119,  34.9113,2,    245.0,   244.8,2,   35.82,2,    1.38,2,  2175.9,2,  2328.1,2,   2.3710,   21.16,2
740H20090307,       A095,      49,          1,          7,          7,2,20090327,       1423,  -24.00064,  -29.89986,       5350,  2780.0,   2.8563,  34.9249,  34.9267,2,    243.3,   243.9,2,   32.32,2,    1.37,2,  2175.9,2,  2320.6,2,   2.6313,   21.05,2
740H20090307,       A095,      49,          1,          8,          8,2,20090327,       1423,  -24.00064,  -29.89986,       5350,  2526.7,   2.9940,  34.9327,  34.9337,2,    243.4,   244.2,2,   29.81,2,    1.35,2,  -999.0,9,  -999.0,9,   2.7916,   20.73,2
740H20090307,       A095,      49,          1,          9,          9,2,20090327,       1423,  -24.00064,  -29.89986,       5350,  2272.4,   3.1674,  34.9417,  34.9421,2,    243.6,   243.8,2,   27.01,2,    1.33,2,  2165.4,2,  2310.9,2,   2.9867,   20.61,2
740H20090307,       A095,      49,          1,         10,         10,2,20090327,       1423,  -24.00064,  -29.89986,       5350,  2018.5,   3.3358,  34.9407,  34.9412,2,    240.9,   240.3,2,   26.11,2,    1.35,2,  -999.0,9,  -999.0,9,   3.1765,   20.94,2
740H20090307,       A095,      49,          1,         11,         11,2,20090327,       1423,  -24.00064,  -29.89986,       5350,  1765.6,   3.3246,  34.8844,  34.8853,2,    225.7,   225.2,2,   33.42,2,    1.53,2,  2180.2,2,    2318,2,   3.1888,   23.42,2
740H20090307,       A095,      49,          1,         12,         12,2,20090327,       1423,  -24.00064,  -29.89986,       5350,  1511.7,   3.1246,  34.7489,  34.7485,2,    199.7,   199.2,2,   47.27,2,    1.89,2,  -999.0,9,  -999.0,9,   3.0139,   28.11,2
740H20090307,       A095,      49,          1,         13,         13,2,20090327,       1423,  -24.00064,  -29.89986,       5350,  1259.4,   3.2229,  34.5911,  34.5928,2,    183.4,   183.1,2,   50.47,2,    2.14,2,  2216.6,2,  2316.6,2,   3.1325,   31.97,2
740H20090307,       A095,      49,          1,         14,         14,2,20090327,       1423,  -24.00064,  -29.89986,       5350,  1006.5,   3.7430,  34.4291,  34.4303,2,    182.5,   181.7,2,   41.91,2,    2.22,2,  -999.0,9,  -999.0,9,   3.6689,   33.36,2
740H20090307,       A095,      49,          1,         15,         15,2,20090327,       1423,  -24.00064,  -29.89986,       5350,   880.9,   4.3542,  34.3790,  34.3793,2,    187.8,   186.8,2,   33.31,2,    2.16,2,  2194.5,2,  2296.9,2,   4.2862,   32.67,2
740H20090307,       A095,      49,          1,         16,         16,2,20090327,       1423,  -24.00064,  -29.89986,       5350,   754.9,   5.6747,  34.4049,  34.4049,2,    191.1,   190.5,2,   22.29,2,    1.96,2,  -999.0,9,  -999.0,9,   5.6094,   29.78,2
740H20090307,       A095,      49,          1,         17,         17,2,20090327,       1423,  -24.00064,  -29.89986,       5350,   628.8,   8.0435,  34.5894,  34.5880,2,    189.1,   189.4,2,   13.28,2,    1.61,2,  2160.8,2,  2288.7,2,   7.9783,   23.89,2
740H20090307,       A095,      49,          1,         18,         18,2,20090327,       1423,  -24.00064,  -29.89986,       5350,   503.0,  10.6079,  34.8725,  34.8707,2,    190.7,   191.5,2,    8.08,2,    1.20,2,  2138.2,2,  2299.4,2,  10.5465,   17.41,2
740H20090307,       A095,      49,          1,         19,         19,2,20090327,       1423,  -24.00064,  -29.89986,       5350,   377.4,  13.5289,  35.2410,  35.2399,2,    200.0,   200.1,2,    4.55,2,    0.72,2,  -999.0,9,  -999.0,9,  13.4752,    9.51,2
740H20090307,       A095,      49,          1,         20,         20,2,20090327,       1423,  -24.00064,  -29.89986,       5350,   251.8,  16.7402,  35.6977,  35.6877,2,    201.6,   201.8,2,    3.07,2,    0.38,2,  2101.5,2,  2342.8,2,  16.6988,    3.85,2
740H20090307,       A095,      49,          1,         21,         21,2,20090327,       1423,  -24.00064,  -29.89986,       5350,   121.5,  21.4082,  36.5396,  36.5321,2,    208.9,   208.8,2,    2.35,2,    0.14,2,  -999.0,9,  -999.0,9,  21.3845,    0.14,2
740H20090307,       A095,      49,          1,         22,         22,2,20090327,       1423,  -24.00064,  -29.89986,       5350,   101.9,  22.0174,  36.6312,  36.6256,2,    211.0,   214.9,2,    2.30,2,    0.11,2,  2088.9,2,    2403,2,  21.9970,    0.06,2
740H20090307,       A095,      49,          1,         23,         23,2,20090327,       1423,  -24.00064,  -29.89986,       5350,    51.7,  24.3704,  36.7449,  36.7392,2,    220.9,   220.7,2,    2.35,2,    0.07,2,  -999.0,9,  -999.0,9,  24.3594,    0.06,2
740H20090307,       A095,      49,          1,         24,         24,2,20090327,       1423,  -24.00064,  -29.89986,       5350,     6.6,  27.0933,  37.0475,  37.0479,2,    195.3,   194.9,2,    2.29,2,    0.07,2,  2083.5,2,    2433,2,  27.0918,    0.05,2
740H20090307,       A095,      50,          1,          1,          1,2,20090327,       2346,  -24.00128,  -29.18183,       5437,  5530.3,   0.5530,  34.6862,  34.6860,2,    214.5,   214.9,2,  125.99,2,    2.22,2,    2254,2,  2364.5,2,   0.0875,   33.93,2
740H20090307,       A095,      50,          1,          2,          2,2,20090327,       2346,  -24.00128,  -29.18183,       5437,  5479.8,   0.5676,  34.6883,  34.6878,2,    215.6,   215.0,2,  125.24,2,    2.20,2,  2255.5,2,    2361,2,   0.1077,   32.62,2
740H20090307,       A095,      50,          1,          3,          3,2,20090327,       2346,  -24.00128,  -29.18183,       5437,  5083.2,   0.7205,  34.7080,  34.7088,2,    217.7,   217.8,2,  117.13,2,    2.14,2,  2250.3,2,  2358.2,2,   0.3028,   30.50,2
740H20090307,       A095,      50,          1,          4,          4,2,20090327,       2346,  -24.00128,  -29.18183,       5437,  4567.4,   1.2022,  34.7609,  34.7611,2,    224.1,   224.5,2,   95.96,2,    1.93,2,  2231.4,2,  2354.7,2,   0.8283,   28.77,2
740H20090307,       A095,      50,          1,          5,          5,2,20090327,       2346,  -24.00128,  -29.18183,       5437,  4310.8,   1.4418,  34.7879,  34.7885,2,    228.0,   228.3,2,   84.44,2,    1.83,2,  -999.0,9,  -999.0,9,   1.0895,   26.58,2
740H20090307,       A095,      50,          1,          6,          6,2,20090327,       2346,  -24.00128,  -29.18183,       5437,  4054.1,   1.7852,  34.8257,  34.8254,2,    233.8,   234.6,2,   69.85,2,    1.69,2,  2205.8,2,  2340.7,2,   1.4514,   25.07,2
740H20090307,       A095,      50,          1,          7,          7,2,20090327,       2346,  -24.00128,  -29.18183,       5437,  3542.3,   2.4588,  34.8960,  34.8964,2,    244.8,   245.0,2,   41.73,2,    1.42,2,  2180.4,2,  2336.8,2,   2.1629,   21.38,2
740H20090307,       A095,      50,          1,          8,          8,2,20090327,       2346,  -24.00128,  -29.18183,       5437,  3031.9,   2.7495,  34.9187,  34.9186,2,    244.0,   245.2,2,   34.40,2,    1.36,2,  2174.2,2,  2332.9,2,   2.5009,   20.80,2
740H20090307,       A095,      50,          1,          9,          9,2,20090327,       2346,  -24.00128,  -29.18183,       5437,  2524.6,   2.9716,  34.9317,  34.9315,2,    243.3,   244.4,2,   30.69,2,    1.34,2,  2170.8,2,  2331.2,2,   2.7698,   20.34,2
740H20090307,       A095,      50,          1,         10,         10,2,20090327,       2346,  -24.00128,  -29.18183,       5437,  2270.5,   3.1393,  34.9392,  34.9398,2,    242.9,   243.5,2,   27.87,2,    1.33,2,  -999.0,9,  -999.0,9,   2.9592,   20.14,2
740H20090307,       A095,      50,          1,         11,         11,2,20090327,       2346,  -24.00128,  -29.18183,       5437,  2017.5,   3.2642,  34.9303,  34.9301,2,    238.5,   238.8,2,   28.25,2,    1.37,2,  2170.2,2,  2327.4,2,   3.1061,   20.92,2
740H20090307,       A095,      50,          1,         12,         12,2,20090327,       2346,  -24.00128,  -29.18183,       5437,  1764.6,   3.3256,  34.8887,  34.8904,2,    226.0,   226.1,2,   32.78,2,    1.50,2,  -999.0,9,  -999.0,9,   3.1899,   23.03,2
740H20090307,       A095,      50,          1,         13,         13,2,20090327,       2346,  -24.00128,  -29.18183,       5437,  1510.9,   3.1371,  34.7489,  34.7482,2,    199.4,   199.6,2,   46.95,2,    1.88,2,  2207.2,2,  2330.9,2,   3.0263,   28.32,2
740H20090307,       A095,      50,          1,         14,         14,2,20090327,       2346,  -24.00128,  -29.18183,       5437,  1258.6,   3.1847,  34.5704,  34.5702,2,    182.7,   182.2,2,   51.71,2,    2.15,2,  -999.0,9,  -999.0,9,   3.0947,   32.17,2
740H20090307,       A095,      50,          1,         15,         15,2,20090327,       2346,  -24.00128,  -29.18183,       5437,  1006.8,   3.7600,  34.4200,  34.4216,2,    183.4,   183.2,2,   41.53,2,    2.22,2,  2209.4,2,    2314,2,   3.6858,   33.20,2
740H20090307,       A095,      50,          1,         16,         16,2,20090327,       2346,  -24.00128,  -29.18183,       5437,   880.6,   4.4887,  34.3761,  34.3764,2,    188.2,   187.9,2,   31.52,2,    2.13,2,  -999.0,9,  -999.0,9,   4.4197,   31.95,2
740H20090307,       A095,      50,          1,         17,         17,2,20090327,       2346,  -24.00128,  -29.18183,       5437,   754.1,   5.5608,  34.3896,  34.3895,2,    196.7,   195.7,2,   21.81,2,    1.94,2,  2178.6,2,  2295.7,2,   5.4962,   29.19,2
740H20090307,       A095,      50,          1,         18,         18,2,20090327,       2346,  -24.00128,  -29.18183,       5437,   503.1,  10.6067,  34.8724,  34.8710,2,    188.4,   189.1,2,    8.06,2,    1.19,2,  -999.0,9,  -999.0,9,  10.5453,   17.53,2
740H20090307,       A095,      50,          1,         19,         19,2,20090327,       2346,  -24.00128,  -29.18183,       5437,   377.6,  13.6393,  35.2427,  33.2812,2,    199.6,   199.6,2,    4.33,2,    0.69,2,  -999.0,9,  -999.0,9,  13.5852,    9.32,2
740H20090307,       A095,      50,          1,         20,         20,2,20090327,       2346,  -24.00128,  -29.18183,       5437,   251.7,  16.6189,  35.6753,  35.6769,2,    202.7,   203.2,2,    2.85,2,    0.35,2,  -999.0,9,  -999.0,9,  16.5777,    3.57,2
740H20090307,       A095,      50,          1,         21,         21,2,20090327,       2346,  -24.00128,  -29.18183,       5437,   177.5,  19.2154,  36.1388,  36.1254,2,    204.3,   204.0,2,    2.28,2,    0.20,2,    2097,2,  2375.4,2,  19.1833,    1.09,2
740H20090307,       A095,      50,          1,         22,         22,2,20090327,       2346,  -24.00128,  -29.18183,       5437,   102.4,  22.8244,  36.7823,  36.7571,2,    211.8,   212.2,2,    2.10,2,    0.10,2,  2090.2,2,  2416.6,2,  22.8035,    0.15,2
740H20090307,       A095,      50,          1,         23,         23,2,20090327,       2346,  -24.00128,  -29.18183,       5437,   102.4,  22.8215,  36.7812,  36.7769,2,    211.8,   211.0,2,    2.12,2,    0.10,2,  -999.0,9,  -999.0,9,  22.8006,    0.13,2
740H20090307,       A095,      50,          1,         24,         24,2,20090327,       2346,  -24.00128,  -29.18183,       5437,     6.6,  26.9337,  36.9791,  34.4647,2,    196.1,   196.8,2,    2.07,2,    0.04,2,  -999.0,9,  -999.0,9,  26.9322,    0.27,2
740H20090307,       A095,      51,          1,          1,          1,2,20090328,       0950,  -23.99892,  -28.46619,       5443,  5406.4,   0.5907,  34.6914,  34.6922,2,    215.3,   215.8,2,  121.71,2,    2.20,2,  2253.5,2,  2367.6,2,   0.1389,   32.35,2
740H20090307,       A095,      51,          1,          2,          2,2,20090328,       0950,  -23.99892,  -28.46619,       5443,  5355.9,   0.5846,  34.6915,  34.6918,2,    215.8,   215.1,2,  122.72,2,    2.20,2,  2255.4,2,  2369.7,2,   0.1392,   32.70,2
740H20090307,       A095,      51,          1,          3,          3,2,20090328,       0950,  -23.99892,  -28.46619,       5443,  5133.5,   0.7062,  34.7059,  34.7074,2,    218.0,   217.2,2,  117.06,2,    2.15,2,  2251.6,2,  2366.9,2,   0.2831,   32.29,2
740H20090307,       A095,      51,          1,          4,          4,2,20090328,       0950,  -23.99892,  -28.46619,       5443,  4824.5,   1.0258,  34.7406,  34.7401,2,    220.9,   221.3,2,  103.85,2,    2.03,2,  2240.6,2,  2358.5,2,   0.6279,   30.30,2
740H20090307,       A095,      51,          1,          5,          5,2,20090328,       0950,  -23.99892,  -28.46619,       5443,  4308.8,   1.4818,  34.7921,  34.7927,2,    228.7,   229.1,2,   83.66,2,    1.83,2,  2220.5,2,  2350.7,2,   1.1285,   27.48,2
740H20090307,       A095,      51,          1,          6,          6,2,20090328,       0950,  -23.99892,  -28.46619,       5443,  4053.7,   1.8036,  34.8274,  34.8276,2,    233.5,   234.2,2,   69.70,2,    1.69,2,  -999.0,9,  -999.0,9,   1.4692,   25.30,2
740H20090307,       A095,      51,          1,          7,          7,2,20090328,       0950,  -23.99892,  -28.46619,       5443,  3796.4,   2.1460,  34.8643,  34.8644,2,    239.9,   240.1,2,   54.63,2,    1.54,2,  2195.1,2,  2340.6,2,   1.8306,   23.20,2
740H20090307,       A095,      51,          1,          8,          8,2,20090328,       0950,  -23.99892,  -28.46619,       5443,  3286.9,   2.6302,  34.9110,  34.9115,2,    245.0,   245.4,2,   37.13,2,    1.39,2,    2179,2,  2332.5,2,   2.3575,   20.89,2
740H20090307,       A095,      51,          1,          9,          9,2,20090328,       0950,  -23.99892,  -28.46619,       5443,  2777.9,   2.8471,  34.9247,  34.9248,2,    243.2,   243.8,2,   33.46,2,    1.37,2,  2173.2,2,    2327,2,   2.6225,   20.09,2
740H20090307,       A095,      51,          1,         10,         10,2,20090328,       0950,  -23.99892,  -28.46619,       5443,  2397.8,   3.0540,  34.9357,  34.9362,2,    243.1,   244.1,2,   30.00,2,    1.35,2,  2171.8,2,  2326.2,2,   2.8631,   20.54,2
740H20090307,       A095,      51,          1,         11,         11,2,20090328,       0950,  -23.99892,  -28.46619,       5443,  2017.0,   3.2703,  34.9347,  34.9349,2,    239.3,   240.1,2,   28.31,2,    1.38,2,  -999.0,9,  -999.0,9,   3.1122,   20.75,2
740H20090307,       A095,      51,          1,         12,         12,2,20090328,       0950,  -23.99892,  -28.46619,       5443,  1763.9,   3.1771,  34.8621,  34.8617,2,    221.7,   221.7,2,   38.58,2,    1.60,2,  2189.4,2,  2328.8,2,   3.0435,   24.31,2
740H20090307,       A095,      51,          1,         13,         13,2,20090328,       0950,  -23.99892,  -28.46619,       5443,  1510.9,   3.1567,  34.7648,  34.7642,2,    201.5,   201.2,2,   47.30,2,    1.86,2,  -999.0,9,  -999.0,9,   3.0457,   27.72,2
740H20090307,       A095,      51,          1,         14,         14,2,20090328,       0950,  -23.99892,  -28.46619,       5443,  1258.6,   3.1293,  34.5888,  34.5883,2,    183.5,   183.3,2,   54.07,2,    2.16,2,    2221,2,  2329.1,2,   3.0399,   32.46,2
740H20090307,       A095,      51,          1,         15,         15,2,20090328,       0950,  -23.99892,  -28.46619,       5443,  1005.0,   3.6443,  34.4065,  34.4051,2,    187.7,   187.7,2,   44.12,2,    2.24,2,  -999.0,9,  -999.0,9,   3.5711,   33.52,2
740H20090307,       A095,      51,          1,         16,         16,2,20090328,       0950,  -23.99892,  -28.46619,       5443,   878.3,   4.1915,  34.3536,  34.3546,2,    196.9,   196.5,2,   34.25,2,    2.15,2,  2194.9,2,  2303.3,2,   4.1247,   32.33,2
740H20090307,       A095,      51,          1,         17,         17,2,20090328,       0950,  -23.99892,  -28.46619,       5443,   753.7,   5.4185,  34.3839,  34.3835,2,    195.8,   195.4,2,   23.91,2,    1.99,2,  2181.1,2,  2296.8,2,   5.3547,   29.48,2
740H20090307,       A095,      51,          1,         18,         18,2,20090328,       0950,  -23.99892,  -28.46619,       5443,   502.5,  10.1631,  34.8216,  34.8256,2,    188.3,   189.5,2,    9.19,2,    1.28,2,  2144.1,2,  2304.9,2,  10.1034,   18.25,2
740H20090307,       A095,      51,          1,         19,         19,2,20090328,       0950,  -23.99892,  -28.46619,       5443,   376.3,  13.0349,  35.1869,  35.1906,2,    199.2,   201.7,2,    5.02,2,    0.78,2,  -999.0,9,  -999.0,9,  12.9826,   10.33,2
740H20090307,       A095,      51,          1,         20,         20,2,20090328,       0950,  -23.99892,  -28.46619,       5443,   251.0,  15.5974,  35.5138,  35.5125,2,    203.6,   203.4,2,    3.58,2,    0.46,2,  2102.1,2,  2338.5,2,  15.5582,    4.93,2
740H20090307,       A095,      51,          1,         21,         21,2,20090328,       0950,  -23.99892,  -28.46619,       5443,   176.7,  18.0829,  35.9339,  35.9482,2,    205.3,   204.2,2,    2.78,2,    0.26,2,  -999.0,9,  -999.0,9,  18.0523,    1.59,2
740H20090307,       A095,      51,          1,         22,         22,2,20090328,       0950,  -23.99892,  -28.46619,       5443,   101.5,  20.9582,  36.4514,  36.4267,2,    207.3,   209.0,2,    2.49,2,    0.16,2,  2092.3,2,  2395.8,2,  20.9386,    0.13,2
740H20090307,       A095,      51,          1,         23,         23,2,20090328,       0950,  -23.99892,  -28.46619,       5443,   101.9,  21.0283,  36.4578,-999.0000,9,    207.9,   207.8,2,    2.45,2,    0.16,2,  -999.0,9,  -999.0,9,  21.0087,    0.12,2
740H20090307,       A095,      51,          1,         24,         24,2,20090328,       0950,  -23.99892,  -28.46619,       5443,     5.1,  26.9251,  36.9323,  36.9453,2,    195.8,   196.6,2,    2.37,2,    0.05,2,    2074,2,  2429.5,2,  26.9239,    0.05,2