BOTTLE,20211101CCHSIORKP
EXPOCODE,SECT_ID,STNNBR,CASTNO,SAMPNO,BTLNBR,BTLNBR_FLAG_W,DATE,TIME,LATITUDE,LONGITUDE,DEPTH,CTDPRS,CTDTMP,CTDSAL,SALNTY,SALNTY_FLAG_W,CTDOXY,OXYGEN,OXYGEN_FLAG_W,SILCAT,SILCAT_FLAG_W,PHSPHT,PHSPHT_FLAG_W,TCARBN,TCARBN_FLAG_W,ALKALI,ALKALI_FLAG_W,THETA,NO2+NO3,NO2+NO3_FLAG_W
,,,,,,,,,,,METERS,DBAR,ITS-90,PSS-78,PSS-78,,UMOL/KG,UMOL/KG,,UMOL/KG,,UMOL/KG,,UMOL/KG,,UMOL/KG,,DEG C,UMOL/KG,
740H20090307,       A095,     109,          1,          1,          1,2,20090417,       2013,  -24.00161,   10.49749,       4038,  4093.8,   1.3590,  34.7602,  34.7614,2,    210.9,   211.2,2,   99.94,2,    1.99,2,  2253.7,2,  2380.6,2,   1.0334,   28.90,2
740H20090307,       A095,     109,          1,          2,          2,2,20090417,       2013,  -24.00161,   10.49749,       4038,  4043.4,   1.4618,  34.7713,  34.7723,2,    215.5,   214.4,2,   94.01,2,    1.93,2,  2247.8,2,  2371.2,2,   1.1387,   28.25,2
740H20090307,       A095,     109,          1,          3,         26,2,20090417,       2013,  -24.00161,   10.49749,       4038,  3544.3,   2.2163,  34.8500,  34.8509,2,    224.9,   224.9,2,   62.86,2,    1.65,2,  -999.0,9,  -999.0,9,   1.9265,   24.75,2
740H20090307,       A095,     109,          1,          4,          4,2,20090417,       2013,  -24.00161,   10.49749,       4038,  3545.3,   2.2203,  34.8504,  34.8510,2,    225.0,   224.9,2,   61.93,2,    1.65,2,  -999.0,9,  -999.0,9,   1.9303,   23.86,2
740H20090307,       A095,     109,          1,          5,          5,2,20090417,       2013,  -24.00161,   10.49749,       4038,  3036.0,   2.4587,  34.8695,  34.8695,2,    227.8,   227.3,2,   52.18,2,    1.59,2,  2209.1,2,  2348.5,2,   2.2163,   22.91,2
740H20090307,       A095,     109,          1,          6,          6,2,20090417,       2013,  -24.00161,   10.49749,       4038,  2527.8,   2.7523,  34.8853,  34.8835,2,    227.9,   228.4,2,   43.95,2,    1.54,2,    2200,2,  2338.7,2,   2.5545,   22.64,2
740H20090307,       A095,     109,          1,          7,          7,2,20090417,       2013,  -24.00161,   10.49749,       4038,  2274.8,   2.9174,  34.8917,  34.8916,2,    226.3,   226.8,2,   39.82,2,    1.53,2,  -999.0,9,  -999.0,9,   2.7408,   22.30,2
740H20090307,       A095,     109,          1,          8,          8,2,20090417,       2013,  -24.00161,   10.49749,       4038,  2021.5,   3.0692,  34.8866,  34.8873,2,    222.0,   222.8,2,   38.02,2,    1.56,2,  2198.1,2,  2329.8,2,   2.9138,   22.68,2
740H20090307,       A095,     109,          1,          9,          9,2,20090417,       2013,  -24.00161,   10.49749,       4038,  1768.1,   3.2617,  34.8696,  34.8698,2,    212.6,   214.0,2,   36.70,2,    1.63,2,  -999.0,9,  -999.0,9,   3.1266,   23.61,2
740H20090307,       A095,     109,          1,         10,         10,2,20090417,       2013,  -24.00161,   10.49749,       4038,  1516.5,   3.3592,  34.8208,  34.8229,2,    200.2,   201.1,2,   38.93,2,    1.76,2,  2210.6,2,  2326.9,2,   3.2452,   25.64,2
740H20090307,       A095,     109,          1,         11,         11,2,20090417,       2013,  -24.00161,   10.49749,       4038,  1264.0,   3.4251,  34.7207,  34.7207,2,    184.5,   185.6,2,   43.26,2,    1.97,2,  -999.0,9,  -999.0,9,   3.3321,   28.32,2
740H20090307,       A095,     109,          1,         12,         12,2,20090417,       2013,  -24.00161,   10.49749,       4038,  1013.1,   3.5038,  34.5637,  34.5629,2,    168.8,   169.1,2,   47.72,2,    2.23,2,    2234,2,  2320.9,2,   3.4309,   31.82,2
740H20090307,       A095,     109,          1,         13,         13,2,20090417,       2013,  -24.00161,   10.49749,       4038,   887.8,   3.7129,  34.4962,  34.4946,2,    165.8,   166.8,2,   45.22,2,    2.29,2,  -999.0,9,  -999.0,9,   3.6484,   33.53,2
740H20090307,       A095,     109,          1,         14,         14,2,20090417,       2013,  -24.00161,   10.49749,       4038,   761.6,   4.0040,  34.4190,  34.4189,2,    169.2,   172.1,2,   40.47,2,    2.29,2,  2226.8,2,    2310,2,   3.9478,   33.54,2
740H20090307,       A095,     109,          1,         15,         15,2,20090417,       2013,  -24.00161,   10.49749,       4038,   635.1,   4.6984,  34.3838,  34.3839,2,    177.1,   178.0,2,   31.03,2,    2.19,2,  -999.0,9,  -999.0,9,   4.6488,   32.29,2
740H20090307,       A095,     109,          1,         16,         16,2,20090417,       2013,  -24.00161,   10.49749,       4038,   509.8,   5.8304,  34.4327,  34.4296,2,    163.9,   165.5,2,   23.39,2,    2.11,2,  -999.0,9,  -999.0,9,   5.7865,   31.39,2
740H20090307,       A095,     109,          1,         17,         17,2,20090417,       2013,  -24.00161,   10.49749,       4038,   385.4,   7.8342,  34.5628,  34.5548,2,    187.3,   187.0,2,   15.72,2,    1.68,2,  2176.2,2,  2293.7,2,   7.7954,   24.24,2
740H20090307,       A095,     109,          1,         18,         18,2,20090417,       2013,  -24.00161,   10.49749,       4038,   259.9,  10.3488,  34.8494,  34.8549,2,    148.9,   146.7,2,   11.61,2,    1.53,2,  -999.0,9,  -999.0,9,  10.3180,   21.92,2
740H20090307,       A095,     109,          1,         19,         19,2,20090417,       2013,  -24.00161,   10.49749,       4038,   184.1,  11.8199,  35.0113,  35.0123,2,    195.0,   191.1,2,    7.30,2,    1.04,2,  2147.3,2,    2309,2,  11.7962,   14.03,2
740H20090307,       A095,     109,          1,         20,         20,2,20090417,       2013,  -24.00161,   10.49749,       4038,   109.3,  13.5907,  35.1475,  35.1421,2,    167.2,   171.3,2,    7.03,2,    1.10,2,  -999.0,9,  -999.0,9,  13.5752,   14.43,2
740H20090307,       A095,     109,          1,         21,         25,2,20090417,       2013,  -24.00161,   10.49749,       4038,    83.3,  14.6507,  35.2005,  35.2030,2,    179.3,   177.2,2,    5.73,2,    1.02,2,  -999.0,9,  -999.0,9,  14.6383,   12.82,2
740H20090307,       A095,     109,          1,         22,         22,2,20090417,       2013,  -24.00161,   10.49749,       4038,    59.2,  15.9488,  35.2002,  35.1951,2,    192.0,   192.6,2,    3.97,2,    0.90,2,  2131.3,2,  2321.8,2,  15.9395,    9.93,2
740H20090307,       A095,     109,          1,         23,         23,2,20090417,       2013,  -24.00161,   10.49749,       4038,    35.0,  21.0764,  35.3759,  35.3704,2,    219.9,   218.8,2,    2.06,2,    0.27,2,  -999.0,9,  -999.0,9,  21.0697,    0.72,2
740H20090307,       A095,     109,          1,         24,         24,2,20090417,       2013,  -24.00161,   10.49749,       4038,    14.4,  21.2210,  35.3833,  35.3844,2,    220.4,   220.2,2,    1.93,2,    0.22,2,    2057,2,  2342.7,2,  21.2182,    0.00,2
740H20090307,       A095,     110,          1,          1,          1,2,20090418,       0416,  -23.99985,   11.28434,       3544,  3587.5,   2.2132,  34.8496,  34.8513,2,    221.0,   221.5,2,   64.29,2,    1.70,2,  2218.1,2,    2355,2,   1.9189,   28.02,2
740H20090307,       A095,     110,          1,          2,          2,2,20090418,       0416,  -23.99985,   11.28434,       3544,  3535.8,   2.2758,  34.8565,  34.8579,2,    223.1,   223.6,2,   60.83,2,    1.66,2,  2214.4,2,  2351.2,2,   1.9854,   25.18,2
740H20090307,       A095,     110,          1,          3,         26,2,20090418,       0416,  -23.99985,   11.28434,       3544,  3034.7,   2.5176,  34.8778,  34.8859,2,    228.2,   228.5,2,   46.49,2,    1.57,2,  -999.0,9,  -999.0,9,   2.2740,   23.72,2
740H20090307,       A095,     110,          1,          4,          4,2,20090418,       0416,  -23.99985,   11.28434,       3544,  3288.8,   2.4205,  34.8696,  34.8701,2,    226.8,   226.7,2,   54.10,2,    1.61,2,  2202.8,2,    2345,2,   2.1528,   24.96,2
740H20090307,       A095,     110,          1,          5,          5,2,20090418,       0416,  -23.99985,   11.28434,       3544,  2780.2,   2.6208,  34.8824,  34.8830,2,    228.4,   228.7,2,   46.91,2,    1.56,2,  2194.8,2,  2337.8,2,   2.4007,   23.79,2
740H20090307,       A095,     110,          1,          6,          6,2,20090418,       0416,  -23.99985,   11.28434,       3544,  2526.2,   2.7674,  34.8903,  34.8915,2,    226.5,   226.6,2,   43.71,2,    1.56,2,  -999.0,9,  -999.0,9,   2.5694,   23.98,2
740H20090307,       A095,     110,          1,          7,          7,2,20090418,       0416,  -23.99985,   11.28434,       3544,  2273.0,   2.9330,  34.8925,  34.8946,2,    225.1,   225.3,2,   40.43,2,    1.56,2,  2190.3,2,  2330.5,2,   2.7563,   23.44,2
740H20090307,       A095,     110,          1,          8,          8,2,20090418,       0416,  -23.99985,   11.28434,       3544,  2019.5,   3.1514,  34.8898,  34.8900,2,    219.7,   220.5,2,   37.12,2,    1.58,2,  -999.0,9,  -999.0,9,   2.9949,   24.09,2
740H20090307,       A095,     110,          1,          9,          9,2,20090418,       0416,  -23.99985,   11.28434,       3544,  1767.5,   3.3142,  34.8728,  34.8735,2,    210.9,   212.0,2,   36.32,2,    1.65,2,  2192.7,2,    2324,2,   3.1785,   25.10,2
740H20090307,       A095,     110,          1,         10,         10,2,20090418,       0416,  -23.99985,   11.28434,       3544,  1514.8,   3.4135,  34.8202,  34.8212,2,    198.8,   199.5,2,   38.72,2,    1.84,2,  -999.0,9,  -999.0,9,   3.2990,   27.82,2
740H20090307,       A095,     110,          1,         11,         11,2,20090418,       0416,  -23.99985,   11.28434,       3544,  1262.9,   3.4601,  34.7070,  34.7072,2,    182.0,   182.2,2,   44.03,2,    2.02,2,  2213.6,2,  2322.1,2,   3.3669,   30.57,2
740H20090307,       A095,     110,          1,         12,         12,2,20090418,       0416,  -23.99985,   11.28434,       3544,  1011.2,   3.5784,  34.5569,  34.5575,2,    170.9,   171.7,2,   46.08,2,    2.23,2,  -999.0,9,  -999.0,9,   3.5050,   33.75,2
740H20090307,       A095,     110,          1,         13,         13,2,20090418,       0416,  -23.99985,   11.28434,       3544,   885.9,   3.7753,  34.4757,  34.4768,2,    166.7,   167.5,2,   44.20,2,    2.29,2,  2220.2,2,  2313.8,2,   3.7106,   34.15,2
740H20090307,       A095,     110,          1,         14,         14,2,20090418,       0416,  -23.99985,   11.28434,       3544,   760.4,   4.2065,  34.4291,  34.4296,2,    169.6,   165.2,2,   37.79,2,    2.30,2,  -999.0,9,  -999.0,9,   4.1492,   34.25,2
740H20090307,       A095,     110,          1,         15,         15,2,20090418,       0416,  -23.99985,   11.28434,       3544,   634.3,   4.5060,  34.3447,  34.3458,2,    194.8,   198.4,2,   30.66,2,    2.10,2,  2194.4,2,  2297.2,2,   4.4574,   31.94,2
740H20090307,       A095,     110,          1,         16,         16,2,20090418,       0416,  -23.99985,   11.28434,       3544,   508.9,   5.8471,  34.3949,  34.3954,2,    196.1,   195.9,2,   21.22,2,    1.93,2,  -999.0,9,  -999.0,9,   5.8033,   29.58,2
740H20090307,       A095,     110,          1,         17,         17,2,20090418,       0416,  -23.99985,   11.28434,       3544,   382.6,   8.2197,  34.6218,  34.6206,2,    168.3,   152.9,2,   16.62,2,    1.83,2,  2188.1,2,  2292.6,2,   8.1801,   27.26,2
740H20090307,       A095,     110,          1,         18,         18,2,20090418,       0416,  -23.99985,   11.28434,       3544,   258.2,  11.0412,  34.9250,  34.9271,2,    167.1,   164.1,2,    9.51,2,    1.31,2,  -999.0,9,  -999.0,9,  11.0093,   18.83,2
740H20090307,       A095,     110,          1,         19,         19,2,20090418,       0416,  -23.99985,   11.28434,       3544,   183.3,  12.4783,  35.0960,  35.0961,2,    149.5,   158.3,2,    7.66,2,    1.17,2,  2158.4,2,  2308.4,2,  12.4538,   16.52,2
740H20090307,       A095,     110,          1,         20,         20,2,20090418,       0416,  -23.99985,   11.28434,       3544,   107.8,  15.0466,  35.3850,  35.3690,2,    198.7,   196.6,2,    5.28,3,    0.70,3,  -999.0,9,  -999.0,9,  15.0302,    8.89,3
740H20090307,       A095,     110,          1,         21,         25,3,20090418,       0416,  -23.99985,   11.28434,       3544,    83.6,  16.1059,  35.4639,  35.0964,2,    219.4,   181.1,2,   11.93,3,    1.09,3,  -999.0,9,  -999.0,9,  16.0926,   14.93,3
740H20090307,       A095,     110,          1,         22,         22,2,20090418,       0416,  -23.99985,   11.28434,       3544,    58.0,  18.1895,  35.2869,  35.2911,2,    227.3,   221.4,2,    1.94,2,    0.50,2,  -999.0,9,  -999.0,9,  18.1795,    3.15,2
740H20090307,       A095,     110,          1,         23,         23,2,20090418,       0416,  -23.99985,   11.28434,       3544,    27.9,  21.1884,  35.5068,  35.5063,2,    220.1,   219.0,2,    2.14,2,    0.21,2,  2052.5,2,  2339.9,2,  21.1831,    0.02,2
740H20090307,       A095,     110,          1,         24,         24,2,20090418,       0416,  -23.99985,   11.28434,       3544,     5.0,  21.1928,  35.5086,  35.5091,2,    220.0,   218.9,2,    2.03,2,    0.21,2,  -999.0,9,  -999.0,9,  21.1919,   -0.07,2
740H20090307,       A095,     111,          1,          1,          1,2,20090418,       1145,  -24.00034,   12.06520,       2806,  2832.8,   2.5399,  34.8798,  34.9029,2,    223.5,   155.7,3,   10.91,3,    1.42,3,  2178.2,3,  2300.9,3,   2.3162,   21.55,3
740H20090307,       A095,     111,          1,          2,          2,2,20090418,       1145,  -24.00034,   12.06520,       2806,  2783.3,   2.5885,  34.8816,  34.8822,2,    225.6,   225.4,2,   49.37,2,    1.59,2,  2209.9,2,  2340.3,2,   2.3687,   23.22,2
740H20090307,       A095,     111,          1,          3,         26,2,20090418,       1145,  -24.00034,   12.06520,       2806,  2781.2,   2.5885,  34.8817,  34.8830,2,    225.7,   225.4,2,   49.71,2,    1.59,2,  -999.0,9,  -999.0,9,   2.3690,   22.78,2
740H20090307,       A095,     111,          1,          4,          4,2,20090418,       1145,  -24.00034,   12.06520,       2806,  2527.2,   2.7438,  34.8897,  34.8900,2,    224.3,   223.9,2,   45.94,2,    1.58,2,  2208.4,2,  2337.9,2,   2.5462,   23.15,2
740H20090307,       A095,     111,          1,          5,          5,2,20090418,       1145,  -24.00034,   12.06520,       2806,  2273.2,   2.9535,  34.8976,  34.8977,2,    221.2,   221.0,2,   41.41,2,    1.58,2,  -999.0,9,  -999.0,9,   2.7765,   23.00,2
740H20090307,       A095,     111,          1,          6,          6,2,20090418,       1145,  -24.00034,   12.06520,       2806,  2020.4,   3.1289,  34.8941,  34.8943,2,    217.3,   218.2,2,   38.43,2,    1.60,2,  2202.7,2,  2327.8,2,   2.9726,   23.45,2
740H20090307,       A095,     111,          1,          7,          7,2,20090418,       1145,  -24.00034,   12.06520,       2806,  2020.6,   3.1315,  34.8941,  34.8944,2,    217.2,   217.2,2,   38.01,2,    1.59,2,  -999.0,9,  -999.0,9,   2.9752,   23.14,2
740H20090307,       A095,     111,          1,          8,          8,2,20090418,       1145,  -24.00034,   12.06520,       2806,  1767.3,   3.2718,  34.8658,  34.8663,2,    210.1,   210.5,2,   37.79,2,    1.67,2,  -999.0,9,  -999.0,9,   3.1367,   24.55,2
740H20090307,       A095,     111,          1,          9,          9,2,20090418,       1145,  -24.00034,   12.06520,       2806,  1514.5,   3.4302,  34.8146,  34.8157,2,    195.3,   196.3,2,   38.87,2,    1.82,2,  2211.7,3,  2323.5,2,   3.3155,   26.43,2
740H20090307,       A095,     111,          1,         10,         10,2,20090418,       1145,  -24.00034,   12.06520,       2806,  1262.3,   3.4510,  34.7070,  34.7072,2,    181.0,   181.3,2,   43.42,2,    2.01,2,  -999.0,9,  -999.0,9,   3.3579,   29.31,2
740H20090307,       A095,     111,          1,         11,         11,2,20090418,       1145,  -24.00034,   12.06520,       2806,  1010.8,   3.6288,  34.5557,  34.5575,2,    167.4,   168.3,2,   44.80,2,    2.22,2,  2231.6,2,  2315.9,2,   3.5551,   32.55,2
740H20090307,       A095,     111,          1,         12,         12,2,20090418,       1145,  -24.00034,   12.06520,       2806,  1011.1,   3.6297,  34.5548,  34.5561,2,    167.2,   168.1,2,   44.69,2,    2.22,2,  -999.0,9,  -999.0,9,   3.5559,   32.80,2
740H20090307,       A095,     111,          1,         13,         13,2,20090418,       1145,  -24.00034,   12.06520,       2806,   885.5,   3.9028,  34.4994,  34.4998,2,    157.2,   157.6,2,   42.26,2,    2.32,2,  -999.0,9,  -999.0,9,   3.8373,   34.62,2
740H20090307,       A095,     111,          1,         14,         14,2,20090418,       1145,  -24.00034,   12.06520,       2806,   759.0,   4.1566,  34.4302,  34.4287,2,    164.9,   165.9,2,   38.54,2,    2.29,2,  2225.3,2,  2303.7,2,   4.0997,   34.38,2
740H20090307,       A095,     111,          1,         15,         15,2,20090418,       1145,  -24.00034,   12.06520,       2806,   634.1,   5.0220,  34.4410,  34.4394,2,    140.6,   142.7,3,   31.68,2,    2.35,2,  -999.0,9,  -999.0,9,   4.9708,   35.34,2
740H20090307,       A095,     111,          1,         16,         16,2,20090418,       1145,  -24.00034,   12.06520,       2806,   507.8,   5.9502,  34.4553,  34.4559,2,    147.8,   150.0,2,   24.08,2,    2.17,2,  2218.8,2,  2293.2,2,   5.9061,   32.66,2
740H20090307,       A095,     111,          1,         17,         17,2,20090418,       1145,  -24.00034,   12.06520,       2806,   383.4,   7.9724,  34.6155,  34.6114,2,    133.7,   128.7,2,   18.91,2,    2.01,2,  -999.0,9,  -999.0,9,   7.9334,   30.74,2
740H20090307,       A095,     111,          1,         18,         18,2,20090418,       1145,  -24.00034,   12.06520,       2806,   258.4,  10.6068,  34.8765,  34.8738,2,    129.7,   159.3,2,   10.59,2,    1.42,2,  2178.9,2,  2299.5,2,  10.5756,   20.30,2
740H20090307,       A095,     111,          1,         19,         19,2,20090418,       1145,  -24.00034,   12.06520,       2806,   183.1,  11.9141,  35.0227,  35.0185,2,    143.9,   157.8,2,    8.98,2,    1.27,2,  -999.0,9,  -999.0,9,  11.8903,   17.87,2
740H20090307,       A095,     111,          1,         20,         20,2,20090418,       1145,  -24.00034,   12.06520,       2806,   108.5,  13.4518,  35.1759,  35.1787,2,    196.3,   194.2,2,    6.14,2,    0.85,2,  -999.0,9,  2313.7,2,  13.4366,   11.01,2
740H20090307,       A095,     111,          1,         21,         25,2,20090418,       1145,  -24.00034,   12.06520,       2806,    83.2,  14.2045,  35.2391,  35.2393,2,    199.8,   197.4,2,    5.41,2,    0.79,2,  -999.0,9,  -999.0,9,  14.1924,    9.66,2
740H20090307,       A095,     111,          1,         22,         22,2,20090418,       1145,  -24.00034,   12.06520,       2806,    58.5,  15.4319,  35.2439,  35.2546,2,    191.3,   191.3,3,    4.84,2,    0.87,2,  -999.0,9,  2316.2,2,  15.4229,    9.83,2
740H20090307,       A095,     111,          1,         23,         23,3,20090418,       1145,  -24.00034,   12.06520,       2806,    33.3,  19.0879,  35.2613,-999.0000,9,    230.7,  -999.0,9, -999.00,9, -999.00,9,  -999.0,9,  -999.0,9,  19.0820, -999.00,9
740H20090307,       A095,     111,          1,         24,         24,2,20090418,       1145,  -24.00034,   12.06520,       2806,    13.6,  20.3381,  35.3499,  35.3466,2,    227.0,   226.8,2,    1.67,2,    0.25,2,  -999.0,9,  2333.4,2,  20.3355,    0.35,2