BOTTLE,20211101CCHSIORKP
EXPOCODE,SECT_ID,STNNBR,CASTNO,SAMPNO,BTLNBR,BTLNBR_FLAG_W,DATE,TIME,LATITUDE,LONGITUDE,DEPTH,CTDPRS,CTDTMP,CTDSAL,SALNTY,SALNTY_FLAG_W,CTDOXY,OXYGEN,OXYGEN_FLAG_W,SILCAT,SILCAT_FLAG_W,PHSPHT,PHSPHT_FLAG_W,TCARBN,TCARBN_FLAG_W,ALKALI,ALKALI_FLAG_W,THETA,NO2+NO3,NO2+NO3_FLAG_W
,,,,,,,,,,,METERS,DBAR,ITS-90,PSS-78,PSS-78,,UMOL/KG,UMOL/KG,,UMOL/KG,,UMOL/KG,,UMOL/KG,,UMOL/KG,,DEG C,UMOL/KG,
740H20090307,       A095,     100,          1,          1,          1,2,20090415,       0629,  -23.99550,    5.43052,       1978,  1989.9,   3.1299,  34.8730,  34.8728,2,    217.8,   218.9,2,   38.74,2,    1.63,2,  2194.6,2,  2327.1,2,   2.9765,   24.18,2
740H20090307,       A095,     100,          1,          2,          2,2,20090415,       0629,  -23.99550,    5.43052,       1978,  1992.5,   3.1285,  34.8732,  34.8731,2,    217.8,   218.2,2,   38.48,2,    1.61,2,  -999.0,9,  -999.0,9,   2.9749,   24.18,2
740H20090307,       A095,     100,          1,          3,         26,2,20090415,       0629,  -23.99550,    5.43052,       1978,  1940.9,   3.1347,  34.8721,  34.8729,2,    217.5,   217.4,2,   38.38,2,    1.61,2,  -999.0,9,  -999.0,9,   2.9858,   24.57,2
740H20090307,       A095,     100,          1,          4,          4,2,20090415,       0629,  -23.99550,    5.43052,       1978,  1941.8,   3.1348,  34.8721,  34.8717,2,    217.5,   218.0,2,   38.85,2,    1.62,2,  2193.3,2,  2326.9,2,   2.9858,   24.37,2
740H20090307,       A095,     100,          1,          5,          5,2,20090415,       0629,  -23.99550,    5.43052,       1978,  1762.3,   3.2383,  34.8652,  34.8653,2,    214.9,   215.4,2,   37.10,2,    1.63,2,  2194.3,2,  2327.3,2,   3.1040,   24.40,2
740H20090307,       A095,     100,          1,          6,          6,2,20090415,       0629,  -23.99550,    5.43052,       1978,  1508.5,   3.4115,  34.8158,  34.8148,2,    202.6,   202.6,2,   37.66,2,    1.77,2,  -999.0,9,  -999.0,9,   3.2976,   26.14,2
740H20090307,       A095,     100,          1,          7,          7,2,20090415,       0629,  -23.99550,    5.43052,       1978,  1257.7,   3.5276,  34.7060,  34.7074,2,    185.5,   186.1,2,   41.02,2,    1.97,2,  2195.1,3,  2316.1,2,   3.4341,   29.31,2
740H20090307,       A095,     100,          1,          9,          9,2,20090415,       0629,  -23.99550,    5.43052,       1978,  1006.7,   3.5410,  34.5299,  34.5306,2,    172.1,   172.5,2,   46.64,2,    2.23,2,  -999.0,9,  -999.0,9,   3.4684,   32.65,2
740H20090307,       A095,     100,          1,         10,         10,2,20090415,       0629,  -23.99550,    5.43052,       1978,   880.0,   3.7912,  34.4434,  34.4441,2,    172.3,   172.5,2,   43.57,2,    2.28,2,    2213,2,  2304.7,2,   3.7269,   33.38,2
740H20090307,       A095,     100,          1,         11,         11,2,20090415,       0629,  -23.99550,    5.43052,       1978,   754.9,   4.4520,  34.3910,-999.0000,9,    175.6,   176.0,2,   34.19,2,    2.22,2,  -999.0,9,  -999.0,9,   4.3938,   32.86,2
740H20090307,       A095,     100,          1,         12,         12,2,20090415,       0629,  -23.99550,    5.43052,       1978,   629.3,   5.3959,  34.3881,  34.3878,2,    185.2,   185.8,2,   24.32,2,    2.04,2,  2184.1,2,  2288.9,2,   5.3434,   30.56,2
740H20090307,       A095,     100,          1,         14,         14,2,20090415,       0629,  -23.99550,    5.43052,       1978,   503.4,   6.9317,  34.4894,  34.4898,2,    183.9,   183.4,2,   19.15,2,    1.81,2,  -999.0,9,  -999.0,9,   6.8841,   27.33,2
740H20090307,       A095,     100,          1,         15,         15,2,20090415,       0629,  -23.99550,    5.43052,       1978,   377.7,   9.5112,  34.7423,  34.7474,2,    178.8,   179.7,2,   12.25,2,    1.42,2,  2153.5,2,  2294.5,2,   9.4685,   20.80,2
740H20090307,       A095,     100,          1,         16,         16,2,20090415,       0629,  -23.99550,    5.43052,       1978,   252.6,  12.3843,  35.0707,  35.0652,2,    197.9,   197.4,2,    7.05,2,    0.91,2,  -999.0,9,  -999.0,9,  12.3505,   12.52,2
740H20090307,       A095,     100,          1,         17,         17,2,20090415,       0629,  -23.99550,    5.43052,       1978,   177.8,  14.4598,  35.3139,  35.3149,2,    200.5,   201.1,2,    5.74,2,    0.65,2,    2106,2,  2314.9,2,  14.4335,    8.20,2
740H20090307,       A095,     100,          1,         19,         19,2,20090415,       0629,  -23.99550,    5.43052,       1978,   102.4,  16.6144,  35.5623,  35.5597,2,    224.9,   224.2,2,    4.57,2,    0.30,2,  -999.0,9,  -999.0,9,  16.5977,    2.20,2
740H20090307,       A095,     100,          1,         20,         20,2,20090415,       0629,  -23.99550,    5.43052,       1978,    77.8,  17.7149,  35.5641,  35.5652,2,    239.5,   237.6,2,    3.96,2,    0.21,2,    2064,2,  2336.1,2,  17.7016,    0.14,2
740H20090307,       A095,     100,          1,         21,         25,2,20090415,       0629,  -23.99550,    5.43052,       1978,    53.2,  21.8450,  35.8152,  35.8054,2,    221.8,   218.1,2,    3.13,2,    0.16,2,  -999.0,9,  -999.0,9,  21.8345,   -0.18,2
740H20090307,       A095,     100,          1,         22,         22,2,20090415,       0629,  -23.99550,    5.43052,       1978,    28.0,  22.3534,  35.7809,  35.7814,2,    212.9,   214.7,2,    2.85,2,    0.14,2,  2059.5,2,    2353,2,  22.3478,   -0.22,2
740H20090307,       A095,     100,          1,         23,         23,2,20090415,       0629,  -23.99550,    5.43052,       1978,     7.6,  22.3515,  35.7812,  35.7806,2,    212.9,   212.7,2,    2.71,2,    0.14,2,  2059.5,2,  2350.2,2,  22.3500,   -0.20,2
740H20090307,       A095,     101,          1,          1,          1,2,20090415,       1202,  -23.99981,    6.04556,       1872,  1882.2,   3.1296,  34.8694,  34.8688,2,    216.0,   215.8,2,   38.90,2,    1.62,2,  2194.6,2,  2320.6,2,   2.9860,   24.42,2
740H20090307,       A095,     101,          1,          2,          2,2,20090415,       1202,  -23.99981,    6.04556,       1872,  1882.4,   3.1239,  34.8700,  34.8689,2,    216.0,   216.1,2,   38.70,2,    1.62,2,  -999.0,9,  -999.0,9,   2.9805,   24.28,2
740H20090307,       A095,     101,          1,          3,         26,2,20090415,       1202,  -23.99981,    6.04556,       1872,  1833.6,   3.2347,  34.8560,  34.8564,2,    211.8,   212.0,2,   38.35,2,    1.67,2,  -999.0,9,  -999.0,9,   3.0942,   24.35,2
740H20090307,       A095,     101,          1,          4,          4,2,20090415,       1202,  -23.99981,    6.04556,       1872,  1832.9,   3.2345,  34.8560,  34.8566,2,    211.8,   211.5,2,   38.20,2,    1.67,2,  -999.0,9,  -999.0,9,   3.0940,   24.97,2
740H20090307,       A095,     101,          1,          5,          5,2,20090415,       1202,  -23.99981,    6.04556,       1872,  1762.3,   3.2558,  34.8493,  34.8490,2,    209.7,   210.1,2,   38.42,2,    1.68,2,  -999.0,9,  -999.0,9,   3.1213,   25.33,2
740H20090307,       A095,     101,          1,          6,          6,2,20090415,       1202,  -23.99981,    6.04556,       1872,  1510.6,   3.3644,  34.7974,  34.7998,2,    197.3,   197.8,2,   39.95,2,    1.82,2,  2208.4,2,  2321.2,2,   3.2510,   27.24,2
740H20090307,       A095,     101,          1,          7,          7,2,20090415,       1202,  -23.99981,    6.04556,       1872,  1257.8,   3.4534,  34.6832,  34.6833,2,    179.8,   179.6,2,   44.35,2,    2.05,2,  -999.0,9,  -999.0,9,   3.3607,   30.24,2
740H20090307,       A095,     101,          1,          8,          8,2,20090415,       1202,  -23.99981,    6.04556,       1872,  1004.5,   3.6179,  34.5170,  34.5164,2,    169.5,   169.3,2,   45.82,2,    2.27,2,  2228.2,2,  2311.3,2,   3.5448,   32.99,2
740H20090307,       A095,     101,          1,          9,          9,2,20090415,       1202,  -23.99981,    6.04556,       1872,  1007.0,   3.6182,  34.5167,  34.5169,2,    169.5,   169.9,2,   45.58,2,    2.26,2,  -999.0,9,  -999.0,9,   3.5449,   33.73,2
740H20090307,       A095,     101,          1,         10,         10,2,20090415,       1202,  -23.99981,    6.04556,       1872,   879.6,   3.8096,  34.4302,  34.4298,2,    175.4,   174.8,2,   43.04,2,    2.28,2,  -999.0,9,  -999.0,9,   3.7453,   34.04,2
740H20090307,       A095,     101,          1,         11,         11,2,20090415,       1202,  -23.99981,    6.04556,       1872,   755.8,   4.4032,  34.4065,  34.4059,2,    168.7,   168.8,2,   34.75,2,    2.27,2,  2215.7,2,  2297.1,2,   4.3452,   33.90,2
740H20090307,       A095,     101,          1,         12,         12,2,20090415,       1202,  -23.99981,    6.04556,       1872,   630.6,   5.3288,  34.4099,  34.4103,2,    168.7,   169.1,2,   25.86,2,    2.16,2,  -999.0,9,  -999.0,9,   5.2765,   32.96,2
740H20090307,       A095,     101,          1,         13,         13,2,20090415,       1202,  -23.99981,    6.04556,       1872,   503.4,   7.2469,  34.5252,  34.5246,2,    170.6,   170.2,2,   17.63,2,    1.87,2,  2185.9,2,  2290.4,2,   7.1981,   28.17,2
740H20090307,       A095,     101,          1,         14,         14,2,20090415,       1202,  -23.99981,    6.04556,       1872,   505.0,   7.2583,  34.5261,  34.5257,2,    170.7,   170.0,2,   18.27,2,    1.85,2,  -999.0,9,  -999.0,9,   7.2093,   28.30,2
740H20090307,       A095,     101,          1,         15,         15,2,20090415,       1202,  -23.99981,    6.04556,       1872,   379.4,   9.4389,  34.7385,  34.7346,2,    171.9,   171.5,2,   12.32,2,    1.49,2,  -999.0,9,  -999.0,9,   9.3962,   22.96,2
740H20090307,       A095,     101,          1,         16,         16,2,20090415,       1202,  -23.99981,    6.04556,       1872,   254.2,  12.1301,  35.0404,  35.0309,2,    190.6,   189.4,2,    7.37,2,    1.02,2,  2133.7,2,  2305.8,2,  12.0966,   14.40,2
740H20090307,       A095,     101,          1,         17,         17,2,20090415,       1202,  -23.99981,    6.04556,       1872,   252.3,  12.0857,  35.0366,  35.0334,2,    190.0,   189.2,2,    7.31,2,    1.01,2,  -999.0,9,  -999.0,9,  12.0526,   14.32,2
740H20090307,       A095,     101,          1,         18,         18,2,20090415,       1202,  -23.99981,    6.04556,       1872,   179.3,  13.9534,  35.2581,  35.2511,2,    201.9,   202.9,2,    5.46,2,    0.68,2,  2111.8,2,    2316,2,  13.9275,    8.94,2
740H20090307,       A095,     101,          1,         19,         19,2,20090415,       1202,  -23.99981,    6.04556,       1872,   103.3,  16.0856,  35.5277,  35.5327,2,    218.8,   219.6,2,    4.46,2,    0.36,2,  -999.0,9,  -999.0,9,  16.0692,    3.37,2
740H20090307,       A095,     101,          1,         20,         20,2,20090415,       1202,  -23.99981,    6.04556,       1872,    94.1,  16.7958,  35.5769,  35.5704,2,    229.2,   226.5,2,    4.13,2,    0.28,2,  -999.0,9,  -999.0,9,  16.7804,    1.83,2
740H20090307,       A095,     101,          1,         21,         25,2,20090415,       1202,  -23.99981,    6.04556,       1872,    77.4,  17.9132,  35.6390,  35.6449,2,    239.3,   238.8,2,    3.60,2,    0.17,2,  -999.0,9,  -999.0,9,  17.9000,   -0.02,2
740H20090307,       A095,     101,          1,         22,         22,2,20090415,       1202,  -23.99981,    6.04556,       1872,    52.2,  22.0389,  35.7769,  35.7669,2,    220.2,   219.4,2,    2.73,2,    0.15,2,  -999.0,9,  -999.0,9,  22.0286,   -0.13,2
740H20090307,       A095,     101,          1,         23,         23,2,20090415,       1202,  -23.99981,    6.04556,       1872,    27.7,  22.4189,  35.7780,  35.7779,2,    213.3,   212.3,2,    2.47,2,    0.14,2,  2055.9,2,  2358.3,2,  22.4133,   -0.12,2
740H20090307,       A095,     101,          1,         24,         24,2,20090415,       1202,  -23.99981,    6.04556,       1872,     8.6,  22.4642,  35.7795,  35.7791,2,    213.5,   213.4,2,    2.41,2,    0.14,2,    2057,2,  2359.2,2,  22.4624,   -0.14,2
740H20090307,       A095,     102,          1,          1,          1,2,20090415,       1701,  -23.99999,    6.51416,       2375,  2394.1,   2.8510,  34.8794,  34.8802,2,    224.7,   226.6,3,   42.51,2,    1.57,2,  2188.9,2,    2334,2,   2.6642,   23.47,2
740H20090307,       A095,     102,          1,          2,          2,2,20090415,       1701,  -23.99999,    6.51416,       2375,  2344.6,   2.9040,  34.8820,  34.8830,2,    224.7,   225.2,2,   41.21,2,    1.58,2,    2188,2,  2331.6,2,   2.7210,   23.52,2
740H20090307,       A095,     102,          1,          3,         26,2,20090415,       1701,  -23.99999,    6.51416,       2375,  2346.1,   2.9024,  34.8819,  34.8828,2,    224.6,   224.9,2,   40.94,2,    1.56,2,  -999.0,9,  -999.0,9,   2.7193,   22.86,2
740H20090307,       A095,     102,          1,          4,          4,2,20090415,       1701,  -23.99999,    6.51416,       2375,  2267.7,   2.9471,  34.8812,  34.8832,2,    223.8,   225.0,2,   40.26,2,    1.57,2,  2186.7,2,  2330.5,2,   2.7707,   23.45,2
740H20090307,       A095,     102,          1,          5,          5,2,20090415,       1701,  -23.99999,    6.51416,       2375,  2012.7,   3.0905,  34.8814,  34.8816,2,    220.3,   220.9,2,   37.82,2,    1.59,2,  -999.0,9,  -999.0,9,   2.9356,   23.78,2
740H20090307,       A095,     102,          1,          6,          6,2,20090415,       1701,  -23.99999,    6.51416,       2375,  1760.6,   3.2464,  34.8683,  34.8689,2,    212.9,   213.7,2,   36.29,2,    1.64,2,  2183.8,2,  2325.8,2,   3.1122,   24.40,2
740H20090307,       A095,     102,          1,          7,          7,2,20090415,       1701,  -23.99999,    6.51416,       2375,  1508.3,   3.3834,  34.7890,  34.7916,2,    194.5,   195.5,2,   40.10,2,    1.85,2,  -999.0,9,  -999.0,9,   3.2699,   27.26,2
740H20090307,       A095,     102,          1,          8,          8,2,20090415,       1701,  -23.99999,    6.51416,       2375,  1256.1,   3.4135,  34.6625,  34.6606,2,    178.8,   179.7,2,   45.86,2,    2.09,2,  -999.0,9,  2327.2,2,   3.3213,   30.35,2
740H20090307,       A095,     102,          1,          9,          9,2,20090415,       1701,  -23.99999,    6.51416,       2375,  1003.8,   3.6313,  34.5276,  34.5275,2,    168.5,   169.4,2,   44.85,2,    2.26,2,  -999.0,9,  -999.0,9,   3.5581,   33.14,2
740H20090307,       A095,     102,          1,         10,         10,2,20090415,       1701,  -23.99999,    6.51416,       2375,  1006.4,   3.6306,  34.5278,  34.5271,2,    168.5,   169.5,2,   45.17,2,    2.26,2,  -999.0,9,  -999.0,9,   3.5572,   33.62,2
740H20090307,       A095,     102,          1,         11,         11,2,20090415,       1701,  -23.99999,    6.51416,       2375,   880.6,   4.0205,  34.4561,  34.4562,2,    162.5,   163.7,2,   39.83,2,    2.33,2,  2215.7,2,  2306.6,2,   3.9546,   34.39,2
740H20090307,       A095,     102,          1,         12,         12,2,20090415,       1701,  -23.99999,    6.51416,       2375,   755.6,   4.4883,  34.4310,  34.4297,2,    155.3,   156.3,2,   34.64,2,    2.31,2,  -999.0,9,  -999.0,9,   4.4298,   35.13,2
740H20090307,       A095,     102,          1,         13,         13,2,20090415,       1701,  -23.99999,    6.51416,       2375,   627.1,   5.2150,  34.4147,  34.4138,2,    160.8,   162.3,2,   27.41,2,    2.22,2,  2204.7,2,  2295.1,2,   5.1635,   33.29,2
740H20090307,       A095,     102,          1,         14,         14,2,20090415,       1701,  -23.99999,    6.51416,       2375,   502.9,   6.7200,  34.4714,  34.4719,2,    184.4,   184.7,2,   19.01,2,    1.85,2,  -999.0,9,  -999.0,9,   6.6733,   27.89,2
740H20090307,       A095,     102,          1,         15,         15,2,20090415,       1701,  -23.99999,    6.51416,       2375,   503.0,   6.7489,  34.4738,  34.4752,2,    184.2,   184.2,2,   18.36,2,    1.93,2,  -999.0,9,  -999.0,9,   6.7021,   27.87,2
740H20090307,       A095,     102,          1,         16,         16,2,20090415,       1701,  -23.99999,    6.51416,       2375,   379.4,   9.2621,  34.7163,  34.7164,2,    174.9,   175.0,2,   12.49,2,    1.51,2,  2179.7,2,  2297.2,2,   9.2198,   22.53,2
740H20090307,       A095,     102,          1,         17,         17,2,20090415,       1701,  -23.99999,    6.51416,       2375,   253.5,  11.8673,  35.0132,  35.0102,2,    190.4,   189.2,2,    7.33,2,    1.04,2,  -999.0,9,  -999.0,9,  11.8344,   14.82,2
740H20090307,       A095,     102,          1,         18,         18,2,20090415,       1701,  -23.99999,    6.51416,       2375,   177.3,  13.5615,  35.1882,  35.1831,2,    193.2,   193.0,2,    5.88,2,    0.82,2,  2123.2,3,  2316.6,2,  13.5364,   10.88,2
740H20090307,       A095,     102,          1,         19,         19,2,20090415,       1701,  -23.99999,    6.51416,       2375,   103.3,  16.8554,  35.5198,  35.5149,2,    221.9,   222.5,2,    4.01,2,    0.35,2,  -999.0,9,  -999.0,9,  16.8384,    2.67,2
740H20090307,       A095,     102,          1,         20,         20,2,20090415,       1701,  -23.99999,    6.51416,       2375,   103.1,  16.8790,  35.5208,  35.5186,2,    222.2,   222.4,2,    3.87,2,    0.35,2,  -999.0,9,  -999.0,9,  16.8620,    2.25,2
740H20090307,       A095,     102,          1,         21,         25,2,20090415,       1701,  -23.99999,    6.51416,       2375,    75.6,  18.7148,  35.6438,  35.6473,2,    240.2,   239.8,2,    3.32,2,    0.19,2,  -999.0,9,  -999.0,9,  18.7015,   -0.05,2
740H20090307,       A095,     102,          1,         22,         22,2,20090415,       1701,  -23.99999,    6.51416,       2375,    52.5,  21.8170,  35.6211,  35.6326,2,    218.4,   222.7,2,    2.66,2,    0.18,2,  -999.0,9,  -999.0,9,  21.8066,   -0.14,2
740H20090307,       A095,     102,          1,         23,         23,2,20090415,       1701,  -23.99999,    6.51416,       2375,    26.9,  22.1514,  35.5886,  35.5903,2,    215.0,   214.9,2,    2.44,2,    0.17,2,  2054.7,2,  2351.3,2,  22.1461,   -0.16,2
740H20090307,       A095,     102,          1,         24,         24,2,20090415,       1701,  -23.99999,    6.51416,       2375,     7.3,  22.2118,  35.5775,  35.5771,2,    215.3,   214.8,2,    2.26,2,    0.19,2,  2054.1,2,  2348.8,2,  22.2104,   -0.13,2