BOTTLE,20211101CCHSIORKP
EXPOCODE,SECT_ID,STNNBR,CASTNO,SAMPNO,BTLNBR,BTLNBR_FLAG_W,DATE,TIME,LATITUDE,LONGITUDE,DEPTH,CTDPRS,CTDTMP,CTDSAL,SALNTY,SALNTY_FLAG_W,CTDOXY,OXYGEN,OXYGEN_FLAG_W,SILCAT,SILCAT_FLAG_W,PHSPHT,PHSPHT_FLAG_W,TCARBN,TCARBN_FLAG_W,ALKALI,ALKALI_FLAG_W,THETA,NO2+NO3,NO2+NO3_FLAG_W
,,,,,,,,,,,METERS,DBAR,ITS-90,PSS-78,PSS-78,,UMOL/KG,UMOL/KG,,UMOL/KG,,UMOL/KG,,UMOL/KG,,UMOL/KG,,DEG C,UMOL/KG,
740H20090307,       A095,      82,          1,          1,          1,2,20090408,       2334,  -23.68355,   -7.41754,       4902,  4976.8,   2.4731,  34.8836,  34.8834,2,    226.8,   227.8,2,   55.09,2,    1.57,2,  2207.6,3,    2366,2,   2.0077,   24.21,2
740H20090307,       A095,      82,          1,          2,          2,2,20090408,       2334,  -23.68355,   -7.41754,       4902,  4927.6,   2.4668,  34.8836,  34.8837,2,    227.0,   228.5,2,   54.79,2,    1.57,2,  2211.2,2,  2365.1,2,   2.0077,   24.11,2
740H20090307,       A095,      82,          1,          3,          3,2,20090408,       2334,  -23.68355,   -7.41754,       4902,  4565.9,   2.4219,  34.8836,  34.8839,2,    228.0,   228.1,2,   54.72,2,    1.57,2,  2211.2,2,  2269.5,3,   2.0091,   24.20,2
740H20090307,       A095,      82,          1,          4,          4,2,20090408,       2334,  -23.68355,   -7.41754,       4902,  4310.2,   2.3934,  34.8836,  34.8836,2,    228.0,   228.4,2,   54.97,2,    1.57,2,  -999.0,9,  -999.0,9,   2.0121,   24.08,2
740H20090307,       A095,      82,          1,          5,          5,2,20090408,       2334,  -23.68355,   -7.41754,       4902,  4055.0,   2.3704,  34.8836,  34.8838,2,    228.1,   228.0,2,   54.96,2,    1.58,2,  2209.7,2,  2362.6,2,   2.0195,   24.09,2
740H20090307,       A095,      82,          1,          6,          6,2,20090408,       2334,  -23.68355,   -7.41754,       4902,  3543.5,   2.3571,  34.8817,  34.8817,2,    229.5,   229.5,2,   54.30,2,    1.58,2,  2206.9,2,  2357.7,2,   2.0637,   24.27,2
740H20090307,       A095,      82,          1,          7,          7,2,20090408,       2334,  -23.68355,   -7.41754,       4902,  3033.5,   2.3840,  34.8742,  34.8740,2,    232.7,   233.0,2,   52.71,2,    1.58,2,  2198.9,2,  2347.7,2,   2.1435,   24.13,2
740H20090307,       A095,      82,          1,          8,          8,2,20090408,       2334,  -23.68355,   -7.41754,       4902,  2526.0,   2.4815,  34.8664,  34.8665,2,    232.0,   232.0,2,   50.35,2,    1.59,2,  -999.0,9,  -999.0,9,   2.2889,   24.30,2
740H20090307,       A095,      82,          1,          9,          9,2,20090408,       2334,  -23.68355,   -7.41754,       4902,  2272.2,   2.5573,  34.8608,  34.8612,2,    229.3,   229.5,2,   49.74,2,    1.61,2,  2195.3,2,  2337.4,2,   2.3871,   24.39,2
740H20090307,       A095,      82,          1,         10,         10,2,20090408,       2334,  -23.68355,   -7.41754,       4902,  2017.6,   2.6729,  34.8437,  34.8434,2,    222.9,   223.2,2,   49.68,2,    1.67,2,  -999.0,9,  -999.0,9,   2.5240,   25.70,2
740H20090307,       A095,      82,          1,         11,         11,2,20090408,       2334,  -23.68355,   -7.41754,       4902,  1765.7,   2.9550,  34.8291,  34.8289,2,    216.2,   216.7,2,   45.49,2,    1.71,2,    2198,2,  2335.2,2,   2.8243,   26.24,2
740H20090307,       A095,      82,          1,         12,         12,2,20090408,       2334,  -23.68355,   -7.41754,       4902,  1512.2,   3.2170,  34.7871,  34.7883,2,    204.8,   205.6,2,   43.59,2,    1.83,2,  -999.0,9,  -999.0,9,   3.1051,   27.96,2
740H20090307,       A095,      82,          1,         13,         13,2,20090408,       2334,  -23.68355,   -7.41754,       4902,  1259.7,   3.4224,  34.6797,  34.6786,2,    187.4,   187.0,2,   44.70,2,    2.00,2,  2211.2,2,  2324.7,2,   3.3299,   30.16,2
740H20090307,       A095,      82,          1,         14,         14,2,20090408,       2334,  -23.68355,   -7.41754,       4902,  1008.6,   3.5698,  34.5040,  34.5023,2,    176.6,   177.3,2,   46.15,2,    2.23,2,  -999.0,9,  -999.0,9,   3.4968,   33.68,2
740H20090307,       A095,      82,          1,         15,         15,2,20090408,       2334,  -23.68355,   -7.41754,       4902,   883.0,   3.8374,  34.4130,  34.4133,2,    181.2,   181.6,2,   42.08,2,    2.26,2,  2212.2,2,  2252.9,3,   3.7726,   34.02,2
740H20090307,       A095,      82,          1,         16,         16,2,20090408,       2334,  -23.68355,   -7.41754,       4902,   756.0,   4.4857,  34.3630,  34.3633,2,    191.4,   191.5,2,   32.26,2,    2.14,2,  2197.5,2,  2303.5,2,   4.4273,   32.14,2
740H20090307,       A095,      82,          1,         17,         17,2,20090408,       2334,  -23.68355,   -7.41754,       4902,   629.7,   5.8413,  34.4026,  34.4039,2,    194.1,   193.5,2,   21.21,2,    1.92,2,  2181.4,2,  2294.5,2,   5.7866,   28.91,2
740H20090307,       A095,      82,          1,         18,         18,2,20090408,       2334,  -23.68355,   -7.41754,       4902,   504.9,   8.3263,  34.6130,  34.6130,2,    183.6,   183.6,2,   13.97,2,    1.61,2,  2166.2,2,  2297.1,2,   8.2733,   24.09,2
740H20090307,       A095,      82,          1,         19,         19,2,20090408,       2334,  -23.68355,   -7.41754,       4902,   379.7,  11.0437,  34.9190,  34.9180,2,    198.6,   198.2,2,    7.52,2,    1.09,2,  -999.0,9,  -999.0,9,  10.9964,   15.66,2
740H20090307,       A095,      82,          1,         20,         20,2,20090408,       2334,  -23.68355,   -7.41754,       4902,   254.0,  13.4569,  35.1822,  35.1808,2,    204.7,   203.8,2,    4.93,2,    0.71,2,  2115.1,2,  2318.1,2,  13.4211,    8.96,2
740H20090307,       A095,      82,          1,         21,         25,2,20090408,       2334,  -23.68355,   -7.41754,       4902,   179.0,  15.7834,  35.5162,  35.4997,2,    213.1,   211.5,2,    3.95,2,    0.43,2,  -999.0,9,  -999.0,9,  15.7552,    4.61,2
740H20090307,       A095,      82,          1,         22,         22,2,20090408,       2334,  -23.68355,   -7.41754,       4902,   103.6,  18.2714,  35.8528,  35.8547,2,    233.0,   233.7,3,    3.02,2,    0.14,2,  2076.4,2,  2357.9,2,  18.2534,   -0.06,2
740H20090307,       A095,      82,          1,         23,         23,3,20090408,       2334,  -23.68355,   -7.41754,       4902,    53.3,  23.1632,  36.3234,-999.0000,9,    221.3,  -999.0,9, -999.00,9, -999.00,9,  -999.0,9,  -999.0,9,  23.1522, -999.00,9
740H20090307,       A095,      82,          1,         24,         24,10,20090408,       2334,  -23.68355,   -7.41754,       4902,     8.4,  24.0646,  36.4475,  36.4522,2,    208.2,   207.7,2,    2.73,2,    0.14,2,  2088.7,2,  2399.6,2,  24.0628,   -0.13,2
740H20090307,       A095,      83,          1,          1,          1,2,20090409,       0846,  -23.99802,   -6.70186,       4882,  4959.9,   2.4701,  34.8837,  34.8830,2,    227.9,   228.0,2,   54.57,2,    1.56,2,  2215.9,2,  2355.8,2,   2.0069,   23.60,2
740H20090307,       A095,      83,          1,          2,          2,2,20090409,       0846,  -23.99802,   -6.70186,       4882,  4910.9,   2.4637,  34.8835,  34.8840,2,    228.1,   227.1,2,   54.28,2,    1.56,2,  2216.5,2,  2356.4,2,   2.0068,   22.77,2
740H20090307,       A095,      83,          1,          3,          3,2,20090409,       0846,  -23.99802,   -6.70186,       4882,  4309.6,   2.3919,  34.8837,  34.8837,2,    227.8,   228.0,2,   54.21,2,    1.56,2,  2215.8,2,  2354.4,2,   2.0107,   23.22,2
740H20090307,       A095,      83,          1,          4,          4,2,20090409,       0846,  -23.99802,   -6.70186,       4882,  4053.6,   2.3728,  34.8837,  34.8836,2,    227.8,   227.9,2,   54.06,2,    1.56,2,  2213.9,2,  2353.8,2,   2.0221,   23.34,2
740H20090307,       A095,      83,          1,          5,          5,2,20090409,       0846,  -23.99802,   -6.70186,       4882,  3798.5,   2.3624,  34.8834,  34.8838,2,    228.3,   231.9,2,   53.96,2,    1.57,2,  2211.9,2,  2347.6,2,   2.0409,   23.70,2
740H20090307,       A095,      83,          1,          6,          6,2,20090409,       0846,  -23.99802,   -6.70186,       4882,  3286.7,   2.3782,  34.8772,  34.8778,2,    231.2,   233.4,2,   52.48,2,    1.57,2,  2204.6,2,  2341.4,2,   2.1117,   23.44,2
740H20090307,       A095,      83,          1,          7,          7,2,20090409,       0846,  -23.99802,   -6.70186,       4882,  2779.2,   2.4421,  34.8700,  34.8700,2,    233.0,   229.9,2,   50.58,2,    1.57,2,  2195.6,2,  2337.5,2,   2.2258,   23.48,2
740H20090307,       A095,      83,          1,          8,          8,2,20090409,       0846,  -23.99802,   -6.70186,       4882,  2525.3,   2.4956,  34.8656,  34.8662,2,    231.4,  -999.0,9,   49.11,2,    1.58,2,  -999.0,9,  -999.0,9,   2.3028,   23.68,2
740H20090307,       A095,      83,          1,          9,          9,2,20090409,       0846,  -23.99802,   -6.70186,       4882,  2270.4,   2.5690,  34.8554,  34.8556,2,    227.5,   227.5,2,   48.93,2,    1.61,2,  2195.3,2,  2335.6,2,   2.3989,   24.38,2
740H20090307,       A095,      83,          1,         10,         10,2,20090409,       0846,  -23.99802,   -6.70186,       4882,  2018.0,   2.7137,  34.8424,  34.8427,2,    222.0,   222.7,2,   47.97,2,    1.66,2,  -999.0,9,  -999.0,9,   2.5642,   25.01,2
740H20090307,       A095,      83,          1,         11,         11,2,20090409,       0846,  -23.99802,   -6.70186,       4882,  1764.5,   3.0021,  34.8261,  34.8263,2,    215.2,   215.8,2,   42.93,2,    1.68,2,  2194.5,2,  2329.8,2,   2.8709,   24.96,2
740H20090307,       A095,      83,          1,         12,         12,2,20090409,       0846,  -23.99802,   -6.70186,       4882,  1511.6,   3.2649,  34.7774,  34.7778,2,    202.5,   202.5,2,   41.62,2,    1.80,2,  -999.0,9,  -999.0,9,   3.1525,   26.98,2
740H20090307,       A095,      83,          1,         13,         13,2,20090409,       0846,  -23.99802,   -6.70186,       4882,  1259.7,   3.4454,  34.6589,  34.6602,2,    184.8,   184.2,2,   44.19,2,    2.03,2,  2209.4,2,  2318.7,2,   3.3527,   30.15,2
740H20090307,       A095,      83,          1,         14,         14,2,20090409,       0846,  -23.99802,   -6.70186,       4882,  1007.0,   3.5954,  34.4886,  34.4891,2,    176.4,   176.8,2,   45.24,2,    2.23,2,  -999.0,9,  -999.0,9,   3.5223,   33.00,2
740H20090307,       A095,      83,          1,         15,         15,2,20090409,       0846,  -23.99802,   -6.70186,       4882,   881.8,   3.9058,  34.4064,  34.4054,2,    181.8,   182.2,2,   40.09,2,    2.23,2,  2212.5,2,    2303,2,   3.8407,   33.06,2
740H20090307,       A095,      83,          1,         16,         16,2,20090409,       0846,  -23.99802,   -6.70186,       4882,   755.6,   4.6497,  34.3636,  34.3641,2,    191.5,   191.8,2,   30.06,2,    2.10,2,  -999.0,9,  -999.0,9,   4.5903,   31.16,2
740H20090307,       A095,      83,          1,         17,         17,2,20090409,       0846,  -23.99802,   -6.70186,       4882,   629.3,   6.1601,  34.4261,  34.4285,2,    191.2,   190.6,2,   19.64,2,    1.89,2,  2178.4,2,  2292.7,2,   6.1039,   28.23,2
740H20090307,       A095,      83,          1,         18,         18,2,20090409,       0846,  -23.99802,   -6.70186,       4882,   503.5,   8.6053,  34.6413,  34.6443,2,    184.7,   185.7,2,   12.82,2,    1.53,2,  2162.5,2,  2293.8,2,   8.5514,   22.37,2
740H20090307,       A095,      83,          1,         19,         19,2,20090409,       0846,  -23.99802,   -6.70186,       4882,   378.6,  11.1216,  34.9242,  34.9223,2,    198.4,   198.2,2,    7.44,2,    1.08,2,  -999.0,9,  -999.0,9,  11.0742,   15.29,2
740H20090307,       A095,      83,          1,         20,         20,2,20090409,       0846,  -23.99802,   -6.70186,       4882,   253.9,  13.7033,  35.2088,  35.2845,2,    205.4,   206.9,2,    4.57,2,    0.62,2,  2112.8,2,    2323,2,  13.6669,    7.51,2
740H20090307,       A095,      83,          1,         21,         25,2,20090409,       0846,  -23.99802,   -6.70186,       4882,   123.3,  17.4501,  35.7799,  35.7924,2,    219.0,   219.0,2,    3.24,2,    0.23,2,  -999.0,9,  -999.0,9,  17.4293,    0.73,2
740H20090307,       A095,      83,          1,         22,         22,2,20090409,       0846,  -23.99802,   -6.70186,       4882,   103.9,  18.2830,  35.8565,  35.8540,2,    233.3,   231.5,2,    3.10,2,    0.16,2,  2080.7,2,  2360.6,2,  18.2649,   -0.07,2
740H20090307,       A095,      83,          1,         23,         23,2,20090409,       0846,  -23.99802,   -6.70186,       4882,    52.3,  23.2253,  36.4104,  36.4310,2,    217.1,   213.9,2,    2.75,2,    0.15,2,  -999.0,9,  -999.0,9,  23.2145,   -0.13,2
740H20090307,       A095,      83,          1,         24,         24,2,20090409,       0846,  -23.99802,   -6.70186,       4882,     8.1,  24.0792,  36.5588,  36.5644,2,    210.7,   207.3,2,    1.71,2,    0.16,2,  2091.2,2,    2406,2,  24.0775,   -0.04,2
740H20090307,       A095,      84,          1,          1,          1,2,20090409,       1739,  -23.99983,   -5.89243,       4614,  4685.9,   2.4354,  34.8835,  34.8838,2,    227.1,   228.2,2,   55.29,2,    1.56,2,  2211.5,2,  2357.7,2,   2.0075,   23.72,2
740H20090307,       A095,      84,          1,          2,          2,2,20090409,       1739,  -23.99983,   -5.89243,       4614,  4634.0,   2.4287,  34.8836,  34.8843,2,    227.7,   228.0,2,   54.69,2,    1.57,2,  -999.0,9,  -999.0,9,   2.0074,   23.74,2
740H20090307,       A095,      84,          1,          3,          3,2,20090409,       1739,  -23.99983,   -5.89243,       4614,  4635.4,   2.4288,  34.8834,  34.8839,2,    227.8,   228.0,2,   54.76,2,    1.56,2,  2212.4,2,    2361,2,   2.0073,   23.27,2
740H20090307,       A095,      84,          1,          4,          4,2,20090409,       1739,  -23.99983,   -5.89243,       4614,  4051.7,   2.3685,  34.8836,  34.8835,2,    227.8,   228.5,2,   54.45,2,    1.57,2,  2212.8,2,  2355.5,2,   2.0181,   23.50,2
740H20090307,       A095,      84,          1,          5,          5,2,20090409,       1739,  -23.99983,   -5.89243,       4614,  3540.3,   2.3588,  34.8816,  34.8821,2,    229.1,   229.9,2,   53.81,2,    1.58,2,  2208.3,2,  2351.3,2,   2.0657,   23.56,2
740H20090307,       A095,      84,          1,          6,          6,2,20090409,       1739,  -23.99983,   -5.89243,       4614,  3028.8,   2.4008,  34.8746,  34.8744,2,    232.5,   232.6,2,   52.07,2,    1.57,2,  2200.5,2,    2342,2,   2.1604,   23.69,2
740H20090307,       A095,      84,          1,          7,          7,2,20090409,       1739,  -23.99983,   -5.89243,       4614,  2523.2,   2.5084,  34.8660,  34.8661,2,    231.5,   232.4,2,   49.38,2,    1.58,2,  2194.3,3,  2334.6,2,   2.3156,   23.65,2
740H20090307,       A095,      84,          1,          8,          8,2,20090409,       1739,  -23.99983,   -5.89243,       4614,  2268.7,   2.5911,  34.8582,  34.8581,2,    228.3,   228.4,2,   48.59,2,    1.61,2,  -999.0,9,  -999.0,9,   2.4207,   24.13,2
740H20090307,       A095,      84,          1,          9,          9,2,20090409,       1739,  -23.99983,   -5.89243,       4614,  2015.9,   2.6967,  34.8440,  34.8436,2,    222.7,   223.1,2,   48.57,2,    1.66,2,  2199.3,2,  2335.4,2,   2.5476,   25.03,2
740H20090307,       A095,      84,          1,         10,         10,2,20090409,       1739,  -23.99983,   -5.89243,       4614,  1763.0,   2.9570,  34.8261,  34.8267,2,    215.6,   216.0,2,   45.32,2,    1.70,2,  -999.0,9,  -999.0,9,   2.8265,   25.55,2
740H20090307,       A095,      84,          1,         11,         11,2,20090409,       1739,  -23.99983,   -5.89243,       4614,  1509.6,   3.3350,  34.7870,  34.7873,2,    202.5,   203.3,2,   41.09,2,    1.81,2,  2201.1,2,  2323.6,2,   3.2220,   26.98,2
740H20090307,       A095,      84,          1,         12,         12,2,20090409,       1739,  -23.99983,   -5.89243,       4614,  1257.5,   3.4174,  34.6692,  34.6694,2,    183.1,   182.9,2,   45.87,2,    2.06,2,  -999.0,9,  -999.0,9,   3.3251,   30.74,2
740H20090307,       A095,      84,          1,         13,         13,2,20090409,       1739,  -23.99983,   -5.89243,       4614,  1005.3,   3.5493,  34.4866,  34.4857,2,    173.9,   174.4,2,   48.30,2,    2.28,2,  2222.1,2,  2316.3,2,   3.4768,   34.06,2
740H20090307,       A095,      84,          1,         14,         14,2,20090409,       1739,  -23.99983,   -5.89243,       4614,   879.0,   3.9645,  34.4157,  34.4145,2,    174.8,   175.7,2,   41.08,2,    2.29,2,  -999.0,9,  -999.0,9,   3.8992,   34.10,2
740H20090307,       A095,      84,          1,         15,         15,2,20090409,       1739,  -23.99983,   -5.89243,       4614,   752.6,   4.7306,  34.3716,  34.3719,2,    185.8,   187.0,2,   29.69,2,    2.15,2,  2195.3,2,    2298,2,   4.6709,   32.38,2
740H20090307,       A095,      84,          1,         16,         16,2,20090409,       1739,  -23.99983,   -5.89243,       4614,   627.8,   5.8761,  34.4031,  34.4033,2,    192.0,   194.0,2,   20.87,2,    1.94,2,    2179,2,  2290.9,2,   5.8214,   29.27,2
740H20090307,       A095,      84,          1,         17,         17,2,20090409,       1739,  -23.99983,   -5.89243,       4614,   503.7,   8.1854,  34.5989,  34.5997,2,    184.7,   184.7,2,   14.18,2,    1.63,2,  2165.4,2,    2293,2,   8.1331,   24.32,2
740H20090307,       A095,      84,          1,         18,         18,3,20090409,       1739,  -23.99983,   -5.89243,       4614,   377.6,  11.0356,  34.9171,-999.0000,9,    197.1,  -999.0,9, -999.00,9, -999.00,9,  -999.0,9,  -999.0,9,  10.9886, -999.00,9
740H20090307,       A095,      84,          1,         19,         19,2,20090409,       1739,  -23.99983,   -5.89243,       4614,   251.4,  13.7932,  35.2224,  35.2314,2,    205.4,   206.6,2,    4.70,2,    0.64,2,  -999.0,9,  -999.0,9,  13.7571,    8.25,2
740H20090307,       A095,      84,          1,         20,         20,2,20090409,       1739,  -23.99983,   -5.89243,       4614,   177.6,  15.7124,  35.5014,  35.5056,2,    212.3,   212.5,2,    3.95,2,    0.43,2,  2096.4,2,  2290.4,3,  15.6845,    4.61,2
740H20090307,       A095,      84,          1,         21,         25,2,20090409,       1739,  -23.99983,   -5.89243,       4614,   102.2,  17.5804,  35.7431,  35.7461,2,    232.0,   230.9,2,    3.12,2,    0.18,2,  -999.0,9,  -999.0,9,  17.5631,    0.12,2
740H20090307,       A095,      84,          1,         22,         22,2,20090409,       1739,  -23.99983,   -5.89243,       4614,    77.1,  19.8372,  35.9339,  35.9317,2,    238.1,   238.6,2,    2.98,2,    0.13,2,  2071.5,2,  2360.6,2,  19.8230,    0.14,2
740H20090307,       A095,      84,          1,         23,         23,2,20090409,       1739,  -23.99983,   -5.89243,       4614,    52.1,  23.7889,  36.5045,  36.5110,2,    213.8,   209.4,2,    2.71,2,    0.14,2,  2092.8,2,  2405.4,2,  23.7779,   -0.08,2
740H20090307,       A095,      84,          1,         24,         24,2,20090409,       1739,  -23.99983,   -5.89243,       4614,     7.5,  23.9389,  36.5298,  36.5348,2,    208.5,   208.4,2,    2.57,2,    0.14,2,  2092.8,2,  2405.2,2,  23.9374,   -0.08,2