BOTTLE,20211101CCHSIORKP
EXPOCODE,SECT_ID,STNNBR,CASTNO,SAMPNO,BTLNBR,BTLNBR_FLAG_W,DATE,TIME,LATITUDE,LONGITUDE,DEPTH,CTDPRS,CTDTMP,CTDSAL,SALNTY,SALNTY_FLAG_W,CTDOXY,OXYGEN,OXYGEN_FLAG_W,SILCAT,SILCAT_FLAG_W,PHSPHT,PHSPHT_FLAG_W,TCARBN,TCARBN_FLAG_W,ALKALI,ALKALI_FLAG_W,THETA,NO2+NO3,NO2+NO3_FLAG_W
,,,,,,,,,,,METERS,DBAR,ITS-90,PSS-78,PSS-78,,UMOL/KG,UMOL/KG,,UMOL/KG,,UMOL/KG,,UMOL/KG,,UMOL/KG,,DEG C,UMOL/KG,
740H20090307,       A095,      12,          1,          1,          1,2,20090313,       2333,  -26.79235,  -43.96759,       2584,  2604.4,   2.6180,  34.9084,  34.9085,2,    242.4,   242.0,2,   39.18,2,    1.42,2,  2189.7,2,  2331.3,2,   2.4152,   21.52,2
740H20090307,       A095,      12,          1,          3,          3,2,20090313,       2333,  -26.79235,  -43.96759,       2584,  2554.4,   2.7546,  34.9185,  34.9183,2,    243.4,   243.6,2,   35.24,2,    1.39,2,  2186.8,2,  2330.7,2,   2.5539,   21.04,2
740H20090307,       A095,      12,          1,          4,          4,2,20090313,       2333,  -26.79235,  -43.96759,       2584,  2273.4,   3.2909,  34.9443,  34.9440,2,    242.4,   241.9,2,   26.82,2,    1.35,2,  -999.0,9,  -999.0,9,   3.1080,   20.53,2
740H20090307,       A095,      12,          1,          6,          6,2,20090313,       2333,  -26.79235,  -43.96759,       2584,  2019.0,   3.7665,  34.9483,  34.9477,2,    234.1,   233.4,2,   22.85,2,    1.40,2,  2178.9,2,  2319.8,2,   3.6007,   21.04,2
740H20090307,       A095,      12,          1,          7,          7,2,20090313,       2333,  -26.79235,  -43.96759,       2584,  1765.0,   3.9397,  34.8922,  34.8929,2,    214.5,   214.1,2,   27.03,2,    1.58,2,  -999.0,9,  -999.0,9,   3.7959,   23.80,2
740H20090307,       A095,      12,          1,          8,          8,2,20090313,       2333,  -26.79235,  -43.96759,       2584,  1511.2,   3.6525,  34.7140,  34.7156,2,    190.4,   189.9,2,   39.85,2,    1.95,2,  2213.7,2,  2320.5,2,   3.5359,   29.06,2
740H20090307,       A095,      12,          1,          9,          9,2,20090313,       2333,  -26.79235,  -43.96759,       2584,  1257.5,   3.4094,  34.4925,  34.4923,2,    184.5,   183.8,2,   47.09,2,    2.22,2,  -999.0,9,  -999.0,9,   3.3175,   32.94,2
740H20090307,       A095,      12,          1,         10,         10,2,20090313,       2333,  -26.79235,  -43.96759,       2584,  1005.2,   4.2135,  34.3709,  34.3715,2,    192.4,   191.9,2,   34.19,2,    2.17,2,  2206.4,2,  2298.5,2,   4.1360,   32.07,2
740H20090307,       A095,      12,          1,         12,         12,2,20090313,       2333,  -26.79235,  -43.96759,       2584,   878.4,   5.1548,  34.3678,  34.3686,2,    200.3,   199.2,2,   23.68,2,    1.98,2,  -999.0,9,  -999.0,9,   5.0815,   29.30,2
740H20090307,       A095,      12,          1,         14,         14,2,20090313,       2333,  -26.79235,  -43.96759,       2584,   753.0,   6.7172,  34.4598,  34.4578,2,    203.4,   199.5,2,   15.72,2,    1.76,2,  2174.8,2,  2261.7,3,   6.6461,   25.97,2
740H20090307,       A095,      12,          1,         15,         15,2,20090313,       2333,  -26.79235,  -43.96759,       2584,   626.5,   8.8177,  34.6646,  34.6652,2,    195.6,   196.0,2,   10.34,2,    1.43,2,  -999.0,9,  -999.0,9,   8.7491,   20.68,2
740H20090307,       A095,      12,          1,         16,         16,2,20090313,       2333,  -26.79235,  -43.96759,       2584,   500.8,  11.5178,  35.0006,  35.0000,2,    195.2,   195.9,2,    6.28,2,    1.02,2,  2141.4,2,  2309.2,2,  11.4534,   14.33,2
740H20090307,       A095,      12,          1,         17,         17,2,20090313,       2333,  -26.79235,  -43.96759,       2584,   375.1,  14.1193,  35.3912,  35.3888,2,    202.2,   201.1,2,    3.92,2,    0.62,2,  -999.0,9,  -999.0,9,  14.0643,    8.05,2
740H20090307,       A095,      12,          1,         18,         18,2,20090313,       2333,  -26.79235,  -43.96759,       2584,   250.6,  16.6418,  35.7559,  35.7541,2,    198.7,   198.0,2,    3.01,2,    0.37,2,  2115.3,2,  2352.5,2,  16.6008,    4.01,2
740H20090307,       A095,      12,          1,         19,         19,2,20090313,       2333,  -26.79235,  -43.96759,       2584,   175.0,  19.5184,  36.2913,  36.2909,2,    201.5,   202.1,2,    2.24,2,    0.16,2,  -999.0,9,  -999.0,9,  19.4864,    1.41,2
740H20090307,       A095,      12,          1,         20,         20,2,20090313,       2333,  -26.79235,  -43.96759,       2584,   100.0,  21.5706,  36.7402,  36.7419,2,    208.0,   206.6,2,    2.12,2,    0.04,2,  2104.7,2,  2384.6,3,  21.5509,    0.05,2
740H20090307,       A095,      12,          1,         21,         21,2,20090313,       2333,  -26.79235,  -43.96759,       2584,    75.3,  21.9542,  36.7512,  36.7477,2,    215.3,   213.5,2,    2.10,2,    0.01,2,  -999.0,9,  -999.0,9,  21.9393,    0.00,2
740H20090307,       A095,      12,          1,         22,         22,2,20090313,       2333,  -26.79235,  -43.96759,       2584,    49.0,  23.5620,  36.8466,  36.8414,2,    219.4,   219.4,2,    2.09,2,   -0.02,2,  2081.7,2,  2415.4,2,  23.5518,    0.00,2
740H20090307,       A095,      12,          1,         23,         23,2,20090313,       2333,  -26.79235,  -43.96759,       2584,    24.4,  26.1952,  36.7183,  36.7348,2,    200.6,   204.0,2,    2.16,2,   -0.01,2,  -999.0,9,  -999.0,9,  26.1897,    0.01,2
740H20090307,       A095,      12,          1,         24,         24,2,20090313,       2333,  -26.79235,  -43.96759,       2584,     4.5,  26.5339,  36.7499,  36.7463,2,    198.3,   197.1,2,    2.10,2,   -0.02,2,  2070.1,3,  2411.7,2,  26.5328,    0.02,2
740H20090307,       A095,      13,          1,          1,          1,2,20090314,       0431,  -26.48219,  -43.96584,       2533,  2552.0,   2.7141,  34.9149,  34.9150,2,    242.6,   243.0,2,   36.47,2,    1.39,2,  2182.1,2,  2317.8,3,   2.5145,   21.06,2
740H20090307,       A095,      13,          1,          3,          3,2,20090314,       0431,  -26.48219,  -43.96584,       2533,  2499.7,   2.7528,  34.9182,  34.9179,2,    243.1,   242.9,2,   34.98,2,    1.38,2,  2180.8,2,  2325.4,2,   2.5575,   21.04,2
740H20090307,       A095,      13,          1,          5,          5,2,20090314,       0431,  -26.48219,  -43.96584,       2533,  2275.3,   3.1842,  34.9416,  34.9416,2,    243.4,   243.6,2,   27.62,2,    1.33,2,  2175.7,2,  2318.1,2,   3.0029,   20.34,2
740H20090307,       A095,      13,          1,          6,          6,2,20090314,       0431,  -26.48219,  -43.96584,       2533,  2020.9,   3.8128,  34.9401,  34.9401,2,    230.5,   229.3,2,   23.34,2,    1.41,2,  2177.9,2,  2312.7,2,   3.6461,   21.57,2
740H20090307,       A095,      13,          1,          7,          7,2,20090314,       0431,  -26.48219,  -43.96584,       2533,  1767.0,   3.9924,  34.8837,  34.8839,2,    211.5,   211.5,2,   26.81,2,    1.59,2,  2189.9,2,  2317.1,2,   3.8477,   24.50,2
740H20090307,       A095,      13,          1,          8,          8,2,20090314,       0431,  -26.48219,  -43.96584,       2533,  1512.8,   3.7827,  34.7348,  34.7372,2,    191.0,   191.3,2,   36.54,2,    1.90,2,  2207.5,2,  2314.7,2,   3.6644,   28.32,2
740H20090307,       A095,      13,          1,          9,          9,2,20090314,       0431,  -26.48219,  -43.96584,       2533,  1260.3,   3.3571,  34.5067,  34.5057,2,    184.2,   182.2,2,   47.66,2,    2.19,2,  2225.2,2,  2312.4,2,   3.2655,   32.72,2
740H20090307,       A095,      13,          1,         10,         10,2,20090314,       0431,  -26.48219,  -43.96584,       2533,  1008.0,   4.1484,  34.3655,  34.3650,2,    194.4,   194.5,9,   33.81,2,    2.15,2,  2207.5,2,  2300.8,2,   4.0712,   31.93,2
740H20090307,       A095,      13,          1,         12,         12,2,20090314,       0431,  -26.48219,  -43.96584,       2533,   881.4,   4.8175,  34.3220,  34.3222,2,    213.3,   211.6,2,   23.24,2,    1.95,2,  2183.5,2,  2291.8,2,   4.7463,   29.30,2
740H20090307,       A095,      13,          1,         14,         14,2,20090314,       0431,  -26.48219,  -43.96584,       2533,   754.8,   6.4094,  34.4238,  34.4245,2,    206.4,   206.4,2,   15.59,2,    1.76,2,    2172,2,  2287.6,2,   6.3399,   26.15,2
740H20090307,       A095,      13,          1,         15,         15,2,20090314,       0431,  -26.48219,  -43.96584,       2533,   629.1,   8.8509,  34.6675,  34.6674,2,    195.8,   196.7,2,   10.23,2,    1.42,2,  2158.2,2,  2293.2,2,   8.7818,   20.75,2
740H20090307,       A095,      13,          1,         16,         16,2,20090314,       0431,  -26.48219,  -43.96584,       2533,   502.8,  11.6234,  35.0162,  35.0165,2,    196.9,   197.6,2,    6.12,2,    0.99,2,  -999.0,9,  -999.0,9,  11.5583,   14.01,2
740H20090307,       A095,      13,          1,         17,         17,2,20090314,       0431,  -26.48219,  -43.96584,       2533,   377.1,  14.2486,  35.4100,  35.4093,2,    202.5,   202.5,2,    3.87,2,    0.61,2,  -999.0,9,  -999.0,9,  14.1929,    7.91,2
740H20090307,       A095,      13,          1,         18,         18,2,20090314,       0431,  -26.48219,  -43.96584,       2533,   251.5,  16.3872,  35.6981,  35.6976,2,    202.3,   201.6,2,    2.96,2,    0.37,2,  -999.0,9,  -999.0,9,  16.3465,    4.05,2
740H20090307,       A095,      13,          1,         19,         19,2,20090314,       0431,  -26.48219,  -43.96584,       2533,   176.4,  18.6885,  36.1226,  36.1245,2,    201.4,   203.3,2,    2.37,2,    0.19,2,  -999.0,9,  -999.0,9,  18.6572,    1.75,2
740H20090307,       A095,      13,          1,         20,         20,2,20090314,       0431,  -26.48219,  -43.96584,       2533,   101.0,  21.1072,  36.5649,  36.5582,2,    209.4,   210.6,2,    2.09,2,    0.03,2,  -999.0,9,  -999.0,9,  21.0877,    0.14,2
740H20090307,       A095,      13,          1,         21,         21,2,20090314,       0431,  -26.48219,  -43.96584,       2533,    75.5,  21.6155,  36.6049,  36.6021,2,    218.5,   216.9,2,    2.11,2,    0.00,2,  2085.8,2,  2398.8,2,  21.6006,    0.10,2
740H20090307,       A095,      13,          1,         22,         22,2,20090314,       0431,  -26.48219,  -43.96584,       2533,    50.6,  22.7587,  36.7001,  36.6936,2,    224.0,   223.5,2,    2.13,2,   -0.01,2,  -999.0,9,  -999.0,9,  22.7483,    0.09,2
740H20090307,       A095,      13,          1,         23,         23,2,20090314,       0431,  -26.48219,  -43.96584,       2533,    25.4,  26.1603,  36.7561,  36.7586,2,    202.4,   204.9,2,    2.18,2,   -0.02,2,    2075,2,  2406.2,2,  26.1546,    0.11,2
740H20090307,       A095,      13,          1,         24,         24,2,20090314,       0431,  -26.48219,  -43.96584,       2533,     5.8,  26.4909,  36.7405,  36.7420,2,    198.0,   197.6,2,    2.12,2,   -0.01,2,  -999.0,9,  -999.0,9,  26.4896,    0.11,2
740H20090307,       A095,      14,          1,          1,          1,2,20090314,       0911,  -26.25616,  -44.09160,       2354,  2377.9,   2.9150,  34.9268,  34.9271,2,    241.9,   239.2,3,   33.90,3,    1.42,3,    2174,2,  2336.8,2,   2.7285,   21.86,3
740H20090307,       A095,      14,          1,          3,          3,2,20090314,       0911,  -26.25616,  -44.09160,       2354,  2327.0,   3.0702,  34.9341,  34.9344,2,    242.1,   242.6,2,   31.08,3,    1.40,3,  -999.0,9,  -999.0,9,   2.8859,   21.66,3
740H20090307,       A095,      14,          1,          5,          5,2,20090314,       0911,  -26.25616,  -44.09160,       2354,  2019.5,   3.7921,  34.9438,  34.9444,2,    232.2,   232.9,2,   24.03,3,    1.45,3,  2171.9,2,  2324.5,2,   3.6258,   22.92,3
740H20090307,       A095,      14,          1,          6,          6,2,20090314,       0911,  -26.25616,  -44.09160,       2354,  1765.4,   3.9743,  34.8811,  34.8830,2,    211.6,   211.0,2,   28.23,3,    1.65,3,  -999.0,9,  -999.0,9,   3.8300,   25.07,3
740H20090307,       A095,      14,          1,          7,          7,2,20090314,       0911,  -26.25616,  -44.09160,       2354,  1512.3,   3.7054,  34.7229,  34.7244,2,    191.2,   190.9,2,   39.78,3,    1.99,3,  2205.1,2,  2323.8,2,   3.5881,   30.00,3
740H20090307,       A095,      14,          1,          8,          8,2,20090314,       0911,  -26.25616,  -44.09160,       2354,  1259.2,   3.4912,  34.5270,  34.5268,2,    183.3,   182.7,2,   47.29,3,    2.27,3,  -999.0,9,  -999.0,9,   3.3984,   34.20,3
740H20090307,       A095,      14,          1,          9,          9,2,20090314,       0911,  -26.25616,  -44.09160,       2354,  1006.6,   4.0271,  34.3702,  34.3705,2,    193.9,   193.4,2,   37.35,3,    2.26,3,  2200.2,2,  2306.6,2,   3.9509,   33.41,3
740H20090307,       A095,      14,          1,         11,         11,2,20090314,       0911,  -26.25616,  -44.09160,       2354,   880.4,   4.8579,  34.3542,  34.3522,2,    201.8,   201.8,2,   26.84,3,    2.10,3,  -999.0,9,  -999.0,9,   4.7865,   31.88,3
740H20090307,       A095,      14,          1,         12,         12,2,20090314,       0911,  -26.25616,  -44.09160,       2354,   754.6,   6.2875,  34.4185,  34.4186,2,    205.7,   205.4,2,   17.35,3,    1.91,3,  2167.1,2,  2292.3,2,   6.2187,   28.26,3
740H20090307,       A095,      14,          1,         13,         13,2,20090314,       0911,  -26.25616,  -44.09160,       2354,   628.8,   8.7692,  34.6674,  34.6673,2,    188.6,   186.8,2,   12.06,3,    1.55,3,  -999.0,9,  -999.0,9,   8.7005,   23.02,3
740H20090307,       A095,      14,          1,         14,         14,2,20090314,       0911,  -26.25616,  -44.09160,       2354,   502.6,  11.2871,  34.9712,  34.9717,2,    197.4,   197.3,3,    6.94,3,    1.10,3,  2131.7,2,  2311.2,2,  11.2233,   15.68,3
740H20090307,       A095,      14,          1,         16,         16,2,20090314,       0911,  -26.25616,  -44.09160,       2354,   377.3,  14.0753,  35.3777,  35.3726,2,    202.6,   202.1,2,    4.20,3,    0.67,3,  -999.0,9,  -999.0,9,  14.0201,    9.03,3
740H20090307,       A095,      14,          1,         17,         17,2,20090314,       0911,  -26.25616,  -44.09160,       2354,   251.2,  16.9622,  35.9146,  35.9127,2,    208.3,   202.8,2,    2.79,3,    0.31,3,  2096.9,2,  2366.3,2,  16.9205,    3.55,3
740H20090307,       A095,      14,          1,         18,         18,2,20090314,       0911,  -26.25616,  -44.09160,       2354,   176.1,  18.5395,  36.0858,  36.0830,2,    201.6,   208.1,2,    2.41,3,    0.20,3,  -999.0,9,  -999.0,9,  18.5084,    2.04,3
740H20090307,       A095,      14,          1,         19,         19,2,20090314,       0911,  -26.25616,  -44.09160,       2354,   100.3,  21.1773,  36.6207,  36.6182,2,    208.8,   208.6,2,    2.11,3,    0.04,3,  2087.5,2,  2408.8,2,  21.1578,    0.28,3
740H20090307,       A095,      14,          1,         21,         21,2,20090314,       0911,  -26.25616,  -44.09160,       2354,    75.4,  21.7818,  36.6331,  36.6269,2,    218.7,   216.6,2,    2.10,3,    0.00,3,  -999.0,9,  -999.0,9,  21.7669,    0.28,3
740H20090307,       A095,      14,          1,         22,         22,2,20090314,       0911,  -26.25616,  -44.09160,       2354,    50.5,  23.0202,  36.6725,  36.6776,2,    224.6,   225.7,2,    2.11,3,   -0.01,3,  2068.1,2,  2406.1,2,  23.0099,    0.25,3
740H20090307,       A095,      14,          1,         23,         23,2,20090314,       0911,  -26.25616,  -44.09160,       2354,    26.4,  26.4426,  36.7380,  36.7767,2,    199.0,   200.4,2,    2.11,3,   -0.01,3,  -999.0,9,  -999.0,9,  26.4366,    0.23,3
740H20090307,       A095,      14,          1,         24,         24,2,20090314,       0911,  -26.25616,  -44.09160,       2354,     5.4,  26.5450,  36.6901,  36.6907,2,    197.2,   195.2,4,    2.06,3,   -0.01,3,  2058.8,2,  2409.2,2,  26.5438,    0.23,3