BOTTLE,20211101CCHSIORKP
EXPOCODE,SECT_ID,STNNBR,CASTNO,SAMPNO,BTLNBR,BTLNBR_FLAG_W,DATE,TIME,LATITUDE,LONGITUDE,DEPTH,CTDPRS,CTDTMP,CTDSAL,SALNTY,SALNTY_FLAG_W,CTDOXY,OXYGEN,OXYGEN_FLAG_W,SILCAT,SILCAT_FLAG_W,PHSPHT,PHSPHT_FLAG_W,TCARBN,TCARBN_FLAG_W,ALKALI,ALKALI_FLAG_W,THETA,NO2+NO3,NO2+NO3_FLAG_W
,,,,,,,,,,,METERS,DBAR,ITS-90,PSS-78,PSS-78,,UMOL/KG,UMOL/KG,,UMOL/KG,,UMOL/KG,,UMOL/KG,,UMOL/KG,,DEG C,UMOL/KG,
740H20090307,       A095,      88,          1,          1,          1,2,20090411,       0844,  -23.99724,   -2.42122,       5032,  5115.0,   2.4596,  34.8818,  34.8823,2,    227.7,   226.9,2,   55.24,2,    1.58,2,  2215.4,2,  2363.7,2,   1.9770,   26.06,2
740H20090307,       A095,      88,          1,          2,          2,2,20090411,       0844,  -23.99724,   -2.42122,       5032,  5063.3,   2.4530,  34.8819,  34.8821,2,    228.4,   226.9,2,   54.77,2,    1.56,2,  2218.4,2,  2365.4,2,   1.9772,   23.72,2
740H20090307,       A095,      88,          1,          3,          3,2,20090411,       0844,  -23.99724,   -2.42122,       5032,  5064.7,   2.4533,  34.8819,  34.8823,2,    228.1,   227.1,2,   54.71,2,    1.56,2,  -999.0,9,  -999.0,9,   1.9773,   23.97,2
740H20090307,       A095,      88,          1,          4,          4,2,20090411,       0844,  -23.99724,   -2.42122,       5032,  4565.6,   2.4086,  34.8833,  34.8836,2,    227.7,   226.9,2,   54.45,2,    1.57,2,  2217.7,2,  2358.5,2,   1.9963,   23.99,2
740H20090307,       A095,      88,          1,          5,          5,2,20090411,       0844,  -23.99724,   -2.42122,       5032,  4053.0,   2.3708,  34.8840,  34.8843,2,    227.5,   226.8,2,   54.16,2,    1.56,2,  2216.2,2,  2357.7,2,   2.0202,   23.89,2
740H20090307,       A095,      88,          1,          6,          6,2,20090411,       0844,  -23.99724,   -2.42122,       5032,  3539.8,   2.3720,  34.8804,  34.8805,2,    228.9,   228.0,2,   53.27,2,    1.57,2,  2212.6,2,  2350.4,2,   2.0786,   23.85,2
740H20090307,       A095,      88,          1,          7,          7,2,20090411,       0844,  -23.99724,   -2.42122,       5032,  3030.5,   2.4240,  34.8719,  34.8720,2,    232.7,   232.3,2,   51.01,2,    1.57,2,  2203.1,2,  2339.5,2,   2.1829,   23.80,2
740H20090307,       A095,      88,          1,          8,          8,2,20090411,       0844,  -23.99724,   -2.42122,       5032,  2523.1,   2.5609,  34.8670,  34.8676,2,    230.8,   230.3,2,   47.98,2,    1.58,2,  2201.6,3,  2334.4,2,   2.3671,   23.34,2
740H20090307,       A095,      88,          1,          9,          9,2,20090411,       0844,  -23.99724,   -2.42122,       5032,  2268.4,   2.7349,  34.8721,  34.8727,2,    229.8,   229.6,2,   43.95,2,    1.57,2,  -999.0,9,  -999.0,9,   2.5621,   23.90,2
740H20090307,       A095,      88,          1,         10,         10,2,20090411,       0844,  -23.99724,   -2.42122,       5032,  2013.8,   2.9356,  34.8700,  34.8703,2,    226.5,   226.5,2,   40.50,2,    1.57,2,  2188.1,2,  2328.2,2,   2.7829,   23.90,2
740H20090307,       A095,      88,          1,         11,         11,2,20090411,       0844,  -23.99724,   -2.42122,       5032,  1763.3,   3.2094,  34.8609,  34.8368,2,    219.8,   214.1,2,   37.69,2,    1.68,2,  -999.0,9,  -999.0,9,   3.0755,   25.41,2
740H20090307,       A095,      88,          1,         12,         12,2,20090411,       0844,  -23.99724,   -2.42122,       5032,  1510.0,   3.4145,  34.7955,  34.7951,2,    202.5,   202.1,2,   38.58,2,    1.80,2,  2204.6,2,  2315.6,2,   3.3005,   27.31,2
740H20090307,       A095,      88,          1,         13,         13,2,20090411,       0844,  -23.99724,   -2.42122,       5032,  1258.6,   3.5293,  34.6898,  34.6906,2,    185.9,   186.0,2,   41.74,2,    1.99,2,  -999.0,9,  -999.0,9,   3.4358,   29.92,2
740H20090307,       A095,      88,          1,         14,         14,2,20090411,       0844,  -23.99724,   -2.42122,       5032,  1005.9,   3.5801,  34.5214,  34.5214,2,    175.3,   175.4,2,   45.11,2,    2.22,2,  2216.3,2,  2311.6,2,   3.5072,   32.84,2
740H20090307,       A095,      88,          1,         15,         15,2,20090411,       0844,  -23.99724,   -2.42122,       5032,   879.4,   3.7330,  34.4416,  34.4433,2,    175.0,   175.1,2,   44.63,2,    2.28,2,  -999.0,9,  -999.0,9,   3.6692,   34.24,2
740H20090307,       A095,      88,          1,         16,         16,2,20090411,       0844,  -23.99724,   -2.42122,       5032,   753.2,   4.4377,  34.3797,  34.3797,2,    181.5,   181.7,2,   33.18,2,    2.19,2,  2202.8,2,    2297,2,   4.3797,   33.11,2
740H20090307,       A095,      88,          1,         17,         17,2,20090411,       0844,  -23.99724,   -2.42122,       5032,   628.6,   5.5055,  34.3889,  34.3904,2,    189.8,   189.1,2,   23.34,2,    2.00,2,  2186.8,2,  2289.1,2,   5.4525,   30.38,2
740H20090307,       A095,      88,          1,         18,         18,2,20090411,       0844,  -23.99724,   -2.42122,       5032,   503.3,   7.8824,  34.5683,  34.5668,2,    186.2,   186.6,2,   14.96,2,    1.66,2,  -999.0,9,  -999.0,9,   7.8312,   24.98,2
740H20090307,       A095,      88,          1,         19,         19,2,20090411,       0844,  -23.99724,   -2.42122,       5032,   377.6,  10.6789,  34.8757,  34.8811,2,    192.0,   185.5,2,    8.64,2,    1.22,2,  2145.1,2,    2297,2,  10.6329,   17.61,2
740H20090307,       A095,      88,          1,         20,         20,2,20090411,       0844,  -23.99724,   -2.42122,       5032,   251.9,  12.9908,  35.1281,  35.1277,2,    181.5,   181.0,2,    6.23,2,    0.95,2,  -999.0,9,  -999.0,9,  12.9560,   13.29,2
740H20090307,       A095,      88,          1,         21,         25,2,20090411,       0844,  -23.99724,   -2.42122,       5032,   177.8,  14.9749,  35.3731,  35.3660,2,    200.1,   200.3,2,    4.56,2,    0.59,2,  -999.0,9,  -999.0,9,  14.9479,    7.17,2
740H20090307,       A095,      88,          1,         22,         22,2,20090411,       0844,  -23.99724,   -2.42122,       5032,   100.8,  18.0454,  35.7124,  35.7194,2,    227.1,   224.9,2,    3.00,2,    0.28,2,  -999.0,9,  -999.0,9,  18.0280,    1.22,2
740H20090307,       A095,      88,          1,         23,         23,2,20090411,       0844,  -23.99724,   -2.42122,       5032,    52.9,  22.8617,  36.1690,  36.1460,2,    213.7,   214.2,2,    2.75,2,    0.17,2,  2078.2,2,  2375.9,2,  22.8509,   -0.12,2
740H20090307,       A095,      88,          1,         24,         24,2,20090411,       0844,  -23.99724,   -2.42122,       5032,     7.6,  22.8972,  36.1722,  36.1778,2,    212.2,   210.9,2,    2.63,2,    0.18,2,    2080,2,  2379.6,2,  22.8956,   -0.15,2
740H20090307,       A095,      89,          1,          1,          1,2,20090411,       1911,  -24.00141,   -1.53572,       5283,  5371.1,   2.4969,  34.8813,  34.8836,2,    225.2,   227.3,2,   54.53,2,    1.56,2,  2211.1,3,  2364.6,2,   1.9797,   23.57,2
740H20090307,       A095,      89,          1,          2,          2,2,20090411,       1911,  -24.00141,   -1.53572,       5283,  5321.1,   2.4909,  34.8815,  34.8820,2,    225.7,   227.4,2,   54.37,2,    1.55,2,  2212.4,2,  2364.2,2,   1.9805,   23.41,2
740H20090307,       A095,      89,          1,          3,          3,2,20090411,       1911,  -24.00141,   -1.53572,       5283,  5080.4,   2.4665,  34.8821,  34.8820,2,    229.0,   227.4,2,   54.25,2,    1.56,2,  2212.8,3,  2364.7,2,   1.9881,   23.42,2
740H20090307,       A095,      89,          1,          4,          4,2,20090411,       1911,  -24.00141,   -1.53572,       5283,  4565.6,   2.4082,  34.8825,  34.8820,2,    227.4,   227.9,2,   53.94,2,    1.57,2,  2213.8,2,  2366.2,2,   1.9959,   23.44,2
740H20090307,       A095,      89,          1,          5,          5,2,20090411,       1911,  -24.00141,   -1.53572,       5283,  4052.6,   2.3628,  34.8829,  34.8821,2,    227.2,   226.6,2,   53.72,2,    1.57,2,  2211.5,3,  2363.2,2,   2.0124,   23.38,2
740H20090307,       A095,      89,          1,          6,          6,2,20090411,       1911,  -24.00141,   -1.53572,       5283,  3539.3,   2.3550,  34.8797,  34.8795,2,    228.9,   227.6,2,   52.99,2,    1.57,2,  2209.1,2,  2356.7,2,   2.0621,   23.55,2
740H20090307,       A095,      89,          1,          7,          7,2,20090411,       1911,  -24.00141,   -1.53572,       5283,  3030.1,   2.4078,  34.8724,  34.8716,2,    231.4,   230.9,2,   50.76,2,    1.57,2,  2199.7,3,  2346.6,2,   2.1671,   23.41,2
740H20090307,       A095,      89,          1,          8,          8,2,20090411,       1911,  -24.00141,   -1.53572,       5283,  2522.4,   2.5490,  34.8668,  34.8664,2,    231.0,   230.8,2,   47.54,2,    1.58,2,  2195.5,2,  2339.2,2,   2.3555,   23.29,2
740H20090307,       A095,      89,          1,          9,          9,2,20090411,       1911,  -24.00141,   -1.53572,       5283,  2269.1,   2.7230,  34.8715,  34.8708,2,    229.6,   229.6,2,   43.34,2,    1.56,2,  -999.0,9,  -999.0,9,   2.5503,   23.27,2
740H20090307,       A095,      89,          1,         10,         10,2,20090411,       1911,  -24.00141,   -1.53572,       5283,  2015.1,   2.9878,  34.8812,  34.8805,2,    227.7,   228.3,2,   37.56,2,    1.54,2,  2187.9,3,  2330.6,2,   2.8342,   23.32,2
740H20090307,       A095,      89,          1,         11,         11,2,20090411,       1911,  -24.00141,   -1.53572,       5283,  1763.7,   3.2341,  34.8668,  34.8666,2,    219.5,   219.7,2,   35.14,2,    1.61,2,  -999.0,9,  -999.0,9,   3.0998,   23.83,2
740H20090307,       A095,      89,          1,         12,         12,2,20090411,       1911,  -24.00141,   -1.53572,       5283,  1510.0,   3.4167,  34.8085,  34.8094,2,    204.1,   204.5,2,   36.57,2,    1.76,2,    2200,2,  2327.9,2,   3.3027,   26.27,2
740H20090307,       A095,      89,          1,         13,         13,2,20090411,       1911,  -24.00141,   -1.53572,       5283,  1258.0,   3.5130,  34.6834,  34.6848,2,    184.8,   185.1,2,   41.34,2,    1.99,2,  -999.0,9,  -999.0,9,   3.4197,   29.54,2
740H20090307,       A095,      89,          1,         14,         14,2,20090411,       1911,  -24.00141,   -1.53572,       5283,  1006.1,   3.5722,  34.5119,  34.5114,2,    173.5,   174.1,2,   44.88,2,    2.22,2,  2221.4,2,  2317.3,2,   3.4993,   32.89,2
740H20090307,       A095,      89,          1,         15,         15,2,20090411,       1911,  -24.00141,   -1.53572,       5283,   880.6,   3.7904,  34.4307,  34.4293,2,    176.7,   176.9,2,   41.98,2,    2.24,2,  -999.0,9,  -999.0,9,   3.7261,   33.55,2
740H20090307,       A095,      89,          1,         16,         16,2,20090411,       1911,  -24.00141,   -1.53572,       5283,   754.7,   4.4329,  34.3817,  34.3827,2,    180.8,   180.3,2,   33.62,2,    2.18,2,  2209.7,2,  2301.3,2,   4.3748,   32.71,2
740H20090307,       A095,      89,          1,         17,         17,2,20090411,       1911,  -24.00141,   -1.53572,       5283,   628.6,   5.3365,  34.3681,  34.3679,2,    196.4,   196.8,2,   22.94,2,    1.97,2,  2186.2,2,  2290.4,2,   5.2843,   29.46,2
740H20090307,       A095,      89,          1,         18,         18,2,20090411,       1911,  -24.00141,   -1.53572,       5283,   504.1,   7.3250,  34.5152,  34.5176,2,    189.1,   188.0,2,   15.67,2,    1.71,2,  -999.0,9,  -999.0,9,   7.2759,   25.49,2
740H20090307,       A095,      89,          1,         19,         19,2,20090411,       1911,  -24.00141,   -1.53572,       5283,   378.1,  10.3807,  34.8439,  34.8354,2,    178.4,   180.1,2,    9.28,2,    1.31,2,  2158.5,2,  2300.5,2,  10.3354,   18.68,2
740H20090307,       A095,      89,          1,         20,         20,2,20090411,       1911,  -24.00141,   -1.53572,       5283,   252.7,  12.9953,  35.1327,  35.1316,2,    195.3,   194.0,2,    5.50,2,    0.85,2,  -999.0,9,  -999.0,9,  12.9604,   11.27,2
740H20090307,       A095,      89,          1,         21,         25,2,20090411,       1911,  -24.00141,   -1.53572,       5283,   176.8,  15.0470,  35.3672,  35.3633,2,    192.1,   191.9,2,    4.55,2,    0.66,2,  -999.0,9,  -999.0,9,  15.0201,    8.28,2
740H20090307,       A095,      89,          1,         22,         22,2,20090411,       1911,  -24.00141,   -1.53572,       5283,   103.5,  18.2978,  35.7619,  35.7626,2,    229.0,   229.2,2,    2.82,2,    0.21,2,  -999.0,9,  -999.0,9,  18.2798,    0.54,2
740H20090307,       A095,      89,          1,         23,         23,3,20090411,       1911,  -24.00141,   -1.53572,       5283,    52.6,  23.0817,  36.2817,  36.2958,2,    217.3,  -999.0,9, -999.00,9, -999.00,9,  -999.0,9,  -999.0,9,  23.0709, -999.00,9
740H20090307,       A095,      89,          1,         24,         24,2,20090411,       1911,  -24.00141,   -1.53572,       5283,     7.4,  23.1483,  36.2928,-999.0000,9,    211.0,   210.4,2,    2.43,2,    0.19,2,  -999.0,9,  -999.0,9,  23.1468,    0.04,2
740H20090307,       A095,      90,          1,          1,          1,2,20090412,       0459,  -23.99996,   -0.64292,       5476,  5572.9,   2.5250,  34.8816,  34.8814,2,    228.4,   227.5,2,   54.39,2,    1.56,2,  2213.8,2,  2361.4,2,   1.9800,   23.33,2
740H20090307,       A095,      90,          1,          2,          2,2,20090412,       0459,  -23.99996,   -0.64292,       5476,  5521.6,   2.5178,  34.8816,  34.8824,2,    228.5,   227.1,2,   53.81,2,    1.56,2,  2214.7,2,  2359.8,2,   1.9799,   23.05,2
740H20090307,       A095,      90,          1,          3,          3,2,20090412,       0459,  -23.99996,   -0.64292,       5476,  4821.4,   2.4376,  34.8828,  34.8827,2,    227.1,   227.2,2,   53.50,2,    1.56,2,  2215.8,2,  2360.2,2,   1.9928,   23.43,2
740H20090307,       A095,      90,          1,          4,          4,2,20090412,       0459,  -23.99996,   -0.64292,       5476,  4563.9,   2.4096,  34.8830,  34.8820,2,    227.3,   227.6,2,   53.50,2,    1.57,2,  2215.6,2,  2360.5,2,   1.9974,   22.77,2
740H20090307,       A095,      90,          1,          5,          5,2,20090412,       0459,  -23.99996,   -0.64292,       5476,  4048.7,   2.3649,  34.8831,  34.8821,2,    227.3,   226.8,2,   53.01,2,    1.57,2,  2208.8,2,  2355.3,2,   2.0150,   23.16,2
740H20090307,       A095,      90,          1,          6,          6,2,20090412,       0459,  -23.99996,   -0.64292,       5476,  3537.2,   2.3537,  34.8809,  34.8799,2,    228.3,   227.6,2,   52.47,2,    1.57,2,  2209.2,2,  2350.1,3,   2.0610,   23.38,2
740H20090307,       A095,      90,          1,          7,          7,2,20090412,       0459,  -23.99996,   -0.64292,       5476,  3028.3,   2.4149,  34.8737,  34.8725,2,    231.2,   231.2,2,   49.78,2,    1.56,2,  2200.4,2,    2338,3,   2.1743,   23.33,2
740H20090307,       A095,      90,          1,          8,          8,2,20090412,       0459,  -23.99996,   -0.64292,       5476,  2519.2,   2.5819,  34.8690,  34.8678,2,    230.5,   230.3,2,   45.69,2,    1.58,2,  2195.5,2,  2332.1,3,   2.3881,   23.28,2
740H20090307,       A095,      90,          1,          9,          9,2,20090412,       0459,  -23.99996,   -0.64292,       5476,  2267.1,   2.7472,  34.8734,  34.8723,2,    229.2,   229.6,2,   41.48,2,    1.54,2,  -999.0,9,  -999.0,9,   2.5742,   22.58,2
740H20090307,       A095,      90,          1,         10,         10,2,20090412,       0459,  -23.99996,   -0.64292,       5476,  2012.0,   2.9950,  34.8794,  34.8793,2,    227.6,   227.5,2,   36.63,2,    1.53,2,  2186.4,2,  2322.3,3,   2.8416,   22.60,2
740H20090307,       A095,      90,          1,         11,         11,2,20090412,       0459,  -23.99996,   -0.64292,       5476,  1760.7,   3.2006,  34.8626,  34.8614,2,    219.7,   219.9,2,   35.05,2,    1.59,2,  -999.0,9,  -999.0,9,   3.0671,   23.28,2
740H20090307,       A095,      90,          1,         12,         12,2,20090412,       0459,  -23.99996,   -0.64292,       5476,  1508.6,   3.3978,  34.8035,  34.8023,2,    204.1,   204.4,2,   36.43,2,    1.76,2,  2199.5,2,  2317.6,3,   3.2841,   25.41,2
740H20090307,       A095,      90,          1,         13,         13,2,20090412,       0459,  -23.99996,   -0.64292,       5476,  1254.3,   3.4981,  34.6994,  34.6979,2,    187.0,   187.0,2,   40.97,2,    1.97,2,  -999.0,9,  -999.0,9,   3.4052,   29.78,2
740H20090307,       A095,      90,          1,         14,         14,2,20090412,       0459,  -23.99996,   -0.64292,       5476,  1003.3,   3.5009,  34.5133,  34.5155,2,    173.2,   173.1,2,   47.04,2,    2.25,2,    2223,2,  2311.6,3,   3.4288,   33.39,2
740H20090307,       A095,      90,          1,         15,         15,2,20090412,       0459,  -23.99996,   -0.64292,       5476,   876.8,   3.8858,  34.4257,  34.4240,2,    174.0,   174.4,2,   41.27,2,    2.27,2,  -999.0,9,  -999.0,9,   3.8212,   33.98,2
740H20090307,       A095,      90,          1,         16,         16,2,20090412,       0459,  -23.99996,   -0.64292,       5476,   752.4,   4.5686,  34.3800,  34.3795,2,    181.0,   181.5,2,   31.33,2,    2.18,2,  2203.3,2,  2296.2,3,   4.5099,   32.74,2
740H20090307,       A095,      90,          1,         17,         17,2,20090412,       0459,  -23.99996,   -0.64292,       5476,   627.1,   5.8761,  34.4162,  34.4159,2,    183.0,   182.1,2,   21.15,2,    1.98,2,  2188.5,2,  2288.6,3,   5.8215,   29.82,2
740H20090307,       A095,      90,          1,         18,         18,2,20090412,       0459,  -23.99996,   -0.64292,       5476,   501.8,   8.1729,  34.6040,  34.5992,2,    179.0,   178.1,2,   14.41,2,    1.66,2,  -999.0,9,  -999.0,9,   8.1208,   24.81,2
740H20090307,       A095,      90,          1,         19,         19,2,20090412,       0459,  -23.99996,   -0.64292,       5476,   376.1,  10.8388,  34.8960,  34.8944,2,    192.6,   192.0,2,    7.91,2,    1.16,2,    2144,2,  2298.3,3,  10.7925,   16.63,2
740H20090307,       A095,      90,          1,         20,         20,2,20090412,       0459,  -23.99996,   -0.64292,       5476,   251.6,  13.3429,  35.1680,  35.1668,2,    185.0,   184.1,2,    5.53,2,    0.88,2,  -999.0,9,  -999.0,9,  13.3075,   11.92,2
740H20090307,       A095,      90,          1,         21,         25,2,20090412,       0459,  -23.99996,   -0.64292,       5476,   175.8,  15.4842,  35.4454,  35.4502,2,    203.1,   204.2,2,    4.07,2,    0.51,2,  -999.0,9,  -999.0,9,  15.4569,    5.70,2
740H20090307,       A095,      90,          1,         22,         22,2,20090412,       0459,  -23.99996,   -0.64292,       5476,   102.6,  17.9911,  35.7562,  35.7550,2,    224.3,   225.2,2,    2.96,2,    0.21,2,  -999.0,9,  -999.0,9,  17.9735,    0.21,2
740H20090307,       A095,      90,          1,         23,         23,2,20090412,       0459,  -23.99996,   -0.64292,       5476,    52.1,  22.6673,  36.1693,  36.1578,2,    217.4,   214.0,2,    2.56,2,    0.19,2,  2079.3,2,  2376.3,3,  22.6567,   -0.10,2
740H20090307,       A095,      90,          1,         24,         24,2,20090412,       0459,  -23.99996,   -0.64292,       5476,     7.0,  22.8234,  36.1857,  36.1891,2,    212.5,   210.7,2,    2.47,2,    0.19,2,  2078.5,2,  2376.9,3,  22.8220,   -0.11,2