BOTTLE,20211101CCHSIORKP
EXPOCODE,SECT_ID,STNNBR,CASTNO,SAMPNO,BTLNBR,BTLNBR_FLAG_W,DATE,TIME,LATITUDE,LONGITUDE,DEPTH,CTDPRS,CTDTMP,CTDSAL,SALNTY,SALNTY_FLAG_W,CTDOXY,OXYGEN,OXYGEN_FLAG_W,SILCAT,SILCAT_FLAG_W,PHSPHT,PHSPHT_FLAG_W,TCARBN,TCARBN_FLAG_W,ALKALI,ALKALI_FLAG_W,THETA,NO2+NO3,NO2+NO3_FLAG_W
,,,,,,,,,,,METERS,DBAR,ITS-90,PSS-78,PSS-78,,UMOL/KG,UMOL/KG,,UMOL/KG,,UMOL/KG,,UMOL/KG,,UMOL/KG,,DEG C,UMOL/KG,
740H20090307,       A095,     103,          1,          1,          1,2,20090415,       2243,  -23.99979,    7.03780,       2948,  2979.9,   2.4336,  34.8625,  34.8635,2,    226.3,   226.3,2,   54.08,2,    1.62,2,    2202,2,  2339.9,2,   2.1975,   23.82,2
740H20090307,       A095,     103,          1,          2,          2,2,20090415,       2243,  -23.99979,    7.03780,       2948,  2929.8,   2.4398,  34.8630,  34.8641,2,    226.7,   226.9,2,   53.50,2,    1.61,2,    2202,2,  2342.3,2,   2.2086,   23.70,2
740H20090307,       A095,     103,          1,          3,         26,2,20090415,       2243,  -23.99979,    7.03780,       2948,  2929.8,   2.4398,  34.8630,  34.8641,2,    226.7,   227.4,2,   53.86,2,    1.62,2,  -999.0,9,  -999.0,9,   2.2086,   23.69,2
740H20090307,       A095,     103,          1,          4,          4,2,20090415,       2243,  -23.99979,    7.03780,       2948,  2774.8,   2.5350,  34.8658,  34.8674,2,    226.7,   226.7,2,   51.01,2,    1.61,2,  -999.0,9,  -999.0,9,   2.3173,   23.60,2
740H20090307,       A095,     103,          1,          5,          5,2,20090415,       2243,  -23.99979,    7.03780,       2948,  2522.1,   2.7352,  34.8778,  34.8787,2,    227.0,   227.0,2,   45.03,2,    1.57,2,  2193.5,2,  2330.8,2,   2.5382,   23.46,2
740H20090307,       A095,     103,          1,          6,          6,2,20090415,       2243,  -23.99979,    7.03780,       2948,  2268.5,   2.8934,  34.8811,  34.8827,2,    225.3,   225.9,2,   41.80,2,    1.57,2,  -999.0,9,  -999.0,9,   2.7178,   23.05,2
740H20090307,       A095,     103,          1,          7,          7,2,20090415,       2243,  -23.99979,    7.03780,       2948,  2015.0,   3.0731,  34.8780,  34.8791,2,    220.4,   220.4,2,   39.25,2,    1.59,2,  2191.8,2,  2325.3,2,   2.9182,   23.77,2
740H20090307,       A095,     103,          1,          8,          8,2,20090415,       2243,  -23.99979,    7.03780,       2948,  1761.9,   3.2635,  34.8502,  34.8516,2,    209.7,   210.4,2,   38.70,2,    1.69,2,  -999.0,9,  -999.0,9,   3.1290,   24.71,2
740H20090307,       A095,     103,          1,          9,          9,2,20090415,       2243,  -23.99979,    7.03780,       2948,  1512.6,   3.3582,  34.7852,  34.7860,2,    195.1,   195.3,2,   41.62,2,    1.85,2,  2206.5,2,  2319.9,2,   3.2447,   27.14,2
740H20090307,       A095,     103,          1,         10,         10,2,20090415,       2243,  -23.99979,    7.03780,       2948,  1511.0,   3.3590,  34.7847,  34.7851,2,    195.0,   194.9,2,   41.89,2,    1.87,2,  -999.0,9,  -999.0,9,   3.2456,   27.52,2
740H20090307,       A095,     103,          1,         11,         11,2,20090415,       2243,  -23.99979,    7.03780,       2948,  1258.4,   3.4257,  34.6614,  34.6614,2,    179.1,   179.4,2,   46.50,2,    2.09,2,  -999.0,9,  -999.0,9,   3.3333,   30.69,2
740H20090307,       A095,     103,          1,         12,         12,2,20090415,       2243,  -23.99979,    7.03780,       2948,  1003.2,   3.6696,  34.5169,  34.5175,2,    168.4,   168.9,2,   45.47,2,    2.27,2,  2221.5,2,  2306.3,2,   3.5962,   33.90,2
740H20090307,       A095,     103,          1,         13,         13,2,20090415,       2243,  -23.99979,    7.03780,       2948,   879.2,   4.0075,  34.4560,  34.4568,2,    160.2,   161.3,2,   40.69,2,    2.33,2,  -999.0,9,  -999.0,9,   3.9418,   35.05,2
740H20090307,       A095,     103,          1,         14,         14,2,20090415,       2243,  -23.99979,    7.03780,       2948,   753.3,   4.4782,  34.4084,  34.4077,2,    167.2,   167.2,2,   34.97,2,    2.27,2,  2212.5,2,  2293.9,2,   4.4199,   34.15,2
740H20090307,       A095,     103,          1,         15,         15,2,20090415,       2243,  -23.99979,    7.03780,       2948,   626.9,   5.2082,  34.4209,  34.4207,2,    162.9,   163.4,2,   27.99,2,    2.19,2,  -999.0,9,  -999.0,9,   5.1567,   33.41,2
740H20090307,       A095,     103,          1,         16,         16,2,20090415,       2243,  -23.99979,    7.03780,       2948,   503.5,   6.8134,  34.4972,  34.4990,2,    167.7,   167.2,2,   19.35,2,    1.94,2,  2188.1,2,  2287.7,2,   6.7663,   29.41,2
740H20090307,       A095,     103,          1,         17,         17,2,20090415,       2243,  -23.99979,    7.03780,       2948,   377.8,   8.9317,  34.6767,  34.6782,2,    179.2,   179.1,2,   13.44,2,    1.55,2,  -999.0,9,  -999.0,9,   8.8906,   22.69,2
740H20090307,       A095,     103,          1,         18,         18,2,20090415,       2243,  -23.99979,    7.03780,       2948,   252.9,  12.0678,  35.0405,  35.0429,2,    185.9,   186.6,2,    7.72,2,    1.04,2,    2138,2,    2304,2,  12.0346,   14.19,2
740H20090307,       A095,     103,          1,         19,         19,2,20090415,       2243,  -23.99979,    7.03780,       2948,   177.2,  14.2719,  35.3253,  35.3221,2,    209.8,   215.0,2,    5.19,2,    0.58,2,  -999.0,9,  -999.0,9,  14.2459,    6.79,2
740H20090307,       A095,     103,          1,         20,         20,2,20090415,       2243,  -23.99979,    7.03780,       2948,   101.9,  15.9885,  35.5179,  35.5137,2,    218.1,   217.8,2,    4.91,2,    0.41,2,    2086,2,  2330.9,2,  15.9723,    3.91,2
740H20090307,       A095,     103,          1,         21,         25,2,20090415,       2243,  -23.99979,    7.03780,       2948,    77.1,  17.3614,  35.5590,  35.5604,2,    237.9,   238.1,2,    3.84,2,    0.21,2,  -999.0,9,  -999.0,9,  17.3485,    0.21,2
740H20090307,       A095,     103,          1,         22,         22,2,20090415,       2243,  -23.99979,    7.03780,       2948,    53.8,  21.8270,  35.5595,  35.5610,2,    222.1,   218.1,2,    2.63,2,    0.20,2,  2052.8,2,  2343.8,2,  21.8164,   -0.02,2
740H20090307,       A095,     103,          1,         23,         23,2,20090415,       2243,  -23.99979,    7.03780,       2948,    28.4,  21.8904,  35.5625,  35.5634,2,    215.9,   215.7,2,    2.62,2,    0.20,2,  -999.0,9,  -999.0,9,  21.8848,   -0.07,2
740H20090307,       A095,     103,          1,         24,         24,2,20090415,       2243,  -23.99979,    7.03780,       2948,     7.7,  21.8984,  35.5608,  35.5608,2,    216.6,   216.2,2,    2.44,2,    0.20,2,  2051.4,2,  2344.8,2,  21.8969,   -0.07,2
740H20090307,       A095,     104,          1,          1,          1,2,20090416,       0308,  -24.00047,    7.23779,       3495,  3533.6,   2.1891,  34.8465,  34.8472,2,    224.0,   224.1,2,   63.33,2,    1.68,2,  2215.8,2,  2347.7,2,   1.9012,   25.49,2
740H20090307,       A095,     104,          1,          2,          2,2,20090416,       0308,  -24.00047,    7.23779,       3495,  3479.9,   2.2990,  34.8560,  34.8575,2,    225.7,   225.7,2,   58.93,2,    1.65,2,  2211.7,2,  2347.1,2,   2.0141,   25.12,2
740H20090307,       A095,     104,          1,          3,         26,2,20090416,       0308,  -24.00047,    7.23779,       3495,  3282.9,   2.4049,  34.8662,  34.8667,2,    227.2,   227.4,2,   54.52,2,    1.61,2,  -999.0,9,  -999.0,9,   2.1382,   24.30,2
740H20090307,       A095,     104,          1,          4,          4,2,20090416,       0308,  -24.00047,    7.23779,       3495,  3027.9,   2.4795,  34.8682,  34.8683,2,    227.8,   227.3,2,   51.98,2,    1.60,2,  -999.0,9,  -999.0,9,   2.2375,   24.63,2
740H20090307,       A095,     104,          1,          5,          5,2,20090416,       0308,  -24.00047,    7.23779,       3495,  2773.2,   2.5708,  34.8723,  34.8723,2,    228.0,   227.8,2,   48.94,2,    1.59,2,  -999.0,9,  -999.0,9,   2.3525,   24.28,2
740H20090307,       A095,     104,          1,          6,          6,2,20090416,       0308,  -24.00047,    7.23779,       3495,  2521.6,   2.7184,  34.8797,  34.8798,2,    227.8,   228.0,2,   44.87,2,    1.56,2,  -999.0,9,  -999.0,9,   2.5218,   23.79,2
740H20090307,       A095,     104,          1,          7,          7,2,20090416,       0308,  -24.00047,    7.23779,       3495,  2270.7,   2.8894,  34.8872,  34.8871,2,    227.2,   227.3,2,   40.51,2,    1.55,2,  -999.0,9,  -999.0,9,   2.7137,   23.73,2
740H20090307,       A095,     104,          1,          8,          8,2,20090416,       0308,  -24.00047,    7.23779,       3495,  2014.0,   3.1740,  34.8905,  34.8908,2,    222.8,   223.6,2,   35.48,2,    1.56,2,  -999.0,9,  -999.0,9,   3.0177,   23.96,2
740H20090307,       A095,     104,          1,          9,          9,2,20090416,       0308,  -24.00047,    7.23779,       3495,  1763.0,   3.3961,  34.8593,  34.8598,2,    211.3,   212.0,2,   34.88,2,    1.66,2,  -999.0,9,  -999.0,9,   3.2597,   25.13,2
740H20090307,       A095,     104,          1,         10,         10,3,20090416,       0308,  -24.00047,    7.23779,       3495,  1508.9,   3.5016,  34.7943,-999.0000,9,    197.5,  -999.0,9, -999.00,9, -999.00,9,  -999.0,9,  -999.0,9,   3.3867, -999.00,9
740H20090307,       A095,     104,          1,         11,         11,2,20090416,       0308,  -24.00047,    7.23779,       3495,  1259.8,   3.6087,  34.6690,  34.6667,2,    178.4,   180.5,2,   41.14,2,    2.06,2,  -999.0,9,  -999.0,9,   3.5143,   31.52,2
740H20090307,       A095,     104,          1,         12,         12,2,20090416,       0308,  -24.00047,    7.23779,       3495,  1004.0,   3.7782,  34.5352,  34.5349,2,    167.3,   168.1,2,   41.10,2,    2.26,2,  -999.0,9,  -999.0,9,   3.7039,   34.25,2
740H20090307,       A095,     104,          1,         13,         13,2,20090416,       0308,  -24.00047,    7.23779,       3495,   878.8,   3.9929,  34.4606,  34.4596,2,    167.1,   167.8,2,   38.75,2,    2.29,2,  -999.0,9,  -999.0,9,   3.9273,   35.08,2
740H20090307,       A095,     104,          1,         14,         14,3,20090416,       0308,  -24.00047,    7.23779,       3495,   755.4,   4.4207,  34.4256,-999.0000,9,    164.1,  -999.0,9, -999.00,9, -999.00,9,  -999.0,9,  -999.0,9,   4.3626, -999.00,9
740H20090307,       A095,     104,          1,         15,         15,2,20090416,       0308,  -24.00047,    7.23779,       3495,   627.7,   5.1886,  34.4201,  34.4190,2,    160.5,   161.1,2,   27.81,2,    2.22,2,  -999.0,9,  -999.0,9,   5.1371,   34.32,2
740H20090307,       A095,     104,          1,         16,         16,2,20090416,       0308,  -24.00047,    7.23779,       3495,   502.8,   6.3832,  34.4535,  34.4534,2,    171.2,   173.7,2,   20.06,2,    1.98,2,  -999.0,9,  -999.0,9,   6.3378,   30.73,2
740H20090307,       A095,     104,          1,         17,         17,2,20090416,       0308,  -24.00047,    7.23779,       3495,   378.0,   9.3402,  34.7245,  34.7214,2,    166.3,   171.4,2,   12.62,2,    1.53,2,  -999.0,9,  -999.0,9,   9.2979,   23.03,2
740H20090307,       A095,     104,          1,         18,         18,2,20090416,       0308,  -24.00047,    7.23779,       3495,   253.6,  12.2897,  35.0623,  35.0636,2,    196.2,   199.3,2,    6.32,2,    0.92,2,  -999.0,9,  -999.0,9,  12.2560,   12.78,2
740H20090307,       A095,     104,          1,         19,         19,2,20090416,       0308,  -24.00047,    7.23779,       3495,   177.4,  14.0566,  35.2793,  35.2789,2,    205.8,   208.0,2,    5.04,2,    0.63,2,  -999.0,9,  -999.0,9,  14.0309,    8.14,2
740H20090307,       A095,     104,          1,         20,         20,2,20090416,       0308,  -24.00047,    7.23779,       3495,   102.3,  16.0890,  35.5222,  35.5231,2,    220.0,   220.7,2,    4.24,2,    0.35,2,  -999.0,9,  -999.0,9,  16.0727,    3.27,2
740H20090307,       A095,     104,          1,         21,         25,2,20090416,       0308,  -24.00047,    7.23779,       3495,    78.2,  17.1789,  35.5616,  35.5592,2,    231.3,   233.8,2,    3.47,2,    0.21,2,  -999.0,9,  -999.0,9,  17.1659,    0.45,2
740H20090307,       A095,     104,          1,         22,         22,2,20090416,       0308,  -24.00047,    7.23779,       3495,    52.3,  21.2503,  35.5126,  35.5465,2,    231.4,   228.0,2,    2.52,2,    0.19,2,  -999.0,9,  -999.0,9,  21.2402,   -0.03,2
740H20090307,       A095,     104,          1,         23,         23,2,20090416,       0308,  -24.00047,    7.23779,       3495,    27.2,  21.9678,  35.5646,  35.5648,2,    218.3,   214.9,2,    2.26,2,    0.18,2,  -999.0,9,  -999.0,9,  21.9624,   -0.04,2
740H20090307,       A095,     104,          1,         24,         24,10,20090416,       0308,  -24.00047,    7.23779,       3495,     7.0,  21.9671,  35.5646,  35.5645,2,    218.3,   215.2,2,    2.23,2,    0.18,2,  -999.0,9,  -999.0,9,  21.9658,   -0.05,2
740H20090307,       A095,     105,          1,          1,          1,2,20090416,       0730,  -24.00145,    7.36248,       4248,  4307.9,   1.2424,  34.7478,  34.7480,2,    213.3,   213.6,2,  103.93,2,    2.03,2,  2244.6,3,  2371.2,2,   0.8966,   32.22,2
740H20090307,       A095,     105,          1,          2,          2,2,20090416,       0730,  -24.00145,    7.36248,       4248,  4254.5,   1.2736,  34.7511,  34.7513,2,    214.3,   213.4,2,  101.82,2,    2.02,2,  2248.1,2,  2369.7,2,   0.9328,   31.18,2
740H20090307,       A095,     105,          1,          3,         26,3,20090416,       0730,  -24.00145,    7.36248,       4248,  4049.6,   1.5452,  34.7785,  34.8715,2,    217.1,   228.3,2,   49.51,2,    1.58,2,  -999.0,9,  -999.0,9,   1.2190,   24.30,2
740H20090307,       A095,     105,          1,          4,          4,2,20090416,       0730,  -24.00145,    7.36248,       4248,  3536.6,   2.3312,  34.8583,  34.8580,2,    226.3,   225.9,2,   57.97,2,    1.64,2,    2208,2,  2348.8,2,   2.0394,   25.21,2
740H20090307,       A095,     105,          1,          5,          5,2,20090416,       0730,  -24.00145,    7.36248,       4248,  3029.8,   2.5188,  34.8686,  34.8685,2,    227.6,   227.5,2,   51.00,2,    1.59,2,  2202.2,2,  2341.4,2,   2.2757,   24.57,2
740H20090307,       A095,     105,          1,          6,          6,2,20090416,       0730,  -24.00145,    7.36248,       4248,  2772.2,   2.6054,  34.8717,  34.8718,2,    227.4,   228.0,2,   48.36,2,    1.59,2,  -999.0,9,  -999.0,9,   2.3864,   24.37,2
740H20090307,       A095,     105,          1,          7,          7,2,20090416,       0730,  -24.00145,    7.36248,       4248,  2521.7,   2.7451,  34.8791,  34.8783,2,    227.2,   227.1,2,   44.59,2,    1.57,2,  2194.5,2,  2334.1,2,   2.5480,   24.10,2
740H20090307,       A095,     105,          1,          8,          8,2,20090416,       0730,  -24.00145,    7.36248,       4248,  2266.4,   2.8871,  34.8816,  34.8821,2,    225.4,   226.2,2,   41.34,2,    1.55,2,  -999.0,9,  -999.0,9,   2.7118,   23.99,2
740H20090307,       A095,     105,          1,          9,          9,2,20090416,       0730,  -24.00145,    7.36248,       4248,  2014.5,   3.1261,  34.8851,  34.8850,2,    222.3,   222.9,2,   36.41,2,    1.56,2,  2189.1,2,  2326.9,2,   2.9705,   23.79,2
740H20090307,       A095,     105,          1,         10,         10,2,20090416,       0730,  -24.00145,    7.36248,       4248,  1761.1,   3.3034,  34.8618,  34.8612,2,    212.1,   212.4,2,   35.97,2,    1.65,2,  -999.0,9,  -999.0,9,   3.1684,   25.15,2
740H20090307,       A095,     105,          1,         11,         11,2,20090416,       0730,  -24.00145,    7.36248,       4248,  1508.7,   3.4709,  34.8059,  34.8053,2,    198.3,   198.0,2,   37.21,2,    1.80,2,  2201.8,3,  2321.6,2,   3.3563,   27.57,2
740H20090307,       A095,     105,          1,         12,         12,2,20090416,       0730,  -24.00145,    7.36248,       4248,  1257.9,   3.6034,  34.6819,  34.6816,2,    181.1,   181.8,2,   40.59,2,    2.05,2,  -999.0,9,  -999.0,9,   3.5093,   30.99,2
740H20090307,       A095,     105,          1,         13,         13,2,20090416,       0730,  -24.00145,    7.36248,       4248,  1004.5,   3.7501,  34.5332,  34.5322,2,    169.7,   170.1,2,   41.31,2,    2.26,2,  2220.6,2,  2314.4,2,   3.6759,   33.98,2
740H20090307,       A095,     105,          1,         14,         14,2,20090416,       0730,  -24.00145,    7.36248,       4248,   879.5,   3.9371,  34.4622,  34.4626,2,    166.8,   166.3,2,   39.57,2,    2.28,2,  -999.0,9,  -999.0,9,   3.8718,   35.04,2
740H20090307,       A095,     105,          1,         15,         15,2,20090416,       0730,  -24.00145,    7.36248,       4248,   754.1,   4.2947,  34.4264,  34.4249,2,    164.1,   164.5,2,   35.86,2,    2.29,2,    2216,2,    2305,2,   4.2374,   35.83,2
740H20090307,       A095,     105,          1,         16,         16,2,20090416,       0730,  -24.00145,    7.36248,       4248,   628.1,   5.0078,  34.4149,  34.4142,2,    162.0,   161.9,2,   28.76,2,    2.23,2,  -999.0,9,  -999.0,9,   4.9573,   34.94,2
740H20090307,       A095,     105,          1,         17,         17,2,20090416,       0730,  -24.00145,    7.36248,       4248,   503.0,   6.6177,  34.4756,  34.4751,2,    164.8,   167.1,2,   19.11,2,    1.96,2,  2193.1,2,  2292.9,2,   6.5714,   30.21,2
740H20090307,       A095,     105,          1,         18,         18,2,20090416,       0730,  -24.00145,    7.36248,       4248,   377.0,   9.1362,  34.6981,  34.7028,2,    167.4,   182.1,2,   11.78,2,    1.48,2,  -999.0,9,  -999.0,9,   9.0945,   21.91,2
740H20090307,       A095,     105,          1,         19,         19,2,20090416,       0730,  -24.00145,    7.36248,       4248,   252.3,  12.0079,  35.0311,  35.0359,2,    197.3,   195.2,2,    6.51,2,    0.98,2,  2134.5,3,  2312.7,2,  11.9749,   13.70,2
740H20090307,       A095,     105,          1,         20,         20,2,20090416,       0730,  -24.00145,    7.36248,       4248,   177.4,  13.7754,  35.2373,  35.2446,2,    204.1,   205.4,2,    4.88,2,    0.67,2,  -999.0,9,  -999.0,9,  13.7500,    8.64,2
740H20090307,       A095,     105,          1,         21,         25,2,20090416,       0730,  -24.00145,    7.36248,       4248,   101.5,  15.9837,  35.5202,  35.5213,2,    224.4,   222.6,2,    3.90,2,    0.34,2,  -999.0,9,  -999.0,9,  15.9676,    3.05,2
740H20090307,       A095,     105,          1,         22,         22,2,20090416,       0730,  -24.00145,    7.36248,       4248,    72.0,  17.7303,  35.5692,  35.5687,2,    239.1,   240.9,2,    3.07,2,    0.19,2,  2070.5,2,  2343.7,2,  17.7181,    0.19,2
740H20090307,       A095,     105,          1,         23,         23,2,20090416,       0730,  -24.00145,    7.36248,       4248,    26.7,  21.9980,  35.5571,  35.5576,2,    218.1,   215.2,2,    1.92,2,    0.18,2,  -999.0,9,  -999.0,9,  21.9927,   -0.05,2
740H20090307,       A095,     105,          1,         24,         24,2,20090416,       0730,  -24.00145,    7.36248,       4248,     6.8,  22.0200,  35.5584,  35.5580,2,    215.8,   214.8,2,    1.90,2,    0.20,2,  2055.4,2,  2347.2,2,  22.0187,   -0.06,2