BOTTLE,20211101CCHSIORKP
EXPOCODE,SECT_ID,STNNBR,CASTNO,SAMPNO,BTLNBR,BTLNBR_FLAG_W,DATE,TIME,LATITUDE,LONGITUDE,DEPTH,CTDPRS,CTDTMP,CTDSAL,SALNTY,SALNTY_FLAG_W,CTDOXY,OXYGEN,OXYGEN_FLAG_W,SILCAT,SILCAT_FLAG_W,PHSPHT,PHSPHT_FLAG_W,TCARBN,TCARBN_FLAG_W,ALKALI,ALKALI_FLAG_W,THETA,NO2+NO3,NO2+NO3_FLAG_W
,,,,,,,,,,,METERS,DBAR,ITS-90,PSS-78,PSS-78,,UMOL/KG,UMOL/KG,,UMOL/KG,,UMOL/KG,,UMOL/KG,,UMOL/KG,,DEG C,UMOL/KG,
740H20090307,       A095,       9,          1,          1,          1,2,20090309,       1854,  -37.40014,  -51.99265,       3993,  4053.3,   0.1867,  34.6713,  34.6708,2,    215.1,   216.9,2,  130.86,2,    2.27,2,  2257.1,2,  2368.8,3,  -0.1002,   33.55,2
740H20090307,       A095,       9,          1,          2,          2,2,20090309,       1854,  -37.40014,  -51.99265,       3993,  4002.2,   0.1843,  34.6715,  34.6702,2,    215.6,  -999.0,9,  131.06,2,    2.28,2,  -999.0,9,  -999.0,9,  -0.0973,   33.67,2
740H20090307,       A095,       9,          1,          3,          3,2,20090309,       1854,  -37.40014,  -51.99265,       3993,  3810.0,   0.5687,  34.6909,  34.6902,2,    210.3,   211.1,2,  122.98,2,    2.23,2,  -999.0,9,  2374.1,2,   0.2955,   33.26,2
740H20090307,       A095,       9,          1,          4,          4,2,20090309,       1854,  -37.40014,  -51.99265,       3993,  3554.1,   1.0766,  34.7200,  34.7184,2,    204.9,   205.6,2,  112.12,2,    2.15,2,    2248,2,  2368.9,2,   0.8156,   31.91,2
740H20090307,       A095,       9,          1,          5,          5,2,20090309,       1854,  -37.40014,  -51.99265,       3993,  3297.3,   1.5474,  34.7549,  34.7525,2,    204.8,   205.7,2,   97.54,2,    2.04,2,  2239.9,2,  2367.9,2,   1.3002,   30.31,2
740H20090307,       A095,       9,          1,          6,          6,2,20090309,       1854,  -37.40014,  -51.99265,       3993,  3041.1,   1.9911,  34.7882,  34.7857,2,    206.5,   207.7,2,   81.05,2,    1.92,2,  2228.5,2,  2358.9,2,   1.7589,   28.91,2
740H20090307,       A095,       9,          1,          7,          7,2,20090309,       1854,  -37.40014,  -51.99265,       3993,  2785.5,   2.3505,  34.8105,  34.8090,2,    208.4,   209.9,2,   69.42,2,    1.85,2,  2216.7,2,  2353.4,2,   2.1357,   27.64,2
740H20090307,       A095,       9,          1,          8,          8,2,20090309,       1854,  -37.40014,  -51.99265,       3993,  2530.8,   2.5548,  34.8114,  34.8101,2,    206.0,   207.3,2,   65.03,2,    1.84,2,  2216.4,2,  2349.2,2,   2.3606,   27.40,2
740H20090307,       A095,       9,          1,          9,          9,2,20090309,       1854,  -37.40014,  -51.99265,       3993,  2275.7,   2.6606,  34.7767,  34.7761,2,    197.1,   196.9,2,   66.68,2,    1.94,2,  2226.8,2,  2348.1,2,   2.4887,   28.74,2
740H20090307,       A095,       9,          1,         10,         10,2,20090309,       1854,  -37.40014,  -51.99265,       3993,  2021.6,   2.8408,  34.7317,  34.7315,2,    187.0,   188.8,2,   64.12,2,    2.08,2,  2226.8,2,  2344.3,2,   2.6894,   30.10,2
740H20090307,       A095,       9,          1,         11,         11,2,20090309,       1854,  -37.40014,  -51.99265,       3993,  1767.5,   2.8480,  34.6424,  34.6415,2,    178.3,   180.7,2,   64.87,2,    2.18,2,  2229.9,2,  2341.2,2,   2.7192,   32.26,2
740H20090307,       A095,       9,          1,         12,         12,2,20090309,       1854,  -37.40014,  -51.99265,       3993,  1513.7,   3.0461,  34.5488,  34.5460,2,    180.3,   182.2,2,   56.86,2,    2.22,2,  2225.7,2,  2331.8,2,   2.9366,   32.87,2
740H20090307,       A095,       9,          1,         13,         13,2,20090309,       1854,  -37.40014,  -51.99265,       3993,  1259.8,   3.0406,  34.3508,  34.3510,2,    197.6,   198.9,2,   56.99,2,    2.22,2,  2211.3,2,  2317.2,2,   2.9524,   32.98,2
740H20090307,       A095,       9,          1,         14,         14,2,20090309,       1854,  -37.40014,  -51.99265,       3993,  1006.7,   3.8719,  34.2714,  34.2713,2,    220.0,   222.4,2,   29.72,2,    2.07,2,  2184.9,2,  2300.6,2,   3.7970,   30.65,2
740H20090307,       A095,       9,          1,         15,         15,2,20090309,       1854,  -37.40014,  -51.99265,       3993,   753.5,   5.8988,  34.3484,  34.3479,2,    223.5,   224.4,2,   14.87,2,    1.76,2,  2157.7,2,  2291.7,2,   5.8324,   26.05,2
740H20090307,       A095,       9,          1,         16,         16,2,20090309,       1854,  -37.40014,  -51.99265,       3993,   627.1,   7.2868,  34.4455,  34.4467,2,    219.8,   220.8,2,   10.58,2,    1.56,2,  2147.1,2,  2294.6,2,   7.2254,   25.33,2
740H20090307,       A095,       9,          1,         17,         17,2,20090309,       1854,  -37.40014,  -51.99265,       3993,   501.9,  11.1232,  34.9497,  34.9512,2,    200.0,   203.0,2,    6.39,2,    1.06,2,  2132.3,2,    2313,2,  11.0601,   15.44,2
740H20090307,       A095,       9,          1,         18,         18,2,20090309,       1854,  -37.40014,  -51.99265,       3993,   376.5,  13.9490,  35.4076,  35.4065,2,    208.7,   207.8,2,    4.05,2,    0.65,2,    2115,2,  2336.7,2,  13.8942,    8.96,2
740H20090307,       A095,       9,          1,         19,         19,2,20090309,       1854,  -37.40014,  -51.99265,       3993,   251.5,  16.0353,  35.7766,  35.7794,2,    209.5,   212.6,2,    2.94,2,    0.38,2,  2103.3,2,  2359.7,2,  15.9952,    4.49,2
740H20090307,       A095,       9,          1,         20,         20,2,20090309,       1854,  -37.40014,  -51.99265,       3993,   174.8,  16.7292,  35.7595,  35.7588,2,    196.2,   196.9,2,    3.11,2,    0.40,2,  2106.8,2,  2358.1,2,  16.7006,    4.35,2
740H20090307,       A095,       9,          1,         21,         21,2,20090309,       1854,  -37.40014,  -51.99265,       3993,    99.4,  20.1148,  36.3912,  36.3918,2,    205.6,   203.5,2,    2.17,2,    0.15,2,  2095.8,2,  2397.8,2,  20.0962,    1.04,2
740H20090307,       A095,       9,          1,         22,         22,2,20090309,       1854,  -37.40014,  -51.99265,       3993,    79.1,  21.5732,  36.6231,  36.6248,2,    207.3,   210.8,2,    2.11,2,    0.06,2,  2091.2,2,  2409.4,2,  21.5577,    0.13,2
740H20090307,       A095,       9,          1,         23,         23,2,20090309,       1854,  -37.40014,  -51.99265,       3993,    39.4,  23.7281,  36.3403,  36.3410,2,    208.2,   209.2,2,    2.23,2,    0.03,2,    2058,2,  2395.1,2,  23.7198,    0.85,2
740H20090307,       A095,       9,          1,         24,         24,2,20090309,       1854,  -37.40014,  -51.99265,       3993,     3.7,  23.7271,  36.3266,  36.3262,2,    208.7,   210.0,2,    2.20,2,    0.02,2,  2057.6,2,  2394.2,2,  23.7264,    0.00,2
740H20090307,       A095,      10,          1,          1,          1,2,20090313,       1133,  -27.71779,  -43.96505,       3037,  3072.4,   2.4654,  34.8950,  34.8973,2,    241.7,   244.0,2,   43.44,2,    1.45,2,  2182.5,2,    2342,2,   2.2191,   22.18,2
740H20090307,       A095,      10,          1,          3,          3,2,20090313,       1133,  -27.71779,  -43.96505,       3037,  3018.8,   2.5626,  34.9034,  34.9057,2,    243.3,   244.3,2,   39.95,2,    1.42,2,  2181.7,2,  2339.9,2,   2.3195,   21.55,2
740H20090307,       A095,      10,          1,          5,          5,2,20090313,       1133,  -27.71779,  -43.96505,       3037,  2784.5,   2.8513,  34.9238,  34.9263,2,    244.1,   244.0,2,   32.97,2,    1.36,2,  2174.5,2,  2298.7,3,   2.6259,   20.79,2
740H20090307,       A095,      10,          1,          6,          6,2,20090313,       1133,  -27.71779,  -43.96505,       3037,  2528.5,   3.0838,  34.9364,  34.9372,2,    243.9,   244.3,2,   29.14,2,    1.34,2,  2171.4,2,  2321.9,2,   2.8795,   20.40,2
740H20090307,       A095,      10,          1,          7,          7,2,20090313,       1133,  -27.71779,  -43.96505,       3037,  2275.1,   3.3386,  34.9481,  34.9498,2,    243.3,   243.9,2,   25.21,2,    1.31,2,  2168.3,2,    2318,2,   3.1547,   20.02,2
740H20090307,       A095,      10,          1,          9,          9,2,20090313,       1133,  -27.71779,  -43.96505,       3037,  1817.7,   3.4685,  34.8621,  34.8618,2,    217.4,   217.3,2,   25.15,2,    1.31,2,  2190.8,2,  2329.8,2,   3.3262,   20.15,2
740H20090307,       A095,      10,          1,         10,         10,2,20090313,       1133,  -27.71779,  -43.96505,       3037,  1514.7,   3.0521,  34.6456,  34.6468,2,    188.2,   188.2,2,   53.65,2,    2.07,2,  2220.8,2,  2324.2,2,   2.9422,   30.56,2
740H20090307,       A095,      10,          1,         11,         11,2,20090313,       1133,  -27.71779,  -43.96505,       3037,  1262.0,   3.1249,  34.4547,  34.4563,2,    188.1,   188.0,2,   50.68,2,    2.23,2,    2221,2,    2316,2,   3.0355,   33.06,2
740H20090307,       A095,      10,          1,         12,         12,3,20090313,       1133,  -27.71779,  -43.96505,       3037,  1008.8,   3.9144,  34.3295,-999.0000,9,    205.8,  -999.0,9, -999.00,9, -999.00,9,  -999.0,9,  -999.0,9,   3.8390, -999.00,9
740H20090307,       A095,      10,          1,         13,         13,2,20090313,       1133,  -27.71779,  -43.96505,       3037,   882.6,   4.7918,  34.3313,  34.3334,2,    208.7,   209.9,2,   24.64,2,    1.98,2,  2180.3,2,  2289.1,2,   4.7207,   29.75,2
740H20090307,       A095,      10,          1,         14,         14,2,20090313,       1133,  -27.71779,  -43.96505,       3037,   755.7,   6.4400,  34.4326,  34.4340,2,    203.7,   204.7,2,   16.17,2,    1.77,2,  2164.8,2,  2287.4,2,   6.3703,   26.36,2
740H20090307,       A095,      10,          1,         15,         15,2,20090313,       1133,  -27.71779,  -43.96505,       3037,   629.9,   8.6745,  34.6504,  34.6523,2,    194.6,   196.7,2,   10.91,2,    1.47,2,  2153.2,2,  2260.4,3,   8.6061,   21.58,2
740H20090307,       A095,      10,          1,         16,         16,2,20090313,       1133,  -27.71779,  -43.96505,       3037,   503.8,  11.3579,  34.9769,  34.9811,2,    197.4,   198.1,2,    6.49,2,    1.03,2,  2132.7,2,  2302.4,2,  11.2936,   14.51,2
740H20090307,       A095,      10,          1,         17,         17,2,20090313,       1133,  -27.71779,  -43.96505,       3037,   378.0,  14.0590,  35.3831,  35.3890,2,    204.2,   205.1,2,    3.92,2,    0.61,2,  2113.9,2,  2328.9,2,  14.0037,    8.03,2
740H20090307,       A095,      10,          1,         18,         18,2,20090313,       1133,  -27.71779,  -43.96505,       3037,   252.4,  16.0876,  35.6302,  35.6334,2,    200.4,   199.9,2,    3.20,2,    0.40,2,  2105.2,2,  2305.4,3,  16.0473,    4.64,2
740H20090307,       A095,      10,          1,         19,         19,2,20090313,       1133,  -27.71779,  -43.96505,       3037,   176.4,  19.1127,  36.2258,  36.2316,2,    199.5,   200.4,2,    2.45,2,    0.19,2,  2099.3,2,  2378.4,2,  19.0809,    1.89,2
740H20090307,       A095,      10,          1,         20,         20,2,20090313,       1133,  -27.71779,  -43.96505,       3037,   125.3,  21.0824,  36.6249,  36.6236,2,    201.7,   202.0,2,    2.28,2,    0.08,2,  2096.1,2,  2411.5,3,  21.0582,    0.69,2
740H20090307,       A095,      10,          1,         21,         21,2,20090313,       1133,  -27.71779,  -43.96505,       3037,    91.2,  21.8321,  36.7019,  36.7029,2,    211.4,   212.8,2,    2.22,2,    0.02,2,  -999.0,9,  -999.0,9,  21.8140,    0.05,2
740H20090307,       A095,      10,          1,         22,         22,2,20090313,       1133,  -27.71779,  -43.96505,       3037,    50.9,  23.7122,  36.8314,  36.8349,2,    221.3,   221.3,2,    2.22,2,    0.00,2,  2072.1,2,  2411.1,2,  23.7015,    0.05,2
740H20090307,       A095,      10,          1,         23,         23,2,20090313,       1133,  -27.71779,  -43.96505,       3037,    24.7,  26.1594,  36.7805,  36.7732,2,    199.2,   198.5,2,    2.22,2,    0.00,2,    2066,2,  2411.2,2,  26.1539,    0.05,2
740H20090307,       A095,      10,          1,         24,         24,2,20090313,       1133,  -27.71779,  -43.96505,       3037,     3.6,  26.2287,  36.7527,  36.7533,2,    198.7,   198.0,2,    2.21,2,    0.00,2,  2064.7,2,  2407.3,2,  26.2279,    0.06,2
740H20090307,       A095,      11,          1,          1,          1,2,20090313,       1727,  -27.28741,  -43.96604,       2852,  2883.1,   2.2755,  34.8783,  34.8803,2,    239.3,   240.1,2,   49.75,2,    1.50,2,    2189,2,  2337.2,2,   2.0523,   22.70,2
740H20090307,       A095,      11,          1,          3,          3,2,20090313,       1727,  -27.28741,  -43.96604,       2852,  2832.1,   2.2830,  34.8795,  34.8795,2,    240.0,  -999.0,9,   49.12,2,    1.51,2,  2188.2,2,  2337.1,2,   2.0647,   22.61,2
740H20090307,       A095,      11,          1,          5,          5,2,20090313,       1727,  -27.28741,  -43.96604,       2852,  2528.6,   3.0012,  34.9325,  34.9324,2,    244.0,   243.1,2,   30.55,2,    1.36,2,  2171.1,2,  2324.3,2,   2.7985,   20.37,2
740H20090307,       A095,      11,          1,          7,          7,2,20090313,       1727,  -27.28741,  -43.96604,       2852,  2274.6,   3.3757,  34.9485,  34.9488,2,    243.0,   242.2,2,   25.02,2,    1.33,2,  2166.5,2,  2321.6,2,   3.1913,   20.18,2
740H20090307,       A095,      11,          1,          8,          8,2,20090313,       1727,  -27.28741,  -43.96604,       2852,  2020.8,   3.6672,  34.9507,  34.9507,2,    237.3,   240.4,2,   23.02,2,    1.36,2,  2168.2,2,  2319.6,2,   3.5026,   20.30,2
740H20090307,       A095,      11,          1,          9,          9,2,20090313,       1727,  -27.28741,  -43.96604,       2852,  1767.4,   3.6271,  34.8629,  34.8635,2,    214.8,   224.6,2,   32.96,2,    1.62,2,  2187.5,2,  2320.1,2,   3.4872,   24.51,2
740H20090307,       A095,      11,          1,         10,         10,2,20090313,       1727,  -27.28741,  -43.96604,       2852,  1513.1,   3.2199,  34.6545,  34.6532,2,    188.6,   188.1,2,   49.72,2,    2.07,2,  2216.4,2,  2324.5,2,   3.1082,   30.60,2
740H20090307,       A095,      11,          1,         11,         11,2,20090313,       1727,  -27.28741,  -43.96604,       2852,  1260.8,   3.2861,  34.4708,  34.4712,2,    186.6,   185.8,2,   48.40,2,    2.22,2,  2214.3,2,  2314.7,2,   3.1952,   32.92,2
740H20090307,       A095,      11,          1,         12,         12,2,20090313,       1727,  -27.28741,  -43.96604,       2852,  1008.8,   4.1016,  34.3479,  34.3479,2,    201.4,   201.7,2,   33.26,2,    2.13,2,  2197.7,2,  2296.9,2,   4.0247,   31.39,2
740H20090307,       A095,      11,          1,         13,         13,2,20090313,       1727,  -27.28741,  -43.96604,       2852,   881.8,   4.9595,  34.3358,  34.3354,2,    209.9,   210.0,2,   23.13,2,    1.97,2,  2175.4,2,  2286.4,2,   4.8873,   29.12,2
740H20090307,       A095,      11,          1,         14,         14,2,20090313,       1727,  -27.28741,  -43.96604,       2852,   755.2,   6.4601,  34.4326,  34.4341,2,    204.3,   203.9,2,   16.02,2,    1.78,2,  2166.5,2,  2289.8,2,   6.3902,   26.10,2
740H20090307,       A095,      11,          1,         15,         15,2,20090313,       1727,  -27.28741,  -43.96604,       2852,   629.8,   8.7589,  34.6575,  34.6598,2,    196.1,   196.3,2,   10.41,2,    1.46,2,  2150.9,2,  2297.2,2,   8.6902,   20.78,2
740H20090307,       A095,      11,          1,         16,         16,2,20090313,       1727,  -27.28741,  -43.96604,       2852,   503.7,  11.5423,  35.0028,  35.0033,2,    197.5,   197.8,2,    6.18,2,    1.01,2,  2129.6,2,  2308.8,2,  11.4774,   14.00,2
740H20090307,       A095,      11,          1,         17,         17,2,20090313,       1727,  -27.28741,  -43.96604,       2852,   377.3,  14.1108,  35.3688,  35.3744,2,    204.0,   202.7,2,    3.90,2,    0.61,2,  2111.6,2,  2330.5,2,  14.0555,    7.77,2
740H20090307,       A095,      11,          1,         18,         18,2,20090313,       1727,  -27.28741,  -43.96604,       2852,   251.7,  16.6109,  35.7314,  35.7344,2,    201.0,   200.0,2,    3.02,2,    0.36,2,  2100.7,2,  2349.2,2,  16.5698,    3.60,2
740H20090307,       A095,      11,          1,         19,         19,2,20090313,       1727,  -27.28741,  -43.96604,       2852,   176.0,  19.6113,  36.3349,  36.3202,2,    199.4,   198.4,2,    2.34,2,    0.18,2,  2096.8,2,  2386.5,2,  19.5790,    1.56,2
740H20090307,       A095,      11,          1,         20,         20,2,20090313,       1727,  -27.28741,  -43.96604,       2852,   100.1,  21.4732,  36.7096,  36.7095,2,    207.1,   206.3,2,    2.16,2,    0.04,2,  2088.9,2,  2409.1,2,  21.4536,    0.19,2
740H20090307,       A095,      11,          1,         21,         21,2,20090313,       1727,  -27.28741,  -43.96604,       2852,    75.4,  22.0066,  36.7687,  36.7722,2,    214.0,   214.8,2,    2.19,2,    0.00,2,  2081.7,2,  2415.3,2,  21.9916,    0.18,2
740H20090307,       A095,      11,          1,         22,         22,2,20090313,       1727,  -27.28741,  -43.96604,       2852,    50.2,  23.3275,  36.8083,  36.8089,2,    220.6,   220.4,2,    2.14,2,   -0.02,2,  2075.3,2,  2417.9,2,  23.3171,    0.18,2
740H20090307,       A095,      11,          1,         23,         23,2,20090313,       1727,  -27.28741,  -43.96604,       2852,    25.1,  26.1940,  36.6895,  36.7050,2,    199.0,   200.7,3,    2.18,2,   -0.01,2,    2065,2,  2414.6,2,  26.1884,    0.12,2
740H20090307,       A095,      11,          1,         24,         24,2,20090313,       1727,  -27.28741,  -43.96604,       2852,     4.3,  26.5224,  36.6308,  36.6330,2,    198.2,   198.2,2,    2.17,2,   -0.02,2,  2058.1,2,  2408.8,2,  26.5214,    0.14,2