BOTTLE,20211101CCHSIORKP
EXPOCODE,SECT_ID,STNNBR,CASTNO,SAMPNO,BTLNBR,BTLNBR_FLAG_W,DATE,TIME,LATITUDE,LONGITUDE,DEPTH,CTDPRS,CTDTMP,CTDSAL,SALNTY,SALNTY_FLAG_W,CTDOXY,OXYGEN,OXYGEN_FLAG_W,SILCAT,SILCAT_FLAG_W,PHSPHT,PHSPHT_FLAG_W,TCARBN,TCARBN_FLAG_W,ALKALI,ALKALI_FLAG_W,THETA,NO2+NO3,NO2+NO3_FLAG_W
,,,,,,,,,,,METERS,DBAR,ITS-90,PSS-78,PSS-78,,UMOL/KG,UMOL/KG,,UMOL/KG,,UMOL/KG,,UMOL/KG,,UMOL/KG,,DEG C,UMOL/KG,
740H20090307,       A095,      55,          1,          1,          1,2,20090329,       2246,  -23.99911,  -25.60252,       5712,  5816.5,   0.6635,  34.6930,  34.6934,2,    215.6,   215.4,2,  122.03,2,    2.18,2,  2258.1,2,  2362.4,2,   0.1580,   32.39,2
740H20090307,       A095,      55,          1,          2,          2,2,20090329,       2246,  -23.99911,  -25.60252,       5712,  5765.3,   0.6637,  34.6937,  34.6946,2,    215.9,   215.6,2,  121.42,2,    2.18,2,  2260.8,2,  2363.2,2,   0.1646,   31.87,2
740H20090307,       A095,      55,          1,          3,          3,2,20090329,       2246,  -23.99911,  -25.60252,       5712,  5184.3,   0.7998,  34.7148,  34.7151,2,    217.3,   218.2,2,  113.16,2,    2.10,2,  2252.9,2,  2359.1,2,   0.3672,   30.66,2
740H20090307,       A095,      55,          1,          4,          4,2,20090329,       2246,  -23.99911,  -25.60252,       5712,  4670.1,   1.0145,  34.7421,  34.7420,2,    221.4,   221.4,2,  102.35,2,    2.00,2,  2244.6,2,  2356.4,2,   0.6349,   30.71,2
740H20090307,       A095,      55,          1,          5,          5,2,20090329,       2246,  -23.99911,  -25.60252,       5712,  4308.4,   1.3237,  34.7760,  34.7759,2,    225.8,   226.7,2,   89.41,2,    1.89,2,  2232.2,2,  2348.7,2,   0.9753,   28.24,2
740H20090307,       A095,      55,          1,          6,          6,2,20090329,       2246,  -23.99911,  -25.60252,       5712,  4054.1,   1.6649,  34.8118,  34.8113,2,    230.6,   231.4,2,   75.11,2,    1.74,2,  2219.2,2,  2342.5,2,   1.3346,   25.42,2
740H20090307,       A095,      55,          1,          7,          7,2,20090329,       2246,  -23.99911,  -25.60252,       5712,  3798.5,   2.0546,  34.8548,  34.8548,2,    237.6,   238.2,2,   57.73,2,    1.57,2,  -999.0,9,  -999.0,9,   1.7415,   24.03,2
740H20090307,       A095,      55,          1,          8,          8,2,20090329,       2246,  -23.99911,  -25.60252,       5712,  3285.9,   2.5824,  34.9079,  34.9076,2,    244.4,   241.7,2,   38.02,2,    1.39,2,    2184,2,  2326.4,2,   2.3110,   20.97,2
740H20090307,       A095,      55,          1,          9,          9,2,20090329,       2246,  -23.99911,  -25.60252,       5712,  2778.0,   2.8070,  34.9228,  34.9228,2,    243.1,   244.3,2,   33.69,2,    1.36,2,  2181.2,2,  2321.7,2,   2.5831,   20.70,2
740H20090307,       A095,      55,          1,         10,         10,2,20090329,       2246,  -23.99911,  -25.60252,       5712,  2396.2,   3.0067,  34.9323,  34.9326,2,    242.4,   243.2,2,   30.58,2,    1.35,2,  2180.4,2,  2319.8,2,   2.8168,   20.51,2
740H20090307,       A095,      55,          1,         11,         11,2,20090329,       2246,  -23.99911,  -25.60252,       5712,  2016.6,   3.1893,  34.9214,  34.9212,2,    236.9,   237.5,2,   30.65,2,    1.41,2,  -999.0,9,  -999.0,9,   3.0324,   21.33,2
740H20090307,       A095,      55,          1,         12,         12,2,20090329,       2246,  -23.99911,  -25.60252,       5712,  1763.7,   3.1374,  34.8435,  34.8446,2,    217.9,   218.4,2,   40.34,2,    1.64,2,  2198.1,2,  2320.9,2,   3.0045,   24.83,2
740H20090307,       A095,      55,          1,         13,         13,2,20090329,       2246,  -23.99911,  -25.60252,       5712,  1510.5,   3.1396,  34.7347,  34.7340,2,    197.2,   197.1,2,   48.00,2,    1.90,2,  -999.0,9,  -999.0,9,   3.0289,   28.54,2
740H20090307,       A095,      55,          1,         14,         14,2,20090329,       2246,  -23.99911,  -25.60252,       5712,  1257.6,   3.3009,  34.5977,  34.5832,2,    182.6,   182.6,2,   48.98,2,    2.13,2,    2224,2,  2316.6,2,   3.2099,   32.10,2
740H20090307,       A095,      55,          1,         15,         15,2,20090329,       2246,  -23.99911,  -25.60252,       5712,  1005.1,   3.8538,  34.4295,  34.4290,2,    180.4,   180.0,2,   41.69,2,    2.23,2,  -999.0,9,  -999.0,9,   3.7789,   32.43,2
740H20090307,       A095,      55,          1,         16,         16,2,20090329,       2246,  -23.99911,  -25.60252,       5712,   879.8,   4.5748,  34.3936,  34.3935,2,    181.1,   181.6,2,   32.58,2,    2.17,2,  2206.4,2,  2296.2,2,   4.5053,   32.85,2
740H20090307,       A095,      55,          1,         17,         17,2,20090329,       2246,  -23.99911,  -25.60252,       5712,   752.8,   5.5819,  34.4143,  34.4137,2,    183.1,   183.7,2,   24.21,2,    2.01,2,  -999.0,9,  -999.0,9,   5.5173,   30.31,2
740H20090307,       A095,      55,          1,         18,         18,2,20090329,       2246,  -23.99911,  -25.60252,       5712,   502.1,  10.1457,  34.8155,  34.8140,2,    189.1,   189.8,2,    9.23,2,    1.28,2,  2152.3,2,  2296.1,2,  10.0861,   18.79,2
740H20090307,       A095,      55,          1,         19,         19,2,20090329,       2246,  -23.99911,  -25.60252,       5712,   376.7,  12.7837,  35.1327,  35.1283,2,    188.9,   190.5,2,    5.74,2,    0.90,2,  -999.0,9,  -999.0,9,  12.7320,   12.55,2
740H20090307,       A095,      55,          1,         20,         20,2,20090329,       2246,  -23.99911,  -25.60252,       5712,   250.8,  16.2033,  35.6059,  35.5903,2,    199.9,   199.6,2,    3.48,2,    0.46,2,  -999.0,9,  -999.0,9,  16.1630,    4.93,2
740H20090307,       A095,      55,          1,         21,         21,2,20090329,       2246,  -23.99911,  -25.60252,       5712,   176.1,  18.6955,  36.0416,  36.0236,2,    203.1,   203.5,2,    2.62,2,    0.25,2,  -999.0,9,  -999.0,9,  18.6643,    1.52,2
740H20090307,       A095,      55,          1,         22,         22,2,20090329,       2246,  -23.99911,  -25.60252,       5712,   101.6,  22.0041,  36.6213,  36.6090,2,    213.6,   214.4,2,    2.30,2,    0.12,2,  2096.6,2,  2399.2,2,  21.9839,    0.19,2
740H20090307,       A095,      55,          1,         23,         23,2,20090329,       2246,  -23.99911,  -25.60252,       5712,    50.5,  24.2320,  36.7544,  36.7463,2,    221.0,   220.1,2,    2.28,2,    0.04,2,  -999.0,9,  -999.0,9,  24.2212,    0.18,2
740H20090307,       A095,      55,          1,         24,         24,2,20090329,       2246,  -23.99911,  -25.60252,       5712,     6.4,  26.6834,  36.9379,  36.9400,2,    197.3,   196.5,2,    2.19,2,    0.05,2,  2083.9,2,  2413.5,3,  26.6819,    0.16,2
740H20090307,       A095,      56,          1,          1,          1,2,20090330,       0744,  -23.99965,  -24.88311,       5198,  5281.4,   0.7693,  34.7104,  34.7101,2,    215.3,   217.7,2,  115.29,2,    2.12,2,  2256.1,2,  2367.4,3,   0.3262,   31.25,2
740H20090307,       A095,      56,          1,          2,          2,2,20090330,       0744,  -23.99965,  -24.88311,       5198,  5230.7,   0.7697,  34.7110,  34.7112,2,    215.5,   216.6,2,  114.67,2,    2.13,2,  2259.2,2,  2355.9,2,   0.3327,   32.35,2
740H20090307,       A095,      56,          1,          3,          3,2,20090330,       0744,  -23.99965,  -24.88311,       5198,  5083.5,   0.8575,  34.7215,  34.7221,2,    217.2,   219.4,2,  110.85,2,    2.09,2,  2254.7,2,  2355.9,2,   0.4350,   30.81,2
740H20090307,       A095,      56,          1,          4,          4,2,20090330,       0744,  -23.99965,  -24.88311,       5198,  4565.6,   1.1105,  34.7521,  34.7519,2,    222.8,   223.5,2,   99.05,2,    1.98,2,  2229.4,2,  2354.3,2,   0.7398,   29.12,2
740H20090307,       A095,      56,          1,          5,          5,2,20090330,       0744,  -23.99965,  -24.88311,       5198,  4064.5,   1.6208,  34.8071,  34.8070,2,    230.0,   230.6,2,   77.17,2,    1.77,2,  2214.4,2,  2339.2,2,   1.2906,   26.34,2
740H20090307,       A095,      56,          1,          6,          6,2,20090330,       0744,  -23.99965,  -24.88311,       5198,  3550.5,   2.2970,  34.8800,  34.8793,2,    241.3,   242.1,2,   48.36,2,    1.49,2,    2187,2,  2318.1,2,   2.0044,   22.47,2
740H20090307,       A095,      56,          1,          7,          7,2,20090330,       0744,  -23.99965,  -24.88311,       5198,  3037.3,   2.6929,  34.9160,  34.9159,2,    243.9,   245.1,2,   35.33,2,    1.38,2,  2175.6,2,    2319,2,   2.4450,   20.80,2
740H20090307,       A095,      56,          1,          8,          8,2,20090330,       0744,  -23.99965,  -24.88311,       5198,  2526.4,   2.9450,  34.9292,  34.9289,2,    242.2,   243.7,2,   31.27,2,    1.37,2,  2172.7,2,  2321.3,2,   2.7435,   20.64,2
740H20090307,       A095,      56,          1,          9,          9,2,20090330,       0744,  -23.99965,  -24.88311,       5198,  2278.8,   3.0690,  34.9328,  34.9327,2,    241.4,   242.3,2,   29.47,2,    1.37,2,  -999.0,9,  -999.0,9,   2.8893,   20.76,2
740H20090307,       A095,      56,          1,         10,         10,2,20090330,       0744,  -23.99965,  -24.88311,       5198,  2022.4,   3.1989,  34.9192,  34.9192,2,    235.8,   237.2,2,   30.34,2,    1.43,2,  2173.4,2,    2312,2,   3.0413,   21.59,2
740H20090307,       A095,      56,          1,         11,         11,2,20090330,       0744,  -23.99965,  -24.88311,       5198,  1768.8,   3.1997,  34.8625,  34.8630,2,    221.0,   221.5,2,   36.90,2,    1.60,2,  -999.0,9,  -999.0,9,   3.0654,   23.80,2
740H20090307,       A095,      56,          1,         12,         12,2,20090330,       0744,  -23.99965,  -24.88311,       5198,  1514.6,   3.0938,  34.7441,  34.7438,2,    198.8,   199.7,2,   47.04,2,    1.89,2,    2206,2,  2317.3,2,   2.9833,   28.00,2
740H20090307,       A095,      56,          1,         13,         13,2,20090330,       0744,  -23.99965,  -24.88311,       5198,  1262.8,   3.3485,  34.5855,  34.5845,2,    181.7,   181.8,2,   47.57,2,    2.15,2,  -999.0,9,  -999.0,9,   3.2566,   31.36,2
740H20090307,       A095,      56,          1,         14,         14,2,20090330,       0744,  -23.99965,  -24.88311,       5198,  1009.8,   3.8579,  34.4386,  34.4384,2,    178.1,   178.5,2,   40.52,2,    2.24,2,  2209.5,2,  2294.7,2,   3.7826,   33.23,2
740H20090307,       A095,      56,          1,         15,         15,2,20090330,       0744,  -23.99965,  -24.88311,       5198,   884.7,   4.5366,  34.3945,  34.3945,2,    180.6,   181.2,2,   32.11,2,    2.18,2,  -999.0,9,  -999.0,9,   4.4669,   32.12,2
740H20090307,       A095,      56,          1,         16,         16,2,20090330,       0744,  -23.99965,  -24.88311,       5198,   757.3,   5.3412,  34.4052,  34.4062,2,    181.1,   182.3,2,   24.84,2,    2.04,2,  2188.1,2,  2274.4,3,   5.2776,   30.42,2
740H20090307,       A095,      56,          1,         17,         17,2,20090330,       0744,  -23.99965,  -24.88311,       5198,   631.8,   7.2371,  34.5197,  34.5177,2,    186.8,   188.4,2,   15.80,2,    1.73,2,  -999.0,9,  -999.0,9,   7.1754,   25.39,2
740H20090307,       A095,      56,          1,         18,         18,2,20090330,       0744,  -23.99965,  -24.88311,       5198,   503.1,  10.1022,  34.8121,  34.8114,2,    187.9,   189.5,2,    8.99,2,    1.27,2,  -999.0,9,  -999.0,9,  10.0427,   18.24,2
740H20090307,       A095,      56,          1,         19,         19,2,20090330,       0744,  -23.99965,  -24.88311,       5198,   378.1,  12.6652,  35.1274,  35.1276,2,    197.7,   197.4,2,    5.11,2,    0.84,2,  2120.2,2,  2311.9,2,  12.6137,   11.42,2
740H20090307,       A095,      56,          1,         20,         20,2,20090330,       0744,  -23.99965,  -24.88311,       5198,   251.4,  15.9726,  35.5784,  35.5598,2,    205.3,   207.7,2,    3.08,2,    0.39,2,  -999.0,9,  -999.0,9,  15.9326,    3.95,2
740H20090307,       A095,      56,          1,         21,         21,2,20090330,       0744,  -23.99965,  -24.88311,       5198,   175.3,  18.2371,  35.9536,  35.9555,2,    206.3,   208.7,2,    2.60,2,    0.22,2,  2088.6,2,  2363.4,2,  18.2066,    1.05,2
740H20090307,       A095,      56,          1,         22,         22,2,20090330,       0744,  -23.99965,  -24.88311,       5198,   120.5,  20.5488,  36.3499,  36.3510,2,    216.9,   216.0,2,    2.28,2,    0.10,2,  -999.0,9,  -999.0,9,  20.5259,   -0.01,2
740H20090307,       A095,      56,          1,         23,         23,2,20090330,       0744,  -23.99965,  -24.88311,       5198,    50.2,  24.7877,  36.6909,  36.6822,2,    220.7,   216.3,2,    2.18,2,    0.05,2,  2071.3,2,  2411.6,2,  24.7768,    0.10,2
740H20090307,       A095,      56,          1,         24,         24,2,20090330,       0744,  -23.99965,  -24.88311,       5198,     6.3,  26.6705,  36.9619,  36.9900,2,    196.5,   196.3,2,    2.09,2,    0.06,2,  2077.8,2,  2429.1,2,  26.6691,   -0.03,2
740H20090307,       A095,      57,          1,          1,          1,2,20090330,       1619,  -24.00033,  -24.16711,       5256,  5341.5,   0.7626,  34.7089,  34.7086,2,    215.6,   218.6,3,  118.05,2,    2.14,2,  2250.4,2,  2363.3,2,   0.3124,   31.95,2
740H20090307,       A095,      57,          1,          2,          2,2,20090330,       1619,  -24.00033,  -24.16711,       5256,  5291.7,   0.7685,  34.7102,  34.7102,2,    216.7,   217.3,2,  117.28,2,    2.14,2,  2248.8,2,  2362.7,2,   0.3241,   31.88,2
740H20090307,       A095,      57,          1,          3,          3,2,20090330,       1619,  -24.00033,  -24.16711,       5256,  4825.6,   0.9736,  34.7357,  34.7365,2,    219.8,   220.6,2,  107.52,2,    2.05,2,  2240.9,2,  2359.6,2,   0.5774,   30.92,2
740H20090307,       A095,      57,          1,          4,          4,2,20090330,       1619,  -24.00033,  -24.16711,       5256,  4310.4,   1.3274,  34.7762,  34.7758,2,    225.8,   225.8,2,   91.14,2,    1.89,2,  2229.7,2,  2354.3,2,   0.9787,   28.80,2
740H20090307,       A095,      57,          1,          5,          5,2,20090330,       1619,  -24.00033,  -24.16711,       5256,  4054.0,   1.6254,  34.8076,  34.8080,2,    229.9,   230.8,2,   78.31,2,    1.78,2,  2218.9,2,  2347.3,2,   1.2963,   26.91,2
740H20090307,       A095,      57,          1,          6,          6,2,20090330,       1619,  -24.00033,  -24.16711,       5256,  3797.5,   1.9458,  34.8419,  34.8422,2,    235.2,   235.7,2,   64.23,2,    1.65,2,  2201.1,2,  2342.4,2,   1.6358,   24.85,2
740H20090307,       A095,      57,          1,          7,          7,2,20090330,       1619,  -24.00033,  -24.16711,       5256,  3286.1,   2.5775,  34.9070,  34.9067,2,    244.0,   245.1,2,   38.86,2,    1.40,2,  2179.9,2,    2328,2,   2.3062,   21.39,2
740H20090307,       A095,      57,          1,          8,          8,2,20090330,       1619,  -24.00033,  -24.16711,       5256,  2777.5,   2.8242,  34.9239,  34.9243,2,    242.8,   243.9,2,   33.60,2,    1.37,2,  2178.7,2,  2321.5,2,   2.6001,   20.84,2
740H20090307,       A095,      57,          1,          9,          9,2,20090330,       1619,  -24.00033,  -24.16711,       5256,  2396.4,   3.0135,  34.9329,  34.9328,2,    242.2,   243.6,2,   30.57,2,    1.36,2,  2174.8,2,  2321.2,2,   2.8235,   20.97,2
740H20090307,       A095,      57,          1,         10,         10,2,20090330,       1619,  -24.00033,  -24.16711,       5256,  2015.4,   3.2048,  34.9194,  34.9196,2,    235.5,   236.4,2,   30.76,2,    1.43,2,  -999.0,9,  -999.0,9,   3.0479,   21.89,2
740H20090307,       A095,      57,          1,         11,         11,2,20090330,       1619,  -24.00033,  -24.16711,       5256,  1762.9,   3.1664,  34.8530,  34.8547,2,    219.4,   220.3,2,   38.77,2,    1.61,2,  2192.3,2,  2320.6,2,   3.0331,   24.73,2
740H20090307,       A095,      57,          1,         12,         12,2,20090330,       1619,  -24.00033,  -24.16711,       5256,  1509.7,   3.2207,  34.7590,  34.7579,2,    199.9,   201.6,2,   45.03,2,    1.84,2,  -999.0,9,  -999.0,9,   3.1090,   28.10,2
740H20090307,       A095,      57,          1,         13,         13,2,20090330,       1619,  -24.00033,  -24.16711,       5256,  1256.7,   3.3577,  34.6078,  34.6103,2,    182.8,   183.0,2,   47.82,2,    2.08,2,  2221.4,2,  2315.9,2,   3.2661,   31.67,2
740H20090307,       A095,      57,          1,         14,         14,2,20090330,       1619,  -24.00033,  -24.16711,       5256,  1004.7,   3.8599,  34.4553,  34.4563,2,    175.9,   176.4,2,   40.96,2,    2.21,2,  -999.0,9,  -999.0,9,   3.7850,   33.87,2
740H20090307,       A095,      57,          1,         15,         15,2,20090330,       1619,  -24.00033,  -24.16711,       5256,   878.6,   4.3426,  34.4124,  34.4126,2,    175.1,   176.0,2,   34.93,2,    2.19,2,  2209.6,2,  2297.7,2,   4.2748,   33.56,2
740H20090307,       A095,      57,          1,         16,         16,2,20090330,       1619,  -24.00033,  -24.16711,       5256,   752.2,   5.2537,  34.3980,  34.3994,2,    183.9,   185.4,2,   25.86,2,    2.03,2,  -999.0,9,  -999.0,9,   5.1910,   30.90,2
740H20090307,       A095,      57,          1,         17,         17,2,20090330,       1619,  -24.00033,  -24.16711,       5256,   627.0,   7.2345,  34.5163,  34.5029,2,    189.5,   190.7,2,   16.27,2,    1.73,2,  2174.1,2,    2288,2,   7.1733,   26.34,2
740H20090307,       A095,      57,          1,         18,         18,2,20090330,       1619,  -24.00033,  -24.16711,       5256,   501.3,  10.1804,  34.8247,  34.8217,2,    187.9,   189.9,2,    8.94,2,    1.25,2,  2150.6,2,  2298.4,2,  10.1208,   18.02,2
740H20090307,       A095,      57,          1,         19,         19,2,20090330,       1619,  -24.00033,  -24.16711,       5256,   375.9,  12.9858,  35.1732,  35.1657,2,    205.3,   205.5,2,    4.89,2,    0.75,2,  -999.0,9,  -999.0,9,  12.9337,   10.18,2
740H20090307,       A095,      57,          1,         20,         20,2,20090330,       1619,  -24.00033,  -24.16711,       5256,   251.7,  15.6530,  35.5213,  35.5001,2,    204.8,   205.0,2,    3.53,2,    0.44,2,    2107,2,  2331.4,2,  15.6135,    4.89,2
740H20090307,       A095,      57,          1,         21,         21,2,20090330,       1619,  -24.00033,  -24.16711,       5256,   176.4,  18.1002,  35.9296,  35.9006,2,    207.4,   207.3,2,    2.84,2,    0.24,2,  -999.0,9,  -999.0,9,  18.0696,    1.45,2
740H20090307,       A095,      57,          1,         22,         22,2,20090330,       1619,  -24.00033,  -24.16711,       5256,   100.8,  20.9669,  36.4200,  36.4035,2,    217.5,   218.4,2,    2.51,2,    0.10,2,    2088,2,  2389.5,2,  20.9475,    0.02,2
740H20090307,       A095,      57,          1,         23,         23,2,20090330,       1619,  -24.00033,  -24.16711,       5256,    50.5,  23.5738,  36.6166,  36.6014,2,    222.0,   222.7,3,    2.49,2,    0.04,2,  -999.0,9,  -999.0,9,  23.5633,    0.02,2
740H20090307,       A095,      57,          1,         24,         24,2,20090330,       1619,  -24.00033,  -24.16711,       5256,     6.3,  26.4410,  36.7671,  36.7703,2,    198.0,   198.2,2,    2.20,2,    0.02,2,  2072.7,2,  2411.2,2,  26.4396,    0.02,2