BOTTLE,20211101CCHSIORKP
EXPOCODE,SECT_ID,STNNBR,CASTNO,SAMPNO,BTLNBR,BTLNBR_FLAG_W,DATE,TIME,LATITUDE,LONGITUDE,DEPTH,CTDPRS,CTDTMP,CTDSAL,SALNTY,SALNTY_FLAG_W,CTDOXY,OXYGEN,OXYGEN_FLAG_W,SILCAT,SILCAT_FLAG_W,PHSPHT,PHSPHT_FLAG_W,TCARBN,TCARBN_FLAG_W,ALKALI,ALKALI_FLAG_W,THETA,NO2+NO3,NO2+NO3_FLAG_W
,,,,,,,,,,,METERS,DBAR,ITS-90,PSS-78,PSS-78,,UMOL/KG,UMOL/KG,,UMOL/KG,,UMOL/KG,,UMOL/KG,,UMOL/KG,,DEG C,UMOL/KG,
740H20090307,       A095,      42,          1,          1,          1,2,20090323,       2012,  -24.00137,  -33.69799,       4628,  4701.3,   0.3154,  34.6745,  34.6749,2,    214.4,   214.4,2,  131.28,2,    2.28,2,  2255.3,2,  2364.5,2,  -0.0445,   33.69,2
740H20090307,       A095,      42,          1,          2,          2,2,20090323,       2012,  -24.00137,  -33.69799,       4628,  4654.6,   0.3580,  34.6783,  34.6787,2,    215.6,   214.9,2,  130.51,2,    2.27,2,  2259.3,2,  2365.1,2,   0.0018,   32.84,2
740H20090307,       A095,      42,          1,          3,          3,2,20090323,       2012,  -24.00137,  -33.69799,       4628,  4654.8,   0.3581,  34.6783,  34.6785,2,    215.5,   214.8,2,  129.71,2,    2.27,2,  -999.0,9,  -999.0,9,   0.0020,   33.14,2
740H20090307,       A095,      42,          1,          4,          4,2,20090323,       2012,  -24.00137,  -33.69799,       4628,  4326.3,   0.9428,  34.7328,  34.7307,2,    219.1,   218.7,2,  108.78,2,    2.09,2,  2244.1,2,  2359.4,2,   0.6042,   31.05,2
740H20090307,       A095,      42,          1,          5,          5,2,20090323,       2012,  -24.00137,  -33.69799,       4628,  3810.4,   1.9215,  34.8411,  34.8407,2,    236.9,   236.3,2,   64.53,2,    1.66,2,  2203.4,2,  2342.4,2,   1.6107,   24.72,2
740H20090307,       A095,      42,          1,          6,          6,2,20090323,       2012,  -24.00137,  -33.69799,       4628,  3296.3,   2.5993,  34.9087,  34.9082,2,    245.7,   244.4,2,   38.26,2,    1.42,2,  -999.0,9,  -999.0,9,   2.3264,   21.21,2
740H20090307,       A095,      42,          1,          7,          7,2,20090323,       2012,  -24.00137,  -33.69799,       4628,  2784.6,   2.8570,  34.9245,  34.9241,2,    244.0,   244.3,2,   33.33,2,    1.39,2,  2175.4,2,  2326.5,2,   2.6315,   20.94,2
740H20090307,       A095,      42,          1,          8,          8,2,20090323,       2012,  -24.00137,  -33.69799,       4628,  2529.8,   3.0044,  34.9307,  34.9300,2,    243.1,   243.1,2,   31.16,2,    1.39,2,  -999.0,9,  -999.0,9,   2.8014,   20.94,2
740H20090307,       A095,      42,          1,          9,          9,2,20090323,       2012,  -24.00137,  -33.69799,       4628,  2275.3,   3.1455,  34.9353,  34.9348,2,    242.1,   242.4,2,   29.14,2,    1.38,2,    2172,2,  2319.2,2,   2.9648,   21.00,2
740H20090307,       A095,      42,          1,         10,         10,2,20090323,       2012,  -24.00137,  -33.69799,       4628,  2020.4,   3.1813,  34.9094,  34.9090,2,    234.6,   234.2,2,   32.88,2,    1.47,2,  -999.0,9,  -999.0,9,   3.0242,   22.13,2
740H20090307,       A095,      42,          1,         11,         11,2,20090323,       2012,  -24.00137,  -33.69799,       4628,  1766.9,   3.1935,  34.8602,  34.8591,2,    221.5,   222.0,2,   38.98,2,    1.63,2,  2190.3,2,  2323.5,2,   3.0595,   24.42,2
740H20090307,       A095,      42,          1,         12,         12,2,20090323,       2012,  -24.00137,  -33.69799,       4628,  1513.9,   3.0572,  34.7401,  34.7396,2,    199.2,   198.8,2,   50.55,2,    1.92,2,  -999.0,9,  -999.0,9,   2.9471,   28.73,2
740H20090307,       A095,      42,          1,         13,         13,2,20090323,       2012,  -24.00137,  -33.69799,       4628,  1260.1,   3.0989,  34.5897,  34.5883,2,    184.4,   183.7,2,   54.44,2,    2.17,2,  2222.3,2,  2318.9,2,   3.0097,   32.53,2
740H20090307,       A095,      42,          1,         14,         14,2,20090323,       2012,  -24.00137,  -33.69799,       4628,  1007.3,   3.6324,  34.4290,  34.4287,2,    185.4,   184.0,2,   43.86,2,    2.25,2,  -999.0,9,  -999.0,9,   3.5591,   33.55,2
740H20090307,       A095,      42,          1,         15,         15,2,20090323,       2012,  -24.00137,  -33.69799,       4628,   881.6,   4.1598,  34.3678,  34.3686,2,    192.1,   192.2,2,   35.28,2,    2.19,2,  2202.4,2,  2297.4,2,   4.0930,   32.31,2
740H20090307,       A095,      42,          1,         16,         16,2,20090323,       2012,  -24.00137,  -33.69799,       4628,   755.3,   5.1438,  34.3659,  34.3698,2,    201.0,   199.0,2,   24.56,2,    2.02,2,  2183.4,2,  2290.3,2,   5.0815,   30.10,2
740H20090307,       A095,      42,          1,         17,         17,2,20090323,       2012,  -24.00137,  -33.69799,       4628,   628.8,   7.2405,  34.5153,  34.5140,2,    193.3,   191.4,2,   15.36,2,    1.74,2,  2167.9,2,  2288.1,2,   7.1791,   26.01,2
740H20090307,       A095,      42,          1,         18,         18,2,20090323,       2012,  -24.00137,  -33.69799,       4628,   502.7,  10.3500,  34.8424,  34.8430,2,    194.0,   193.3,2,    8.26,2,    1.24,2,    2143,2,  2298.5,2,  10.2896,   17.72,2
740H20090307,       A095,      42,          1,         19,         19,2,20090323,       2012,  -24.00137,  -33.69799,       4628,   377.5,  12.9845,  35.1837,  35.1854,2,    198.9,   198.8,2,    4.88,2,    0.83,2,  -999.0,9,  -999.0,9,  12.9322,   10.90,2
740H20090307,       A095,      42,          1,         20,         20,2,20090323,       2012,  -24.00137,  -33.69799,       4628,   251.2,  15.5816,  35.5269,  35.5273,2,    204.8,   204.7,2,    3.19,2,    0.46,2,  2101.6,2,  2331.9,2,  15.5424,    4.69,2
740H20090307,       A095,      42,          1,         21,         21,2,20090323,       2012,  -24.00137,  -33.69799,       4628,   175.2,  17.7974,  35.8911,  35.8851,2,    208.0,   205.9,2,    2.53,2,    0.26,2,  -999.0,9,  -999.0,9,  17.7674,    1.77,2
740H20090307,       A095,      42,          1,         22,         22,2,20090323,       2012,  -24.00137,  -33.69799,       4628,   100.3,  20.4126,  36.2950,  36.2908,2,    222.4,   220.3,2,    2.12,2,    0.08,2,  2079.9,2,  2376.2,2,  20.3937,    0.01,2
740H20090307,       A095,      42,          1,         23,         23,2,20090323,       2012,  -24.00137,  -33.69799,       4628,    49.1,  24.5843,  36.6748,  36.6737,2,    224.2,   220.4,2,    2.28,2,    0.06,2,  -999.0,9,  -999.0,9,  24.5737,   -0.01,2
740H20090307,       A095,      42,          1,         24,         24,2,20090323,       2012,  -24.00137,  -33.69799,       4628,     3.9,  27.6019,  36.6761,  36.6755,2,    196.5,   195.5,2,    2.09,2,    0.03,2,    2061,2,  2404.2,2,  27.6009,    0.00,2
740H20090307,       A095,      43,          1,          1,          1,2,20090324,       0344,  -23.99953,  -33.06848,       4766,  4843.0,   0.4232,  34.6826,  34.6821,2,    215.0,   215.1,2,  124.88,2,    2.22,2,  2260.4,2,    2365,2,   0.0437,   32.27,2
740H20090307,       A095,      43,          1,          2,          2,2,20090324,       0344,  -23.99953,  -33.06848,       4766,  4792.3,   0.4367,  34.6842,  34.6845,2,    215.3,   215.3,2,  124.02,2,    2.21,2,  2262.3,2,    2369,2,   0.0625,   32.27,2
740H20090307,       A095,      43,          1,          3,          3,2,20090324,       0344,  -23.99953,  -33.06848,       4766,  4791.6,   0.4440,  34.6848,  34.6846,2,    215.3,   215.3,2,  123.76,2,    2.21,2,  -999.0,9,  -999.0,9,   0.0696,   32.49,2
740H20090307,       A095,      43,          1,          4,          4,2,20090324,       0344,  -23.99953,  -33.06848,       4766,  4575.1,   0.8634,  34.7225,  34.7212,2,    218.1,   217.5,2,  109.48,2,    2.09,2,  2252.5,2,  2364.1,2,   0.4996,   30.75,2
740H20090307,       A095,      43,          1,          5,          5,2,20090324,       0344,  -23.99953,  -33.06848,       4766,  4062.4,   1.6563,  34.8118,  34.8111,2,    231.9,   232.2,2,   74.19,2,    1.75,2,  -999.0,9,  -999.0,9,   1.3253,   25.91,2
740H20090307,       A095,      43,          1,          6,          6,2,20090324,       0344,  -23.99953,  -33.06848,       4766,  3549.3,   2.5087,  34.8993,  34.9006,2,    246.6,   245.3,2,   40.14,2,    1.41,2,  2187.4,2,    2332,2,   2.2108,   20.91,2
740H20090307,       A095,      43,          1,          7,          7,2,20090324,       0344,  -23.99953,  -33.06848,       4766,  3041.7,   2.8147,  34.9211,  34.9210,2,    244.0,   243.8,2,   33.65,2,    1.37,2,  2181.4,2,  2330.2,2,   2.5637,   20.49,2
740H20090307,       A095,      43,          1,          8,          8,2,20090324,       0344,  -23.99953,  -33.06848,       4766,  2530.5,   3.0683,  34.9356,  34.9345,2,    243.6,   244.3,2,   29.08,2,    1.35,2,  2176.9,2,  2325.2,2,   2.8641,   20.07,2
740H20090307,       A095,      43,          1,          9,          9,2,20090324,       0344,  -23.99953,  -33.06848,       4766,  2277.0,   3.2324,  34.9438,  34.9440,2,    243.6,   244.3,2,   26.42,2,    1.33,2,  -999.0,9,  -999.0,9,   3.0501,   19.88,2
740H20090307,       A095,      43,          1,         10,         10,2,20090324,       0344,  -23.99953,  -33.06848,       4766,  2022.5,   3.4615,  34.9533,  34.9533,2,    242.4,   242.5,2,   23.28,2,    1.32,2,  2173.2,2,  2318.5,2,   3.2999,   19.88,2
740H20090307,       A095,      43,          1,         11,         11,2,20090324,       0344,  -23.99953,  -33.06848,       4766,  1767.9,   3.6564,  34.9377,  34.9369,2,    232.5,   232.9,2,   24.24,2,    1.40,2,  -999.0,9,  -999.0,9,   3.5159,   21.14,2
740H20090307,       A095,      43,          1,         12,         12,2,20090324,       0344,  -23.99953,  -33.06848,       4766,  1514.3,   3.5679,  34.8227,  34.8244,2,    207.6,   208.1,2,   35.70,2,    1.72,2,  2199.6,2,  2321.1,2,   3.4517,   25.76,2
740H20090307,       A095,      43,          1,         13,         13,2,20090324,       0344,  -23.99953,  -33.06848,       4766,  1261.3,   3.2966,  34.6094,  34.6135,2,    184.6,   183.8,2,   47.90,2,    2.10,2,  -999.0,9,  -999.0,9,   3.2053,   30.92,2
740H20090307,       A095,      43,          1,         14,         14,2,20090324,       0344,  -23.99953,  -33.06848,       4766,  1008.9,   3.6566,  34.4231,  34.4235,2,    186.3,   185.0,2,   42.30,2,    2.22,2,  2216.1,2,  2309.5,2,   3.5830,   32.93,2
740H20090307,       A095,      43,          1,         15,         15,2,20090324,       0344,  -23.99953,  -33.06848,       4766,   882.9,   4.4696,  34.3943,  34.3922,2,    182.9,   182.4,2,   32.53,2,    2.18,2,  -999.0,9,  -999.0,9,   4.4005,   32.17,2
740H20090307,       A095,      43,          1,         16,         16,2,20090324,       0344,  -23.99953,  -33.06848,       4766,   756.0,   5.5405,  34.4083,  34.4080,2,    185.8,   186.1,2,   23.40,2,    2.00,2,  2190.9,2,  2292.6,2,   5.4759,   29.41,2
740H20090307,       A095,      43,          1,         17,         17,2,20090324,       0344,  -23.99953,  -33.06848,       4766,   630.3,   7.0891,  34.4962,  34.4986,2,    195.4,   194.8,2,   15.06,2,    1.72,2,  2170.8,2,  2291.8,2,   7.0283,   24.94,2
740H20090307,       A095,      43,          1,         18,         18,2,20090324,       0344,  -23.99953,  -33.06848,       4766,   504.9,  10.0401,  34.8070,  34.7981,2,    190.6,   189.8,2,    9.04,2,    1.29,2,  -999.0,9,  -999.0,9,   9.9806,   18.81,2
740H20090307,       A095,      43,          1,         19,         19,2,20090324,       0344,  -23.99953,  -33.06848,       4766,   379.1,  13.0916,  35.1955,  35.1915,2,    203.1,   203.7,2,    4.69,2,    0.75,2,  2122.6,2,  2318.7,2,  13.0388,   10.08,2
740H20090307,       A095,      43,          1,         20,         20,2,20090324,       0344,  -23.99953,  -33.06848,       4766,   252.9,  16.1254,  35.5974,  35.5857,2,    207.2,   206.6,2,    3.19,2,    0.38,2,  -999.0,9,  -999.0,9,  16.0849,    3.82,2
740H20090307,       A095,      43,          1,         21,         21,2,20090324,       0344,  -23.99953,  -33.06848,       4766,   178.5,  18.4999,  36.0206,  36.0122,2,    204.5,   206.9,2,    2.53,2,    0.19,2,  2097.7,2,  2363.8,2,  18.4684,    1.18,2
740H20090307,       A095,      43,          1,         22,         22,2,20090324,       0344,  -23.99953,  -33.06848,       4766,   101.1,  21.3219,  36.5065,  36.4976,2,    210.5,   209.3,2,    2.39,2,    0.10,2,  -999.0,9,  -999.0,9,  21.3022,    0.12,2
740H20090307,       A095,      43,          1,         23,         23,2,20090324,       0344,  -23.99953,  -33.06848,       4766,    51.1,  24.3677,  36.5969,  36.5981,2,    227.0,   223.7,2,    2.29,2,   -0.02,2,  -999.0,9,  -999.0,9,  24.3568,    0.07,2
740H20090307,       A095,      43,          1,         24,         24,2,20090324,       0344,  -23.99953,  -33.06848,       4766,     6.3,  27.5832,  36.7479,  36.7475,2,    194.9,   193.4,2,    2.21,2,   -0.02,2,  2057.7,2,  2410.6,2,  27.5818,    0.05,2
740H20090307,       A095,      44,          1,          1,          1,2,20090324,       1139,  -24.00194,  -32.43301,       5013,  5095.3,   0.3726,  34.6749,  34.6740,2,    214.2,   215.5,2,  132.59,2,    2.27,2,  2262.2,2,  2361.6,2,  -0.0342,   33.88,2
740H20090307,       A095,      44,          1,          2,          2,2,20090324,       1139,  -24.00194,  -32.43301,       5013,  5044.5,   0.3757,  34.6756,  34.6748,2,    214.3,   214.2,2,  132.46,2,    2.27,2,  2263.4,2,  2361.6,2,  -0.0252,   33.87,2
740H20090307,       A095,      44,          1,          3,          3,2,20090324,       1139,  -24.00194,  -32.43301,       5013,  5045.0,   0.3759,  34.6756,  34.6757,2,    214.3,   214.3,2,  133.01,2,    2.27,2,  -999.0,9,  -999.0,9,  -0.0251,   33.54,2
740H20090307,       A095,      44,          1,          4,          4,2,20090324,       1139,  -24.00194,  -32.43301,       5013,  4834.3,   0.7678,  34.7102,  34.7085,2,    216.8,   216.5,2,  119.03,2,    2.15,2,  2254.1,2,  2355.9,2,   0.3776,   32.22,2
740H20090307,       A095,      44,          1,          5,          5,2,20090324,       1139,  -24.00194,  -32.43301,       5013,  4317.0,   1.4126,  34.7832,  34.7821,2,    227.2,   226.9,2,   88.56,2,    1.88,2,  2222.6,2,  2345.4,2,   1.0605,   27.83,2
740H20090307,       A095,      44,          1,          6,          6,2,20090324,       1139,  -24.00194,  -32.43301,       5013,  3802.7,   2.3105,  34.8797,  34.8790,2,    242.5,   243.0,2,   49.06,2,    1.49,2,  2177.5,2,  2327.9,2,   1.9898,   22.61,2
740H20090307,       A095,      44,          1,          7,          7,2,20090324,       1139,  -24.00194,  -32.43301,       5013,  3288.2,   2.7325,  34.9165,  34.9158,2,    244.9,   244.3,2,   35.98,2,    1.39,2,  2169.9,2,  2317.7,2,   2.4573,   21.15,2
740H20090307,       A095,      44,          1,          8,          8,2,20090324,       1139,  -24.00194,  -32.43301,       5013,  2776.4,   2.9445,  34.9285,  34.9278,2,    243.8,   244.3,2,   32.19,2,    1.37,2,  2175.4,2,  2317.4,2,   2.7180,   20.70,2
740H20090307,       A095,      44,          1,          9,          9,2,20090324,       1139,  -24.00194,  -32.43301,       5013,  2522.1,   3.0934,  34.9373,  34.9374,2,    244.0,   244.6,2,   29.49,2,    1.36,2,  -999.0,9,  -999.0,9,   2.8895,   20.30,2
740H20090307,       A095,      44,          1,         10,         10,2,20090324,       1139,  -24.00194,  -32.43301,       5013,  2267.5,   3.2817,  34.9475,  34.9468,2,    244.1,   245.0,2,   26.15,2,    1.34,2,  2173.2,2,  2311.5,2,   3.0995,   20.56,2
740H20090307,       A095,      44,          1,         11,         11,2,20090324,       1139,  -24.00194,  -32.43301,       5013,  2024.3,   3.4691,  34.9501,  34.9499,2,    241.2,   240.6,2,   24.88,2,    1.35,2,  -999.0,9,  -999.0,9,   3.3072,   20.68,2
740H20090307,       A095,      44,          1,         12,         12,2,20090324,       1139,  -24.00194,  -32.43301,       5013,  1771.0,   3.5727,  34.9123,  34.9121,2,    227.6,   227.7,2,   29.00,2,    1.48,2,  2183.8,2,    2312,2,   3.4331,   22.91,2
740H20090307,       A095,      44,          1,         13,         13,2,20090324,       1139,  -24.00194,  -32.43301,       5013,  1517.4,   3.6819,  34.8315,  34.8326,2,    205.9,   206.5,2,   35.10,2,    1.73,2,  -999.0,9,  -999.0,9,   3.5641,   26.21,2
740H20090307,       A095,      44,          1,         14,         14,2,20090324,       1139,  -24.00194,  -32.43301,       5013,  1264.4,   3.2704,  34.5930,  34.5987,2,    184.2,   184.0,2,   49.51,2,    2.12,2,  2223.2,2,  2315.2,2,   3.1791,   31.67,2
740H20090307,       A095,      44,          1,         15,         15,2,20090324,       1139,  -24.00194,  -32.43301,       5013,  1009.1,   3.7008,  34.4191,  34.4181,2,    185.4,   185.2,2,   42.84,2,    2.21,2,  -999.0,9,  -999.0,9,   3.6268,   33.20,2
740H20090307,       A095,      44,          1,         16,         16,2,20090324,       1139,  -24.00194,  -32.43301,       5013,   882.8,   4.2879,  34.3708,  34.3704,2,    191.6,   190.6,2,   33.79,2,    2.14,2,  2207.4,2,    2293,2,   4.2201,   32.29,2
740H20090307,       A095,      44,          1,         17,         17,2,20090324,       1139,  -24.00194,  -32.43301,       5013,   757.0,   5.5331,  34.3970,  34.3956,2,    192.2,   191.7,2,   22.95,2,    1.97,2,  2185.8,2,  2286.8,2,   5.4684,   29.95,2
740H20090307,       A095,      44,          1,         18,         18,2,20090324,       1139,  -24.00194,  -32.43301,       5013,   505.8,   9.9267,  34.7930,  34.7732,2,    189.4,   189.0,2,    9.88,2,    1.34,2,  2152.7,2,  2292.1,2,   9.8675,   19.38,2
740H20090307,       A095,      44,          1,         19,         19,2,20090324,       1139,  -24.00194,  -32.43301,       5013,   381.3,  12.7158,  35.1325,  35.1209,2,    196.7,   197.8,2,    5.69,2,    0.87,2,  -999.0,9,  -999.0,9,  12.6637,   11.94,2
740H20090307,       A095,      44,          1,         20,         20,2,20090324,       1139,  -24.00194,  -32.43301,       5013,   253.6,  15.4436,  35.4854,  35.4802,2,    199.3,   198.0,2,    3.85,2,    0.52,2,  2105.1,2,  2326.9,2,  15.4042,    5.82,2
740H20090307,       A095,      44,          1,         21,         21,2,20090324,       1139,  -24.00194,  -32.43301,       5013,   151.2,  19.4664,  36.1960,  36.1869,2,    199.3,   198.5,2,    2.69,2,    0.22,2,  -999.0,9,  -999.0,9,  19.4388,    1.23,2
740H20090307,       A095,      44,          1,         22,         22,2,20090324,       1139,  -24.00194,  -32.43301,       5013,   100.8,  21.5212,  36.4889,  36.4242,2,    221.7,   218.7,2,    2.39,2,    0.05,2,  2075.9,2,  2383.8,2,  21.5015,    0.04,2
740H20090307,       A095,      44,          1,         23,         23,2,20090324,       1139,  -24.00194,  -32.43301,       5013,    49.6,  25.0403,  36.7601,  36.7630,2,    221.0,   220.4,2,    2.45,2,    0.01,2,  -999.0,9,  -999.0,9,  25.0294,    0.02,2
740H20090307,       A095,      44,          1,         24,         24,2,20090324,       1139,  -24.00194,  -32.43301,       5013,     5.1,  27.5491,  36.8270,  36.8265,2,    195.1,   194.5,2,    2.27,2,    0.00,2,  2056.5,2,    2408,2,  27.5479,    0.03,2