BOTTLE,20211101CCHSIORKP
EXPOCODE,SECT_ID,STNNBR,CASTNO,SAMPNO,BTLNBR,BTLNBR_FLAG_W,DATE,TIME,LATITUDE,LONGITUDE,DEPTH,CTDPRS,CTDTMP,CTDSAL,SALNTY,SALNTY_FLAG_W,CTDOXY,OXYGEN,OXYGEN_FLAG_W,SILCAT,SILCAT_FLAG_W,PHSPHT,PHSPHT_FLAG_W,TCARBN,TCARBN_FLAG_W,ALKALI,ALKALI_FLAG_W,THETA,NO2+NO3,NO2+NO3_FLAG_W
,,,,,,,,,,,METERS,DBAR,ITS-90,PSS-78,PSS-78,,UMOL/KG,UMOL/KG,,UMOL/KG,,UMOL/KG,,UMOL/KG,,UMOL/KG,,DEG C,UMOL/KG,
740H20090307,       A095,      19,          1,          1,          1,2,20090315,       0441,  -25.15061,  -44.67252,        996,  1000.9,   3.9177,  34.3558,  34.3560,2,    198.5,   198.0,2,   36.76,2,    2.17,2,  2203.3,2,  2302.1,2,   3.8428,   32.11,2
740H20090307,       A095,      19,          1,          3,          3,2,20090315,       0441,  -25.15061,  -44.67252,        996,   951.3,   4.1432,  34.3443,  34.3455,2,    201.6,   201.2,2,   33.16,2,    2.13,2,  2193.4,2,  2297.6,2,   4.0708,   31.75,2
740H20090307,       A095,      19,          1,          5,          5,2,20090315,       0441,  -25.15061,  -44.67252,        996,   750.2,   5.2916,  34.3658,  34.3668,2,    205.6,   204.4,2,   22.90,2,    1.96,2,  2177.7,2,    2290,2,   5.2290,   28.95,2
740H20090307,       A095,      19,          1,          7,          7,2,20090315,       0441,  -25.15061,  -44.67252,        996,   619.7,   6.3154,  34.4261,  34.4275,2,    204.0,   203.4,2,   17.31,2,    1.81,2,  -999.0,9,  -999.0,9,   6.2593,   26.99,2
740H20090307,       A095,      19,          1,          8,          8,2,20090315,       0441,  -25.15061,  -44.67252,        996,   499.3,   8.3269,  34.6179,  34.6202,2,    196.0,   194.8,2,   12.29,2,    1.53,2,  2152.6,2,  2294.1,2,   8.2744,   22.56,2
740H20090307,       A095,      19,          1,         10,         10,2,20090315,       0441,  -25.15061,  -44.67252,        996,   402.9,  11.3177,  34.9762,  34.9779,2,    195.0,   194.1,2,    7.27,2,    1.07,2,  -999.0,9,  -999.0,9,  11.2667,   15.21,2
740H20090307,       A095,      19,          1,         11,         11,2,20090315,       0441,  -25.15061,  -44.67252,        996,   247.1,  15.3595,  35.5173,  35.5190,2,    199.8,   198.8,2,    3.98,2,    0.51,2,  2107.5,2,  2337.1,2,  15.3213,    5.95,2
740H20090307,       A095,      19,          1,         13,         13,2,20090315,       0441,  -25.15061,  -44.67252,        996,   171.8,  18.0616,  35.9808,  35.9834,2,    199.9,   198.7,2,    3.10,2,    0.28,2,  -999.0,9,  -999.0,9,  18.0319,    2.53,2
740H20090307,       A095,      19,          1,         15,         15,2,20090315,       0441,  -25.15061,  -44.67252,        996,   101.1,  20.8397,  36.5177,  36.5180,2,    208.3,   207.5,2,    2.59,2,    0.07,2,  2088.2,2,  2397.2,2,  20.8203,    0.12,2
740H20090307,       A095,      19,          1,         17,         17,2,20090315,       0441,  -25.15061,  -44.67252,        996,    80.5,  21.5869,  36.6484,  36.6404,2,    212.9,   209.8,3,    2.58,2,    0.05,2,  -999.0,9,  -999.0,9,  21.5710,    0.03,2
740H20090307,       A095,      19,          1,         19,         19,2,20090315,       0441,  -25.15061,  -44.67252,        996,    48.9,  23.0450,  36.7866,  36.7970,2,    219.1,   219.1,2,    2.56,2,    0.01,2,  2074.4,2,  2413.3,2,  23.0350,    0.02,2
740H20090307,       A095,      19,          1,         21,         21,2,20090315,       0441,  -25.15061,  -44.67252,        996,    22.2,  25.4263,  36.8063,  36.8011,2,    213.9,   210.7,2,    2.56,2,    0.01,2,  -999.0,9,  -999.0,9,  25.4214,    0.00,2
740H20090307,       A095,      19,          1,         23,         23,2,20090315,       0441,  -25.15061,  -44.67252,        996,     4.5,  27.1760,  36.5816,  36.5689,2,    167.0,   197.0,2,    2.96,2,    0.02,2,  2057.9,2,  2399.3,2,  27.1750,    0.01,2
740H20090307,       A095,      20,          1,          1,          1,2,20090315,       0656,  -25.04959,  -44.72358,        504,   499.4,   8.5512,  34.6453,  34.6478,2,    194.1,   193.8,2,   12.53,2,    1.49,2,  2151.7,2,  2294.6,2,   8.4979,   21.94,2
740H20090307,       A095,      20,          1,          3,          3,3,20090315,       0656,  -25.04959,  -44.72358,        504,   499.3,   8.5528,  34.6455,-999.0000,9,    194.1,  -999.0,9, -999.00,9, -999.00,9,  -999.0,9,  -999.0,9,   8.4995, -999.00,9
740H20090307,       A095,      20,          1,          4,          4,2,20090315,       0656,  -25.04959,  -44.72358,        504,   449.3,   9.1549,  34.7117,  34.7089,2,    192.9,   192.0,2,   11.02,2,    1.42,2,    2149,2,  2295.6,2,   9.1050,   20.40,2
740H20090307,       A095,      20,          1,          7,          7,2,20090315,       0656,  -25.04959,  -44.72358,        504,   378.0,  10.4515,  34.8692,  34.8550,2,    194.0,   192.5,9,    8.89,2,    1.23,2,  2139.6,2,  2302.1,2,  10.4061,   17.23,2
740H20090307,       A095,      20,          1,          9,          9,2,20090315,       0656,  -25.04959,  -44.72358,        504,   302.8,  13.4649,  35.2689,  35.2529,2,    196.3,   196.4,2,    5.45,2,    0.77,2,  -999.0,9,  -999.0,9,  13.4220,   10.29,2
740H20090307,       A095,      20,          1,         11,         11,2,20090315,       0656,  -25.04959,  -44.72358,        504,   176.8,  18.6024,  36.1281,  36.1278,2,    200.0,   200.6,9,    2.98,2,    0.22,2,  2096.3,2,  2371.4,2,  18.5711,    2.08,2
740H20090307,       A095,      20,          1,         13,         13,2,20090315,       0656,  -25.04959,  -44.72358,        504,    99.2,  21.2829,  36.6624,  36.6628,2,    206.3,   205.9,2,    2.68,2,    0.06,2,  -999.0,9,  -999.0,9,  21.2636,    0.05,2
740H20090307,       A095,      20,          1,         15,         15,2,20090315,       0656,  -25.04959,  -44.72358,        504,    76.3,  21.9792,  36.7017,  36.7033,2,    216.9,   215.6,2,    2.61,2,    0.02,2,  2078.8,2,  2407.4,2,  21.9640,    0.03,2
740H20090307,       A095,      20,          1,         17,         17,2,20090315,       0656,  -25.04959,  -44.72358,        504,    51.5,  23.2668,  36.8645,  36.8573,2,    218.3,   214.1,2,    2.56,2,    0.03,2,  -999.0,9,  -999.0,9,  23.2562,    0.05,2
740H20090307,       A095,      20,          1,         19,         19,2,20090315,       0656,  -25.04959,  -44.72358,        504,    26.3,  25.2027,  36.7716,  36.7660,2,    212.1,   211.8,2,    2.67,2,    0.03,2,  2070.5,2,  2409.6,2,  25.1969,    0.04,2
740H20090307,       A095,      20,          1,         22,         22,2,20090315,       0656,  -25.04959,  -44.72358,        504,     6.4,  27.2489,  36.5526,  36.5524,2,    195.7,   194.6,3,    2.93,2,    0.02,2,  2057.2,2,  2395.8,2,  27.2474,    0.03,2
740H20090307,       A095,      21,          1,          1,          1,2,20090315,       0847,  -24.98114,  -44.75921,        253,   247.6,  16.2139,  35.6583,  35.6635,2,    191.4,   190.3,2,    4.83,2,    0.48,2,  2109.6,2,    2343,2,  16.1741,    5.86,2
740H20090307,       A095,      21,          1,          4,          4,2,20090315,       0847,  -24.98114,  -44.75921,        253,   197.4,  17.3271,  35.8290,  35.8173,2,    199.0,   197.4,2,    3.82,2,    0.33,2,  2102.4,2,  2349.6,2,  17.2939,    3.15,2
740H20090307,       A095,      21,          1,          7,          7,2,20090315,       0847,  -24.98114,  -44.75921,        253,   177.2,  17.8043,  35.9196,  35.9070,2,    199.3,   198.6,2,    3.40,2,    0.29,2,  -999.0,9,  -999.0,9,  17.7739,    2.77,2
740H20090307,       A095,      21,          1,         10,         10,2,20090315,       0847,  -24.98114,  -44.75921,        253,   102.0,  20.6398,  36.5351,  36.5126,2,    201.9,   200.4,2,    2.67,2,    0.13,2,  2095.1,2,  2394.4,2,  20.6204,    0.95,2
740H20090307,       A095,      21,          1,         13,         13,2,20090315,       0847,  -24.98114,  -44.75921,        253,    76.7,  21.4378,  36.6041,  36.6018,2,    211.6,   210.1,2,    2.55,2,    0.06,2,  -999.0,9,  -999.0,9,  21.4228,    0.02,2
740H20090307,       A095,      21,          1,         16,         16,2,20090315,       0847,  -24.98114,  -44.75921,        253,    51.2,  23.2895,  36.8928,  36.8904,2,    210.1,   209.1,3,    2.54,2,    0.05,2,  2087.4,2,  2415.3,2,  23.2788,    0.03,2
740H20090307,       A095,      21,          1,         19,         19,2,20090315,       0847,  -24.98114,  -44.75921,        253,    26.2,  25.5042,  36.9648,  36.9590,2,    210.6,   209.4,9,    2.58,2,    0.03,2,  -999.0,9,  -999.0,9,  25.4984,    0.04,2
740H20090307,       A095,      21,          1,         22,         22,2,20090315,       0847,  -24.98114,  -44.75921,        253,     6.3,  27.2780,  36.5731,  36.5735,2,    195.1,   198.9,2,    2.87,2,    0.02,2,    2059,2,  2396.8,2,  27.2765,    0.04,2
740H20090307,       A095,      22,          1,          1,          1,2,20090315,       1219,  -24.62196,  -44.95060,        126,   119.7,  15.8624,  35.6117,  35.6123,2,    195.5,  -999.0,9, -999.00,9, -999.00,9,  -999.0,9,  -999.0,9,  15.8435, -999.00,9
740H20090307,       A095,      22,          1,          4,          4,2,20090315,       1219,  -24.62196,  -44.95060,        126,   100.1,  16.1744,  35.6557,  35.6370,2,    197.4,  -999.0,9, -999.00,9, -999.00,9,  -999.0,9,  -999.0,9,  16.1583, -999.00,9
740H20090307,       A095,      22,          1,          7,          7,2,20090315,       1219,  -24.62196,  -44.95060,        126,    74.9,  16.8848,  35.7650,  35.7401,2,    195.9,  -999.0,9, -999.00,9, -999.00,9,  -999.0,9,  -999.0,9,  16.8725, -999.00,9
740H20090307,       A095,      22,          1,         10,         10,2,20090315,       1219,  -24.62196,  -44.95060,        126,    49.9,  17.7503,  35.9103,  35.9131,2,    199.1,  -999.0,9, -999.00,9, -999.00,9,  -999.0,9,  -999.0,9,  17.7418, -999.00,9
740H20090307,       A095,      22,          1,         13,         13,2,20090315,       1219,  -24.62196,  -44.95060,        126,    23.9,  20.4613,  36.1556,  36.1568,2,    225.1,  -999.0,9, -999.00,9, -999.00,9,  -999.0,9,  -999.0,9,  20.4568, -999.00,9
740H20090307,       A095,      22,          1,         16,         16,2,20090315,       1219,  -24.62196,  -44.95060,        126,     4.4,  26.2530,  36.1998,  36.2084,2,    205.2,  -999.0,9, -999.00,9, -999.00,9,  -999.0,9,  -999.0,9,  26.2520, -999.00,9
740H20090307,       A095,      23,          1,          1,          1,2,20090316,       1341,  -23.16058,  -41.00626,        110,   100.8,  19.5635,  36.2167,  36.2223,2,    199.0,   197.8,2, -999.00,9, -999.00,9,  -999.0,9,  -999.0,9,  19.5450, -999.00,9
740H20090307,       A095,      23,          1,          6,          6,2,20090316,       1341,  -23.16058,  -41.00626,        110,    76.4,  20.6762,  36.4436,  36.4239,2,    203.7,   202.0,2, -999.00,9, -999.00,9,  -999.0,9,  -999.0,9,  20.6617, -999.00,9
740H20090307,       A095,      23,          1,         11,         11,3,20090316,       1341,  -23.16058,  -41.00626,        110,    51.0,  22.5554,  36.7701,-999.0000,9,    202.6,  -999.0,9, -999.00,9, -999.00,9,  -999.0,9,  -999.0,9,  22.5451, -999.00,9
740H20090307,       A095,      23,          1,         12,         12,2,20090316,       1341,  -23.16058,  -41.00626,        110,    51.4,  22.6033,  36.7767,  36.7722,2,    203.5,   202.6,2, -999.00,9, -999.00,9,  -999.0,9,  -999.0,9,  22.5929, -999.00,9
740H20090307,       A095,      23,          1,         16,         16,2,20090316,       1341,  -23.16058,  -41.00626,        110,    25.9,  25.0994,  36.7981,  36.7980,2,    205.5,   203.1,2,    2.54,2,    0.05,2,  2082.4,2,    2411,2,  25.0937,    0.03,2
740H20090307,       A095,      23,          1,         21,         21,2,20090316,       1341,  -23.16058,  -41.00626,        110,     6.6,  25.9763,  36.7615,  36.7654,2,    202.4,   201.6,2, -999.00,9, -999.00,9,  -999.0,9,  -999.0,9,  25.9749, -999.00,9
740H20090307,       A095,      24,          1,          1,          1,2,20090316,       1514,  -23.20121,  -40.96048,        485,   452.5,  10.1524,  34.8252,  34.8256,2,    193.2,   193.1,2,    9.16,2,    1.24,2,  2125.2,2,    2300,2,  10.0988,   18.09,2
740H20090307,       A095,      24,          1,          4,          4,2,20090316,       1514,  -23.20121,  -40.96048,        485,   402.6,  11.1646,  34.9567,  34.9506,2,    196.1,   196.4,2,    7.19,2,    1.07,2,    2136,2,  2308.8,2,  11.1140,   15.49,2
740H20090307,       A095,      24,          1,          6,          6,3,20090316,       1514,  -23.20121,  -40.96048,        485,   376.3,  11.6139,  35.0162,-999.0000,9,    200.1,  -999.0,9, -999.00,9, -999.00,9,  -999.0,9,  -999.0,9,  11.5655, -999.00,9
740H20090307,       A095,      24,          1,          7,          7,2,20090316,       1514,  -23.20121,  -40.96048,        485,   377.6,  11.6268,  35.0179,  35.0168,2,    200.5,   199.2,2,    6.36,2,    0.98,2,    2130,2,  2309.2,2,  11.5782,   13.71,2
740H20090307,       A095,      24,          1,          9,          9,2,20090316,       1514,  -23.20121,  -40.96048,        485,   251.0,  13.6560,  35.2855,  35.2853,2,    201.3,   199.5,2,    4.76,2,    0.70,2,  2118.6,2,  2324.4,2,  13.6202,    9.29,2
740H20090307,       A095,      24,          1,         12,         12,2,20090316,       1514,  -23.20121,  -40.96048,        485,   150.0,  18.0198,  35.9392,  35.9410,2,    200.6,   199.4,2,    2.96,2,    0.27,2,    2101,2,  2358.9,2,  17.9939,    2.28,2
740H20090307,       A095,      24,          1,         15,         15,2,20090316,       1514,  -23.20121,  -40.96048,        485,    74.6,  21.7134,  36.6334,  36.6361,2,    200.1,   199.4,2,    2.67,2,    0.16,2,  2096.8,2,  2403.4,2,  21.6987,    0.89,2
740H20090307,       A095,      24,          1,         18,         18,2,20090316,       1514,  -23.20121,  -40.96048,        485,    49.5,  24.2140,  36.9631,  36.9717,2,    204.5,   204.8,3,    2.49,2,    0.12,2,  2092.1,2,  2421.4,2,  24.2034,    0.14,2
740H20090307,       A095,      24,          1,         21,         21,2,20090316,       1514,  -23.20121,  -40.96048,        485,    24.5,  26.7379,  36.9851,  36.9868,2,    203.6,   203.1,2,    2.70,2,    0.05,2,  2073.8,2,  2420.8,2,  26.7323,    0.13,2
740H20090307,       A095,      24,          1,         23,         23,2,20090316,       1514,  -23.20121,  -40.96048,        485,     4.9,  27.2893,  36.8794,  36.8844,2,    198.4,   198.8,3,    3.17,2,    0.05,2,  2066.2,2,  2410.6,2,  27.2882,    0.18,2
740H20090307,       A095,      25,          1,          1,          1,2,20090316,       1711,  -23.23258,  -40.92313,       1069,  1069.7,   3.8486,  34.3766,  34.3764,2,    194.8,   193.9,2,   38.79,2,    2.18,2,  2204.5,2,  2314.1,2,   3.7686,   32.52,2
740H20090307,       A095,      25,          1,          3,          3,2,20090316,       1711,  -23.23258,  -40.92313,       1069,  1016.8,   3.8712,  34.3723,  34.3731,2,    195.7,   193.9,2,   38.13,2,    2.18,2,  2204.9,2,  2314.8,2,   3.7953,   32.65,2
740H20090307,       A095,      25,          1,          5,          5,2,20090316,       1711,  -23.23258,  -40.92313,       1069,   880.3,   4.7246,  34.3465,  34.3468,2,    204.4,   202.5,2,   27.55,2,    2.04,2,  -999.0,9,  -999.0,9,   4.6541,   30.35,2
740H20090307,       A095,      25,          1,          7,          7,2,20090316,       1711,  -23.23258,  -40.92313,       1069,   754.4,   5.2048,  34.3599,  34.3595,2,    206.0,   205.0,2,   23.26,2,    1.96,2,  2183.4,2,    2301,2,   5.1423,   29.34,2
740H20090307,       A095,      25,          1,          9,          9,2,20090316,       1711,  -23.23258,  -40.92313,       1069,   628.2,   6.5916,  34.4483,  34.4461,2,    203.0,   201.8,2,   16.36,2,    1.77,2,  -999.0,9,  -999.0,9,   6.5334,   26.26,2
740H20090307,       A095,      25,          1,         11,         11,2,20090316,       1711,  -23.23258,  -40.92313,       1069,   502.2,   8.8116,  34.6703,  34.6715,2,    194.6,   192.9,2,   11.24,2,    1.47,2,  2158.1,2,  2300.9,2,   8.7570,   21.67,2
740H20090307,       A095,      25,          1,         13,         13,2,20090316,       1711,  -23.23258,  -40.92313,       1069,   376.9,  11.6098,  35.0125,-999.0000,9,    197.6,   197.0,2,    6.45,2,    1.01,2,  -999.0,9,  -999.0,9,  11.5613,   14.06,2
740H20090307,       A095,      25,          1,         15,         15,2,20090316,       1711,  -23.23258,  -40.92313,       1069,   250.5,  14.5804,  35.4130,  35.4126,2,    203.1,   201.0,2,    3.93,2,    0.58,2,  2115.7,2,  2333.7,2,  14.5430,    7.01,2
740H20090307,       A095,      25,          1,         17,         17,2,20090316,       1711,  -23.23258,  -40.92313,       1069,   175.6,  16.9462,  35.7485,  35.7614,2,    200.4,   196.7,2,    3.26,2,    0.38,2,  -999.0,9,  -999.0,9,  16.9171,    3.87,2
740H20090307,       A095,      25,          1,         19,         19,2,20090316,       1711,  -23.23258,  -40.92313,       1069,    99.6,  21.3734,  36.5822,  36.5763,2,    196.4,   196.4,2,    2.57,2,    0.18,2,  2104.8,2,  2401.1,2,  21.3539,    0.96,2
740H20090307,       A095,      25,          1,         21,         21,2,20090316,       1711,  -23.23258,  -40.92313,       1069,    74.6,  22.8884,  36.8508,  36.8354,2,    199.8,   198.9,2,    2.50,2,    0.15,2,  -999.0,9,  -999.0,9,  22.8731,    0.36,2
740H20090307,       A095,      25,          1,         22,         22,2,20090316,       1711,  -23.23258,  -40.92313,       1069,    48.9,  25.3676,  37.0932,  37.0984,2,    206.0,   209.3,3,    2.38,2,    0.07,2,  2091.1,2,  2434.3,2,  25.3568,    0.08,2
740H20090307,       A095,      25,          1,         23,         23,3,20090316,       1711,  -23.23258,  -40.92313,       1069,    24.5,  27.5420,  37.0012,  37.0049,2,    198.5,   202.3,2,    2.81,2,    0.03,2,  2070.4,2,  2420.1,2,  27.5362,    0.09,2
740H20090307,       A095,      25,          1,         24,         24,2,20090316,       1711,  -23.23258,  -40.92313,       1069,     4.9,  27.9707,  37.0387,  37.0382,2,    196.5,   200.8,2,    2.58,2,    0.02,2,  2067.3,2,  2420.5,2,  27.9696,    0.11,2