BOTTLE,20211101CCHSIORKP
EXPOCODE,SECT_ID,STNNBR,CASTNO,SAMPNO,BTLNBR,BTLNBR_FLAG_W,DATE,TIME,LATITUDE,LONGITUDE,DEPTH,CTDPRS,CTDTMP,CTDSAL,SALNTY,SALNTY_FLAG_W,CTDOXY,OXYGEN,OXYGEN_FLAG_W,SILCAT,SILCAT_FLAG_W,PHSPHT,PHSPHT_FLAG_W,TCARBN,TCARBN_FLAG_W,ALKALI,ALKALI_FLAG_W,THETA,NO2+NO3,NO2+NO3_FLAG_W
,,,,,,,,,,,METERS,DBAR,ITS-90,PSS-78,PSS-78,,UMOL/KG,UMOL/KG,,UMOL/KG,,UMOL/KG,,UMOL/KG,,UMOL/KG,,DEG C,UMOL/KG,
740H20090307,       A095,     115,          1,          1,          1,2,20090419,       0212,  -23.87486,   12.97209,       1000,  1003.5,   3.8678,  34.5150,  34.5132,2,    153.0,   155.1,2,   44.68,2,    2.31,2,  2232.2,2,  2309.3,2,   3.7929,   35.21,2
740H20090307,       A095,     115,          1,          2,          2,2,20090419,       0212,  -23.87486,   12.97209,       1000,  1003.9,   3.8674,  34.5152,-999.0000,9,    153.0,   153.8,2,   44.36,2,    2.31,2,  -999.0,9,  -999.0,9,   3.7924,   34.87,2
740H20090307,       A095,     115,          1,          4,          4,2,20090419,       0212,  -23.87486,   12.97209,       1000,   954.1,   4.0271,  34.4880,  34.4883,2,    150.2,   151.4,2,   41.93,2,    2.33,2,    2230,2,    2308,2,   3.9551,   35.64,2
740H20090307,       A095,     115,          1,          5,          5,2,20090419,       0212,  -23.87486,   12.97209,       1000,   878.2,   4.2196,  34.4722,  34.4743,2,    145.0,   147.0,2,   40.23,2,    2.34,2,  -999.0,9,  -999.0,9,   4.1525,   36.47,2
740H20090307,       A095,     115,          1,          7,          7,2,20090419,       0212,  -23.87486,   12.97209,       1000,   752.9,   4.6018,  34.4609,  34.4605,2,    135.1,   135.8,2,   35.08,2,    2.37,2,  2230.8,2,  2300.5,2,   4.5428,   37.64,2
740H20090307,       A095,     115,          1,          8,          8,2,20090419,       0212,  -23.87486,   12.97209,       1000,   752.7,   4.6042,  34.4609,-999.0000,9,    135.0,   135.9,2,   35.05,2,    2.43,2,  -999.0,9,  -999.0,9,   4.5452,   37.73,2
740H20090307,       A095,     115,          1,          9,          9,2,20090419,       0212,  -23.87486,   12.97209,       1000,   627.1,   5.3914,  34.4857,  34.4846,2,    114.0,   114.3,2,   29.67,2,    2.46,2,  -999.0,9,  -999.0,9,   5.3390,   38.79,2
740H20090307,       A095,     115,          1,         10,         10,2,20090419,       0212,  -23.87486,   12.97209,       1000,   502.0,   6.7059,  34.5784,  34.5760,2,     79.7,    79.4,2,   25.61,2,    2.46,2,  -999.0,9,  2290.4,2,   6.6592,   40.05,2
740H20090307,       A095,     115,          1,         12,         12,2,20090419,       0212,  -23.87486,   12.97209,       1000,   376.7,   8.3369,  34.7207,  34.7174,2,     50.0,    46.3,2,   20.68,2,    2.40,2,  -999.0,9,  -999.0,9,   8.2975,   39.49,2
740H20090307,       A095,     115,          1,         13,         13,2,20090419,       0212,  -23.87486,   12.97209,       1000,   251.2,  10.1576,  34.8273,  34.8281,2,    143.2,   149.7,2,   11.70,2,    1.56,2,  2178.6,2,  2292.3,2,  10.1282,   23.32,2
740H20090307,       A095,     115,          1,         15,         15,2,20090419,       0212,  -23.87486,   12.97209,       1000,   176.9,  11.7219,  35.0010,  34.9988,2,    172.6,   170.8,2,    8.30,2,    1.16,2,  -999.0,9,  -999.0,9,  11.6992,   17.24,2
740H20090307,       A095,     115,          1,         16,         16,2,20090419,       0212,  -23.87486,   12.97209,       1000,   101.0,  13.7991,  35.2492,  35.2456,2,    190.4,   189.6,2,    6.12,2,    0.81,2,  2129.3,2,  2310.5,2,  13.7846,   10.92,2
740H20090307,       A095,     115,          1,         18,         18,2,20090419,       0212,  -23.87486,   12.97209,       1000,    76.5,  14.4380,  35.3373,  35.3351,2,    204.4,   203.7,2,    5.41,2,    0.63,2,  -999.0,9,  -999.0,9,  14.4267,    7.96,2
740H20090307,       A095,     115,          1,         20,         20,2,20090419,       0212,  -23.87486,   12.97209,       1000,    51.5,  14.8603,  35.3109,  35.3046,2,    190.8,   182.4,2,    5.97,2,    0.88,2,  -999.0,9,  2312.9,2,  14.8526,   11.19,2
740H20090307,       A095,     115,          1,         21,         25,2,20090419,       0212,  -23.87486,   12.97209,       1000,    51.3,  14.8741,  35.3103,-999.0000,9,    190.5,   181.2,2,    5.99,2,    0.89,2,  -999.0,9,  -999.0,9,  14.8664,   11.36,2
740H20090307,       A095,     115,          1,         22,         22,2,20090419,       0212,  -23.87486,   12.97209,       1000,    26.5,  16.7929,  35.2298,  35.2395,2,    226.1,   219.3,2,    2.52,2,    0.74,2,  -999.0,9,  -999.0,9,  16.7886,    4.86,2
740H20090307,       A095,     115,          1,         23,         23,2,20090419,       0212,  -23.87486,   12.97209,       1000,     5.1,  17.5688,  35.2379,  35.2381,2,    248.8,   245.7,2,    1.62,2,    0.47,2,  2075.4,2,    2327,2,  17.5680,    2.34,2
740H20090307,       A095,     116,          1,          1,          1,2,20090419,       0459,  -23.82569,   13.14776,        498,   494.3,   7.4193,  34.6324,  34.6324,2,     73.2,    73.5,2,   24.66,2,    2.43,2,  -999.0,9,  -999.0,9,   7.3707,   36.21,2
740H20090307,       A095,     116,          1,          4,          4,2,20090419,       0459,  -23.82569,   13.14776,        498,   445.6,   8.0333,  34.6735,  34.6678,2,     75.8,    73.6,2,   21.53,2,    2.34,2,  -999.0,9,  2288.3,2,   7.9876,   35.66,2
740H20090307,       A095,     116,          1,          7,          7,2,20090419,       0459,  -23.82569,   13.14776,        498,   378.4,   8.5643,  34.7097,  34.7054,2,     84.9,    83.4,2,   18.80,2,    2.20,2,  -999.0,9,  2265.8,3,   8.5241,   33.22,2
740H20090307,       A095,     116,          1,          9,          9,2,20090419,       0459,  -23.82569,   13.14776,        498,   253.4,  10.7654,  34.9520,  34.9535,2,     58.7,    56.8,2,   17.51,2,    2.05,2,  -999.0,9,  -999.0,9,  10.7345,   29.92,2
740H20090307,       A095,     116,          1,         12,         12,2,20090419,       0459,  -23.82569,   13.14776,        498,   177.3,  11.5013,  35.0453,  35.0440,2,     47.8,    46.7,2,   15.63,2,    2.01,2,  2237.1,2,  2291.4,2,  11.4788,   29.80,2
740H20090307,       A095,     116,          1,         14,         14,2,20090419,       0459,  -23.82569,   13.14776,        498,   103.5,  12.3596,  35.0740,  35.0737,2,    157.5,   156.3,2,    8.46,2,    1.21,2,  -999.0,9,  -999.0,9,  12.3458,   17.09,2
740H20090307,       A095,     116,          1,         17,         17,2,20090419,       0459,  -23.82569,   13.14776,        498,    77.9,  13.5899,  35.2029,  35.2011,2,    127.7,   124.0,2,    8.94,2,    1.42,2,  -999.0,9,  2303.6,2,  13.5789,   19.75,2
740H20090307,       A095,     116,          1,         19,         19,2,20090419,       0459,  -23.82569,   13.14776,        498,    51.1,  14.9783,  35.2442,  35.2438,2,    139.8,   146.8,2,    6.19,2,    1.32,2,  -999.0,9,  -999.0,9,  14.9705,   16.18,2
740H20090307,       A095,     116,          1,         21,         25,2,20090419,       0459,  -23.82569,   13.14776,        498,    25.3,  17.0068,  35.2640,  35.2653,2,    230.9,   232.9,2,    2.05,2,    0.73,2,  -999.0,9,  -999.0,9,  17.0027,    6.70,2
740H20090307,       A095,     116,          1,         23,         23,2,20090419,       0459,  -23.82569,   13.14776,        498,     5.4,  17.0377,  35.2643,  35.2654,2,    234.1,   233.7,2,    1.93,2,    0.72,2,  -999.0,9,  2321.8,2,  17.0368,    6.45,2
740H20090307,       A095,     117,          1,          1,          1,2,20090419,       0714,  -23.77821,   13.32865,        302,   294.6,  10.4845,  34.9357,  34.9364,2,     33.6,    33.3,3,   22.82,2,    2.28,2,  2260.2,2,  2296.7,2,  10.4492,   31.91,2
740H20090307,       A095,     117,          1,          4,          4,2,20090419,       0714,  -23.77821,   13.32865,        302,   252.2,  10.8299,  34.9765,  34.9655,2,     29.8,    27.9,2,   21.64,2,    2.28,2,  2261.8,2,    2297,2,  10.7991,   31.12,2
740H20090307,       A095,     117,          1,          7,          7,2,20090419,       0714,  -23.77821,   13.32865,        302,   177.4,  11.9061,  35.0950,  35.0898,2,     44.4,    43.0,2,   21.64,2,    2.28,2,  -999.0,9,  -999.0,9,  11.8831,   31.11,2
740H20090307,       A095,     117,          1,         10,         10,2,20090419,       0714,  -23.77821,   13.32865,        302,   102.4,  12.8933,  35.2208,  35.2106,2,     28.4,    22.4,9,   16.28,2,    2.12,2,  2261.9,2,  2303.1,2,  12.8793,   30.58,2
740H20090307,       A095,     117,          1,         13,         13,2,20090419,       0714,  -23.77821,   13.32865,        302,    77.3,  13.8235,  35.2188,  35.2187,2,    110.8,   108.4,2,    9.55,2,    1.60,2,  -999.0,9,  -999.0,9,  13.8124,   21.57,2
740H20090307,       A095,     117,          1,         16,         16,2,20090419,       0714,  -23.77821,   13.32865,        302,    52.4,  14.3680,  35.2395,  35.2353,2,    119.4,   118.0,2,    8.51,2,    1.46,2,  2195.1,2,  2307.3,2,  14.3603,   19.70,2
740H20090307,       A095,     117,          1,         19,         19,2,20090419,       0714,  -23.77821,   13.32865,        302,    26.7,  15.9904,  35.2570,  35.2608,2,    177.6,   184.7,2,    3.87,2,    1.00,2,  -999.0,9,  -999.0,9,  15.9862,   10.77,2
740H20090307,       A095,     117,          1,         22,         22,2,20090419,       0714,  -23.77821,   13.32865,        302,     7.5,  17.0424,  35.2710,  35.2715,2,    221.9,   223.5,2,    2.33,2,    0.68,2,    2108,2,  2323.3,2,  17.0412,    6.87,2
740H20090307,       A095,     118,          1,          1,          1,2,20090419,       1015,  -23.67729,   13.71296,        202,   194.0,  12.3778,  35.1639,  35.1647,2,     22.0,    19.5,2,   18.24,2,    2.11,2,  -999.0,9,  2300.9,2,  12.3519,   29.16,2
740H20090307,       A095,     118,          1,          7,          7,2,20090419,       1015,  -23.67729,   13.71296,        202,   175.7,  12.4546,  35.1731,  35.1718,2,     24.8,    21.3,2,   16.79,2,    2.09,2,  -999.0,9,  -999.0,9,  12.4311,   29.93,2
740H20090307,       A095,     118,          1,         11,         11,2,20090419,       1015,  -23.67729,   13.71296,        202,   100.9,  12.9731,  35.1994,  35.1982,2,     71.2,    65.2,2,   11.61,2,    1.76,2,  -999.0,9,  2301.7,2,  12.9592,   26.65,2
740H20090307,       A095,     118,          1,         21,         25,2,20090419,       1015,  -23.67729,   13.71296,        202,    76.2,  13.5345,  35.2368,  35.2368,2,     82.9,    79.5,2,   10.50,2,    1.69,2,  -999.0,9,  -999.0,9,  13.5237,   24.76,2
740H20090307,       A095,     118,          1,         22,         22,2,20090419,       1015,  -23.67729,   13.71296,        202,    50.6,  14.6262,  35.2462,  35.2489,2,    124.3,   123.1,2,    7.92,2,    1.56,2,  -999.0,9,  2306.2,2,  14.6187,   19.87,2
740H20090307,       A095,     118,          1,         23,         23,2,20090419,       1015,  -23.67729,   13.71296,        202,    25.7,  16.0421,  35.2324,  35.2358,2,    210.7,   204.4,2,    3.64,2,    1.03,2,  -999.0,9,  -999.0,9,  16.0380,    9.82,2
740H20090307,       A095,     118,          1,         24,         24,2,20090419,       1015,  -23.67729,   13.71296,        202,     5.8,  16.3552,  35.2182,  35.2201,2,    227.7,   228.5,2,    2.28,2,    0.78,2,  -999.0,9,    2320,2,  16.3542,    6.70,2