BOTTLE,20211101CCHSIORKP
EXPOCODE,SECT_ID,STNNBR,CASTNO,SAMPNO,BTLNBR,BTLNBR_FLAG_W,DATE,TIME,LATITUDE,LONGITUDE,DEPTH,CTDPRS,CTDTMP,CTDSAL,SALNTY,SALNTY_FLAG_W,CTDOXY,OXYGEN,OXYGEN_FLAG_W,SILCAT,SILCAT_FLAG_W,PHSPHT,PHSPHT_FLAG_W,TCARBN,TCARBN_FLAG_W,ALKALI,ALKALI_FLAG_W,THETA,NO2+NO3,NO2+NO3_FLAG_W
,,,,,,,,,,,METERS,DBAR,ITS-90,PSS-78,PSS-78,,UMOL/KG,UMOL/KG,,UMOL/KG,,UMOL/KG,,UMOL/KG,,UMOL/KG,,DEG C,UMOL/KG,
740H20090307,       A095,       6,          1,          1,          1,2,20090309,       0109,  -36.70881,  -52.98910,       2596,  2578.0,   2.1475,  34.8259,  34.8268,2,    218.1,   220.4,2,   67.91,2,    1.84,2,  2213.2,2,  2346.9,2,   1.9565,   26.33,2
740H20090307,       A095,       6,          1,          2,          2,2,20090309,       0109,  -36.70881,  -52.98910,       2596,  2527.3,   2.4944,  34.8648,  34.8604,2,    225.5,   227.7,2,   54.76,2,    1.71,2,  2204.1,2,  2346.3,2,   2.3014,   24.59,2
740H20090307,       A095,       6,          1,          3,          3,2,20090309,       0109,  -36.70881,  -52.98910,       2596,  2272.0,   3.2182,  34.9268,  34.9259,2,    237.0,   239.6,2,   31.04,2,    1.49,2,  2177.8,2,  2328.3,2,   3.0367,   21.72,2
740H20090307,       A095,       6,          1,          4,          4,2,20090309,       0109,  -36.70881,  -52.98910,       2596,  2017.7,   3.6350,  34.9186,  34.9201,2,    228.2,   230.7,2,   27.13,2,    1.53,2,  2178.9,2,  2323.2,2,   3.4714,   22.03,2
740H20090307,       A095,       6,          1,          5,          5,2,20090309,       0109,  -36.70881,  -52.98910,       2596,  1762.8,   3.6551,  34.7910,  34.7902,2,    200.9,   202.5,2,   36.97,2,    1.90,2,  2199.4,2,  2326.3,2,   3.5155,   27.71,2
740H20090307,       A095,       6,          1,          7,          7,2,20090309,       0109,  -36.70881,  -52.98910,       2596,  1508.5,   3.1694,  34.5481,  34.5483,2,    184.2,   186.3,2,   51.13,2,    2.26,2,  2222.8,2,    2321,2,   3.0590,   32.72,2
740H20090307,       A095,       6,          1,          8,          8,2,20090309,       0109,  -36.70881,  -52.98910,       2596,  1254.7,   3.3086,  34.3681,  34.3681,2,    197.5,   199.7,2,   43.91,2,    2.31,2,  2210.3,2,  2313.9,2,   3.2182,   33.39,2
740H20090307,       A095,       6,          1,          9,          9,2,20090309,       0109,  -36.70881,  -52.98910,       2596,  1002.6,   3.9994,  34.2926,  34.2924,2,    216.0,   217.3,2,   29.27,2,    2.16,2,  2186.6,2,  2297.6,2,   3.9238,   31.15,2
740H20090307,       A095,       6,          1,         11,         11,2,20090309,       0109,  -36.70881,  -52.98910,       2596,   876.7,   4.6492,  34.2836,  34.2841,2,    224.4,   225.8,2,   21.36,2,    2.04,2,  2171.6,2,  2293.4,2,   4.5797,   29.00,2
740H20090307,       A095,       6,          1,         12,         12,2,20090309,       0109,  -36.70881,  -52.98910,       2596,   749.1,   5.4778,  34.3072,  34.3079,2,    230.9,   231.8,2,   15.14,2,    1.86,2,  2156.9,2,  2291.2,2,   5.4143,   26.64,2
740H20090307,       A095,       6,          1,         13,         13,2,20090309,       0109,  -36.70881,  -52.98910,       2596,   624.1,   7.5797,  34.5207,  34.5208,2,    206.2,   208.8,2,   11.71,2,    1.66,2,  2149.2,2,  2297.2,2,   7.5172,   23.51,2
740H20090307,       A095,       6,          1,         15,         15,2,20090309,       0109,  -36.70881,  -52.98910,       2596,   498.9,  10.4674,  34.8568,  34.8539,2,    201.6,   203.3,2,    6.69,2,    1.23,2,  2135.3,2,  2307.9,2,  10.4070,   16.25,2
740H20090307,       A095,       6,          1,         16,         16,2,20090309,       0109,  -36.70881,  -52.98910,       2596,   373.1,  13.4791,  35.3418,  35.3408,2,    205.8,   209.6,2,    3.91,2,    0.76,2,  2117.2,2,  2331.6,2,  13.4261,    9.30,2
740H20090307,       A095,       6,          1,         17,         17,2,20090309,       0109,  -36.70881,  -52.98910,       2596,   246.8,  15.0269,  35.5478,  35.5478,2,    205.8,   207.1,2,    3.13,2,    0.56,2,  2108.9,2,  2337.7,2,  14.9892,    6.18,2
740H20090307,       A095,       6,          1,         19,         19,2,20090309,       0109,  -36.70881,  -52.98910,       2596,   172.5,  16.4169,  35.7709,  35.7704,2,    201.9,   205.4,2,    2.66,2,    0.43,2,  2101.8,2,  2356.9,2,  16.3889,    4.16,2
740H20090307,       A095,       6,          1,         20,         20,2,20090309,       0109,  -36.70881,  -52.98910,       2596,    97.3,  18.4280,  36.1020,  36.1032,2,    211.8,   223.1,2,    1.96,2,    0.17,2,  -999.0,9,  -999.0,9,  18.4110,    0.17,2
740H20090307,       A095,       6,          1,         21,         21,2,20090309,       0109,  -36.70881,  -52.98910,       2596,    71.9,  20.0174,  36.2167,  36.2234,2,    231.7,   233.8,2,    1.81,2,    0.09,2,  2069.3,2,  2388.4,2,  20.0041,    0.10,2
740H20090307,       A095,       6,          1,         22,         22,2,20090309,       0109,  -36.70881,  -52.98910,       2596,    46.6,  23.6934,  36.3987,  36.3990,2,    210.4,   212.3,2,    1.83,2,    0.06,2,  2062.5,2,  2396.4,2,  23.6836,    0.12,2
740H20090307,       A095,       6,          1,         23,         23,2,20090309,       0109,  -36.70881,  -52.98910,       2596,    22.1,  23.9502,  36.4475,  36.4446,2,    209.5,   208.9,2,    1.80,2,    0.07,2,  2064.6,2,  2402.5,2,  23.9455,    0.11,2
740H20090307,       A095,       6,          1,         24,         24,2,20090309,       0109,  -36.70881,  -52.98910,       2596,     2.8,  24.4575,  36.4888,  36.4930,2,    208.0,   207.1,2,    1.93,2,    0.07,2,  2061.7,2,  2402.2,2,  24.4569,    0.06,2
740H20090307,       A095,       7,          1,          1,          1,3,20090309,       0534,  -36.77892,  -52.87299,       2961,  2994.7,   1.4029,  34.7454,-999.0000,9,    203.0,  -999.0,9, -999.00,9, -999.00,9,  -999.0,9,  -999.0,9,   1.1884, -999.00,9
740H20090307,       A095,       7,          1,          2,          2,2,20090309,       0534,  -36.77892,  -52.87299,       2961,  2938.9,   1.5262,  34.7574,  34.7597,2,    205.1,   207.1,2,   95.58,2,    2.03,2,  2240.5,2,  2359.4,2,   1.3143,   29.99,2
740H20090307,       A095,       7,          1,          3,          3,2,20090309,       0534,  -36.77892,  -52.87299,       2961,  2784.4,   1.8517,  34.7914,  34.7930,2,    212.1,   212.5,2,   81.64,2,    1.90,2,  2229.2,2,  2322.3,2,   1.6473,   28.39,2
740H20090307,       A095,       7,          1,          4,          4,2,20090309,       0534,  -36.77892,  -52.87299,       2961,  2528.4,   2.7797,  34.9018,  34.9039,2,    234.8,   238.4,2,   41.08,2,    1.48,2,  2186.4,2,  2336.7,2,   2.5812,   22.08,2
740H20090307,       A095,       7,          1,          5,          5,2,20090309,       0534,  -36.77892,  -52.87299,       2961,  2275.0,   3.3246,  34.9304,  34.9325,2,    237.4,   239.1,2,   29.77,2,    1.41,2,  2176.7,2,    2328,2,   3.1410,   21.45,2
740H20090307,       A095,       7,          1,          6,          6,2,20090309,       0534,  -36.77892,  -52.87299,       2961,  2019.9,   3.6526,  34.8927,  34.8951,2,    221.6,   222.1,2,   30.90,2,    1.55,2,  2185.6,2,  2329.6,2,   3.4886,   23.42,2
740H20090307,       A095,       7,          1,          8,          8,2,20090309,       0534,  -36.77892,  -52.87299,       2961,  1766.3,   3.5826,  34.7685,  34.7704,2,    199.0,   200.1,2,   40.14,2,    1.85,2,  2204.6,2,  2327.8,2,   3.4437,   27.66,2
740H20090307,       A095,       7,          1,          9,          9,2,20090309,       0534,  -36.77892,  -52.87299,       2961,  1512.3,   3.1431,  34.5298,  34.5315,2,    184.6,   186.1,2,   53.34,2,    2.21,2,  2224.7,2,  2329.4,2,   3.0327,   32.68,2
740H20090307,       A095,       7,          1,         10,         10,2,20090309,       0534,  -36.77892,  -52.87299,       2961,  1259.9,   3.3053,  34.3708,  34.3734,2,    198.1,   198.9,2,   44.77,2,    2.23,2,  2211.4,2,  2314.2,2,   3.2145,   33.01,2
740H20090307,       A095,       7,          1,         11,         11,2,20090309,       0534,  -36.77892,  -52.87299,       2961,  1006.6,   4.1035,  34.2782,  34.2801,2,    220.3,   222.0,2,   27.41,2,    2.04,2,  2182.5,2,  2300.8,2,   4.0269,   30.37,2
740H20090307,       A095,       7,          1,         13,         13,2,20090309,       0534,  -36.77892,  -52.87299,       2961,   829.9,   5.1620,  34.2985,  34.3019,2,    226.9,   227.7,2,   17.97,2,    1.86,2,  2166.8,2,  2293.5,2,   5.0931,   27.55,2
740H20090307,       A095,       7,          1,         14,         14,2,20090309,       0534,  -36.77892,  -52.87299,       2961,   754.4,   5.7927,  34.3243,  34.3276,2,    229.7,   230.3,2,   14.16,2,    1.74,2,  2160.2,2,  2290.7,2,   5.7269,   25.91,2
740H20090307,       A095,       7,          1,         15,         15,2,20090309,       0534,  -36.77892,  -52.87299,       2961,   628.4,   7.6819,  34.5036,  34.5084,2,    212.9,   215.3,2,   10.66,2,    1.53,2,    2153,2,  2297.9,2,   7.6185,   22.58,2
740H20090307,       A095,       7,          1,         16,         16,2,20090309,       0534,  -36.77892,  -52.87299,       2961,   501.7,  10.7773,  34.9026,  34.9052,2,    200.8,   202.8,2,    6.69,2,    1.11,2,  2136.4,2,  2311.8,2,  10.7155,   15.82,2
740H20090307,       A095,       7,          1,         17,         17,2,20090309,       0534,  -36.77892,  -52.87299,       2961,   375.7,  13.5974,  35.3575,  35.3609,2,    206.6,   209.5,2,    4.11,2,    0.68,2,  2121.5,2,  2333.3,2,  13.5437,    8.87,2
740H20090307,       A095,       7,          1,         18,         18,2,20090309,       0534,  -36.77892,  -52.87299,       2961,   250.8,  15.2010,  35.5755,  35.5803,2,    203.1,   205.4,2,    3.35,2,    0.49,2,  2111.7,2,    2349,2,  15.1624,    5.94,2
740H20090307,       A095,       7,          1,         19,         19,2,20090309,       0534,  -36.77892,  -52.87299,       2961,   174.6,  16.6610,  35.8166,  35.8237,2,    205.7,   207.8,2,    2.69,2,    0.32,2,  2096.2,2,  2357.9,2,  16.6324,    3.39,2
740H20090307,       A095,       7,          1,         20,         20,2,20090309,       0534,  -36.77892,  -52.87299,       2961,   101.0,  18.7108,  36.1432,  36.1472,2,    211.8,   213.3,2,    2.05,2,    0.11,2,  2088.1,2,  2378.6,2,  18.6929,    0.51,2
740H20090307,       A095,       7,          1,         21,         21,2,20090309,       0534,  -36.77892,  -52.87299,       2961,    75.1,  19.7536,  36.2571,  36.2743,2,    223.4,   226.5,2,    1.89,2,    0.02,2,  2073.2,2,  2391.4,2,  19.7398,    0.03,2
740H20090307,       A095,       7,          1,         22,         22,2,20090309,       0534,  -36.77892,  -52.87299,       2961,    49.9,  22.3854,  36.3132,  36.3030,2,    218.3,   221.0,2,    2.14,2,    0.01,2,    2060,2,  2401.3,2,  22.3754,    0.61,2
740H20090307,       A095,       7,          1,         23,         23,2,20090309,       0534,  -36.77892,  -52.87299,       2961,    25.1,  23.4778,  36.3593,  36.3620,2,    212.1,   211.3,2,    2.10,2,    0.00,2,  2058.7,2,  2403.8,2,  23.4726,    0.04,2
740H20090307,       A095,       7,          1,         24,         24,2,20090309,       0534,  -36.77892,  -52.87299,       2961,     5.0,  23.5608,  36.3644,  36.3671,2,    212.4,   211.1,3,    2.04,2,    0.00,2,  2060.3,2,  2402.5,2,  23.5597,    0.06,2
740H20090307,       A095,       8,          1,          1,          1,2,20090309,       1214,  -37.10507,  -52.41326,       3513,  3562.0,   0.4986,  34.6881,  34.6869,2,    209.5,   210.6,2,  124.45,2,    2.24,2,  2255.6,2,  2362.6,2,   0.2518,   32.89,2
740H20090307,       A095,       8,          1,          2,          2,2,20090309,       1214,  -37.10507,  -52.41326,       3513,  3512.4,   0.7638,  34.7018,  34.6988,2,    206.7,   208.0,2,  119.90,2,    2.22,2,  2252.9,2,  2360.3,2,   0.5150,   32.49,2
740H20090307,       A095,       8,          1,          3,          3,2,20090309,       1214,  -37.10507,  -52.41326,       3513,  3292.4,   1.3440,  34.7422,  34.7408,2,    205.9,   205.8,2,  102.39,2,    2.08,2,  2241.4,2,  2351.6,2,   1.1022,   30.92,2
740H20090307,       A095,       8,          1,          4,          4,2,20090309,       1214,  -37.10507,  -52.41326,       3513,  3036.6,   2.1809,  34.8335,  34.8322,2,    222.3,   223.8,2,   65.23,2,    1.73,2,  2207.9,2,  2343.9,2,   1.9447,   25.46,2
740H20090307,       A095,       8,          1,          5,          5,2,20090309,       1214,  -37.10507,  -52.41326,       3513,  2780.5,   2.4948,  34.8384,  34.8383,2,    218.0,   218.4,2,   59.76,2,    1.73,2,  2209.4,2,  2324.2,3,   2.2775,   25.88,2
740H20090307,       A095,       8,          1,          6,          6,2,20090309,       1214,  -37.10507,  -52.41326,       3513,  2524.8,   2.7984,  34.8423,  34.8413,2,    211.1,   215.2,2,   54.25,2,    1.72,2,  2205.2,2,  2331.7,2,   2.6002,   25.83,2
740H20090307,       A095,       8,          1,          7,          7,2,20090309,       1214,  -37.10507,  -52.41326,       3513,  2268.8,   2.8311,  34.7893,  34.7885,2,    198.4,   200.4,2,   60.59,2,    1.89,2,    2218,2,  2331.6,2,   2.6569,   28.18,2
740H20090307,       A095,       8,          1,          8,          8,2,20090309,       1214,  -37.10507,  -52.41326,       3513,  2015.6,   2.9402,  34.7393,  34.7361,2,    185.8,   190.7,2,   60.94,2,    2.00,2,  2225.1,2,  2333.4,2,   2.7878,   29.98,2
740H20090307,       A095,       8,          1,          9,          9,2,20090309,       1214,  -37.10507,  -52.41326,       3513,  1761.3,   3.3342,  34.6978,  34.6971,2,    186.4,   191.6,2,   48.52,2,    2.00,2,  2215.1,2,  -999.0,9,   3.1993,   29.96,2
740H20090307,       A095,       8,          1,         10,         10,2,20090309,       1214,  -37.10507,  -52.41326,       3513,  1508.3,   3.1197,  34.5050,  34.5042,2,    184.3,   186.3,2,   52.35,2,    2.23,2,  2223.3,2,  2313.9,2,   3.0100,   32.81,2
740H20090307,       A095,       8,          1,         11,         11,2,20090309,       1214,  -37.10507,  -52.41326,       3513,  1254.8,   3.2289,  34.3194,  34.3202,2,    205.6,   209.7,2,   41.55,2,    2.22,2,  2202.7,2,  2302.1,2,   3.1394,   32.54,2
740H20090307,       A095,       8,          1,         12,         12,2,20090309,       1214,  -37.10507,  -52.41326,       3513,  1002.4,   4.0630,  34.2324,  34.2325,2,    234.1,   234.5,2,   24.32,2,    1.98,2,  2180.7,2,  2285.3,2,   3.9871,   29.42,2
740H20090307,       A095,       8,          1,         13,         13,2,20090309,       1214,  -37.10507,  -52.41326,       3513,   876.0,   4.4218,  34.1977,  34.1969,2,    246.2,   250.3,2,   17.59,2,    1.85,2,  2159.8,2,  2277.5,2,   4.3539,   27.48,2
740H20090307,       A095,       8,          1,         14,         14,2,20090309,       1214,  -37.10507,  -52.41326,       3513,   750.0,   5.3901,  34.2567,  34.2571,2,    242.5,   245.9,2,   13.09,2,    1.73,2,  2150.3,2,  2277.6,2,   5.3270,   25.52,2
740H20090307,       A095,       8,          1,         15,         15,2,20090309,       1214,  -37.10507,  -52.41326,       3513,   624.3,   7.9735,  34.5387,  34.5387,2,    215.5,   212.7,2,   10.29,2,    1.50,2,  2146.4,2,  2287.3,2,   7.9091,   21.91,2
740H20090307,       A095,       8,          1,         16,         16,2,20090309,       1214,  -37.10507,  -52.41326,       3513,   497.9,  12.0540,  35.1023,  35.1032,2,    207.2,   210.3,2,    5.06,2,    0.90,2,  2123.8,2,  2311.3,2,  11.9879,   12.31,2
740H20090307,       A095,       8,          1,         17,         17,2,20090309,       1214,  -37.10507,  -52.41326,       3513,   371.8,  14.7512,  35.6074,  35.6082,2,    214.0,   217.2,2,    3.39,2,    0.52,2,  2109.3,2,  2343.7,2,  14.6949,    7.63,2
740H20090307,       A095,       8,          1,         18,         18,2,20090309,       1214,  -37.10507,  -52.41326,       3513,   246.0,  16.0625,  35.7294,  35.7151,2,    204.2,   204.4,2,    3.18,2,    0.43,2,    2106,2,  2341.4,2,  16.0231,    5.47,2
740H20090307,       A095,       8,          1,         19,         19,2,20090309,       1214,  -37.10507,  -52.41326,       3513,   170.9,  17.4782,  35.9477,  35.9360,2,    202.3,   202.5,2,    2.90,2,    0.32,2,  2104.9,2,  2355.9,2,  17.4493,    3.11,2
740H20090307,       A095,       8,          1,         20,         20,2,20090309,       1214,  -37.10507,  -52.41326,       3513,    95.3,  21.0732,  36.5673,  36.5625,2,    206.0,   208.5,2,    2.07,2,    0.09,2,  2093.6,2,  2393.2,2,  21.0548,    0.36,2
740H20090307,       A095,       8,          1,         21,         21,2,20090309,       1214,  -37.10507,  -52.41326,       3513,    70.8,  22.4124,  36.7042,  36.6987,2,    211.3,   213.4,2,    2.02,2,    0.05,2,  2088.4,2,  2416.4,2,  22.3981,    0.02,2
740H20090307,       A095,       8,          1,         22,         22,2,20090309,       1214,  -37.10507,  -52.41326,       3513,    45.0,  23.2881,  36.3506,  36.3752,2,    210.4,   213.1,2,    2.11,2,    0.01,2,  2063.1,2,    2399,2,  23.2788,    0.03,2
740H20090307,       A095,       8,          1,         23,         23,2,20090309,       1214,  -37.10507,  -52.41326,       3513,    20.2,  23.1977,  36.2660,  36.2655,2,    211.1,   212.1,2,    2.08,2,    0.02,2,  2059.2,2,  2393.5,2,  23.1936,    0.05,2
740H20090307,       A095,       8,          1,         24,         24,2,20090309,       1214,  -37.10507,  -52.41326,       3513,     2.7,  23.3687,  36.1684,  36.1576,2,    210.2,   211.7,2,    2.11,2,    0.04,2,  2056.4,2,  2385.8,2,  23.3681,    0.05,2