BOTTLE,20211101CCHSIORKP
EXPOCODE,SECT_ID,STNNBR,CASTNO,SAMPNO,BTLNBR,BTLNBR_FLAG_W,DATE,TIME,LATITUDE,LONGITUDE,DEPTH,CTDPRS,CTDTMP,CTDSAL,SALNTY,SALNTY_FLAG_W,CTDOXY,OXYGEN,OXYGEN_FLAG_W,SILCAT,SILCAT_FLAG_W,PHSPHT,PHSPHT_FLAG_W,TCARBN,TCARBN_FLAG_W,ALKALI,ALKALI_FLAG_W,THETA,NO2+NO3,NO2+NO3_FLAG_W
,,,,,,,,,,,METERS,DBAR,ITS-90,PSS-78,PSS-78,,UMOL/KG,UMOL/KG,,UMOL/KG,,UMOL/KG,,UMOL/KG,,UMOL/KG,,DEG C,UMOL/KG,
740H20090307,       A095,      79,          1,          1,          1,2,20090407,       2108,  -22.79820,   -9.56665,       4636,  4705.4,   2.4536,  34.8820,  34.8819,2,    228.1,   229.0,2,   54.28,2,    1.56,2,  2212.2,2,  2349.2,2,   2.0228,   23.60,2
740H20090307,       A095,      79,          1,          2,          2,2,20090407,       2108,  -22.79820,   -9.56665,       4636,  4655.8,   2.4471,  34.8821,  34.8820,2,    228.5,   228.5,2,   54.09,2,    1.56,2,  2210.8,2,    2350,2,   2.0226,   23.59,2
740H20090307,       A095,      79,          1,          3,          3,2,20090407,       2108,  -22.79820,   -9.56665,       4636,  4309.5,   2.4059,  34.8817,  34.8814,2,    229.0,   229.0,2,   54.44,2,    1.56,2,  -999.0,9,  -999.0,9,   2.0244,   23.70,2
740H20090307,       A095,      79,          1,          4,          4,2,20090407,       2108,  -22.79820,   -9.56665,       4636,  4054.3,   2.3840,  34.8803,  34.8799,2,    229.1,   230.2,2,   54.19,2,    1.57,2,  -999.0,9,  -999.0,9,   2.0328,   23.65,2
740H20090307,       A095,      79,          1,          5,          5,2,20090407,       2108,  -22.79820,   -9.56665,       4636,  3797.0,   2.3748,  34.8785,  34.8782,2,    230.8,   230.7,2,   53.94,2,    1.57,2,  -999.0,9,  -999.0,9,   2.0531,   23.70,2
740H20090307,       A095,      79,          1,          6,          6,2,20090407,       2108,  -22.79820,   -9.56665,       4636,  3287.8,   2.3836,  34.8740,  34.8744,2,    233.0,   232.7,2,   52.49,2,    1.57,2,  -999.0,9,  -999.0,9,   2.1168,   23.68,2
740H20090307,       A095,      79,          1,          7,          7,2,20090407,       2108,  -22.79820,   -9.56665,       4636,  2779.1,   2.5220,  34.8718,  34.8719,2,    233.0,   232.9,2,   48.86,2,    1.56,2,  -999.0,9,  -999.0,9,   2.3041,   23.56,2
740H20090307,       A095,      79,          1,          8,          8,2,20090407,       2108,  -22.79820,   -9.56665,       4636,  2525.0,   2.6113,  34.8737,  34.8735,2,    232.2,   232.1,2,   46.36,2,    1.56,2,  -999.0,9,  -999.0,9,   2.4164,   23.45,2
740H20090307,       A095,      79,          1,          9,          9,2,20090407,       2108,  -22.79820,   -9.56665,       4636,  2270.9,   2.7268,  34.8708,  34.8707,2,    230.3,   230.0,2,   44.64,2,    1.57,2,  -999.0,9,  -999.0,9,   2.5538,   23.81,2
740H20090307,       A095,      79,          1,         10,         10,2,20090407,       2108,  -22.79820,   -9.56665,       4636,  2017.9,   3.0045,  34.8813,  34.8813,2,    228.9,   229.1,2,   38.61,2,    1.54,2,  -999.0,9,  -999.0,9,   2.8505,   23.28,2
740H20090307,       A095,      79,          1,         11,         11,2,20090407,       2108,  -22.79820,   -9.56665,       4636,  1765.2,   3.2696,  34.8629,  34.8623,2,    219.3,   219.7,2,   36.44,2,    1.61,2,  -999.0,9,  -999.0,9,   3.1347,   24.46,2
740H20090307,       A095,      79,          1,         12,         12,2,20090407,       2108,  -22.79820,   -9.56665,       4636,  1511.0,   3.4703,  34.7957,  34.7957,2,    202.1,   202.2,2,   37.91,2,    1.80,2,  -999.0,9,  -999.0,9,   3.3556,   27.03,2
740H20090307,       A095,      79,          1,         13,         13,2,20090407,       2108,  -22.79820,   -9.56665,       4636,  1258.7,   3.6032,  34.6741,  34.6733,2,    184.0,   184.2,2,   40.52,2,    2.00,2,  -999.0,9,  -999.0,9,   3.5090,   30.39,2
740H20090307,       A095,      79,          1,         14,         14,2,20090407,       2108,  -22.79820,   -9.56665,       4636,  1006.1,   3.7581,  34.4899,  34.4888,2,    172.7,   174.2,2,   41.99,2,    2.22,2,  -999.0,9,  -999.0,9,   3.6838,   33.03,2
740H20090307,       A095,      79,          1,         15,         15,2,20090407,       2108,  -22.79820,   -9.56665,       4636,   881.2,   4.0743,  34.4326,  34.4330,2,    171.1,   171.2,2,   38.25,2,    2.25,2,  -999.0,9,  -999.0,9,   4.0080,   33.76,2
740H20090307,       A095,      79,          1,         16,         16,2,20090407,       2108,  -22.79820,   -9.56665,       4636,   754.8,   4.9413,  34.4044,  34.4032,2,    172.5,   171.9,2,   29.88,2,    2.17,2,  -999.0,9,  -999.0,9,   4.8802,   32.87,2
740H20090307,       A095,      79,          1,         17,         17,2,20090407,       2108,  -22.79820,   -9.56665,       4636,   629.1,   6.1688,  34.4513,  34.4532,2,    173.9,   173.4,2,   21.05,2,    1.98,2,  -999.0,9,  -999.0,9,   6.1125,   29.87,2
740H20090307,       A095,      79,          1,         18,         18,2,20090407,       2108,  -22.79820,   -9.56665,       4636,   503.9,   8.6466,  34.6604,  34.6487,2,    170.2,   169.6,2,   13.84,2,    1.64,2,  -999.0,9,  -999.0,9,   8.5925,   24.50,2
740H20090307,       A095,      79,          1,         19,         19,2,20090407,       2108,  -22.79820,   -9.56665,       4636,   378.4,  11.1434,  34.9376,  34.9428,2,    177.4,   178.4,2,    8.11,2,    1.20,2,  -999.0,9,  -999.0,9,  11.0960,   17.42,2
740H20090307,       A095,      79,          1,         20,         20,2,20090407,       2108,  -22.79820,   -9.56665,       4636,   253.0,  14.1334,  35.2730,  35.2674,2,    197.9,   195.8,2,    4.74,2,    0.69,2,  -999.0,9,  -999.0,9,  14.0964,    8.84,2
740H20090307,       A095,      79,          1,         21,         25,2,20090407,       2108,  -22.79820,   -9.56665,       4636,   177.2,  17.2536,  35.7593,  35.7449,2,    210.8,   210.4,2,    3.44,2,    0.33,2,  -999.0,9,  -999.0,9,  17.2239,    2.45,2
740H20090307,       A095,      79,          1,         22,         22,2,20090407,       2108,  -22.79820,   -9.56665,       4636,   102.4,  19.9457,  36.2140,  36.2006,2,    221.4,   221.8,2,    2.79,2,    0.18,2,  -999.0,9,  2374.6,2,  19.9267,   -0.10,2
740H20090307,       A095,      79,          1,         23,         23,2,20090407,       2108,  -22.79820,   -9.56665,       4636,    53.3,  23.8337,  36.5100,  36.4978,2,    217.6,   214.9,2,    2.66,2,    0.17,2,  -999.0,9,  -999.0,9,  23.8225,   -0.11,2
740H20090307,       A095,      79,          1,         24,         24,2,20090407,       2108,  -22.79820,   -9.56665,       4636,     7.6,  24.5463,  36.6081,  36.6132,2,    206.4,   206.8,2,    2.55,2,    0.17,2,  -999.0,9,  2401.8,2,  24.5446,   -0.14,2
740H20090307,       A095,      80,          1,          1,          1,2,20090408,       0603,  -23.09231,   -8.85056,       5243,  5332.2,   2.5304,  34.8834,  34.8842,2,    227.4,   229.4,2,   54.23,2,    1.56,2,  2211.8,2,  2369.2,2,   2.0171,   23.56,2
740H20090307,       A095,      80,          1,          2,          2,2,20090408,       0603,  -23.09231,   -8.85056,       5243,  5280.3,   2.5237,  34.8834,  34.8841,2,    228.1,   228.1,2,   54.50,2,    1.56,2,  2212.8,2,  2368.2,2,   2.0174,   23.64,2
740H20090307,       A095,      80,          1,          3,          3,2,20090408,       0603,  -23.09231,   -8.85056,       5243,  4565.3,   2.4356,  34.8831,  34.8836,2,    228.3,   228.8,2,   54.12,2,    1.56,2,  2210.9,2,  2367.3,2,   2.0224,   23.95,2
740H20090307,       A095,      80,          1,          4,          4,2,20090408,       0603,  -23.09231,   -8.85056,       5243,  4309.9,   2.4079,  34.8828,  34.8822,2,    228.5,   229.0,2,   53.73,2,    1.56,2,  2212.3,2,  2365.2,2,   2.0263,   23.97,2
740H20090307,       A095,      80,          1,          5,          5,2,20090408,       0603,  -23.09231,   -8.85056,       5243,  4054.3,   2.3846,  34.8820,  34.8824,2,    229.1,   229.4,2,   53.49,2,    1.57,2,  2210.5,2,  2363.5,2,   2.0335,   23.71,2
740H20090307,       A095,      80,          1,          6,          6,2,20090408,       0603,  -23.09231,   -8.85056,       5243,  3542.7,   2.3671,  34.8787,  34.8793,2,    231.0,   230.5,2,   52.76,2,    1.56,2,  2205.1,2,  2358.9,2,   2.0735,   23.66,2
740H20090307,       A095,      80,          1,          7,          7,2,20090408,       0603,  -23.09231,   -8.85056,       5243,  3033.5,   2.4217,  34.8721,  34.8722,2,    233.4,   233.8,2,   50.80,2,    1.57,2,    2199,2,  2349.4,2,   2.1804,   23.65,2
740H20090307,       A095,      80,          1,          8,          8,2,20090408,       0603,  -23.09231,   -8.85056,       5243,  2524.7,   2.5578,  34.8699,  34.8704,2,    232.1,   231.1,2,   47.11,2,    1.57,2,  2195.6,2,  2342.2,2,   2.3639,   23.94,2
740H20090307,       A095,      80,          1,          9,          9,2,20090408,       0603,  -23.09231,   -8.85056,       5243,  2271.2,   2.7453,  34.8790,  34.8788,2,    231.6,   231.1,2,   42.73,2,    1.55,2,  -999.0,9,  -999.0,9,   2.5720,   23.62,2
740H20090307,       A095,      80,          1,         10,         10,2,20090408,       0603,  -23.09231,   -8.85056,       5243,  2017.6,   3.0233,  34.8804,  34.8803,2,    228.4,   228.5,2,   37.68,2,    1.55,2,  2190.6,2,  2336.8,2,   2.8690,   23.61,2
740H20090307,       A095,      80,          1,         11,         11,2,20090408,       0603,  -23.09231,   -8.85056,       5243,  1765.0,   3.2359,  34.8509,  34.8507,2,    218.7,   219.1,2,   37.77,2,    1.63,2,  -999.0,9,  -999.0,9,   3.1015,   24.60,2
740H20090307,       A095,      80,          1,         12,         12,2,20090408,       0603,  -23.09231,   -8.85056,       5243,  1511.8,   3.3765,  34.7778,  34.7781,2,    201.3,   200.6,2,   39.76,2,    1.82,2,  2203.2,2,  2332.4,2,   3.2628,   27.17,2
740H20090307,       A095,      80,          1,         13,         13,2,20090408,       0603,  -23.09231,   -8.85056,       5243,  1259.5,   3.5582,  34.6737,  34.6742,2,    184.4,   184.5,2,   40.93,2,    2.02,2,  -999.0,9,  -999.0,9,   3.4643,   30.07,2
740H20090307,       A095,      80,          1,         14,         14,2,20090408,       0603,  -23.09231,   -8.85056,       5243,  1006.5,   3.6729,  34.5058,  34.5049,2,    174.9,   175.7,2,   42.94,2,    2.23,2,  2220.6,2,  2319.6,2,   3.5992,   33.23,2
740H20090307,       A095,      80,          1,         15,         15,2,20090408,       0603,  -23.09231,   -8.85056,       5243,   880.9,   3.9999,  34.4223,  34.4220,2,    176.0,   176.0,2,   38.90,2,    2.25,2,  -999.0,9,  -999.0,9,   3.9341,   33.34,2
740H20090307,       A095,      80,          1,         16,         16,2,20090408,       0603,  -23.09231,   -8.85056,       5243,   755.3,   4.7375,  34.3836,  34.3832,2,    182.3,   181.4,2,   29.83,2,    2.15,2,  2202.3,2,  2302.9,2,   4.6776,   32.34,2
740H20090307,       A095,      80,          1,         17,         17,2,20090408,       0603,  -23.09231,   -8.85056,       5243,   629.7,   6.0949,  34.4277,  34.4303,2,    186.6,   189.9,2,   20.12,2,    1.91,2,  2183.2,2,  2294.2,2,   6.0389,   28.18,2
740H20090307,       A095,      80,          1,         18,         18,2,20090408,       0603,  -23.09231,   -8.85056,       5243,   504.0,   8.3882,  34.6246,  34.6251,2,    185.0,   184.5,2,   12.98,2,    1.58,2,  -999.0,9,  -999.0,9,   8.3351,   23.39,2
740H20090307,       A095,      80,          1,         19,         19,2,20090408,       0603,  -23.09231,   -8.85056,       5243,   377.9,  11.2898,  34.9462,  34.9422,2,    194.5,   196.1,2,    7.00,2,    1.07,2,  -999.0,9,  -999.0,9,  11.2421,   15.31,2
740H20090307,       A095,      80,          1,         20,         20,2,20090408,       0603,  -23.09231,   -8.85056,       5243,   253.5,  13.9558,  35.2477,  35.2460,2,    207.7,   207.1,2,    4.26,2,    0.62,2,  -999.0,9,  -999.0,9,  13.9191,    7.66,2
740H20090307,       A095,      80,          1,         21,         25,2,20090408,       0603,  -23.09231,   -8.85056,       5243,   177.3,  15.6901,  35.5038,  35.5068,2,    210.7,   210.3,2,    3.65,2,    0.42,2,  -999.0,9,  -999.0,9,  15.6623,    4.32,2
740H20090307,       A095,      80,          1,         22,         22,2,20090408,       0603,  -23.09231,   -8.85056,       5243,   127.4,  17.8284,  35.8696,  35.8724,2,    218.5,   220.0,2,    2.98,2,    0.21,2,  -999.0,9,  -999.0,9,  17.8066,    0.43,2
740H20090307,       A095,      80,          1,         23,         23,2,20090408,       0603,  -23.09231,   -8.85056,       5243,    52.1,  24.3104,  36.5702,  36.5409,2,    210.4,   207.9,2,    2.68,2,    0.15,2,  -999.0,9,  -999.0,9,  24.2993,   -0.15,2
740H20090307,       A095,      80,          1,         24,         24,10,20090408,       0603,  -23.09231,   -8.85056,       5243,     7.0,  24.3477,  36.5754,  36.5805,2,    207.3,   206.5,2,    2.60,2,    0.15,2,  -999.0,9,  -999.0,9,  24.3462,   -0.14,2
740H20090307,       A095,      81,          1,          1,          1,2,20090408,       1451,  -23.38810,   -8.13463,       4457,  4524.7,   2.4180,  34.8835,  34.8842,2,    227.4,   228.2,2,   55.69,2,    1.56,2,    2220,3,  2352.6,2,   2.0104,   23.85,2
740H20090307,       A095,      81,          1,          2,          2,2,20090408,       1451,  -23.38810,   -8.13463,       4457,  4473.1,   2.4117,  34.8834,  34.8832,2,    227.5,   227.6,2,   55.69,2,    1.56,2,  2223.4,3,  2352.9,2,   2.0104,   24.03,2
740H20090307,       A095,      81,          1,          3,          3,3,20090408,       1451,  -23.38810,   -8.13463,       4457,  4309.7,   2.3931,  34.8834,  34.8522,2,    228.0,   223.8,2,   45.32,2,    1.62,2,  2204.5,3,  2325.6,3,   2.0119,   24.91,2
740H20090307,       A095,      81,          1,          4,          4,2,20090408,       1451,  -23.38810,   -8.13463,       4457,  4054.7,   2.3684,  34.8832,  34.8832,2,    228.4,   228.4,2,   55.61,2,    1.56,2,  2219.4,3,  2353.1,2,   2.0177,   24.25,2
740H20090307,       A095,      81,          1,          5,          5,2,20090408,       1451,  -23.38810,   -8.13463,       4457,  3798.6,   2.3531,  34.8828,  34.8826,2,    228.7,   228.3,2,   55.25,2,    1.56,2,  2226.1,3,  2353.2,2,   2.0317,   24.07,2
740H20090307,       A095,      81,          1,          6,          6,2,20090408,       1451,  -23.38810,   -8.13463,       4457,  3287.4,   2.3698,  34.8785,  34.8785,2,    230.9,   230.5,2,   53.87,2,    1.57,2,  2207.6,3,  2343.4,2,   2.1034,   24.10,2
740H20090307,       A095,      81,          1,          7,          7,2,20090408,       1451,  -23.38810,   -8.13463,       4457,  2778.9,   2.4471,  34.8711,  34.8710,2,    233.2,   233.5,2,   51.57,2,    1.57,2,  2204.1,3,  2334.1,2,   2.2307,   23.85,2
740H20090307,       A095,      81,          1,          8,          8,2,20090408,       1451,  -23.38810,   -8.13463,       4457,  2526.0,   2.5151,  34.8664,  34.8664,2,    231.6,   232.0,2,   50.33,2,    1.58,2,  -999.0,9,  -999.0,9,   2.3220,   23.75,2
740H20090307,       A095,      81,          1,          9,          9,2,20090408,       1451,  -23.38810,   -8.13463,       4457,  2270.9,   2.5753,  34.8561,  34.8558,2,    227.9,   228.5,2,   50.22,2,    1.61,2,  2205.4,3,  2329.5,2,   2.4050,   24.55,2
740H20090307,       A095,      81,          1,         10,         10,2,20090408,       1451,  -23.38810,   -8.13463,       4457,  2017.3,   2.7678,  34.8480,  34.8465,2,    223.5,   223.4,2,   47.42,2,    1.65,2,  -999.0,9,  -999.0,9,   2.6175,   24.95,2
740H20090307,       A095,      81,          1,         11,         11,2,20090408,       1451,  -23.38810,   -8.13463,       4457,  1764.3,   3.0725,  34.8417,  34.8414,2,    218.4,   219.1,2,   41.98,2,    1.65,2,  2200.8,2,  2322.8,2,   2.9404,   25.00,2
740H20090307,       A095,      81,          1,         12,         12,2,20090408,       1451,  -23.38810,   -8.13463,       4457,  1512.0,   3.3370,  34.7845,  34.7856,2,    203.3,   203.7,2,   41.43,2,    1.80,2,  -999.0,9,  -999.0,9,   3.2237,   27.13,2
740H20090307,       A095,      81,          1,         13,         13,2,20090408,       1451,  -23.38810,   -8.13463,       4457,  1259.7,   3.5601,  34.6921,  34.6926,2,    186.3,   186.7,2,   41.37,2,    1.99,2,  2216.1,2,  2315.2,2,   3.4662,   30.25,2
740H20090307,       A095,      81,          1,         14,         14,2,20090408,       1451,  -23.38810,   -8.13463,       4457,  1008.0,   3.6638,  34.5102,  34.5114,2,    174.6,   175.0,2,   44.54,2,    2.23,2,  -999.0,9,  -999.0,9,   3.5900,   33.44,2
740H20090307,       A095,      81,          1,         15,         15,2,20090408,       1451,  -23.38810,   -8.13463,       4457,   882.1,   3.8828,  34.4380,  34.4387,2,    175.7,   175.7,2,   41.86,2,    2.27,2,  2221.9,2,    2304,2,   3.8177,   34.06,2
740H20090307,       A095,      81,          1,         16,         16,2,20090408,       1451,  -23.38810,   -8.13463,       4457,   756.7,   4.5063,  34.3771,  34.3767,2,    185.7,   186.4,2,   32.60,2,    2.17,2,  -999.0,9,  -999.0,9,   4.4476,   32.26,2
740H20090307,       A095,      81,          1,         17,         17,2,20090408,       1451,  -23.38810,   -8.13463,       4457,   631.0,   5.6902,  34.3979,  34.3990,2,    193.7,   193.5,2,   22.15,2,    1.95,2,  2189.8,2,  2287.9,2,   5.6361,   29.24,2
740H20090307,       A095,      81,          1,         18,         18,2,20090408,       1451,  -23.38810,   -8.13463,       4457,   504.4,   7.8090,  34.5618,  34.5661,2,    189.6,   189.6,2,   14.34,2,    1.65,2,  2171.5,2,  2287.7,2,   7.7580,   24.13,2
740H20090307,       A095,      81,          1,         19,         19,2,20090408,       1451,  -23.38810,   -8.13463,       4457,   379.1,  10.7892,  34.8880,  34.8894,2,    196.5,   196.8,2,    7.91,2,    1.15,2,  -999.0,9,  -999.0,9,  10.7427,   16.22,2
740H20090307,       A095,      81,          1,         20,         20,2,20090408,       1451,  -23.38810,   -8.13463,       4457,   254.0,  13.6655,  35.2055,  35.2029,2,    206.9,   206.0,2,    4.66,2,    0.67,2,  2114.9,2,  2316.1,2,  13.6292,    8.53,2
740H20090307,       A095,      81,          1,         21,         25,2,20090408,       1451,  -23.38810,   -8.13463,       4457,   178.4,  15.2964,  35.4209,  35.4158,2,    206.7,   205.8,2,    4.12,2,    0.52,2,  -999.0,9,  -999.0,9,  15.2690,    5.78,2
740H20090307,       A095,      81,          1,         22,         22,2,20090408,       1451,  -23.38810,   -8.13463,       4457,   103.3,  18.0135,  35.8055,  35.8080,2,    232.7,   233.7,2,    2.92,2,    0.17,2,  2078.5,2,  2350.6,2,  17.9957,   -0.11,2
740H20090307,       A095,      81,          1,         23,         23,2,20090408,       1451,  -23.38810,   -8.13463,       4457,    53.6,  22.3078,  36.2030,  36.1619,2,    227.8,   226.9,2,    2.70,2,    0.14,2,  -999.0,9,  -999.0,9,  22.2970,   -0.20,2
740H20090307,       A095,      81,          1,         24,         24,2,20090408,       1451,  -23.38810,   -8.13463,       4457,     7.4,  24.2498,  36.4996,  36.5054,2,    207.5,   207.5,2,    2.54,2,    0.15,2,  2090.5,2,  2397.2,2,  24.2482,   -0.20,2