BOTTLE,20211101CCHSIORKP
EXPOCODE,SECT_ID,STNNBR,CASTNO,SAMPNO,BTLNBR,BTLNBR_FLAG_W,DATE,TIME,LATITUDE,LONGITUDE,DEPTH,CTDPRS,CTDTMP,CTDSAL,SALNTY,SALNTY_FLAG_W,CTDOXY,OXYGEN,OXYGEN_FLAG_W,SILCAT,SILCAT_FLAG_W,PHSPHT,PHSPHT_FLAG_W,TCARBN,TCARBN_FLAG_W,ALKALI,ALKALI_FLAG_W,THETA,NO2+NO3,NO2+NO3_FLAG_W
,,,,,,,,,,,METERS,DBAR,ITS-90,PSS-78,PSS-78,,UMOL/KG,UMOL/KG,,UMOL/KG,,UMOL/KG,,UMOL/KG,,UMOL/KG,,DEG C,UMOL/KG,
740H20090307,       A095,      30,          1,          1,          1,2,20090317,       1353,  -24.00035,  -40.00085,       3011,  3044.5,   2.6476,  34.9109,  34.9111,2,    243.7,   243.8,2,   37.70,2,    1.40,2,  2180.6,2,  2331.6,2,   2.4000,   21.29,2
740H20090307,       A095,      30,          1,          3,          3,2,20090317,       1353,  -24.00035,  -40.00085,       3011,  2988.1,   2.6969,  34.9144,  34.9147,2,    244.2,   244.3,2,   36.19,2,    1.39,2,  2180.4,2,  2329.9,2,   2.4540,   20.69,2
740H20090307,       A095,      30,          1,          4,          4,2,20090317,       1353,  -24.00035,  -40.00085,       3011,  2782.8,   2.9011,  34.9269,  34.9269,2,    244.4,   243.6,2,   32.41,2,    1.37,2,    2176,2,  2324.7,2,   2.6749,   20.77,2
740H20090307,       A095,      30,          1,          5,          5,2,20090317,       1353,  -24.00035,  -40.00085,       3011,  2528.1,   3.0965,  34.9384,  34.9387,2,    244.7,   243.8,2,   28.91,2,    1.35,2,  -999.0,9,  -999.0,9,   2.8921,   20.40,2
740H20090307,       A095,      30,          1,          6,          6,2,20090317,       1353,  -24.00035,  -40.00085,       3011,  2271.3,   3.3449,  34.9505,  34.9509,2,    244.1,   243.6,2,   25.07,2,    1.32,2,  2170.3,2,  2318.5,2,   3.1612,   19.90,2
740H20090307,       A095,      30,          1,          7,          7,2,20090317,       1353,  -24.00035,  -40.00085,       3011,  2019.8,   3.5722,  34.9552,  34.9561,2,    241.0,   240.1,2,   22.95,2,    1.34,2,  -999.0,9,  -999.0,9,   3.4092,   19.86,2
740H20090307,       A095,      30,          1,          8,          8,2,20090317,       1353,  -24.00035,  -40.00085,       3011,  1763.7,   3.8176,  34.9356,  34.9351,2,    228.8,   227.8,2,   23.94,2,    1.45,2,  2174.7,2,  2316.8,2,   3.6753,   21.88,2
740H20090307,       A095,      30,          1,          9,          9,2,20090317,       1353,  -24.00035,  -40.00085,       3011,  1510.6,   3.9031,  34.8328,  34.8324,2,    202.9,   202.3,2,   31.67,2,    1.74,2,  -999.0,9,  -999.0,9,   3.7834,   25.82,2
740H20090307,       A095,      30,          1,         10,         10,2,20090317,       1353,  -24.00035,  -40.00085,       3011,  1257.3,   3.4042,  34.5929,  34.5912,2,    184.2,   183.8,2,   47.59,2,    2.14,2,  2214.7,2,  2314.4,2,   3.3122,   31.09,2
740H20090307,       A095,      30,          1,         11,         11,2,20090317,       1353,  -24.00035,  -40.00085,       3011,  1005.3,   3.8326,  34.4153,  34.4134,2,    185.2,   184.7,2,   40.02,2,    2.23,2,  -999.0,9,  -999.0,9,   3.7579,   33.05,2
740H20090307,       A095,      30,          1,         12,         12,2,20090317,       1353,  -24.00035,  -40.00085,       3011,   878.9,   4.6540,  34.3864,  34.3870,2,    186.5,   186.1,2,   30.49,2,    2.15,2,  -999.0,9,  -999.0,9,   4.5840,   31.74,2
740H20090307,       A095,      30,          1,         13,         13,2,20090317,       1353,  -24.00035,  -40.00085,       3011,   752.1,   6.0337,  34.4355,  34.4385,2,    187.1,   186.1,2,   20.64,2,    1.94,2,  -999.0,9,  -999.0,9,   5.9666,   28.37,2
740H20090307,       A095,      30,          1,         14,         14,2,20090317,       1353,  -24.00035,  -40.00085,       3011,   626.1,   8.1019,  34.6077,  34.6091,2,    179.3,   181.0,2,   14.09,2,    1.66,2,  2164.4,2,  2291.4,2,   8.0367,   24.49,2
740H20090307,       A095,      30,          1,         15,         15,2,20090317,       1353,  -24.00035,  -40.00085,       3011,   501.0,  11.0082,  34.9256,  34.9281,2,    188.6,   190.1,2,    7.49,2,    1.14,2,  -999.0,9,  -999.0,9,  10.9456,   16.28,2
740H20090307,       A095,      30,          1,         16,         16,2,20090317,       1353,  -24.00035,  -40.00085,       3011,   374.5,  13.9697,  35.3318,  35.3292,2,    201.2,   200.8,2,    4.13,2,    0.66,2,  2113.9,2,  2322.7,2,  13.9151,    8.61,2
740H20090307,       A095,      30,          1,         18,         18,2,20090317,       1353,  -24.00035,  -40.00085,       3011,   249.0,  17.3144,  35.8133,  35.8145,2,    197.6,   196.6,2,    2.82,2,    0.34,2,  -999.0,9,  -999.0,9,  17.2725,    3.18,2
740H20090307,       A095,      30,          1,         19,         19,2,20090317,       1353,  -24.00035,  -40.00085,       3011,   173.6,  19.8061,  36.2735,  36.2788,2,    208.7,   209.1,2,    2.20,2,    0.10,2,  2086.2,2,  2380.9,2,  19.7740,    0.53,2
740H20090307,       A095,      30,          1,         20,         20,2,20090317,       1353,  -24.00035,  -40.00085,       3011,    98.4,  22.6945,  36.7653,  36.7665,2,    209.7,   211.4,2,    2.20,2,    0.04,2,  -999.0,9,  -999.0,9,  22.6745,    0.04,2
740H20090307,       A095,      30,          1,         22,         22,2,20090317,       1353,  -24.00035,  -40.00085,       3011,    72.5,  23.4560,  36.8408,  36.8410,2,    215.4,   216.3,3,    2.15,2,    0.01,2,  2076.2,2,  2418.4,2,  23.4409,    0.03,2
740H20090307,       A095,      30,          1,         24,         24,2,20090317,       1353,  -24.00035,  -40.00085,       3011,     2.9,  27.9138,  36.6925,  36.6935,2,    194.5,   195.3,2,    2.35,2,    0.00,2,  2053.9,2,  2407.3,2,  27.9131,    0.06,2
740H20090307,       A095,      31,          1,          1,          1,2,20090317,       2016,  -24.00021,  -39.49963,       3017,  3050.0,   2.5815,  34.9059,  34.9111,2,    243.2,   242.8,3,   39.12,2,    1.41,2,  2177.7,2,  2335.7,2,   2.3348,   21.08,2
740H20090307,       A095,      31,          1,          3,          3,2,20090317,       2016,  -24.00021,  -39.49963,       3017,  2999.9,   2.6424,  34.9107,  34.9111,2,    244.2,   243.6,2,   37.40,2,    1.39,2,  2179.5,2,  2331.8,2,   2.3996,   20.90,2
740H20090307,       A095,      31,          1,          4,          4,2,20090317,       2016,  -24.00021,  -39.49963,       3017,  2783.7,   2.8809,  34.9256,  34.9253,2,    244.3,   243.7,2,   32.83,2,    1.37,2,  -999.0,9,  -999.0,9,   2.6550,   20.63,2
740H20090307,       A095,      31,          1,          5,          5,2,20090317,       2016,  -24.00021,  -39.49963,       3017,  2530.7,   3.0911,  34.9378,  34.9382,2,    244.4,   244.1,2,   28.91,2,    1.34,2,  2171.8,2,  2328.8,2,   2.8864,   20.38,2
740H20090307,       A095,      31,          1,          6,          6,2,20090317,       2016,  -24.00021,  -39.49963,       3017,  2277.8,   3.2922,  34.9484,  34.9487,2,    244.6,   243.8,2,   25.65,2,    1.32,2,  -999.0,9,  -999.0,9,   3.1088,   20.05,2
740H20090307,       A095,      31,          1,          7,          7,2,20090317,       2016,  -24.00021,  -39.49963,       3017,  2023.1,   3.5457,  34.9549,  34.9550,2,    241.4,   240.9,2,   23.22,2,    1.32,2,    2169,2,  2324.2,2,   3.3827,   20.39,2
740H20090307,       A095,      31,          1,          8,          8,2,20090317,       2016,  -24.00021,  -39.49963,       3017,  1767.8,   3.7630,  34.9293,  34.9293,2,    228.6,   227.2,2,   25.30,2,    1.44,2,  -999.0,9,  -999.0,9,   3.6211,   21.74,2
740H20090307,       A095,      31,          1,          9,          9,2,20090317,       2016,  -24.00021,  -39.49963,       3017,  1515.7,   3.8864,  34.8421,  34.8426,2,    205.0,   204.1,2,   31.28,2,    1.70,2,  2192.2,2,  2321.4,2,   3.7663,   25.63,2
740H20090307,       A095,      31,          1,         10,         10,2,20090317,       2016,  -24.00021,  -39.49963,       3017,  1262.6,   3.3653,  34.5807,  34.5827,2,    183.8,   182.8,2,   48.43,2,    2.14,2,  -999.0,9,  -999.0,9,   3.2733,   31.40,2
740H20090307,       A095,      31,          1,         11,         11,2,20090317,       2016,  -24.00021,  -39.49963,       3017,  1010.9,   3.7160,  34.4280,  34.4265,2,    184.8,   184.0,2,   42.33,2,    2.23,2,  -999.0,9,  -999.0,9,   3.6418,   33.12,2
740H20090307,       A095,      31,          1,         13,         13,3,20090317,       2016,  -24.00021,  -39.49963,       3017,   886.1,   4.3824,  34.3780,-999.0000,9,    189.1,  -999.0,9, -999.00,9, -999.00,9,  -999.0,9,  -999.0,9,   4.3137, -999.00,9
740H20090307,       A095,      31,          1,         14,         14,3,20090317,       2016,  -24.00021,  -39.49963,       3017,   757.1,   5.3018,  34.3702,-999.0000,9,    201.7,  -999.0,9, -999.00,9, -999.00,9,  -999.0,9,  -999.0,9,   5.2384, -999.00,9
740H20090307,       A095,      31,          1,         15,         15,2,20090317,       2016,  -24.00021,  -39.49963,       3017,   633.6,   7.6455,  34.5583,  34.5591,2,    186.5,   186.2,2,   14.68,2,    1.69,2,  2165.6,2,  2295.2,2,   7.5816,   24.92,2
740H20090307,       A095,      31,          1,         16,         16,2,20090317,       2016,  -24.00021,  -39.49963,       3017,   506.3,  10.8022,  34.8979,  34.8975,2,    190.1,   190.2,2,    7.80,2,    1.17,2,  2142.5,2,  2304.6,2,  10.7397,   16.84,2
740H20090307,       A095,      31,          1,         17,         17,2,20090317,       2016,  -24.00021,  -39.49963,       3017,   379.9,  13.6385,  35.2632,  35.2662,2,    198.3,   196.6,2,    4.41,2,    0.71,2,  -999.0,9,  -999.0,9,  13.5841,    9.40,2
740H20090307,       A095,      31,          1,         18,         18,2,20090317,       2016,  -24.00021,  -39.49963,       3017,   253.3,  16.7046,  35.7090,  35.7044,2,    199.0,   197.8,2,    2.91,2,    0.37,2,  2104.7,2,  2347.1,2,  16.6630,    3.74,2
740H20090307,       A095,      31,          1,         19,         19,2,20090317,       2016,  -24.00021,  -39.49963,       3017,   177.9,  19.8260,  36.3018,  36.3222,2,    197.1,   199.7,2,    2.18,2,    0.17,2,  -999.0,9,  -999.0,9,  19.7930,    1.14,2
740H20090307,       A095,      31,          1,         20,         20,2,20090317,       2016,  -24.00021,  -39.49963,       3017,   102.9,  22.9695,  36.9231,  36.9157,2,    204.1,   202.8,2,    2.07,2,    0.06,2,  2092.4,2,  2424.9,2,  22.9483,    0.08,2
740H20090307,       A095,      31,          1,         21,         21,2,20090317,       2016,  -24.00021,  -39.49963,       3017,    76.6,  23.7181,  36.9618,  36.9649,2,    211.0,   212.7,2,    1.97,2,    0.03,2,  -999.0,9,  -999.0,9,  23.7020,    0.07,2
740H20090307,       A095,      31,          1,         22,         22,2,20090317,       2016,  -24.00021,  -39.49963,       3017,    54.5,  25.4374,  36.8743,  36.8815,2,    213.6,   211.6,2,    2.27,2,    0.01,2,  2069.7,2,  2420.2,2,  25.4254,    0.00,2
740H20090307,       A095,      31,          1,         23,         23,2,20090317,       2016,  -24.00021,  -39.49963,       3017,    27.2,  27.8047,  36.7482,  36.7498,2,    195.0,   195.7,2,    2.21,2,    0.00,2,  -999.0,9,  -999.0,9,  27.7983,   -0.03,2
740H20090307,       A095,      31,          1,         24,         24,2,20090317,       2016,  -24.00021,  -39.49963,       3017,     7.1,  27.8526,  36.7507,  36.7519,2,    194.8,   194.1,2,    2.18,2,   -0.01,2,  2055.7,2,  2410.4,2,  27.8509,   -0.02,2
740H20090307,       A095,      32,          1,          1,          1,2,20090318,       0219,  -23.99629,  -38.99797,       3400,  3440.3,   1.6238,  34.8126,  34.8133,2,    231.5,   230.7,2,   73.79,2,    1.75,2,  2212.8,2,  2350.2,2,   1.3599,   25.79,2
740H20090307,       A095,      32,          1,          2,          2,2,20090318,       0219,  -23.99629,  -38.99797,       3400,  3389.2,   1.7847,  34.8297,  34.8306,2,    234.4,   233.4,2,   66.76,2,    1.68,2,  2208.7,2,  2348.6,2,   1.5220,   24.93,2
740H20090307,       A095,      32,          1,          3,          3,2,20090318,       0219,  -23.99629,  -38.99797,       3400,  3039.3,   2.7044,  34.9156,  34.9163,2,    244.8,   244.2,2,   35.08,2,    1.38,2,  -999.0,9,  -999.0,9,   2.4561,   20.05,2
740H20090307,       A095,      32,          1,          4,          4,2,20090318,       0219,  -23.99629,  -38.99797,       3400,  2783.9,   2.9203,  34.9280,  34.9281,2,    244.5,   244.3,2,   31.39,2,    1.36,2,  2176.5,2,  2329.3,2,   2.6935,   20.06,2
740H20090307,       A095,      32,          1,          5,          5,2,20090318,       0219,  -23.99629,  -38.99797,       3400,  2528.4,   3.1509,  34.9413,  34.9418,2,    244.8,   244.1,2,   27.00,2,    1.32,2,  -999.0,9,  -999.0,9,   2.9454,   19.52,2
740H20090307,       A095,      32,          1,          6,          6,2,20090318,       0219,  -23.99629,  -38.99797,       3400,  2273.9,   3.3752,  34.9523,  34.9515,2,    244.3,   243.4,2,   23.76,2,    1.30,2,  2170.2,2,  2320.3,2,   3.1908,   19.20,2
740H20090307,       A095,      32,          1,          7,          7,2,20090318,       0219,  -23.99629,  -38.99797,       3400,  2019.5,   3.5616,  34.9569,  34.9560,2,    241.8,   241.3,2,   22.17,2,    1.32,2,  -999.0,9,  -999.0,9,   3.3988,   19.80,2
740H20090307,       A095,      32,          1,          8,          8,2,20090318,       0219,  -23.99629,  -38.99797,       3400,  1766.9,   3.8201,  34.9446,  34.9436,2,    231.4,   229.2,2,   22.20,2,    1.40,2,  2172.3,2,  2316.4,2,   3.6775,   20.72,2
740H20090307,       A095,      32,          1,          9,          9,2,20090318,       0219,  -23.99629,  -38.99797,       3400,  1512.6,   3.9145,  34.8666,  34.8661,2,    208.6,   208.4,2,   28.44,2,    1.64,2,  -999.0,9,  -999.0,9,   3.7944,   24.53,2
740H20090307,       A095,      32,          1,         10,         10,2,20090318,       0219,  -23.99629,  -38.99797,       3400,  1259.3,   3.4408,  34.5977,  34.5970,2,    183.9,   183.0,2,   45.45,2,    2.11,2,  2219.1,2,  2318.7,2,   3.3483,   30.42,2
740H20090307,       A095,      32,          1,         11,         11,3,20090318,       0219,  -23.99629,  -38.99797,       3400,  1007.0,   3.5939,  34.4177,-999.0000,9,    188.0,  -999.0,9, -999.00,9, -999.00,9,  -999.0,9,  -999.0,9,   3.5209, -999.00,9
740H20090307,       A095,      32,          1,         12,         12,2,20090318,       0219,  -23.99629,  -38.99797,       3400,   881.6,   4.1878,  34.3570,  34.3573,2,    196.4,   196.0,2,   32.65,2,    2.14,2,  2202.2,2,    2301,2,   4.1209,   31.19,2
740H20090307,       A095,      32,          1,         14,         14,2,20090318,       0219,  -23.99629,  -38.99797,       3400,   754.2,   5.4354,  34.3872,  34.3880,2,    195.4,   194.5,2,   22.29,2,    1.97,2,  -999.0,9,  -999.0,9,   5.3716,   29.12,2
740H20090307,       A095,      32,          1,         15,         15,2,20090318,       0219,  -23.99629,  -38.99797,       3400,   628.1,   7.1604,  34.5028,  34.5049,2,    195.8,   194.5,2,   14.66,2,    1.70,2,  2169.6,2,  2292.1,2,   7.0994,   24.47,2
740H20090307,       A095,      32,          1,         16,         16,2,20090318,       0219,  -23.99629,  -38.99797,       3400,   503.7,   9.8101,  34.7801,  34.7896,2,    192.3,   191.8,2,    8.74,2,    1.29,2,  -999.0,9,  -999.0,9,   9.7516,   18.50,2
740H20090307,       A095,      32,          1,         17,         17,2,20090318,       0219,  -23.99629,  -38.99797,       3400,   376.6,  12.7975,  35.1776,  35.1769,2,    201.5,   201.7,2,    4.68,2,    0.80,2,  2124.9,2,  2319.3,2,  12.7458,   10.60,2
740H20090307,       A095,      32,          1,         18,         18,2,20090318,       0219,  -23.99629,  -38.99797,       3400,   251.5,  15.5011,  35.5406,  35.5415,2,    204.6,   203.0,2,    3.04,2,    0.44,2,  -999.0,9,  -999.0,9,  15.4619,    4.97,2
740H20090307,       A095,      32,          1,         19,         19,2,20090318,       0219,  -23.99629,  -38.99797,       3400,   175.1,  17.8687,  35.9139,  35.9142,2,    206.4,   205.2,2,    2.39,2,    0.22,2,  2097.3,2,  2361.6,2,  17.8386,    1.85,2
740H20090307,       A095,      32,          1,         20,         20,2,20090318,       0219,  -23.99629,  -38.99797,       3400,   100.0,  20.4739,  36.3603,  36.3585,2,    217.9,   215.6,2,    1.99,2,    0.04,2,  -999.0,9,  -999.0,9,  20.4550,   -0.02,2
740H20090307,       A095,      32,          1,         21,         21,2,20090318,       0219,  -23.99629,  -38.99797,       3400,    74.7,  21.3169,  36.4340,  36.4344,2,    223.6,   220.9,2,    2.00,2,    0.02,2,  2074.7,2,  2390.2,2,  21.3024,    0.00,2
740H20090307,       A095,      32,          1,         22,         22,2,20090318,       0219,  -23.99629,  -38.99797,       3400,    49.9,  23.0246,  36.4460,  36.4477,2,    227.2,   225.2,2,    1.99,2,    0.00,2,  -999.0,9,  -999.0,9,  23.0143,    0.01,2
740H20090307,       A095,      32,          1,         23,         23,2,20090318,       0219,  -23.99629,  -38.99797,       3400,    25.2,  26.9631,  36.5596,  36.5456,2,    206.0,   199.8,3,    2.04,2,    0.00,2,  2054.8,2,  2397.4,2,  26.9574,    0.06,2
740H20090307,       A095,      32,          1,         24,         24,2,20090318,       0219,  -23.99629,  -38.99797,       3400,     5.2,  27.2768,  36.4986,  36.4988,2,    196.5,   194.8,3,    2.03,2,   -0.01,2,  2054.3,2,  2392.8,2,  27.2756,    0.02,2