BOTTLE,20211101CCHSIORKP
EXPOCODE,SECT_ID,STNNBR,CASTNO,SAMPNO,BTLNBR,BTLNBR_FLAG_W,DATE,TIME,LATITUDE,LONGITUDE,DEPTH,CTDPRS,CTDTMP,CTDSAL,SALNTY,SALNTY_FLAG_W,CTDOXY,OXYGEN,OXYGEN_FLAG_W,SILCAT,SILCAT_FLAG_W,PHSPHT,PHSPHT_FLAG_W,TCARBN,TCARBN_FLAG_W,ALKALI,ALKALI_FLAG_W,THETA,NO2+NO3,NO2+NO3_FLAG_W
,,,,,,,,,,,METERS,DBAR,ITS-90,PSS-78,PSS-78,,UMOL/KG,UMOL/KG,,UMOL/KG,,UMOL/KG,,UMOL/KG,,UMOL/KG,,DEG C,UMOL/KG,
740H20090307,       A095,      26,          1,          1,          1,2,20090316,       2014,  -23.29347,  -40.85224,       1565,  1570.8,   3.5774,  34.6717,  34.6738,2,    188.1,   188.2,2,   42.47,2,    2.00,2,  -999.0,9,  2249.9,3,   3.4565,   29.87,2
740H20090307,       A095,      26,          1,          3,          3,2,20090316,       2014,  -23.29347,  -40.85224,       1565,  1512.9,   3.5300,  34.6457,  34.6463,2,    186.9,  -999.0,9, -999.00,9, -999.00,9,  -999.0,9,  -999.0,9,   3.4148, -999.00,9
740H20090307,       A095,      26,          1,          5,          5,2,20090316,       2014,  -23.29347,  -40.85224,       1565,  1257.0,   3.4541,  34.4594,  34.4616,2,    186.1,   184.7,2,   45.54,2,    2.21,2,  2218.7,2,  2307.8,2,   3.3619,   32.89,2
740H20090307,       A095,      26,          1,          7,          7,2,20090316,       2014,  -23.29347,  -40.85224,       1565,  1004.6,   3.7912,  34.3777,  34.3783,2,    194.1,   192.8,2,   38.25,2,    2.18,2,  -999.0,9,  -999.0,9,   3.7170,   32.47,2
740H20090307,       A095,      26,          1,          8,          8,2,20090316,       2014,  -23.29347,  -40.85224,       1565,   878.6,   4.4574,  34.3383,  34.3387,2,    204.7,   202.9,2,   28.37,2,    2.06,2,  2190.6,2,  2290.8,2,   4.3889,   30.78,2
740H20090307,       A095,      26,          1,         10,         10,2,20090316,       2014,  -23.29347,  -40.85224,       1565,   752.5,   5.3870,  34.3656,  34.3658,2,    206.3,   206.1,2,   21.12,2,    1.92,2,  -999.0,9,  -999.0,9,   5.3236,   28.45,2
740H20090307,       A095,      26,          1,         11,         11,2,20090316,       2014,  -23.29347,  -40.85224,       1565,   627.2,   6.9969,  34.4856,  34.4869,2,    199.4,   199.1,2,   14.69,2,    1.71,2,  2164.5,2,  2283.7,2,   6.9368,   25.29,2
740H20090307,       A095,      26,          1,         13,         13,2,20090316,       2014,  -23.29347,  -40.85224,       1565,   501.4,   9.3480,  34.7291,  34.7291,2,    190.4,   189.7,2,   10.09,2,    4.92,4,  -999.0,9,  -999.0,9,   9.2914,   20.07,2
740H20090307,       A095,      26,          1,         14,         14,2,20090316,       2014,  -23.29347,  -40.85224,       1565,   375.8,  12.2163,  35.0789,  35.0746,2,    197.4,   196.2,2,    5.77,2,    0.93,2,  2131.5,2,  2303.5,2,  12.1663,   12.84,2
740H20090307,       A095,      26,          1,         16,         16,2,20090316,       2014,  -23.29347,  -40.85224,       1565,   250.2,  14.9826,  35.4586,  35.4553,2,    201.9,   199.8,2,    3.57,2,    0.52,2,  -999.0,9,  -999.0,9,  14.9446,    6.33,2
740H20090307,       A095,      26,          1,         17,         17,2,20090316,       2014,  -23.29347,  -40.85224,       1565,   174.3,  17.8063,  35.9048,  35.9073,2,    197.4,   197.8,2,    2.81,2,    0.30,2,  2106.7,2,  2352.7,2,  17.7764,    2.66,2
740H20090307,       A095,      26,          1,         19,         19,2,20090316,       2014,  -23.29347,  -40.85224,       1565,    99.3,  22.4817,  36.7689,  36.7694,2,    197.9,   200.3,2,    2.28,2,    0.11,2,  -999.0,9,  -999.0,9,  22.4616,    0.27,2
740H20090307,       A095,      26,          1,         20,         20,2,20090316,       2014,  -23.29347,  -40.85224,       1565,    73.8,  23.8373,  36.9342,  36.9264,2,    206.6,   210.3,2,    2.27,2,    0.03,2,  2090.7,2,  2416.2,2,  23.8217,   -0.05,2
740H20090307,       A095,      26,          1,         22,         22,2,20090316,       2014,  -23.29347,  -40.85224,       1565,    48.7,  24.8197,  37.0279,  37.0331,2,    210.0,   210.4,9,    2.24,2,    0.03,2,  -999.0,9,  -999.0,9,  24.8091,   -0.04,2
740H20090307,       A095,      26,          1,         23,         23,2,20090316,       2014,  -23.29347,  -40.85224,       1565,     4.4,  28.2302,  37.0480,  37.0493,2,    196.4,   195.7,3,    2.44,2,    0.01,2,  2069.1,2,  2416.3,2,  28.2292,   -0.03,2
740H20090307,       A095,      26,          1,         24,         24,3,20090316,       2014,  -23.29347,  -40.85224,       1565,  -999.0,-999.0000,-999.0000,-999.0000,9,   -999.0,  -999.0,9, -999.00,9, -999.00,9,  -999.0,9,  -999.0,9,-999.0000, -999.00,9
740H20090307,       A095,      27,          1,          1,          1,2,20090316,       2318,  -23.34959,  -40.78187,       1997,  2010.7,   3.7796,  34.9405,  34.9397,2,    230.7,   230.2,2,   24.00,2,    1.40,2,  2178.9,2,  2311.7,2,   3.6144,   21.49,2
740H20090307,       A095,      27,          1,          3,          3,2,20090316,       2318,  -23.34959,  -40.78187,       1997,  1963.9,   3.8187,  34.9342,  34.9344,2,    228.4,   226.8,2,   24.05,2,    1.43,2,  -999.0,9,  -999.0,9,   3.6575,   21.76,2
740H20090307,       A095,      27,          1,          4,          4,2,20090316,       2318,  -23.34959,  -40.78187,       1997,  1764.4,   3.9213,  34.8806,  34.8811,2,    212.9,   212.2,2,   27.97,2,    1.59,2,  -999.0,9,  -999.0,9,   3.7778,   24.26,2
740H20090307,       A095,      27,          1,          5,          5,2,20090316,       2318,  -23.34959,  -40.78187,       1997,  1510.9,   3.7686,  34.7264,  34.7297,2,    191.0,   190.4,2,   37.28,2,    1.90,2,  2210.9,2,    2319,2,   3.6507,   28.36,2
740H20090307,       A095,      27,          1,          7,          7,2,20090316,       2318,  -23.34959,  -40.78187,       1997,  1257.4,   3.4020,  34.4944,  34.4936,2,    184.6,   183.6,2,   47.11,2,    2.19,2,  -999.0,9,  -999.0,9,   3.3102,   32.49,2
740H20090307,       A095,      27,          1,          8,          8,2,20090316,       2318,  -23.34959,  -40.78187,       1997,  1004.3,   3.8312,  34.3746,  34.3749,2,    195.0,   194.1,2,   38.12,2,    2.18,2,  2209.5,2,  2304.7,2,   3.7567,   32.23,2
740H20090307,       A095,      27,          1,         10,         10,2,20090316,       2318,  -23.34959,  -40.78187,       1997,   878.4,   4.5266,  34.3393,  34.3399,2,    204.0,   202.7,2,   28.38,2,    2.05,2,  -999.0,9,  -999.0,9,   4.4576,   30.97,2
740H20090307,       A095,      27,          1,         11,         11,2,20090316,       2318,  -23.34959,  -40.78187,       1997,   753.2,   5.6381,  34.3781,  34.3800,2,    207.7,   204.6,2,   19.88,2,    1.88,2,  2179.9,2,  2293.3,2,   5.5731,   28.42,2
740H20090307,       A095,      27,          1,         13,         13,2,20090316,       2318,  -23.34959,  -40.78187,       1997,   627.6,   7.6399,  34.5590,  34.5599,2,    184.7,   183.8,2,   14.81,2,    1.68,2,  -999.0,9,  -999.0,9,   7.5767,   25.43,2
740H20090307,       A095,      27,          1,         14,         14,2,20090316,       2318,  -23.34959,  -40.78187,       1997,   501.6,   9.8826,  34.7922,  34.7927,2,    184.4,   185.0,2,    9.78,2,    1.34,2,  2156.6,2,  2304.5,2,   9.8241,   19.29,2
740H20090307,       A095,      27,          1,         16,         16,2,20090316,       2318,  -23.34959,  -40.78187,       1997,   375.6,  12.6166,  35.1332,  35.1269,2,    197.5,   196.7,2,    5.52,2,    0.86,2,  -999.0,9,  -999.0,9,  12.5655,   11.99,2
740H20090307,       A095,      27,          1,         17,         17,2,20090316,       2318,  -23.34959,  -40.78187,       1997,   249.8,  15.6778,  35.5445,  35.5398,2,    201.9,   202.1,2,    3.36,2,    0.44,2,  2109.4,2,  2342.3,2,  15.6386,    4.86,2
740H20090307,       A095,      27,          1,         18,         18,2,20090316,       2318,  -23.34959,  -40.78187,       1997,   174.2,  18.4135,  36.0088,  36.0064,2,    199.2,   196.8,2,    2.69,2,    0.25,2,  -999.0,9,  -999.0,9,  18.3829,    2.02,2
740H20090307,       A095,      27,          1,         19,         19,2,20090316,       2318,  -23.34959,  -40.78187,       1997,    99.2,  23.5823,  36.9872,  36.9915,2,    199.7,   198.9,3,    2.32,2,    0.11,2,  2105.8,2,  2430.6,2,  23.5615,    0.05,2
740H20090307,       A095,      27,          1,         21,         21,2,20090316,       2318,  -23.34959,  -40.78187,       1997,    73.9,  24.4904,  37.0858,  37.0862,2,    205.6,   206.1,3,    2.25,2,    0.07,2,  -999.0,9,  -999.0,9,  24.4745,   -0.06,2
740H20090307,       A095,      27,          1,         22,         22,2,20090316,       2318,  -23.34959,  -40.78187,       1997,    48.8,  25.3430,  37.1181,  37.1181,2,    208.2,   207.7,3,    2.19,2,    0.04,2,  2093.6,2,  2435.9,2,  25.3322,   -0.05,2
740H20090307,       A095,      27,          1,         23,         23,2,20090316,       2318,  -23.34959,  -40.78187,       1997,    23.5,  28.0262,  37.0758,  37.0765,2,    197.6,   196.4,2,    2.30,2,    0.02,2,  -999.0,9,  -999.0,9,  28.0206,   -0.04,2
740H20090307,       A095,      27,          1,         24,         24,2,20090316,       2318,  -23.34959,  -40.78187,       1997,     3.5,  28.0282,  37.0757,  37.0763,2,    197.5,   198.6,3,    2.24,2,    0.01,2,  2072.8,2,  2428.8,2,  28.0273,   -0.06,2
740H20090307,       A095,      28,          1,          1,          1,2,20090317,       0303,  -23.47985,  -40.62427,       2505,  2528.6,   2.5785,  34.9100,  34.9086,2,    244.0,   244.7,2,   37.40,2,    1.41,2,  2175.2,2,  2331.6,2,   2.3837,   21.23,2
740H20090307,       A095,      28,          1,          3,          3,2,20090317,       0303,  -23.47985,  -40.62427,       2505,  2478.2,   2.6205,  34.9131,  34.9130,2,    244.4,   244.8,2,   35.96,2,    1.40,2,  2178.4,2,  2335.3,2,   2.4297,   21.01,2
740H20090307,       A095,      28,          1,          4,          4,2,20090317,       0303,  -23.47985,  -40.62427,       2505,  2274.1,   3.0329,  34.9356,  34.9338,2,    244.6,   243.1,2,   29.29,2,    1.36,2,  -999.0,9,  -999.0,9,   2.8543,   20.47,2
740H20090307,       A095,      28,          1,          5,          5,2,20090317,       0303,  -23.47985,  -40.62427,       2505,  2020.1,   3.7098,  34.9571,  34.9555,2,    238.4,   238.8,2,   21.55,2,    1.34,2,  -999.0,9,  -999.0,9,   3.5446,   20.49,2
740H20090307,       A095,      28,          1,          6,          6,2,20090317,       0303,  -23.47985,  -40.62427,       2505,  1767.2,   3.9250,  34.8952,  34.8951,2,    216.1,   216.5,9,   26.04,2,    1.56,2,  2182.1,2,  2319.2,2,   3.7811,   23.49,2
740H20090307,       A095,      28,          1,          7,          7,2,20090317,       0303,  -23.47985,  -40.62427,       2505,  1512.9,   3.8006,  34.7564,  34.7548,2,    193.5,   192.6,2,   35.55,2,    1.89,2,  -999.0,9,  -999.0,9,   3.6820,   28.05,2
740H20090307,       A095,      28,          1,          8,          8,2,20090317,       0303,  -23.47985,  -40.62427,       2505,  1260.1,   3.4384,  34.5350,  34.5351,2,    183.1,   182.1,2, -999.00,9, -999.00,9,  -999.0,9,  -999.0,9,   3.3460, -999.00,9
740H20090307,       A095,      28,          1,         10,         10,2,20090317,       0303,  -23.47985,  -40.62427,       2505,  1007.6,   3.9228,  34.4053,  34.4046,2,    186.4,   186.0,2, -999.00,9, -999.00,9,  -999.0,9,  -999.0,9,   3.8473, -999.00,9
740H20090307,       A095,      28,          1,         11,         11,2,20090317,       0303,  -23.47985,  -40.62427,       2505,   881.0,   4.6310,  34.3703,  34.3688,2,    191.0,   190.7,2,   29.20,2,    2.12,2,  2194.2,2,  2299.2,2,   4.5610,   31.48,2
740H20090307,       A095,      28,          1,         12,         12,2,20090317,       0303,  -23.47985,  -40.62427,       2505,   755.4,   6.1381,  34.4466,  34.4414,2,    185.3,   185.6,2,   20.38,2,    1.94,2,  -999.0,9,  -999.0,9,   6.0700,   29.03,2
740H20090307,       A095,      28,          1,         13,         13,2,20090317,       0303,  -23.47985,  -40.62427,       2505,   629.2,   8.2515,  34.6252,  34.6218,2,    178.6,   178.1,2,   13.60,2,    1.65,2,  2168.7,2,  2294.5,2,   8.1852,   24.35,2
740H20090307,       A095,      28,          1,         14,         14,2,20090317,       0303,  -23.47985,  -40.62427,       2505,   503.4,  10.8077,  34.9012,  34.8982,2,    185.8,   185.3,2,    7.98,2,    1.20,2,  -999.0,9,  -999.0,9,  10.7455,   17.24,2
740H20090307,       A095,      28,          1,         15,         15,2,20090317,       0303,  -23.47985,  -40.62427,       2505,   377.4,  13.5114,  35.2596,  35.2528,2,    198.1,   199.1,2,    4.50,2,    0.73,2,  2118.2,2,  2326.3,2,  13.4577,    9.77,2
740H20090307,       A095,      28,          1,         16,         16,2,20090317,       0303,  -23.47985,  -40.62427,       2505,   251.1,  16.3844,  35.6541,  35.6513,2,    207.6,   206.7,3,    2.82,2,    0.34,2,  -999.0,9,  -999.0,9,  16.3438,    3.31,2
740H20090307,       A095,      28,          1,         18,         18,2,20090317,       0303,  -23.47985,  -40.62427,       2505,   176.1,  19.0901,  36.1464,  36.1365,2,    206.5,   205.2,2,    2.33,2,    0.17,2,  2092.8,2,  2377.8,2,  19.0584,    1.05,2
740H20090307,       A095,      28,          1,         19,         19,2,20090317,       0303,  -23.47985,  -40.62427,       2505,   100.2,  23.0648,  36.8754,  36.8678,2,    201.2,   200.8,2,    2.25,2,    0.12,2,  -999.0,9,  -999.0,9,  23.0441,    0.25,2
740H20090307,       A095,      28,          1,         20,         20,2,20090317,       0303,  -23.47985,  -40.62427,       2505,    75.1,  24.8756,  37.0963,  37.0916,2,    206.4,   206.5,2,    2.21,2,    0.06,2,  2088.6,2,  2434.2,2,  24.8592,    0.08,2
740H20090307,       A095,      28,          1,         21,         21,2,20090317,       0303,  -23.47985,  -40.62427,       2505,    49.9,  26.5586,  37.1450,  37.1431,2,    206.2,   206.0,2,    2.18,2,    0.03,2,  -999.0,9,  -999.0,9,  26.5472,    0.01,2
740H20090307,       A095,      28,          1,         22,         22,2,20090317,       0303,  -23.47985,  -40.62427,       2505,    24.7,  27.4960,  37.0037,  36.9963,2,    199.0,   200.0,2,    2.44,2,    0.04,2,  2068.5,2,  2421.1,2,  27.4902,    0.08,2
740H20090307,       A095,      28,          1,         23,         23,2,20090317,       0303,  -23.47985,  -40.62427,       2505,     5.2,  27.9039,  36.9001,  36.8986,2,    195.8,   194.3,2,    2.26,2,    0.00,2,  2059.6,2,  2421.1,2,  27.9027,    0.04,2
740H20090307,       A095,      29,          1,          1,          1,2,20090317,       0832,  -23.73891,  -40.31100,       2857,  2881.8,   2.5428,  34.9047,  34.9049,2,    243.5,   243.0,2,   39.31,2,    1.41,2,  2182.9,2,  2330.3,2,   2.3141,   21.41,2
740H20090307,       A095,      29,          1,          3,          3,2,20090317,       0832,  -23.73891,  -40.31100,       2857,  2819.3,   2.5966,  34.9095,  34.9095,2,    244.1,   243.9,2,   37.64,2,    1.39,2,    2180,2,  2331.5,2,   2.3730,   20.89,2
740H20090307,       A095,      29,          1,          4,          4,2,20090317,       0832,  -23.73891,  -40.31100,       2857,  2519.3,   3.0387,  34.9354,  34.9348,2,    244.7,   242.5,2,   29.65,2,    1.34,2,    2173,2,  2325.9,2,   2.8362,   20.40,2
740H20090307,       A095,      29,          1,          5,          5,2,20090317,       0832,  -23.73891,  -40.31100,       2857,  2262.8,   3.3726,  34.9516,  34.9512,2,    244.3,   243.4,2,   24.55,2,    1.31,2,  -999.0,9,  -999.0,9,   3.1893,   20.16,2
740H20090307,       A095,      29,          1,          6,          6,2,20090317,       0832,  -23.73891,  -40.31100,       2857,  2023.4,   3.6021,  34.9566,  34.9559,2,    240.5,   240.8,2,   22.45,2,    1.32,2,  2168.8,2,  2317.9,2,   3.4383,   20.29,2
740H20090307,       A095,      29,          1,          7,          7,2,20090317,       0832,  -23.73891,  -40.31100,       2857,  1768.8,   3.8251,  34.9205,  34.9197,2,    224.5,   223.3,2,   25.68,2,    1.47,2,  -999.0,9,  -999.0,9,   3.6823,   22.48,2
740H20090307,       A095,      29,          1,          8,          8,2,20090317,       0832,  -23.73891,  -40.31100,       2857,  1516.6,   3.8427,  34.8087,  34.8077,2,    199.9,   199.0,2,   33.60,2,    1.78,2,  2196.5,2,  2322.6,2,   3.7232,   26.82,2
740H20090307,       A095,      29,          1,          9,          9,2,20090317,       0832,  -23.73891,  -40.31100,       2857,  1262.0,   3.4158,  34.5821,  34.5826,2,    183.5,   182.9,2,   47.13,2,    2.13,2,  -999.0,9,  -999.0,9,   3.3234,   31.38,2
740H20090307,       A095,      29,          1,         10,         10,2,20090317,       0832,  -23.73891,  -40.31100,       2857,  1010.6,   3.8566,  34.4003,  34.3992,2,    187.5,   186.8,2,   39.82,2,    2.21,2,  2210.1,2,  2308.3,2,   3.7813,   32.90,2
740H20090307,       A095,      29,          1,         12,         12,2,20090317,       0832,  -23.73891,  -40.31100,       2857,   883.7,   4.4689,  34.3786,  34.3782,2,    188.3,   188.7,2,   31.94,2,    2.14,2,  -999.0,9,  -999.0,9,   4.3998,   32.19,2
740H20090307,       A095,      29,          1,         13,         13,2,20090317,       0832,  -23.73891,  -40.31100,       2857,   757.2,   5.7989,  34.4205,  34.4203,2,    187.8,   187.1,2,   22.02,2,    1.96,2,  2183.8,2,  2292.8,2,   5.7327,   29.57,2
740H20090307,       A095,      29,          1,         14,         14,2,20090317,       0832,  -23.73891,  -40.31100,       2857,   630.1,   7.6243,  34.5610,  34.5610,2,    182.5,   182.8,2,   15.26,2,    1.71,2,  -999.0,9,  -999.0,9,   7.5609,   25.62,2
740H20090307,       A095,      29,          1,         15,         15,2,20090317,       0832,  -23.73891,  -40.31100,       2857,   506.7,  10.5069,  34.8652,  34.8664,2,    183.6,   183.9,2,    8.82,2,    1.25,2,  2148.5,2,  2302.3,2,  10.4454,   18.25,2
740H20090307,       A095,      29,          1,         16,         16,2,20090317,       0832,  -23.73891,  -40.31100,       2857,   378.9,  13.3553,  35.2418,  35.2419,2,    199.2,   198.5,2,    4.77,2,    0.74,2,  -999.0,9,  -999.0,9,  13.3018,   10.04,2
740H20090307,       A095,      29,          1,         17,         17,2,20090317,       0832,  -23.73891,  -40.31100,       2857,   248.2,  16.5045,  35.6650,  35.6686,2,    203.6,   202.5,2,    3.24,2,    0.35,2,    2102,2,  2344.4,2,  16.4641,    3.48,2
740H20090307,       A095,      29,          1,         18,         18,2,20090317,       0832,  -23.73891,  -40.31100,       2857,   176.1,  19.3032,  36.1833,  36.1872,2,    209.0,   209.0,2,    2.49,2,    0.12,2,  -999.0,9,  -999.0,9,  19.2712,    0.52,2
740H20090307,       A095,      29,          1,         19,         19,2,20090317,       0832,  -23.73891,  -40.31100,       2857,   102.4,  22.2515,  36.6977,  36.7013,2,    210.3,   210.3,2,    2.38,2,    0.03,2,  2085.9,2,  2409.5,2,  22.2310,    0.04,2
740H20090307,       A095,      29,          1,         20,         20,2,20090317,       0832,  -23.73891,  -40.31100,       2857,    74.8,  23.9399,  36.9226,  36.9314,2,    216.2,   214.7,2,    2.37,2,    0.00,2,  -999.0,9,  -999.0,9,  23.9241,   -0.02,2
740H20090307,       A095,      29,          1,         21,         21,2,20090317,       0832,  -23.73891,  -40.31100,       2857,    47.8,  25.1026,  36.8710,  36.8543,2,    218.7,   216.6,2,    2.44,2,   -0.01,2,  2069.9,2,  2418.1,2,  25.0922,    0.09,2
740H20090307,       A095,      29,          1,         22,         22,2,20090317,       0832,  -23.73891,  -40.31100,       2857,    22.7,  27.7005,  36.6641,  36.6668,2,    196.3,   196.4,2,    2.58,2,   -0.01,2,  -999.0,9,  -999.0,9,  27.6952,    0.03,2
740H20090307,       A095,      29,          1,         23,         23,2,20090317,       0832,  -23.73891,  -40.31100,       2857,     4.0,  27.7037,  36.6643,  36.6648,2,    196.2,   194.8,2,    2.46,2,   -0.01,2,  2055.2,2,  2404.8,2,  27.7028,   -0.02,2