BOTTLE,20211101CCHSIORKP
EXPOCODE,SECT_ID,STNNBR,CASTNO,SAMPNO,BTLNBR,BTLNBR_FLAG_W,DATE,TIME,LATITUDE,LONGITUDE,DEPTH,CTDPRS,CTDTMP,CTDSAL,SALNTY,SALNTY_FLAG_W,CTDOXY,OXYGEN,OXYGEN_FLAG_W,SILCAT,SILCAT_FLAG_W,PHSPHT,PHSPHT_FLAG_W,TCARBN,TCARBN_FLAG_W,ALKALI,ALKALI_FLAG_W,THETA,NO2+NO3,NO2+NO3_FLAG_W
,,,,,,,,,,,METERS,DBAR,ITS-90,PSS-78,PSS-78,,UMOL/KG,UMOL/KG,,UMOL/KG,,UMOL/KG,,UMOL/KG,,UMOL/KG,,DEG C,UMOL/KG,
740H20090307,       A095,      52,          1,          1,          1,2,20090328,       1901,  -23.99977,  -27.74801,       5555,  5578.6,   0.5987,  34.6898,  34.6892,2,    213.4,   215.4,2,  123.57,2,    2.21,2,  2256.7,2,  2356.8,2,   0.1255,   32.76,2
740H20090307,       A095,      52,          1,          2,          2,2,20090328,       1901,  -23.99977,  -27.74801,       5555,  5525.4,   0.6036,  34.6910,  34.6906,2,    214.9,   215.4,2,  123.56,2,    2.20,2,  2254.7,2,  2362.1,2,   0.1367,   32.41,2
740H20090307,       A095,      52,          1,          3,          3,2,20090328,       1901,  -23.99977,  -27.74801,       5555,  5083.2,   0.7153,  34.7073,  34.7069,2,    218.0,   217.3,2,  117.54,2,    2.14,2,  2252.8,2,  2361.5,2,   0.2978,   31.36,2
740H20090307,       A095,      52,          1,          4,          4,2,20090328,       1901,  -23.99977,  -27.74801,       5555,  4567.0,   1.2000,  34.7609,  34.7605,2,    223.5,   224.4,2,   95.69,2,    1.94,2,  2232.1,2,  2353.9,2,   0.8262,   28.86,2
740H20090307,       A095,      52,          1,          5,          5,2,20090328,       1901,  -23.99977,  -27.74801,       5555,  4310.9,   1.4571,  34.7898,  34.7895,2,    227.9,   228.9,2,   84.55,2,    1.84,2,  -999.0,9,  -999.0,9,   1.1043,   27.30,2
740H20090307,       A095,      52,          1,          6,          6,2,20090328,       1901,  -23.99977,  -27.74801,       5555,  4054.1,   1.7156,  34.8187,  34.8186,2,    232.4,   233.1,2,   72.49,2,    1.72,2,  2211.6,2,  2343.6,2,   1.3838,   25.83,2
740H20090307,       A095,      52,          1,          7,          7,2,20090328,       1901,  -23.99977,  -27.74801,       5555,  3542.4,   2.3833,  34.8894,  34.8885,2,    243.8,   244.4,2,   44.14,2,    1.44,2,  2185.6,2,  2329.3,2,   2.0894,   21.36,2
740H20090307,       A095,      52,          1,          8,          8,2,20090328,       1901,  -23.99977,  -27.74801,       5555,  3033.8,   2.7179,  34.9173,  34.9167,2,    244.3,   244.5,2,   35.04,2,    1.37,2,  2175.3,2,  2324.8,2,   2.4698,   20.42,2
740H20090307,       A095,      52,          1,          9,          9,2,20090328,       1901,  -23.99977,  -27.74801,       5555,  2526.2,   2.9561,  34.9306,  34.9300,2,    242.9,   243.6,2,   31.04,2,    1.36,2,  2171.8,2,  2320.1,2,   2.7544,   20.60,2
740H20090307,       A095,      52,          1,         10,         10,2,20090328,       1901,  -23.99977,  -27.74801,       5555,  2018.9,   3.2130,  34.9247,  34.9241,2,    238.3,   238.9,2,   29.65,2,    1.40,2,  2175.2,2,  2317.2,2,   3.0555,   21.09,2
740H20090307,       A095,      52,          1,         11,         11,2,20090328,       1901,  -23.99977,  -27.74801,       5555,  1766.1,   3.1817,  34.8717,  34.8711,2,    223.9,   224.4,2,   36.56,2,    1.56,2,  -999.0,9,  -999.0,9,   3.0479,   23.32,2
740H20090307,       A095,      52,          1,         12,         12,2,20090328,       1901,  -23.99977,  -27.74801,       5555,  1512.4,   3.1217,  34.7555,  34.7537,2,    200.4,   200.9,2,   47.00,2,    1.87,2,  2208.4,2,  2321.7,2,   3.0110,   27.83,2
740H20090307,       A095,      52,          1,         13,         13,2,20090328,       1901,  -23.99977,  -27.74801,       5555,  1258.8,   3.1286,  34.5857,  34.5851,2,    183.1,   183.3,2,   52.59,2,    2.14,2,  -999.0,9,  -999.0,9,   3.0392,   31.08,2
740H20090307,       A095,      52,          1,         14,         14,2,20090328,       1901,  -23.99977,  -27.74801,       5555,  1007.4,   3.7548,  34.4399,  34.4394,2,    181.2,   180.2,2,   42.27,2,    2.23,2,    2214,2,  2306.4,2,   3.6806,   33.03,2
740H20090307,       A095,      52,          1,         15,         15,2,20090328,       1901,  -23.99977,  -27.74801,       5555,   880.9,   4.3847,  34.3845,  34.3843,2,    185.2,   184.8,2,   33.28,2,    2.16,2,  -999.0,9,  -999.0,9,   4.3164,   32.26,2
740H20090307,       A095,      52,          1,         16,         16,2,20090328,       1901,  -23.99977,  -27.74801,       5555,   755.6,   5.5062,  34.4061,  34.4058,2,    185.1,   185.7,2,   23.89,2,    2.02,2,  2189.6,2,  2289.7,2,   5.4418,   30.25,2
740H20090307,       A095,      52,          1,         17,         17,2,20090328,       1901,  -23.99977,  -27.74801,       5555,   629.4,   7.5692,  34.5622,  34.5617,2,    173.3,   173.6,2,   16.21,2,    1.78,2,  2177.1,2,  2288.5,2,   7.5061,   26.48,2
740H20090307,       A095,      52,          1,         18,         18,2,20090328,       1901,  -23.99977,  -27.74801,       5555,   503.3,  10.2716,  34.8341,  34.8336,2,    186.6,   186.6,2,    9.03,2,    1.27,2,  -999.0,9,  -999.0,9,  10.2114,   18.37,2
740H20090307,       A095,      52,          1,         19,         19,2,20090328,       1901,  -23.99977,  -27.74801,       5555,   378.6,  13.0004,  35.1535,  35.1510,2,    179.1,   186.6,2,    5.98,2,    0.95,2,  2136.8,2,  2310.8,2,  12.9479,   13.37,2
740H20090307,       A095,      52,          1,         20,         20,2,20090328,       1901,  -23.99977,  -27.74801,       5555,   252.2,  16.2844,  35.6192,  35.6161,2,    193.1,   194.3,2,    3.67,2,    0.50,2,  -999.0,9,  -999.0,9,  16.2438,    5.55,2
740H20090307,       A095,      52,          1,         21,         21,2,20090328,       1901,  -23.99977,  -27.74801,       5555,   176.2,  19.8906,  36.2616,  36.2519,2,    206.0,   205.2,2,    2.61,2,    0.20,2,  2101.1,2,  2377.8,2,  19.8579,    0.56,2
740H20090307,       A095,      52,          1,         22,         22,2,20090328,       1901,  -23.99977,  -27.74801,       5555,   102.3,  22.2543,  36.6413,  36.6347,2,    217.9,   218.7,2,    2.46,2,    0.10,2,  -999.0,9,  -999.0,9,  22.2338,    0.08,2
740H20090307,       A095,      52,          1,         23,         23,2,20090328,       1901,  -23.99977,  -27.74801,       5555,    52.0,  24.2626,  36.7719,  36.7982,2,    219.5,   218.0,2,    2.45,2,    0.10,2,  2087.5,2,    2417,2,  24.2515,    0.06,2
740H20090307,       A095,      52,          1,         24,         24,2,20090328,       1901,  -23.99977,  -27.74801,       5555,     7.2,  26.9804,  36.6858,  36.7574,2,    196.1,   195.6,2,    2.30,2,    0.03,2,  2066.2,2,  2415.5,2,  26.9787,    0.08,2
740H20090307,       A095,      53,          1,          1,          1,2,20090329,       0435,  -24.00063,  -27.03412,       5664,  5767.2,   0.6231,  34.6897,  34.6901,2,    214.3,   215.1,2,  124.88,2,    2.20,2,  2259.6,2,  2368.8,2,   0.1253,   33.09,2
740H20090307,       A095,      53,          1,          2,          2,2,20090329,       0435,  -24.00063,  -27.03412,       5664,  5716.5,   0.6235,  34.6905,  34.6909,2,    215.0,   215.4,2,  124.99,2,    2.18,2,  2261.4,2,  2368.7,2,   0.1321,   32.18,2
740H20090307,       A095,      53,          1,          3,          3,2,20090329,       0435,  -24.00063,  -27.03412,       5664,  5336.3,   0.6957,  34.7025,  34.7030,2,    216.9,   216.5,2,  120.52,2,    2.16,2,  2262.4,2,  2367.4,2,   0.2485,   32.89,2
740H20090307,       A095,      53,          1,          4,          4,2,20090329,       0435,  -24.00063,  -27.03412,       5664,  4818.9,   1.0028,  34.7388,  34.7385,2,    221.1,   222.0,2,  105.80,2,    2.01,2,  2249.8,2,  2363.6,2,   0.6064,   29.92,2
740H20090307,       A095,      53,          1,          5,          5,2,20090329,       0435,  -24.00063,  -27.03412,       5664,  4305.2,   1.4290,  34.7874,  34.7875,2,    227.6,   227.9,2,   86.62,2,    1.83,2,  2228.4,2,    2357,2,   1.0777,   26.97,2
740H20090307,       A095,      53,          1,          6,          6,2,20090329,       0435,  -24.00063,  -27.03412,       5664,  4046.8,   1.7611,  34.8234,  34.8230,2,    233.2,   233.5,2,   71.95,2,    1.69,2,  2212.9,2,  2346.9,2,   1.4288,   25.01,2
740H20090307,       A095,      53,          1,          7,          7,2,20090329,       0435,  -24.00063,  -27.03412,       5664,  3774.1,   2.1283,  34.8628,  34.8621,2,    239.5,   240.3,2,   56.18,2,    1.54,2,  2198.5,2,  2337.3,2,   1.8158,   23.12,2
740H20090307,       A095,      53,          1,          8,          8,2,20090329,       0435,  -24.00063,  -27.03412,       5664,  3297.0,   2.6128,  34.9101,  34.9097,2,    245.1,   246.6,2,   38.07,2,    1.38,2,  2180.5,2,    2332,2,   2.3395,   20.48,2
740H20090307,       A095,      53,          1,          9,          9,2,20090329,       0435,  -24.00063,  -27.03412,       5664,  2786.3,   2.8415,  34.9245,  34.9241,2,    243.2,   244.0,2,   33.92,2,    1.36,2,  2177.4,2,  2328.8,2,   2.6161,   20.46,2
740H20090307,       A095,      53,          1,         10,         10,2,20090329,       0435,  -24.00063,  -27.03412,       5664,  2402.3,   3.0440,  34.9348,  34.9347,2,    242.9,   243.6,2,   30.22,2,    1.35,2,    2175,2,  2326.6,2,   2.8528,   20.32,2
740H20090307,       A095,      53,          1,         11,         11,2,20090329,       0435,  -24.00063,  -27.03412,       5664,  2023.1,   3.2630,  34.9319,  34.9321,2,    238.7,   239.0,2,   28.91,2,    1.38,2,  -999.0,9,  -999.0,9,   3.1044,   19.81,2
740H20090307,       A095,      53,          1,         12,         12,2,20090329,       0435,  -24.00063,  -27.03412,       5664,  1771.8,   3.2329,  34.8793,  34.8792,2,    224.7,   225.1,2,   35.72,2,    1.54,2,  2188.1,2,  2323.7,2,   3.0978,   22.65,2
740H20090307,       A095,      53,          1,         13,         13,2,20090329,       0435,  -24.00063,  -27.03412,       5664,  1515.3,   3.0689,  34.7436,  34.7438,2,    199.3,   199.5,2,   48.90,2,    1.89,2,  -999.0,9,  -999.0,9,   2.9586,   27.97,2
740H20090307,       A095,      53,          1,         14,         14,2,20090329,       0435,  -24.00063,  -27.03412,       5664,  1260.6,   3.2093,  34.5876,  34.5879,2,    182.9,   183.3,2,   51.20,2,    2.13,2,  2220.6,2,    2325,2,   3.1189,   31.11,2
740H20090307,       A095,      53,          1,         15,         15,2,20090329,       0435,  -24.00063,  -27.03412,       5664,  1010.5,   3.8864,  34.4453,  34.4459,2,    177.0,   177.6,2,   40.22,2,    2.23,2,  -999.0,9,  -999.0,9,   3.8108,   32.92,2
740H20090307,       A095,      53,          1,         16,         16,2,20090329,       0435,  -24.00063,  -27.03412,       5664,   882.7,   4.4555,  34.3908,  34.3915,2,    182.4,   183.0,2,   33.02,2,    2.17,2,    2202,2,  2301.2,2,   4.3865,   32.44,2
740H20090307,       A095,      53,          1,         17,         17,2,20090329,       0435,  -24.00063,  -27.03412,       5664,   756.0,   5.5123,  34.4092,  34.4089,2,    183.5,   183.7,2,   24.30,2,    2.02,2,  2189.3,2,  2295.6,2,   5.4478,   30.57,2
740H20090307,       A095,      53,          1,         18,         18,2,20090329,       0435,  -24.00063,  -27.03412,       5664,   505.1,   9.9597,  34.8055,  34.8034,2,    171.5,   173.0,2,   10.32,2,    1.41,2,  2158.9,2,  2301.6,2,   9.9004,   20.99,2
740H20090307,       A095,      53,          1,         19,         19,2,20090329,       0435,  -24.00063,  -27.03412,       5664,   378.8,  13.0155,  35.1572,  35.1491,2,    184.4,   185.4,2,    5.60,2,    0.91,2,  -999.0,9,  -999.0,9,  12.9629,   12.76,2
740H20090307,       A095,      53,          1,         20,         20,2,20090329,       0435,  -24.00063,  -27.03412,       5664,   251.1,  16.8962,  35.7289,  35.7215,2,    206.0,   206.3,2,    2.78,2,    0.30,2,  2098.1,2,  2345.1,2,  16.8546,    2.87,2
740H20090307,       A095,      53,          1,         21,         21,2,20090329,       0435,  -24.00063,  -27.03412,       5664,   175.3,  19.6961,  36.2254,  36.1928,2,    203.9,   207.1,2,    2.32,2,    0.16,2,  -999.0,9,  -999.0,9,  19.6638,    0.75,2
740H20090307,       A095,      53,          1,         22,         22,2,20090329,       0435,  -24.00063,  -27.03412,       5664,    99.4,  22.7741,  36.7802,  36.7686,2,    211.5,   213.4,2,    2.17,2,    0.13,2,  2094.1,2,  2412.7,2,  22.7538,    0.17,2
740H20090307,       A095,      53,          1,         23,         23,2,20090329,       0435,  -24.00063,  -27.03412,       5664,    48.5,  26.7317,  37.1510,  37.1498,2,    200.3,   198.9,2,    2.16,2,    0.06,2,  -999.0,9,  -999.0,9,  26.7206,    0.19,2
740H20090307,       A095,      53,          1,         24,         24,2,20090329,       0435,  -24.00063,  -27.03412,       5664,     5.1,  26.8052,  37.1578,  37.1594,2,    197.3,   196.5,2,    2.10,2,    0.06,2,  2090.6,2,  2437.6,2,  26.8041,    0.18,2
740H20090307,       A095,      54,          1,          1,          1,2,20090329,       1336,  -23.99953,  -26.32048,       5698,  5800.5,   0.6268,  34.6897,  34.6895,2,    215.1,   215.1,2,  124.63,2,    2.20,2,  2260.5,2,  2364.9,2,   0.1247,   33.55,2
740H20090307,       A095,      54,          1,          2,          2,2,20090329,       1336,  -23.99953,  -26.32048,       5698,  5748.9,   0.6196,  34.6896,  34.6904,2,    215.6,   214.9,2,  124.88,2,    2.21,2,  2259.5,2,    2365,2,   0.1243,   33.44,2
740H20090307,       A095,      54,          1,          3,          3,2,20090329,       1336,  -23.99953,  -26.32048,       5698,  5600.6,   0.6367,  34.6932,  34.6937,2,    216.3,   215.1,2,  123.11,2,    2.18,2,  2261.3,2,  2365.1,2,   0.1593,   32.92,2
740H20090307,       A095,      54,          1,          4,          4,2,20090329,       1336,  -23.99953,  -26.32048,       5698,  5082.9,   0.8488,  34.7208,  34.7207,2,    219.3,   219.0,2,  112.71,2,    2.10,2,  2254.2,2,    2362,2,   0.4266,   31.96,2
740H20090307,       A095,      54,          1,          5,          5,2,20090329,       1336,  -23.99953,  -26.32048,       5698,  5082.0,   0.8489,  34.7210,  34.7214,2,    219.6,   218.6,2,  112.55,2,    2.08,2,  -999.0,9,  -999.0,9,   0.4268,   31.38,2
740H20090307,       A095,      54,          1,          6,          6,2,20090329,       1336,  -23.99953,  -26.32048,       5698,  4309.5,   1.3870,  34.7820,  34.7814,2,    226.8,   227.0,2,   88.31,2,    1.87,2,  2229.9,2,  2349.6,2,   1.0365,   28.33,2
740H20090307,       A095,      54,          1,          7,          7,2,20090329,       1336,  -23.99953,  -26.32048,       5698,  4055.1,   1.7364,  34.8206,  34.8211,2,    232.2,   233.2,2,   87.62,2,    1.87,2,    2216,2,  2343.8,2,   1.4039,   27.66,2
740H20090307,       A095,      54,          1,          8,          8,2,20090329,       1336,  -23.99953,  -26.32048,       5698,  3551.5,   2.3775,  34.8887,  34.8877,2,    243.2,   244.0,2,   45.51,2,    1.46,2,  2191.3,2,  2330.6,2,   2.0826,   22.29,2
740H20090307,       A095,      54,          1,          9,          9,2,20090329,       1336,  -23.99953,  -26.32048,       5698,  3042.1,   2.7159,  34.9174,  34.9173,2,    243.6,   244.8,2,   35.35,2,    1.37,2,  2170.6,2,  2325.6,2,   2.4670,   20.19,2
740H20090307,       A095,      54,          1,         10,         10,2,20090329,       1336,  -23.99953,  -26.32048,       5698,  2534.0,   2.9521,  34.9299,  34.9299,2,    242.6,   243.2,2,   31.60,2,    1.37,2,  2167.7,2,    2323,2,   2.7498,   20.29,2
740H20090307,       A095,      54,          1,         11,         11,2,20090329,       1336,  -23.99953,  -26.32048,       5698,  2025.2,   3.1986,  34.9237,  34.9239,2,    237.0,   237.8,2,   30.31,2,    1.41,2,  2169.6,2,  2315.9,2,   3.0408,   21.85,2
740H20090307,       A095,      54,          1,         12,         12,2,20090329,       1336,  -23.99953,  -26.32048,       5698,  1771.1,   3.1602,  34.8559,  34.8583,2,    220.2,   221.0,2,   38.59,2,    1.61,2,  -999.0,9,  -999.0,9,   3.0263,   24.96,2
740H20090307,       A095,      54,          1,         13,         13,2,20090329,       1336,  -23.99953,  -26.32048,       5698,  1515.9,   3.1098,  34.7544,  34.7532,2,    200.4,   200.5,2,   47.43,2,    1.87,2,    2203,2,  2322.5,2,   2.9989,   28.55,2
740H20090307,       A095,      54,          1,         14,         14,2,20090329,       1336,  -23.99953,  -26.32048,       5698,  1262.9,   3.2750,  34.6068,  34.6088,2,    183.3,   183.8,2,   49.21,2,    2.08,2,  -999.0,9,  -999.0,9,   3.1838,   31.61,2
740H20090307,       A095,      54,          1,         15,         15,2,20090329,       1336,  -23.99953,  -26.32048,       5698,  1010.3,   3.8458,  34.4363,  34.4370,2,    178.8,   179.4,2,   41.28,2,    2.21,2,  2206.5,2,  2301.1,3,   3.7706,   33.82,2
740H20090307,       A095,      54,          1,         16,         16,2,20090329,       1336,  -23.99953,  -26.32048,       5698,   882.8,   4.4356,  34.3970,  34.3987,2,    180.4,   180.4,2,   34.22,2,    2.16,2,  -999.0,9,  -999.0,9,   4.3668,   33.09,2
740H20090307,       A095,      54,          1,         17,         17,2,20090329,       1336,  -23.99953,  -26.32048,       5698,   756.2,   5.4065,  34.4048,  34.4061,2,    184.0,   184.6,2,   24.97,2,    2.01,2,  2182.9,2,  2290.5,2,   5.3426,   30.52,2
740H20090307,       A095,      54,          1,         18,         18,2,20090329,       1336,  -23.99953,  -26.32048,       5698,   505.3,  10.1071,  34.8117,  34.8093,2,    189.0,   189.6,2,    9.37,2,    1.29,2,  -999.0,9,  -999.0,9,  10.0473,   18.88,2
740H20090307,       A095,      54,          1,         19,         19,2,20090329,       1336,  -23.99953,  -26.32048,       5698,   377.0,  12.9743,  35.1549,  35.1546,2,    182.5,   190.0,2,    5.70,2,    0.88,2,  2123.6,2,  2312.1,2,  12.9221,   12.16,2
740H20090307,       A095,      54,          1,         20,         20,2,20090329,       1336,  -23.99953,  -26.32048,       5698,   251.9,  16.3799,  35.6384,  35.6244,2,    203.3,   202.4,2,    3.33,2,    0.41,2,  -999.0,9,  -999.0,9,  16.3391,    4.00,2
740H20090307,       A095,      54,          1,         21,         21,2,20090329,       1336,  -23.99953,  -26.32048,       5698,   177.1,  18.8796,  36.0798,  36.0676,2,    205.0,   204.5,2,    2.68,2,    0.22,2,  2092.3,2,  2365.1,2,  18.8479,    1.16,2
740H20090307,       A095,      54,          1,         22,         22,2,20090329,       1336,  -23.99953,  -26.32048,       5698,   121.5,  20.9450,  36.3977,  36.3954,2,    213.3,   216.0,2,    2.47,2,    0.10,2,  -999.0,9,  -999.0,9,  20.9216,    0.15,2
740H20090307,       A095,      54,          1,         23,         23,2,20090329,       1336,  -23.99953,  -26.32048,       5698,    51.7,  26.8158,  37.0254,  37.0100,2,    198.0,   198.0,2,    2.36,2,    0.08,2,  2079.1,2,  2429.8,2,  26.8039,    0.13,2
740H20090307,       A095,      54,          1,         24,         24,2,20090329,       1336,  -23.99953,  -26.32048,       5698,     7.0,  26.8640,  36.9949,  36.9953,2,    195.7,   195.3,2,    2.37,2,    0.08,2,  2076.8,2,  2426.4,2,  26.8624,    0.12,2