BOTTLE,20211101CCHSIORKP
EXPOCODE,SECT_ID,STNNBR,CASTNO,SAMPNO,BTLNBR,BTLNBR_FLAG_W,DATE,TIME,LATITUDE,LONGITUDE,DEPTH,CTDPRS,CTDTMP,CTDSAL,SALNTY,SALNTY_FLAG_W,CTDOXY,OXYGEN,OXYGEN_FLAG_W,SILCAT,SILCAT_FLAG_W,PHSPHT,PHSPHT_FLAG_W,TCARBN,TCARBN_FLAG_W,ALKALI,ALKALI_FLAG_W,THETA,NO2+NO3,NO2+NO3_FLAG_W
,,,,,,,,,,,METERS,DBAR,ITS-90,PSS-78,PSS-78,,UMOL/KG,UMOL/KG,,UMOL/KG,,UMOL/KG,,UMOL/KG,,UMOL/KG,,DEG C,UMOL/KG,
740H20090307,       A095,      61,          1,          1,          1,2,20090401,       1940,  -24.00049,  -21.30026,       5110,  5195.2,   0.9256,  34.7275,  34.7276,2,    219.9,   220.7,2,  108.38,2,    2.05,2,  2247.2,2,  -999.0,9,   0.4872,   30.78,2
740H20090307,       A095,      61,          1,          2,          2,2,20090401,       1940,  -24.00049,  -21.30026,       5110,  5143.7,   0.9198,  34.7276,  34.7275,2,    220.0,   221.0,2,  108.39,2,    2.05,2,  -999.0,9,  -999.0,9,   0.4878,   30.90,2
740H20090307,       A095,      61,          1,          3,          3,2,20090401,       1940,  -24.00049,  -21.30026,       5110,  4824.0,   1.1051,  34.7487,  34.7485,2,    223.2,   223.6,2,   99.85,2,    1.98,2,  2235.8,2,  -999.0,9,   0.7047,   29.48,2
740H20090307,       A095,      61,          1,          4,          4,2,20090401,       1940,  -24.00049,  -21.30026,       5110,  4310.3,   1.4171,  34.7836,  34.7828,2,    227.3,   228.2,2,   86.34,2,    1.86,2,  2223.6,2,  -999.0,9,   1.0656,   27.79,2
740H20090307,       A095,      61,          1,          5,          5,2,20090401,       1940,  -24.00049,  -21.30026,       5110,  4053.8,   1.6229,  34.8054,  34.8052,2,    229.6,   230.7,2,   77.76,2,    1.77,2,  2215.1,2,  -999.0,9,   1.2938,   26.43,2
740H20090307,       A095,      61,          1,          6,          6,2,20090401,       1940,  -24.00049,  -21.30026,       5110,  3797.5,   1.8813,  34.8322,  34.8319,2,    233.2,   234.6,2,   67.08,2,    1.68,2,  2207.7,2,  -999.0,9,   1.5730,   25.24,2
740H20090307,       A095,      61,          1,          7,          7,2,20090401,       1940,  -24.00049,  -21.30026,       5110,  3287.4,   2.5564,  34.9035,  34.9047,2,    243.6,   245.3,2,   39.42,2,    1.41,2,  2179.4,2,  -999.0,9,   2.2855,   21.38,2
740H20090307,       A095,      61,          1,          8,          8,2,20090401,       1940,  -24.00049,  -21.30026,       5110,  2778.2,   2.8138,  34.9231,  34.9235,2,    243.4,   244.9,2,   33.44,2,    1.37,2,    2175,2,  -999.0,9,   2.5898,   20.59,2
740H20090307,       A095,      61,          1,          9,          9,2,20090401,       1940,  -24.00049,  -21.30026,       5110,  2397.2,   3.0039,  34.9329,  34.9330,2,    243.0,   244.8,2,   29.96,2,    1.35,2,  2171.1,2,  -999.0,9,   2.8139,   20.59,2
740H20090307,       A095,      61,          1,         10,         10,2,20090401,       1940,  -24.00049,  -21.30026,       5110,  2017.0,   3.1911,  34.9189,  34.9190,2,    236.4,   237.2,2,   30.19,2,    1.42,2,  -999.0,9,  -999.0,9,   3.0342,   21.45,2
740H20090307,       A095,      61,          1,         11,         11,2,20090401,       1940,  -24.00049,  -21.30026,       5110,  1764.4,   3.1824,  34.8562,  34.8575,2,    220.3,   221.9,2,   37.22,2,    1.60,2,    2188,2,  -999.0,9,   3.0488,   24.18,2
740H20090307,       A095,      61,          1,         12,         12,2,20090401,       1940,  -24.00049,  -21.30026,       5110,  1763.9,   3.1822,  34.8560,  34.8436,2,    220.3,   218.5,2,   39.80,2,    1.64,2,  -999.0,9,  -999.0,9,   3.0486,   24.93,2
740H20090307,       A095,      61,          1,         13,         13,2,20090401,       1940,  -24.00049,  -21.30026,       5110,  1384.8,   3.2284,  34.6845,  34.6852,2,    190.7,   191.2,2,   48.24,2,    1.99,2,  2211.3,2,  -999.0,9,   3.1274,   30.01,2
740H20090307,       A095,      61,          1,         14,         14,2,20090401,       1940,  -24.00049,  -21.30026,       5110,  1006.1,   3.8940,  34.4543,  34.4545,2,    175.8,   176.6,2,   40.56,2,    2.24,2,  -999.0,9,  -999.0,9,   3.8187,   33.86,2
740H20090307,       A095,      61,          1,         15,         15,2,20090401,       1940,  -24.00049,  -21.30026,       5110,   879.2,   4.3042,  34.4032,  34.4030,2,    180.1,   181.0,2,   35.28,2,    2.20,2,  2201.1,2,  -999.0,9,   4.2366,   33.21,2
740H20090307,       A095,      61,          1,         16,         16,2,20090401,       1940,  -24.00049,  -21.30026,       5110,   753.3,   5.4395,  34.4032,  34.4071,2,    188.0,   187.7,2,   24.45,2,    2.01,2,  -999.0,9,  -999.0,9,   5.3756,   30.22,2
740H20090307,       A095,      61,          1,         17,         17,2,20090401,       1940,  -24.00049,  -21.30026,       5110,   627.9,   7.2089,  34.5188,  34.5182,2,    183.5,   185.1,2,   16.45,2,    1.76,2,  2169.3,2,  2292.2,2,   7.1478,   26.70,2
740H20090307,       A095,      61,          1,         18,         18,2,20090401,       1940,  -24.00049,  -21.30026,       5110,   502.1,  10.2329,  34.8292,  34.8263,2,    189.6,   189.8,2,    8.99,2,    1.26,2,  2144.5,2,  2301.2,2,  10.1730,   18.24,2
740H20090307,       A095,      61,          1,         19,         19,2,20090401,       1940,  -24.00049,  -21.30026,       5110,   376.9,  12.9940,  35.1760,  35.1674,2,    204.3,   204.5,2,    5.02,2,    0.76,2,  -999.0,9,  -999.0,9,  12.9417,   10.44,2
740H20090307,       A095,      61,          1,         20,         20,2,20090401,       1940,  -24.00049,  -21.30026,       5110,   251.3,  15.9791,  35.5886,  35.5811,2,    214.6,   214.5,2,    3.20,2,    0.34,2,  2096.9,2,  2340.5,2,  15.9391,    3.32,2
740H20090307,       A095,      61,          1,         21,         25,2,20090401,       1940,  -24.00049,  -21.30026,       5110,   176.3,  17.9111,  35.8994,  35.8991,2,    210.8,   210.5,2,    2.77,2,    0.20,2,  -999.0,9,  -999.0,9,  17.8807,    1.17,2
740H20090307,       A095,      61,          1,         22,         22,2,20090401,       1940,  -24.00049,  -21.30026,       5110,   101.6,  20.3658,  36.2917,  36.2769,2,    221.5,   221.7,2,    2.50,2,    0.08,2,  2082.6,2,    2382,2,  20.3466,    0.03,2
740H20090307,       A095,      61,          1,         23,         23,2,20090401,       1940,  -24.00049,  -21.30026,       5110,    51.5,  23.5140,  36.5574,  36.5493,2,    225.0,   224.8,2,    2.50,2,    0.05,2,  -999.0,9,  -999.0,9,  23.5033,    0.02,2
740H20090307,       A095,      61,          1,         24,         24,10,20090401,       1940,  -24.00049,  -21.30026,       5110,     6.4,  26.0624,  36.8861,  36.8911,2,    199.8,   200.2,2,    2.40,2,    0.09,2,  2089.9,2,  2424.2,2,  26.0609,    0.00,2
740H20090307,       A095,      62,          1,          1,          1,2,20090402,       0401,  -24.00058,  -20.58304,       4796,  4870.7,   0.9835,  34.7366,  34.7370,2,    222.0,   222.6,2,  107.74,2,    2.05,2,  2237.3,2,  2363.9,2,   0.5817,   30.57,2
740H20090307,       A095,      62,          1,          2,          2,2,20090402,       0401,  -24.00058,  -20.58304,       4796,  4819.7,   0.9913,  34.7380,  34.7390,2,    221.9,   221.3,2,  107.25,2,    2.05,2,    2241,2,  2360.8,2,   0.5952,   30.77,2
740H20090307,       A095,      62,          1,          3,          3,2,20090402,       0401,  -24.00058,  -20.58304,       4796,  4567.5,   1.3152,  34.7712,  34.7714,2,    225.9,   225.6,2,   93.77,2,    1.95,2,    2229,2,  2358.9,2,   0.9376,   29.01,2
740H20090307,       A095,      62,          1,          4,          4,2,20090402,       0401,  -24.00058,  -20.58304,       4796,  4320.3,   1.4594,  34.7872,  34.7875,2,    228.8,   228.9,2,   87.62,2,    1.86,2,  2223.8,2,  2354.4,2,   1.1055,   28.23,2
740H20090307,       A095,      62,          1,          5,          5,2,20090402,       0401,  -24.00058,  -20.58304,       4796,  4064.2,   1.6370,  34.8065,  34.8066,2,    230.5,   230.2,2,   79.12,2,    1.76,2,  2215.9,2,  2350.6,2,   1.3064,   26.86,2
740H20090307,       A095,      62,          1,          6,          6,2,20090402,       0401,  -24.00058,  -20.58304,       4796,  3552.3,   2.2055,  34.8657,  34.8655,2,    239.0,   239.2,2,   55.77,2,    1.56,2,  2194.4,2,  2340.4,2,   1.9151,   23.83,2
740H20090307,       A095,      62,          1,          7,          7,2,20090402,       0401,  -24.00058,  -20.58304,       4796,  3042.4,   2.6619,  34.9090,  34.9101,2,    243.3,   243.4,2,   39.26,2,    1.47,2,  2179.5,2,  2333.2,2,   2.4142,   21.68,2
740H20090307,       A095,      62,          1,          8,          8,2,20090402,       0401,  -24.00058,  -20.58304,       4796,  2533.8,   2.9092,  34.9268,  34.9274,2,    243.7,   244.8,2,   33.11,2,    1.37,2,    2174,2,  2329.8,2,   2.7077,   21.10,2
740H20090307,       A095,      62,          1,          9,          9,2,20090402,       0401,  -24.00058,  -20.58304,       4796,  2275.6,   3.0400,  34.9251,  34.9251,2,    241.4,   241.8,2,   32.13,2,    1.37,2,  -999.0,9,  -999.0,9,   2.8611,   21.39,2
740H20090307,       A095,      62,          1,         10,         10,2,20090402,       0401,  -24.00058,  -20.58304,       4796,  2019.8,   3.1540,  34.9148,-999.0000,9,    235.9,   237.7,2,   32.33,2,    1.47,2,  -999.0,9,  -999.0,9,   2.9974,   22.07,2
740H20090307,       A095,      62,          1,         11,         11,3,20090402,       0401,  -24.00058,  -20.58304,       4796,  1768.8,   3.1489,  34.8497,  34.9146,2,    220.8,  -999.0,9, -999.00,9, -999.00,9,  -999.0,9,  -999.0,9,   3.0153, -999.00,9
740H20090307,       A095,      62,          1,         12,         12,2,20090402,       0401,  -24.00058,  -20.58304,       4796,  1516.3,   3.2207,  34.7454,  34.7461,2,    199.5,   198.8,2,   46.20,2,    1.86,2,    2206,2,  2328.9,2,   3.1086,   28.13,2
740H20090307,       A095,      62,          1,         13,         13,2,20090402,       0401,  -24.00058,  -20.58304,       4796,  1263.6,   3.3731,  34.6132,  34.6123,2,    184.7,   184.7,2,   47.87,2,    2.05,2,  -999.0,9,  -999.0,9,   3.2808,   31.55,2
740H20090307,       A095,      62,          1,         14,         14,2,20090402,       0401,  -24.00058,  -20.58304,       4796,  1010.2,   3.8164,  34.4573,  34.4584,2,    178.1,   178.4,2,   42.70,2,    2.25,2,  2212.6,2,  2311.4,2,   3.7414,   33.61,2
740H20090307,       A095,      62,          1,         15,         15,2,20090402,       0401,  -24.00058,  -20.58304,       4796,   882.1,   4.3914,  34.3966,  34.3963,2,    182.0,   182.5,2,   34.78,2,    2.15,2,  -999.0,9,  -999.0,9,   4.3229,   32.93,2
740H20090307,       A095,      62,          1,         16,         16,2,20090402,       0401,  -24.00058,  -20.58304,       4796,   755.7,   5.4546,  34.4042,  34.4039,2,    188.0,   186.9,2,   25.11,2,    2.05,2,    2187,2,  2295.2,2,   5.3905,   30.09,2
740H20090307,       A095,      62,          1,         17,         17,2,20090402,       0401,  -24.00058,  -20.58304,       4796,   630.8,   7.2977,  34.5174,  34.5191,2,    188.5,   191.0,2,   15.83,2,    1.76,2,  -999.0,9,  -999.0,9,   7.2359,   25.60,2
740H20090307,       A095,      62,          1,         18,         18,2,20090402,       0401,  -24.00058,  -20.58304,       4796,   503.0,  10.0304,  34.8001,  34.7953,2,    195.1,   194.1,2,    9.38,2,    1.27,2,  -999.0,9,  -999.0,9,   9.9712,   18.66,2
740H20090307,       A095,      62,          1,         19,         19,2,20090402,       0401,  -24.00058,  -20.58304,       4796,   377.0,  12.7087,  35.1373,  35.1384,2,    203.2,   204.0,2,    5.47,2,    0.78,2,  2122.3,2,  2316.9,2,  12.6572,   10.74,2
740H20090307,       A095,      62,          1,         20,         20,2,20090402,       0401,  -24.00058,  -20.58304,       4796,   252.1,  15.1169,  35.4427,  35.4428,2,    206.1,   205.1,2,    3.91,2,    0.49,2,  -999.0,9,  -999.0,9,  15.0783,    5.56,2
740H20090307,       A095,      62,          1,         21,         25,2,20090402,       0401,  -24.00058,  -20.58304,       4796,   176.9,  17.4220,  35.8105,  35.8123,2,    209.8,   212.0,2,    3.12,2,    0.20,2,  -999.0,9,  -999.0,9,  17.3921,    1.37,2
740H20090307,       A095,      62,          1,         22,         22,2,20090402,       0401,  -24.00058,  -20.58304,       4796,   102.0,  20.3077,  36.2917,  36.2929,2,    222.3,   223.1,2,    2.93,2,    0.10,2,  -999.0,9,  -999.0,9,  20.2886,    0.10,2
740H20090307,       A095,      62,          1,         23,         23,2,20090402,       0401,  -24.00058,  -20.58304,       4796,    52.0,  23.8167,  36.6037,  36.5964,2,    227.3,   222.7,2,    2.83,2,    0.10,2,  2075.8,2,  2405.8,2,  23.8057,    0.10,2
740H20090307,       A095,      62,          1,         24,         24,2,20090402,       0401,  -24.00058,  -20.58304,       4796,     6.9,  26.0275,  36.8668,  36.8719,2,    200.4,   199.4,2,    2.73,2,    0.10,2,  2086.6,2,  2424.9,2,  26.0260,    0.10,2
740H20090307,       A095,      63,          1,          1,          1,2,20090402,       1246,  -24.00052,  -19.86879,       4457,  4522.0,   1.3101,  34.7710,  34.7704,2,    225.1,   225.4,2,   92.23,2,    1.89,2,    2227,2,  2360.3,2,   0.9379,   28.03,2
740H20090307,       A095,      63,          1,          2,          2,2,20090402,       1246,  -24.00052,  -19.86879,       4457,  4471.1,   1.3304,  34.7736,  34.7737,2,    225.5,   229.1,2,   90.78,2,    1.89,2,  2229.7,2,  2356.3,2,   0.9633,   27.97,2
740H20090307,       A095,      63,          1,          3,          3,2,20090402,       1246,  -24.00052,  -19.86879,       4457,  4258.5,   1.4659,  34.7885,  34.7879,2,    228.3,   227.8,2,   84.69,2,    1.84,2,    2224,2,  2353.7,2,   1.1188,   26.99,2
740H20090307,       A095,      63,          1,          4,          4,2,20090402,       1246,  -24.00052,  -19.86879,       4457,  4053.0,   1.6088,  34.8041,  34.8033,2,    230.4,   229.8,2,   78.77,2,    1.78,2,    2219,2,  2353.5,2,   1.2803,   26.35,2
740H20090307,       A095,      63,          1,          5,          5,2,20090402,       1246,  -24.00052,  -19.86879,       4457,  4052.8,   1.6145,  34.8046,  34.8047,2,    230.4,   230.1,2,   78.24,2,    1.78,2,  -999.0,9,  -999.0,9,   1.2858,   26.31,2
740H20090307,       A095,      63,          1,          6,          6,2,20090402,       1246,  -24.00052,  -19.86879,       4457,  3796.8,   1.8850,  34.8320,  34.8310,2,    234.2,   233.7,2,   67.42,2,    1.68,2,  -999.0,9,  2345.5,2,   1.5766,   24.88,2
740H20090307,       A095,      63,          1,          7,          7,2,20090402,       1246,  -24.00052,  -19.86879,       4457,  3285.0,   2.5044,  34.8968,  34.8966,2,    243.1,   242.8,2,   42.18,2,    1.44,2,  2176.7,2,  2334.9,2,   2.2350,   21.40,2
740H20090307,       A095,      63,          1,          8,          8,2,20090402,       1246,  -24.00052,  -19.86879,       4457,  2776.2,   2.8079,  34.9201,  34.9201,2,    243.5,   243.6,2,   34.18,2,    1.38,2,  2176.7,2,  2329.8,2,   2.5843,   20.58,2
740H20090307,       A095,      63,          1,          9,          9,2,20090402,       1246,  -24.00052,  -19.86879,       4457,  2522.3,   2.9069,  34.9232,  34.9237,2,    242.9,   242.4,2,   32.83,2,    1.39,2,  -999.0,9,  -999.0,9,   2.7066,   20.79,2
740H20090307,       A095,      63,          1,         10,         10,2,20090402,       1246,  -24.00052,  -19.86879,       4457,  2268.5,   3.0201,  34.9255,-999.0000,9,    241.6,   241.7,2,   31.09,2,    1.39,2,  -999.0,9,  -999.0,9,   2.8423,   20.77,2
740H20090307,       A095,      63,          1,         11,         11,3,20090402,       1246,  -24.00052,  -19.86879,       4457,  2014.6,   3.1184,  34.9083,  34.9252,2,    235.9,  -999.0,9, -999.00,9, -999.00,9,  -999.0,9,  -999.0,9,   2.9629, -999.00,9
740H20090307,       A095,      63,          1,         12,         12,2,20090402,       1246,  -24.00052,  -19.86879,       4457,  1761.1,   3.1216,  34.8434,  34.8434,2,    219.6,   219.4,2,   40.50,2,    1.64,2,  2191.5,2,    2326,2,   2.9891,   24.41,2
740H20090307,       A095,      63,          1,         13,         13,2,20090402,       1246,  -24.00052,  -19.86879,       4457,  1508.1,   3.2148,  34.7386,  34.7378,2,    198.6,   197.8,2,   46.20,2,    1.90,2,  -999.0,9,  -999.0,9,   3.1034,   28.26,2
740H20090307,       A095,      63,          1,         14,         14,2,20090402,       1246,  -24.00052,  -19.86879,       4457,  1256.1,   3.3729,  34.6032,  34.6043,2,    184.0,   183.3,2,   47.79,2,    2.11,2,  2214.1,2,  2318.6,2,   3.2813,   31.28,2
740H20090307,       A095,      63,          1,         15,         15,2,20090402,       1246,  -24.00052,  -19.86879,       4457,  1003.8,   3.9207,  34.4330,  34.4341,2,    179.9,   179.0,2,   40.81,2,    2.24,2,  -999.0,9,  -999.0,9,   3.8455,   32.75,2
740H20090307,       A095,      63,          1,         16,         16,2,20090402,       1246,  -24.00052,  -19.86879,       4457,   878.5,   4.4226,  34.3951,  34.3949,2,    182.3,   181.3,2,   34.31,2,    2.20,2,  2202.4,2,  2299.8,2,   4.3542,   32.84,2
740H20090307,       A095,      63,          1,         17,         17,2,20090402,       1246,  -24.00052,  -19.86879,       4457,   752.7,   5.6128,  34.4225,  34.4205,2,    180.8,   179.6,2,   24.54,2,    2.04,2,    2189,2,  2292.9,2,   5.5480,   30.56,2
740H20090307,       A095,      63,          1,         18,         18,2,20090402,       1246,  -24.00052,  -19.86879,       4457,   501.8,   9.9534,  34.7990,  34.7908,2,    185.5,   185.4,2,   10.19,2,    1.36,2,    2151,2,  2297.7,2,   9.8946,   19.55,2
740H20090307,       A095,      63,          1,         19,         19,2,20090402,       1246,  -24.00052,  -19.86879,       4457,   375.9,  12.7270,  35.1115,  35.1107,2,    194.3,   194.0,2,    5.92,2,    0.90,2,  -999.0,9,  -999.0,9,  12.6756,   12.05,2
740H20090307,       A095,      63,          1,         20,         20,2,20090402,       1246,  -24.00052,  -19.86879,       4457,   251.4,  15.1310,  35.4480,  35.4480,2,    210.4,   209.4,2,    3.59,2,    0.47,2,  2101.3,2,  2333.1,2,  15.0925,    4.90,2
740H20090307,       A095,      63,          1,         21,         25,2,20090402,       1246,  -24.00052,  -19.86879,       4457,   130.9,  19.8288,  36.2423,  36.2445,2,    217.2,   215.0,2,    2.80,2,    0.18,2,  -999.0,9,  -999.0,9,  19.8046,    1.54,2
740H20090307,       A095,      63,          1,         22,         22,2,20090402,       1246,  -24.00052,  -19.86879,       4457,   100.8,  20.8500,  36.4174,  36.4133,2,    218.0,   219.0,2,    2.67,2,    0.14,2,  2091.4,2,  2396.6,2,  20.8307,    0.10,2
740H20090307,       A095,      63,          1,         23,         23,2,20090402,       1246,  -24.00052,  -19.86879,       4457,    51.0,  23.1284,  36.6139,  36.5960,2,    228.1,   226.2,2,    2.58,2,    0.12,2,  -999.0,9,  -999.0,9,  23.1179,    0.08,2
740H20090307,       A095,      63,          1,         24,         24,2,20090402,       1246,  -24.00052,  -19.86879,       4457,     6.1,  26.0343,  36.8983,  36.9041,2,    197.7,   199.4,2,    2.52,2,    0.12,2,  2090.6,2,  2429.1,2,  26.0329,    0.09,2