BOTTLE,20211101CCHSIORKP
EXPOCODE,SECT_ID,STNNBR,CASTNO,SAMPNO,BTLNBR,BTLNBR_FLAG_W,DATE,TIME,LATITUDE,LONGITUDE,DEPTH,CTDPRS,CTDTMP,CTDSAL,SALNTY,SALNTY_FLAG_W,CTDOXY,OXYGEN,OXYGEN_FLAG_W,SILCAT,SILCAT_FLAG_W,PHSPHT,PHSPHT_FLAG_W,TCARBN,TCARBN_FLAG_W,ALKALI,ALKALI_FLAG_W,THETA,NO2+NO3,NO2+NO3_FLAG_W
,,,,,,,,,,,METERS,DBAR,ITS-90,PSS-78,PSS-78,,UMOL/KG,UMOL/KG,,UMOL/KG,,UMOL/KG,,UMOL/KG,,UMOL/KG,,DEG C,UMOL/KG,
740H20090307,       A095,      64,          1,          1,          1,2,20090402,       2132,  -23.80002,  -19.14616,       4819,  4895.1,   0.9685,  34.7352,  34.7347,2,    221.7,   221.6,2,  106.09,2,    2.03,2,  2247.1,2,  2364.3,2,   0.5644,   30.45,2
740H20090307,       A095,      64,          1,          2,          2,2,20090402,       2132,  -23.80002,  -19.14616,       4819,  4844.3,   0.9964,  34.7384,  34.7380,2,    222.5,   222.1,2,  105.07,2,    2.03,2,  2246.7,2,  2365.2,2,   0.5973,   30.37,2
740H20090307,       A095,      64,          1,          3,          3,2,20090402,       2132,  -23.80002,  -19.14616,       4819,  4566.7,   1.2482,  34.7650,  34.7634,2,    226.4,   223.5,2,   95.31,2,    1.93,2,  2238.9,2,  2359.8,2,   0.8729,   28.98,2
740H20090307,       A095,      64,          1,          4,          4,2,20090402,       2132,  -23.80002,  -19.14616,       4819,  4310.5,   1.4171,  34.7840,  34.7837,2,    228.6,   227.8,2,   87.16,2,    1.86,2,  -999.0,9,  -999.0,9,   1.0655,   27.96,2
740H20090307,       A095,      64,          1,          5,          5,2,20090402,       2132,  -23.80002,  -19.14616,       4819,  4053.3,   1.5773,  34.8011,  34.8003,2,    230.0,   230.0,2,   80.39,2,    1.80,2,  2224.4,2,  2353.6,2,   1.2496,   27.15,2
740H20090307,       A095,      64,          1,          6,          6,2,20090402,       2132,  -23.80002,  -19.14616,       4819,  3542.9,   2.2261,  34.8668,  34.8661,2,    238.9,   238.9,2,   54.45,2,    1.54,2,  2201.2,2,  2343.3,2,   1.9361,   23.76,2
740H20090307,       A095,      64,          1,          7,          7,2,20090402,       2132,  -23.80002,  -19.14616,       4819,  3032.3,   2.6722,  34.9098,  34.9086,2,    243.5,   243.3,2,   38.41,2,    1.41,2,  2187.4,2,  2336.8,2,   2.4253,   21.64,2
740H20090307,       A095,      64,          1,          8,          8,2,20090402,       2132,  -23.80002,  -19.14616,       4819,  2524.0,   2.9451,  34.9288,  34.9281,2,    243.9,   244.1,2,   31.98,2,    1.37,2,  2182.7,2,  2328.4,2,   2.7439,   21.00,2
740H20090307,       A095,      64,          1,          9,          9,2,20090402,       2132,  -23.80002,  -19.14616,       4819,  2270.6,   3.0688,  34.9261,  34.9260,2,    241.3,   241.4,2,   31.00,2,    1.39,2,  -999.0,9,  -999.0,9,   2.8900,   21.13,2
740H20090307,       A095,      64,          1,         10,         10,2,20090402,       2132,  -23.80002,  -19.14616,       4819,  2016.5,   3.1554,  34.9076,  34.9074,2,    235.2,   235.1,2,   32.66,2,    1.46,2,    2187,2,  2325.9,2,   2.9991,   22.07,2
740H20090307,       A095,      64,          1,         11,         11,2,20090402,       2132,  -23.80002,  -19.14616,       4819,  1764.4,   3.1804,  34.8535,  34.8541,2,    220.3,   221.3,2,   38.43,2,    1.61,2,  -999.0,9,  -999.0,9,   3.0468,   24.48,2
740H20090307,       A095,      64,          1,         12,         12,2,20090402,       2132,  -23.80002,  -19.14616,       4819,  1511.1,   3.1862,  34.7454,  34.7455,2,    200.0,   199.7,2,   47.06,2,    1.90,2,  2215.4,2,  2330.5,2,   3.0748,   28.26,2
740H20090307,       A095,      64,          1,         13,         13,2,20090402,       2132,  -23.80002,  -19.14616,       4819,  1257.9,   3.4150,  34.6014,  34.6009,2,    183.7,   183.2,2,   47.08,2,    2.11,2,  -999.0,9,  -999.0,9,   3.3228,   31.77,2
740H20090307,       A095,      64,          1,         14,         14,2,20090402,       2132,  -23.80002,  -19.14616,       4819,  1006.4,   3.8623,  34.4588,  34.4584,2,    176.7,   176.3,2,   41.53,2,    2.23,2,  2227.8,2,    2318,2,   3.7873,   33.56,2
740H20090307,       A095,      64,          1,         15,         15,2,20090402,       2132,  -23.80002,  -19.14616,       4819,   879.6,   4.3240,  34.4028,  34.4025,2,    180.2,   180.0,2,   35.56,2,    2.20,2,  2218.9,2,  2312.3,2,   4.2562,   33.30,2
740H20090307,       A095,      64,          1,         16,         16,2,20090402,       2132,  -23.80002,  -19.14616,       4819,   754.1,   5.2204,  34.3996,  34.3986,2,    180.8,   183.9,2,   27.03,2,    2.07,2,  2206.5,2,  2300.4,2,   5.1578,   31.12,2
740H20090307,       A095,      64,          1,         17,         17,2,20090402,       2132,  -23.80002,  -19.14616,       4819,   628.4,   7.3214,  34.5280,  34.5227,2,    181.6,   185.3,2,   16.77,2,    1.76,2,  2172.6,2,  2296.1,2,   7.2597,   26.50,2
740H20090307,       A095,      64,          1,         18,         18,2,20090402,       2132,  -23.80002,  -19.14616,       4819,   503.0,  10.1732,  34.8182,  34.8095,2,    192.2,   198.1,2,    8.81,2,    1.23,2,  -999.0,9,  -999.0,9,  10.1134,   17.86,2
740H20090307,       A095,      64,          1,         19,         19,2,20090402,       2132,  -23.80002,  -19.14616,       4819,   377.4,  12.8037,  35.1421,  35.1406,2,    197.7,   204.0,2,    5.54,2,    0.80,2,  2118.9,2,  2321.2,2,  12.7518,   10.88,2
740H20090307,       A095,      64,          1,         20,         20,2,20090402,       2132,  -23.80002,  -19.14616,       4819,   251.8,  15.6945,  35.5357,  35.5278,2,    201.2,   209.8,2,    3.86,2,    0.41,2,  -999.0,9,  -999.0,9,  15.6549,    4.31,2
740H20090307,       A095,      64,          1,         21,         25,2,20090402,       2132,  -23.80002,  -19.14616,       4819,   176.9,  17.5344,  35.8309,  35.8208,2,    198.6,   207.8,2,    3.39,2,    0.30,2,  -999.0,9,  -999.0,9,  17.5044,    2.06,2
740H20090307,       A095,      64,          1,         22,         22,2,20090402,       2132,  -23.80002,  -19.14616,       4819,   101.4,  20.7538,  36.3922,  36.3928,2,    208.9,   222.1,2,    2.95,2,    0.13,2,  -999.0,9,  -999.0,9,  20.7344,    0.05,2
740H20090307,       A095,      64,          1,         23,         23,2,20090402,       2132,  -23.80002,  -19.14616,       4819,    51.7,  22.7697,  36.5299,  36.5265,2,    211.1,   227.6,2,    2.81,2,    0.10,2,  2078.1,2,    2407,2,  22.7591,    0.02,2
740H20090307,       A095,      64,          1,         24,         24,10,20090402,       2132,  -23.80002,  -19.14616,       4819,     6.9,  26.1168,  36.8998,  36.9045,2,    183.4,   200.8,2,    2.72,2,    0.10,2,  2087.5,2,  2431.7,2,  26.1153,    0.04,2
740H20090307,       A095,      65,          1,          1,          1,2,20090403,       0607,  -23.60491,  -18.43316,       4686,  4759.3,   1.0831,  34.7475,  34.7467,2,    222.7,   223.7,2,  100.37,2,    2.04,2,    2235,2,  2363.8,2,   0.6909,   32.80,2
740H20090307,       A095,      65,          1,          2,          2,2,20090403,       0607,  -23.60491,  -18.43316,       4686,  4709.1,   1.0994,  34.7496,  34.7493,2,    223.0,   223.5,2,   99.67,2,    2.00,2,  2237.2,2,  2367.7,2,   0.7125,   29.72,2
740H20090307,       A095,      65,          1,          3,          3,2,20090403,       0607,  -23.60491,  -18.43316,       4686,  4309.8,   1.3994,  34.7820,  34.7811,2,    227.8,   227.8,2,   86.56,2,    1.88,2,  2227.7,2,  2358.9,2,   1.0485,   27.99,2
740H20090307,       A095,      65,          1,          4,          4,2,20090403,       0607,  -23.60491,  -18.43316,       4686,  4064.2,   1.5448,  34.7977,  34.7972,2,    229.8,   230.0,2,   80.67,2,    1.83,2,  2224.8,2,  2355.9,2,   1.2169,   27.28,2
740H20090307,       A095,      65,          1,          5,          5,2,20090403,       0607,  -23.60491,  -18.43316,       4686,  3808.1,   1.7647,  34.8206,  34.8206,2,    232.7,   232.9,2,   71.35,2,    1.74,2,  2213.8,2,  2351.9,2,   1.4585,   25.91,2
740H20090307,       A095,      65,          1,          6,          6,2,20090403,       0607,  -23.60491,  -18.43316,       4686,  3296.9,   2.4411,  34.8891,  34.8886,2,    241.1,   242.5,2,   44.67,2,    1.47,2,  2188.7,2,  2338.3,2,   2.1719,   22.41,2
740H20090307,       A095,      65,          1,          7,          7,2,20090403,       0607,  -23.60491,  -18.43316,       4686,  2787.1,   2.7367,  34.9087,  34.9084,2,    241.3,   241.6,2,   37.33,2,    1.44,2,    2182,2,  2332.5,3,   2.5134,   21.67,2
740H20090307,       A095,      65,          1,          8,          8,2,20090403,       0607,  -23.60491,  -18.43316,       4686,  2532.1,   2.8136,  34.9072,  34.9074,2,    240.1,   239.9,2,   36.47,2,    1.45,2,  -999.0,9,  -999.0,9,   2.6141,   21.80,2
740H20090307,       A095,      65,          1,          9,          9,2,20090403,       0607,  -23.60491,  -18.43316,       4686,  2277.3,   2.9746,  34.9089,  34.9088,2,    237.6,   238.1,2,   34.34,2,    1.46,2,  2181.8,2,  2330.3,3,   2.7968,   22.11,2
740H20090307,       A095,      65,          1,         10,         10,2,20090403,       0607,  -23.60491,  -18.43316,       4686,  2021.1,   3.0970,  34.8963,  34.8969,2,    232.8,   233.2,2,   34.11,2,    1.49,2,  -999.0,9,  -999.0,9,   2.9412,   22.56,2
740H20090307,       A095,      65,          1,         11,         11,2,20090403,       0607,  -23.60491,  -18.43316,       4686,  1769.3,   3.1389,  34.8412,  34.8406,2,    218.7,   219.2,2,   39.37,2,    1.66,2,  2195.5,2,  2329.9,3,   3.0054,   25.06,2
740H20090307,       A095,      65,          1,         12,         12,2,20090403,       0607,  -23.60491,  -18.43316,       4686,  1515.5,   3.2166,  34.7484,  34.7490,2,    200.1,   200.1,2,   44.96,2,    1.86,2,  -999.0,9,  -999.0,9,   3.1045,   27.76,2
740H20090307,       A095,      65,          1,         13,         13,2,20090403,       0607,  -23.60491,  -18.43316,       4686,  1262.5,   3.4623,  34.6226,  34.6223,2,    184.5,   184.4,2,   44.44,2,    2.07,2,  2216.3,2,  2323.5,2,   3.3692,   30.68,2
740H20090307,       A095,      65,          1,         14,         14,2,20090403,       0607,  -23.60491,  -18.43316,       4686,  1009.3,   3.8191,  34.4570,  34.4550,2,    178.3,   178.1,2,   40.98,2,    2.22,2,  -999.0,9,  -999.0,9,   3.7442,   33.16,2
740H20090307,       A095,      65,          1,         15,         15,2,20090403,       0607,  -23.60491,  -18.43316,       4686,   882.4,   4.2949,  34.3995,  34.3991,2,    182.3,   182.1,2,   34.82,2,    2.19,2,  2207.6,2,  2304.8,2,   4.2271,   32.91,2
740H20090307,       A095,      65,          1,         16,         16,2,20090403,       0607,  -23.60491,  -18.43316,       4686,   756.6,   5.0659,  34.3703,  34.3708,2,    196.3,   196.4,2,   25.61,2,    2.01,2,  -999.0,9,  -999.0,9,   5.0040,   30.43,2
740H20090307,       A095,      65,          1,         17,         17,2,20090403,       0607,  -23.60491,  -18.43316,       4686,   627.8,   7.0184,  34.4904,  34.4904,2,    191.0,   193.3,2,   15.74,2,    1.73,2,  2173.3,2,  2292.3,2,   6.9582,   25.92,2
740H20090307,       A095,      65,          1,         18,         18,2,20090403,       0607,  -23.60491,  -18.43316,       4686,   502.8,  10.0740,  34.8114,  34.8129,2,    187.4,   188.5,2,    9.04,2,    1.28,2,  2150.6,2,    2301,2,  10.0146,   18.70,2
740H20090307,       A095,      65,          1,         19,         19,2,20090403,       0607,  -23.60491,  -18.43316,       4686,   377.3,  12.6545,  35.1176,  35.1174,2,    200.0,   200.0,2,    5.37,2,    0.85,2,  -999.0,9,  -999.0,9,  12.6031,   11.55,2
740H20090307,       A095,      65,          1,         20,         20,2,20090403,       0607,  -23.60491,  -18.43316,       4686,   251.7,  15.4782,  35.4953,  35.4943,2,    208.2,   208.5,2,    3.44,2,    0.44,2,  2105.9,2,  2335.9,2,  15.4390,    4.76,2
740H20090307,       A095,      65,          1,         21,         25,2,20090403,       0607,  -23.60491,  -18.43316,       4686,   126.6,  19.5771,  36.1872,  36.1975,2,    216.8,   217.2,2,    2.52,2,    0.13,2,  -999.0,9,  -999.0,9,  19.5539,    0.03,2
740H20090307,       A095,      65,          1,         22,         22,2,20090403,       0607,  -23.60491,  -18.43316,       4686,   101.6,  20.7103,  36.3661,  36.3701,2,    223.1,   224.2,2,    2.52,2,    0.12,2,  2089.3,2,  2391.8,2,  20.6909,    0.01,2
740H20090307,       A095,      65,          1,         23,         23,2,20090403,       0607,  -23.60491,  -18.43316,       4686,    51.9,  25.4194,  36.7999,  36.7511,2,    211.6,   208.7,2,    2.34,2,    0.06,2,  -999.0,9,  -999.0,9,  25.4079,    0.01,2
740H20090307,       A095,      65,          1,         24,         24,2,20090403,       0607,  -23.60491,  -18.43316,       4686,     6.2,  25.8468,  36.8423,  36.8473,2,    201.4,   199.1,2,    2.31,2,    0.07,2,  2087.2,2,  2422.6,2,  25.8455,    0.02,2
740H20090307,       A095,      66,          1,          1,          1,2,20090403,       1456,  -23.50716,  -17.71648,       4732,  4802.5,   1.0398,  34.7429,  34.7425,2,    222.8,   222.7,2,  101.73,2,    1.99,2,  2239.9,2,  2368.1,2,   0.6441,   29.84,2
740H20090307,       A095,      66,          1,          2,          2,2,20090403,       1456,  -23.50716,  -17.71648,       4732,  4751.2,   1.0612,  34.7455,  34.7456,2,    223.1,   223.0,2,  100.63,2,    1.98,2,  2239.6,2,  2365.4,2,   0.6707,   29.81,2
740H20090307,       A095,      66,          1,          3,          3,2,20090403,       1456,  -23.50716,  -17.71648,       4732,  4567.0,   1.1117,  34.7524,  34.7517,2,    224.3,   223.7,2,   98.22,2,    1.95,2,  2237.3,2,  2362.2,2,   0.7408,   29.39,2
740H20090307,       A095,      66,          1,          4,          4,2,20090403,       1456,  -23.50716,  -17.71648,       4732,  4309.5,   1.5029,  34.7911,  34.7910,2,    229.0,   228.6,2,   82.89,2,    1.82,2,  2222.8,2,    2358,2,   1.1489,   27.62,2
740H20090307,       A095,      66,          1,          5,          5,2,20090403,       1456,  -23.50716,  -17.71648,       4732,  4308.3,   1.5035,  34.7913,  34.7902,2,    229.0,   228.3,2,   82.67,2,    1.82,2,  2222.2,2,  2359.6,2,   1.1496,   27.59,2
740H20090307,       A095,      66,          1,          6,          6,2,20090403,       1456,  -23.50716,  -17.71648,       4732,  4063.3,   1.6289,  34.8051,  34.8048,2,    230.7,   230.2,2,   77.50,2,    1.77,2,  2214.6,2,  2354.5,2,   1.2986,   26.70,2
740H20090307,       A095,      66,          1,          7,          7,2,20090403,       1456,  -23.50716,  -17.71648,       4732,  3387.3,   2.4194,  34.8867,  34.8868,2,    241.6,   241.1,2,   45.76,2,    1.46,2,  2186.1,2,  2341.4,2,   2.1412,   22.55,2
740H20090307,       A095,      66,          1,          8,          8,2,20090403,       1456,  -23.50716,  -17.71648,       4732,  2725.7,   2.8600,  34.9250,  34.9245,2,    244.4,   244.1,2,   32.52,2,    1.35,2,  2173.2,2,  2331.5,2,   2.6404,   20.86,2
740H20090307,       A095,      66,          1,          9,          9,3,20090403,       1456,  -23.50716,  -17.71648,       4732,  2268.1,   3.0999,  34.9356,-999.0000,9,    243.3,  -999.0,9, -999.00,9, -999.00,9,  -999.0,9,  -999.0,9,   2.9207, -999.00,9
740H20090307,       A095,      66,          1,         10,         10,2,20090403,       1456,  -23.50716,  -17.71648,       4732,  2013.8,   3.2415,  34.9265,  34.9270,2,    238.5,   238.2,2,   28.91,2,    1.50,2,  2174.2,2,  2325.2,2,   3.0841,   21.34,2
740H20090307,       A095,      66,          1,         11,         11,2,20090403,       1456,  -23.50716,  -17.71648,       4732,  1761.3,   3.2455,  34.8676,  34.8672,2,    223.6,   222.5,2,   35.63,2,    1.56,2,  -999.0,9,  -999.0,9,   3.1112,   24.12,2
740H20090307,       A095,      66,          1,         12,         12,10,20090403,       1456,  -23.50716,  -17.71648,       4732,  1508.4,   3.2277,  34.7580,  34.7585,2,    201.4,   200.6,2,   44.84,2,    1.85,2,  2203.5,2,  -999.0,9,   3.1161,   28.01,2
740H20090307,       A095,      66,          1,         13,         13,2,20090403,       1456,  -23.50716,  -17.71648,       4732,  1256.1,   3.4423,  34.6380,  34.6382,2,    186.0,   185.3,2,   45.01,2,    2.06,2,  -999.0,9,  -999.0,9,   3.3500,   31.15,2
740H20090307,       A095,      66,          1,         14,         14,2,20090403,       1456,  -23.50716,  -17.71648,       4732,  1004.2,   3.7473,  34.4755,  34.4751,2,    177.4,   177.7,2,   42.43,2,    2.22,2,  2212.8,2,  2307.7,2,   3.6733,   33.65,2
740H20090307,       A095,      66,          1,         15,         15,2,20090403,       1456,  -23.50716,  -17.71648,       4732,   878.5,   4.0884,  34.4032,  34.4016,2,    183.8,   183.5,2,   37.37,2,    2.20,2,  -999.0,9,  -999.0,9,   4.0223,   33.28,2
740H20090307,       A095,      66,          1,         16,         16,2,20090403,       1456,  -23.50716,  -17.71648,       4732,   752.3,   5.1313,  34.3735,  34.3743,2,    196.2,   194.8,2,   25.65,2,    2.02,2,  2181.8,2,  2292.6,2,   5.0693,   30.65,2
740H20090307,       A095,      66,          1,         17,         17,2,20090403,       1456,  -23.50716,  -17.71648,       4732,   626.5,   7.1104,  34.5105,  34.5100,2,    186.5,   185.7,2,   16.91,2,    1.78,2,  2170.9,2,  2293.1,2,   7.0499,   26.58,2
740H20090307,       A095,      66,          1,         18,         18,2,20090403,       1456,  -23.50716,  -17.71648,       4732,   501.4,   9.3452,  34.7273,  34.7273,2,    186.1,   186.5,2,   10.92,2,    1.42,2,  -999.0,9,  -999.0,9,   9.2887,   20.91,2
740H20090307,       A095,      66,          1,         19,         19,2,20090403,       1456,  -23.50716,  -17.71648,       4732,   376.2,  11.9266,  35.0413,  35.0399,2,    205.7,   204.6,2,    5.95,2,    0.91,2,  2123.3,2,  2310.5,2,  11.8773,   12.73,2
740H20090307,       A095,      66,          1,         20,         20,2,20090403,       1456,  -23.50716,  -17.71648,       4732,   250.9,  14.8327,  35.3942,  35.3875,2,    203.5,   203.8,2,    4.12,2,    0.55,2,  -999.0,9,  -999.0,9,  14.7948,    6.54,2
740H20090307,       A095,      66,          1,         21,         25,2,20090403,       1456,  -23.50716,  -17.71648,       4732,   175.9,  17.0916,  35.7557,  35.7643,2,    210.2,   208.7,2,    3.19,2,    0.29,2,  -999.0,9,  -999.0,9,  17.0623,    2.23,2
740H20090307,       A095,      66,          1,         22,         22,2,20090403,       1456,  -23.50716,  -17.71648,       4732,   101.4,  20.9665,  36.2913,  36.2826,2,    231.0,   230.8,2,    2.75,2,    0.09,2,  -999.0,9,  -999.0,9,  20.9470,    0.07,2
740H20090307,       A095,      66,          1,         23,         23,2,20090403,       1456,  -23.50716,  -17.71648,       4732,    51.6,  25.6823,  36.8345,  36.8232,2,    205.2,   204.6,3,    2.61,2,    0.08,2,  2082.9,2,  2422.8,2,  25.6708,    0.09,2
740H20090307,       A095,      66,          1,         24,         24,10,20090403,       1456,  -23.50716,  -17.71648,       4732,     5.9,  25.9076,  36.8493,  36.8550,2,    200.8,   203.4,3,    2.53,2,    0.08,2,  2084.5,2,  2422.5,2,  25.9062,    0.10,2