BOTTLE,20211101CCHSIORKP
EXPOCODE,SECT_ID,STNNBR,CASTNO,SAMPNO,BTLNBR,BTLNBR_FLAG_W,DATE,TIME,LATITUDE,LONGITUDE,DEPTH,CTDPRS,CTDTMP,CTDSAL,SALNTY,SALNTY_FLAG_W,CTDOXY,OXYGEN,OXYGEN_FLAG_W,SILCAT,SILCAT_FLAG_W,PHSPHT,PHSPHT_FLAG_W,TCARBN,TCARBN_FLAG_W,ALKALI,ALKALI_FLAG_W,THETA,NO2+NO3,NO2+NO3_FLAG_W
,,,,,,,,,,,METERS,DBAR,ITS-90,PSS-78,PSS-78,,UMOL/KG,UMOL/KG,,UMOL/KG,,UMOL/KG,,UMOL/KG,,UMOL/KG,,DEG C,UMOL/KG,
740H20090307,       A095,      33,          1,          1,          1,2,20090318,       0846,  -24.00022,  -38.49893,       3484,  3521.8,   2.0299,  34.8535,  34.8538,2,    238.5,   238.0,2,   57.70,2,    1.59,2,  2201.9,2,  2342.4,2,   1.7472,   23.69,2
740H20090307,       A095,      33,          1,          2,          2,2,20090318,       0846,  -24.00022,  -38.49893,       3484,  3470.5,   2.1810,  34.8690,  34.8702,2,    241.1,   239.9,2,   51.16,2,    1.52,2,  2199.5,2,  2334.1,2,   1.8999,   22.75,2
740H20090307,       A095,      33,          1,          3,          3,2,20090318,       0846,  -24.00022,  -38.49893,       3484,  3297.2,   2.5587,  34.9042,  34.9045,2,    244.7,   243.0,2,   38.69,2,    1.40,2,  -999.0,9,  -999.0,9,   2.2867,   21.14,2
740H20090307,       A095,      33,          1,          4,          4,2,20090318,       0846,  -24.00022,  -38.49893,       3484,  3040.7,   2.7411,  34.9180,  34.9183,2,    245.0,   244.5,2,   34.28,2,    1.37,2,    2184,2,  2324.2,2,   2.4918,   21.04,2
740H20090307,       A095,      33,          1,          5,          5,2,20090318,       0846,  -24.00022,  -38.49893,       3484,  2785.1,   2.8783,  34.9259,  34.9262,2,    244.3,   243.0,2,   31.79,2,    1.36,2,  -999.0,9,  -999.0,9,   2.6523,   20.21,2
740H20090307,       A095,      33,          1,          6,          6,2,20090318,       0846,  -24.00022,  -38.49893,       3484,  2527.9,   3.0475,  34.9359,  34.9367,2,    244.9,   244.2,2,   28.84,2,    1.34,2,  2180.7,2,  2320.9,2,   2.8439,   20.47,2
740H20090307,       A095,      33,          1,          7,          7,2,20090318,       0846,  -24.00022,  -38.49893,       3484,  2274.5,   3.2177,  34.9435,  34.9439,2,    243.9,   243.1,2,   26.32,2,    1.33,2,  -999.0,9,  -999.0,9,   3.0359,   19.94,2
740H20090307,       A095,      33,          1,          8,          8,2,20090318,       0846,  -24.00022,  -38.49893,       3484,  2018.5,   3.4685,  34.9544,  34.9546,2,    243.1,   242.3,2,   23.06,2,    1.32,2,  2175.9,2,  2314.6,2,   3.3072,   19.82,2
740H20090307,       A095,      33,          1,          9,          9,2,20090318,       0846,  -24.00022,  -38.49893,       3484,  1768.2,   3.6538,  34.9362,  34.9368,2,    232.9,   231.3,2,   24.64,2,    1.41,2,  -999.0,9,  -999.0,9,   3.5134,   21.10,2
740H20090307,       A095,      33,          1,         10,         10,2,20090318,       0846,  -24.00022,  -38.49893,       3484,  1512.5,   3.6210,  34.8260,  34.8248,2,    206.7,   206.7,2,   35.40,2,    1.72,2,  2198.7,2,  2319.4,2,   3.5044,   25.65,2
740H20090307,       A095,      33,          1,         11,         11,2,20090318,       0846,  -24.00022,  -38.49893,       3484,  1260.9,   3.4031,  34.6303,  34.6306,2,    186.0,   185.1,2,   45.87,2,    2.07,2,  -999.0,9,  -999.0,9,   3.3108,   30.91,2
740H20090307,       A095,      33,          1,         12,         12,2,20090318,       0846,  -24.00022,  -38.49893,       3484,  1008.3,   3.7156,  34.4291,  34.4298,2,    184.9,   182.9,2,   41.09,2,    2.21,2,  2219.1,2,  2306.4,2,   3.6416,   32.89,2
740H20090307,       A095,      33,          1,         13,         13,2,20090318,       0846,  -24.00022,  -38.49893,       3484,   881.0,   4.2538,  34.3835,  34.3836,2,    187.2,   186.8,2,   33.90,2,    2.17,2,  -999.0,9,  -999.0,9,   4.1863,   31.71,2
740H20090307,       A095,      33,          1,         14,         14,2,20090318,       0846,  -24.00022,  -38.49893,       3484,   755.5,   5.1213,  34.3569,  34.3574,2,    203.4,   202.2,2,   23.46,2,    1.97,2,  2190.2,2,  2288.6,2,   5.0592,   29.55,2
740H20090307,       A095,      33,          1,         15,         15,2,20090318,       0846,  -24.00022,  -38.49893,       3484,   629.3,   7.0146,  34.4955,  34.4958,2,    192.1,   192.1,2,   15.67,2,    1.75,2,  -999.0,9,  -999.0,9,   6.9542,   25.85,2
740H20090307,       A095,      33,          1,         16,         16,2,20090318,       0846,  -24.00022,  -38.49893,       3484,   503.0,   9.5661,  34.7484,  34.7438,2,    195.5,   195.7,2,    9.21,2,    1.34,2,  2157.1,2,    2294,2,   9.5086,   19.59,2
740H20090307,       A095,      33,          1,         17,         17,2,20090318,       0846,  -24.00022,  -38.49893,       3484,   377.8,  12.5958,  35.1440,  35.1462,2,    202.3,   200.6,2,    5.08,2,    0.83,2,  -999.0,9,  -999.0,9,  12.5444,   11.18,2
740H20090307,       A095,      33,          1,         18,         18,2,20090318,       0846,  -24.00022,  -38.49893,       3484,   252.2,  15.0847,  35.4782,  35.4815,2,    203.6,   203.2,2,    3.43,2,    0.54,2,  2115.8,2,  2335.1,2,  15.0461,    5.77,2
740H20090307,       A095,      33,          1,         19,         19,2,20090318,       0846,  -24.00022,  -38.49893,       3484,   175.3,  17.0607,  35.7701,  35.7662,2,    203.6,   202.8,2,    2.80,2,    0.31,2,  -999.0,9,  -999.0,9,  17.0315,    2.90,2
740H20090307,       A095,      33,          1,         20,         20,2,20090318,       0846,  -24.00022,  -38.49893,       3484,    99.7,  19.9494,  36.2713,  36.2692,2,    209.6,   211.3,2,    2.28,2,    0.09,2,    2087,2,  2382.6,2,  19.9309,    0.10,2
740H20090307,       A095,      33,          1,         21,         21,2,20090318,       0846,  -24.00022,  -38.49893,       3484,    74.5,  20.8845,  36.3632,  36.3677,2,    222.4,   221.9,2,    2.14,2,    0.02,2,  -999.0,9,  -999.0,9,  20.8703,   -0.02,2
740H20090307,       A095,      33,          1,         22,         22,2,20090318,       0846,  -24.00022,  -38.49893,       3484,    51.4,  22.7759,  36.4825,  36.4760,2,    225.9,   226.0,2,    2.15,2,    0.00,2,  2069.8,2,  2392.2,2,  22.7654,    0.01,2
740H20090307,       A095,      33,          1,         23,         23,2,20090318,       0846,  -24.00022,  -38.49893,       3484,    25.0,  26.8917,  36.4205,  36.4280,2,    210.9,   204.8,2,    2.20,2,    0.00,2,  -999.0,9,  -999.0,9,  26.8860,   -0.02,2
740H20090307,       A095,      33,          1,         24,         24,2,20090318,       0846,  -24.00022,  -38.49893,       3484,     5.0,  27.3924,  36.4260,  36.4260,2,    197.3,   193.4,2,    2.21,2,    0.00,2,  2056.2,2,  2388.3,2,  27.3912,    0.01,2
740H20090307,       A095,      34,          1,          1,          1,2,20090318,       1503,  -24.00048,  -38.00102,       3587,  3633.1,   1.9884,  34.8483,  34.8486,2,    236.7,   236.6,2,   60.80,2,    1.61,2,    2201,2,  2340.8,3,   1.6949,   23.96,2
740H20090307,       A095,      34,          1,          2,          2,2,20090318,       1503,  -24.00048,  -38.00102,       3587,  3583.3,   1.9858,  34.8486,  34.8500,2,    236.7,   237.2,2,   60.20,2,    1.60,2,  2199.3,2,  2344.1,2,   1.6977,   24.19,2
740H20090307,       A095,      34,          1,          3,          3,2,20090318,       1503,  -24.00048,  -38.00102,       3587,  3296.0,   2.4820,  34.8984,  34.8991,2,    244.7,   243.8,2,   41.49,2,    1.42,2,  2180.5,2,  2332.4,2,   2.2119,   21.07,2
740H20090307,       A095,      34,          1,          4,          4,2,20090318,       1503,  -24.00048,  -38.00102,       3587,  3041.4,   2.7370,  34.9174,  34.9183,2,    244.7,   244.2,2,   34.91,2,    1.38,2,  -999.0,9,  -999.0,9,   2.4878,   21.24,2
740H20090307,       A095,      34,          1,          5,          5,2,20090318,       1503,  -24.00048,  -38.00102,       3587,  2786.1,   2.8726,  34.9255,  34.9255,2,    244.2,   243.3,2,   32.53,2,    1.35,2,  2174.9,2,    2324,2,   2.6466,   20.32,2
740H20090307,       A095,      34,          1,          6,          6,2,20090318,       1503,  -24.00048,  -38.00102,       3587,  2530.5,   3.0380,  34.9352,  34.9355,2,    244.3,   243.6,2,   29.52,2,    1.34,2,  -999.0,9,  -999.0,9,   2.8344,   19.88,2
740H20090307,       A095,      34,          1,          7,          7,2,20090318,       1503,  -24.00048,  -38.00102,       3587,  2276.0,   3.2305,  34.9427,  34.9432,2,    243.5,   243.0,2,   26.84,2,    1.33,2,  2168.9,2,  2315.9,2,   3.0483,   20.35,2
740H20090307,       A095,      34,          1,          8,          8,2,20090318,       1503,  -24.00048,  -38.00102,       3587,  2023.1,   3.4935,  34.9505,  34.9505,2,    241.2,   240.1,2,   23.91,2,    1.33,2,  -999.0,9,  -999.0,9,   3.3314,   19.96,2
740H20090307,       A095,      34,          1,          9,          9,2,20090318,       1503,  -24.00048,  -38.00102,       3587,  1767.3,   3.6825,  34.9365,  34.9363,2,    232.5,   231.2,2,   24.78,2,    1.41,2,  2172.6,2,    2313,2,   3.5418,   21.57,2
740H20090307,       A095,      34,          1,         10,         10,2,20090318,       1503,  -24.00048,  -38.00102,       3587,  1514.7,   3.3032,  34.7590,  34.7586,2,    200.2,   198.4,2,   44.73,2,    1.86,2,  -999.0,9,  -999.0,9,   3.1901,   27.70,2
740H20090307,       A095,      34,          1,         11,         11,2,20090318,       1503,  -24.00048,  -38.00102,       3587,  1261.5,   3.3132,  34.6013,  34.6016,2,    184.9,   183.0,2,   48.58,2,    2.11,2,  2214.5,2,  2317.3,2,   3.2217,   31.25,2
740H20090307,       A095,      34,          1,         12,         12,2,20090318,       1503,  -24.00048,  -38.00102,       3587,  1007.9,   3.7087,  34.4307,  34.4312,2,    184.6,   183.1,2,   41.78,2,    2.26,2,  -999.0,9,  -999.0,9,   3.6348,   36.64,2
740H20090307,       A095,      34,          1,         13,         13,2,20090318,       1503,  -24.00048,  -38.00102,       3587,   882.9,   4.4446,  34.3694,  34.3683,2,    189.9,   190.9,2,   31.42,2,    2.14,2,  2192.2,2,  2291.5,2,   4.3758,   32.42,2
740H20090307,       A095,      34,          1,         14,         14,2,20090318,       1503,  -24.00048,  -38.00102,       3587,   757.0,   5.5557,  34.3966,  34.3982,2,    192.4,   192.3,2,   22.43,2,    1.98,2,  -999.0,9,  -999.0,9,   5.4909,   30.06,2
740H20090307,       A095,      34,          1,         15,         15,2,20090318,       1503,  -24.00048,  -38.00102,       3587,   630.4,   7.3391,  34.5291,  34.5291,2,    191.7,   187.4,2,   15.25,2,    1.74,2,  2166.2,2,  2286.9,2,   7.2771,   26.12,2
740H20090307,       A095,      34,          1,         16,         16,2,20090318,       1503,  -24.00048,  -38.00102,       3587,   504.4,  10.1638,  34.8235,  34.8218,2,    188.5,   185.7,2,    9.15,2,    1.32,2,  -999.0,9,  -999.0,9,  10.1039,   20.60,2
740H20090307,       A095,      34,          1,         17,         17,2,20090318,       1503,  -24.00048,  -38.00102,       3587,   378.9,  12.7282,  35.1504,  35.1520,2,    198.8,   196.4,2,    5.23,2,    0.85,2,  2123.4,2,  2313.1,2,  12.6764,   11.57,2
740H20090307,       A095,      34,          1,         18,         18,2,20090318,       1503,  -24.00048,  -38.00102,       3587,   252.7,  15.4045,  35.4987,  35.5017,2,    204.4,   202.8,2,    3.29,2,    0.46,2,  -999.0,9,  -999.0,9,  15.3653,    5.23,2
740H20090307,       A095,      34,          1,         19,         19,2,20090318,       1503,  -24.00048,  -38.00102,       3587,   177.3,  17.4918,  35.8409,  35.8452,2,    201.7,   200.4,2,    2.75,2,    0.30,2,  2099.4,2,  2352.7,2,  17.4618,    2.75,2
740H20090307,       A095,      34,          1,         20,         20,2,20090318,       1503,  -24.00048,  -38.00102,       3587,   101.7,  20.1098,  36.3042,  36.3050,2,    213.1,   212.5,2,    2.20,2,    0.06,2,  -999.0,9,  -999.0,9,  20.0908,    0.02,2
740H20090307,       A095,      34,          1,         22,         22,2,20090318,       1503,  -24.00048,  -38.00102,       3587,    75.4,  21.4160,  36.4512,  36.4517,2,    222.5,   222.2,2,    2.18,2,    0.03,2,  2073.2,2,  2390.6,2,  21.4013,    0.23,2
740H20090307,       A095,      34,          1,         23,         23,3,20090318,       1503,  -24.00048,  -38.00102,       3587,    26.7,  27.7473,  36.6609,  36.6616,2,    195.9,   193.4,2,    2.17,2,   -0.01,2,  2053.7,2,  2403.9,2,  27.7410,   -0.01,2
740H20090307,       A095,      34,          1,         24,         24,2,20090318,       1503,  -24.00048,  -38.00102,       3587,     5.9,  27.9191,  36.6651,  36.6658,2,    194.8,   202.0,3,    2.08,2,    0.00,2,  2054.9,2,  2405.6,2,  27.9177,    0.27,3
740H20090307,       A095,      35,          1,          1,          1,2,20090318,       2141,  -24.00114,  -37.49114,       4063,  4117.5,   0.4776,  34.6916,  34.6984,2,    214.3,   214.6,2,  120.06,2,    2.17,2,    2256,2,  2364.8,2,   0.1755,   32.99,2
740H20090307,       A095,      35,          1,          2,          2,2,20090318,       2141,  -24.00114,  -37.49114,       4063,  4067.5,   0.5146,  34.6942,  34.6953,2,    214.4,   213.7,2,  120.70,2,    2.18,2,  2258.3,2,  2366.2,2,   0.2166,   32.92,2
740H20090307,       A095,      35,          1,          3,          3,2,20090318,       2141,  -24.00114,  -37.49114,       4063,  3808.9,   1.1771,  34.7641,  34.7649,2,    224.6,   222.9,2,   94.00,2,    1.92,2,  -999.0,9,  -999.0,9,   0.8870,   29.17,2
740H20090307,       A095,      35,          1,          4,          4,2,20090318,       2141,  -24.00114,  -37.49114,       4063,  3552.8,   2.2420,  34.8747,  34.8745,2,    241.8,   241.6,2,   50.39,2,    1.49,2,  2190.6,2,  2337.3,2,   1.9505,   23.19,2
740H20090307,       A095,      35,          1,          5,          5,2,20090318,       2141,  -24.00114,  -37.49114,       4063,  3296.2,   2.6106,  34.9085,  34.9092,2,    245.6,   240.9,2,   37.41,2,    1.38,2,  -999.0,9,  -999.0,9,   2.3374,   21.16,2
740H20090307,       A095,      35,          1,          6,          6,2,20090318,       2141,  -24.00114,  -37.49114,       4063,  3041.9,   2.7749,  34.9195,  34.9212,2,    244.6,   244.5,2,   34.28,2,    1.37,2,  2177.3,2,  2327.7,2,   2.5248,   21.16,2
740H20090307,       A095,      35,          1,          7,          7,2,20090318,       2141,  -24.00114,  -37.49114,       4063,  2785.9,   2.9022,  34.9271,  34.9279,2,    243.9,   244.3,2,   31.76,2,    1.35,2,  -999.0,9,  -999.0,9,   2.6756,   20.44,2
740H20090307,       A095,      35,          1,          8,          8,2,20090318,       2141,  -24.00114,  -37.49114,       4063,  2529.5,   3.0735,  34.9373,  34.9385,2,    244.8,   245.1,2,   28.68,2,    1.33,2,  2169.2,2,  2324.7,2,   2.8693,   19.99,2
740H20090307,       A095,      35,          1,          9,          9,2,20090318,       2141,  -24.00114,  -37.49114,       4063,  2275.2,   3.2212,  34.9461,  34.9472,2,    245.0,   244.9,2,   25.87,2,    1.31,2,  -999.0,9,  -999.0,9,   3.0392,   20.19,2
740H20090307,       A095,      35,          1,         10,         10,2,20090318,       2141,  -24.00114,  -37.49114,       4063,  2021.7,   3.4408,  34.9552,  34.9559,2,    243.6,   242.7,2,   23.29,2,    1.30,2,  2160.9,2,  2316.8,2,   3.2795,   19.95,2
740H20090307,       A095,      35,          1,         11,         11,3,20090318,       2141,  -24.00114,  -37.49114,       4063,  1768.6,   3.7242,  34.9528,-999.0000,9,    236.2,  -999.0,9,   23.03,2,    1.30,2,  -999.0,9,  -999.0,9,   3.5827,   20.05,2
740H20090307,       A095,      35,          1,         12,         12,2,20090318,       2141,  -24.00114,  -37.49114,       4063,  1515.7,   3.8384,  34.8657,  34.8690,2,    208.3,   209.9,2,   29.54,2,    1.62,2,  2183.4,2,  2314.7,2,   3.7188,   24.78,2
740H20090307,       A095,      35,          1,         13,         13,2,20090318,       2141,  -24.00114,  -37.49114,       4063,  1261.7,   3.1009,  34.5653,  34.5656,2,    184.3,   183.0,2,   52.87,2,    2.16,2,  -999.0,9,  -999.0,9,   3.0116,   32.26,2
740H20090307,       A095,      35,          1,         14,         14,2,20090318,       2141,  -24.00114,  -37.49114,       4063,  1010.3,   3.7077,  34.4061,  34.4067,2,    187.0,   187.5,2,   41.64,2,    2.21,2,  2207.4,2,  2306.5,2,   3.6336,   33.05,2
740H20090307,       A095,      35,          1,         15,         15,2,20090318,       2141,  -24.00114,  -37.49114,       4063,   882.9,   4.4236,  34.3708,  34.3709,2,    193.3,   190.4,2,   31.77,2,    2.13,2,  -999.0,9,  -999.0,9,   4.3549,   32.11,2
740H20090307,       A095,      35,          1,         16,         16,2,20090318,       2141,  -24.00114,  -37.49114,       4063,   756.2,   5.4930,  34.3858,  34.3864,2,    197.2,   197.0,2,   22.17,2,    1.95,2,  2176.8,2,    2288,2,   5.4286,   29.70,2
740H20090307,       A095,      35,          1,         17,         17,2,20090318,       2141,  -24.00114,  -37.49114,       4063,   631.0,   7.5846,  34.5521,  34.5534,2,    186.7,   186.0,2,   14.55,2,    1.68,2,  -999.0,9,  -999.0,9,   7.5213,   25.02,2
740H20090307,       A095,      35,          1,         18,         18,2,20090318,       2141,  -24.00114,  -37.49114,       4063,   504.7,  10.4811,  34.8598,  34.8630,2,    191.1,   190.8,2,    8.10,2,    1.20,2,  2139.1,2,  2300.1,2,  10.4200,   17.56,2
740H20090307,       A095,      35,          1,         19,         19,2,20090318,       2141,  -24.00114,  -37.49114,       4063,   377.2,  13.1987,  35.2194,  35.2233,2,    198.9,   199.4,2,    4.58,2,    0.76,2,  -999.0,9,  -999.0,9,  13.1459,   10.17,2
740H20090307,       A095,      35,          1,         20,         20,2,20090318,       2141,  -24.00114,  -37.49114,       4063,   252.6,  16.2020,  35.6247,  35.6184,2,    199.7,   199.1,2,    3.02,2,    0.41,2,  2103.4,2,  2336.5,2,  16.1614,    4.43,2
740H20090307,       A095,      35,          1,         21,         21,2,20090318,       2141,  -24.00114,  -37.49114,       4063,   176.8,  19.3633,  36.1923,  36.1950,2,    196.9,   196.2,2,    2.32,2,    0.21,2,  -999.0,9,  -999.0,9,  19.3311,    1.63,2
740H20090307,       A095,      35,          1,         22,         22,2,20090318,       2141,  -24.00114,  -37.49114,       4063,   102.4,  22.6640,  36.7870,  36.7909,2,    212.6,   209.8,2,    2.04,2,    0.03,2,  2083.2,2,  2410.9,2,  22.6431,   -0.06,2
740H20090307,       A095,      35,          1,         23,         23,2,20090318,       2141,  -24.00114,  -37.49114,       4063,    51.2,  24.8158,  36.8805,  36.8812,2,    220.4,   216.5,2,    2.10,2,   -0.01,2,  -999.0,9,  -999.0,9,  24.8047,   -0.04,2
740H20090307,       A095,      35,          1,         24,         24,2,20090318,       2141,  -24.00114,  -37.49114,       4063,     6.2,  27.8969,  36.7741,  36.7753,2,    195.2,   194.7,2,    2.11,2,   -0.02,2,    2055,2,  2409.6,2,  27.8954,   -0.03,2